{"text_format":"1","workbook":"xlsx","n_sheets":12,"sheets":["Consignes","Périmètre","Comprendre la codification","Générateur de codes","Barème par matériau","Param masqué","Liste des tarifs","PMCB - Grille d'éco-part","PMCB - Grille forfaitaire","ABJ - Grille d'éco-part","Codes tarifs éco-part","Régime simplifié PMCB"],"not_rendered":{"charts":0,"images":4,"macros":1,"external_links":1,"defined_names":241,"comments":0,"pivot_tables":0},"unopened":[],"bounds":{"document_bytes":16777216,"sheet_cells":100000,"rows_first":2000,"rows_last":500,"rows_between":2000,"halvings":0,"cell_chars":16384,"cell_head_chars":4096},"cells_cut":0,"cells_raw":0,"read":"whole","date_system":"1900"}

{"sheet":"Consignes","index":0,"n_rows":31,"n_cols":1,"rows_kept":31,"cut":false,"hidden":true,"merged":[[0,0,3,0]]}
["Présentation du générateur de codes d'éco-participation"]
[]
[]
[]
[]
["Créer les codes pour l'application de l'éco-participation sur les Produits et Matériaux de Construction et du Bâtiment (PMCB) ainsi que les Articles de Bricolage et de Jardin (ABJ)"]
["Version 1.10 - 10 février 2023"]
[]
["A qui s’adresse cet outil ?"]
["Cet outil s'adresse aux metteurs sur le marché de Produits et Matériaux de Construction et du Bâtiment (PMCB) ainsi que les Articles de Bricolage et de Jardin (ABJ)"]
[]
["A quoi sert-il ? "]
["Ce fichier permet de générer les codes produits qui servent à déclarer les mises en marché.\nCes codes produits permettent d'appliquer le tarif de l'éco-participation aux Produits et Matériaux de Construction et du Bâtiment (PMCB) ainsi qu'aux Articles de Bricolage et de Jardin (ABJ) en fonction de leurs caractéristiques."]
["Pour comprendre comment est constitué ce code produit à 11 chiffres, cliquez sur l’onglet « Comprendre la codification »"]
[]
["Comment générer un code produit ? "]
["Pour générer un code produit cliquez sur l’onglet « Générateur code produit »\t"]
["Attention : Pour être certain de renseigner les bons codes lors de votre déclaration, utilisez l'onglet « ABJ-PMCB - Code produit » et la fonction « copier-coller » en sélectionnant « collage spécial valeur absolue ».\n"]
[]
["Déclarer l’éco-participation"]
[]
["A quel moment faire votre déclaration ?  "]
["La première déclaration à partir des codes produits sera à réaliser en avril 2023 pour les mises en marché du 1er trimestre 2023. "]
["Remarque importante pour les ABJ : une déclaration simplifiée devra être réalisée en janvier 2023 sur la base du CA HT des mises en marché de décembre 2022. Toutes les informations sont à retrouver dans le guide adhérent. "]
["Pour les déclarations trimestrielles, celles-ci doivent être faites le mois suivant chaque trimestre calendaire (avril pour le T1, juillet pour le T2, octobre pour le T3 et janvier pour le T4)."]
[]
["Comment faire votre déclaration (avec les codes produits) ?"]
["La déclaration des mises en marché avec les codes produits se fait par saisie ou chargement d'un fichier* format .csv sur l'Extranet : https://espace-services.eco-mobilier.fr/\n*Vous pouvez télécharger le fichier type dans la rubrique Déclarations."]
[]
[]
["> Pour savoir comment effectuer votre déclaration, consultez le mode opératoire complet : https://espace-services.eco-mobilier.fr/mode-operatoire-declarer"]

{"sheet":"Périmètre","index":1,"n_rows":3144,"n_cols":9,"rows_kept":3144,"cut":false,"hidden":true,"merged":[[2752,1,2752,5],[2867,1,2867,5],[2951,1,2951,5],[3029,1,3029,5],[3128,1,3128,5],[2573,1,2573,5],[967,1,967,5],[1131,1,1131,5],[1443,1,1443,5],[1608,1,1608,5],[1783,1,1783,5],[1828,1,1828,5],[1874,1,1874,5],[1950,1,1950,5],[2250,1,2250,5],[2322,1,2322,5],[2485,1,2485,5],[783,1,783,5],[0,1,0,5],[3,1,3,4],[5,1,5,5],[192,1,192,5],[276,1,276,5],[340,1,340,5],[371,1,371,5],[494,1,494,5],[643,1,643,5],[707,1,707,5],[768,1,768,5]]}
[null,{"$f":"MID(CELL(\"filename\",A1),FIND(\"]\",CELL(\"filename\",A1))+1,256)","v":{"$error":"#VALUE!"}}]
[]
[]
[null,"ARTICLES D'AMEUBLEMENT - DEA (+DT)",null,null,null,"POUR INFORMATION - AGREMENT EN COURS (fin 2023)"]
[]
[null,"Eléments d'ameublement d'intérieur"]
[]
[null,null,null,"Meubles de salon, séjour et salle à manger"]
[]
[null,null,null,"Rayon","Catégorie","Exemples de produits (non-exhaustif)"]
[null,null,null,{"$f":"$B$6","v":"Eléments d'ameublement d'intérieur"},{"$f":"$D$8","v":"Meubles de salon, séjour et salle à manger"},"Table basse bois"]
[null,null,null,"Eléments d'ameublement d'intérieur","Meubles de salon, séjour et salle à manger","Table basse gigogne"]
[null,null,null,"Eléments d'ameublement d'intérieur","Meubles de salon, séjour et salle à manger","Table basse relevable"]
[null,null,null,"Eléments d'ameublement d'intérieur","Meubles de salon, séjour et salle à manger","Bibliothèque"]
[null,null,null,"Eléments d'ameublement d'intérieur","Meubles de salon, séjour et salle à manger","Etagère"]
[null,null,null,"Eléments d'ameublement d'intérieur","Meubles de salon, séjour et salle à manger","Meuble TV avec portes"]
[null,null,null,"Eléments d'ameublement d'intérieur","Meubles de salon, séjour et salle à manger","Meuble TV avec tiroirs"]
[null,null,null,"Eléments d'ameublement d'intérieur","Meubles de salon, séjour et salle à manger","Meuble TV sans portes et sans tiroirs"]
[null,null,null,"Eléments d'ameublement d'intérieur","Meubles de salon, séjour et salle à manger","Pouf velours"]
[null,null,null,"Eléments d'ameublement d'intérieur","Meubles de salon, séjour et salle à manger","Pouf coffre"]
[null,null,null,"Eléments d'ameublement d'intérieur","Meubles de salon, séjour et salle à manger","Table basse ronde"]
[null,null,null,"Eléments d'ameublement d'intérieur","Meubles de salon, séjour et salle à manger","Table basse rectangulaire"]
[null,null,null,"Eléments d'ameublement d'intérieur","Meubles de salon, séjour et salle à manger","Table basse carrée"]
[null,null,null,"Eléments d'ameublement d'intérieur","Meubles de salon, séjour et salle à manger","Autres formes de table basse"]
[null,null,null,"Eléments d'ameublement d'intérieur","Meubles de salon, séjour et salle à manger","Range-chaussures à poser"]
[null,null,null,"Eléments d'ameublement d'intérieur","Meubles de salon, séjour et salle à manger","Range-chaussures à fixer"]
[null,null,null,"Eléments d'ameublement d'intérieur","Meubles de salon, séjour et salle à manger","Range-chaussures à suspendre"]
[null,null,null,"Eléments d'ameublement d'intérieur","Meubles de salon, séjour et salle à manger","Meuble blanc"]
[null,null,null,"Eléments d'ameublement d'intérieur","Meubles de salon, séjour et salle à manger","Meuble gris"]
[null,null,null,"Eléments d'ameublement d'intérieur","Meubles de salon, séjour et salle à manger","Meuble noir"]
[null,null,null,"Eléments d'ameublement d'intérieur","Meubles de salon, séjour et salle à manger","Meuble effet bois"]
[null,null,null,"Eléments d'ameublement d'intérieur","Meubles de salon, séjour et salle à manger","Console design industriel"]
[null,null,null,"Eléments d'ameublement d'intérieur","Meubles de salon, séjour et salle à manger","Console design scandinave"]
[null,null,null,"Eléments d'ameublement d'intérieur","Meubles de salon, séjour et salle à manger","Console design chic"]
[null,null,null,"Eléments d'ameublement d'intérieur","Meubles de salon, séjour et salle à manger","Portant simple"]
[null,null,null,"Eléments d'ameublement d'intérieur","Meubles de salon, séjour et salle à manger","Portant mural"]
[null,null,null,"Eléments d'ameublement d'intérieur","Meubles de salon, séjour et salle à manger","Portant extensible"]
[null,null,null,"Eléments d'ameublement d'intérieur","Meubles de salon, séjour et salle à manger","Portant avec housse"]
[null,null,null,"Eléments d'ameublement d'intérieur","Meubles de salon, séjour et salle à manger","Étagère en kit prêt à monter"]
[null,null,null,"Eléments d'ameublement d'intérieur","Meubles de salon, séjour et salle à manger","Étagère HUB System à personnaliser"]
[null,null,null,"Eléments d'ameublement d'intérieur","Meubles de salon, séjour et salle à manger","Étagère Versatile à personnaliser"]
[null,null,null,"Eléments d'ameublement d'intérieur","Meubles de salon, séjour et salle à manger","Bout de canapé"]
[null,null,null,"Eléments d'ameublement d'intérieur","Meubles de salon, séjour et salle à manger","Table gigogne"]
[null,null,null,"Eléments d'ameublement d'intérieur","Meubles de salon, séjour et salle à manger","Canapé 2 places"]
[null,null,null,"Eléments d'ameublement d'intérieur","Meubles de salon, séjour et salle à manger","Canapé 3 places"]
[null,null,null,"Eléments d'ameublement d'intérieur","Meubles de salon, séjour et salle à manger","Canapé convertible"]
[null,null,null,"Eléments d'ameublement d'intérieur","Meubles de salon, séjour et salle à manger","Canapé d'angle"]
[null,null,null,"Eléments d'ameublement d'intérieur","Meubles de salon, séjour et salle à manger","Fauteuil Lounge"]
[null,null,null,"Eléments d'ameublement d'intérieur","Meubles de salon, séjour et salle à manger","Fauteuil scandinave"]
[null,null,null,"Eléments d'ameublement d'intérieur","Meubles de salon, séjour et salle à manger","Pouf poire"]
[null,null,null,"Eléments d'ameublement d'intérieur","Meubles de salon, séjour et salle à manger","Meuble TV sans portes ni tiroirs"]
[null,null,null,"Eléments d'ameublement d'intérieur","Meubles de salon, séjour et salle à manger","Etagère utilitaire"]
[null,null,null,"Eléments d'ameublement d'intérieur","Meubles de salon, séjour et salle à manger","Cube de rangement"]
[null,null,null,"Eléments d'ameublement d'intérieur","Meubles de salon, séjour et salle à manger","Vaisselier"]
[null,null,null,"Eléments d'ameublement d'intérieur","Meubles de salon, séjour et salle à manger","Buffet"]
[null,null,null,"Eléments d'ameublement d'intérieur","Meubles de salon, séjour et salle à manger","Table extensible"]
[null,null,null,"Eléments d'ameublement d'intérieur","Meubles de salon, séjour et salle à manger","Table ronde"]
[null,null,null,"Eléments d'ameublement d'intérieur","Meubles de salon, séjour et salle à manger","Table de bar"]
[]
[null,null,null,"Meubles de bureau"]
[]
[null,null,null,"Rayon","Catégorie","Exemples de produits (non-exhaustif)"]
[null,null,null,{"$f":"$B$6","v":"Eléments d'ameublement d'intérieur"},{"$f":"$D$60","v":"Meubles de bureau"},"Ensemble Space Kit"]
[null,null,null,"Eléments d'ameublement d'intérieur","Meubles de bureau","Tour de rangement plastique"]
[null,null,null,"Eléments d'ameublement d'intérieur","Meubles de bureau","Tour de rangement métal"]
[null,null,null,"Eléments d'ameublement d'intérieur","Meubles de bureau","Bloc tiroir"]
[null,null,null,"Eléments d'ameublement d'intérieur","Meubles de bureau","Plateau de table Pin"]
[null,null,null,"Eléments d'ameublement d'intérieur","Meubles de bureau","Plateau de table Chêne"]
[null,null,null,"Eléments d'ameublement d'intérieur","Meubles de bureau","Plateau de table Aggloméré"]
[null,null,null,"Eléments d'ameublement d'intérieur","Meubles de bureau","Plateau de table MDF"]
[null,null,null,"Eléments d'ameublement d'intérieur","Meubles de bureau","Bureau design"]
[null,null,null,"Eléments d'ameublement d'intérieur","Meubles de bureau","Bureau industriel"]
[null,null,null,"Eléments d'ameublement d'intérieur","Meubles de bureau","Bureau scandinave"]
[null,null,null,"Eléments d'ameublement d'intérieur","Meubles de bureau","Bureau classique"]
[null,null,null,"Eléments d'ameublement d'intérieur","Meubles de bureau","Bureau enfant"]
[null,null,null,"Eléments d'ameublement d'intérieur","Meubles de bureau","Bureau chic"]
[]
[null,null,null,"Meubles de cuisine"]
[]
[null,null,null,"Rayon","Catégorie","Exemples de produits (non-exhaustif)"]
[null,null,null,{"$f":"$B$6","v":"Eléments d'ameublement d'intérieur"},{"$f":"$D$78","v":"Meubles de cuisine"},"Rangement meuble haut"]
[null,null,null,"Eléments d'ameublement d'intérieur","Meubles de cuisine","Rangement meuble bas"]
[null,null,null,"Eléments d'ameublement d'intérieur","Meubles de cuisine","Rangement d'angle"]
[null,null,null,"Eléments d'ameublement d'intérieur","Meubles de cuisine","Buffet de moins d'1m"]
[null,null,null,"Eléments d'ameublement d'intérieur","Meubles de cuisine","Buffet entre 1m et 1m50"]
[null,null,null,"Eléments d'ameublement d'intérieur","Meubles de cuisine","Buffet de plus d'1m50"]
[null,null,null,{"$f":"$B$6","v":"Eléments d'ameublement d'intérieur"},{"$f":"$D$78","v":"Meubles de cuisine"},"Plans de travail"]
[]
[]
[null,null,null,"Meubles de salle de bains"]
[]
[null,null,null,"Rayon","Catégorie","Exemples de produits (non-exhaustif)"]
[null,null,null,{"$f":"$B$6","v":"Eléments d'ameublement d'intérieur"},{"$f":"$D$90","v":"Meubles de salle de bains"},"Meuble simple vasque"]
[null,null,null,"Eléments d'ameublement d'intérieur","Meubles de salle de bains","Meuble simple vasque large"]
[null,null,null,"Eléments d'ameublement d'intérieur","Meubles de salle de bains","Meuble double vasque"]
[null,null,null,"Eléments d'ameublement d'intérieur","Meubles de salle de bains","Colonne"]
[null,null,null,"Eléments d'ameublement d'intérieur","Meubles de salle de bains","Meuble bas"]
[null,null,null,"Eléments d'ameublement d'intérieur","Meubles de salle de bains","Caisson colonne"]
[null,null,null,"Eléments d'ameublement d'intérieur","Meubles de salle de bains","Meubles haut"]
[null,null,null,"Eléments d'ameublement d'intérieur","Meubles de salle de bains","Cube"]
[null,null,null,"Eléments d'ameublement d'intérieur","Meubles de salle de bains","Meuble Simple vasque encastrée"]
[null,null,null,"Eléments d'ameublement d'intérieur","Meubles de salle de bains","Meuble Double vasque encastrée"]
[null,null,null,"Eléments d'ameublement d'intérieur","Meubles de salle de bains","Meuble Simple vasque à poser"]
[null,null,null,"Eléments d'ameublement d'intérieur","Meubles de salle de bains","Meuble double vasque à poser"]
[]
[]
[null,null,null,"Plans de travail"]
[]
[null,null,null,"Rayon","Catégorie","Exemples de produits (non-exhaustif)"]
[null,null,null,{"$f":"$B$6","v":"Eléments d'ameublement d'intérieur"},{"$f":"$D$107","v":"Plans de travail"}]
[]
[]
[null,null,null,"Sièges"]
[]
[null,null,null,"Rayon","Catégorie","Exemples de produits (non-exhaustif)"]
[null,null,null,{"$f":"$D$113","v":"Sièges"},"Sièges","Siège 1 place pivotant ajustable en hauteur"]
[null,null,null,"Sièges","Sièges","Autres articles rembourrés d’assise ou de couchage"]
[null,null,null,"Sièges","Sièges","Siège sans structure 1 place"]
[null,null,null,"Sièges","Sièges","Siège sans structure 2 places"]
[null,null,null,"Sièges","Sièges","Siège sans structure plus de 2 places"]
[null,null,null,"Sièges","Sièges","Siège non convertible 1 place"]
[null,null,null,"Sièges","Sièges","Siège non convertible 2 places"]
[null,null,null,"Sièges","Sièges","Siège non convertible plus de 2 places"]
[null,null,null,"Sièges","Sièges","Siège convertible 1 place"]
[null,null,null,"Sièges","Sièges","Siège convertible 2 places"]
[null,null,null,"Sièges","Sièges","Siège convertible plus de 2 places"]
[null,null,null,"Sièges","Sièges","Autre accessoire, partie de siège, support de hamac"]
[null,null,null,"Sièges","Sièges","Siège gonflable"]
[null,null,null,"Sièges","Sièges","Canapé convertible Hôtellerie 2 places couchage 140x190 cm"]
[null,null,null,"Sièges","Sièges","Chaise de salle à manger"]
[null,null,null,"Sièges","Sièges","Chaise de bar"]
[null,null,null,"Sièges","Sièges","Chaise de bureau"]
[null,null,null,"Sièges","Sièges","Chaise rotin"]
[null,null,null,"Sièges","Sièges","Chaise de relaxation"]
[null,null,null,"Sièges","Sièges","Chaise papillon"]
[null,null,null,"Sièges","Sièges","Chaise de bureau pivotante"]
[null,null,null,"Sièges","Sièges","Chaise de bureau avec dossier inclinable"]
[null,null,null,"Sièges","Sièges","Tabouret de bar Chic"]
[null,null,null,"Sièges","Sièges","Tabouret de bar Industriel"]
[null,null,null,"Sièges","Sièges","Tabouret de bar Naturel"]
[null,null,null,"Sièges","Sièges","Tabouret de bar Design"]
[null,null,null,"Sièges","Sièges","Chaise à bascule"]
[null,null,null,"Sièges","Sièges","Siège articulé / électrique 1 place"]
[null,null,null,"Sièges","Sièges","Siège articulé / électrique 2 places"]
[null,null,null,"Sièges","Sièges","Siège articulé / électrique plus de 2 places"]
[]
[]
[null,null,null,"Produits rembourrés d'assise ou de couchage"]
[]
[null,null,null,"Rayon","Catégorie","Exemples de produits (non-exhaustif)"]
[null,null,null,{"$f":"$B$6","v":"Eléments d'ameublement d'intérieur"},{"$f":"$D$148","v":"Produits rembourrés d'assise ou de couchage"},"Fauteuils"]
[null,null,null,{"$f":"$B$6","v":"Eléments d'ameublement d'intérieur"},{"$f":"$D$148","v":"Produits rembourrés d'assise ou de couchage"},"Canapés"]
[]
[]
[null,null,null,"Meubles de chambre à coucher"]
[]
[null,null,null,"Rayon","Catégorie","Exemples de produits (non-exhaustif)"]
[null,null,null,{"$f":"$B$6","v":"Eléments d'ameublement d'intérieur"},{"$f":"$D$155","v":"Meubles de chambre à coucher"},"Cadre à lattes"]
[null,null,null,"Eléments d'ameublement d'intérieur","Meubles de chambre à coucher","Sommier relaxation mécanique"]
[null,null,null,"Eléments d'ameublement d'intérieur","Meubles de chambre à coucher","Rangement (hors tabletterie)"]
[null,null,null,"Eléments d'ameublement d'intérieur","Meubles de chambre à coucher","Tête de lit"]
[null,null,null,"Eléments d'ameublement d'intérieur","Meubles de chambre à coucher","Table de chevet style scandinave"]
[null,null,null,"Eléments d'ameublement d'intérieur","Meubles de chambre à coucher","Table de chevet style chic"]
[null,null,null,"Eléments d'ameublement d'intérieur","Meubles de chambre à coucher","Commode inférieur à 100cm"]
[null,null,null,"Eléments d'ameublement d'intérieur","Meubles de chambre à coucher","Tête de lit Hôtellerie similicuir déco"]
[null,null,null,"Eléments d'ameublement d'intérieur","Meubles de chambre à coucher","Tête de lit Hôtellerie tissu déco"]
[null,null,null,"Eléments d'ameublement d'intérieur","Meubles de chambre à coucher","Lit médicalisé à fonction de Trendelemburg"]
[null,null,null,"Eléments d'ameublement d'intérieur","Meubles de chambre à coucher","Meubles ou éléments d'ameublement servant au couchage (cadre de lit, tête de lit…) ( NB: hors matelas et sommiers)"]
[null,null,null,"Eléments d'ameublement d'intérieur","Meubles de chambre à coucher","Lit superposé collectivité métal tube rond"]
[null,null,null,"Eléments d'ameublement d'intérieur","Meubles de chambre à coucher","Lit superposé collectivité métal tube carré"]
[null,null,null,"Eléments d'ameublement d'intérieur","Meubles de chambre à coucher","Lit surélevé collectivité métal tube carré"]
[null,null,null,"Eléments d'ameublement d'intérieur","Meubles de chambre à coucher","Lit collectivité métal 1 ou 2 places tube carré"]
[null,null,null,"Eléments d'ameublement d'intérieur","Meubles de chambre à coucher","Lit collectivité métal 1 ou 2 places tube carré décor métal"]
[null,null,null,"Eléments d'ameublement d'intérieur","Meubles de chambre à coucher","Lit collectivité métal 1 ou 2 places tube carré décor bois"]
[null,null,null,"Eléments d'ameublement d'intérieur","Meubles de chambre à coucher","Lit collectivité métal 1 ou 2 places tube rond"]
[null,null,null,"Eléments d'ameublement d'intérieur","Meubles de chambre à coucher","Lit collectivité métal 1 ou 2 places tube rond décor métal"]
[null,null,null,"Eléments d'ameublement d'intérieur","Meubles de chambre à coucher","Lit collectivité métal 1 ou 2 places tube rond décor bois"]
[null,null,null,"Eléments d'ameublement d'intérieur","Meubles de chambre à coucher","Lit vertical Hôtellerie couchage 90x190 cm"]
[null,null,null,"Eléments d'ameublement d'intérieur","Meubles de chambre à coucher","Lit-coffre Hôtellerie déco à grande capacité"]
[null,null,null,"Eléments d'ameublement d'intérieur","Meubles de chambre à coucher","Lit pliant Hôtellerie couchage 90x190 cm"]
[null,null,null,"Eléments d'ameublement d'intérieur","Meubles de chambre à coucher","Commode entre 100 et 200 cm"]
[null,null,null,"Eléments d'ameublement d'intérieur","Meubles de chambre à coucher","Commode supérieur à 200cm"]
[null,null,null,"Eléments d'ameublement d'intérieur","Meubles de chambre à coucher","Dressing ouvert"]
[null,null,null,"Eléments d'ameublement d'intérieur","Meubles de chambre à coucher","Lit coffre"]
[null,null,null,"Eléments d'ameublement d'intérieur","Meubles de chambre à coucher","Dressing fermé"]
[null,null,null,"Eléments d'ameublement d'intérieur","Meubles de chambre à coucher","Armoire dressing de 40 à 120 cm"]
[null,null,null,"Eléments d'ameublement d'intérieur","Meubles de chambre à coucher","Armoire dressing de 120 à 160 cm"]
[null,null,null,"Eléments d'ameublement d'intérieur","Meubles de chambre à coucher","Cadre de lit"]
[null,null,null,"Eléments d'ameublement d'intérieur","Meubles de chambre à coucher","Tabletterie"]
[]
[]
[]
[null,"Literie"]
[]
[null,null,null,"Matelas rembourré"]
[]
[null,null,null,"Rayon","Catégorie","Exemples de produits (non-exhaustif)"]
[null,null,null,{"$f":"$B$193","v":"Literie"},{"$f":"$D$195","v":"Matelas rembourré"},"Matelas anti-escarres pour lit médicalisé"]
[null,null,null,"Literie","Matelas rembourré","Matelas économiques à ressorts ensachés pour hôtellerie de plein air"]
[null,null,null,"Literie","Matelas rembourré","Matelas à ressorts ensachés pour hôtels et chambres d'hôtes"]
[null,null,null,"Literie","Matelas rembourré","Matelas d'épaisseur >10cm"]
[null,null,null,"Literie","Matelas rembourré","Matelas mousse haute densité pour collectivités"]
[null,null,null,"Literie","Matelas rembourré","Matelas artisanal à mémoire de forme pour hôtellerie haut de gamme"]
[]
[]
[null,null,null,"Matelas gonflable"]
[]
[null,null,null,"Rayon","Catégorie","Exemples de produits (non-exhaustif)"]
[null,null,null,{"$f":"$B$193","v":"Literie"},{"$f":"$D$206","v":"Matelas gonflable"},"Matelas d'épaisseur ≤10cm"]
[null,null,null,{"$f":"$B$193","v":"Literie"},{"$f":"$D$206","v":"Matelas gonflable"},"Matelas gonflable"]
[]
[]
[null,null,null,"Sacs de couchage"]
[]
[null,null,null,"Rayon","Catégorie","Exemples de produits (non-exhaustif)"]
[null,null,null,{"$f":"$B$193","v":"Literie"},{"$f":"D213","v":"Sacs de couchage"},"Sac de couchage"]
[]
[null,null,null,"Couettes, surmatelas non litiers, édredons"]
[]
[null,null,null,"Rayon","Catégorie","Exemples de produits (non-exhaustif)"]
[null,null,null,{"$f":"$B$193","v":"Literie"},{"$f":"$D$218","v":"Couettes, surmatelas non litiers, édredons"},"Couettes"]
[null,null,null,"Literie",{"$f":"$D$218","v":"Couettes, surmatelas non litiers, édredons"},"Surmatelas avec rembourrage de type non litier"]
[null,null,null,"Literie","Couettes, surmatelas non litiers, édredons","Surmatelas topper à mémoire de forme pour hôtellerie"]
[null,null,null,"Literie","Couettes, surmatelas non litiers, édredons","Surmatelas topper capitonné super soft pour hôtellerie"]
[null,null,null,"Literie","Couettes, surmatelas non litiers, édredons","Protège-matelas Hôtellerie imperméable respirant silencieux"]
[null,null,null,"Literie","Couettes, surmatelas non litiers, édredons","Protège-oreiller Hôtellerie imperméable respirant silencieux"]
[null,null,null,"Literie","Couettes, surmatelas non litiers, édredons","Couette Hôtellerie 4 saisons microfibre"]
[null,null,null,"Literie","Couettes, surmatelas non litiers, édredons","Couette Hôtellerie été microfibre"]
[null,null,null,"Literie","Couettes, surmatelas non litiers, édredons","Edredon"]
[null,null,null,"Literie","Couettes, surmatelas non litiers, édredons","Couette"]
[null,null,null,"Literie","Couettes, surmatelas non litiers, édredons","Couette Hôtellerie duvet canard"]
[null,null,null,"Literie","Couettes, surmatelas non litiers, édredons","Couette Hôtellerie duvet canard plus"]
[null,null,null,"Literie","Couettes, surmatelas non litiers, édredons","Surmatelas non litiers"]
[]
[null,null,null,"Oreillers, traversins, tous types de coussins et autres produits rembourrés d'assise et de couchage"]
[]
[null,null,null,"Rayon","Catégorie","Exemples de produits (non-exhaustif)"]
[null,null,null,{"$f":"$B$193","v":"Literie"},{"$f":"$D$235","v":"Oreillers, traversins, tous types de coussins et autres produits rembourrés d'assise et de couchage"},"Polochon"]
[null,null,null,{"$f":"$B$193","v":"Literie"},{"$f":"$D$235","v":"Oreillers, traversins, tous types de coussins et autres produits rembourrés d'assise et de couchage"},"Traversin"]
[null,null,null,{"$f":"$B$193","v":"Literie"},{"$f":"$D$235","v":"Oreillers, traversins, tous types de coussins et autres produits rembourrés d'assise et de couchage"},"Oreiller"]
[]
[]
[null,null,null,"Cadre à lattes"]
[]
[null,null,null,"Rayon","Catégorie","Exemples de produits (non-exhaustif)"]
[null,null,null,{"$f":"$B$193","v":"Literie"},{"$f":"$D$243","v":"Cadre à lattes"},"Cadre de lit Hôtellerie à lattes Silence System"]
[]
[]
[null,null,null,"Sommiers"]
[]
[null,null,null,"Rayon","Catégorie","Exemples de produits (non-exhaustif)"]
[null,null,null,{"$f":"$B$193","v":"Literie"},{"$f":"$D$249","v":"Sommiers"},"Sommier Hôtellerie économique avec système d'élévation à pédale"]
[null,null,null,"Literie","Sommiers","Sommier Hôtellerie déco avec système d'élévation à pédale"]
[null,null,null,"Literie","Sommiers","Sommier Hôtellerie déco à plan rigide"]
[null,null,null,"Literie","Sommiers","Sommier Hôtellerie similicuir déco à lattes massives"]
[null,null,null,"Literie","Sommiers","Sommier Hôtellerie tissu déco à lattes massives"]
[null,null,null,"Literie","Sommiers","Sommier Hôtellerie économique à plan rigide"]
[]
[]
[null,null,null,"Sommier relaxation mécanique ou électrique et lit-coffre"]
[]
[null,null,null,"Rayon","Catégorie","Exemples de produits (non-exhaustif)"]
[null,null,null,{"$f":"$B$193","v":"Literie"},{"$f":"D260","v":"Sommier relaxation mécanique ou électrique et lit-coffre"}," "]
[]
[]
[null,null,null,"Literie du marché professionnel"]
[]
[null,null,null,"Rayon","Catégorie","Exemples de produits (non-exhaustif)"]
[null,null,null,{"$f":"$B$193","v":"Literie"},{"$f":"D266","v":"Literie du marché professionnel"},"Oreiller Hôtellerie duvet canard"]
[null,null,null,{"$f":"$B$193","v":"Literie"},{"$f":"D266","v":"Literie du marché professionnel"},"Oreiller Hôtellerie duvet canard plus"]
[null,null,null,{"$f":"$B$193","v":"Literie"},{"$f":"D266","v":"Literie du marché professionnel"},"Oreiller Hôtellerie lavable à haute température"]
[null,null,null,{"$f":"$B$193","v":"Literie"},{"$f":"D266","v":"Literie du marché professionnel"},"Oreiller Hôtellerie microfibre confort duvet"]
[null,null,null,{"$f":"$B$193","v":"Literie"},{"$f":"D266","v":"Literie du marché professionnel"},"Oreiller Hôtellerie microfibre confort duvet plus"]
[]
[]
[]
[null,"Eléments d'ameublement spéciaux"]
[]
[null,null,null,"Meubles d'appoint"]
[]
[null,null,null,"Rayon","Catégorie","Exemples de produits (non-exhaustif)"]
[null,null,null,{"$f":"$B$277","v":"Eléments d'ameublement spéciaux"},{"$f":"$D$279","v":"Meubles d'appoint"},"Accessoire de pose"]
[null,null,null,"Eléments d'ameublement spéciaux","Meubles d'appoint","Accessoire de rangement"]
[null,null,null,"Eléments d'ameublement spéciaux","Meubles d'appoint","Accessoires de suspension"]
[null,null,null,"Eléments d'ameublement spéciaux","Meubles d'appoint","Table d'appoint ronde"]
[null,null,null,"Eléments d'ameublement spéciaux","Meubles d'appoint","Table d'appoint carrée ou rectangulaire"]
[null,null,null,"Eléments d'ameublement spéciaux","Meubles d'appoint","Autres formes de table d'appoint"]
[]
[null,null,null,"Mobiliers techniques, commerciaux et de collectivité"]
[]
[null,null,null,"Rayon","Catégorie","Exemples de produits (non-exhaustif)"]
[null,null,null,{"$f":"$B$277","v":"Eléments d'ameublement spéciaux"},{"$f":"$D$289","v":"Mobiliers techniques, commerciaux et de collectivité"},"Coffre de jardin"]
[null,null,null,"Eléments d'ameublement spéciaux","Mobiliers techniques, commerciaux et de collectivité","Coffre de rangement intérieur"]
[null,null,null,"Eléments d'ameublement spéciaux","Mobiliers techniques, commerciaux et de collectivité","Cantine de rangement"]
[null,null,null,"Eléments d'ameublement spéciaux","Mobiliers techniques, commerciaux et de collectivité","Etagère métallique utilitaire"]
[null,null,null,"Eléments d'ameublement spéciaux","Mobiliers techniques, commerciaux et de collectivité","Etagère charge lourde"]
[null,null,null,"Eléments d'ameublement spéciaux","Mobiliers techniques, commerciaux et de collectivité","Etagère plastique utilitaire"]
[null,null,null,"Eléments d'ameublement spéciaux","Mobiliers techniques, commerciaux et de collectivité","Etagère bois utilitaire"]
[null,null,null,"Eléments d'ameublement spéciaux","Mobiliers techniques, commerciaux et de collectivité","Equerre étagère"]
[null,null,null,"Eléments d'ameublement spéciaux","Mobiliers techniques, commerciaux et de collectivité","Console et crémaillère"]
[null,null,null,"Eléments d'ameublement spéciaux","Mobiliers techniques, commerciaux et de collectivité","Tablette bois"]
[null,null,null,"Eléments d'ameublement spéciaux","Mobiliers techniques, commerciaux et de collectivité","Tablette mélaminé"]
[null,null,null,"Eléments d'ameublement spéciaux","Mobiliers techniques, commerciaux et de collectivité","Armoire utilitaire"]
[null,null,null,"Eléments d'ameublement spéciaux","Mobiliers techniques, commerciaux et de collectivité","Range-bouteille"]
[]
[]
[null,null,null,"Meubles de jardin"]
[]
[null,null,null,"Rayon","Catégorie","Exemples de produits (non-exhaustif)"]
[null,null,null,{"$f":"$B$277","v":"Eléments d'ameublement spéciaux"},{"$f":"$D$307","v":"Meubles de jardin"},"Bain de soleil"]
[null,null,null,"Eléments d'ameublement spéciaux","Meubles de jardin","Chaise longue"]
[null,null,null,"Eléments d'ameublement spéciaux","Meubles de jardin","Transat"]
[null,null,null,"Eléments d'ameublement spéciaux","Meubles de jardin","Chilienne"]
[null,null,null,"Eléments d'ameublement spéciaux","Meubles de jardin","Fauteuil de détente"]
[null,null,null,"Eléments d'ameublement spéciaux","Meubles de jardin","Banc en bois"]
[null,null,null,"Eléments d'ameublement spéciaux","Meubles de jardin","Banc en acier"]
[null,null,null,"Eléments d'ameublement spéciaux","Meubles de jardin","Banc en aluminium"]
[null,null,null,"Eléments d'ameublement spéciaux","Meubles de jardin","Banc en résine ou plastique"]
[null,null,null,"Eléments d'ameublement spéciaux","Meubles de jardin","Chaise de jardin"]
[null,null,null,"Eléments d'ameublement spéciaux","Meubles de jardin","Fauteuil de jardin"]
[null,null,null,"Eléments d'ameublement spéciaux","Meubles de jardin","Fauteuil bas de jardin"]
[null,null,null,"Eléments d'ameublement spéciaux","Meubles de jardin","Tabouret et chaise haute de jardin"]
[null,null,null,"Eléments d'ameublement spéciaux","Meubles de jardin","Table de jardin De 2 à 4 places"]
[null,null,null,"Eléments d'ameublement spéciaux","Meubles de jardin","Table de jardin De 4 à 6 places"]
[null,null,null,"Eléments d'ameublement spéciaux","Meubles de jardin","Table de jardin De 6 à 8 places"]
[null,null,null,"Eléments d'ameublement spéciaux","Meubles de jardin","Table de jardin de Plus de 8 places"]
[null,null,null,"Eléments d'ameublement spéciaux","Meubles de jardin","Canapé de jardin en Aluminium et acier"]
[null,null,null,"Eléments d'ameublement spéciaux","Meubles de jardin","Canapé de jardin en  Résine tressée, injectée et plastique"]
[null,null,null,"Eléments d'ameublement spéciaux","Meubles de jardin","Canapé de jardin en Bois et rotin naturel"]
[null,null,null,"Eléments d'ameublement spéciaux","Meubles de jardin","Salon de jardin en Aluminium"]
[null,null,null,"Eléments d'ameublement spéciaux","Meubles de jardin","Salon de jardin en Résine tressée ou injectée"]
[null,null,null,"Eléments d'ameublement spéciaux","Meubles de jardin","Salon de jardin Bois"]
[null,null,null,"Eléments d'ameublement spéciaux","Meubles de jardin","Salon de jardin Acier"]
[]
[null,null,null,"Mobilier pour animaux"]
[]
[null,null,null,"Rayon","Catégorie","Exemples de produits (non-exhaustif)"]
[null,null,null,{"$f":"$B$277","v":"Eléments d'ameublement spéciaux"},{"$f":"$D$335","v":"Mobilier pour animaux"}]
[]
[]
[null,"Composants et accessoires de meubles"]
[]
[null,null,null,"Panneaux de bois"]
[]
[null,null,null,"Rayon","Catégorie","Exemples de produits (non-exhaustif)"]
[null,null,null,{"$f":"$B$341","v":"Composants et accessoires de meubles"},{"$f":"$D$343","v":"Panneaux de bois"},"Tablette (à la dimension)"]
[null,null,null,{"$f":"$B$341","v":"Composants et accessoires de meubles"},{"$f":"$D$343","v":"Panneaux de bois"},"Panneaux à la découpe (à la dimension)"]
[null,null,null,{"$f":"$B$341","v":"Composants et accessoires de meubles"},{"$f":"$D$343","v":"Panneaux de bois"},"Tabletterie, panneaux à la découpe (au poids)"]
[null,null,null,{"$f":"$B$341","v":"Composants et accessoires de meubles"},{"$f":"$D$343","v":"Panneaux de bois"}]
[]
[null,null,null,"Tissu d'ameublement"]
[]
[null,null,null,"Rayon","Catégorie","Exemples de produits (non-exhaustif)"]
[null,null,null,{"$f":"$B$341","v":"Composants et accessoires de meubles"},{"$f":"$D$351","v":"Tissu d'ameublement"}]
[]
[null,null,null,"Quincaillerie (poignées de tiroir, rails de tiroir…), accessoires de suspension, de rangement, de pose…"]
[]
[null,null,null,"Rayon","Catégorie","Exemples de produits (non-exhaustif)"]
[null,null,null,{"$f":"$B$341","v":"Composants et accessoires de meubles"},{"$f":"$D$356","v":"Quincaillerie (poignées de tiroir, rails de tiroir…), accessoires de suspension, de rangement, de pose…"},"Poignées de meubles"]
[null,null,null,{"$f":"$B$341","v":"Composants et accessoires de meubles"},{"$f":"$D$356","v":"Quincaillerie (poignées de tiroir, rails de tiroir…), accessoires de suspension, de rangement, de pose…"},"Pied de lit"]
[null,null,null,{"$f":"$B$341","v":"Composants et accessoires de meubles"},{"$f":"$D$356","v":"Quincaillerie (poignées de tiroir, rails de tiroir…), accessoires de suspension, de rangement, de pose…"},"Rails de tiroir"]
[null,null,null,{"$f":"$B$341","v":"Composants et accessoires de meubles"},{"$f":"$D$356","v":"Quincaillerie (poignées de tiroir, rails de tiroir…), accessoires de suspension, de rangement, de pose…"},"Poignées de tiroir"]
[null,null,null,{"$f":"$B$341","v":"Composants et accessoires de meubles"},{"$f":"$D$356","v":"Quincaillerie (poignées de tiroir, rails de tiroir…), accessoires de suspension, de rangement, de pose…"},"Pieds de meubles"]
[]
[]
[null,null,null,"Housse de protection"]
[]
[null,null,null,"Rayon","Catégorie","Exemples de produits (non-exhaustif)"]
[null,null,null,{"$f":"$B$341","v":"Composants et accessoires de meubles"},{"$f":"$D$366","v":"Housse de protection"}]
[]
[]
[null,"Décoration textile amovible et leurs accessoires"]
[]
[null,null,null,"Large décoration textile suspendue (rideaux, voilages, tapis muraux) hors stores"]
[]
[null,null,null,"Rayon","Catégorie","Exemples de produits (non-exhaustif)"]
[null,null,null,{"$f":"$B$372","v":"Décoration textile amovible et leurs accessoires"},{"$f":"$D$374","v":"Large décoration textile suspendue (rideaux, voilages, tapis muraux) hors stores"},"Rideau occultants"]
[null,null,null,"Décoration textile amovible et leurs accessoires","Large décoration textile suspendue (rideaux, voilages, tapis muraux) hors stores","Rideau tamisant"]
[null,null,null,"Décoration textile amovible et leurs accessoires","Large décoration textile suspendue (rideaux, voilages, tapis muraux) hors stores","Rideau thermique"]
[null,null,null,"Décoration textile amovible et leurs accessoires","Large décoration textile suspendue (rideaux, voilages, tapis muraux) hors stores","Rideau phonique"]
[null,null,null,"Décoration textile amovible et leurs accessoires","Large décoration textile suspendue (rideaux, voilages, tapis muraux) hors stores","Doublure occultante thermique"]
[null,null,null,"Décoration textile amovible et leurs accessoires","Large décoration textile suspendue (rideaux, voilages, tapis muraux) hors stores","Voilage tamisant"]
[null,null,null,"Décoration textile amovible et leurs accessoires","Large décoration textile suspendue (rideaux, voilages, tapis muraux) hors stores","Voilage transparent"]
[null,null,null,"Décoration textile amovible et leurs accessoires","Large décoration textile suspendue (rideaux, voilages, tapis muraux) hors stores","Rideau obscurcissant"]
[null,null,null,{"$f":"$B$372","v":"Décoration textile amovible et leurs accessoires"},{"$f":"$D$374","v":"Large décoration textile suspendue (rideaux, voilages, tapis muraux) hors stores"},"Toiles tendues"]
[null,null,null,{"$f":"$B$372","v":"Décoration textile amovible et leurs accessoires"},{"$f":"$D$374","v":"Large décoration textile suspendue (rideaux, voilages, tapis muraux) hors stores"},"Voile d'ombrage"]
[null,null,null,"Décoration textile amovible et leurs accessoires","Large décoration textile suspendue (rideaux, voilages, tapis muraux) hors stores","Rideaux filtrant "]
[null,null,null,{"$f":"$B$372","v":"Décoration textile amovible et leurs accessoires"},{"$f":"$D$374","v":"Large décoration textile suspendue (rideaux, voilages, tapis muraux) hors stores"},"Tapis mural"]
[null,null,null,{"$f":"$B$372","v":"Décoration textile amovible et leurs accessoires"},{"$f":"$D$374","v":"Large décoration textile suspendue (rideaux, voilages, tapis muraux) hors stores"},"Tissus muraux"]
[null,null,null,{"$f":"$B$372","v":"Décoration textile amovible et leurs accessoires"},{"$f":"$D$374","v":"Large décoration textile suspendue (rideaux, voilages, tapis muraux) hors stores"},"Tissage mural macramé"]
[null,null,null,"Décoration textile amovible et leurs accessoires","Large décoration textile suspendue (rideaux, voilages, tapis muraux) hors stores","Rideaux assombrissant"]
[null,null,null,"Décoration textile amovible et leurs accessoires","Large décoration textile suspendue (rideaux, voilages, tapis muraux) hors stores","Rideaux filet"]
[null,null,null,"Décoration textile amovible et leurs accessoires","Large décoration textile suspendue (rideaux, voilages, tapis muraux) hors stores","Rideaux passe tringle"]
[null,null,null,"Décoration textile amovible et leurs accessoires","Large décoration textile suspendue (rideaux, voilages, tapis muraux) hors stores","Ruban plisseur"]
[null,null,null,"Décoration textile amovible et leurs accessoires","Large décoration textile suspendue (rideaux, voilages, tapis muraux) hors stores","Rideaux à pattes "]
[null,null,null,"Décoration textile amovible et leurs accessoires","Large décoration textile suspendue (rideaux, voilages, tapis muraux) hors stores","Rideaux à nouettes "]
[null,null,null,"Décoration textile amovible et leurs accessoires","Large décoration textile suspendue (rideaux, voilages, tapis muraux) hors stores","Rideaux à oeillet"]
[null,null,null,"Décoration textile amovible et leurs accessoires","Large décoration textile suspendue (rideaux, voilages, tapis muraux) hors stores","Rideaux moustiquaires"]
[]
[]
[null,null,null,"Stores textiles intérieurs"]
[]
[null,null,null,"Rayon","Catégorie","Exemples de produits (non-exhaustif)"]
[null,null,null,{"$f":"$B$372","v":"Décoration textile amovible et leurs accessoires"},{"$f":"$D$401","v":"Stores textiles intérieurs"},"Store pour fenêtre de tôit"]
[null,null,null,"Décoration textile amovible et leurs accessoires","Stores textiles intérieurs","Store enrouleur "]
[null,null,null,"Décoration textile amovible et leurs accessoires","Stores textiles intérieurs","Store Vénitien"]
[null,null,null,"Décoration textile amovible et leurs accessoires","Stores textiles intérieurs","Store Alvéolaire"]
[null,null,null,"Décoration textile amovible et leurs accessoires","Stores textiles intérieurs","Store Bateau"]
[null,null,null,"Décoration textile amovible et leurs accessoires","Stores textiles intérieurs","Store Californien"]
[null,null,null,"Décoration textile amovible et leurs accessoires","Stores textiles intérieurs","Store japonais"]
[null,null,null,"Décoration textile amovible et leurs accessoires","Stores textiles intérieurs","Store occultant"]
[null,null,null,"Décoration textile amovible et leurs accessoires","Stores textiles intérieurs","Store plissé"]
[]
[]
[null,null,null,"Tapis d'extérieur, paillassons, tapis fonctionnels"]
[]
[null,null,null,"Rayon","Catégorie","Exemples de produits (non-exhaustif)"]
[null,null,null,{"$f":"$B$372","v":"Décoration textile amovible et leurs accessoires"},{"$f":"$D$415","v":"Tapis d'extérieur, paillassons, tapis fonctionnels"},"Thibaude"]
[null,null,null,"Décoration textile amovible et leurs accessoires","Tapis d'extérieur, paillassons, tapis fonctionnels","Tapis d'escalier"]
[null,null,null,"Décoration textile amovible et leurs accessoires","Tapis d'extérieur, paillassons, tapis fonctionnels","Tapis d'entrée"]
[null,null,null,{"$f":"$B$372","v":"Décoration textile amovible et leurs accessoires"},{"$f":"$D$415","v":"Tapis d'extérieur, paillassons, tapis fonctionnels"},"Tapis anti-fatigue"]
[null,null,null,"Décoration textile amovible et leurs accessoires","Tapis d'extérieur, paillassons, tapis fonctionnels","tapis de propreté"]
[null,null,null,"Décoration textile amovible et leurs accessoires","Tapis d'extérieur, paillassons, tapis fonctionnels","Tapis de cuisine"]
[null,null,null,"Décoration textile amovible et leurs accessoires","Tapis d'extérieur, paillassons, tapis fonctionnels","Tapis antipoussière"]
[null,null,null,"Décoration textile amovible et leurs accessoires","Tapis d'extérieur, paillassons, tapis fonctionnels","Tapis anti-dérapant"]
[null,null,null,"Décoration textile amovible et leurs accessoires","Tapis d'extérieur, paillassons, tapis fonctionnels","Paillasson interieur "]
[null,null,null,"Décoration textile amovible et leurs accessoires","Tapis d'extérieur, paillassons, tapis fonctionnels","Paillasson exterieur"]
[]
[]
[null,null,null,"Tapis décoratifs"]
[]
[null,null,null,"Rayon","Catégorie","Exemples de produits (non-exhaustif)"]
[null,null,null,{"$f":"$B$372","v":"Décoration textile amovible et leurs accessoires"},{"$f":"$D$430","v":"Tapis décoratifs"},"Tapis axminster"]
[null,null,null,"Décoration textile amovible et leurs accessoires","Tapis décoratifs","Fausse peau de mouton"]
[null,null,null,"Décoration textile amovible et leurs accessoires","Tapis décoratifs","Peau de bête"]
[null,null,null,"Décoration textile amovible et leurs accessoires","Tapis décoratifs","Tapis tissé à plat "]
[null,null,null,"Décoration textile amovible et leurs accessoires","Tapis décoratifs","Tapis au point noué "]
[null,null,null,"Décoration textile amovible et leurs accessoires","Tapis décoratifs","Tapis tressé"]
[null,null,null,"Décoration textile amovible et leurs accessoires","Tapis décoratifs","Carpette"]
[null,null,null,"Décoration textile amovible et leurs accessoires","Tapis décoratifs","Tapis rond"]
[null,null,null,"Décoration textile amovible et leurs accessoires","Tapis décoratifs","Tapis sisal"]
[null,null,null,"Décoration textile amovible et leurs accessoires","Tapis décoratifs","Tapis imitation fourrure"]
[null,null,null,"Décoration textile amovible et leurs accessoires","Tapis décoratifs","Tapis en jute"]
[null,null,null,"Décoration textile amovible et leurs accessoires","Tapis décoratifs","Tapis à frange en laine"]
[null,null,null,"Décoration textile amovible et leurs accessoires","Tapis décoratifs","Tapis de descente de lit"]
[null,null,null,"Décoration textile amovible et leurs accessoires","Tapis décoratifs","Tapis poils ras"]
[null,null,null,"Décoration textile amovible et leurs accessoires","Tapis décoratifs","Tapis poils hauts"]
[null,null,null,"Décoration textile amovible et leurs accessoires",{"$f":"$D$430","v":"Tapis décoratifs"},"Tapis à frange"]
[null,null,null,"Décoration textile amovible et leurs accessoires",{"$f":"$D$430","v":"Tapis décoratifs"},"Tapis en juste"]
[null,null,null,"Décoration textile amovible et leurs accessoires",{"$f":"$D$430","v":"Tapis décoratifs"},"Tapis à poils longs"]
[null,null,null,"Décoration textile amovible et leurs accessoires",{"$f":"$D$430","v":"Tapis décoratifs"},"Tapis à poils courts"]
[]
[]
[null,null,null,"Moquette amovible"]
[]
[null,null,null,"Rayon","Catégorie","Exemples de produits (non-exhaustif)"]
[null,null,null,{"$f":"$B$372","v":"Décoration textile amovible et leurs accessoires"},{"$f":"$D$454","v":"Moquette amovible"},"Moquette événementielle de stand"]
[null,null,null,{"$f":"$B$372","v":"Décoration textile amovible et leurs accessoires"},{"$f":"$D$454","v":"Moquette amovible"},"moquettes amovibles professionnelles"]
[null,null,null,{"$f":"$B$372","v":"Décoration textile amovible et leurs accessoires"},{"$f":"$D$454","v":"Moquette amovible"},"Moquette acoustique amovible"]
[null,null,null,{"$f":"$B$372","v":"Décoration textile amovible et leurs accessoires"},{"$f":"$D$454","v":"Moquette amovible"},"Moquette événementielle d'allée"]
[]
[]
[null,null,null,"Petits éléments de décoration en textile"]
[]
[null,null,null,"Rayon","Catégorie","Exemples de produits (non-exhaustif)"]
[null,null,null,{"$f":"$B$372","v":"Décoration textile amovible et leurs accessoires"},{"$f":"$D$463","v":"Petits éléments de décoration en textile"},"Tour de lit"]
[null,null,null,"Décoration textile amovible et leurs accessoires","Petits éléments de décoration en textile","Macramé"]
[null,null,null,"Décoration textile amovible et leurs accessoires","Petits éléments de décoration en textile","Décorations textiles à suspendre"]
[null,null,null,"Décoration textile amovible et leurs accessoires","Petits éléments de décoration en textile","Housses de chaises"]
[null,null,null,"Décoration textile amovible et leurs accessoires","Petits éléments de décoration en textile","Guirlandes décoratives en textile"]
[null,null,null,"Décoration textile amovible et leurs accessoires","Petits éléments de décoration en textile","Revêtements de meubles amovibles"]
[]
[]
[null,null,null,"Supports et accessoires de décoration ou de rangement textile"]
[]
[null,null,null,"Rayon","Catégorie","Exemples de produits (non-exhaustif)"]
[null,null,null,{"$f":"$B$372","v":"Décoration textile amovible et leurs accessoires"},{"$f":"$D$474","v":"Supports et accessoires de décoration ou de rangement textile"},"Tringle à rideau simple"]
[null,null,null,"Décoration textile amovible et leurs accessoires","Supports et accessoires de décoration ou de rangement textile","Tringle à rideau extensible"]
[null,null,null,"Décoration textile amovible et leurs accessoires","Supports et accessoires de décoration ou de rangement textile","Tringle à rideau à composer"]
[null,null,null,"Décoration textile amovible et leurs accessoires","Supports et accessoires de décoration ou de rangement textile","Bandes d'ancrage"]
[null,null,null,"Décoration textile amovible et leurs accessoires","Supports et accessoires de décoration ou de rangement textile","Bande d'accrochage"]
[null,null,null,"Décoration textile amovible et leurs accessoires","Supports et accessoires de décoration ou de rangement textile","Tringle à rideau pivotante"]
[null,null,null,"Décoration textile amovible et leurs accessoires","Supports et accessoires de décoration ou de rangement textile","Tringle à rideau double"]
[null,null,null,"Décoration textile amovible et leurs accessoires","Supports et accessoires de décoration ou de rangement textile","Bouton de tringle"]
[null,null,null,"Décoration textile amovible et leurs accessoires","Supports et accessoires de décoration ou de rangement textile","Structure de penderie (légère en tissu)"]
[null,null,null,"Décoration textile amovible et leurs accessoires","Supports et accessoires de décoration ou de rangement textile","Support de fixation"]
[null,null,null,"Décoration textile amovible et leurs accessoires","Supports et accessoires de décoration ou de rangement textile","Tringle à habits"]
[null,null,null,"Décoration textile amovible et leurs accessoires","Supports et accessoires de décoration ou de rangement textile","Set d'angle"]
[]
[]
[]
[]
[null,"ARTICLES DE JEUX ET JOUETS - JJ",null,null,null,"POUR INFORMATION - AGREMENT EN COURS (fin 2027)"]
[]
[null,"Jouets"]
[]
[null,"201",null,"Figurines d'action & accessoires "]
[]
[null,null,null,"Rayon","Catégorie","Exemples de produits (non-exhaustif)"]
[null,null,null,{"$f":"$B$495","v":"Jouets"},{"$f":"$D$497","v":"Figurines d'action & accessoires "},"Figurines à collectionner pour adultes"]
[null,null,null,{"$f":"$B$495","v":"Jouets"},{"$f":"$D$497","v":"Figurines d'action & accessoires "},"Figurines à collectionner pour enfants"]
[null,null,null,{"$f":"$B$495","v":"Jouets"},{"$f":"$D$497","v":"Figurines d'action & accessoires "},"Figurines d'action"]
[null,null,null,{"$f":"$B$495","v":"Jouets"},{"$f":"$D$497","v":"Figurines d'action & accessoires "},"Jouets/Figurines de combat et univers de jeu"]
[null,null,null,{"$f":"$B$495","v":"Jouets"},{"$f":"$D$497","v":"Figurines d'action & accessoires "},"Univers de jeu pour figurines d'action & accessoires"]
[]
[]
[null,"202",null,"Jeux de construction & accessoires"]
[]
[null,null,null,"Rayon","Catégorie","Exemples de produits (non-exhaustif)"]
[null,null,null,{"$f":"$B$495","v":"Jouets"},{"$f":"$D$507","v":"Jeux de construction & accessoires"},"Jeux de construction junior en plastique"]
[null,null,null,"Jouets","Jeux de construction & accessoires","Jeux de construction junior en bois"]
[null,null,null,"Jouets","Jeux de construction & accessoires","Jeux de construction standards en plastique"]
[null,null,null,"Jouets","Jeux de construction & accessoires","Jeux de construction standards en bois"]
[null,null,null,"Jouets","Jeux de construction & accessoires","Constructions magnétiques, billes"]
[null,null,null,"Jouets","Jeux de construction & accessoires","Lego, briques et blocs"]
[null,null,null,"Jouets","Jeux de construction & accessoires","Maquettes & Modelisme"]
[null,null,null,"Jouets","Jeux de construction & accessoires","Meccano, engrenages"]
[null,null,null,"Jouets","Jeux de construction & accessoires","Planchettes et construction en bois"]
[null,null,null,"Jouets","Jeux de construction & accessoires","Bricolage et jardinage"]
[]
[]
[null,"203",null,"Poupées, Poupons & accessoires"]
[]
[null,null,null,"Rayon","Catégorie","Exemples de produits (non-exhaustif)"]
[null,null,null,{"$f":"$B$495","v":"Jouets"},{"$f":"$D$522","v":"Poupées, Poupons & accessoires"},"Accessoires de mini-univers"]
[null,null,null,"Jouets","Poupées, Poupons & accessoires","Accessoires de poupées mannequins"]
[null,null,null,"Jouets","Poupées, Poupons & accessoires","Autres accessoires pour poupons"]
[null,null,null,"Jouets","Poupées, Poupons & accessoires","Grandes poupées et accessoires"]
[null,null,null,"Jouets","Poupées, Poupons & accessoires","Maison et mobilier de poupées"]
[null,null,null,"Jouets","Poupées, Poupons & accessoires","Mini-univers et/ou à collectionner"]
[null,null,null,"Jouets","Poupées, Poupons & accessoires","Porteurs pour poupons"]
[null,null,null,"Jouets","Poupées, Poupons & accessoires","Poupées décoratives et de collection pour adultes"]
[null,null,null,"Jouets","Poupées, Poupons & accessoires","Poupées mannequins"]
[null,null,null,"Jouets","Poupées, Poupons & accessoires","Poupons à pouponner à fonctions"]
[null,null,null,"Jouets","Poupées, Poupons & accessoires","Poupons à pouponner traditionnels"]
[null,null,null,"Jouets","Poupées, Poupons & accessoires","Vêtements de poupées mannequins"]
[null,null,null,"Jouets","Poupées, Poupons & accessoires","Vêtements pour poupons"]
[null,null,null,"Jouets","Poupées, Poupons & accessoires","Accessoires poupées"]
[null,null,null,"Jouets","Poupées, Poupons & accessoires","Accessoires poupons"]
[null,null,null,"Jouets","Poupées, Poupons & accessoires","Barbie et poupées mannequin"]
[null,null,null,"Jouets","Poupées, Poupons & accessoires","Maisons de poupée"]
[null,null,null,"Jouets","Poupées, Poupons & accessoires","Mini poupées"]
[null,null,null,"Jouets","Poupées, Poupons & accessoires","Poupées"]
[null,null,null,"Jouets","Poupées, Poupons & accessoires","Poupons"]
[null,null,null,"Jouets","Poupées, Poupons & accessoires","Poussettes poupons"]
[null,null,null,"Jouets","Poupées, Poupons & accessoires","Têtes à coiffer"]
[]
[]
[null,"204",null,"Peluches & accessoires"]
[]
[null,null,null,"Rayon","Catégorie","Exemples de produits (non-exhaustif)"]
[null,null,null,{"$f":"$B$495","v":"Jouets"},{"$f":"$D$549","v":"Peluches & accessoires"},"Peluches traditionnelles"]
[null,null,null,"Jouets","Peluches & accessoires","Peluches pour nourrissons"]
[null,null,null,"Jouets","Peluches & accessoires","Mini peluches"]
[null,null,null,"Jouets","Peluches & accessoires","Ours en peluche"]
[null,null,null,"Jouets","Peluches & accessoires","Peluches animaux et autres"]
[null,null,null,"Jouets","Peluches & accessoires","Peluches géantes"]
[null,null,null,"Jouets","Peluches & accessoires","Peluches porte-clés"]
[null,null,null,"Jouets","Peluches & accessoires","Peluches super-héros et personnages"]
[null,null,null,"Jouets","Peluches & accessoires","Doudous"]
[null,null,null,"Jouets","Peluches & accessoires","Marionnettes"]
[]
[]
[null,"205",null,"Jouets premier âge et préscolaire & accessoires"]
[]
[null,null,null,"Rayon","Catégorie","Exemples de produits (non-exhaustif)"]
[null,null,null,{"$f":"$B$495","v":"Jouets"},{"$f":"$D$564","v":"Jouets premier âge et préscolaire & accessoires"},"Autres jouets pour nourrisons"]
[null,null,null,"Jouets","Jouets premier âge et préscolaire & accessoires","Autres jouets pour tout-petits"]
[null,null,null,"Jouets","Jouets premier âge et préscolaire & accessoires","Figurines/Univers & accessoires pour tout-petits"]
[null,null,null,"Jouets","Jouets premier âge et préscolaire & accessoires","Hochets et jouets pour mordre/calmer"]
[null,null,null,"Jouets","Jouets premier âge et préscolaire & accessoires","Jouets de bain"]
[null,null,null,"Jouets","Jouets premier âge et préscolaire & accessoires","Mobiles"]
[null,null,null,"Jouets","Jouets premier âge et préscolaire & accessoires","Jouets éducatifs Pré-scolaires"]
[null,null,null,"Jouets","Jouets premier âge et préscolaire & accessoires","Instruments de musique Pré-scolaires"]
[null,null,null,"Jouets","Jouets premier âge et préscolaire & accessoires","Jeux d'imitation cuisines/supermaché Pré-scolaires"]
[null,null,null,"Jouets","Jouets premier âge et préscolaire & accessoires","Jouets à promener et à pousser Pré-scolaires"]
[null,null,null,"Jouets","Jouets premier âge et préscolaire & accessoires","Autres jeux d'imitation Pré-scolaires"]
[null,null,null,"Jouets","Jouets premier âge et préscolaire & accessoires","Autres jouets Pré-scolaires"]
[null,null,null,"Jouets","Jouets premier âge et préscolaire & accessoires","Figurines/Univers de jeu & accessoires Pré-scolaires"]
[null,null,null,"Jouets","Jouets premier âge et préscolaire & accessoires","Véhicules Pré-scolaires"]
[null,null,null,"Jouets","Jouets premier âge et préscolaire & accessoires","Activités d'éveil"]
[null,null,null,"Jouets","Jouets premier âge et préscolaire & accessoires","Coffret cadeaux, naissance"]
[null,null,null,"Jouets","Jouets premier âge et préscolaire & accessoires","Hochets"]
[null,null,null,"Jouets","Jouets premier âge et préscolaire & accessoires","Jouets à emboîter, à empiler"]
[null,null,null,"Jouets","Jouets premier âge et préscolaire & accessoires","Tapis d'éveil"]
[null,null,null,"Jouets","Jouets premier âge et préscolaire & accessoires","Veilleuses"]
[null,null,null,"Jouets","Jouets premier âge et préscolaire & accessoires","Cuisine et dinette"]
[null,null,null,"Jouets","Jouets premier âge et préscolaire & accessoires","Héros & univers"]
[null,null,null,"Jouets","Jouets premier âge et préscolaire & accessoires","Mondes imaginaires"]
[null,null,null,"Jouets","Jouets premier âge et préscolaire & accessoires","Nettoyage, ménage"]
[]
[]
[null,"206",null,"Véhicules miniatures & accessoires"]
[]
[null,null,null,"Rayon","Catégorie","Exemples de produits (non-exhaustif)"]
[null,null,null,{"$f":"$B$495","v":"Jouets"},{"$f":"$D$593","v":"Véhicules miniatures & accessoires"},"Camions non motorisés"]
[null,null,null,"Jouets","Véhicules miniatures & accessoires","Mini véhicules"]
[null,null,null,"Jouets","Véhicules miniatures & accessoires","Univers de jeu pour véhicules & accessoires"]
[null,null,null,"Jouets","Véhicules miniatures & accessoires","Véhicule à friction"]
[null,null,null,"Jouets","Véhicules miniatures & accessoires","Véhicules à jouer avec les doigts & accessoires"]
[null,null,null,"Jouets","Véhicules miniatures & accessoires","Voitures non motorisés"]
[null,null,null,"Jouets","Véhicules miniatures & accessoires","Avions "]
[null,null,null,"Jouets","Véhicules miniatures & accessoires","Garages et circuits"]
[null,null,null,"Jouets","Véhicules miniatures & accessoires","Hélicoptères "]
[null,null,null,"Jouets","Véhicules miniatures & accessoires","Les autres véhicules"]
[null,null,null,"Jouets","Véhicules miniatures & accessoires","Quads & motos "]
[null,null,null,"Jouets","Véhicules miniatures & accessoires","Trains et circuits"]
[null,null,null,"Jouets","Véhicules miniatures & accessoires","Véhicules de chantier et tracteurs"]
[null,null,null,"Jouets","Véhicules miniatures & accessoires","Voiliers & bateaux "]
[null,null,null,"Jouets","Véhicules miniatures & accessoires","Voitures "]
[]
[]
[null,"207",null,"Arts créatifs & accessoires"]
[]
[null,null,null,"Rayon","Catégorie","Exemples de produits (non-exhaustif)"]
[null,null,null,{"$f":"$B$495","v":"Jouets"},{"$f":"$D$613","v":"Arts créatifs & accessoires"},"Découpage, collage, pliage"]
[null,null,null,"Jouets","Arts créatifs & accessoires","Accessoires de dessins"]
[null,null,null,"Jouets","Arts créatifs & accessoires","Mosaïque, sable et paillettes"]
[null,null,null,"Jouets","Arts créatifs & accessoires","Pate à modeler, modelage et gravure"]
[null,null,null,"Jouets","Arts créatifs & accessoires","Perles"]
[null,null,null,"Jouets","Arts créatifs & accessoires","Tableaux, ardoises"]
[null,null,null,"Jouets","Arts créatifs & accessoires","Cahier de coloriage"]
[null,null,null,"Jouets","Arts créatifs & accessoires","Patrons"]
[]
[]
[null,"208",null,"Jouets d'exploration et autres jouets & accessoires"]
[]
[null,null,null,"Rayon","Catégorie","Exemples de produits (non-exhaustif)"]
[null,null,null,{"$f":"$B$495","v":"Jouets"},{"$f":"$D$626","v":"Jouets d'exploration et autres jouets & accessoires"},"Jeux scientifiques"]
[null,null,null,"Jouets","Jouets d'exploration et autres jouets & accessoires","Jeux divers"]
[null,null,null,"Jouets","Jouets d'exploration et autres jouets & accessoires","Ensembles de mini figurines et décors"]
[null,null,null,"Jouets","Jouets d'exploration et autres jouets & accessoires","Carte/Vignettes à collectionner (hors jeux de stratégie)"]
[null,null,null,"Jouets","Jouets d'exploration et autres jouets & accessoires","Jeux de magie"]
[null,null,null,"Jouets","Jouets d'exploration et autres jouets & accessoires","Jeux éducatifs"]
[null,null,null,"Jouets","Jouets d'exploration et autres jouets & accessoires","Farces et Attrapes"]
[null,null,null,"Jouets","Jouets d'exploration et autres jouets & accessoires","Accessoires déguisements"]
[null,null,null,"Jouets","Jouets d'exploration et autres jouets & accessoires","Déguisements"]
[null,null,null,"Jouets","Jouets d'exploration et autres jouets & accessoires","Magie et accessoires"]
[null,null,null,"Jouets","Jouets d'exploration et autres jouets & accessoires","ballons de baudruches"]
[null,null,null,"Jouets","Jouets d'exploration et autres jouets & accessoires","Cartes à collectionner"]
[]
[]
[]
[null,"Jouets de plein air"]
[]
[null,"209",null,"Jouets porteurs à pédales & accessoires"]
[]
[null,null,null,"Rayon","Catégorie","Exemples de produits (non-exhaustif)"]
[null,null,null,{"$f":"$B$644","v":"Jouets de plein air"},{"$f":"$D$646","v":"Jouets porteurs à pédales & accessoires"},"bicyclette jouet"]
[null,null,null,{"$f":"$B$644","v":"Jouets de plein air"},{"$f":"$D$646","v":"Jouets porteurs à pédales & accessoires"},"Tricycles"]
[null,null,null,{"$f":"$B$644","v":"Jouets de plein air"},{"$f":"$D$646","v":"Jouets porteurs à pédales & accessoires"},"Vélos"]
[null,null,null,{"$f":"$B$644","v":"Jouets de plein air"},{"$f":"$D$646","v":"Jouets porteurs à pédales & accessoires"},"Karts à pédales"]
[null,null,null,{"$f":"$B$644","v":"Jouets de plein air"},{"$f":"$D$646","v":"Jouets porteurs à pédales & accessoires"},"Tracteurs à pédales"]
[]
[]
[null,"210",null,"Jouets porteurs sans pédales & accessoires"]
[]
[null,null,null,"Rayon","Catégorie","Exemples de produits (non-exhaustif)"]
[null,null,null,{"$f":"$B$644","v":"Jouets de plein air"},{"$f":"$D$656","v":"Jouets porteurs sans pédales & accessoires"},"Porteurs & Jouets à bascules"]
[null,null,null,"Jouets de plein air","Jouets porteurs sans pédales & accessoires","Porteurs sans pédales (hors draisiennes)"]
[null,null,null,"Jouets de plein air","Jouets porteurs sans pédales & accessoires","Draisiennes"]
[null,null,null,"Jouets de plein air","Jouets porteurs sans pédales & accessoires","Echasse sauteuse jouet"]
[null,null,null,"Jouets de plein air","Jouets porteurs sans pédales & accessoires","Patins à roulette, Patins à roulette en ligne, skateboard  jouet"]
[null,null,null,"Jouets de plein air","Jouets porteurs sans pédales & accessoires","Skates Rollers et Patins"]
[null,null,null,"Jouets de plein air","Jouets porteurs sans pédales & accessoires","Trottinettes"]
[]
[]
[null,"211",null,"Jouets sportifs & accessoires"]
[]
[null,null,null,"Rayon","Catégorie","Exemples de produits (non-exhaustif)"]
[null,null,null,{"$f":"$B$644","v":"Jouets de plein air"},{"$f":"$D$668","v":"Jouets sportifs & accessoires"},"Jeux de sports d'hivers (luge, pelle à neige …)"]
[null,null,null,"Jouets de plein air","Jouets sportifs & accessoires","Baby-foot"]
[null,null,null,"Jouets de plein air","Jouets sportifs & accessoires","Billards"]
[null,null,null,"Jouets de plein air","Jouets sportifs & accessoires","Cages et ballons de foot"]
[null,null,null,"Jouets de plein air","Jouets sportifs & accessoires","Luges et bobs"]
[null,null,null,"Jouets de plein air","Jouets sportifs & accessoires","Trampolines"]
[null,null,null,"Jouets de plein air","Jouets sportifs & accessoires","Ballons sauteurs"]
[null,null,null,"Jouets de plein air","Jouets sportifs & accessoires","Nerf et jeux de tirs"]
[null,null,null,"Jouets de plein air","Jouets sportifs & accessoires","Paniers et ballons de basket"]
[null,null,null,"Jouets de plein air","Jouets sportifs & accessoires","Jeux d'adresse"]
[]
[]
[null,"212",null,"Jouet d'été & accessoires"]
[]
[null,null,null,"Rayon","Catégorie","Exemples de produits (non-exhaustif)"]
[null,null,null,{"$f":"$B$644","v":"Jouets de plein air"},{"$f":"$D$683","v":"Jouet d'été & accessoires"},"Jeux de bulles"]
[null,null,null,"Jouets de plein air","Jouet d'été & accessoires","Jeux d'eau et de plage"]
[null,null,null,"Jouets de plein air","Jouet d'été & accessoires","Pistolets à eau"]
[null,null,null,"Jouets de plein air","Jouet d'été & accessoires","Bacs à sable"]
[null,null,null,"Jouets de plein air","Jouet d'été & accessoires","Bouées jeux gonflables et piscines"]
[null,null,null,"Jouets de plein air","Jouet d'été & accessoires","Jeux de plage"]
[]
[]
[null,"213",null,"Jouets d'activité à usage famillial"]
[]
[null,null,null,"Rayon","Catégorie","Exemples de produits (non-exhaustif)"]
[null,null,null,{"$f":"$B$644","v":"Jouets de plein air"},{"$f":"$D$694","v":"Jouets d'activité à usage famillial"},"Trébuchets et jouets à bascule"]
[null,null,null,"Jouets de plein air","Jouets d'activité à usage famillial","Equipements de terrains de jeu"]
[null,null,null,"Jouets de plein air","Jouets d'activité à usage famillial","Aires de jeux"]
[null,null,null,"Jouets de plein air","Jouets d'activité à usage famillial","Balançoires et portiques"]
[null,null,null,"Jouets de plein air","Jouets d'activité à usage famillial","Cabanes et maisonnettes"]
[null,null,null,"Jouets de plein air","Jouets d'activité à usage famillial","Châteaux gonflables"]
[null,null,null,"Jouets de plein air","Jouets d'activité à usage famillial","Jeux de récréation"]
[null,null,null,"Jouets de plein air","Jouets d'activité à usage famillial","Toboggans"]
[]
[]
[]
[null,"Jeux de société"]
[]
[null,"214",null,"Jeux de société tous publics"]
[]
[null,null,null,"Rayon","Catégorie","Exemples de produits (non-exhaustif)"]
[null,null,null,{"$f":"$B$708","v":"Jeux de société"},{"$f":"$D$710","v":"Jeux de société tous publics"},"Jeux d'ambiance"]
[null,null,null,"Jeux de société","Jeux de société tous publics","Jeux de cartes"]
[null,null,null,"Jeux de société","Jeux de société tous publics","Jeux de plateau"]
[null,null,null,"Jeux de société","Jeux de société tous publics","Jeux de réflexion"]
[null,null,null,"Jeux de société","Jeux de société tous publics","Jeux de société enfant"]
[null,null,null,"Jeux de société","Jeux de société tous publics","Jeux de stratégie"]
[null,null,null,"Jeux de société","Jeux de société tous publics","Jeux de voyage"]
[null,null,null,"Jeux de société","Jeux de société tous publics","Jeux de dé"]
[]
[]
[null,"215",null,"Jeux de société adultes"]
[]
[null,null,null,"Rayon","Catégorie","Exemples de produits (non-exhaustif)"]
[null,null,null,{"$f":"$B$708","v":"Jeux de société"},{"$f":"$D$723","v":"Jeux de société adultes"},"Jeux d'ambiance"]
[null,null,null,"Jeux de société","Jeux de société adultes","Jeux de cartes pour adulte"]
[null,null,null,"Jeux de société","Jeux de société adultes","Jeux de plateau"]
[null,null,null,"Jeux de société","Jeux de société adultes","Jeux de réflexion"]
[null,null,null,"Jeux de société","Jeux de société adultes","Jeux de société Adultes"]
[null,null,null,"Jeux de société","Jeux de société adultes","Jeux de stratégie"]
[null,null,null,"Jeux de société","Jeux de société adultes","Jeux de voyage"]
[null,null,null,"Jeux de société","Jeux de société adultes","Jeux de dé pour adulte"]
[]
[]
[null,"216",null,"Puzzles enfants"]
[]
[null,null,null,"Rayon","Catégorie","Exemples de produits (non-exhaustif)"]
[null,null,null,{"$f":"$B$708","v":"Jeux de société"},{"$f":"$D$736","v":"Puzzles enfants"},"Puzzle bébé / enfant"]
[null,null,null,{"$f":"$B$708","v":"Jeux de société"},{"$f":"$D$736","v":"Puzzles enfants"},"Puzzles enfants jusqu'à 500 pièces"]
[]
[]
[null,"217",null,"Puzzles de grand format"]
[]
[null,null,null,"Rayon","Catégorie","Exemples de produits (non-exhaustif)"]
[null,null,null,{"$f":"$B$708","v":"Jeux de société"},{"$f":"$D$743","v":"Puzzles de grand format"},"puzzle adulte"]
[null,null,null,{"$f":"$B$708","v":"Jeux de société"},{"$f":"$D$743","v":"Puzzles de grand format"},"puzzle plus de 500 pièces"]
[]
[]
[null,"218",null,"Maquettes enfants"]
[]
[null,null,null,"Rayon","Catégorie","Exemples de produits (non-exhaustif)"]
[null,null,null,{"$f":"$B$708","v":"Jeux de société"},{"$f":"$D$750","v":"Maquettes enfants"},"Maquette à peindre enfant"]
[null,null,null,{"$f":"$B$708","v":"Jeux de société"},{"$f":"$D$750","v":"Maquettes enfants"},"Maquette avion"]
[null,null,null,{"$f":"$B$708","v":"Jeux de société"},{"$f":"$D$750","v":"Maquettes enfants"},"Maquette bateau"]
[null,null,null,{"$f":"$B$708","v":"Jeux de société"},{"$f":"$D$750","v":"Maquettes enfants"},"Maquette univers enfant"]
[]
[]
[null,"219",null,"Maquettes adultes"]
[]
[null,null,null,"Rayon","Catégorie","Exemples de produits (non-exhaustif)"]
[null,null,null,{"$f":"$B$708","v":"Jeux de société"},{"$f":"$D$759","v":"Maquettes adultes"},"Maquette à peindre adultes"]
[null,null,null,{"$f":"$B$708","v":"Jeux de société"},{"$f":"$D$759","v":"Maquettes adultes"},"Maquette avion adulte"]
[null,null,null,{"$f":"$B$708","v":"Jeux de société"},{"$f":"$D$759","v":"Maquettes adultes"},"Maquette bateau adulte"]
[null,null,null,{"$f":"$B$708","v":"Jeux de société"},{"$f":"$D$759","v":"Maquettes adultes"},"Maquette monument adulte"]
[]
[]
[]
[null,"Jouets cadeaux"]
[]
[null,"220",null,"Jouets cadeaux"]
[]
[null,null,null,"Rayon","Catégorie","Exemples de produits (non-exhaustif)"]
[null,null,null,{"$f":"$B$769","v":"Jouets cadeaux"},{"$f":"$D$771","v":"Jouets cadeaux"},"Calendriers de l'Avent"]
[null,null,null,{"$f":"$B$769","v":"Jouets cadeaux"},{"$f":"$D$771","v":"Jouets cadeaux"},"Porte-clés"]
[null,null,null,{"$f":"$B$769","v":"Jouets cadeaux"},{"$f":"$D$771","v":"Jouets cadeaux"},"Jouets offert dans un menu de restaurant"]
[null,null,null,{"$f":"$B$769","v":"Jouets cadeaux"},{"$f":"$D$771","v":"Jouets cadeaux"},"Jouets offert dans un magazine"]
[null,null,null,{"$f":"$B$769","v":"Jouets cadeaux"},{"$f":"$D$771","v":"Jouets cadeaux"},"Jouets offert à titre gratuit"]
[]
[]
[]
[null,"ARTICLES DE BRICOLAGE ET DE JARDIN - ABJ",null,null,null,"POUR INFORMATION - AGREMENT EN COURS (fin 2027)"]
[]
[null,"Articles de bricolage"]
[]
[null,100,null,"Outillage à main et leurs accessoires"]
[]
[null,null,null,"Rayon","Catégorie","Exemples de produits (non-exhaustif)"]
[null,null,null,{"$f":"$B$784","v":"Articles de bricolage"},{"$f":"$D$786","v":"Outillage à main et leurs accessoires"},"abrasifs"]
[null,null,null,"Articles de bricolage","Outillage à main et leurs accessoires","abrasifs en feuilles"]
[null,null,null,"Articles de bricolage","Outillage à main et leurs accessoires","abrasifs en rouleaux"]
[null,null,null,"Articles de bricolage","Outillage à main et leurs accessoires","agrafeuse"]
[null,null,null,"Articles de bricolage","Outillage à main et leurs accessoires","arrache-liteaux"]
[null,null,null,"Articles de bricolage","Outillage à main et leurs accessoires","barre à creuser"]
[null,null,null,"Articles de bricolage","Outillage à main et leurs accessoires","barre à mine"]
[null,null,null,"Articles de bricolage","Outillage à main et leurs accessoires","bédane"]
[null,null,null,"Articles de bricolage","Outillage à main et leurs accessoires","bande de ponçage"]
[null,null,null,"Articles de bricolage","Outillage à main et leurs accessoires","boites et scies a onglets"]
[null,null,null,"Articles de bricolage","Outillage à main et leurs accessoires","burin"]
[null,null,null,"Articles de bricolage","Outillage à main et leurs accessoires","cale de ponçage"]
[null,null,null,"Articles de bricolage","Outillage à main et leurs accessoires","chevillette"]
[null,null,null,"Articles de bricolage","Outillage à main et leurs accessoires","ciseaux"]
[null,null,null,"Articles de bricolage","Outillage à main et leurs accessoires","ciseaux à bois"]
[null,null,null,"Articles de bricolage","Outillage à main et leurs accessoires","ciseaux à brique"]
[null,null,null,"Articles de bricolage","Outillage à main et leurs accessoires","clé à molette"]
[null,null,null,"Articles de bricolage","Outillage à main et leurs accessoires","clé à pipe"]
[null,null,null,"Articles de bricolage","Outillage à main et leurs accessoires","éponge abrasive"]
[null,null,null,"Articles de bricolage","Outillage à main et leurs accessoires","clé diverses"]
[null,null,null,"Articles de bricolage","Outillage à main et leurs accessoires","clé dynamométrique"]
[null,null,null,"Articles de bricolage","Outillage à main et leurs accessoires","clé mixte"]
[null,null,null,"Articles de bricolage","Outillage à main et leurs accessoires","clés"]
[null,null,null,"Articles de bricolage","Outillage à main et leurs accessoires","cliquets"]
[null,null,null,"Articles de bricolage","Outillage à main et leurs accessoires","coupe tube"]
[null,null,null,"Articles de bricolage","Outillage à main et leurs accessoires","couteau à enduire"]
[null,null,null,"Articles de bricolage","Outillage à main et leurs accessoires","couteau, couteau de poche"]
[null,null,null,"Articles de bricolage","Outillage à main et leurs accessoires","cutter"]
[null,null,null,"Articles de bricolage","Outillage à main et leurs accessoires","douilles"]
[null,null,null,"Articles de bricolage","Outillage à main et leurs accessoires","embouts de vissage"]
[null,null,null,"Articles de bricolage","Outillage à main et leurs accessoires","emporte pieces"]
[null,null,null,"Articles de bricolage","Outillage à main et leurs accessoires","épuisette de fond"]
[null,null,null,"Articles de bricolage",{"$f":"$D$786","v":"Outillage à main et leurs accessoires"},"equerre (outil)"]
[null,null,null,"Articles de bricolage","Outillage à main et leurs accessoires","etais"]
[null,null,null,"Articles de bricolage","Outillage à main et leurs accessoires","etancheur"]
[null,null,null,"Articles de bricolage","Outillage à main et leurs accessoires","fil à plomb"]
[null,null,null,"Articles de bricolage","Outillage à main et leurs accessoires","grattoirs"]
[null,null,null,"Articles de bricolage","Outillage à main et leurs accessoires","grattoirs à béton"]
[null,null,null,"Articles de bricolage","Outillage à main et leurs accessoires","griffe à cintrer"]
[null,null,null,"Articles de bricolage","Outillage à main et leurs accessoires","griffe de zingueur"]
[null,null,null,"Articles de bricolage","Outillage à main et leurs accessoires","griffes"]
[null,null,null,"Articles de bricolage","Outillage à main et leurs accessoires","lame"]
[null,null,null,"Articles de bricolage","Outillage à main et leurs accessoires","lame de scie"]
[null,null,null,"Articles de bricolage","Outillage à main et leurs accessoires","lime"]
[null,null,null,"Articles de bricolage","Outillage à main et leurs accessoires","limes de précision"]
[null,null,null,"Articles de bricolage","Outillage à main et leurs accessoires","lisseur de joints"]
[null,null,null,"Articles de bricolage","Outillage à main et leurs accessoires","maillet"]
[null,null,null,"Articles de bricolage","Outillage à main et leurs accessoires","marteau"]
[null,null,null,"Articles de bricolage","Outillage à main et leurs accessoires","massette"]
[null,null,null,"Articles de bricolage","Outillage à main et leurs accessoires","mesure de précision"]
[null,null,null,"Articles de bricolage","Outillage à main et leurs accessoires","mètre"]
[null,null,null,"Articles de bricolage","Outillage à main et leurs accessoires","métrologie"]
[null,null,null,"Articles de bricolage","Outillage à main et leurs accessoires","niveau à bulle"]
[null,null,null,"Articles de bricolage","Outillage à main et leurs accessoires","outillage aep"]
[null,null,null,"Articles de bricolage","Outillage à main et leurs accessoires","outillage de fontainerie"]
[null,null,null,"Articles de bricolage","Outillage à main et leurs accessoires","outillage d'électricien"]
[null,null,null,"Articles de bricolage","Outillage à main et leurs accessoires","outillage du couvreur"]
[null,null,null,"Articles de bricolage","Outillage à main et leurs accessoires","outillage du maçon"]
[null,null,null,"Articles de bricolage","Outillage à main et leurs accessoires","outillage pour le travail du bois"]
[null,null,null,"Articles de bricolage","Outillage à main et leurs accessoires","outillage spécifique du plâtrier-plaquiste"]
[null,null,null,"Articles de bricolage","Outillage à main et leurs accessoires","outils de mesure et de traçage"]
[null,null,null,"Articles de bricolage","Outillage à main et leurs accessoires","outils du plombier"]
[null,null,null,"Articles de bricolage","Outillage à main et leurs accessoires","outils et accessoires du carreleur"]
[null,null,null,"Articles de bricolage","Outillage à main et leurs accessoires","outils pour travaux d'étanchéité"]
[null,null,null,{"$f":"$B$784","v":"Articles de bricolage"},{"$f":"$D$786","v":"Outillage à main et leurs accessoires"},"ouvre-caisse"]
[null,null,null,"Articles de bricolage","Outillage à main et leurs accessoires","pince à bec"]
[null,null,null,"Articles de bricolage","Outillage à main et leurs accessoires","pince à décoffrer"]
[null,null,null,"Articles de bricolage","Outillage à main et leurs accessoires","pince à sertir"]
[null,null,null,"Articles de bricolage","Outillage à main et leurs accessoires","pince coupe-boulon"]
[null,null,null,"Articles de bricolage","Outillage à main et leurs accessoires","pince de carrelleur"]
[null,null,null,"Articles de bricolage","Outillage à main et leurs accessoires","pince rivet"]
[null,null,null,"Articles de bricolage","Outillage à main et leurs accessoires","pinces"]
[null,null,null,"Articles de bricolage","Outillage à main et leurs accessoires","pioche de terrassement"]
[null,null,null,"Articles de bricolage","Outillage à main et leurs accessoires","pistolet à cartouche"]
[null,null,null,"Articles de bricolage","Outillage à main et leurs accessoires","pistolet à colle"]
[null,null,null,"Articles de bricolage","Outillage à main et leurs accessoires","pistolet à poche"]
[null,null,null,"Articles de bricolage","Outillage à main et leurs accessoires","pistolets"]
[null,null,null,"Articles de bricolage","Outillage à main et leurs accessoires","pointe à tracer"]
[null,null,null,"Articles de bricolage","Outillage à main et leurs accessoires","pointeau"]
[null,null,null,"Articles de bricolage","Outillage à main et leurs accessoires","pointerolle"]
[null,null,null,"Articles de bricolage","Outillage à main et leurs accessoires","pointes"]
[null,null,null,"Articles de bricolage","Outillage à main et leurs accessoires","presses"]
[null,null,null,"Articles de bricolage","Outillage à main et leurs accessoires","rabot"]
[null,null,null,"Articles de bricolage","Outillage à main et leurs accessoires","rape"]
[null,null,null,"Articles de bricolage","Outillage à main et leurs accessoires","règle aluminium"]
[null,null,null,"Articles de bricolage","Outillage à main et leurs accessoires","riflard"]
[null,null,null,"Articles de bricolage","Outillage à main et leurs accessoires","scie"]
[null,null,null,"Articles de bricolage","Outillage à main et leurs accessoires","scie à bois"]
[null,null,null,"Articles de bricolage","Outillage à main et leurs accessoires","scie à métaux"]
[null,null,null,"Articles de bricolage","Outillage à main et leurs accessoires","serre-joint"]
[null,null,null,"Articles de bricolage","Outillage à main et leurs accessoires","souflette"]
[null,null,null,"Articles de bricolage","Outillage à main et leurs accessoires","taloche"]
[null,null,null,"Articles de bricolage","Outillage à main et leurs accessoires","tamis"]
[null,null,null,"Articles de bricolage","Outillage à main et leurs accessoires","tenaille"]
[null,null,null,"Articles de bricolage","Outillage à main et leurs accessoires","tournevis"]
[null,null,null,"Articles de bricolage","Outillage à main et leurs accessoires","traçage et topographie"]
[null,null,null,"Articles de bricolage",{"$f":"$D$786","v":"Outillage à main et leurs accessoires"},"treteaux de sciage"]
[null,null,null,"Articles de bricolage","Outillage à main et leurs accessoires","truelle"]
[null,null,null,"Articles de bricolage","Outillage à main et leurs accessoires","trusquin"]
[null,null,null,"Articles de bricolage","Outillage à main et leurs accessoires","tyrolienne"]
[null,null,null,"Articles de bricolage","Outillage à main et leurs accessoires","couteau à asphalte"]
[null,null,null,"Articles de bricolage","Outillage à main et leurs accessoires","marteau de pavage"]
[null,null,null,"Articles de bricolage","Outillage à main et leurs accessoires","maillet de pavage"]
[null,null,null,"Articles de bricolage","Outillage à main et leurs accessoires","masses"]
[null,null,null,"Articles de bricolage","Outillage à main et leurs accessoires","massettes"]
[null,null,null,"Articles de bricolage","Outillage à main et leurs accessoires","pied de biche"]
[null,null,null,"Articles de bricolage","Outillage à main et leurs accessoires","pince monseigneur"]
[null,null,null,"Articles de bricolage","Outillage à main et leurs accessoires","pioche à bec, pioche de terrassement"]
[]
[null,101,null,"Gros objets et machines non électriques et non thermiques et leurs accessoires"]
[]
[null,null,null,"Rayon","Catégorie","Exemples de produits (non-exhaustif)"]
[null,null,null,{"$f":"$B$784","v":"Articles de bricolage"},{"$f":"$D$898","v":"Gros objets et machines non électriques et non thermiques et leurs accessoires"},"coupe carreaux manuel"]
[null,null,null,"Articles de bricolage","Gros objets et machines non électriques et non thermiques et leurs accessoires","outillage lourd de carreleur"]
[null,null,null,"Articles de bricolage","Gros objets et machines non électriques et non thermiques et leurs accessoires","outillage de serrage et découpage"]
[null,null,null,"Articles de bricolage","Gros objets et machines non électriques et non thermiques et leurs accessoires","racleur pehd"]
[null,null,null,"Articles de bricolage","Gros objets et machines non électriques et non thermiques et leurs accessoires","outils de terrassement"]
[null,null,null,"Articles de bricolage","Gros objets et machines non électriques et non thermiques et leurs accessoires","outils pneumatiques"]
[null,null,null,"Articles de bricolage","Gros objets et machines non électriques et non thermiques et leurs accessoires","lissarde à béton"]
[null,null,null,"Articles de bricolage","Gros objets et machines non électriques et non thermiques et leurs accessoires","enclumes"]
[null,null,null,"Articles de bricolage","Gros objets et machines non électriques et non thermiques et leurs accessoires","etaux"]
[null,null,null,"Articles de bricolage","Gros objets et machines non électriques et non thermiques et leurs accessoires","mire"]
[null,null,null,"Articles de bricolage","Gros objets et machines non électriques et non thermiques et leurs accessoires","nivelle pour mire"]
[null,null,null,"Articles de bricolage","Gros objets et machines non électriques et non thermiques et leurs accessoires","mesure longue"]
[null,null,null,"Articles de bricolage","Gros objets et machines non électriques et non thermiques et leurs accessoires","règle à niveau"]
[null,null,null,"Articles de bricolage","Gros objets et machines non électriques et non thermiques et leurs accessoires","extracteur"]
[null,null,null,"Articles de bricolage","Gros objets et machines non électriques et non thermiques et leurs accessoires","leviers de force"]
[null,null,null,"Articles de bricolage","Gros objets et machines non électriques et non thermiques et leurs accessoires","marteau burineur"]
[null,null,null,"Articles de bricolage","Gros objets et machines non électriques et non thermiques et leurs accessoires","outillage pour tuyauterie"]
[null,null,null,"Articles de bricolage","Gros objets et machines non électriques et non thermiques et leurs accessoires","chariot de manutention"]
[null,null,null,"Articles de bricolage","Gros objets et machines non électriques et non thermiques et leurs accessoires","boites encastrement pour appareillage et accessoires"]
[]
[]
[null,102,null,"Outils et supports de travail en hauteur"]
[]
[null,null,null,"Rayon","Catégorie","Exemples de produits (non-exhaustif)"]
[null,null,null,{"$f":"$B$784","v":"Articles de bricolage"},{"$f":"$D$922","v":"Outils et supports de travail en hauteur"},"escabeaux"]
[null,null,null,"Articles de bricolage","Outils et supports de travail en hauteur","marche pied, marchepied"]
[null,null,null,"Articles de bricolage","Outils et supports de travail en hauteur","echelle simple"]
[null,null,null,"Articles de bricolage","Outils et supports de travail en hauteur","echelle coulissante"]
[null,null,null,"Articles de bricolage","Outils et supports de travail en hauteur","echelle transformable"]
[null,null,null,"Articles de bricolage","Outils et supports de travail en hauteur","echelles"]
[null,null,null,{"$f":"$B$784","v":"Articles de bricolage"},{"$f":"$D$922","v":"Outils et supports de travail en hauteur"},"échafaudages et structures tubulaires"]
[null,null,null,{"$f":"$B$784","v":"Articles de bricolage"},{"$f":"$D$922","v":"Outils et supports de travail en hauteur"},"échelles pour chantiers"]
[null,null,null,{"$f":"$B$784","v":"Articles de bricolage"},{"$f":"$D$922","v":"Outils et supports de travail en hauteur"},"échafaudages mobiles"]
[null,null,null,"Articles de bricolage","Outils et supports de travail en hauteur","treuil"]
[null,null,null,"Articles de bricolage","Outils et supports de travail en hauteur","accessoires de levage"]
[null,null,null,"Articles de bricolage","Outils et supports de travail en hauteur","accessoires de manutention"]
[null,null,null,"Articles de bricolage","Outils et supports de travail en hauteur","anneau de levage"]
[null,null,null,"Articles de bricolage","Outils et supports de travail en hauteur","crochet de levage"]
[null,null,null,"Articles de bricolage","Outils et supports de travail en hauteur","rampes de chargement"]
[null,null,null,"Articles de bricolage","Outils et supports de travail en hauteur","tables élévatrices"]
[null,null,null,"Articles de bricolage","Outils et supports de travail en hauteur","rayonnage"]
[]
[]
[null,103,null,"Equipement personnel et accessoires de protection de bricolage"]
[]
[null,null,null,"Rayon","Catégorie","Exemples de produits (non-exhaustif)"]
[null,null,null,{"$f":"$B$784","v":"Articles de bricolage"},{"$f":"$D$944","v":"Equipement personnel et accessoires de protection de bricolage"},"masques"]
[null,null,null,"Articles de bricolage","Equipement personnel et accessoires de protection de bricolage","lunettes de protection"]
[null,null,null,"Articles de bricolage","Equipement personnel et accessoires de protection de bricolage","casques de chantier"]
[null,null,null,"Articles de bricolage","Equipement personnel et accessoires de protection de bricolage","bouchons anti-bruit"]
[null,null,null,"Articles de bricolage","Equipement personnel et accessoires de protection de bricolage","cartouches pour masques"]
[null,null,null,"Articles de bricolage","Equipement personnel et accessoires de protection de bricolage","gants de protection pour le bricolage"]
[null,null,null,"Articles de bricolage","Equipement personnel et accessoires de protection de bricolage","casque de soudeur"]
[null,null,null,"Articles de bricolage","Equipement personnel et accessoires de protection de bricolage","chaussure de protection (ISO 20346 et 20345 : SB, SBP, S1, S1P, S2 et S3)"]
[null,null,null,"Articles de bricolage","Equipement personnel et accessoires de protection de bricolage","equipement du corps (visière, genouillère, jambière…)"]
[null,null,null,"Articles de bricolage","Equipement personnel et accessoires de protection de bricolage","protection des yeux"]
[null,null,null,"Articles de bricolage","Equipement personnel et accessoires de protection de bricolage","protection auditive"]
[null,null,null,"Articles de bricolage","Equipement personnel et accessoires de protection de bricolage","protection des voies respiratoires"]
[]
[null,104,null,"Bâches, housses, filets et films de bricolage"]
[]
[null,null,null,"Rayon","Catégorie","Exemples de produits (non-exhaustif)"]
[null,null,null,{"$f":"B784","v":"Articles de bricolage"},{"$f":"$D$960","v":"Bâches, housses, filets et films de bricolage"},"bâche de bricolage"]
[]
[null,null,null,null,null,null,null,null,{"$f":"TRIM((LOWER(F965)))","v":""}]
[null,null,null," ",null,null,null,null,{"$f":"TRIM((LOWER(F966)))","v":""}]
[null,null,null,null,null,null,null,null,{"$f":"TRIM((LOWER(F967)))","v":""}]
[null,"Entretien et aménagement du jardin",null,null,null,null,null,null,{"$f":"TRIM((LOWER(F968)))","v":""}]
[null,null,null,null,null,null,null,null,{"$f":"TRIM((LOWER(F969)))","v":""}]
[null,150,null,"Outils à main d’entretien du jardin et petits accessoires",null,null,null,null,""]
[]
[null,null,null,"Rayon","Catégorie","Exemples de produits (non-exhaustif)"]
[null,null,null,{"$f":"$B$968","v":"Entretien et aménagement du jardin"},{"$f":"$D$970","v":"Outils à main d’entretien du jardin et petits accessoires"},"accessoires de culture"]
[null,null,null,"Entretien et aménagement du jardin","Outils à main d’entretien du jardin et petits accessoires","agraphes de grillages"]
[null,null,null,"Entretien et aménagement du jardin","Outils à main d’entretien du jardin et petits accessoires","arrosage goutte à goutte"]
[null,null,null,"Entretien et aménagement du jardin","Outils à main d’entretien du jardin et petits accessoires","arroseur"]
[null,null,null,"Entretien et aménagement du jardin","Outils à main d’entretien du jardin et petits accessoires","arrosoir"]
[null,null,null,"Entretien et aménagement du jardin","Outils à main d’entretien du jardin et petits accessoires","autres grands outils de jardin"]
[null,null,null,"Entretien et aménagement du jardin","Outils à main d’entretien du jardin et petits accessoires","balai à gazon"]
[null,null,null,"Entretien et aménagement du jardin","Outils à main d’entretien du jardin et petits accessoires","bêche"]
[null,null,null,"Entretien et aménagement du jardin","Outils à main d’entretien du jardin et petits accessoires","bisaigue"]
[null,null,null,"Entretien et aménagement du jardin","Outils à main d’entretien du jardin et petits accessoires","broche"]
[null,null,null,"Entretien et aménagement du jardin","Outils à main d’entretien du jardin et petits accessoires","brosse"]
[null,null,null,"Entretien et aménagement du jardin","Outils à main d’entretien du jardin et petits accessoires","brouette"]
[null,null,null,"Entretien et aménagement du jardin","Outils à main d’entretien du jardin et petits accessoires","bucheronnage"]
[null,null,null,"Entretien et aménagement du jardin","Outils à main d’entretien du jardin et petits accessoires","buse"]
[null,null,null,"Entretien et aménagement du jardin","Outils à main d’entretien du jardin et petits accessoires","cisaille"]
[null,null,null,"Entretien et aménagement du jardin","Outils à main d’entretien du jardin et petits accessoires","cognée"]
[null,null,null,"Entretien et aménagement du jardin","Outils à main d’entretien du jardin et petits accessoires","coin éclateur"]
[null,null,null,"Entretien et aménagement du jardin","Outils à main d’entretien du jardin et petits accessoires","composteur"]
[null,null,null,"Entretien et aménagement du jardin","Outils à main d’entretien du jardin et petits accessoires","coupe branche"]
[null,null,null,"Entretien et aménagement du jardin","Outils à main d’entretien du jardin et petits accessoires","coupe-bordure"]
[null,null,null,"Entretien et aménagement du jardin","Outils à main d’entretien du jardin et petits accessoires","cueille fruits"]
[null,null,null,"Entretien et aménagement du jardin","Outils à main d’entretien du jardin et petits accessoires","devidoir, enrouleur"]
[null,null,null,"Entretien et aménagement du jardin","Outils à main d’entretien du jardin et petits accessoires","divers arrosage et pulvérisation"]
[null,null,null,"Entretien et aménagement du jardin","Outils à main d’entretien du jardin et petits accessoires","enrouleurs de tuyau d'arrosage"]
[null,null,null,"Entretien et aménagement du jardin","Outils à main d’entretien du jardin et petits accessoires","epuisette"]
[null,null,null,"Entretien et aménagement du jardin","Outils à main d’entretien du jardin et petits accessoires","équipements d’entretien du jardin"]
[null,null,null,"Entretien et aménagement du jardin","Outils à main d’entretien du jardin et petits accessoires","faucheuse - débroussailleuse"]
[null,null,null,"Entretien et aménagement du jardin","Outils à main d’entretien du jardin et petits accessoires","faux / faucille"]
[null,null,null,"Entretien et aménagement du jardin","Outils à main d’entretien du jardin et petits accessoires","fendeur de bûche"]
[null,null,null,"Entretien et aménagement du jardin","Outils à main d’entretien du jardin et petits accessoires","fourche"]
[null,null,null,"Entretien et aménagement du jardin","Outils à main d’entretien du jardin et petits accessoires","goutteur"]
[null,null,null,"Entretien et aménagement du jardin","Outils à main d’entretien du jardin et petits accessoires","griffe"]
[null,null,null,"Entretien et aménagement du jardin","Outils à main d’entretien du jardin et petits accessoires","hâche"]
[null,null,null,"Entretien et aménagement du jardin","Outils à main d’entretien du jardin et petits accessoires","hache, hachette"]
[null,null,null,"Entretien et aménagement du jardin","Outils à main d’entretien du jardin et petits accessoires","hâchette"]
[null,null,null,"Entretien et aménagement du jardin","Outils à main d’entretien du jardin et petits accessoires","hachette universelle"]
[null,null,null,"Entretien et aménagement du jardin","Outils à main d’entretien du jardin et petits accessoires","lame de sécateur"]
[null,null,null,"Entretien et aménagement du jardin","Outils à main d’entretien du jardin et petits accessoires","manches"]
[null,null,null,"Entretien et aménagement du jardin","Outils à main d’entretien du jardin et petits accessoires","merlin de bûcheron"]
[null,null,null,"Entretien et aménagement du jardin","Outils à main d’entretien du jardin et petits accessoires","panier de plantation"]
[null,null,null,"Entretien et aménagement du jardin","Outils à main d’entretien du jardin et petits accessoires","pelle, pelle à neige"]
[null,null,null,"Entretien et aménagement du jardin","Outils à main d’entretien du jardin et petits accessoires","petit outil de jardin"]
[null,null,null,"Entretien et aménagement du jardin","Outils à main d’entretien du jardin et petits accessoires","pioche"]
[null,null,null,"Entretien et aménagement du jardin","Outils à main d’entretien du jardin et petits accessoires","pistolet"]
[null,null,null,"Entretien et aménagement du jardin","Outils à main d’entretien du jardin et petits accessoires","pistolets d'arrosage"]
[null,null,null,"Entretien et aménagement du jardin","Outils à main d’entretien du jardin et petits accessoires","pluviomètre"]
[null,null,null,"Entretien et aménagement du jardin","Outils à main d’entretien du jardin et petits accessoires","pompe et accessoires"]
[null,null,null,"Entretien et aménagement du jardin","Outils à main d’entretien du jardin et petits accessoires","pulvérisateur"]
[null,null,null,"Entretien et aménagement du jardin","Outils à main d’entretien du jardin et petits accessoires","rateau"]
[null,null,null,"Entretien et aménagement du jardin","Outils à main d’entretien du jardin et petits accessoires","ruche / hotel à insectes"]
[null,null,null,"Entretien et aménagement du jardin","Outils à main d’entretien du jardin et petits accessoires","sacs à déchets de jardin"]
[null,null,null,"Entretien et aménagement du jardin","Outils à main d’entretien du jardin et petits accessoires","scie à bûche"]
[null,null,null,"Entretien et aménagement du jardin","Outils à main d’entretien du jardin et petits accessoires","scie arboricole"]
[null,null,null,"Entretien et aménagement du jardin","Outils à main d’entretien du jardin et petits accessoires","scie de jardin"]
[null,null,null,"Entretien et aménagement du jardin","Outils à main d’entretien du jardin et petits accessoires","scie pour coupe-branches"]
[null,null,null,"Entretien et aménagement du jardin","Outils à main d’entretien du jardin et petits accessoires","sécateur"]
[null,null,null,"Entretien et aménagement du jardin","Outils à main d’entretien du jardin et petits accessoires","serfouette"]
[null,null,null,"Entretien et aménagement du jardin","Outils à main d’entretien du jardin et petits accessoires","taillanderie"]
[null,null,null,"Entretien et aménagement du jardin","Outils à main d’entretien du jardin et petits accessoires","taille-haie"]
[null,null,null,"Entretien et aménagement du jardin","Outils à main d’entretien du jardin et petits accessoires","thermomètre"]
[null,null,null,"Entretien et aménagement du jardin","Outils à main d’entretien du jardin et petits accessoires","transplantoir"]
[null,null,null,"Entretien et aménagement du jardin","Outils à main d’entretien du jardin et petits accessoires","tuyaux, tuyau d'arrosage"]
[]
[]
[null,151,null,"Equipement personnel et accessoires de protection de jardinage"]
[]
[null,null,null,"Rayon","Catégorie","Exemples de produits (non-exhaustif)"]
[null,null,null,{"$f":"$B$968","v":"Entretien et aménagement du jardin"},{"$f":"$D$1037","v":"Equipement personnel et accessoires de protection de jardinage"},"combinaison de protection (phytosanitaire…)"]
[null,null,null,{"$f":"$B$968","v":"Entretien et aménagement du jardin"},{"$f":"$D$1037","v":"Equipement personnel et accessoires de protection de jardinage"},"gants de jardinage"]
[]
[null,152,null,"Pots de fleur et contenants"]
[]
[null,null,null,"Rayon","Catégorie","Exemples de produits (non-exhaustif)"]
[null,null,null,{"$f":"$B$968","v":"Entretien et aménagement du jardin"},{"$f":"$D$1043","v":"Pots de fleur et contenants"},"auge"]
[null,null,null,"Entretien et aménagement du jardin","Pots de fleur et contenants","bacs"]
[null,null,null,"Entretien et aménagement du jardin","Pots de fleur et contenants","balconnière"]
[null,null,null,"Entretien et aménagement du jardin","Pots de fleur et contenants","bassin"]
[null,null,null,"Entretien et aménagement du jardin","Pots de fleur et contenants","citernes"]
[null,null,null,"Entretien et aménagement du jardin","Pots de fleur et contenants","contenants"]
[null,null,null,"Entretien et aménagement du jardin","Pots de fleur et contenants","fûts"]
[null,null,null,"Entretien et aménagement du jardin","Pots de fleur et contenants","jardinière"]
[null,null,null,{"$f":"$B$968","v":"Entretien et aménagement du jardin"},{"$f":"$D$1043","v":"Pots de fleur et contenants"},"seau"]
[null,null,null,"Entretien et aménagement du jardin","Pots de fleur et contenants","poterie"]
[null,null,null,"Entretien et aménagement du jardin","Pots de fleur et contenants","pots de fleurs"]
[null,null,null,"Entretien et aménagement du jardin","Pots de fleur et contenants","récupérateur d'eau"]
[null,null,null,"Entretien et aménagement du jardin","Pots de fleur et contenants","bac à fleur"]
[null,null,null,"Entretien et aménagement du jardin","Pots de fleur et contenants","réservoirs externes"]
[null,null,null,"Entretien et aménagement du jardin","Pots de fleur et contenants","soucoupe de jardinières"]
[null,null,null,"Entretien et aménagement du jardin","Pots de fleur et contenants","vase de jardin"]
[]
[]
[null,153,null,"Bâches, housses, filets et films de jardinage"]
[]
[null,null,null,"Rayon","Catégorie","Exemples de produits (non-exhaustif)"]
[null,null,null,{"$f":"$B$968","v":"Entretien et aménagement du jardin"},{"$f":"$D$1064","v":"Bâches, housses, filets et films de jardinage"},"film agricole"]
[null,null,null,"Entretien et aménagement du jardin","Bâches, housses, filets et films de jardinage","film géotextile (hors autres films)"]
[null,null,null,"Entretien et aménagement du jardin","Bâches, housses, filets et films de jardinage","filet, filets de protection des cultures"]
[null,null,null,"Entretien et aménagement du jardin","Bâches, housses, filets et films de jardinage","bâche"]
[null,null,null,"Entretien et aménagement du jardin","Bâches, housses, filets et films de jardinage","toile de paillage"]
[null,null,null,"Entretien et aménagement du jardin","Bâches, housses, filets et films de jardinage","couverture à bulle"]
[null,null,null,"Entretien et aménagement du jardin","Bâches, housses, filets et films de jardinage","bâche de protection"]
[null,null,null,"Entretien et aménagement du jardin","Bâches, housses, filets et films de jardinage","couverture de sécurité piscine"]
[null,null,null,"Entretien et aménagement du jardin","Bâches, housses, filets et films de jardinage","housse bbq"]
[null,null,null,"Entretien et aménagement du jardin","Bâches, housses, filets et films de jardinage","housse parasol"]
[null,null,null,"Entretien et aménagement du jardin","Bâches, housses, filets et films de jardinage","film de serre, housse serre"]
[]
[null,154,null,"Equipements de plein air et leurs accessoires (hors bâches, filets, housses)"]
[]
[null,null,null,"Rayon","Catégorie","Exemples de produits (non-exhaustif)"]
[null,null,null,{"$f":"$B$968","v":"Entretien et aménagement du jardin"},{"$f":"$D$1079","v":"Equipements de plein air et leurs accessoires (hors bâches, filets, housses)"},"accessoires de barbecue (bbq) : coffret, tuyau …"]
[null,null,null,"Entretien et aménagement du jardin","Equipements de plein air et leurs accessoires (hors bâches, filets, housses)","barbecue (feu de bois)"]
[null,null,null,"Entretien et aménagement du jardin","Equipements de plein air et leurs accessoires (hors bâches, filets, housses)","barbecue (gaz)"]
[null,null,null,"Entretien et aménagement du jardin","Equipements de plein air et leurs accessoires (hors bâches, filets, housses)","barbecue fumoir"]
[null,null,null,"Entretien et aménagement du jardin","Equipements de plein air et leurs accessoires (hors bâches, filets, housses)","échelle de piscine amovible"]
[null,null,null,"Entretien et aménagement du jardin","Equipements de plein air et leurs accessoires (hors bâches, filets, housses)","eléments de cuisine extérieure"]
[null,null,null,"Entretien et aménagement du jardin","Equipements de plein air et leurs accessoires (hors bâches, filets, housses)","enrouleur de bâche"]
[null,null,null,"Entretien et aménagement du jardin","Equipements de plein air et leurs accessoires (hors bâches, filets, housses)","nichoir"]
[null,null,null,"Entretien et aménagement du jardin","Equipements de plein air et leurs accessoires (hors bâches, filets, housses)","niche"]
[null,null,null,"Entretien et aménagement du jardin","Equipements de plein air et leurs accessoires (hors bâches, filets, housses)","parasol"]
[null,null,null,"Entretien et aménagement du jardin","Equipements de plein air et leurs accessoires (hors bâches, filets, housses)","four à bois de jardin"]
[null,null,null,"Entretien et aménagement du jardin","Equipements de plein air et leurs accessoires (hors bâches, filets, housses)","poulailler"]
[null,null,null,"Entretien et aménagement du jardin","Equipements de plein air et leurs accessoires (hors bâches, filets, housses)","parasol chauffant (gaz)"]
[null,null,null,"Entretien et aménagement du jardin","Equipements de plein air et leurs accessoires (hors bâches, filets, housses)","pied de parasol, dalle"]
[null,null,null,"Entretien et aménagement du jardin","Equipements de plein air et leurs accessoires (hors bâches, filets, housses)","plancha (gaz)"]
[null,null,null,"Entretien et aménagement du jardin","Equipements de plein air et leurs accessoires (hors bâches, filets, housses)","table de culture"]
[null,null,null,"Entretien et aménagement du jardin","Equipements de plein air et leurs accessoires (hors bâches, filets, housses)","tuteur"]
[null,null,null,{"$f":"$B$968","v":"Entretien et aménagement du jardin"},"Equipements de plein air et leurs accessoires (hors bâches, filets, housses)","gazon artificiel ménager"]
[]
[null,155,null,"Structures extérieures non-maçonnées"]
[]
[null,null,null,"Rayon","Catégorie","Exemples de produits (non-exhaustif)"]
[null,null,null,{"$f":"$B$968","v":"Entretien et aménagement du jardin"},{"$f":"$D$1101","v":"Structures extérieures non-maçonnées"},"abris à bûches"]
[null,null,null,"Entretien et aménagement du jardin","Structures extérieures non-maçonnées","abris d'armoire"]
[null,null,null,"Entretien et aménagement du jardin","Structures extérieures non-maçonnées","abris de jardin (<5m²)"]
[null,null,null,"Entretien et aménagement du jardin","Structures extérieures non-maçonnées","abris non maçonnés"]
[null,null,null,"Entretien et aménagement du jardin","Structures extérieures non-maçonnées","abris pour poubelles"]
[null,null,null,"Entretien et aménagement du jardin","Structures extérieures non-maçonnées","abris pour robot tondeuse"]
[null,null,null,"Entretien et aménagement du jardin","Structures extérieures non-maçonnées","appentis"]
[null,null,null,"Entretien et aménagement du jardin","Structures extérieures non-maçonnées","arche"]
[null,null,null,"Entretien et aménagement du jardin","Structures extérieures non-maçonnées","bordures"]
[null,null,null,"Entretien et aménagement du jardin","Structures extérieures non-maçonnées","cache poubelles"]
[null,null,null,"Entretien et aménagement du jardin","Structures extérieures non-maçonnées","carport non maçonné"]
[null,null,null,"Entretien et aménagement du jardin","Structures extérieures non-maçonnées","carré potager"]
[null,null,null,"Entretien et aménagement du jardin","Structures extérieures non-maçonnées","chalets non maçonnés"]
[null,null,null,"Entretien et aménagement du jardin","Structures extérieures non-maçonnées","garage non maçonné"]
[null,null,null,"Entretien et aménagement du jardin","Structures extérieures non-maçonnées","gloriette non maçonnée"]
[null,null,null,"Entretien et aménagement du jardin","Structures extérieures non-maçonnées","kiosque non maçonné"]
[null,null,null,"Entretien et aménagement du jardin","Structures extérieures non-maçonnées","niches"]
[null,null,null,"Entretien et aménagement du jardin","Structures extérieures non-maçonnées","pergola non maçonnée"]
[null,null,null,"Entretien et aménagement du jardin","Structures extérieures non-maçonnées","potager urbain"]
[null,null,null,"Entretien et aménagement du jardin","Structures extérieures non-maçonnées","serre de jardin"]
[null,null,null,"Entretien et aménagement du jardin","Structures extérieures non-maçonnées","tonnelle"]
[null,null,null,"Entretien et aménagement du jardin","Structures extérieures non-maçonnées","treillis"]
[]
[null,null,null,null,null,null,null,null,{"$f":"TRIM((LOWER(F1127)))","v":""}]
[]
[]
[null,"PRODUITS ET MATERIAUX DE CONSTRUCTION DU BATIMENT - PMCB",null,null,null,"POUR INFORMATION - AGREMENT EN COURS (fin 2027)",null,null,{"$f":"TRIM((LOWER(F1130)))","v":"pour information - agrement en cours (fin 2027)"}]
[null,null,null,null,null,null,null,null,{"$f":"TRIM((LOWER(F1131)))","v":""}]
[null,"Matériaux primaires de construction",null,null,null,null,null,null,{"$f":"TRIM((LOWER(F1132)))","v":""}]
[null,null,null,null,null,null,null,null,""]
[null,300,null,"Granulats",null,null,null,null,""]
[]
[null,null,null,"Rayon","Catégorie","Exemples de produits (non-exhaustif)"]
[null,null,null,{"$f":"$B$1132","v":"Matériaux primaires de construction"},{"$f":"$D$1134","v":"Granulats"},"argile expansée"]
[null,null,null,"Matériaux primaires de construction","Granulats","granulat de drainage"]
[null,null,null,"Matériaux primaires de construction","Granulats","granulat de remplissage pour vrd"]
[null,null,null,"Matériaux primaires de construction","Granulats","granulat d'étanchéité pour toiture terrasse"]
[null,null,null,"Matériaux primaires de construction","Granulats","granulats filtrants"]
[null,null,null,{"$f":"$B$1132","v":"Matériaux primaires de construction"},{"$f":"$D$1134","v":"Granulats"},"agrégat"]
[null,null,null,"Matériaux primaires de construction","Granulats","granulats hérissons"]
[null,null,null,"Matériaux primaires de construction","Granulats","granulats mélange à béton"]
[null,null,null,"Matériaux primaires de construction","Granulats","granulats pour la piscine"]
[null,null,null,"Matériaux primaires de construction","Granulats","granulats pour toitures végétalisées"]
[null,null,null,"Matériaux primaires de construction","Granulats","gravier"]
[null,null,null,"Matériaux primaires de construction","Granulats","gravillons à béton"]
[null,null,null,"Matériaux primaires de construction","Granulats","gravillons calcaires et brèche"]
[null,null,null,{"$f":"$B$1132","v":"Matériaux primaires de construction"},{"$f":"$D$1134","v":"Granulats"},"granulat recyclé"]
[null,null,null,"Matériaux primaires de construction","Granulats","matériaux broyés, concassés et micronisés"]
[null,null,null,"Matériaux primaires de construction","Granulats","matériaux inertes mélangés"]
[null,null,null,"Matériaux primaires de construction","Granulats","matériaux inertes naturels"]
[null,null,null,"Matériaux primaires de construction","Granulats","mélange à béton"]
[null,null,null,"Matériaux primaires de construction","Granulats","mélange sable et gravier"]
[null,null,null,"Matériaux primaires de construction","Granulats","perlite expansée"]
[null,null,null,"Matériaux primaires de construction","Granulats","pierre ponce"]
[null,null,null,{"$f":"$B$1132","v":"Matériaux primaires de construction"},{"$f":"$D$1134","v":"Granulats"},"grave"]
[null,null,null,"Matériaux primaires de construction","Granulats","pierres pour cabion"]
[null,null,null,"Matériaux primaires de construction","Granulats","sable"]
[null,null,null,"Matériaux primaires de construction","Granulats","sable à bac à sable"]
[null,null,null,"Matériaux primaires de construction","Granulats","sable à filtration"]
[null,null,null,"Matériaux primaires de construction","Granulats","sable à sabler"]
[null,null,null,"Matériaux primaires de construction","Granulats","sables à enduire"]
[null,null,null,"Matériaux primaires de construction","Granulats","sables à maçonner"]
[null,null,null,"Matériaux primaires de construction","Granulats","sables de rivière"]
[null,null,null,"Matériaux primaires de construction","Granulats","vermiculite"]
[]
[]
[null,301,null,"Pierre de construction, granit, grès et lave"]
[]
[null,null,null,"Rayon","Catégorie","Exemples de produits (non-exhaustif)"]
[null,null,null,{"$f":"$B$1132","v":"Matériaux primaires de construction"},{"$f":"$D$1170","v":"Pierre de construction, granit, grès et lave"},"blocs de pierre"]
[null,null,null,"Matériaux primaires de construction","Pierre de construction, granit, grès et lave","éléments de grande dimension"]
[null,null,null,"Matériaux primaires de construction","Pierre de construction, granit, grès et lave","notamment pour structure porteuse verticale"]
[null,null,null,"Matériaux primaires de construction","Pierre de construction, granit, grès et lave","petits éléments en pierre"]
[null,null,null,"Matériaux primaires de construction","Pierre de construction, granit, grès et lave","moellons pour maçonnerie"]
[null,null,null,"Matériaux primaires de construction","Pierre de construction, granit, grès et lave","appuis de baie en pierre autres que pour fenêtre en pierre"]
[null,null,null,"Matériaux primaires de construction","Pierre de construction, granit, grès et lave","seuil de porte en pierre"]
[null,null,null,"Matériaux primaires de construction","Pierre de construction, granit, grès et lave","enrochement"]
[]
[]
[null,302,null,"Terre crue et éléments en terre cuite"]
[]
[null,null,null,"Rayon","Catégorie","Exemples de produits (non-exhaustif)"]
[null,null,null,{"$f":"$B$1132","v":"Matériaux primaires de construction"},{"$f":"$D$1183","v":"Terre crue et éléments en terre cuite"},"terres végétales"]
[null,null,null,"Matériaux primaires de construction","Terre crue et éléments en terre cuite","terres recyclées"]
[null,null,null,"Matériaux primaires de construction","Terre crue et éléments en terre cuite","terre crue non transformée"]
[null,null,null,"Matériaux primaires de construction","Terre crue et éléments en terre cuite","brique de construction"]
[null,null,null,"Matériaux primaires de construction","Terre crue et éléments en terre cuite","brique de parement"]
[null,null,null,"Matériaux primaires de construction","Terre crue et éléments en terre cuite","brique réfractaire"]
[null,null,null,"Matériaux primaires de construction","Terre crue et éléments en terre cuite","briques perforées"]
[null,null,null,"Matériaux primaires de construction","Terre crue et éléments en terre cuite","briques pleines"]
[null,null,null,"Matériaux primaires de construction","Terre crue et éléments en terre cuite","plafonnette"]
[null,null,null,"Matériaux primaires de construction","Terre crue et éléments en terre cuite","planelle en terre cuite"]
[null,null,null,"Matériaux primaires de construction","Terre crue et éléments en terre cuite","brique de terre crue"]
[null,null,null,"Matériaux primaires de construction","Terre crue et éléments en terre cuite","accessoires briques"]
[null,null,null,"Matériaux primaires de construction","Terre crue et éléments en terre cuite","briques de pavage et carreaux"]
[null,null,null,"Matériaux primaires de construction","Terre crue et éléments en terre cuite","briques monomur"]
[null,null,null,"Matériaux primaires de construction","Terre crue et éléments en terre cuite","briques de cloison"]
[null,null,null,"Matériaux primaires de construction","Terre crue et éléments en terre cuite","appui de fenêtre"]
[null,null,null,"Matériaux primaires de construction","Terre crue et éléments en terre cuite","angle"]
[null,null,null,"Matériaux primaires de construction","Terre crue et éléments en terre cuite","boisseaux"]
[null,null,null,"Matériaux primaires de construction","Terre crue et éléments en terre cuite","pilier en terre cuite"]
[null,null,null,"Matériaux primaires de construction","Terre crue et éléments en terre cuite","blocs de maçonnerie"]
[null,null,null,"Matériaux primaires de construction","Terre crue et éléments en terre cuite","briques creuses et hourdis en brique"]
[null,null,null,"Matériaux primaires de construction","Terre crue et éléments en terre cuite","briques pleines de parement"]
[null,null,null,"Matériaux primaires de construction","Terre crue et éléments en terre cuite","briques thermo-isolantes"]
[null,null,null,"Matériaux primaires de construction","Terre crue et éléments en terre cuite","entrevous en brique"]
[null,null,null,"Matériaux primaires de construction","Terre crue et éléments en terre cuite","pièces spéciales de parement en brique"]
[null,null,null,"Matériaux primaires de construction","Terre crue et éléments en terre cuite","plaques étirées en terre-cuite pour façades"]
[]
[]
[null,303,null,"Ciments et chaux"]
[]
[null,null,null,"Rayon","Catégorie","Exemples de produits (non-exhaustif)"]
[null,null,null,{"$f":"$B$1132","v":"Matériaux primaires de construction"},{"$f":"$D$1214","v":"Ciments et chaux"},"ciment prêt à l'emploi"]
[null,null,null,"Matériaux primaires de construction","Ciments et chaux","mélange de ciments"]
[null,null,null,"Matériaux primaires de construction","Ciments et chaux","ciment laitiers"]
[null,null,null,"Matériaux primaires de construction","Ciments et chaux","géopolymère"]
[null,null,null,"Matériaux primaires de construction","Ciments et chaux","filler calcaire"]
[null,null,null,"Matériaux primaires de construction","Ciments et chaux","cendres volantes"]
[null,null,null,"Matériaux primaires de construction","Ciments et chaux","laitiers de haut fourneaux"]
[null,null,null,"Matériaux primaires de construction","Ciments et chaux","métakaolins"]
[null,null,null,"Matériaux primaires de construction","Ciments et chaux","fibres"]
[null,null,null,"Matériaux primaires de construction","Ciments et chaux","ciments"]
[null,null,null,"Matériaux primaires de construction","Ciments et chaux","ciments blancs"]
[null,null,null,"Matériaux primaires de construction","Ciments et chaux","ciments spéciaux"]
[null,null,null,"Matériaux primaires de construction","Ciments et chaux","coulis de ciment"]
[null,null,null,"Matériaux primaires de construction","Ciments et chaux","liants à base de chaux"]
[null,null,null,"Matériaux primaires de construction","Ciments et chaux","chaux hydratées et hydrauliques"]
[]
[]
[null,304,null,"Mortier, béton, éléments en béton, y.c. biosourcés"]
[]
[null,null,null,"Rayon","Catégorie","Exemples de produits (non-exhaustif)"]
[null,null,null,{"$f":"$B$1132","v":"Matériaux primaires de construction"},{"$f":"$D$1234","v":"Mortier, béton, éléments en béton, y.c. biosourcés"},"mortier"]
[null,null,null,{"$f":"$B$1132","v":"Matériaux primaires de construction"},{"$f":"$D$1234","v":"Mortier, béton, éléments en béton, y.c. biosourcés"},"mortier d’imperméabilisation"]
[null,null,null,"Matériaux primaires de construction",{"$f":"$D$1234","v":"Mortier, béton, éléments en béton, y.c. biosourcés"},"mortier de jointoiement"]
[null,null,null,"Matériaux primaires de construction",{"$f":"$D$1234","v":"Mortier, béton, éléments en béton, y.c. biosourcés"},"mortier de pavage"]
[null,null,null,"Matériaux primaires de construction","Mortier, béton, éléments en béton, y.c. biosourcés","calage"]
[null,null,null,"Matériaux primaires de construction","Mortier, béton, éléments en béton, y.c. biosourcés","scellement hors scellements chimiques"]
[null,null,null,"Matériaux primaires de construction","Mortier, béton, éléments en béton, y.c. biosourcés","mortier de ragréage"]
[null,null,null,"Matériaux primaires de construction","Mortier, béton, éléments en béton, y.c. biosourcés","mortier de réparation"]
[null,null,null,"Matériaux primaires de construction","Mortier, béton, éléments en béton, y.c. biosourcés","mortier pour maçonnerie"]
[null,null,null,"Matériaux primaires de construction","Mortier, béton, éléments en béton, y.c. biosourcés","mortier-colle"]
[null,null,null,"Matériaux primaires de construction","Mortier, béton, éléments en béton, y.c. biosourcés","mortier prêt à l'emploi"]
[null,null,null,"Matériaux primaires de construction","Mortier, béton, éléments en béton, y.c. biosourcés","mortier d'enduit"]
[null,null,null,"Matériaux primaires de construction","Mortier, béton, éléments en béton, y.c. biosourcés","mortiers à prise rapide"]
[null,null,null,"Matériaux primaires de construction","Mortier, béton, éléments en béton, y.c. biosourcés","mortiers autonivelants"]
[null,null,null,"Matériaux primaires de construction","Mortier, béton, éléments en béton, y.c. biosourcés","mortiers et microbéton pour les réparations"]
[null,null,null,"Matériaux primaires de construction","Mortier, béton, éléments en béton, y.c. biosourcés","mortiers pour maçonnerie"]
[null,null,null,{"$f":"$B$1132","v":"Matériaux primaires de construction"},{"$f":"$D$1234","v":"Mortier, béton, éléments en béton, y.c. biosourcés"},"briques porteuses"]
[null,null,null,{"$f":"$B$1132","v":"Matériaux primaires de construction"},{"$f":"$D$1234","v":"Mortier, béton, éléments en béton, y.c. biosourcés"},"blocs pour murs en béton armé"]
[null,null,null,{"$f":"$B$1132","v":"Matériaux primaires de construction"},{"$f":"$D$1234","v":"Mortier, béton, éléments en béton, y.c. biosourcés"},"blocs pour planchers, briques creuses"]
[null,null,null,"Matériaux primaires de construction",{"$f":"$D$1234","v":"Mortier, béton, éléments en béton, y.c. biosourcés"},"mortiers réfractaires"]
[null,null,null,"Matériaux primaires de construction","Mortier, béton, éléments en béton, y.c. biosourcés","mortiers renforcés de fibres"]
[null,null,null,"Matériaux primaires de construction","Mortier, béton, éléments en béton, y.c. biosourcés","mortiers thermo-isolants"]
[null,null,null,"Matériaux primaires de construction","Mortier, béton, éléments en béton, y.c. biosourcés","mortiers thixotropes"]
[null,null,null,"Matériaux primaires de construction","Mortier, béton, éléments en béton, y.c. biosourcés","blocs de béton"]
[null,null,null,"Matériaux primaires de construction","Mortier, béton, éléments en béton, y.c. biosourcés","blocs de béton acoustiques"]
[null,null,null,"Matériaux primaires de construction","Mortier, béton, éléments en béton, y.c. biosourcés","blocs de béton allégés pour murs extérieurs"]
[null,null,null,"Matériaux primaires de construction","Mortier, béton, éléments en béton, y.c. biosourcés","blocs de béton insonorisants"]
[null,null,null,"Matériaux primaires de construction","Mortier, béton, éléments en béton, y.c. biosourcés","blocs de béton thermo-isolants"]
[null,null,null,"Matériaux primaires de construction","Mortier, béton, éléments en béton, y.c. biosourcés","blocs de maçonnerie en béton"]
[null,null,null,"Matériaux primaires de construction","Mortier, béton, éléments en béton, y.c. biosourcés","blocs pour cloisons en béton léger"]
[null,null,null,"Matériaux primaires de construction","Mortier, béton, éléments en béton, y.c. biosourcés","blocs de remplissage en béton-bois"]
[null,null,null,"Matériaux primaires de construction","Mortier, béton, éléments en béton, y.c. biosourcés","blocs portants en béton"]
[null,null,null,"Matériaux primaires de construction","Mortier, béton, éléments en béton, y.c. biosourcés","blocs portants en béton-bois"]
[null,null,null,{"$f":"$B$1132","v":"Matériaux primaires de construction"},{"$f":"$D$1234","v":"Mortier, béton, éléments en béton, y.c. biosourcés"},"linteaux"]
[null,null,null,"Matériaux primaires de construction",{"$f":"$D$1234","v":"Mortier, béton, éléments en béton, y.c. biosourcés"},"planelles"]
[null,null,null,{"$f":"$B$1132","v":"Matériaux primaires de construction"},{"$f":"$D$1234","v":"Mortier, béton, éléments en béton, y.c. biosourcés"},"planelle en béton"]
[null,null,null,"Matériaux primaires de construction",{"$f":"$D$1234","v":"Mortier, béton, éléments en béton, y.c. biosourcés"},"entrevous en béton"]
[null,null,null,"Matériaux primaires de construction","Mortier, béton, éléments en béton, y.c. biosourcés","bétons haute résistance"]
[null,null,null,"Matériaux primaires de construction","Mortier, béton, éléments en béton, y.c. biosourcés","bétons légers, cellulaires"]
[null,null,null,"Matériaux primaires de construction","Mortier, béton, éléments en béton, y.c. biosourcés","bétons structurels pré-mélangés"]
[null,null,null,"Matériaux primaires de construction","Mortier, béton, éléments en béton, y.c. biosourcés","chapes prêtes à l’emploi"]
[null,null,null,{"$f":"$B$1132","v":"Matériaux primaires de construction"},{"$f":"$D$1234","v":"Mortier, béton, éléments en béton, y.c. biosourcés"},"boisseaux en béton"]
[null,null,null,{"$f":"$B$1132","v":"Matériaux primaires de construction"},{"$f":"$D$1234","v":"Mortier, béton, éléments en béton, y.c. biosourcés"},"planelle de rive"]
[null,null,null,{"$f":"$B$1132","v":"Matériaux primaires de construction"},{"$f":"$D$1234","v":"Mortier, béton, éléments en béton, y.c. biosourcés"},"planelle"]
[null,null,null,{"$f":"$B$1132","v":"Matériaux primaires de construction"},{"$f":"$D$1234","v":"Mortier, béton, éléments en béton, y.c. biosourcés"},"coffres de volet roulants et caissons en minéraux"]
[null,null,null,"Matériaux primaires de construction","Mortier, béton, éléments en béton, y.c. biosourcés","béton de bois"]
[null,null,null,"Matériaux primaires de construction",{"$f":"$D$1234","v":"Mortier, béton, éléments en béton, y.c. biosourcés"},"béton de chanvre"]
[null,null,null,"Matériaux primaires de construction",{"$f":"$D$1234","v":"Mortier, béton, éléments en béton, y.c. biosourcés"},"torchis"]
[null,null,null,"Matériaux primaires de construction",{"$f":"$D$1234","v":"Mortier, béton, éléments en béton, y.c. biosourcés"},"fibres de renfort pour béton"]
[]
[]
[null,305,null,"Plâtre et éléments en plâtre"]
[]
[null,null,null,"Rayon","Catégorie","Exemples de produits (non-exhaustif)"]
[null,null,null,{"$f":"$B$1132","v":"Matériaux primaires de construction"},{"$f":"$D$1288","v":"Plâtre et éléments en plâtre"},"plâtre en poudre"]
[null,null,null,"Matériaux primaires de construction","Plâtre et éléments en plâtre","plaques et carreaux de plâtres"]
[null,null,null,"Matériaux primaires de construction","Plâtre et éléments en plâtre","carreaux en plâtre"]
[null,null,null,"Matériaux primaires de construction","Plâtre et éléments en plâtre","complexe Plâtre et Autres isolants"]
[null,null,null,"Matériaux primaires de construction","Plâtre et éléments en plâtre","complexe Plâtre et Laine de Roche"]
[null,null,null,"Matériaux primaires de construction","Plâtre et éléments en plâtre","complexe Plâtre et Laine de Verre"]
[null,null,null,"Matériaux primaires de construction","Plâtre et éléments en plâtre","complexe Plâtre et PSE"]
[null,null,null,"Matériaux primaires de construction","Plâtre et éléments en plâtre","complexe Plâtre et PU"]
[null,null,null,"Matériaux primaires de construction","Plâtre et éléments en plâtre","complexe Plâtre et XPS"]
[null,null,null,"Matériaux primaires de construction","Plâtre et éléments en plâtre","produits moulés en plâtre"]
[null,null,null,"Matériaux primaires de construction","Plâtre et éléments en plâtre","dalles de plâtre"]
[null,null,null,"Matériaux primaires de construction","Plâtre et éléments en plâtre","plaques gypse cellulose"]
[]
[]
[null,306,null,"Bois de charpente, panneaux, planches, tablettes, tasseaux"]
[]
[null,null,null,"Rayon","Catégorie","Exemples de produits (non-exhaustif)"]
[null,null,null,{"$f":"$B$1132","v":"Matériaux primaires de construction"},{"$f":"$D$1305","v":"Bois de charpente, panneaux, planches, tablettes, tasseaux"},"accessoires en bois pour coffrages"]
[null,null,null,"Matériaux primaires de construction","Bois de charpente, panneaux, planches, tablettes, tasseaux","badi avivé"]
[null,null,null,"Matériaux primaires de construction","Bois de charpente, panneaux, planches, tablettes, tasseaux","bastaings"]
[null,null,null,"Matériaux primaires de construction","Bois de charpente, panneaux, planches, tablettes, tasseaux","bois brut / tasseaux / planches"]
[null,null,null,"Matériaux primaires de construction","Bois de charpente, panneaux, planches, tablettes, tasseaux","bois brut résineux"]
[null,null,null,"Matériaux primaires de construction","Bois de charpente, panneaux, planches, tablettes, tasseaux","bois bruts exotiques"]
[null,null,null,"Matériaux primaires de construction","Bois de charpente, panneaux, planches, tablettes, tasseaux","bois de charpente autoclave"]
[null,null,null,"Matériaux primaires de construction","Bois de charpente, panneaux, planches, tablettes, tasseaux","bois de particules et osb"]
[null,null,null,"Matériaux primaires de construction","Bois de charpente, panneaux, planches, tablettes, tasseaux","bois lamellé"]
[null,null,null,"Matériaux primaires de construction","Bois de charpente, panneaux, planches, tablettes, tasseaux","bois massif abouté"]
[null,null,null,"Matériaux primaires de construction","Bois de charpente, panneaux, planches, tablettes, tasseaux","bois massif contrecollé"]
[null,null,null,"Matériaux primaires de construction","Bois de charpente, panneaux, planches, tablettes, tasseaux","bois thermotraité et vapotraité"]
[null,null,null,"Matériaux primaires de construction","Bois de charpente, panneaux, planches, tablettes, tasseaux","coffrages et dômes pour vides sanitaires"]
[null,null,null,"Matériaux primaires de construction","Bois de charpente, panneaux, planches, tablettes, tasseaux","coffrages et systèmes de coffrage pour béton"]
[null,null,null,"Matériaux primaires de construction","Bois de charpente, panneaux, planches, tablettes, tasseaux","coffrages glissants et auto-grimpants"]
[null,null,null,"Matériaux primaires de construction","Bois de charpente, panneaux, planches, tablettes, tasseaux","coffrages isolants"]
[null,null,null,"Matériaux primaires de construction","Bois de charpente, panneaux, planches, tablettes, tasseaux","coffrages perdus"]
[null,null,null,"Matériaux primaires de construction","Bois de charpente, panneaux, planches, tablettes, tasseaux","coffrages pour palées"]
[null,null,null,"Matériaux primaires de construction","Bois de charpente, panneaux, planches, tablettes, tasseaux","contreplaqués"]
[null,null,null,"Matériaux primaires de construction","Bois de charpente, panneaux, planches, tablettes, tasseaux","dalle de particules hydrofuge - ctbh"]
[null,null,null,"Matériaux primaires de construction","Bois de charpente, panneaux, planches, tablettes, tasseaux","dalle de particules ignifugée - m1"]
[null,null,null,"Matériaux primaires de construction","Bois de charpente, panneaux, planches, tablettes, tasseaux","dalle de particules standard - ctbs"]
[null,null,null,"Matériaux primaires de construction","Bois de charpente, panneaux, planches, tablettes, tasseaux","dalle de particules technique"]
[null,null,null,"Matériaux primaires de construction","Bois de charpente, panneaux, planches, tablettes, tasseaux","dalle osb"]
[null,null,null,"Matériaux primaires de construction","Bois de charpente, panneaux, planches, tablettes, tasseaux","dont contreplaquées et contrecollées"]
[null,null,null,"Matériaux primaires de construction","Bois de charpente, panneaux, planches, tablettes, tasseaux","hêtre avivé"]
[null,null,null,"Matériaux primaires de construction","Bois de charpente, panneaux, planches, tablettes, tasseaux","lambardes"]
[null,null,null,"Matériaux primaires de construction","Bois de charpente, panneaux, planches, tablettes, tasseaux","madrier"]
[null,null,null,"Matériaux primaires de construction","Bois de charpente, panneaux, planches, tablettes, tasseaux","matrices de polystyrène pour éléments décoratifs"]
[null,null,null,"Matériaux primaires de construction","Bois de charpente, panneaux, planches, tablettes, tasseaux","matrices pour murs de parement en béton"]
[null,null,null,"Matériaux primaires de construction","Bois de charpente, panneaux, planches, tablettes, tasseaux","mdf"]
[null,null,null,"Matériaux primaires de construction","Bois de charpente, panneaux, planches, tablettes, tasseaux","meleze"]
[null,null,null,"Matériaux primaires de construction","Bois de charpente, panneaux, planches, tablettes, tasseaux","sapin"]
[null,null,null,"Matériaux primaires de construction","Bois de charpente, panneaux, planches, tablettes, tasseaux","sipo avivé"]
[null,null,null,"Matériaux primaires de construction","Bois de charpente, panneaux, planches, tablettes, tasseaux","pin de caroline"]
[null,null,null,"Matériaux primaires de construction","Bois de charpente, panneaux, planches, tablettes, tasseaux","moabi avivé"]
[null,null,null,"Matériaux primaires de construction","Bois de charpente, panneaux, planches, tablettes, tasseaux","moules cubiques, coffrages pour essais"]
[null,null,null,"Matériaux primaires de construction","Bois de charpente, panneaux, planches, tablettes, tasseaux","multipli"]
[null,null,null,"Matériaux primaires de construction","Bois de charpente, panneaux, planches, tablettes, tasseaux","panneau 3 plis feuillus"]
[null,null,null,"Matériaux primaires de construction","Bois de charpente, panneaux, planches, tablettes, tasseaux","panneau 3 plis résineux"]
[null,null,null,"Matériaux primaires de construction","Bois de charpente, panneaux, planches, tablettes, tasseaux","panneau aggloméré"]
[null,null,null,"Matériaux primaires de construction","Bois de charpente, panneaux, planches, tablettes, tasseaux","panneau compact extérieur"]
[null,null,null,"Matériaux primaires de construction","Bois de charpente, panneaux, planches, tablettes, tasseaux","panneau compact intérieur"]
[null,null,null,"Matériaux primaires de construction","Bois de charpente, panneaux, planches, tablettes, tasseaux","panneau composite aluminium"]
[null,null,null,"Matériaux primaires de construction","Bois de charpente, panneaux, planches, tablettes, tasseaux","panneau contreplaqué bouleau"]
[null,null,null,"Matériaux primaires de construction","Bois de charpente, panneaux, planches, tablettes, tasseaux","panneau contreplaqué essences fines"]
[null,null,null,"Matériaux primaires de construction","Bois de charpente, panneaux, planches, tablettes, tasseaux","panneau contreplaqué exotique mr wbp"]
[null,null,null,"Matériaux primaires de construction","Bois de charpente, panneaux, planches, tablettes, tasseaux","panneau contreplaqué filmé coffrage"]
[null,null,null,"Matériaux primaires de construction","Bois de charpente, panneaux, planches, tablettes, tasseaux","panneau contreplaqué okoume"]
[null,null,null,"Matériaux primaires de construction","Bois de charpente, panneaux, planches, tablettes, tasseaux","panneau contreplaqué peuplier"]
[null,null,null,"Matériaux primaires de construction","Bois de charpente, panneaux, planches, tablettes, tasseaux","panneau contreplaqué résineux"]
[null,null,null,"Matériaux primaires de construction","Bois de charpente, panneaux, planches, tablettes, tasseaux","panneau contreplaqué technique"]
[null,null,null,"Matériaux primaires de construction","Bois de charpente, panneaux, planches, tablettes, tasseaux","panneau de chanvre"]
[null,null,null,"Matériaux primaires de construction","Bois de charpente, panneaux, planches, tablettes, tasseaux","panneau de fibre de bois"]
[null,null,null,"Matériaux primaires de construction","Bois de charpente, panneaux, planches, tablettes, tasseaux","panneau de particules alvéolé"]
[null,null,null,"Matériaux primaires de construction","Bois de charpente, panneaux, planches, tablettes, tasseaux","panneau de particules essences fines"]
[null,null,null,"Matériaux primaires de construction","Bois de charpente, panneaux, planches, tablettes, tasseaux","panneau de particules hydrofuge - ctbh"]
[null,null,null,"Matériaux primaires de construction","Bois de charpente, panneaux, planches, tablettes, tasseaux","panneau de particules ignifugé - m1"]
[null,null,null,"Matériaux primaires de construction","Bois de charpente, panneaux, planches, tablettes, tasseaux","panneau de particules mélaminés blanc"]
[null,null,null,"Matériaux primaires de construction","Bois de charpente, panneaux, planches, tablettes, tasseaux","panneau de particules mélaminés blanc technique"]
[null,null,null,"Matériaux primaires de construction","Bois de charpente, panneaux, planches, tablettes, tasseaux","panneau de particules mélaminés décor kr3"]
[null,null,null,"Matériaux primaires de construction","Bois de charpente, panneaux, planches, tablettes, tasseaux","panneau de particules mélaminés décor krr"]
[null,null,null,"Matériaux primaires de construction","Bois de charpente, panneaux, planches, tablettes, tasseaux","panneau de particules mélaminés décor rol"]
[null,null,null,"Matériaux primaires de construction","Bois de charpente, panneaux, planches, tablettes, tasseaux","panneau de particules standard - ctbs"]
[null,null,null,{"$f":"$B$1132","v":"Matériaux primaires de construction"},{"$f":"$D$1305","v":"Bois de charpente, panneaux, planches, tablettes, tasseaux"},"panneau de particules technique"]
[null,null,null,"Matériaux primaires de construction","Bois de charpente, panneaux, planches, tablettes, tasseaux","panneau découpe"]
[null,null,null,"Matériaux primaires de construction","Bois de charpente, panneaux, planches, tablettes, tasseaux","panneau laine de bois"]
[null,null,null,"Matériaux primaires de construction","Bois de charpente, panneaux, planches, tablettes, tasseaux","panneau lamellé-collé feuillus"]
[null,null,null,"Matériaux primaires de construction","Bois de charpente, panneaux, planches, tablettes, tasseaux","panneau lamellé-collé résineux"]
[null,null,null,"Matériaux primaires de construction","Bois de charpente, panneaux, planches, tablettes, tasseaux","panneau latté"]
[null,null,null,"Matériaux primaires de construction","Bois de charpente, panneaux, planches, tablettes, tasseaux","panneau latté essences fines"]
[null,null,null,"Matériaux primaires de construction","Bois de charpente, panneaux, planches, tablettes, tasseaux","panneau latté technique"]
[null,null,null,"Matériaux primaires de construction","Bois de charpente, panneaux, planches, tablettes, tasseaux","panneau mdf essences fines"]
[null,null,null,"Matériaux primaires de construction","Bois de charpente, panneaux, planches, tablettes, tasseaux","panneau mdf hydrofuge - ctbh"]
[null,null,null,"Matériaux primaires de construction","Bois de charpente, panneaux, planches, tablettes, tasseaux","panneau mdf ignifugé - m1"]
[null,null,null,"Matériaux primaires de construction","Bois de charpente, panneaux, planches, tablettes, tasseaux","panneau mdf mélaminés"]
[null,null,null,"Matériaux primaires de construction","Bois de charpente, panneaux, planches, tablettes, tasseaux","panneau mdf standard"]
[null,null,null,"Matériaux primaires de construction","Bois de charpente, panneaux, planches, tablettes, tasseaux","panneau mdf technique"]
[null,null,null,"Matériaux primaires de construction","Bois de charpente, panneaux, planches, tablettes, tasseaux","panneau mélaminée"]
[null,null,null,"Matériaux primaires de construction","Bois de charpente, panneaux, planches, tablettes, tasseaux","panneau osb"]
[null,null,null,"Matériaux primaires de construction","Bois de charpente, panneaux, planches, tablettes, tasseaux","panneau résine de synthèse et accessoires"]
[null,null,null,"Matériaux primaires de construction","Bois de charpente, panneaux, planches, tablettes, tasseaux","panneau stratifié décor"]
[null,null,null,"Matériaux primaires de construction","Bois de charpente, panneaux, planches, tablettes, tasseaux","panneaux aérogels"]
[null,null,null,"Matériaux primaires de construction","Bois de charpente, panneaux, planches, tablettes, tasseaux","panneaux agglomérés"]
[null,null,null,"Matériaux primaires de construction","Bois de charpente, panneaux, planches, tablettes, tasseaux","panneaux bois prédécoupé"]
[null,null,null,"Matériaux primaires de construction","Bois de charpente, panneaux, planches, tablettes, tasseaux","panneaux bois sur-mesure"]
[null,null,null,"Matériaux primaires de construction","Bois de charpente, panneaux, planches, tablettes, tasseaux","panneaux contre plaqués"]
[null,null,null,"Matériaux primaires de construction","Bois de charpente, panneaux, planches, tablettes, tasseaux","carrelet"]
[null,null,null,"Matériaux primaires de construction","Bois de charpente, panneaux, planches, tablettes, tasseaux","panneaux de coffrage autoportants pour planchers"]
[null,null,null,"Matériaux primaires de construction","Bois de charpente, panneaux, planches, tablettes, tasseaux","panneaux divers"]
[null,null,null,"Matériaux primaires de construction","Bois de charpente, panneaux, planches, tablettes, tasseaux","panneaux en croix"]
[null,null,null,"Matériaux primaires de construction","Bois de charpente, panneaux, planches, tablettes, tasseaux","panneaux et feuilles acryliques"]
[null,null,null,"Matériaux primaires de construction","Bois de charpente, panneaux, planches, tablettes, tasseaux","panneaux lattés et lamellaires"]
[null,null,null,"Matériaux primaires de construction","Bois de charpente, panneaux, planches, tablettes, tasseaux","panneaux lattés et lamellés collés et lamellés croisés"]
[null,null,null,"Matériaux primaires de construction","Bois de charpente, panneaux, planches, tablettes, tasseaux","panneaux mdf"]
[null,null,null,"Matériaux primaires de construction","Bois de charpente, panneaux, planches, tablettes, tasseaux","panneaux surfacés"]
[null,null,null,"Matériaux primaires de construction","Bois de charpente, panneaux, planches, tablettes, tasseaux","placage et stratifié essences fines"]
[null,null,null,"Matériaux primaires de construction","Bois de charpente, panneaux, planches, tablettes, tasseaux","planches bois brut"]
[null,null,null,"Matériaux primaires de construction","Bois de charpente, panneaux, planches, tablettes, tasseaux","planches chênes massif"]
[null,null,null,"Matériaux primaires de construction","Bois de charpente, panneaux, planches, tablettes, tasseaux","planches, demi-produits, bois scié, bois d'œuvre"]
[null,null,null,"Matériaux primaires de construction","Bois de charpente, panneaux, planches, tablettes, tasseaux","sapelli en plot"]
[null,null,null,"Matériaux primaires de construction","Bois de charpente, panneaux, planches, tablettes, tasseaux","systèmes de coffrage pour murs portants"]
[null,null,null,"Matériaux primaires de construction","Bois de charpente, panneaux, planches, tablettes, tasseaux","systèmes de soutien pour coffrages"]
[null,null,null,"Matériaux primaires de construction","Bois de charpente, panneaux, planches, tablettes, tasseaux","tablette et plan de travail bois"]
[null,null,null,"Matériaux primaires de construction","Bois de charpente, panneaux, planches, tablettes, tasseaux","tasseaux"]
[null,null,null,"Matériaux primaires de construction","Bois de charpente, panneaux, planches, tablettes, tasseaux","tasseaux et moulures autres essences"]
[null,null,null,"Matériaux primaires de construction","Bois de charpente, panneaux, planches, tablettes, tasseaux","tasseaux et moulures bois exotiques"]
[null,null,null,"Matériaux primaires de construction","Bois de charpente, panneaux, planches, tablettes, tasseaux","tasseaux et moulures pin"]
[null,null,null,"Matériaux primaires de construction","Bois de charpente, panneaux, planches, tablettes, tasseaux","tasseaux et moulures sapin"]
[null,null,null,"Matériaux primaires de construction","Bois de charpente, panneaux, planches, tablettes, tasseaux","troncs, bois tranché, formats spéciaux de bois brut"]
[]
[]
[null,307,null,"Verre et assimilés pour assemblage"]
[]
[null,null,null,"Rayon","Catégorie","Exemples de produits (non-exhaustif)"]
[null,null,null,{"$f":"$B$1132","v":"Matériaux primaires de construction"},{"$f":"$D$1420","v":"Verre et assimilés pour assemblage"},"verre plat"]
[null,null,null,{"$f":"$B$1132","v":"Matériaux primaires de construction"},{"$f":"$D$1420","v":"Verre et assimilés pour assemblage"},"brique de verre"]
[]
[null,310,null,"Divers produits et matériaux primaires de construction"]
[]
[null,null,null,"Rayon","Catégorie","Exemples de produits (non-exhaustif)"]
[null,null,null,{"$f":"$B$1132","v":"Matériaux primaires de construction"},{"$f":"$D$1426","v":"Divers produits et matériaux primaires de construction"},"bandes, tissus et plaques de fibre d’aramide"]
[null,null,null,"Matériaux primaires de construction","Divers produits et matériaux primaires de construction","bandes, tissus et plaques de fibre de carbone"]
[null,null,null,"Matériaux primaires de construction","Divers produits et matériaux primaires de construction","bandes, tissus et plaques de fibre de verre"]
[null,null,null,"Matériaux primaires de construction","Divers produits et matériaux primaires de construction","matériaux composites spéciaux"]
[null,null,null,"Matériaux primaires de construction","Divers produits et matériaux primaires de construction","caoutchoucs naturels et synthétiques"]
[null,null,null,"Matériaux primaires de construction","Divers produits et matériaux primaires de construction","feuilles en polycarbonate"]
[null,null,null,"Matériaux primaires de construction","Divers produits et matériaux primaires de construction","polymères thermoplastiques"]
[null,null,null,"Matériaux primaires de construction","Divers produits et matériaux primaires de construction","résines thermodurcissables"]
[null,null,null,{"$f":"$B$1132","v":"Matériaux primaires de construction"},"Divers produits et matériaux primaires de construction","adjuvants"]
[null,null,null,{"$f":"$B$1132","v":"Matériaux primaires de construction"},"Divers produits et matériaux primaires de construction","équipements de traitement du béton"]
[null,null,null,{"$f":"$B$1132","v":"Matériaux primaires de construction"},"Divers produits et matériaux primaires de construction","additifs pour ciments et bétons"]
[null,null,null,{"$f":"$B$1132","v":"Matériaux primaires de construction"},"Divers produits et matériaux primaires de construction","agents protecteurs de surface pour bétons"]
[]
[]
[]
[null,"Voirie, réseaux intérieurs et extérieurs"]
[]
[null,315,null,"Enrobé de voirie, bordure et caniveau"]
[]
[null,null,null,"Rayon","Catégorie","Exemples de produits (non-exhaustif)"]
[null,null,null,{"$f":"$B$1444","v":"Voirie, réseaux intérieurs et extérieurs"},{"$f":"$D$1446","v":"Enrobé de voirie, bordure et caniveau"},"bétons bitumineux pour asphalte"]
[null,null,null,"Voirie, réseaux intérieurs et extérieurs","Enrobé de voirie, bordure et caniveau","bitumes et liants bitumineux"]
[null,null,null,"Voirie, réseaux intérieurs et extérieurs","Enrobé de voirie, bordure et caniveau","émulsions bitumineuses"]
[null,null,null,"Voirie, réseaux intérieurs et extérieurs","Enrobé de voirie, bordure et caniveau","produits d'asphalte pour voirie"]
[null,null,null,{"$f":"$B$1444","v":"Voirie, réseaux intérieurs et extérieurs"},{"$f":"$D$1446","v":"Enrobé de voirie, bordure et caniveau"},"caniveau de chaussée"]
[null,null,null,{"$f":"$B$1444","v":"Voirie, réseaux intérieurs et extérieurs"},{"$f":"$D$1446","v":"Enrobé de voirie, bordure et caniveau"},"bordure de trottoir"]
[null,null,null,{"$f":"$B$1444","v":"Voirie, réseaux intérieurs et extérieurs"},{"$f":"$D$1446","v":"Enrobé de voirie, bordure et caniveau"},"bordurette"]
[null,null,null,{"$f":"$B$1444","v":"Voirie, réseaux intérieurs et extérieurs"},{"$f":"$D$1446","v":"Enrobé de voirie, bordure et caniveau"},"caniveau hydraulique"]
[null,null,null,{"$f":"$B$1444","v":"Voirie, réseaux intérieurs et extérieurs"},{"$f":"$D$1446","v":"Enrobé de voirie, bordure et caniveau"},"caniveau"]
[null,null,null,"Voirie, réseaux intérieurs et extérieurs","Enrobé de voirie, bordure et caniveau","béton bitumineux pour voirie"]
[null,null,null,"Voirie, réseaux intérieurs et extérieurs","Enrobé de voirie, bordure et caniveau","revêtements et aménagements extérieurs"]
[null,null,null,"Voirie, réseaux intérieurs et extérieurs","Enrobé de voirie, bordure et caniveau","pavage"]
[null,null,null,"Voirie, réseaux intérieurs et extérieurs","Enrobé de voirie, bordure et caniveau","dallage"]
[null,null,null,"Voirie, réseaux intérieurs et extérieurs","Enrobé de voirie, bordure et caniveau","films et membranes géotextiles"]
[]
[null,316,null,"Réseaux d'adduction d'eau et de gaz (tuyaux et éléments intérieurs et extérieurs)"]
[]
[null,null,null,"Rayon","Catégorie","Exemples de produits (non-exhaustif)"]
[null,null,null,{"$f":"$B$1444","v":"Voirie, réseaux intérieurs et extérieurs"},{"$f":"$D$1464","v":"Réseaux d'adduction d'eau et de gaz (tuyaux et éléments intérieurs et extérieurs)"},"anneaux"]
[null,null,null,"Voirie, réseaux intérieurs et extérieurs","Réseaux d'adduction d'eau et de gaz (tuyaux et éléments intérieurs et extérieurs)","boite de branchement et d'inspection"]
[null,null,null,"Voirie, réseaux intérieurs et extérieurs","Réseaux d'adduction d'eau et de gaz (tuyaux et éléments intérieurs et extérieurs)","boites de branchement et d'inspection"]
[null,null,null,"Voirie, réseaux intérieurs et extérieurs","Réseaux d'adduction d'eau et de gaz (tuyaux et éléments intérieurs et extérieurs)","bouchons"]
[null,null,null,"Voirie, réseaux intérieurs et extérieurs","Réseaux d'adduction d'eau et de gaz (tuyaux et éléments intérieurs et extérieurs)","branchement"]
[null,null,null,"Voirie, réseaux intérieurs et extérieurs","Réseaux d'adduction d'eau et de gaz (tuyaux et éléments intérieurs et extérieurs)","brides"]
[null,null,null,"Voirie, réseaux intérieurs et extérieurs","Réseaux d'adduction d'eau et de gaz (tuyaux et éléments intérieurs et extérieurs)","buses"]
[null,null,null,"Voirie, réseaux intérieurs et extérieurs","Réseaux d'adduction d'eau et de gaz (tuyaux et éléments intérieurs et extérieurs)","buses de puits"]
[null,null,null,"Voirie, réseaux intérieurs et extérieurs","Réseaux d'adduction d'eau et de gaz (tuyaux et éléments intérieurs et extérieurs)","chambres de bouches d'égouts"]
[null,null,null,"Voirie, réseaux intérieurs et extérieurs","Réseaux d'adduction d'eau et de gaz (tuyaux et éléments intérieurs et extérieurs)","collecteurs et platines"]
[null,null,null,"Voirie, réseaux intérieurs et extérieurs","Réseaux d'adduction d'eau et de gaz (tuyaux et éléments intérieurs et extérieurs)","colliers - raccords divers"]
[null,null,null,"Voirie, réseaux intérieurs et extérieurs","Réseaux d'adduction d'eau et de gaz (tuyaux et éléments intérieurs et extérieurs)","composants pour réseaux d’aqueduc"]
[null,null,null,"Voirie, réseaux intérieurs et extérieurs","Réseaux d'adduction d'eau et de gaz (tuyaux et éléments intérieurs et extérieurs)","comptage"]
[null,null,null,"Voirie, réseaux intérieurs et extérieurs","Réseaux d'adduction d'eau et de gaz (tuyaux et éléments intérieurs et extérieurs)","compteurs gaz et eau non électronique ou électronique"]
[null,null,null,"Voirie, réseaux intérieurs et extérieurs","Réseaux d'adduction d'eau et de gaz (tuyaux et éléments intérieurs et extérieurs)","coudes"]
[null,null,null,"Voirie, réseaux intérieurs et extérieurs","Réseaux d'adduction d'eau et de gaz (tuyaux et éléments intérieurs et extérieurs)","couronnes polyéthylène et accessoires"]
[null,null,null,"Voirie, réseaux intérieurs et extérieurs","Réseaux d'adduction d'eau et de gaz (tuyaux et éléments intérieurs et extérieurs)","couvercles - tampons"]
[null,null,null,"Voirie, réseaux intérieurs et extérieurs","Réseaux d'adduction d'eau et de gaz (tuyaux et éléments intérieurs et extérieurs)","culottes - tés"]
[null,null,null,"Voirie, réseaux intérieurs et extérieurs","Réseaux d'adduction d'eau et de gaz (tuyaux et éléments intérieurs et extérieurs)","cuves, citernes et réservoirs pour ouvrages hydrauliques"]
[null,null,null,"Voirie, réseaux intérieurs et extérieurs","Réseaux d'adduction d'eau et de gaz (tuyaux et éléments intérieurs et extérieurs)","divers tuyaux"]
[null,null,null,"Voirie, réseaux intérieurs et extérieurs","Réseaux d'adduction d'eau et de gaz (tuyaux et éléments intérieurs et extérieurs)","efc à ventilation mécanique"]
[null,null,null,"Voirie, réseaux intérieurs et extérieurs","Réseaux d'adduction d'eau et de gaz (tuyaux et éléments intérieurs et extérieurs)","efc à ventilation naturelle"]
[null,null,null,"Voirie, réseaux intérieurs et extérieurs","Réseaux d'adduction d'eau et de gaz (tuyaux et éléments intérieurs et extérieurs)","flexibles de gaz"]
[null,null,null,"Voirie, réseaux intérieurs et extérieurs","Réseaux d'adduction d'eau et de gaz (tuyaux et éléments intérieurs et extérieurs)","gaines tpc - grillages avertisseurs"]
[null,null,null,"Voirie, réseaux intérieurs et extérieurs","Réseaux d'adduction d'eau et de gaz (tuyaux et éléments intérieurs et extérieurs)","joints d'étanchéité plomberie"]
[null,null,null,"Voirie, réseaux intérieurs et extérieurs","Réseaux d'adduction d'eau et de gaz (tuyaux et éléments intérieurs et extérieurs)","mamelons"]
[null,null,null,"Voirie, réseaux intérieurs et extérieurs","Réseaux d'adduction d'eau et de gaz (tuyaux et éléments intérieurs et extérieurs)","manchons - réductions"]
[null,null,null,"Voirie, réseaux intérieurs et extérieurs","Réseaux d'adduction d'eau et de gaz (tuyaux et éléments intérieurs et extérieurs)","multicouche couronne + raccords"]
[null,null,null,"Voirie, réseaux intérieurs et extérieurs","Réseaux d'adduction d'eau et de gaz (tuyaux et éléments intérieurs et extérieurs)","p.e.r et multicouche"]
[null,null,null,"Voirie, réseaux intérieurs et extérieurs","Réseaux d'adduction d'eau et de gaz (tuyaux et éléments intérieurs et extérieurs)","per couronne + raccords"]
[null,null,null,"Voirie, réseaux intérieurs et extérieurs","Réseaux d'adduction d'eau et de gaz (tuyaux et éléments intérieurs et extérieurs)","pièces de raccord"]
[null,null,null,"Voirie, réseaux intérieurs et extérieurs","Réseaux d'adduction d'eau et de gaz (tuyaux et éléments intérieurs et extérieurs)","puits canadien"]
[null,null,null,"Voirie, réseaux intérieurs et extérieurs","Réseaux d'adduction d'eau et de gaz (tuyaux et éléments intérieurs et extérieurs)","raccordement gaz"]
[null,null,null,"Voirie, réseaux intérieurs et extérieurs","Réseaux d'adduction d'eau et de gaz (tuyaux et éléments intérieurs et extérieurs)","raccords"]
[null,null,null,"Voirie, réseaux intérieurs et extérieurs","Réseaux d'adduction d'eau et de gaz (tuyaux et éléments intérieurs et extérieurs)","raccords à visser"]
[null,null,null,"Voirie, réseaux intérieurs et extérieurs","Réseaux d'adduction d'eau et de gaz (tuyaux et éléments intérieurs et extérieurs)","raccords cuivre à souder"]
[null,null,null,"Voirie, réseaux intérieurs et extérieurs","Réseaux d'adduction d'eau et de gaz (tuyaux et éléments intérieurs et extérieurs)","raccords rapide"]
[null,null,null,"Voirie, réseaux intérieurs et extérieurs","Réseaux d'adduction d'eau et de gaz (tuyaux et éléments intérieurs et extérieurs)","regards compteur d'eau"]
[null,null,null,"Voirie, réseaux intérieurs et extérieurs","Réseaux d'adduction d'eau et de gaz (tuyaux et éléments intérieurs et extérieurs)","réhausses"]
[null,null,null,"Voirie, réseaux intérieurs et extérieurs","Réseaux d'adduction d'eau et de gaz (tuyaux et éléments intérieurs et extérieurs)","réseau incendie"]
[null,null,null,"Voirie, réseaux intérieurs et extérieurs","Réseaux d'adduction d'eau et de gaz (tuyaux et éléments intérieurs et extérieurs)","robinet machine à laver"]
[null,null,null,"Voirie, réseaux intérieurs et extérieurs","Réseaux d'adduction d'eau et de gaz (tuyaux et éléments intérieurs et extérieurs)","robinets d'arrêt"]
[null,null,null,"Voirie, réseaux intérieurs et extérieurs","Réseaux d'adduction d'eau et de gaz (tuyaux et éléments intérieurs et extérieurs)","robinets d'arrosage"]
[null,null,null,"Voirie, réseaux intérieurs et extérieurs","Réseaux d'adduction d'eau et de gaz (tuyaux et éléments intérieurs et extérieurs)","robinets raccord"]
[null,null,null,"Voirie, réseaux intérieurs et extérieurs","Réseaux d'adduction d'eau et de gaz (tuyaux et éléments intérieurs et extérieurs)","sectionnements"]
[null,null,null,"Voirie, réseaux intérieurs et extérieurs","Réseaux d'adduction d'eau et de gaz (tuyaux et éléments intérieurs et extérieurs)","systèmes d’ouverture automatique pour efc"]
[null,null,null,"Voirie, réseaux intérieurs et extérieurs","Réseaux d'adduction d'eau et de gaz (tuyaux et éléments intérieurs et extérieurs)","têtes de sécurité"]
[null,null,null,"Voirie, réseaux intérieurs et extérieurs","Réseaux d'adduction d'eau et de gaz (tuyaux et éléments intérieurs et extérieurs)","tubes"]
[null,null,null,"Voirie, réseaux intérieurs et extérieurs","Réseaux d'adduction d'eau et de gaz (tuyaux et éléments intérieurs et extérieurs)","tubes et raccords pvc"]
[null,null,null,"Voirie, réseaux intérieurs et extérieurs","Réseaux d'adduction d'eau et de gaz (tuyaux et éléments intérieurs et extérieurs)","tuyaux"]
[null,null,null,"Voirie, réseaux intérieurs et extérieurs","Réseaux d'adduction d'eau et de gaz (tuyaux et éléments intérieurs et extérieurs)","tuyaux armés"]
[null,null,null,"Voirie, réseaux intérieurs et extérieurs","Réseaux d'adduction d'eau et de gaz (tuyaux et éléments intérieurs et extérieurs)","tuyaux de carburant"]
[null,null,null,"Voirie, réseaux intérieurs et extérieurs","Réseaux d'adduction d'eau et de gaz (tuyaux et éléments intérieurs et extérieurs)","tuyaux et pièces spécifiques pour réseaux de distribution d'eau"]
[null,null,null,"Voirie, réseaux intérieurs et extérieurs","Réseaux d'adduction d'eau et de gaz (tuyaux et éléments intérieurs et extérieurs)","tuyaux et produits manufacturés pour aqueducs"]
[null,null,null,"Voirie, réseaux intérieurs et extérieurs","Réseaux d'adduction d'eau et de gaz (tuyaux et éléments intérieurs et extérieurs)","tuyaux non armés"]
[null,null,null,"Voirie, réseaux intérieurs et extérieurs","Réseaux d'adduction d'eau et de gaz (tuyaux et éléments intérieurs et extérieurs)","tuyaux pour réseaux de gaz domestique"]
[null,null,null,"Voirie, réseaux intérieurs et extérieurs","Réseaux d'adduction d'eau et de gaz (tuyaux et éléments intérieurs et extérieurs)","vannes"]
[]
[null,317,null,"Evacuation et assainissement des eaux pluviales et usées (goutières, raccords, traitement, drainage, évacuation)"]
[]
[null,null,null,"Rayon","Catégorie","Exemples de produits (non-exhaustif)"]
[null,null,null,{"$f":"$B$1444","v":"Voirie, réseaux intérieurs et extérieurs"},{"$f":"$D$1525","v":"Evacuation et assainissement des eaux pluviales et usées (goutières, raccords, traitement, drainage, évacuation)"},"bac dégraisseurs"]
[null,null,null,"Voirie, réseaux intérieurs et extérieurs","Evacuation et assainissement des eaux pluviales et usées (goutières, raccords, traitement, drainage, évacuation)","bassins de sédimentation pour installations d’écoulement"]
[null,null,null,"Voirie, réseaux intérieurs et extérieurs","Evacuation et assainissement des eaux pluviales et usées (goutières, raccords, traitement, drainage, évacuation)","boite à eaux"]
[null,null,null,"Voirie, réseaux intérieurs et extérieurs","Evacuation et assainissement des eaux pluviales et usées (goutières, raccords, traitement, drainage, évacuation)","bouche d'incendie"]
[null,null,null,"Voirie, réseaux intérieurs et extérieurs","Evacuation et assainissement des eaux pluviales et usées (goutières, raccords, traitement, drainage, évacuation)","cadres et tampons acier galva"]
[null,null,null,"Voirie, réseaux intérieurs et extérieurs","Evacuation et assainissement des eaux pluviales et usées (goutières, raccords, traitement, drainage, évacuation)","cadres et tampons fonte"]
[null,null,null,"Voirie, réseaux intérieurs et extérieurs","Evacuation et assainissement des eaux pluviales et usées (goutières, raccords, traitement, drainage, évacuation)","canalisations pour installations de drainage"]
[null,null,null,"Voirie, réseaux intérieurs et extérieurs","Evacuation et assainissement des eaux pluviales et usées (goutières, raccords, traitement, drainage, évacuation)","collecteurs pour installations d’écoulement"]
[null,null,null,"Voirie, réseaux intérieurs et extérieurs","Evacuation et assainissement des eaux pluviales et usées (goutières, raccords, traitement, drainage, évacuation)","composants pour réseaux d’eaux usées"]
[null,null,null,"Voirie, réseaux intérieurs et extérieurs","Evacuation et assainissement des eaux pluviales et usées (goutières, raccords, traitement, drainage, évacuation)","conduites d’écoulement"]
[null,null,null,"Voirie, réseaux intérieurs et extérieurs","Evacuation et assainissement des eaux pluviales et usées (goutières, raccords, traitement, drainage, évacuation)","corps de chambre de tirage composite"]
[null,null,null,"Voirie, réseaux intérieurs et extérieurs","Evacuation et assainissement des eaux pluviales et usées (goutières, raccords, traitement, drainage, évacuation)","culottes"]
[null,null,null,"Voirie, réseaux intérieurs et extérieurs","Evacuation et assainissement des eaux pluviales et usées (goutières, raccords, traitement, drainage, évacuation)","cuves descentes"]
[null,null,null,"Voirie, réseaux intérieurs et extérieurs","Evacuation et assainissement des eaux pluviales et usées (goutières, raccords, traitement, drainage, évacuation)","drain"]
[null,null,null,"Voirie, réseaux intérieurs et extérieurs","Evacuation et assainissement des eaux pluviales et usées (goutières, raccords, traitement, drainage, évacuation)","éléments et canaux de drainage"]
[null,null,null,"Voirie, réseaux intérieurs et extérieurs","Evacuation et assainissement des eaux pluviales et usées (goutières, raccords, traitement, drainage, évacuation)","epandage"]
[null,null,null,"Voirie, réseaux intérieurs et extérieurs","Evacuation et assainissement des eaux pluviales et usées (goutières, raccords, traitement, drainage, évacuation)","épurateur"]
[null,null,null,"Voirie, réseaux intérieurs et extérieurs","Evacuation et assainissement des eaux pluviales et usées (goutières, raccords, traitement, drainage, évacuation)","evacuation de baignoire"]
[null,null,null,"Voirie, réseaux intérieurs et extérieurs","Evacuation et assainissement des eaux pluviales et usées (goutières, raccords, traitement, drainage, évacuation)","evacuation de douche"]
[null,null,null,"Voirie, réseaux intérieurs et extérieurs","Evacuation et assainissement des eaux pluviales et usées (goutières, raccords, traitement, drainage, évacuation)","evacuation de lavabo-vasque"]
[null,null,null,"Voirie, réseaux intérieurs et extérieurs","Evacuation et assainissement des eaux pluviales et usées (goutières, raccords, traitement, drainage, évacuation)","evacuation de lave-linge"]
[null,null,null,"Voirie, réseaux intérieurs et extérieurs","Evacuation et assainissement des eaux pluviales et usées (goutières, raccords, traitement, drainage, évacuation)","evacuation de lave-vaisselle"]
[null,null,null,"Voirie, réseaux intérieurs et extérieurs","Evacuation et assainissement des eaux pluviales et usées (goutières, raccords, traitement, drainage, évacuation)","evacuation d'évier"]
[null,null,null,"Voirie, réseaux intérieurs et extérieurs","Evacuation et assainissement des eaux pluviales et usées (goutières, raccords, traitement, drainage, évacuation)","évacuations de trottoir"]
[null,null,null,"Voirie, réseaux intérieurs et extérieurs","Evacuation et assainissement des eaux pluviales et usées (goutières, raccords, traitement, drainage, évacuation)","évaucation d'eau en béton"]
[null,null,null,"Voirie, réseaux intérieurs et extérieurs","Evacuation et assainissement des eaux pluviales et usées (goutières, raccords, traitement, drainage, évacuation)","filtres"]
[null,null,null,"Voirie, réseaux intérieurs et extérieurs","Evacuation et assainissement des eaux pluviales et usées (goutières, raccords, traitement, drainage, évacuation)","fosses pour installations d’écoulement"]
[null,null,null,"Voirie, réseaux intérieurs et extérieurs","Evacuation et assainissement des eaux pluviales et usées (goutières, raccords, traitement, drainage, évacuation)","fosses septiques"]
[null,null,null,"Voirie, réseaux intérieurs et extérieurs","Evacuation et assainissement des eaux pluviales et usées (goutières, raccords, traitement, drainage, évacuation)","fosses toutes eaux"]
[null,null,null,"Voirie, réseaux intérieurs et extérieurs","Evacuation et assainissement des eaux pluviales et usées (goutières, raccords, traitement, drainage, évacuation)","goutières"]
[null,null,null,"Voirie, réseaux intérieurs et extérieurs","Evacuation et assainissement des eaux pluviales et usées (goutières, raccords, traitement, drainage, évacuation)","grille "]
[null,null,null,"Voirie, réseaux intérieurs et extérieurs","Evacuation et assainissement des eaux pluviales et usées (goutières, raccords, traitement, drainage, évacuation)","grille avaloir"]
[null,null,null,"Voirie, réseaux intérieurs et extérieurs","Evacuation et assainissement des eaux pluviales et usées (goutières, raccords, traitement, drainage, évacuation)","grille avaloir et bouche égout"]
[null,null,null,"Voirie, réseaux intérieurs et extérieurs","Evacuation et assainissement des eaux pluviales et usées (goutières, raccords, traitement, drainage, évacuation)","grille caniveau"]
[null,null,null,"Voirie, réseaux intérieurs et extérieurs","Evacuation et assainissement des eaux pluviales et usées (goutières, raccords, traitement, drainage, évacuation)","grille concave carrée"]
[null,null,null,"Voirie, réseaux intérieurs et extérieurs","Evacuation et assainissement des eaux pluviales et usées (goutières, raccords, traitement, drainage, évacuation)","grille d400 caniveau"]
[null,null,null,"Voirie, réseaux intérieurs et extérieurs","Evacuation et assainissement des eaux pluviales et usées (goutières, raccords, traitement, drainage, évacuation)","grille divers"]
[null,null,null,"Voirie, réseaux intérieurs et extérieurs","Evacuation et assainissement des eaux pluviales et usées (goutières, raccords, traitement, drainage, évacuation)","grille plate carrée"]
[null,null,null,"Voirie, réseaux intérieurs et extérieurs","Evacuation et assainissement des eaux pluviales et usées (goutières, raccords, traitement, drainage, évacuation)","hampes"]
[null,null,null,"Voirie, réseaux intérieurs et extérieurs","Evacuation et assainissement des eaux pluviales et usées (goutières, raccords, traitement, drainage, évacuation)","installations d’épuration et d'élimination"]
[null,null,null,"Voirie, réseaux intérieurs et extérieurs","Evacuation et assainissement des eaux pluviales et usées (goutières, raccords, traitement, drainage, évacuation)","installations de phytoépuration"]
[null,null,null,"Voirie, réseaux intérieurs et extérieurs","Evacuation et assainissement des eaux pluviales et usées (goutières, raccords, traitement, drainage, évacuation)","natte de drainage"]
[null,null,null,"Voirie, réseaux intérieurs et extérieurs","Evacuation et assainissement des eaux pluviales et usées (goutières, raccords, traitement, drainage, évacuation)","passage de conduite"]
[null,null,null,"Voirie, réseaux intérieurs et extérieurs","Evacuation et assainissement des eaux pluviales et usées (goutières, raccords, traitement, drainage, évacuation)","pipe wc"]
[null,null,null,"Voirie, réseaux intérieurs et extérieurs","Evacuation et assainissement des eaux pluviales et usées (goutières, raccords, traitement, drainage, évacuation)","produits de réparation fuite d'eau"]
[null,null,null,"Voirie, réseaux intérieurs et extérieurs","Evacuation et assainissement des eaux pluviales et usées (goutières, raccords, traitement, drainage, évacuation)","regard à remplir"]
[null,null,null,"Voirie, réseaux intérieurs et extérieurs","Evacuation et assainissement des eaux pluviales et usées (goutières, raccords, traitement, drainage, évacuation)","regards (égouts)"]
[null,null,null,"Voirie, réseaux intérieurs et extérieurs","Evacuation et assainissement des eaux pluviales et usées (goutières, raccords, traitement, drainage, évacuation)","séparateurs - décolloïdeurs - débourbeurs"]
[null,null,null,"Voirie, réseaux intérieurs et extérieurs","Evacuation et assainissement des eaux pluviales et usées (goutières, raccords, traitement, drainage, évacuation)","séparateurs décanteurs"]
[null,null,null,"Voirie, réseaux intérieurs et extérieurs","Evacuation et assainissement des eaux pluviales et usées (goutières, raccords, traitement, drainage, évacuation)","systèmes de drainage et de protection enterrée"]
[null,null,null,"Voirie, réseaux intérieurs et extérieurs","Evacuation et assainissement des eaux pluviales et usées (goutières, raccords, traitement, drainage, évacuation)","systèmes de récupération des eaux de pluie"]
[null,null,null,"Voirie, réseaux intérieurs et extérieurs","Evacuation et assainissement des eaux pluviales et usées (goutières, raccords, traitement, drainage, évacuation)","tampon composite et accessoires"]
[null,null,null,"Voirie, réseaux intérieurs et extérieurs","Evacuation et assainissement des eaux pluviales et usées (goutières, raccords, traitement, drainage, évacuation)","tuyaux et produits manufacturés pour égouts"]
[null,null,null,"Voirie, réseaux intérieurs et extérieurs","Evacuation et assainissement des eaux pluviales et usées (goutières, raccords, traitement, drainage, évacuation)","vanne"]
[]
[null,318,null,"Cuves et réservoirs"]
[]
[null,null,null,"Rayon","Catégorie","Exemples de produits (non-exhaustif)"]
[null,null,null,{"$f":"$B$1444","v":"Voirie, réseaux intérieurs et extérieurs"},{"$f":"$D$1583","v":"Cuves et réservoirs"},"bassin de stockage des eaux pluviales enterré ou hors sol"]
[null,null,null,"Voirie, réseaux intérieurs et extérieurs","Cuves et réservoirs","cuves"]
[null,null,null,"Voirie, réseaux intérieurs et extérieurs","Cuves et réservoirs","réservoirs enfouis"]
[null,null,null,"Voirie, réseaux intérieurs et extérieurs","Cuves et réservoirs","bassins"]
[null,null,null,"Voirie, réseaux intérieurs et extérieurs","Cuves et réservoirs","silos et conteneurs spéciaux"]
[null,null,null,"Voirie, réseaux intérieurs et extérieurs","Cuves et réservoirs","bassins de récupération des eaux usées"]
[]
[null,321,null,"Eléments de voirie spéciaux et divers produits et matériaux de voirie et réseaux"]
[]
[null,null,null,"Rayon","Catégorie","Exemples de produits (non-exhaustif)"]
[null,null,null,{"$f":"$B$1444","v":"Voirie, réseaux intérieurs et extérieurs"},{"$f":"$D$1593","v":"Eléments de voirie spéciaux et divers produits et matériaux de voirie et réseaux"},"réseau d'évacuation des déchets (vide-ordures)"]
[null,null,null,"Voirie, réseaux intérieurs et extérieurs","Eléments de voirie spéciaux et divers produits et matériaux de voirie et réseaux","barrières routières anti-bruit"]
[null,null,null,"Voirie, réseaux intérieurs et extérieurs","Eléments de voirie spéciaux et divers produits et matériaux de voirie et réseaux","murs de rétention"]
[null,null,null,"Voirie, réseaux intérieurs et extérieurs","Eléments de voirie spéciaux et divers produits et matériaux de voirie et réseaux","Accessoire de ventilation vide sanitaire"]
[null,null,null,"Voirie, réseaux intérieurs et extérieurs","Eléments de voirie spéciaux et divers produits et matériaux de voirie et réseaux","station d'épuration"]
[null,null,null,"Voirie, réseaux intérieurs et extérieurs","Eléments de voirie spéciaux et divers produits et matériaux de voirie et réseaux","esse de réglage pour poteaux incendie"]
[null,null,null,"Voirie, réseaux intérieurs et extérieurs","Eléments de voirie spéciaux et divers produits et matériaux de voirie et réseaux","accessoires tuyaux pehd"]
[null,null,null,"Voirie, réseaux intérieurs et extérieurs","Eléments de voirie spéciaux et divers produits et matériaux de voirie et réseaux","accessoires pour vannes jafar"]
[null,null,null,"Voirie, réseaux intérieurs et extérieurs","Eléments de voirie spéciaux et divers produits et matériaux de voirie et réseaux","sécurité routière"]
[null,null,null,"Voirie, réseaux intérieurs et extérieurs","Eléments de voirie spéciaux et divers produits et matériaux de voirie et réseaux","traverse de chemin de fer"]
[null,null,null,"Voirie, réseaux intérieurs et extérieurs","Eléments de voirie spéciaux et divers produits et matériaux de voirie et réseaux","signalétique urbaine"]
[]
[null,null,null,null,null,null,null,null,""]
[null,"Structure, maçonnerie, gros oeuvre, charpente",null,null,null,null,null,null,""]
[null,null,null,null,null,null,null,null,""]
[null,330,null,"Eléments de charpente et contreventements",null,null,null,null,""]
[null,null,null,null,null,null,null,null,""]
[null,null,null,"Rayon","Catégorie","Exemples de produits (non-exhaustif)"]
[null,null,null,{"$f":"$B$1609","v":"Structure, maçonnerie, gros oeuvre, charpente"},{"$f":"$D$1611","v":"Eléments de charpente et contreventements"},"volige"]
[null,null,null,"Structure, maçonnerie, gros oeuvre, charpente","Eléments de charpente et contreventements","systèmes structurels intégrés en bois"]
[null,null,null,"Structure, maçonnerie, gros oeuvre, charpente","Eléments de charpente et contreventements","systèmes de raccordement pour structures en bois"]
[null,null,null,"Structure, maçonnerie, gros oeuvre, charpente","Eléments de charpente et contreventements","support en u"]
[null,null,null,"Structure, maçonnerie, gros oeuvre, charpente","Eléments de charpente et contreventements","structures pour couvertures et charpentes en bois"]
[null,null,null,"Structure, maçonnerie, gros oeuvre, charpente","Eléments de charpente et contreventements","solivette"]
[null,null,null,"Structure, maçonnerie, gros oeuvre, charpente","Eléments de charpente et contreventements","solive"]
[null,null,null,"Structure, maçonnerie, gros oeuvre, charpente","Eléments de charpente et contreventements","poutres en bois"]
[null,null,null,"Structure, maçonnerie, gros oeuvre, charpente","Eléments de charpente et contreventements","poutres bois"]
[null,null,null,"Structure, maçonnerie, gros oeuvre, charpente","Eléments de charpente et contreventements","poutrelles treillis"]
[null,null,null,"Structure, maçonnerie, gros oeuvre, charpente","Eléments de charpente et contreventements","poutrelles précontraintes"]
[null,null,null,"Structure, maçonnerie, gros oeuvre, charpente","Eléments de charpente et contreventements","poutrelle"]
[null,null,null,"Structure, maçonnerie, gros oeuvre, charpente","Eléments de charpente et contreventements","poutre lamellées-collées"]
[null,null,null,"Structure, maçonnerie, gros oeuvre, charpente","Eléments de charpente et contreventements","poutre en i"]
[null,null,null,"Structure, maçonnerie, gros oeuvre, charpente","Eléments de charpente et contreventements","poutre clt"]
[null,null,null,"Structure, maçonnerie, gros oeuvre, charpente","Eléments de charpente et contreventements","poutre bois massif"]
[null,null,null,"Structure, maçonnerie, gros oeuvre, charpente","Eléments de charpente et contreventements","poteaux en bois"]
[null,null,null,"Structure, maçonnerie, gros oeuvre, charpente","Eléments de charpente et contreventements","panneau clt"]
[null,null,null,"Structure, maçonnerie, gros oeuvre, charpente","Eléments de charpente et contreventements","pan de bois"]
[null,null,null,"Structure, maçonnerie, gros oeuvre, charpente","Eléments de charpente et contreventements","mâts et candélabres"]
[null,null,null,"Structure, maçonnerie, gros oeuvre, charpente","Eléments de charpente et contreventements","liteau"]
[null,null,null,"Structure, maçonnerie, gros oeuvre, charpente","Eléments de charpente et contreventements","latte"]
[null,null,null,"Structure, maçonnerie, gros oeuvre, charpente","Eléments de charpente et contreventements","lambourde"]
[null,null,null,"Structure, maçonnerie, gros oeuvre, charpente","Eléments de charpente et contreventements","equerre"]
[null,null,null,"Structure, maçonnerie, gros oeuvre, charpente","Eléments de charpente et contreventements","cornière"]
[null,null,null,"Structure, maçonnerie, gros oeuvre, charpente","Eléments de charpente et contreventements","corbeaux"]
[null,null,null,"Structure, maçonnerie, gros oeuvre, charpente","Eléments de charpente et contreventements","chevron"]
[null,null,null,"Structure, maçonnerie, gros oeuvre, charpente","Eléments de charpente et contreventements","charpenterie légère du bois"]
[null,null,null,"Structure, maçonnerie, gros oeuvre, charpente","Eléments de charpente et contreventements","charpente traditionnelle fabriquée"]
[null,null,null,"Structure, maçonnerie, gros oeuvre, charpente","Eléments de charpente et contreventements","charpente industrielle"]
[null,null,null,"Structure, maçonnerie, gros oeuvre, charpente","Eléments de charpente et contreventements","bandeau"]
[null,null,null,"Structure, maçonnerie, gros oeuvre, charpente","Eléments de charpente et contreventements","bande protection lambourde"]
[null,null,null,"Structure, maçonnerie, gros oeuvre, charpente","Eléments de charpente et contreventements","arbalétrier"]
[null,null,null,"Structure, maçonnerie, gros oeuvre, charpente","Eléments de charpente et contreventements","ancre"]
[null,null,null,null,null,null,null,null,""]
[null,331,null,"Construction métallique, armatures et ferraillages",null,null,null,null,""]
[null,null,null,null,null,null,null,null,""]
[null,null,null,"Rayon","Catégorie","Exemples de produits (non-exhaustif)"]
[null,null,null,{"$f":"$B$1609","v":"Structure, maçonnerie, gros oeuvre, charpente"},{"$f":"$D$1649","v":"Construction métallique, armatures et ferraillages"},"poutres en métal"]
[null,null,null,"Structure, maçonnerie, gros oeuvre, charpente","Construction métallique, armatures et ferraillages","structure métal"]
[null,null,null,"Structure, maçonnerie, gros oeuvre, charpente","Construction métallique, armatures et ferraillages","fer à béton"]
[null,null,null,"Structure, maçonnerie, gros oeuvre, charpente","Construction métallique, armatures et ferraillages","montants"]
[null,null,null,"Structure, maçonnerie, gros oeuvre, charpente","Construction métallique, armatures et ferraillages","ossature acier"]
[null,null,null,"Structure, maçonnerie, gros oeuvre, charpente","Construction métallique, armatures et ferraillages","ossature aluminium"]
[null,null,null,"Structure, maçonnerie, gros oeuvre, charpente","Construction métallique, armatures et ferraillages","ossature métallique pour cloison et plafond"]
[null,null,null,"Structure, maçonnerie, gros oeuvre, charpente","Construction métallique, armatures et ferraillages","ossature mixte"]
[null,null,null,"Structure, maçonnerie, gros oeuvre, charpente","Construction métallique, armatures et ferraillages","ossatures acier / alu / tasseaux"]
[null,null,null,"Structure, maçonnerie, gros oeuvre, charpente","Construction métallique, armatures et ferraillages","planches de rives"]
[null,null,null,"Structure, maçonnerie, gros oeuvre, charpente","Construction métallique, armatures et ferraillages","semelle"]
[null,null,null,"Structure, maçonnerie, gros oeuvre, charpente","Construction métallique, armatures et ferraillages","treillis soudé"]
[null,null,null,"Structure, maçonnerie, gros oeuvre, charpente","Construction métallique, armatures et ferraillages","chaînages horizontaux"]
[null,null,null,"Structure, maçonnerie, gros oeuvre, charpente","Construction métallique, armatures et ferraillages","chaînages verticaux"]
[null,null,null,"Structure, maçonnerie, gros oeuvre, charpente","Construction métallique, armatures et ferraillages","coffre de volet roulant"]
[null,null,null,"Structure, maçonnerie, gros oeuvre, charpente","Construction métallique, armatures et ferraillages","linteaux métalliques"]
[null,null,null,"Structure, maçonnerie, gros oeuvre, charpente","Construction métallique, armatures et ferraillages","portiques aciers"]
[null,null,null,"Structure, maçonnerie, gros oeuvre, charpente","Construction métallique, armatures et ferraillages","accessoires de feraillage"]
[null,null,null,"Structure, maçonnerie, gros oeuvre, charpente","Construction métallique, armatures et ferraillages","angles-poteaux"]
[null,null,null,"Structure, maçonnerie, gros oeuvre, charpente","Construction métallique, armatures et ferraillages","armature façonnée"]
[null,null,null,"Structure, maçonnerie, gros oeuvre, charpente","Construction métallique, armatures et ferraillages","gabions"]
[null,null,null,"Structure, maçonnerie, gros oeuvre, charpente","Construction métallique, armatures et ferraillages","plannelles"]
[null,null,null,"Structure, maçonnerie, gros oeuvre, charpente","Construction métallique, armatures et ferraillages","lisses"]
[null,null,null,"Structure, maçonnerie, gros oeuvre, charpente","Construction métallique, armatures et ferraillages","rond à béton"]
[null,null,null,"Structure, maçonnerie, gros oeuvre, charpente","Construction métallique, armatures et ferraillages","profilé aluminium"]
[null,null,null,"Structure, maçonnerie, gros oeuvre, charpente","Construction métallique, armatures et ferraillages","plat perforé"]
[null,null,null,"Structure, maçonnerie, gros oeuvre, charpente","Construction métallique, armatures et ferraillages","rond aluminium"]
[null,null,null,"Structure, maçonnerie, gros oeuvre, charpente","Construction métallique, armatures et ferraillages","blindages pour excavations et canalisations"]
[null,null,null,"Structure, maçonnerie, gros oeuvre, charpente","Construction métallique, armatures et ferraillages","tube rond aluminium"]
[null,null,null,"Structure, maçonnerie, gros oeuvre, charpente","Construction métallique, armatures et ferraillages","cornière perforée"]
[null,null,null,"Structure, maçonnerie, gros oeuvre, charpente","Construction métallique, armatures et ferraillages","étais"]
[null,null,null,"Structure, maçonnerie, gros oeuvre, charpente","Construction métallique, armatures et ferraillages","joints, fixations et accessoires pour échafaudages"]
[null,null,null,"Structure, maçonnerie, gros oeuvre, charpente","Construction métallique, armatures et ferraillages","cornière damier"]
[null,null,null,"Structure, maçonnerie, gros oeuvre, charpente","Construction métallique, armatures et ferraillages","grilles de protection"]
[null,null,null,"Structure, maçonnerie, gros oeuvre, charpente","Construction métallique, armatures et ferraillages","barres, ronds, châssis d’armature en acier pour béton armé"]
[null,null,null,"Structure, maçonnerie, gros oeuvre, charpente","Construction métallique, armatures et ferraillages","câbles, torsades, torons pour béton armé précontraint"]
[null,null,null,"Structure, maçonnerie, gros oeuvre, charpente","Construction métallique, armatures et ferraillages","grilles électrosoudées"]
[null,null,null,"Structure, maçonnerie, gros oeuvre, charpente","Construction métallique, armatures et ferraillages","treillis électrosoudés"]
[null,null,null,"Structure, maçonnerie, gros oeuvre, charpente","Construction métallique, armatures et ferraillages","câbles, tirants, cordes en acier"]
[null,null,null,"Structure, maçonnerie, gros oeuvre, charpente","Construction métallique, armatures et ferraillages","découpe laser et plasma"]
[null,null,null,"Structure, maçonnerie, gros oeuvre, charpente","Construction métallique, armatures et ferraillages","demi-produits et produits manufacturés en acier inoxydable"]
[null,null,null,"Structure, maçonnerie, gros oeuvre, charpente","Construction métallique, armatures et ferraillages","façonnages du métal"]
[null,null,null,"Structure, maçonnerie, gros oeuvre, charpente","Construction métallique, armatures et ferraillages","feuilles métalliques en rouleaux et bandes"]
[null,null,null,"Structure, maçonnerie, gros oeuvre, charpente","Construction métallique, armatures et ferraillages","fil barbelé et fil d’acier tréfilé"]
[null,null,null,"Structure, maçonnerie, gros oeuvre, charpente","Construction métallique, armatures et ferraillages","grilles et toiles métalliques"]
[null,null,null,"Structure, maçonnerie, gros oeuvre, charpente","Construction métallique, armatures et ferraillages","joints métalliques"]
[null,null,null,"Structure, maçonnerie, gros oeuvre, charpente","Construction métallique, armatures et ferraillages","produits manufacturés artisanaux en fer"]
[null,null,null,"Structure, maçonnerie, gros oeuvre, charpente","Construction métallique, armatures et ferraillages","tôles gaufrées et striées"]
[null,null,null,"Structure, maçonnerie, gros oeuvre, charpente","Construction métallique, armatures et ferraillages","tôles métalliques"]
[null,null,null,"Structure, maçonnerie, gros oeuvre, charpente","Construction métallique, armatures et ferraillages","tôles nervurées et ondulées en acier"]
[null,null,null,"Structure, maçonnerie, gros oeuvre, charpente","Construction métallique, armatures et ferraillages","tôles perforées et déployées"]
[null,null,null,"Structure, maçonnerie, gros oeuvre, charpente","Construction métallique, armatures et ferraillages","systèmes de construction en charpenterie métallique"]
[null,null,null,"Structure, maçonnerie, gros oeuvre, charpente","Construction métallique, armatures et ferraillages","structures de couvertures métalliques et charpentes métalliques pour couverture"]
[null,null,null,"Structure, maçonnerie, gros oeuvre, charpente","Construction métallique, armatures et ferraillages","poutres, piliers et profilés métalliques structurels"]
[null,null,null,"Structure, maçonnerie, gros oeuvre, charpente","Construction métallique, armatures et ferraillages","structures métalliques en treillis"]
[null,null,null,"Structure, maçonnerie, gros oeuvre, charpente","Construction métallique, armatures et ferraillages","poutres et piliers à structure mixte"]
[null,null,null,"Structure, maçonnerie, gros oeuvre, charpente","Construction métallique, armatures et ferraillages","structures réticulaires métalliques pour couverture"]
[null,null,null,"Structure, maçonnerie, gros oeuvre, charpente","Construction métallique, armatures et ferraillages","systèmes modulaires pour scènes et tribunes en métal"]
[null,null,null,"Structure, maçonnerie, gros oeuvre, charpente","Construction métallique, armatures et ferraillages","auvents métalliques"]
[null,null,null,"Structure, maçonnerie, gros oeuvre, charpente","Construction métallique, armatures et ferraillages","pylônes en treillis métallique pour lignes haute tension"]
[null,null,null,null,null,null,null,null,""]
[null,332,null,"Eléments préfabriqués hors blocs de béton",null,null,null,null,""]
[]
[null,null,null,"Rayon","Catégorie","Exemples de produits (non-exhaustif)"]
[null,null,null,{"$f":"$B$1609","v":"Structure, maçonnerie, gros oeuvre, charpente"},{"$f":"$D$1713","v":"Eléments préfabriqués hors blocs de béton"},"accessoires pour murs"]
[null,null,null,"Structure, maçonnerie, gros oeuvre, charpente","Eléments préfabriqués hors blocs de béton","allèges"]
[null,null,null,"Structure, maçonnerie, gros oeuvre, charpente","Eléments préfabriqués hors blocs de béton","bauge en terre"]
[null,null,null,"Structure, maçonnerie, gros oeuvre, charpente","Eléments préfabriqués hors blocs de béton","cadre"]
[null,null,null,"Structure, maçonnerie, gros oeuvre, charpente","Eléments préfabriqués hors blocs de béton","chassis"]
[null,null,null,"Structure, maçonnerie, gros oeuvre, charpente","Eléments préfabriqués hors blocs de béton","connecteurs pour planchers"]
[null,null,null,"Structure, maçonnerie, gros oeuvre, charpente","Eléments préfabriqués hors blocs de béton","dalles alvéolées"]
[null,null,null,"Structure, maçonnerie, gros oeuvre, charpente","Eléments préfabriqués hors blocs de béton","dalles pleines"]
[null,null,null,"Structure, maçonnerie, gros oeuvre, charpente","Eléments préfabriqués hors blocs de béton","dalles pour piscines"]
[null,null,null,"Structure, maçonnerie, gros oeuvre, charpente","Eléments préfabriqués hors blocs de béton","dalles tubulaires"]
[null,null,null,"Structure, maçonnerie, gros oeuvre, charpente","Eléments préfabriqués hors blocs de béton","éléments de menuiserie"]
[null,null,null,"Structure, maçonnerie, gros oeuvre, charpente","Eléments préfabriqués hors blocs de béton","éléments de voirie préfabriqués en béton"]
[null,null,null,"Structure, maçonnerie, gros oeuvre, charpente","Eléments préfabriqués hors blocs de béton","linteaux béton"]
[null,null,null,"Structure, maçonnerie, gros oeuvre, charpente","Eléments préfabriqués hors blocs de béton","maisons-conteneurs"]
[null,null,null,"Structure, maçonnerie, gros oeuvre, charpente","Eléments préfabriqués hors blocs de béton","murs à coffrage intégré"]
[null,null,null,"Structure, maçonnerie, gros oeuvre, charpente","Eléments préfabriqués hors blocs de béton","murs pignons"]
[null,null,null,"Structure, maçonnerie, gros oeuvre, charpente","Eléments préfabriqués hors blocs de béton","murs préfabriqués"]
[null,null,null,"Structure, maçonnerie, gros oeuvre, charpente","Eléments préfabriqués hors blocs de béton","murs préfabriqués autre que bois et béton"]
[null,null,null,"Structure, maçonnerie, gros oeuvre, charpente","Eléments préfabriqués hors blocs de béton","murs préfabriqués et murs végétalisés béton"]
[null,null,null,"Structure, maçonnerie, gros oeuvre, charpente","Eléments préfabriqués hors blocs de béton","murs végétalisés autre que bois et béton"]
[null,null,null,"Structure, maçonnerie, gros oeuvre, charpente","Eléments préfabriqués hors blocs de béton","murs végétalisés bois"]
[null,null,null,"Structure, maçonnerie, gros oeuvre, charpente","Eléments préfabriqués hors blocs de béton","ouvrant"]
[null,null,null,"Structure, maçonnerie, gros oeuvre, charpente","Eléments préfabriqués hors blocs de béton","panneaux ajourés"]
[null,null,null,"Structure, maçonnerie, gros oeuvre, charpente","Eléments préfabriqués hors blocs de béton","panneaux baies"]
[null,null,null,"Structure, maçonnerie, gros oeuvre, charpente","Eléments préfabriqués hors blocs de béton","panneaux baies (avec balcons, loggias)"]
[null,null,null,"Structure, maçonnerie, gros oeuvre, charpente","Eléments préfabriqués hors blocs de béton","panneaux de ciment et fibrociment à sec"]
[null,null,null,"Structure, maçonnerie, gros oeuvre, charpente","Eléments préfabriqués hors blocs de béton","panneaux pleins"]
[null,null,null,"Structure, maçonnerie, gros oeuvre, charpente","Eléments préfabriqués hors blocs de béton","panneaux préfabriqués de remplissage"]
[null,null,null,"Structure, maçonnerie, gros oeuvre, charpente","Eléments préfabriqués hors blocs de béton","pisé"]
[null,null,null,"Structure, maçonnerie, gros oeuvre, charpente","Eléments préfabriqués hors blocs de béton","plancher préfabriqué béton et bois"]
[null,null,null,"Structure, maçonnerie, gros oeuvre, charpente","Eléments préfabriqués hors blocs de béton","planchers alvéolaires et panneaux autoportants en béton armé et précontraint"]
[null,null,null,"Structure, maçonnerie, gros oeuvre, charpente","Eléments préfabriqués hors blocs de béton","planchers collaborants acier-béton"]
[null,null,null,"Structure, maçonnerie, gros oeuvre, charpente","Eléments préfabriqués hors blocs de béton","planchers mixtes bois-béton"]
[null,null,null,"Structure, maçonnerie, gros oeuvre, charpente","Eléments préfabriqués hors blocs de béton","plaques de revêtement"]
[null,null,null,"Structure, maçonnerie, gros oeuvre, charpente","Eléments préfabriqués hors blocs de béton","ponts et passages supérieurs"]
[null,null,null,"Structure, maçonnerie, gros oeuvre, charpente","Eléments préfabriqués hors blocs de béton","ponts et passerelles piétonnes"]
[null,null,null,"Structure, maçonnerie, gros oeuvre, charpente","Eléments préfabriqués hors blocs de béton","ponts et pontons modulaires"]
[null,null,null,"Structure, maçonnerie, gros oeuvre, charpente","Eléments préfabriqués hors blocs de béton","porteurs hors charpente"]
[null,null,null,"Structure, maçonnerie, gros oeuvre, charpente","Eléments préfabriqués hors blocs de béton","poutrelles précontraintes pour planchers en béton armé"]
[null,null,null,"Structure, maçonnerie, gros oeuvre, charpente","Eléments préfabriqués hors blocs de béton","poutrelles treillis pour planchers en béton armé"]
[null,null,null,"Structure, maçonnerie, gros oeuvre, charpente","Eléments préfabriqués hors blocs de béton","prédalles"]
[null,null,null,"Structure, maçonnerie, gros oeuvre, charpente","Eléments préfabriqués hors blocs de béton","refends"]
[null,null,null,"Structure, maçonnerie, gros oeuvre, charpente","Eléments préfabriqués hors blocs de béton","trumeaux"]
[]
[null,333,null,"Elements de ventilation de vide sanitaire"]
[]
[null,null,null,"Rayon","Catégorie","Exemples de produits (non-exhaustif)"]
[null,null,null,{"$f":"$B$1609","v":"Structure, maçonnerie, gros oeuvre, charpente"},{"$f":"$D$1760","v":"Elements de ventilation de vide sanitaire"},"cours aglaises"]
[null,null,null,"Structure, maçonnerie, gros oeuvre, charpente","Elements de ventilation de vide sanitaire","prémoulée"]
[null,null,null,"Structure, maçonnerie, gros oeuvre, charpente","Elements de ventilation de vide sanitaire","syphon"]
[null,null,null,"Structure, maçonnerie, gros oeuvre, charpente","Elements de ventilation de vide sanitaire","elements pour la ventilation"]
[null,null,null,"Structure, maçonnerie, gros oeuvre, charpente","Elements de ventilation de vide sanitaire","conduits de fumée"]
[null,null,null,"Structure, maçonnerie, gros oeuvre, charpente","Elements de ventilation de vide sanitaire","gaines aérauliques"]
[]
[null,336,null,"Divers produits et matériaux de structure et charpente"]
[]
[null,null,null,"Rayon","Catégorie","Exemples de produits (non-exhaustif)"]
[null,null,null,{"$f":"$B$1609","v":"Structure, maçonnerie, gros oeuvre, charpente"},{"$f":"$D$1770","v":"Divers produits et matériaux de structure et charpente"},"poteaux"]
[null,null,null,{"$f":"$B$1609","v":"Structure, maçonnerie, gros oeuvre, charpente"},{"$f":"$D$1770","v":"Divers produits et matériaux de structure et charpente"},"coffre tunnel et coffre demi-linteau extérieur"]
[null,null,null,"Structure, maçonnerie, gros oeuvre, charpente","Divers produits et matériaux de structure et charpente","pannes"]
[null,null,null,"Structure, maçonnerie, gros oeuvre, charpente",{"$f":"$D$1770","v":"Divers produits et matériaux de structure et charpente"},"longrines"]
[null,null,null,"Structure, maçonnerie, gros oeuvre, charpente","Divers produits et matériaux de structure et charpente","structures en matériaux spéciaux"]
[null,null,null,{"$f":"$B$1609","v":"Structure, maçonnerie, gros oeuvre, charpente"},{"$f":"$D$1770","v":"Divers produits et matériaux de structure et charpente"},"plots"]
[null,null,null,{"$f":"$B$1609","v":"Structure, maçonnerie, gros oeuvre, charpente"},{"$f":"$D$1770","v":"Divers produits et matériaux de structure et charpente"},"semelles isolées"]
[null,null,null,"Structure, maçonnerie, gros oeuvre, charpente","Divers produits et matériaux de structure et charpente","composites de prf"]
[null,null,null,"Structure, maçonnerie, gros oeuvre, charpente","Divers produits et matériaux de structure et charpente","joints de structures"]
[]
[]
[null,"Couverture et étanchéité",null,null,null,null,null,null,{"$f":"TRIM((LOWER(F1784)))","v":""}]
[null,null,null,null,null,null,null,null,{"$f":"TRIM((LOWER(F1785)))","v":""}]
[null,345,null,"Eléments de couverture"]
[]
[null,null,null,"Rayon","Catégorie","Exemples de produits (non-exhaustif)"]
[null,null,null,{"$f":"$B$1784","v":"Couverture et étanchéité"},{"$f":"$D$1786","v":"Eléments de couverture"},"tuiles, demi-tuiles"]
[null,null,null,"Couverture et étanchéité","Eléments de couverture","tuiles à douille"]
[null,null,null,"Couverture et étanchéité","Eléments de couverture","tuiles à pureau"]
[null,null,null,{"$f":"$B$1784","v":"Couverture et étanchéité"},{"$f":"$D$1786","v":"Eléments de couverture"},"lauze"]
[null,null,null,"Couverture et étanchéité","Eléments de couverture","tuiles de ventilation - chatières"]
[null,null,null,{"$f":"$B$1784","v":"Couverture et étanchéité"},{"$f":"$D$1786","v":"Eléments de couverture"},"tuile en plastique"]
[null,null,null,"Couverture et étanchéité","Eléments de couverture","tuiles d'égoût - sous-faitières"]
[null,null,null,"Couverture et étanchéité","Eléments de couverture","tuiles d'angles"]
[null,null,null,{"$f":"$B$1784","v":"Couverture et étanchéité"},{"$f":"$D$1786","v":"Eléments de couverture"},"plaque polycarbonate alvéolaire"]
[null,null,null,"Couverture et étanchéité","Eléments de couverture","autres éléments de toiture en terre cuite"]
[null,null,null,"Couverture et étanchéité","Eléments de couverture","couverture de toit en ardoise"]
[null,null,null,"Couverture et étanchéité","Eléments de couverture","couverture de toit en pierre"]
[null,null,null,"Couverture et étanchéité","Eléments de couverture","bois de chaume"]
[null,null,null,{"$f":"$B$1784","v":"Couverture et étanchéité"},{"$f":"$D$1786","v":"Eléments de couverture"},"ardoise naturelle"]
[null,null,null,{"$f":"$B$1784","v":"Couverture et étanchéité"},{"$f":"$D$1786","v":"Eléments de couverture"},"ardoise"]
[null,null,null,"Couverture et étanchéité","Eléments de couverture","plaques ondulées"]
[null,null,null,{"$f":"$B$1784","v":"Couverture et étanchéité"},{"$f":"$D$1786","v":"Eléments de couverture"},"plaques en acier double peau"]
[null,null,null,{"$f":"$B$1784","v":"Couverture et étanchéité"},{"$f":"$D$1786","v":"Eléments de couverture"},"plaques pvc, plaques polycarbonate, plaques polyester"]
[null,null,null,{"$f":"$B$1784","v":"Couverture et étanchéité"},{"$f":"$D$1786","v":"Eléments de couverture"},"bardeaux bitumineux"]
[]
[null,346,null,"Produits d'étanchéité et d'imperméabilisation"]
[]
[null,null,null,"Rayon","Catégorie","Exemples de produits (non-exhaustif)"]
[null,null,null,{"$f":"$B$1784","v":"Couverture et étanchéité"},{"$f":"$D$1809","v":"Produits d'étanchéité et d'imperméabilisation"},"bande d'étanchéité"]
[null,null,null,"Couverture et étanchéité","Produits d'étanchéité et d'imperméabilisation","etanchéité toiture"]
[null,null,null,{"$f":"$B$1784","v":"Couverture et étanchéité"},{"$f":"$D$1809","v":"Produits d'étanchéité et d'imperméabilisation"},"ruban étanche pour ponter les joints de fractionnement"]
[null,null,null,{"$f":"$B$1784","v":"Couverture et étanchéité"},{"$f":"$D$1809","v":"Produits d'étanchéité et d'imperméabilisation"},"IMTR"]
[null,null,null,{"$f":"$B$1784","v":"Couverture et étanchéité"},{"$f":"$D$1809","v":"Produits d'étanchéité et d'imperméabilisation"},"pare-vapeur auto-adhesif"]
[null,null,null,{"$f":"$B$1784","v":"Couverture et étanchéité"},{"$f":"$D$1809","v":"Produits d'étanchéité et d'imperméabilisation"},"couvertine"]
[null,null,null,"Couverture et étanchéité","Produits d'étanchéité et d'imperméabilisation","tissus enduits"]
[null,null,null,"Couverture et étanchéité","Produits d'étanchéité et d'imperméabilisation","membranes bentonitiques"]
[]
[null,349,null,"Divers élements de couverture et étanchéité (hors droguerie)"]
[]
[null,null,null,"Rayon","Catégorie","Exemples de produits (non-exhaustif)"]
[null,null,null,{"$f":"$B$1784","v":"Couverture et étanchéité"},{"$f":"$D$1821","v":"Divers élements de couverture et étanchéité (hors droguerie)"},"abergement, closoir, solin, bardage, sortie de toit, bande de rive"]
[null,null,null,{"$f":"$B$1784","v":"Couverture et étanchéité"},{"$f":"$D$1821","v":"Divers élements de couverture et étanchéité (hors droguerie)"},"eléments de couverture et toiture végétalisés"]
[null,null,null,{"$f":"$B$1784","v":"Couverture et étanchéité"},{"$f":"$D$1821","v":"Divers élements de couverture et étanchéité (hors droguerie)"},"sas d'étanchéité"]
[]
[]
[null,"Cloisonnement, plafonds"]
[null,null,null,null,null,null,null,null,{"$f":"TRIM((LOWER(F1830)))","v":""}]
[null,355,null,"Cloisons (hors plâtre et isolation)"]
[]
[null,null,null,"Rayon","Catégorie","Exemples de produits (non-exhaustif)"]
[null,null,null,{"$f":"$B$1829","v":"Cloisonnement, plafonds"},{"$f":"$D$1831","v":"Cloisons (hors plâtre et isolation)"},"cloisons composite bois"]
[null,null,null,{"$f":"$B$1829","v":"Cloisonnement, plafonds"},{"$f":"$D$1831","v":"Cloisons (hors plâtre et isolation)"},"cloisons alvéolaires"]
[null,null,null,{"$f":"$B$1829","v":"Cloisonnement, plafonds"},{"$f":"$D$1831","v":"Cloisons (hors plâtre et isolation)"},"cloisons modulaires (stratifié hpl"]
[null,null,null,{"$f":"$B$1829","v":"Cloisonnement, plafonds"},{"$f":"$D$1831","v":"Cloisons (hors plâtre et isolation)"},"claustra"]
[null,null,null,"Cloisonnement, plafonds","Cloisons (hors plâtre et isolation)","cloisons préfabriquée"]
[null,null,null,"Cloisonnement, plafonds","Cloisons (hors plâtre et isolation)","cloisons mobiles"]
[null,null,null,"Cloisonnement, plafonds","Cloisons (hors plâtre et isolation)","cloisons amovibles métaliques"]
[null,null,null,"Cloisonnement, plafonds","Cloisons (hors plâtre et isolation)","barrières antifumée"]
[null,null,null,"Cloisonnement, plafonds","Cloisons (hors plâtre et isolation)","blocs de remplissage coupe-feu"]
[null,null,null,{"$f":"$B$1829","v":"Cloisonnement, plafonds"},{"$f":"$D$1831","v":"Cloisons (hors plâtre et isolation)"},"panneaux coupe-feu pour revêtements extérieurs"]
[null,null,null,{"$f":"$B$1829","v":"Cloisonnement, plafonds"},{"$f":"$D$1831","v":"Cloisons (hors plâtre et isolation)"},"panneaux ignifuges pour cloisons intérieures"]
[null,null,null,{"$f":"$B$1829","v":"Cloisonnement, plafonds"},{"$f":"$D$1831","v":"Cloisons (hors plâtre et isolation)"},"panneaux ignifuges pour éléments structurels"]
[null,null,null,{"$f":"$B$1829","v":"Cloisonnement, plafonds"},{"$f":"$D$1831","v":"Cloisons (hors plâtre et isolation)"},"systèmes de protection des traversées"]
[]
[null,356,null,"Ossatures métalliques"]
[]
[null,null,null,"Rayon","Catégorie","Exemples de produits (non-exhaustif)"," "]
[null,null,null,{"$f":"$B$1829","v":"Cloisonnement, plafonds"},{"$f":"$D$1848","v":"Ossatures métalliques"},"ossatures métalliques pour cloisons et plafonds"]
[null,null,null,{"$f":"$B$1829","v":"Cloisonnement, plafonds"},{"$f":"$D$1848","v":"Ossatures métalliques"},"railles"]
[null,null,null,{"$f":"$B$1829","v":"Cloisonnement, plafonds"},{"$f":"$D$1848","v":"Ossatures métalliques"},"suspente"]
[null,null,null,{"$f":"$B$1829","v":"Cloisonnement, plafonds"},{"$f":"$D$1848","v":"Ossatures métalliques"},"parclose"]
[]
[null,357,null,"Plafonds suspendus, plafonds tendus"]
[]
[null,null,null,"Rayon","Catégorie","Exemples de produits (non-exhaustif)"]
[null,null,null,{"$f":"$B$1829","v":"Cloisonnement, plafonds"},{"$f":"$D$1856","v":"Plafonds suspendus, plafonds tendus"},"plafonds suspendus wet felt"]
[null,null,null,{"$f":"$B$1829","v":"Cloisonnement, plafonds"},{"$f":"$D$1856","v":"Plafonds suspendus, plafonds tendus"},"plafonds suspendus en laine de bois"]
[null,null,null,{"$f":"$B$1829","v":"Cloisonnement, plafonds"},{"$f":"$D$1856","v":"Plafonds suspendus, plafonds tendus"},"faux-plafonds anti-incendie"]
[null,null,null,{"$f":"$B$1829","v":"Cloisonnement, plafonds"},{"$f":"$D$1856","v":"Plafonds suspendus, plafonds tendus"},"plafond tendu toile"]
[null,null,null,{"$f":"$B$1829","v":"Cloisonnement, plafonds"},{"$f":"$D$1856","v":"Plafonds suspendus, plafonds tendus"},"plafond tendu toile pvc / polyester"]
[]
[null,360,null,"Divers produits de cloisonnement et plafonds"]
[]
[null,null,null,"Rayon","Catégorie","Exemples de produits (non-exhaustif)"]
[null,null,null,{"$f":"$B$1829","v":"Cloisonnement, plafonds"},{"$f":"$D$1865","v":"Divers produits de cloisonnement et plafonds"}]
[null,null,null,null,null,null,null,null,""]
[null,361,null,"Eléments en plâtre pour cloisons, plafonds"]
[]
[null,null,null,"Rayon","Catégorie","Exemples de produits (non-exhaustif)"]
[null,null,null,{"$f":"$B$1829","v":"Cloisonnement, plafonds"},"Eléments en plâtre pour cloisons, plafonds","plaques de plâtre"]
[null,null,null,null,null,null,null,null,""]
[null,"Isolation thermique et acoustique",null,null,null,null,null,null,""]
[null,null,null,null,null,null,null,null,{"$f":"TRIM((LOWER(F1876)))","v":""}]
[null,370,null,"Laines, mousse, fibres isolantes",null,null,null,null,""]
[null,null,null,null,null,null,null,null,""]
[null,null,null,"Rayon","Catégorie","Exemples de produits (non-exhaustif)"]
[null,null,null,{"$f":"$B$1875","v":"Isolation thermique et acoustique"},{"$f":"$D$1877","v":"Laines, mousse, fibres isolantes"},"blocs acoustiques en béton-bois"]
[null,null,null,"Isolation thermique et acoustique","Laines, mousse, fibres isolantes","blocs thermiques en béton-bois"]
[null,null,null,"Isolation thermique et acoustique","Laines, mousse, fibres isolantes","enduits d'isolation pour la protection incendie"]
[null,null,null,"Isolation thermique et acoustique","Laines, mousse, fibres isolantes","feutres insonorisants et d’isolation acoustique en bois et liège"]
[null,null,null,"Isolation thermique et acoustique","Laines, mousse, fibres isolantes","feutres insonorisants et d’isolation acoustique en fibres minérales"]
[null,null,null,"Isolation thermique et acoustique","Laines, mousse, fibres isolantes","feutres thermo-isolants en bois et liège"]
[null,null,null,"Isolation thermique et acoustique","Laines, mousse, fibres isolantes","feutres thermo-isolants en fibres minérales"]
[null,null,null,"Isolation thermique et acoustique","Laines, mousse, fibres isolantes","fibre de bois"]
[null,null,null,"Isolation thermique et acoustique","Laines, mousse, fibres isolantes","fibre de verre"]
[null,null,null,"Isolation thermique et acoustique","Laines, mousse, fibres isolantes","isolant d'origine végétale"]
[null,null,null,"Isolation thermique et acoustique","Laines, mousse, fibres isolantes","isolant en rouleau"]
[null,null,null,"Isolation thermique et acoustique","Laines, mousse, fibres isolantes","isolant en mousse polyéthylène\nbentonitiques"]
[null,null,null,"Isolation thermique et acoustique","Laines, mousse, fibres isolantes","isolant sous vide"]
[null,null,null,"Isolation thermique et acoustique","Laines, mousse, fibres isolantes","isolant thermique à base de verre cellulaire"]
[null,null,null,"Isolation thermique et acoustique","Laines, mousse, fibres isolantes","isolants en vrac à base de polymère"]
[null,null,null,"Isolation thermique et acoustique","Laines, mousse, fibres isolantes","isolants en vrac ou à projeter en laine de roche"]
[null,null,null,"Isolation thermique et acoustique","Laines, mousse, fibres isolantes","isolants pour calorifugeage (manchons et coquilles) en laine de roche"]
[null,null,null,"Isolation thermique et acoustique","Laines, mousse, fibres isolantes","isolants thermique et acoustique en laine de roche"]
[null,null,null,"Isolation thermique et acoustique","Laines, mousse, fibres isolantes","isolation et protection"]
[null,null,null,{"$f":"$B$1875","v":"Isolation thermique et acoustique"},{"$f":"$D$1877","v":"Laines, mousse, fibres isolantes"},"ilôts, baffles, absorbeurs muraux non cités par ailleurs"]
[null,null,null,{"$f":"$B$1875","v":"Isolation thermique et acoustique"},{"$f":"$D$1877","v":"Laines, mousse, fibres isolantes"},"laines de verre à projeter ou souffler"]
[null,null,null,"Isolation thermique et acoustique","Laines, mousse, fibres isolantes","isolation mince"]
[null,null,null,"Isolation thermique et acoustique","Laines, mousse, fibres isolantes","isolation naturelle"]
[null,null,null,"Isolation thermique et acoustique","Laines, mousse, fibres isolantes","isolation phonique"]
[null,null,null,"Isolation thermique et acoustique","Laines, mousse, fibres isolantes","isolation portes et fenêtres"]
[null,null,null,"Isolation thermique et acoustique","Laines, mousse, fibres isolantes","laine de bois"]
[null,null,null,"Isolation thermique et acoustique","Laines, mousse, fibres isolantes","laine de roche"]
[null,null,null,"Isolation thermique et acoustique","Laines, mousse, fibres isolantes","laine de verre"]
[null,null,null,"Isolation thermique et acoustique","Laines, mousse, fibres isolantes","liège, cellulose et isolants en vrac à base végétale"]
[null,null,null,"Isolation thermique et acoustique","Laines, mousse, fibres isolantes","perlite fibrée"]
[null,null,null,"Isolation thermique et acoustique","Laines, mousse, fibres isolantes","matériaux pré-mélangés pour chapes insonorisantes et d’isolation acoustique"]
[null,null,null,"Isolation thermique et acoustique","Laines, mousse, fibres isolantes","matériaux pré-mélangés pour chapes thermo-isolantes"]
[null,null,null,"Isolation thermique et acoustique","Laines, mousse, fibres isolantes","mousse phénolique"]
[]
[null,371,null,"Eléments spéciaux d'isolation"]
[]
[null,null,null,"Rayon","Catégorie","Exemples de produits (non-exhaustif)"]
[null,null,null,{"$f":"$B$1875","v":"Isolation thermique et acoustique"},{"$f":"$D$1914","v":"Eléments spéciaux d'isolation"},"absorbeurs de vibrations, systèmes antivibrations"]
[null,null,null,"Isolation thermique et acoustique","Eléments spéciaux d'isolation","bardage pour façade ventilée"]
[null,null,null,"Isolation thermique et acoustique","Eléments spéciaux d'isolation","caisson chevronnés en plastique isolant"]
[null,null,null,"Isolation thermique et acoustique","Eléments spéciaux d'isolation","caissons chevronnés avec isolant laine de roche"]
[null,null,null,"Isolation thermique et acoustique","Eléments spéciaux d'isolation","dalles de plafond / plafonds en laine de roche"]
[null,null,null,"Isolation thermique et acoustique","Eléments spéciaux d'isolation","feutres et panneaux insonorisants et d’isolation avec feuilles de plomb"]
[null,null,null,"Isolation thermique et acoustique","Eléments spéciaux d'isolation","feutres insonorisants et d’isolation acoustique en matière synthétique"]
[null,null,null,"Isolation thermique et acoustique","Eléments spéciaux d'isolation","feutres thermo-isolants en matière synthétique"]
[null,null,null,"Isolation thermique et acoustique","Eléments spéciaux d'isolation","joints de dilatation routiers"]
[null,null,null,"Isolation thermique et acoustique","Eléments spéciaux d'isolation","manchons"]
[null,null,null,"Isolation thermique et acoustique","Eléments spéciaux d'isolation","matériaux et systèmes d’isolation pour installations"]
[null,null,null,"Isolation thermique et acoustique","Eléments spéciaux d'isolation","membrane pare vapeur et pare pluie"]
[null,null,null,"Isolation thermique et acoustique","Eléments spéciaux d'isolation","panneau aérogel"]
[null,null,null,"Isolation thermique et acoustique","Eléments spéciaux d'isolation","panneaux acoustiques"]
[null,null,null,"Isolation thermique et acoustique","Eléments spéciaux d'isolation","panneaux acoustiques en bois"]
[null,null,null,"Isolation thermique et acoustique","Eléments spéciaux d'isolation","panneaux et feutres isolants naturels pour l’écoconstruction"]
[null,null,null,"Isolation thermique et acoustique","Eléments spéciaux d'isolation","panneaux et plaques thermo-isolants en bois et liège"]
[null,null,null,{"$f":"$B$1875","v":"Isolation thermique et acoustique"},{"$f":"$D$1914","v":"Eléments spéciaux d'isolation"},"toiture en sarking"]
[null,null,null,"Isolation thermique et acoustique","Eléments spéciaux d'isolation","panneaux et plaques thermo-isolants en fibres minérales"]
[null,null,null,"Isolation thermique et acoustique","Eléments spéciaux d'isolation","panneaux et plaques thermo-isolants en polymère"]
[null,null,null,"Isolation thermique et acoustique","Eléments spéciaux d'isolation","panneaux insonorisants et d’isolation acoustique en fibres minérales"]
[null,null,null,"Isolation thermique et acoustique","Eléments spéciaux d'isolation","panneaux insonorisants et d’isolation acoustique pour faux-plafonds"]
[null,null,null,"Isolation thermique et acoustique","Eléments spéciaux d'isolation","plaque de plâtre avec isolation"]
[null,null,null,"Isolation thermique et acoustique","Eléments spéciaux d'isolation","polystyrene extrudé, pse, polyuréthane et isolation par extérieur"]
[null,null,null,"Isolation thermique et acoustique","Eléments spéciaux d'isolation","produits d’étanchéité et d’imperméabilisation pour murs et toiture en membranes"]
[null,null,null,"Isolation thermique et acoustique","Eléments spéciaux d'isolation","produits d’insonorisation des installations"]
[null,null,null,"Isolation thermique et acoustique","Eléments spéciaux d'isolation","rupteurs de ponts thermiques"]
[null,null,null,"Isolation thermique et acoustique","Eléments spéciaux d'isolation","systèmes d’isolation par l'extérieur"]
[null,null,null,"Isolation thermique et acoustique","Eléments spéciaux d'isolation","cabines et cloisons pour isolation et insonorisation"]
[null,null,null,"Isolation thermique et acoustique","Eléments spéciaux d'isolation","systèmes spécifiques de correction acoustique"]
[null,null,null,"Isolation thermique et acoustique","Eléments spéciaux d'isolation","systèmes isolants pour applications spéciales"]
[null,null,null,"Isolation thermique et acoustique","Eléments spéciaux d'isolation","tubes calorifugeage"]
[]
[null,null,null,null,null,null,null,null,{"$f":"TRIM((LOWER(F1950)))","v":""}]
[null,"Menuiseries intérieures et extérieures, fermetures",null,null,null,null,null,null,{"$f":"TRIM((LOWER(F1951)))","v":""}]
[null,null,null,null,null,null,null,null,{"$f":"TRIM((LOWER(F1952)))","v":""}]
[null,380,null,"Portes (intérieures, coulissantes, entrée, garage, de service, technique,...)",null,null,null,null,{"$f":"TRIM((LOWER(F1953)))","v":""}]
[]
[null,null,null,"Rayon","Catégorie","Exemples de produits (non-exhaustif)"]
[null,null,null,{"$f":"$B$1951","v":"Menuiseries intérieures et extérieures, fermetures"},{"$f":"$D$1953","v":"Portes (intérieures, coulissantes, entrée, garage, de service, technique,...)"},"arrêts portail"]
[null,null,null,"Menuiseries intérieures et extérieures, fermetures","Portes (intérieures, coulissantes, entrée, garage, de service, technique,...)","autres portails"]
[null,null,null,"Menuiseries intérieures et extérieures, fermetures","Portes (intérieures, coulissantes, entrée, garage, de service, technique,...)","autres portes de garage"]
[null,null,null,"Menuiseries intérieures et extérieures, fermetures","Portes (intérieures, coulissantes, entrée, garage, de service, technique,...)","barrières"]
[null,null,null,"Menuiseries intérieures et extérieures, fermetures","Portes (intérieures, coulissantes, entrée, garage, de service, technique,...)","barrières de sécurité"]
[null,null,null,"Menuiseries intérieures et extérieures, fermetures","Portes (intérieures, coulissantes, entrée, garage, de service, technique,...)","bloc-portes"]
[null,null,null,"Menuiseries intérieures et extérieures, fermetures","Portes (intérieures, coulissantes, entrée, garage, de service, technique,...)","bloc-portes intérieur bois"]
[null,null,null,"Menuiseries intérieures et extérieures, fermetures","Portes (intérieures, coulissantes, entrée, garage, de service, technique,...)","bloc-portes intérieurs prépeints+postformés"]
[null,null,null,"Menuiseries intérieures et extérieures, fermetures","Portes (intérieures, coulissantes, entrée, garage, de service, technique,...)","chambres fortes"]
[null,null,null,"Menuiseries intérieures et extérieures, fermetures","Portes (intérieures, coulissantes, entrée, garage, de service, technique,...)","cloisons vitrées coupe-feu"]
[null,null,null,"Menuiseries intérieures et extérieures, fermetures","Portes (intérieures, coulissantes, entrée, garage, de service, technique,...)","fourrure"]
[null,null,null,"Menuiseries intérieures et extérieures, fermetures","Portes (intérieures, coulissantes, entrée, garage, de service, technique,...)","grandes portes coupe-feu"]
[null,null,null,"Menuiseries intérieures et extérieures, fermetures","Portes (intérieures, coulissantes, entrée, garage, de service, technique,...)","montants de porte"]
[null,null,null,"Menuiseries intérieures et extérieures, fermetures","Portes (intérieures, coulissantes, entrée, garage, de service, technique,...)","portails battants"]
[null,null,null,"Menuiseries intérieures et extérieures, fermetures","Portes (intérieures, coulissantes, entrée, garage, de service, technique,...)","portails coulissants"]
[null,null,null,"Menuiseries intérieures et extérieures, fermetures","Portes (intérieures, coulissantes, entrée, garage, de service, technique,...)","portails motorisé"]
[null,null,null,"Menuiseries intérieures et extérieures, fermetures","Portes (intérieures, coulissantes, entrée, garage, de service, technique,...)","portes à enroulement rapide vertical"]
[null,null,null,"Menuiseries intérieures et extérieures, fermetures","Portes (intérieures, coulissantes, entrée, garage, de service, technique,...)","portes accordéon"]
[null,null,null,"Menuiseries intérieures et extérieures, fermetures","Portes (intérieures, coulissantes, entrée, garage, de service, technique,...)","portes acoustiques"]
[null,null,null,"Menuiseries intérieures et extérieures, fermetures","Portes (intérieures, coulissantes, entrée, garage, de service, technique,...)","portes antipanique"]
[null,null,null,"Menuiseries intérieures et extérieures, fermetures","Portes (intérieures, coulissantes, entrée, garage, de service, technique,...)","portes battantes à vantaux souples"]
[null,null,null,"Menuiseries intérieures et extérieures, fermetures","Portes (intérieures, coulissantes, entrée, garage, de service, technique,...)","portes coulissantes"]
[null,null,null,"Menuiseries intérieures et extérieures, fermetures","Portes (intérieures, coulissantes, entrée, garage, de service, technique,...)","portes coupe-feu"]
[null,null,null,{"$f":"$B$1951","v":"Menuiseries intérieures et extérieures, fermetures"},{"$f":"$D$1953","v":"Portes (intérieures, coulissantes, entrée, garage, de service, technique,...)"},"porte d'entrée palière"]
[null,null,null,"Menuiseries intérieures et extérieures, fermetures","Portes (intérieures, coulissantes, entrée, garage, de service, technique,...)","portes d entrées et de services-marquises"]
[null,null,null,"Menuiseries intérieures et extérieures, fermetures","Portes (intérieures, coulissantes, entrée, garage, de service, technique,...)","portes d’entrée automatiques anti effraction"]
[null,null,null,"Menuiseries intérieures et extérieures, fermetures","Portes (intérieures, coulissantes, entrée, garage, de service, technique,...)","portes de garage basculante"]
[null,null,null,"Menuiseries intérieures et extérieures, fermetures","Portes (intérieures, coulissantes, entrée, garage, de service, technique,...)","portes de garage battante"]
[null,null,null,"Menuiseries intérieures et extérieures, fermetures","Portes (intérieures, coulissantes, entrée, garage, de service, technique,...)","portes de garage coulissante"]
[null,null,null,"Menuiseries intérieures et extérieures, fermetures","Portes (intérieures, coulissantes, entrée, garage, de service, technique,...)","portes de garage enroulable"]
[null,null,null,"Menuiseries intérieures et extérieures, fermetures","Portes (intérieures, coulissantes, entrée, garage, de service, technique,...)","portes de garage pliante"]
[null,null,null,"Menuiseries intérieures et extérieures, fermetures","Portes (intérieures, coulissantes, entrée, garage, de service, technique,...)","portes de garage sectionnelle"]
[null,null,null,"Menuiseries intérieures et extérieures, fermetures","Portes (intérieures, coulissantes, entrée, garage, de service, technique,...)","portes de service"]
[null,null,null,"Menuiseries intérieures et extérieures, fermetures","Portes (intérieures, coulissantes, entrée, garage, de service, technique,...)","portes de service pvc"]
[null,null,null,"Menuiseries intérieures et extérieures, fermetures","Portes (intérieures, coulissantes, entrée, garage, de service, technique,...)","portes d'entrée"]
[null,null,null,"Menuiseries intérieures et extérieures, fermetures","Portes (intérieures, coulissantes, entrée, garage, de service, technique,...)","portes d'entrée bois"]
[null,null,null,"Menuiseries intérieures et extérieures, fermetures","Portes (intérieures, coulissantes, entrée, garage, de service, technique,...)","portes d'entrée métal"]
[null,null,null,"Menuiseries intérieures et extérieures, fermetures","Portes (intérieures, coulissantes, entrée, garage, de service, technique,...)","portes d'entrée pvc"]
[null,null,null,"Menuiseries intérieures et extérieures, fermetures","Portes (intérieures, coulissantes, entrée, garage, de service, technique,...)","portes et systèmes à galandage et applique"]
[null,null,null,"Menuiseries intérieures et extérieures, fermetures","Portes (intérieures, coulissantes, entrée, garage, de service, technique,...)","portes fin de chantier"]
[null,null,null,"Menuiseries intérieures et extérieures, fermetures","Portes (intérieures, coulissantes, entrée, garage, de service, technique,...)","portes industrielles coulissantes"]
[null,null,null,"Menuiseries intérieures et extérieures, fermetures","Portes (intérieures, coulissantes, entrée, garage, de service, technique,...)","portes industrielles coulissantes verticales"]
[null,null,null,"Menuiseries intérieures et extérieures, fermetures","Portes (intérieures, coulissantes, entrée, garage, de service, technique,...)","portes industrielles en accordéon"]
[null,null,null,"Menuiseries intérieures et extérieures, fermetures","Portes (intérieures, coulissantes, entrée, garage, de service, technique,...)","portes industrielles motorisées"]
[null,null,null,"Menuiseries intérieures et extérieures, fermetures","Portes (intérieures, coulissantes, entrée, garage, de service, technique,...)","portes industrielles souples"]
[null,null,null,"Menuiseries intérieures et extérieures, fermetures","Portes (intérieures, coulissantes, entrée, garage, de service, technique,...)","portes isolantes"]
[null,null,null,"Menuiseries intérieures et extérieures, fermetures","Portes (intérieures, coulissantes, entrée, garage, de service, technique,...)","portes pour blocs opératoires"]
[null,null,null,"Menuiseries intérieures et extérieures, fermetures","Portes (intérieures, coulissantes, entrée, garage, de service, technique,...)","portes rénovations"]
[null,null,null,"Menuiseries intérieures et extérieures, fermetures","Portes (intérieures, coulissantes, entrée, garage, de service, technique,...)","portes sectionnelles en plastique souple"]
[null,null,null,"Menuiseries intérieures et extérieures, fermetures","Portes (intérieures, coulissantes, entrée, garage, de service, technique,...)","portes sectionnelles industrielles"]
[null,null,null,"Menuiseries intérieures et extérieures, fermetures","Portes (intérieures, coulissantes, entrée, garage, de service, technique,...)","portes souples à lanières"]
[null,null,null,"Menuiseries intérieures et extérieures, fermetures","Portes (intérieures, coulissantes, entrée, garage, de service, technique,...)","portillons"]
[null,null,null,"Menuiseries intérieures et extérieures, fermetures","Portes (intérieures, coulissantes, entrée, garage, de service, technique,...)","profilé"]
[null,null,null,"Menuiseries intérieures et extérieures, fermetures","Portes (intérieures, coulissantes, entrée, garage, de service, technique,...)","rails pour porte coulissante"]
[null,null,null,"Menuiseries intérieures et extérieures, fermetures","Portes (intérieures, coulissantes, entrée, garage, de service, technique,...)","systèmes à galandage"]
[]
[null,381,null,"Fenêtres, portes fenêtres, fenêtres de toit et leurs accessoires hors fermetures"]
[]
[null,null,null,"Rayon","Catégorie","Exemples de produits (non-exhaustif)"]
[null,null,null,{"$f":"$B$1951","v":"Menuiseries intérieures et extérieures, fermetures"},{"$f":"$D$2012","v":"Fenêtres, portes fenêtres, fenêtres de toit et leurs accessoires hors fermetures"},"accessoires fenêtres : chassis"]
[null,null,null,{"$f":"$B$1951","v":"Menuiseries intérieures et extérieures, fermetures"},{"$f":"$D$2012","v":"Fenêtres, portes fenêtres, fenêtres de toit et leurs accessoires hors fermetures"},"accessoires fenêtres : conduits de lumière"]
[null,null,null,{"$f":"$B$1951","v":"Menuiseries intérieures et extérieures, fermetures"},{"$f":"$D$2012","v":"Fenêtres, portes fenêtres, fenêtres de toit et leurs accessoires hors fermetures"},"accessoires fenêtres : crochets"]
[null,null,null,"Menuiseries intérieures et extérieures, fermetures","Fenêtres, portes fenêtres, fenêtres de toit et leurs accessoires hors fermetures","accessoires fenêtres : espagnolettes"]
[null,null,null,"Menuiseries intérieures et extérieures, fermetures","Fenêtres, portes fenêtres, fenêtres de toit et leurs accessoires hors fermetures","accessoires fenêtres : impostse"]
[null,null,null,"Menuiseries intérieures et extérieures, fermetures","Fenêtres, portes fenêtres, fenêtres de toit et leurs accessoires hors fermetures","accessoires fenêtres : pièces d'appui de fenêtre tout matériaux"]
[null,null,null,{"$f":"$B$1951","v":"Menuiseries intérieures et extérieures, fermetures"},{"$f":"$D$2012","v":"Fenêtres, portes fenêtres, fenêtres de toit et leurs accessoires hors fermetures"},"fenêtres sans cadre"]
[null,null,null,"Menuiseries intérieures et extérieures, fermetures","Fenêtres, portes fenêtres, fenêtres de toit et leurs accessoires hors fermetures","accessoires fenêtres : raccords"]
[null,null,null,"Menuiseries intérieures et extérieures, fermetures","Fenêtres, portes fenêtres, fenêtres de toit et leurs accessoires hors fermetures","accessoires fenêtres : tapées"]
[null,null,null,"Menuiseries intérieures et extérieures, fermetures","Fenêtres, portes fenêtres, fenêtres de toit et leurs accessoires hors fermetures","fenêtres de toit"]
[null,null,null,{"$f":"$B$1951","v":"Menuiseries intérieures et extérieures, fermetures"},{"$f":"$D$2012","v":"Fenêtres, portes fenêtres, fenêtres de toit et leurs accessoires hors fermetures"},"lanterneaux et accès toiture"]
[null,null,null,"Menuiseries intérieures et extérieures, fermetures","Fenêtres, portes fenêtres, fenêtres de toit et leurs accessoires hors fermetures","châssis vitré"]
[null,null,null,{"$f":"$B$1951","v":"Menuiseries intérieures et extérieures, fermetures"},{"$f":"$D$2012","v":"Fenêtres, portes fenêtres, fenêtres de toit et leurs accessoires hors fermetures"},"fenêtres de toit anti effraction"]
[null,null,null,"Menuiseries intérieures et extérieures, fermetures","Fenêtres, portes fenêtres, fenêtres de toit et leurs accessoires hors fermetures","fenêtres"]
[null,null,null,"Menuiseries intérieures et extérieures, fermetures","Fenêtres, portes fenêtres, fenêtres de toit et leurs accessoires hors fermetures","porte-fenêtres"]
[null,null,null,"Menuiseries intérieures et extérieures, fermetures","Fenêtres, portes fenêtres, fenêtres de toit et leurs accessoires hors fermetures","fenêtres mixtes"]
[null,null,null,"Menuiseries intérieures et extérieures, fermetures","Fenêtres, portes fenêtres, fenêtres de toit et leurs accessoires hors fermetures","porte-fenêtres mixtes"]
[null,null,null,"Menuiseries intérieures et extérieures, fermetures","Fenêtres, portes fenêtres, fenêtres de toit et leurs accessoires hors fermetures","autres fenêtres"]
[null,null,null,{"$f":"$B$1951","v":"Menuiseries intérieures et extérieures, fermetures"},{"$f":"$D$2012","v":"Fenêtres, portes fenêtres, fenêtres de toit et leurs accessoires hors fermetures"},"encadrement de baies"]
[null,null,null,"Menuiseries intérieures et extérieures, fermetures","Fenêtres, portes fenêtres, fenêtres de toit et leurs accessoires hors fermetures","baies vitrées"]
[null,null,null,"Menuiseries intérieures et extérieures, fermetures","Fenêtres, portes fenêtres, fenêtres de toit et leurs accessoires hors fermetures","lucarnes"]
[]
[null,382,null,"Volets, volets roulants, persiennes, stores, brise-soleil"]
[]
[null,null,null,"Rayon","Catégorie","Exemples de produits (non-exhaustif)"]
[null,null,null,{"$f":"$B$1951","v":"Menuiseries intérieures et extérieures, fermetures"},{"$f":"$D$2037","v":"Volets, volets roulants, persiennes, stores, brise-soleil"},"claustras"]
[null,null,null,{"$f":"$B$1951","v":"Menuiseries intérieures et extérieures, fermetures"},{"$f":"$D$2037","v":"Volets, volets roulants, persiennes, stores, brise-soleil"},"brises soleil orientables"]
[null,null,null,{"$f":"$B$1951","v":"Menuiseries intérieures et extérieures, fermetures"},{"$f":"$D$2037","v":"Volets, volets roulants, persiennes, stores, brise-soleil"},"stores banne"]
[null,null,null,{"$f":"$B$1951","v":"Menuiseries intérieures et extérieures, fermetures"},{"$f":"$D$2037","v":"Volets, volets roulants, persiennes, stores, brise-soleil"},"stores extérieurs verticaux"]
[null,null,null,{"$f":"$B$1951","v":"Menuiseries intérieures et extérieures, fermetures"},{"$f":"$D$2037","v":"Volets, volets roulants, persiennes, stores, brise-soleil"},"casquettes"]
[null,null,null,{"$f":"$B$1951","v":"Menuiseries intérieures et extérieures, fermetures"},{"$f":"$D$2037","v":"Volets, volets roulants, persiennes, stores, brise-soleil"},"protection solaire horizontale"]
[null,null,null,{"$f":"$B$1951","v":"Menuiseries intérieures et extérieures, fermetures"},{"$f":"$D$2037","v":"Volets, volets roulants, persiennes, stores, brise-soleil"},"tablier de volet roulant"]
[null,null,null,"Menuiseries intérieures et extérieures, fermetures","Volets, volets roulants, persiennes, stores, brise-soleil","claustras en bois"]
[null,null,null,"Menuiseries intérieures et extérieures, fermetures","Volets, volets roulants, persiennes, stores, brise-soleil","brise soleil"]
[null,null,null,"Menuiseries intérieures et extérieures, fermetures","Volets, volets roulants, persiennes, stores, brise-soleil","jalousies & coffres"]
[null,null,null,"Menuiseries intérieures et extérieures, fermetures","Volets, volets roulants, persiennes, stores, brise-soleil","lames à volet"]
[null,null,null,"Menuiseries intérieures et extérieures, fermetures","Volets, volets roulants, persiennes, stores, brise-soleil","volets battants"]
[null,null,null,"Menuiseries intérieures et extérieures, fermetures","Volets, volets roulants, persiennes, stores, brise-soleil","volets coulissants"]
[null,null,null,{"$f":"$B$1951","v":"Menuiseries intérieures et extérieures, fermetures"},{"$f":"$D$2037","v":"Volets, volets roulants, persiennes, stores, brise-soleil"},"stores extérieurs vénitiens (BSO)"]
[null,null,null,"Menuiseries intérieures et extérieures, fermetures","Volets, volets roulants, persiennes, stores, brise-soleil","volets roulants"]
[null,null,null,"Menuiseries intérieures et extérieures, fermetures","Volets, volets roulants, persiennes, stores, brise-soleil","persiennes"]
[null,null,null,"Menuiseries intérieures et extérieures, fermetures","Volets, volets roulants, persiennes, stores, brise-soleil","volets dormants"]
[null,null,null,"Menuiseries intérieures et extérieures, fermetures","Volets, volets roulants, persiennes, stores, brise-soleil","films pour fenêtres de sécurité"]
[null,null,null,"Menuiseries intérieures et extérieures, fermetures","Volets, volets roulants, persiennes, stores, brise-soleil","volets persiennés blindées"]
[null,null,null,"Menuiseries intérieures et extérieures, fermetures","Volets, volets roulants, persiennes, stores, brise-soleil","volets roulants blindés"]
[null,null,null,"Menuiseries intérieures et extérieures, fermetures","Volets, volets roulants, persiennes, stores, brise-soleil","lame volet bois épicea"]
[null,null,null,"Menuiseries intérieures et extérieures, fermetures","Volets, volets roulants, persiennes, stores, brise-soleil","lame volet bois exotique"]
[null,null,null,"Menuiseries intérieures et extérieures, fermetures","Volets, volets roulants, persiennes, stores, brise-soleil","stores enrouleurs - bateau - bande verticale orientable"]
[]
[null,383,null,"Escaliers intérieurs et extérieurs"]
[]
[null,null,null,"Rayon","Catégorie","Exemples de produits (non-exhaustif)"]
[null,null,null,{"$f":"$B$1951","v":"Menuiseries intérieures et extérieures, fermetures"},{"$f":"$D$2064","v":"Escaliers intérieurs et extérieurs"},"supports intermédiaires"]
[null,null,null,{"$f":"$B$1951","v":"Menuiseries intérieures et extérieures, fermetures"},{"$f":"$D$2064","v":"Escaliers intérieurs et extérieurs"},"echelle de meunier"]
[null,null,null,"Menuiseries intérieures et extérieures, fermetures","Escaliers intérieurs et extérieurs","rampe d'escalier"]
[null,null,null,"Menuiseries intérieures et extérieures, fermetures","Escaliers intérieurs et extérieurs","rampe d'accès pmr intérieure et extérieure"]
[null,null,null,"Menuiseries intérieures et extérieures, fermetures","Escaliers intérieurs et extérieurs","marches indépendantes y.c. supports et marches"]
[null,null,null,"Menuiseries intérieures et extérieures, fermetures","Escaliers intérieurs et extérieurs","escaliers hélicoïdaux à noyau central"]
[null,null,null,{"$f":"$B$1951","v":"Menuiseries intérieures et extérieures, fermetures"},{"$f":"$D$2064","v":"Escaliers intérieurs et extérieurs"},"échelle télescopique"]
[null,null,null,"Menuiseries intérieures et extérieures, fermetures","Escaliers intérieurs et extérieurs","escaliers droits"]
[null,null,null,"Menuiseries intérieures et extérieures, fermetures","Escaliers intérieurs et extérieurs","escaliers de sécurité industrielle"]
[null,null,null,"Menuiseries intérieures et extérieures, fermetures","Escaliers intérieurs et extérieurs","escaliers de secours"]
[null,null,null,"Menuiseries intérieures et extérieures, fermetures","Escaliers intérieurs et extérieurs","escalier tournant"]
[null,null,null,"Menuiseries intérieures et extérieures, fermetures","Escaliers intérieurs et extérieurs","escalier modulaire"]
[null,null,null,"Menuiseries intérieures et extérieures, fermetures","Escaliers intérieurs et extérieurs","escalier gain de place"]
[null,null,null,"Menuiseries intérieures et extérieures, fermetures","Escaliers intérieurs et extérieurs","escalier extérieur"]
[null,null,null,"Menuiseries intérieures et extérieures, fermetures","Escaliers intérieurs et extérieurs","escalier escamotable"]
[null,null,null,"Menuiseries intérieures et extérieures, fermetures","Escaliers intérieurs et extérieurs","escalier en colimaçon"]
[null,null,null,"Menuiseries intérieures et extérieures, fermetures","Escaliers intérieurs et extérieurs","escalier"]
[null,null,null,"Menuiseries intérieures et extérieures, fermetures","Escaliers intérieurs et extérieurs","accessoires d'escalier (marche)"]
[]
[null,384,null,"Garde-corps, balustres et accessoires d'escaliers"]
[]
[null,null,null,"Rayon","Catégorie","Exemples de produits (non-exhaustif)"]
[null,null,null,{"$f":"$B$1951","v":"Menuiseries intérieures et extérieures, fermetures"},{"$f":"$D$2086","v":"Garde-corps, balustres et accessoires d'escaliers"},"main courante"]
[null,null,null,{"$f":"$B$1951","v":"Menuiseries intérieures et extérieures, fermetures"},{"$f":"$D$2086","v":"Garde-corps, balustres et accessoires d'escaliers"},"limons"]
[null,null,null,{"$f":"$B$1951","v":"Menuiseries intérieures et extérieures, fermetures"},{"$f":"$D$2086","v":"Garde-corps, balustres et accessoires d'escaliers"},"passerelles sécurité"]
[null,null,null,{"$f":"$B$1951","v":"Menuiseries intérieures et extérieures, fermetures"},{"$f":"$D$2086","v":"Garde-corps, balustres et accessoires d'escaliers"},"garde-corps préfabriqué"]
[null,null,null,{"$f":"$B$1951","v":"Menuiseries intérieures et extérieures, fermetures"},{"$f":"$D$2086","v":"Garde-corps, balustres et accessoires d'escaliers"},"nez de marche"]
[null,null,null,{"$f":"$B$1951","v":"Menuiseries intérieures et extérieures, fermetures"},{"$f":"$D$2086","v":"Garde-corps, balustres et accessoires d'escaliers"},"garde corps intérieurs en métal"]
[null,null,null,"Menuiseries intérieures et extérieures, fermetures","Garde-corps, balustres et accessoires d'escaliers","nez d'escalier"]
[null,null,null,{"$f":"$B$1951","v":"Menuiseries intérieures et extérieures, fermetures"},{"$f":"$D$2086","v":"Garde-corps, balustres et accessoires d'escaliers"},"séparateurs de balcons"]
[null,null,null,{"$f":"$B$1951","v":"Menuiseries intérieures et extérieures, fermetures"},{"$f":"$D$2086","v":"Garde-corps, balustres et accessoires d'escaliers"},"obstacles physiques"]
[null,null,null,"Menuiseries intérieures et extérieures, fermetures","Garde-corps, balustres et accessoires d'escaliers","barre de maintien"]
[null,null,null,"Menuiseries intérieures et extérieures, fermetures","Garde-corps, balustres et accessoires d'escaliers","barre d'appui"]
[null,null,null,"Menuiseries intérieures et extérieures, fermetures","Garde-corps, balustres et accessoires d'escaliers","garde-corps préfabriqués"]
[null,null,null,"Menuiseries intérieures et extérieures, fermetures","Garde-corps, balustres et accessoires d'escaliers","garde corps extérieurs"]
[null,null,null,"Menuiseries intérieures et extérieures, fermetures","Garde-corps, balustres et accessoires d'escaliers","garde corps intérieurs en verre"]
[null,null,null,"Menuiseries intérieures et extérieures, fermetures","Garde-corps, balustres et accessoires d'escaliers","garde corps intérieurs en bois"]
[]
[null,385,null,"Fenêtre et porte fenêtre (cadre en bois)"]
[]
[null,null,null,"Rayon","Catégorie","Exemples de produits (non-exhaustif)"]
[null,null,null,{"$f":"$B$1951","v":"Menuiseries intérieures et extérieures, fermetures"},"Fenêtre et porte fenêtre (cadre en bois)"]
[]
[null,386,null,"Fenêtre et porte fenêtre (cadre en métal)"]
[]
[null,null,null,"Rayon","Catégorie","Exemples de produits (non-exhaustif)"]
[null,null,null,{"$f":"$B$1951","v":"Menuiseries intérieures et extérieures, fermetures"},"Fenêtre et porte fenêtre (cadre en métal)"]
[]
[null,387,null,"Fenêtre et porte fenêtre (cadre en PVC)"]
[]
[null,null,null,"Rayon","Catégorie","Exemples de produits (non-exhaustif)"]
[null,null,null,{"$f":"$B$1951","v":"Menuiseries intérieures et extérieures, fermetures"},"Fenêtre et porte fenêtre (cadre en PVC)"]
[]
[null,388,null,"Fenêtres, portes fenêtres, fenêtres de toit et leurs accessoires hors quincailleries"]
[]
[null,null,null,"Rayon","Catégorie","Exemples de produits (non-exhaustif)"]
[null,null,null,{"$f":"$B$1951","v":"Menuiseries intérieures et extérieures, fermetures"},"Fenêtres, portes fenêtres, fenêtres de toit et leurs accessoires hors quincailleries"]
[]
[null,389,null,"Portail"]
[]
[null,null,null,"Rayon","Catégorie","Exemples de produits (non-exhaustif)"]
[null,null,null,{"$f":"$B$1951","v":"Menuiseries intérieures et extérieures, fermetures"},"Portail"]
[]
[null,390,null,"Portes : Huisserie bois"]
[]
[null,null,null,"Rayon","Catégorie","Exemples de produits (non-exhaustif)"]
[null,null,null,{"$f":"$B$1951","v":"Menuiseries intérieures et extérieures, fermetures"},"Portes : Huisserie bois"]
[]
[null,391,null,"Portes : Huisserie métallique"]
[]
[null,null,null,"Rayon","Catégorie","Exemples de produits (non-exhaustif)"]
[null,null,null,{"$f":"$B$1951","v":"Menuiseries intérieures et extérieures, fermetures"},"Portes : Huisserie métallique"]
[]
[null,392,null,"Portes : Huisserie PVC"]
[]
[null,null,null,"Rayon","Catégorie","Exemples de produits (non-exhaustif)"]
[null,null,null,{"$f":"$B$1951","v":"Menuiseries intérieures et extérieures, fermetures"},"Portes : Huisserie PVC"]
[]
[null,393,null,"Portes : Trappes en bois"]
[]
[null,null,null,"Rayon","Catégorie","Exemples de produits (non-exhaustif)"]
[null,null,null,{"$f":"$B$1951","v":"Menuiseries intérieures et extérieures, fermetures"},"Portes : Trappes en bois"]
[]
[null,394,null,"Portes : Trappes en métal"]
[]
[null,null,null,"Rayon","Catégorie","Exemples de produits (non-exhaustif)"]
[null,null,null,{"$f":"$B$1951","v":"Menuiseries intérieures et extérieures, fermetures"},"Portes : Trappes en métal"]
[]
[null,395,null,"Portes : Trappes en PVC"]
[]
[null,null,null,"Rayon","Catégorie","Exemples de produits (non-exhaustif)"]
[null,null,null,{"$f":"$B$1951","v":"Menuiseries intérieures et extérieures, fermetures"},"Portes : Trappes en PVC"]
[]
[null,397,null,"Portes : vantail porte en bois "]
[]
[null,null,null,"Rayon","Catégorie","Exemples de produits (non-exhaustif)"]
[null,null,null,{"$f":"$B$1951","v":"Menuiseries intérieures et extérieures, fermetures"},"Portes : vantail porte en bois "]
[]
[null,398,null,"Portes : vantail porte en métal"]
[]
[null,null,null,"Rayon","Catégorie","Exemples de produits (non-exhaustif)"]
[null,null,null,{"$f":"$B$1951","v":"Menuiseries intérieures et extérieures, fermetures"},"Portes : vantail porte en métal"]
[]
[null,399,null,"Portes : vantail porte en PVC"]
[]
[null,null,null,"Rayon","Catégorie","Exemples de produits (non-exhaustif)"]
[null,null,null,{"$f":"$B$1951","v":"Menuiseries intérieures et extérieures, fermetures"},"Portes : vantail porte en PVC"]
[]
[null,400,null,"Portes : vantail porte en verre (>90%)"]
[]
[null,null,null,"Rayon","Catégorie","Exemples de produits (non-exhaustif)"]
[null,null,null,{"$f":"$B$1951","v":"Menuiseries intérieures et extérieures, fermetures"},"Portes : vantail porte en verre (>90%)"]
[]
[null,401,null,"Portes : vantail porte vitrée"]
[]
[null,null,null,"Rayon","Catégorie","Exemples de produits (non-exhaustif)"]
[null,null,null,{"$f":"$B$1951","v":"Menuiseries intérieures et extérieures, fermetures"},"Portes : vantail porte vitrée"]
[]
[null,402,null,"Portes : Trappes autres"]
[]
[null,null,null,"Rayon","Catégorie","Exemples de produits (non-exhaustif)"]
[null,null,null,{"$f":"$B$1951","v":"Menuiseries intérieures et extérieures, fermetures"},"Portes : Trappes autres"]
[]
[null,403,null,"Portes : vantail autres"]
[]
[null,null,null,"Rayon","Catégorie","Exemples de produits (non-exhaustif)"]
[null,null,null,{"$f":"$B$1951","v":"Menuiseries intérieures et extérieures, fermetures"},"Portes : vantail autres"]
[]
[null,404,null,"Volet battant (bois à plus de 90 %)"]
[]
[null,null,null,"Rayon","Catégorie","Exemples de produits (non-exhaustif)"]
[null,null,null,{"$f":"$B$1951","v":"Menuiseries intérieures et extérieures, fermetures"},"Volet battant (bois à plus de 90 %)"]
[]
[null,405,null,"Volet battant (métal à plus de 90 %)"]
[]
[null,null,null,"Rayon","Catégorie","Exemples de produits (non-exhaustif)"]
[null,null,null,{"$f":"$B$1951","v":"Menuiseries intérieures et extérieures, fermetures"},"Volet battant (métal à plus de 90 %)"]
[]
[null,406,null,"Volet battant (PVC à plus de 90 %)"]
[]
[null,null,null,"Rayon","Catégorie","Exemples de produits (non-exhaustif)"]
[null,null,null,{"$f":"$B$1951","v":"Menuiseries intérieures et extérieures, fermetures"},"Volet battant (PVC à plus de 90 %)"]
[]
[null,407,null,"Volet roulant"]
[]
[null,null,null,"Rayon","Catégorie","Exemples de produits (non-exhaustif)"]
[null,null,null,{"$f":"$B$1951","v":"Menuiseries intérieures et extérieures, fermetures"},"Volet roulant"]
[]
[null,410,null,"Divers élements de menuiserie"]
[]
[null,null,null,"Rayon","Catégorie","Exemples de produits (non-exhaustif)"]
[null,null,null,{"$f":"$B$1951","v":"Menuiseries intérieures et extérieures, fermetures"},{"$f":"$D$2215","v":"Divers élements de menuiserie"},"ossatures bois non porteuse"]
[]
[null,411,null,"Bloc - Porte (huisserie métal)"]
[]
[null,null,null,"Rayon","Catégorie","Exemples de produits (non-exhaustif)"]
[null,null,null,{"$f":"$B$1951","v":"Menuiseries intérieures et extérieures, fermetures"},"Bloc - Porte (huisserie métal)","Bloc - Porte (huisserie métal)"]
[]
[null,412,null,"Bloc - Porte (huisserie bois)"]
[]
[null,null,null,"Rayon","Catégorie","Exemples de produits (non-exhaustif)"]
[null,null,null,{"$f":"$B$1951","v":"Menuiseries intérieures et extérieures, fermetures"},"Bloc - Porte (huisserie bois)","Bloc - Porte (huisserie bois)"]
[]
[null,413,null,"Bloc - Porte (huisserie plastique)"]
[]
[null,null,null,"Rayon","Catégorie","Exemples de produits (non-exhaustif)"]
[null,null,null,{"$f":"$B$1951","v":"Menuiseries intérieures et extérieures, fermetures"},"Bloc - Porte (huisserie plastique)","Bloc - Porte (huisserie plastique)"]
[]
[null,545,null,"Bloc - Porte double vantail (huisserie métal)"]
[]
[null,null,null,"Rayon","Catégorie","Exemples de produits (non-exhaustif)"]
[null,null,null,{"$f":"$B$1951","v":"Menuiseries intérieures et extérieures, fermetures"},"Bloc - Porte double vantail (huisserie métal)","Bloc - Porte double vantail (huisserie métal)"]
[]
[null,546,null,"Bloc - Porte double vantail (huisserie bois)"]
[]
[null,null,null,"Rayon","Catégorie","Exemples de produits (non-exhaustif)"]
[null,null,null,{"$f":"$B$1951","v":"Menuiseries intérieures et extérieures, fermetures"},"Bloc - Porte double vantail (huisserie bois)","Bloc - Porte double vantail (huisserie bois)"]
[]
[null,547,null,"Bloc - Porte double vantail (huisserie plastique)"]
[]
[null,null,null,"Rayon","Catégorie","Exemples de produits (non-exhaustif)"]
[null,null,null,{"$f":"$B$1951","v":"Menuiseries intérieures et extérieures, fermetures"},"Bloc - Porte double vantail (huisserie plastique)","Bloc - Porte double vantail (huisserie plastique)"]
[]
[]
[null,"Façades"]
[]
[null,415,null,"Mur-rideau"]
[]
[null,null,null,"Rayon","Catégorie","Exemples de produits (non-exhaustif)"]
[null,null,null,{"$f":"+$B$2251","v":"Façades"},{"$f":"$D$2253","v":"Mur-rideau"},"mur-rideau à ossature acier"]
[null,null,null,"Façades","Mur-rideau","mur-rideau à ossature aluminium"]
[null,null,null,"Façades","Mur-rideau","mur-rideau à ossature bois"]
[null,null,null,"Façades","Mur-rideau","baies vitrées à fixation ponctuelle"]
[null,null,null,"Façades","Mur-rideau","éléments préfabriqués pour façades"]
[null,null,null,"Façades","Mur-rideau","façades structurelles vitrées"]
[null,null,null,"Façades","Mur-rideau","façades ventilées"]
[null,null,null,"Façades","Mur-rideau","films et pellicules de contrôle solaire"]
[null,null,null,"Façades","Mur-rideau","structures de support pour façades"]
[null,null,null,"Façades","Mur-rideau","systèmes et profils d’ancrage pour façades"]
[null,null,null,"Façades","Mur-rideau","systèmes pour murs rideau"]
[]
[null,416,null,"Bardage et clins"]
[]
[null,null,null,"Rayon","Catégorie","Exemples de produits (non-exhaustif)"]
[null,null,null,{"$f":"+$B$2251","v":"Façades"},{"$f":"$D$2268","v":"Bardage et clins"},"vêtage en bois brut"]
[null,null,null,"Façades","Bardage et clins","vêtage en bois de particules et osb"]
[null,null,null,"Façades","Bardage et clins","vêtage en métal"]
[null,null,null,"Façades","Bardage et clins","bardage"]
[null,null,null,"Façades","Bardage et clins","bardage en composite"]
[null,null,null,"Façades","Bardage et clins","lame vieux bois"]
[null,null,null,"Façades","Bardage et clins","lame et bardage épicea"]
[null,null,null,"Façades","Bardage et clins","lame et bardage mélèze"]
[null,null,null,"Façades","Bardage et clins","lame et bardage douglas"]
[null,null,null,"Façades","Bardage et clins","lame et bardage épicea thermotraité"]
[null,null,null,{"$f":"+$B$2251","v":"Façades"},{"$f":"$D$2268","v":"Bardage et clins"},"lame et bardage mélèze thermotraité et vapotraité"]
[null,null,null,{"$f":"+$B$2251","v":"Façades"},{"$f":"$D$2268","v":"Bardage et clins"},"lame et bardage red cedar"]
[null,null,null,{"$f":"+$B$2251","v":"Façades"},{"$f":"$D$2268","v":"Bardage et clins"},"vêtage"]
[null,null,null,{"$f":"+$B$2251","v":"Façades"},{"$f":"$D$2268","v":"Bardage et clins"},"lame et bardage pin"]
[null,null,null,{"$f":"+$B$2251","v":"Façades"},{"$f":"$D$2268","v":"Bardage et clins"},"lame et bardage épicea et pin autoclave"]
[null,null,null,"Façades","Bardage et clins","vêtage en minéraux"]
[null,null,null,"Façades",{"$f":"$D$2268","v":"Bardage et clins"},"bardeaux métalliques pour façades"]
[]
[null,417,null,"Vêtures"]
[]
[null,null,null,"Rayon","Catégorie","Exemples de produits (non-exhaustif)"]
[null,null,null,{"$f":"+$B$2251","v":"Façades"},{"$f":"$D$2289","v":"Vêtures"},"feuilles métalliques continues pour façades"]
[null,null,null,"Façades","Vêtures","finitions extérieures"]
[null,null,null,"Façades","Vêtures","grilles déployées pour revêtements de façades"]
[null,null,null,"Façades","Vêtures","panneaux de bois pour façades"]
[null,null,null,"Façades","Vêtures","panneaux de façade en matériaux composites"]
[null,null,null,"Façades","Vêtures","panneaux ignifuges pour revêtements extérieurs"]
[null,null,null,"Façades","Vêtures","panneaux métalliques isolés pour façades"]
[null,null,null,"Façades","Vêtures","panneaux pour façades"]
[null,null,null,{"$f":"+$B$2251","v":"Façades"},{"$f":"$D$2289","v":"Vêtures"},"vêture"]
[null,null,null,"Façades","Vêtures","plaques de revêtement en plastique stratifié opaque"]
[null,null,null,"Façades","Vêtures","plaques de revêtement en plastique stratifié translucide"]
[null,null,null,"Façades","Vêtures","revêtements muraux 3d pour façades"]
[null,null,null,"Façades","Vêtures","toiles métalliques et tissus métalliques pour façades"]
[null,null,null,"Façades","Vêtures","tôles perforées et larmées pour façades"]
[null,null,null,"Façades","Vêtures","panneau pierre"]
[]
[null,418,null,"Panneaux sandwich de façade"]
[]
[null,null,null,"Rayon","Catégorie","Exemples de produits (non-exhaustif)"]
[null,null,null,{"$f":"+$B$2251","v":"Façades"},{"$f":"$D$2308","v":"Panneaux sandwich de façade"},"panneaux sandwich en acier"]
[null,null,null,{"$f":"+$B$2251","v":"Façades"},{"$f":"$D$2308","v":"Panneaux sandwich de façade"},"panneaux sandwich en béton"]
[null,null,null,{"$f":"+$B$2251","v":"Façades"},{"$f":"$D$2308","v":"Panneaux sandwich de façade"},"panneaux sandwich en terre cuite"]
[null,null,null,{"$f":"+$B$2251","v":"Façades"},{"$f":"$D$2308","v":"Panneaux sandwich de façade"},"panneaux sandwich en aluminium"]
[null,null,null,{"$f":"+$B$2251","v":"Façades"},{"$f":"$D$2308","v":"Panneaux sandwich de façade"},"panneaux sandwich autres matériaux"]
[]
[null,421,null,"Divers éléments de façade",null,null,null,null,""]
[null,null,null,null,null,null,null,null,{"$f":"TRIM((LOWER(F2318)))","v":""}]
[null,null,null,"Rayon","Catégorie","Exemples de produits (non-exhaustif)"]
[null,null,null,{"$f":"+$B$2251","v":"Façades"},{"$f":"$D$2317","v":"Divers éléments de façade"}]
[null,null,null,null,null,null,null,null,{"$f":"TRIM((LOWER(F2321)))","v":""}]
[null,null,null,null,null,null,null,null,""]
[null,"Revêtements des sols, murs et plafonds",null,null,null,null,null,null,""]
[null,null,null,null,null,null,null,null,""]
[null,430,null,"Pavés, dalles, plaquettes de parement en pierre",null,null,null,null,""]
[null,null,null,null,null,null,null,null,""]
[null,null,null,"Rayon","Catégorie","Exemples de produits (non-exhaustif)"]
[null,null,null,{"$f":"+$B$2323","v":"Revêtements des sols, murs et plafonds"},{"$f":"+$D$2325","v":"Pavés, dalles, plaquettes de parement en pierre"},"dalles de voirie"]
[null,null,null,{"$f":"+$B$2323","v":"Revêtements des sols, murs et plafonds"},"Pavés, dalles, plaquettes de parement en pierre","dalles posées sur plots (pressées hors pierres reconstituées)"]
[null,null,null,"Revêtements des sols, murs et plafonds","Pavés, dalles, plaquettes de parement en pierre","dalles de jardin"]
[null,null,null,{"$f":"+$B$2323","v":"Revêtements des sols, murs et plafonds"},{"$f":"+$D$2325","v":"Pavés, dalles, plaquettes de parement en pierre"},"blocs décoratifs extérieurs"]
[null,null,null,{"$f":"+$B$2323","v":"Revêtements des sols, murs et plafonds"},{"$f":"+$D$2325","v":"Pavés, dalles, plaquettes de parement en pierre"},"éléments en pierre artificielle pour façades"]
[null,null,null,{"$f":"+$B$2323","v":"Revêtements des sols, murs et plafonds"},{"$f":"+$D$2325","v":"Pavés, dalles, plaquettes de parement en pierre"},"éléments en pierre naturelle pour façades"]
[null,null,null,"Revêtements des sols, murs et plafonds","Pavés, dalles, plaquettes de parement en pierre","dalles de balcon"]
[null,null,null,"Revêtements des sols, murs et plafonds","Pavés, dalles, plaquettes de parement en pierre","marches en pierre naturelle"]
[null,null,null,"Revêtements des sols, murs et plafonds","Pavés, dalles, plaquettes de parement en pierre","dalle gravillon"]
[null,null,null,"Revêtements des sols, murs et plafonds","Pavés, dalles, plaquettes de parement en pierre","dalles et pavés d'intérieur"]
[null,null,null,"Revêtements des sols, murs et plafonds","Pavés, dalles, plaquettes de parement en pierre","dalle granit"]
[null,null,null,"Revêtements des sols, murs et plafonds","Pavés, dalles, plaquettes de parement en pierre","margelle pour piscine"]
[null,null,null,"Revêtements des sols, murs et plafonds","Pavés, dalles, plaquettes de parement en pierre","pavés drainants"]
[null,null,null,"Revêtements des sols, murs et plafonds","Pavés, dalles, plaquettes de parement en pierre","pavés à écarteurs"]
[null,null,null,"Revêtements des sols, murs et plafonds","Pavés, dalles, plaquettes de parement en pierre","pavé pierre naturelle"]
[null,null,null,"Revêtements des sols, murs et plafonds","Pavés, dalles, plaquettes de parement en pierre","pavés"]
[null,null,null,"Revêtements des sols, murs et plafonds","Pavés, dalles, plaquettes de parement en pierre","margelles"]
[null,null,null,"Revêtements des sols, murs et plafonds","Pavés, dalles, plaquettes de parement en pierre","dalles"]
[null,null,null,"Revêtements des sols, murs et plafonds","Pavés, dalles, plaquettes de parement en pierre","plaquettes de parement"]
[]
[null,431,null,"Carrelage sol & Faïence murale"]
[]
[null,null,null,"Rayon","Catégorie","Exemples de produits (non-exhaustif)"]
[null,null,null,{"$f":"+$B$2323","v":"Revêtements des sols, murs et plafonds"},{"$f":"+$D$2348","v":"Carrelage sol & Faïence murale"},"grès"]
[null,null,null,"Revêtements des sols, murs et plafonds","Carrelage sol & Faïence murale","faience"]
[null,null,null,"Revêtements des sols, murs et plafonds","Carrelage sol & Faïence murale","terre cuite (tomette)"]
[null,null,null,{"$f":"+$B$2323","v":"Revêtements des sols, murs et plafonds"},{"$f":"+$D$2348","v":"Carrelage sol & Faïence murale"},"marbre"]
[null,null,null,"Revêtements des sols, murs et plafonds","Carrelage sol & Faïence murale","pierre naturelle ou reconstituée"]
[null,null,null,{"$f":"+$B$2323","v":"Revêtements des sols, murs et plafonds"},{"$f":"+$D$2348","v":"Carrelage sol & Faïence murale"},"dalle céramique"]
[null,null,null,"Revêtements des sols, murs et plafonds","Carrelage sol & Faïence murale","carreaux"]
[null,null,null,{"$f":"+$B$2323","v":"Revêtements des sols, murs et plafonds"},{"$f":"+$D$2348","v":"Carrelage sol & Faïence murale"},"émeaux de verre"]
[null,null,null,{"$f":"+$B$2323","v":"Revêtements des sols, murs et plafonds"},{"$f":"+$D$2348","v":"Carrelage sol & Faïence murale"},"listels"]
[null,null,null,{"$f":"+$B$2323","v":"Revêtements des sols, murs et plafonds"},{"$f":"+$D$2348","v":"Carrelage sol & Faïence murale"},"frise carrelage salle de bain"]
[null,null,null,"Revêtements des sols, murs et plafonds","Carrelage sol & Faïence murale","grès emaillé"]
[null,null,null,"Revêtements des sols, murs et plafonds","Carrelage sol & Faïence murale","grès cérame emaillé"]
[null,null,null,"Revêtements des sols, murs et plafonds","Carrelage sol & Faïence murale","carrelage spécial exterieur"]
[null,null,null,"Revêtements des sols, murs et plafonds","Carrelage sol & Faïence murale","frise de sol"]
[null,null,null,"Revêtements des sols, murs et plafonds","Carrelage sol & Faïence murale","plinthes carrelage"]
[null,null,null,"Revêtements des sols, murs et plafonds","Carrelage sol & Faïence murale","faience blanche"]
[null,null,null,"Revêtements des sols, murs et plafonds","Carrelage sol & Faïence murale","faience couleur"]
[null,null,null,"Revêtements des sols, murs et plafonds","Carrelage sol & Faïence murale","parement mural"]
[null,null,null,"Revêtements des sols, murs et plafonds","Carrelage sol & Faïence murale","mosaïque sols et murs"]
[null,null,null,"Revêtements des sols, murs et plafonds","Carrelage sol & Faïence murale","listels et décors"]
[]
[null,432,null,"Parquets, terrasses et lames en bois"]
[]
[null,null,null,"Rayon","Catégorie","Exemples de produits (non-exhaustif)"]
[null,null,null,{"$f":"+$B$2323","v":"Revêtements des sols, murs et plafonds"},{"$f":"+$D$2372","v":"Parquets, terrasses et lames en bois"},"revêtement mural bois"]
[null,null,null,"Revêtements des sols, murs et plafonds","Parquets, terrasses et lames en bois","habillage de plafond"]
[null,null,null,"Revêtements des sols, murs et plafonds","Parquets, terrasses et lames en bois","parquet"]
[null,null,null,"Revêtements des sols, murs et plafonds","Parquets, terrasses et lames en bois","sol liège"]
[null,null,null,"Revêtements des sols, murs et plafonds","Parquets, terrasses et lames en bois","revêtement sol bois"]
[null,null,null,"Revêtements des sols, murs et plafonds","Parquets, terrasses et lames en bois","revêtement de terrasse"]
[null,null,null,"Revêtements des sols, murs et plafonds","Parquets, terrasses et lames en bois","profilés"]
[null,null,null,"Revêtements des sols, murs et plafonds","Parquets, terrasses et lames en bois","sol stratifié"]
[null,null,null,"Revêtements des sols, murs et plafonds","Parquets, terrasses et lames en bois","parquet en bois brut"]
[null,null,null,"Revêtements des sols, murs et plafonds","Parquets, terrasses et lames en bois","lame de terrasse"]
[null,null,null,"Revêtements des sols, murs et plafonds","Parquets, terrasses et lames en bois","stratifié"]
[null,null,null,"Revêtements des sols, murs et plafonds","Parquets, terrasses et lames en bois","champlats"]
[null,null,null,"Revêtements des sols, murs et plafonds","Parquets, terrasses et lames en bois","lames de bois massif"]
[null,null,null,"Revêtements des sols, murs et plafonds","Parquets, terrasses et lames en bois","callebotis"]
[null,null,null,"Revêtements des sols, murs et plafonds","Parquets, terrasses et lames en bois","platelage"]
[null,null,null,"Revêtements des sols, murs et plafonds","Parquets, terrasses et lames en bois","lames de bois de particules"]
[null,null,null,"Revêtements des sols, murs et plafonds","Parquets, terrasses et lames en bois","lames de bois contrecollé"]
[null,null,null,"Revêtements des sols, murs et plafonds","Parquets, terrasses et lames en bois","contreplaqué"]
[]
[null,433,null,"Lambris"]
[null,null,null,"Rayon","Catégorie","Exemples de produits (non-exhaustif)"]
[null,null,null,{"$f":"+$B$2323","v":"Revêtements des sols, murs et plafonds"},"Lambris","lambris tout type"]
[null,null,null,"Revêtements des sols, murs et plafonds","Lambris","lambris bois"]
[null,null,null,"Revêtements des sols, murs et plafonds","Lambris","lambris mélaminé décor"]
[null,null,null,"Revêtements des sols, murs et plafonds","Lambris","lambris bois du nord sans finition"]
[null,null,null,"Revêtements des sols, murs et plafonds","Lambris","lambris pin sans finition"]
[null,null,null,"Revêtements des sols, murs et plafonds","Lambris","lambris bois du nord avec finition"]
[null,null,null,"Revêtements des sols, murs et plafonds","Lambris","lambris pin avec finition"]
[]
[null,434,null,"Plinthes"]
[]
[null,null,null,"Rayon","Catégorie","Exemples de produits (non-exhaustif)"]
[null,null,null,"Revêtements des sols, murs et plafonds","Parquets, terrasses et lames en bois","plinthes"]
[null,null,null,"Revêtements des sols, murs et plafonds","Parquets, terrasses et lames en bois","quart-de-ronds"]
[null,null,null,"Revêtements des sols, murs et plafonds","Parquets, terrasses et lames en bois","baguettes d'angle"]
[]
[null,435,null,"Lames d'intérieur hors bois"]
[]
[null,null,null,"Rayon","Catégorie","Exemples de produits (non-exhaustif)"]
[null,null,null,{"$f":"+$B$2323","v":"Revêtements des sols, murs et plafonds"},{"$f":"+$D$2411","v":"Lames d'intérieur hors bois"},"lames en acier perforées"]
[null,null,null,"Revêtements des sols, murs et plafonds","Lames d'intérieur hors bois","sols en alus"]
[null,null,null,{"$f":"+$B$2323","v":"Revêtements des sols, murs et plafonds"},{"$f":"+$D$2411","v":"Lames d'intérieur hors bois"},"lambris pvc et accessoires"]
[null,null,null,{"$f":"+$B$2323","v":"Revêtements des sols, murs et plafonds"},{"$f":"+$D$2411","v":"Lames d'intérieur hors bois"},"lames vinyles"]
[null,null,null,"Revêtements des sols, murs et plafonds","Lames d'intérieur hors bois","revêtement de sols"]
[null,null,null,"Revêtements des sols, murs et plafonds","Lames d'intérieur hors bois","murs et plafonds spéciaux"]
[]
[null,436,null,"Sols plastiques"]
[]
[null,null,null,"Rayon","Catégorie","Exemples de produits (non-exhaustif)"]
[null,null,null,{"$f":"+$B$2323","v":"Revêtements des sols, murs et plafonds"},{"$f":"+$D$2421","v":"Sols plastiques"},"sol pvc"]
[null,null,null,{"$f":"+$B$2323","v":"Revêtements des sols, murs et plafonds"},{"$f":"+$D$2421","v":"Sols plastiques"},"rouleau vinyle"]
[null,null,null,"Revêtements des sols, murs et plafonds","Sols plastiques","sol vinyle"]
[null,null,null,{"$f":"+$B$2323","v":"Revêtements des sols, murs et plafonds"},{"$f":"+$D$2421","v":"Sols plastiques"},"linoléum grand passage"]
[null,null,null,"Revêtements des sols, murs et plafonds","Sols plastiques","sols plastiques"]
[null,null,null,"Revêtements des sols, murs et plafonds","Sols plastiques","sols industriels"]
[]
[null,437,null,"Moquette de sol et murale fixe"]
[]
[null,null,null,"Rayon","Catégorie","Exemples de produits (non-exhaustif)"]
[null,null,null,{"$f":"$B$2323","v":"Revêtements des sols, murs et plafonds"},{"$f":"$D$2431","v":"Moquette de sol et murale fixe"},"Moquettes de décoration autocollantes"]
[null,null,null,"Revêtements des sols, murs et plafonds","Moquette de sol et murale fixe","Moquette insonorisée murale"]
[null,null,null,"Revêtements des sols, murs et plafonds","Moquette de sol et murale fixe","moquette tissée"]
[null,null,null,"Revêtements des sols, murs et plafonds","Moquette de sol et murale fixe","moquette extérieure style gazon"]
[null,null,null,"Revêtements des sols, murs et plafonds","Moquette de sol et murale fixe","moquette aiguilletée"]
[null,null,null,"Revêtements des sols, murs et plafonds","Moquette de sol et murale fixe","moquette tuftée"]
[null,null,null,"Revêtements des sols, murs et plafonds","Moquette de sol et murale fixe","moquette bouclée"]
[null,null,null,"Revêtements des sols, murs et plafonds","Moquette de sol et murale fixe","dalle de moquette"]
[null,null,null,"Revêtements des sols, murs et plafonds","Moquette de sol et murale fixe","moquette plastifiée pour protection"]
[null,null,null,"Revêtements des sols, murs et plafonds","Moquette de sol et murale fixe","Tapis de plinthe"]
[null,null,null,"Revêtements des sols, murs et plafonds","Moquette de sol et murale fixe","moquettes collée"]
[]
[null,438,null,"Papier peint et toile de verre"]
[]
[null,null,null,"Rayon","Catégorie","Exemples de produits (non-exhaustif)"]
[null,null,null,{"$f":"+$B$2323","v":"Revêtements des sols, murs et plafonds"},{"$f":"+$D$2446","v":"Papier peint et toile de verre"},"papier peitn et toiles tendues pour décoration murale hors toile de verre"]
[null,null,null,{"$f":"+$B$2323","v":"Revêtements des sols, murs et plafonds"},{"$f":"+$D$2446","v":"Papier peint et toile de verre"},"tapisseries"]
[null,null,null,{"$f":"+$B$2323","v":"Revêtements des sols, murs et plafonds"},{"$f":"+$D$2446","v":"Papier peint et toile de verre"},"Tapisseries autocollante"]
[null,null,null,{"$f":"+$B$2323","v":"Revêtements des sols, murs et plafonds"},{"$f":"+$D$2446","v":"Papier peint et toile de verre"},"toiles de verre - colles"]
[null,null,null,{"$f":"+$B$2323","v":"Revêtements des sols, murs et plafonds"},{"$f":"+$D$2446","v":"Papier peint et toile de verre"},"toile de verre en fibre de verre"]
[]
[null,439,null,"Revêtement mural en fibre naturelle"]
[]
[null,null,null,"Rayon","Catégorie","Exemples de produits (non-exhaustif)"]
[null,null,null,{"$f":"+$B$2323","v":"Revêtements des sols, murs et plafonds"},"Revêtement mural en fibre naturelle","papier peitn et toiles tendues pour décoration murale hors toile de verre"]
[]
[null,440,null,"Revêtement mural avec fibre de verre"]
[]
[null,null,null,"Rayon","Catégorie","Exemples de produits (non-exhaustif)"]
[null,null,null,{"$f":"+$B$2323","v":"Revêtements des sols, murs et plafonds"},"Revêtement mural avec fibre de verre","papier peitn et toiles tendues pour décoration murale hors toile de verre"]
[]
[null,443,null,"Divers dont moulures"]
[]
[null,null,null,"Rayon","Catégorie","Exemples de produits (non-exhaustif)"]
[null,null,null,{"$f":"+$B$2323","v":"Revêtements des sols, murs et plafonds"},{"$f":"+$D$2465","v":"Divers dont moulures"},"membranes d'étanchéité sol et mur"]
[null,null,null,"Revêtements des sols, murs et plafonds","Divers dont moulures","pare choc muraux"]
[null,null,null,"Revêtements des sols, murs et plafonds","Divers dont moulures","tapis d'entrée fixe en fosse"]
[null,null,null,"Revêtements des sols, murs et plafonds","Divers dont moulures","moulures"]
[null,null,null,{"$f":"+$B$2323","v":"Revêtements des sols, murs et plafonds"},{"$f":"+$D$2465","v":"Divers dont moulures"},"sous-couche"]
[null,null,null,{"$f":"+$B$2323","v":"Revêtements des sols, murs et plafonds"},{"$f":"+$D$2465","v":"Divers dont moulures"},"dalles gazon"]
[null,null,null,"Revêtements des sols, murs et plafonds","Divers dont moulures","moulures d encadrement"]
[null,null,null,{"$f":"+$B$2323","v":"Revêtements des sols, murs et plafonds"},{"$f":"+$D$2465","v":"Divers dont moulures"},"acrotère"]
[null,null,null,"Revêtements des sols, murs et plafonds","Divers dont moulures","moulures revêtues"]
[null,null,null,"Revêtements des sols, murs et plafonds","Divers dont moulures","moulure et tasseau pin - sapin - exotique"]
[null,null,null,{"$f":"+$B$2323","v":"Revêtements des sols, murs et plafonds"},{"$f":"+$D$2465","v":"Divers dont moulures"},"chambranle"]
[null,null,null,"Revêtements des sols, murs et plafonds","Divers dont moulures","dalles polystyrène - lièges - colles"]
[null,null,null,"Revêtements des sols, murs et plafonds","Divers dont moulures","moulure et corniche"]
[null,null,null,"Revêtements des sols, murs et plafonds","Divers dont moulures","produits d'ornement externes et internes mis en oeuvre de façon permanente"]
[null,null,null,"Revêtements des sols, murs et plafonds","Divers dont moulures","dalles de corniches"]
[null,null,null,"Revêtements des sols, murs et plafonds","Divers dont moulures","corniches"]
[null,null,null,null,null,null,null,null,{"$f":"TRIM((LOWER(F2484)))","v":""}]
[null,null,null,null,null,null,null,null,{"$f":"TRIM((LOWER(F2485)))","v":""}]
[null,"Quincaillerie du bâtiment",null,null,null,null,null,null,{"$f":"TRIM((LOWER(F2486)))","v":""}]
[null,null,null,null,null,null,null,null,{"$f":"TRIM((LOWER(F2487)))","v":""}]
[null,450,null,"Eléments de fermeture de portes et fenêtres, gonds et pentures",null,null,null,null,{"$f":"TRIM((LOWER(F2488)))","v":""}]
[]
[null,null,null,"Rayon","Catégorie","Exemples de produits (non-exhaustif)"]
[null,null,null,{"$f":"$B$2486","v":"Quincaillerie du bâtiment"},{"$f":"+$D$2488","v":"Eléments de fermeture de portes et fenêtres, gonds et pentures"},"charnières"]
[null,null,null,"Quincaillerie du bâtiment","Eléments de fermeture de portes et fenêtres, gonds et pentures","cornières"]
[null,null,null,"Quincaillerie du bâtiment","Eléments de fermeture de portes et fenêtres, gonds et pentures","cylindres"]
[null,null,null,"Quincaillerie du bâtiment","Eléments de fermeture de portes et fenêtres, gonds et pentures","cylindres de serrure"]
[null,null,null,"Quincaillerie du bâtiment","Eléments de fermeture de portes et fenêtres, gonds et pentures","vis de parclose"]
[null,null,null,"Quincaillerie du bâtiment","Eléments de fermeture de portes et fenêtres, gonds et pentures","entrebâilleurs et judas"]
[null,null,null,"Quincaillerie du bâtiment","Eléments de fermeture de portes et fenêtres, gonds et pentures","entrebâilleurs pour volets"]
[null,null,null,"Quincaillerie du bâtiment","Eléments de fermeture de portes et fenêtres, gonds et pentures","ferme-portes"]
[null,null,null,"Quincaillerie du bâtiment","Eléments de fermeture de portes et fenêtres, gonds et pentures","fermetures anti-panique"]
[null,null,null,"Quincaillerie du bâtiment","Eléments de fermeture de portes et fenêtres, gonds et pentures","gonds"]
[null,null,null,"Quincaillerie du bâtiment","Eléments de fermeture de portes et fenêtres, gonds et pentures","gonds de portes"]
[null,null,null,"Quincaillerie du bâtiment","Eléments de fermeture de portes et fenêtres, gonds et pentures","isolants, joints, feuillures"]
[null,null,null,{"$f":"$B$2486","v":"Quincaillerie du bâtiment"},{"$f":"+$D$2488","v":"Eléments de fermeture de portes et fenêtres, gonds et pentures"},"gâche à visser"]
[null,null,null,"Quincaillerie du bâtiment","Eléments de fermeture de portes et fenêtres, gonds et pentures","pentures - equerres"]
[null,null,null,{"$f":"$B$2486","v":"Quincaillerie du bâtiment"},{"$f":"+$D$2488","v":"Eléments de fermeture de portes et fenêtres, gonds et pentures"},"gâche d'arrêt"]
[null,null,null,{"$f":"$B$2486","v":"Quincaillerie du bâtiment"},{"$f":"+$D$2488","v":"Eléments de fermeture de portes et fenêtres, gonds et pentures"},"gâche de serrure"]
[null,null,null,"Quincaillerie du bâtiment","Eléments de fermeture de portes et fenêtres, gonds et pentures","plaques"]
[null,null,null,"Quincaillerie du bâtiment","Eléments de fermeture de portes et fenêtres, gonds et pentures","poignées de fenêtres"]
[null,null,null,"Quincaillerie du bâtiment","Eléments de fermeture de portes et fenêtres, gonds et pentures","poignées de porte"]
[null,null,null,"Quincaillerie du bâtiment","Eléments de fermeture de portes et fenêtres, gonds et pentures","quincaillerie pour fenêtres"]
[null,null,null,"Quincaillerie du bâtiment","Eléments de fermeture de portes et fenêtres, gonds et pentures","quincaillerie pour portes"]
[null,null,null,"Quincaillerie du bâtiment","Eléments de fermeture de portes et fenêtres, gonds et pentures","rails pour portes coulissantes"]
[null,null,null,"Quincaillerie du bâtiment","Eléments de fermeture de portes et fenêtres, gonds et pentures","rosaces"]
[null,null,null,"Quincaillerie du bâtiment","Eléments de fermeture de portes et fenêtres, gonds et pentures","rosaces de fonction"]
[null,null,null,"Quincaillerie du bâtiment","Eléments de fermeture de portes et fenêtres, gonds et pentures","serrures"]
[null,null,null,"Quincaillerie du bâtiment","Eléments de fermeture de portes et fenêtres, gonds et pentures","serrures de porte"]
[null,null,null,"Quincaillerie du bâtiment","Eléments de fermeture de portes et fenêtres, gonds et pentures","serrures en applique"]
[null,null,null,"Quincaillerie du bâtiment","Eléments de fermeture de portes et fenêtres, gonds et pentures","serrures encastrées"]
[null,null,null,"Quincaillerie du bâtiment","Eléments de fermeture de portes et fenêtres, gonds et pentures","serrures multipoints"]
[null,null,null,"Quincaillerie du bâtiment","Eléments de fermeture de portes et fenêtres, gonds et pentures","serrures de sécurité"]
[null,null,null,"Quincaillerie du bâtiment","Eléments de fermeture de portes et fenêtres, gonds et pentures","tiges filetées"]
[null,null,null,"Quincaillerie du bâtiment","Eléments de fermeture de portes et fenêtres, gonds et pentures","verrou porte"]
[null,null,null,"Quincaillerie du bâtiment","Eléments de fermeture de portes et fenêtres, gonds et pentures","verrous"]
[]
[null,451,null,"Bas de portes"]
[]
[null,null,null,"Rayon","Catégorie","Exemples de produits (non-exhaustif)"]
[null,null,null,{"$f":"$B$2486","v":"Quincaillerie du bâtiment"},{"$f":"+$D$2525","v":"Bas de portes"},"seuils de porte"]
[null,null,null,"Quincaillerie du bâtiment","Bas de portes","butées de porte"]
[null,null,null,"Quincaillerie du bâtiment","Bas de portes","plaques de propreté"]
[null,null,null,"Quincaillerie du bâtiment","Bas de portes","arrêt"]
[null,null,null,"Quincaillerie du bâtiment","Bas de portes","arrêt tête de berger"]
[null,null,null,"Quincaillerie du bâtiment","Bas de portes","tourniquets"]
[null,null,null,"Quincaillerie du bâtiment","Bas de portes","cales porte"]
[null,null,null,"Quincaillerie du bâtiment","Bas de portes","bas de porte"]
[null,null,null,{"$f":"$B$2486","v":"Quincaillerie du bâtiment"},{"$f":"+$D$2525","v":"Bas de portes"},"bas de porte de garage"]
[]
[null,452,null,"Accessoires de pose"]
[]
[null,null,null,"Rayon","Catégorie","Exemples de produits (non-exhaustif)"]
[null,null,null,{"$f":"$B$2486","v":"Quincaillerie du bâtiment"},{"$f":"+$D$2538","v":"Accessoires de pose"},"membrane"]
[null,null,null,{"$f":"$B$2486","v":"Quincaillerie du bâtiment"},{"$f":"+$D$2538","v":"Accessoires de pose"},"système d’étanchéité pour carrelage"]
[null,null,null,{"$f":"$B$2486","v":"Quincaillerie du bâtiment"},{"$f":"+$D$2538","v":"Accessoires de pose"},"kit et produits de pose pour brique de verre"]
[null,null,null,"Quincaillerie du bâtiment","Accessoires de pose","mélamine urée formol (muf)"]
[null,null,null,"Quincaillerie du bâtiment","Accessoires de pose","attaches de câble"]
[null,null,null,"Quincaillerie du bâtiment","Accessoires de pose","fixations"]
[null,null,null,"Quincaillerie du bâtiment","Accessoires de pose","fixations pour balustrades"]
[null,null,null,"Quincaillerie du bâtiment","Accessoires de pose","serres câble"]
[null,null,null,{"$f":"$B$2486","v":"Quincaillerie du bâtiment"},{"$f":"+$D$2538","v":"Accessoires de pose"},"supports pour sanitaires"]
[null,null,null,{"$f":"$B$2486","v":"Quincaillerie du bâtiment"},{"$f":"+$D$2538","v":"Accessoires de pose"},"systèmes d’ancrage"]
[]
[null,455,null,"Quincallerie et accessoire divers toute catégorie"]
[]
[null,null,null,"Rayon","Catégorie","Exemples de produits (non-exhaustif)"]
[null,null,null,{"$f":"$B$2486","v":"Quincaillerie du bâtiment"},{"$f":"+$D$2552","v":"Quincallerie et accessoire divers toute catégorie"},"armoires utilitaires"]
[null,null,null,"Quincaillerie du bâtiment","Quincallerie et accessoire divers toute catégorie","boîtes aux lettres"]
[null,null,null,"Quincaillerie du bâtiment","Quincallerie et accessoire divers toute catégorie","boutons de sonnette"]
[null,null,null,"Quincaillerie du bâtiment","Quincallerie et accessoire divers toute catégorie","hublots pour porte d'intérieur"]
[null,null,null,"Quincaillerie du bâtiment","Quincallerie et accessoire divers toute catégorie","suspentes"]
[null,null,null,"Quincaillerie du bâtiment","Quincallerie et accessoire divers toute catégorie","coffres-forts"]
[null,null,null,"Quincaillerie du bâtiment","Quincallerie et accessoire divers toute catégorie","numéros de maison"]
[null,null,null,"Quincaillerie du bâtiment","Quincallerie et accessoire divers toute catégorie","plaques de boîte aux lettres"]
[null,null,null,"Quincaillerie du bâtiment","Quincallerie et accessoire divers toute catégorie","vis - pattes-à-vis"]
[null,null,null,"Quincaillerie du bâtiment","Quincallerie et accessoire divers toute catégorie","vis - pattes-à-vis en métal"]
[null,null,null,"Quincaillerie du bâtiment","Quincallerie et accessoire divers toute catégorie","vis - pattes-à-vis en plastique"]
[null,null,null,"Quincaillerie du bâtiment","Quincallerie et accessoire divers toute catégorie","chevilles"]
[null,null,null,"Quincaillerie du bâtiment","Quincallerie et accessoire divers toute catégorie","vis"]
[null,null,null,"Quincaillerie du bâtiment","Quincallerie et accessoire divers toute catégorie","clous"]
[null,null,null,"Quincaillerie du bâtiment","Quincallerie et accessoire divers toute catégorie","boulons"]
[null,null,null,"Quincaillerie du bâtiment","Quincallerie et accessoire divers toute catégorie","accessoires de fixation"]
[null,null,null,"Quincaillerie du bâtiment","Quincallerie et accessoire divers toute catégorie","autre quincaillerie"]
[]
[]
[null,"Peinture, lasures et vernis, droguerie, colles et traitement, adjuvants"]
[]
[null,465,null,"Sous-couches, préparation des sols et étanchéité",null,null,null,null,{"$f":"TRIM((LOWER(F2576)))","v":""}]
[null,null,null,null,null,null,null,null,{"$f":"TRIM((LOWER(F2577)))","v":""}]
[null,null,null,"Rayon","Catégorie","Exemples de produits (non-exhaustif)"]
[null,null,null,{"$f":"$B$2574","v":"Peinture, lasures et vernis, droguerie, colles et traitement, adjuvants"},{"$f":"$D$2576","v":"Sous-couches, préparation des sols et étanchéité"},"primaires de préparation de support"]
[null,null,null,{"$f":"$B$2574","v":"Peinture, lasures et vernis, droguerie, colles et traitement, adjuvants"},{"$f":"$D$2576","v":"Sous-couches, préparation des sols et étanchéité"},"produits de préparation avant pose carrelage"]
[null,null,null,"Peinture, lasures et vernis, droguerie, colles et traitement, adjuvants","Sous-couches, préparation des sols et étanchéité","produits de préparation et d’égalisation des sols"]
[null,null,null,"Peinture, lasures et vernis, droguerie, colles et traitement, adjuvants","Sous-couches, préparation des sols et étanchéité","produits de préparation moquette et sol pvc"]
[null,null,null,"Peinture, lasures et vernis, droguerie, colles et traitement, adjuvants","Sous-couches, préparation des sols et étanchéité","résine pu pour sols"]
[null,null,null,"Peinture, lasures et vernis, droguerie, colles et traitement, adjuvants","Sous-couches, préparation des sols et étanchéité","additifs et résines d’imperméabilisation"]
[null,null,null,"Peinture, lasures et vernis, droguerie, colles et traitement, adjuvants","Sous-couches, préparation des sols et étanchéité","couches de séparation et protectrices"]
[null,null,null,"Peinture, lasures et vernis, droguerie, colles et traitement, adjuvants","Sous-couches, préparation des sols et étanchéité","produits imperméabilisants à base de bentonite"]
[null,null,null,"Peinture, lasures et vernis, droguerie, colles et traitement, adjuvants","Sous-couches, préparation des sols et étanchéité","produits imperméabilisants à base de ciment"]
[null,null,null,"Peinture, lasures et vernis, droguerie, colles et traitement, adjuvants","Sous-couches, préparation des sols et étanchéité","produits imperméabilisants à base de polyoléfine"]
[null,null,null,"Peinture, lasures et vernis, droguerie, colles et traitement, adjuvants","Sous-couches, préparation des sols et étanchéité","produits imperméabilisants de ciment"]
[null,null,null,"Peinture, lasures et vernis, droguerie, colles et traitement, adjuvants","Sous-couches, préparation des sols et étanchéité","produits imperméabilisants pour l’écoconstruction"]
[null,null,null,"Peinture, lasures et vernis, droguerie, colles et traitement, adjuvants","Sous-couches, préparation des sols et étanchéité","sous couche"]
[null,null,null,"Peinture, lasures et vernis, droguerie, colles et traitement, adjuvants","Sous-couches, préparation des sols et étanchéité","resine et polyester"]
[null,null,null,"Peinture, lasures et vernis, droguerie, colles et traitement, adjuvants","Sous-couches, préparation des sols et étanchéité","etancheite interieure"]
[null,null,null,"Peinture, lasures et vernis, droguerie, colles et traitement, adjuvants","Sous-couches, préparation des sols et étanchéité","etancheite exterieure"]
[null,null,null,"Peinture, lasures et vernis, droguerie, colles et traitement, adjuvants","Sous-couches, préparation des sols et étanchéité","joints d'etancheite"]
[null,null,null,"Peinture, lasures et vernis, droguerie, colles et traitement, adjuvants","Sous-couches, préparation des sols et étanchéité","glycero brillant"]
[null,null,null,"Peinture, lasures et vernis, droguerie, colles et traitement, adjuvants","Sous-couches, préparation des sols et étanchéité","glycero satin"]
[null,null,null,{"$f":"$B$2574","v":"Peinture, lasures et vernis, droguerie, colles et traitement, adjuvants"},{"$f":"$D$2576","v":"Sous-couches, préparation des sols et étanchéité"},"glycero mat"]
[null,null,null,{"$f":"$B$2574","v":"Peinture, lasures et vernis, droguerie, colles et traitement, adjuvants"},{"$f":"$D$2576","v":"Sous-couches, préparation des sols et étanchéité"},"sous couches"]
[null,null,null,{"$f":"$B$2574","v":"Peinture, lasures et vernis, droguerie, colles et traitement, adjuvants"},{"$f":"$D$2576","v":"Sous-couches, préparation des sols et étanchéité"},"produit de mise en oeuvre"]
[]
[null,482,null,"Peintures extérieures, yc enduits et peintures de façade"]
[null,null,null,null,null,null,null,null,{"$f":"TRIM((LOWER(F2603)))","v":""}]
[null,null,null,"Rayon","Catégorie","Exemples de produits (non-exhaustif)"]
[null,null,null,{"$f":"$B$2574","v":"Peinture, lasures et vernis, droguerie, colles et traitement, adjuvants"},{"$f":"$D$2602","v":"Peintures extérieures, yc enduits et peintures de façade"},"peintures fer"]
[null,null,null,{"$f":"$B$2574","v":"Peinture, lasures et vernis, droguerie, colles et traitement, adjuvants"},{"$f":"$D$2602","v":"Peintures extérieures, yc enduits et peintures de façade"},"peintures bois extérieurs"]
[null,null,null,{"$f":"$B$2574","v":"Peinture, lasures et vernis, droguerie, colles et traitement, adjuvants"},{"$f":"$D$2602","v":"Peintures extérieures, yc enduits et peintures de façade"},"sols continus antibactériens"]
[null,null,null,"Peinture, lasures et vernis, droguerie, colles et traitement, adjuvants","Peintures extérieures, yc enduits et peintures de façade","peintures pour marquage routier"]
[null,null,null,"Peinture, lasures et vernis, droguerie, colles et traitement, adjuvants","Peintures extérieures, yc enduits et peintures de façade","enduits ignifuges"]
[null,null,null,"Peinture, lasures et vernis, droguerie, colles et traitement, adjuvants","Peintures extérieures, yc enduits et peintures de façade","peintures ignifuges"]
[null,null,null,"Peinture, lasures et vernis, droguerie, colles et traitement, adjuvants","Peintures extérieures, yc enduits et peintures de façade","revêtements intumescents"]
[null,null,null,"Peinture, lasures et vernis, droguerie, colles et traitement, adjuvants","Peintures extérieures, yc enduits et peintures de façade","traitements ignifuges"]
[null,null,null,"Peinture, lasures et vernis, droguerie, colles et traitement, adjuvants","Peintures extérieures, yc enduits et peintures de façade","vernis résistants au feu"]
[null,null,null,"Peinture, lasures et vernis, droguerie, colles et traitement, adjuvants","Peintures extérieures, yc enduits et peintures de façade","enduits déshumidificateurs"]
[null,null,null,"Peinture, lasures et vernis, droguerie, colles et traitement, adjuvants","Peintures extérieures, yc enduits et peintures de façade","prévention et traitement des moisissures"]
[null,null,null,"Peinture, lasures et vernis, droguerie, colles et traitement, adjuvants","Peintures extérieures, yc enduits et peintures de façade","consolidation de terrains et fondations"]
[null,null,null,"Peinture, lasures et vernis, droguerie, colles et traitement, adjuvants","Peintures extérieures, yc enduits et peintures de façade","peinture pliolite"]
[null,null,null,"Peinture, lasures et vernis, droguerie, colles et traitement, adjuvants","Peintures extérieures, yc enduits et peintures de façade","peinture acrylique"]
[null,null,null,"Peinture, lasures et vernis, droguerie, colles et traitement, adjuvants","Peintures extérieures, yc enduits et peintures de façade","peinture microporeuse"]
[null,null,null,"Peinture, lasures et vernis, droguerie, colles et traitement, adjuvants","Peintures extérieures, yc enduits et peintures de façade","peinture antirouille et prep.metaux"]
[null,null,null,"Peinture, lasures et vernis, droguerie, colles et traitement, adjuvants","Peintures extérieures, yc enduits et peintures de façade","peinture siloxane"]
[null,null,null,null,null,null,null,null,{"$f":"TRIM((LOWER(F2622)))","v":""}]
[null,467,null,"Traitements des murs et toitures",null,null,null,null,{"$f":"TRIM((LOWER(F2623)))","v":""}]
[]
[null,null,null,"Rayon","Catégorie","Exemples de produits (non-exhaustif)"]
[null,null,null,{"$f":"$B$2574","v":"Peinture, lasures et vernis, droguerie, colles et traitement, adjuvants"},{"$f":"$D$2623","v":"Traitements des murs et toitures"},"imperméabilsants"]
[null,null,null,{"$f":"$B$2574","v":"Peinture, lasures et vernis, droguerie, colles et traitement, adjuvants"},{"$f":"$D$2623","v":"Traitements des murs et toitures"},"traitement anti-bactériens"]
[null,null,null,"Peinture, lasures et vernis, droguerie, colles et traitement, adjuvants","Traitements des murs et toitures","anti-thermites"]
[null,null,null,"Peinture, lasures et vernis, droguerie, colles et traitement, adjuvants","Traitements des murs et toitures","films protecteurs antibactériens"]
[null,null,null,"Peinture, lasures et vernis, droguerie, colles et traitement, adjuvants","Traitements des murs et toitures","moquettes antibactériens"]
[null,null,null,"Peinture, lasures et vernis, droguerie, colles et traitement, adjuvants","Traitements des murs et toitures","mosaïques antibactériens"]
[null,null,null,"Peinture, lasures et vernis, droguerie, colles et traitement, adjuvants","Traitements des murs et toitures","papiers peints nettoyables"]
[null,null,null,{"$f":"$B$2574","v":"Peinture, lasures et vernis, droguerie, colles et traitement, adjuvants"},{"$f":"$D$2623","v":"Traitements des murs et toitures"},"peintures à l’eau antibactériennes"]
[null,null,null,{"$f":"$B$2574","v":"Peinture, lasures et vernis, droguerie, colles et traitement, adjuvants"},{"$f":"$D$2623","v":"Traitements des murs et toitures"},"peintures antibactériennes"]
[null,null,null,{"$f":"$B$2574","v":"Peinture, lasures et vernis, droguerie, colles et traitement, adjuvants"},{"$f":"$D$2623","v":"Traitements des murs et toitures"},"peintures désinfectantes"]
[null,null,null,{"$f":"$B$2574","v":"Peinture, lasures et vernis, droguerie, colles et traitement, adjuvants"},{"$f":"$D$2623","v":"Traitements des murs et toitures"},"revêtements de sol antibactériens"]
[null,null,null,{"$f":"$B$2574","v":"Peinture, lasures et vernis, droguerie, colles et traitement, adjuvants"},{"$f":"$D$2623","v":"Traitements des murs et toitures"},"revêtements muraux antibactériens"]
[]
[null,468,null,"Peintures intérieures"]
[]
[null,null,null,"Rayon","Catégorie","Exemples de produits (non-exhaustif)"]
[null,null,null,{"$f":"$B$2574","v":"Peinture, lasures et vernis, droguerie, colles et traitement, adjuvants"},{"$f":"$D$2639","v":"Peintures intérieures"},"peinture grand blanc"]
[null,null,null,{"$f":"$B$2574","v":"Peinture, lasures et vernis, droguerie, colles et traitement, adjuvants"},{"$f":"$D$2639","v":"Peintures intérieures"},"peinture intérieure couleur"]
[null,null,null,"Peinture, lasures et vernis, droguerie, colles et traitement, adjuvants","Peintures intérieures","peintures matières et effets"]
[null,null,null,"Peinture, lasures et vernis, droguerie, colles et traitement, adjuvants","Peintures intérieures","personnalisation"]
[null,null,null,"Peinture, lasures et vernis, droguerie, colles et traitement, adjuvants","Peintures intérieures","peintures de rénovation"]
[null,null,null,"Peinture, lasures et vernis, droguerie, colles et traitement, adjuvants","Peintures intérieures","peintures intérieures spécifiques"]
[null,null,null,"Peinture, lasures et vernis, droguerie, colles et traitement, adjuvants","Peintures intérieures","acrylique brillant"]
[null,null,null,"Peinture, lasures et vernis, droguerie, colles et traitement, adjuvants","Peintures intérieures","acrylique satin"]
[null,null,null,"Peinture, lasures et vernis, droguerie, colles et traitement, adjuvants","Peintures intérieures","acrylique mat"]
[null,null,null,{"$f":"$B$2574","v":"Peinture, lasures et vernis, droguerie, colles et traitement, adjuvants"},{"$f":"$D$2639","v":"Peintures intérieures"},"colorants"]
[null,null,null,{"$f":"$B$2574","v":"Peinture, lasures et vernis, droguerie, colles et traitement, adjuvants"},{"$f":"$D$2639","v":"Peintures intérieures"},"aerosol"]
[null,null,null,{"$f":"$B$2574","v":"Peinture, lasures et vernis, droguerie, colles et traitement, adjuvants"},{"$f":"$D$2639","v":"Peintures intérieures"},"peinture sol"]
[]
[null,469,null,"Colles et adhésifs"]
[]
[null,null,null,"Rayon","Catégorie","Exemples de produits (non-exhaustif)"]
[null,null,null,{"$f":"$B$2574","v":"Peinture, lasures et vernis, droguerie, colles et traitement, adjuvants"},{"$f":"$D$2655","v":"Colles et adhésifs"},"adhésifs"]
[null,null,null,"Peinture, lasures et vernis, droguerie, colles et traitement, adjuvants","Colles et adhésifs","colle"]
[null,null,null,"Peinture, lasures et vernis, droguerie, colles et traitement, adjuvants","Colles et adhésifs","colle polyurethane"]
[null,null,null,"Peinture, lasures et vernis, droguerie, colles et traitement, adjuvants","Colles et adhésifs","colle pour plaque"]
[null,null,null,"Peinture, lasures et vernis, droguerie, colles et traitement, adjuvants","Colles et adhésifs","colle solvant"]
[null,null,null,"Peinture, lasures et vernis, droguerie, colles et traitement, adjuvants","Colles et adhésifs","colles aqueuses"]
[null,null,null,"Peinture, lasures et vernis, droguerie, colles et traitement, adjuvants","Colles et adhésifs","colles de réparation et assemblage : colle époxy"]
[null,null,null,"Peinture, lasures et vernis, droguerie, colles et traitement, adjuvants","Colles et adhésifs","bois"]
[null,null,null,"Peinture, lasures et vernis, droguerie, colles et traitement, adjuvants","Colles et adhésifs","colle contact"]
[null,null,null,"Peinture, lasures et vernis, droguerie, colles et traitement, adjuvants","Colles et adhésifs","hot-melt"]
[null,null,null,"Peinture, lasures et vernis, droguerie, colles et traitement, adjuvants","Colles et adhésifs","pvc"]
[null,null,null,"Peinture, lasures et vernis, droguerie, colles et traitement, adjuvants","Colles et adhésifs","colles murales en pâte"]
[null,null,null,"Peinture, lasures et vernis, droguerie, colles et traitement, adjuvants","Colles et adhésifs","colles murales en poudre"]
[null,null,null,"Peinture, lasures et vernis, droguerie, colles et traitement, adjuvants","Colles et adhésifs","colles réactives"]
[null,null,null,"Peinture, lasures et vernis, droguerie, colles et traitement, adjuvants","Colles et adhésifs","double face"]
[null,null,null,"Peinture, lasures et vernis, droguerie, colles et traitement, adjuvants","Colles et adhésifs","colles vinyliques"]
[null,null,null,"Peinture, lasures et vernis, droguerie, colles et traitement, adjuvants","Colles et adhésifs","colle neoprene"]
[null,null,null,"Peinture, lasures et vernis, droguerie, colles et traitement, adjuvants","Colles et adhésifs","colles techniques"]
[null,null,null,"Peinture, lasures et vernis, droguerie, colles et traitement, adjuvants","Colles et adhésifs","colles parquets"]
[null,null,null,"Peinture, lasures et vernis, droguerie, colles et traitement, adjuvants","Colles et adhésifs","colle cyanoacrylate et bi-composant"]
[null,null,null,"Peinture, lasures et vernis, droguerie, colles et traitement, adjuvants","Colles et adhésifs","colles divers"]
[null,null,null,"Peinture, lasures et vernis, droguerie, colles et traitement, adjuvants","Colles et adhésifs","colle et produit d'entretien - de finition et de réparation"]
[]
[null,470,null,"Mastic, joints et mousses polyuréthanes"]
[]
[null,null,null,"Rayon","Catégorie","Exemples de produits (non-exhaustif)"]
[null,null,null,{"$f":"$B$2574","v":"Peinture, lasures et vernis, droguerie, colles et traitement, adjuvants"},{"$f":"$D$2681","v":"Mastic, joints et mousses polyuréthanes"},"mastic de fixation"]
[null,null,null,{"$f":"$B$2574","v":"Peinture, lasures et vernis, droguerie, colles et traitement, adjuvants"},{"$f":"$D$2681","v":"Mastic, joints et mousses polyuréthanes"},"mastic de jointoiement"]
[null,null,null,"Peinture, lasures et vernis, droguerie, colles et traitement, adjuvants","Mastic, joints et mousses polyuréthanes","mastic de maçonnerie"]
[null,null,null,"Peinture, lasures et vernis, droguerie, colles et traitement, adjuvants","Mastic, joints et mousses polyuréthanes","mastic d'étanchéité"]
[null,null,null,"Peinture, lasures et vernis, droguerie, colles et traitement, adjuvants","Mastic, joints et mousses polyuréthanes","mastic sanitaire"]
[null,null,null,"Peinture, lasures et vernis, droguerie, colles et traitement, adjuvants","Mastic, joints et mousses polyuréthanes","mastic toiture"]
[null,null,null,"Peinture, lasures et vernis, droguerie, colles et traitement, adjuvants","Mastic, joints et mousses polyuréthanes","couverture façade : acryliques"]
[null,null,null,"Peinture, lasures et vernis, droguerie, colles et traitement, adjuvants","Mastic, joints et mousses polyuréthanes","hybrides"]
[null,null,null,"Peinture, lasures et vernis, droguerie, colles et traitement, adjuvants","Mastic, joints et mousses polyuréthanes","pu"]
[null,null,null,{"$f":"$B$2574","v":"Peinture, lasures et vernis, droguerie, colles et traitement, adjuvants"},{"$f":"$D$2681","v":"Mastic, joints et mousses polyuréthanes"},"Produit de jointoiement dallage "]
[null,null,null,"Peinture, lasures et vernis, droguerie, colles et traitement, adjuvants","Mastic, joints et mousses polyuréthanes","silicone"]
[null,null,null,"Peinture, lasures et vernis, droguerie, colles et traitement, adjuvants","Mastic, joints et mousses polyuréthanes","mastic vitrage et multi-usage"]
[null,null,null,"Peinture, lasures et vernis, droguerie, colles et traitement, adjuvants","Mastic, joints et mousses polyuréthanes","mousse pu"]
[null,null,null,"Peinture, lasures et vernis, droguerie, colles et traitement, adjuvants","Mastic, joints et mousses polyuréthanes","mousses imprégnées"]
[null,null,null,"Peinture, lasures et vernis, droguerie, colles et traitement, adjuvants","Mastic, joints et mousses polyuréthanes","mastics, mousses et joints ignifuges"]
[null,null,null,"Peinture, lasures et vernis, droguerie, colles et traitement, adjuvants","Mastic, joints et mousses polyuréthanes","rebouchage - preparation"]
[null,null,null,"Peinture, lasures et vernis, droguerie, colles et traitement, adjuvants","Mastic, joints et mousses polyuréthanes","rebouchage et finitions"]
[null,null,null,"Peinture, lasures et vernis, droguerie, colles et traitement, adjuvants","Mastic, joints et mousses polyuréthanes","mastic - colle fixation"]
[null,null,null,"Peinture, lasures et vernis, droguerie, colles et traitement, adjuvants","Mastic, joints et mousses polyuréthanes","joints de clapet"]
[null,null,null,{"$f":"$B$2574","v":"Peinture, lasures et vernis, droguerie, colles et traitement, adjuvants"},{"$f":"$D$2681","v":"Mastic, joints et mousses polyuréthanes"},"joints d'étanchéité"]
[null,null,null,{"$f":"$B$2574","v":"Peinture, lasures et vernis, droguerie, colles et traitement, adjuvants"},{"$f":"$D$2681","v":"Mastic, joints et mousses polyuréthanes"},"joints de porte et fenêtres"]
[null,null,null,{"$f":"$B$2574","v":"Peinture, lasures et vernis, droguerie, colles et traitement, adjuvants"},{"$f":"$D$2681","v":"Mastic, joints et mousses polyuréthanes"},"joints plats"]
[]
[null,471,null,"Adjuvants"]
[]
[null,null,null,"Rayon","Catégorie","Exemples de produits (non-exhaustif)"]
[null,null,null,{"$f":"$B$2574","v":"Peinture, lasures et vernis, droguerie, colles et traitement, adjuvants"},{"$f":"$D$2707","v":"Adjuvants"},"accélérateurs - antigel"]
[null,null,null,{"$f":"$B$2574","v":"Peinture, lasures et vernis, droguerie, colles et traitement, adjuvants"},{"$f":"$D$2707","v":"Adjuvants"},"adjuvant pour préparation béton et mortier"]
[null,null,null,{"$f":"$B$2574","v":"Peinture, lasures et vernis, droguerie, colles et traitement, adjuvants"},{"$f":"$D$2707","v":"Adjuvants"},"colorant de béton et mortier"]
[null,null,null,{"$f":"$B$2574","v":"Peinture, lasures et vernis, droguerie, colles et traitement, adjuvants"},{"$f":"$D$2707","v":"Adjuvants"},"démoulage - produits de cure"]
[null,null,null,"Peinture, lasures et vernis, droguerie, colles et traitement, adjuvants","Adjuvants","hydrofuges - plastifiants et accessoires"]
[null,null,null,"Peinture, lasures et vernis, droguerie, colles et traitement, adjuvants","Adjuvants","résines adhérence et reprise"]
[null,null,null,"Peinture, lasures et vernis, droguerie, colles et traitement, adjuvants","Adjuvants","liants hyd routiers"]
[null,null,null,"Peinture, lasures et vernis, droguerie, colles et traitement, adjuvants","Adjuvants","produits et traitements d’encapsulage de l’amiante"]
[null,null,null,"Peinture, lasures et vernis, droguerie, colles et traitement, adjuvants","Adjuvants","produits anticorrosion"]
[null,null,null,"Peinture, lasures et vernis, droguerie, colles et traitement, adjuvants","Adjuvants","produits d’hydrophobisation des surfaces"]
[null,null,null,"Peinture, lasures et vernis, droguerie, colles et traitement, adjuvants","Adjuvants","produits de nettoyage des surfaces"]
[null,null,null,"Peinture, lasures et vernis, droguerie, colles et traitement, adjuvants","Adjuvants","produits de protection du bois"]
[null,null,null,"Peinture, lasures et vernis, droguerie, colles et traitement, adjuvants","Adjuvants","traitement anti-inscriptions et anti-graffiti"]
[null,null,null,"Peinture, lasures et vernis, droguerie, colles et traitement, adjuvants","Adjuvants","produits chimiques pour restauration de monuments"]
[]
[null,472,null,"Traitements bois"]
[null,null,null,null,null,null,null,null,{"$f":"TRIM((LOWER(F2726)))","v":""}]
[null,null,null,"Rayon","Catégorie","Exemples de produits (non-exhaustif)"]
[null,null,null,{"$f":"$B$2574","v":"Peinture, lasures et vernis, droguerie, colles et traitement, adjuvants"},{"$f":"$D$2725","v":"Traitements bois"},"traitements bois extérieurs"]
[null,null,null,"Peinture, lasures et vernis, droguerie, colles et traitement, adjuvants","Traitements bois","lasures"]
[null,null,null,"Peinture, lasures et vernis, droguerie, colles et traitement, adjuvants","Traitements bois","produits bois de jardin"]
[null,null,null,"Peinture, lasures et vernis, droguerie, colles et traitement, adjuvants","Traitements bois","teintes"]
[null,null,null,"Peinture, lasures et vernis, droguerie, colles et traitement, adjuvants","Traitements bois","cires"]
[null,null,null,"Peinture, lasures et vernis, droguerie, colles et traitement, adjuvants","Traitements bois","produits parquets"]
[null,null,null,"Peinture, lasures et vernis, droguerie, colles et traitement, adjuvants","Traitements bois","consolidation des planchers et structures de bois"]
[null," ",null,"Peinture, lasures et vernis, droguerie, colles et traitement, adjuvants","Traitements bois","peintures de réparation et de restauration"]
[null,null,null,"Peinture, lasures et vernis, droguerie, colles et traitement, adjuvants","Traitements bois","lasures mates"]
[null,null,null,"Peinture, lasures et vernis, droguerie, colles et traitement, adjuvants","Traitements bois","lasures satinees"]
[null,null,null,"Peinture, lasures et vernis, droguerie, colles et traitement, adjuvants","Traitements bois","teintes - cires et finitions"]
[null,null,null,"Peinture, lasures et vernis, droguerie, colles et traitement, adjuvants","Traitements bois","teinte gamme pro"]
[null,null,null,"Peinture, lasures et vernis, droguerie, colles et traitement, adjuvants","Traitements bois","teinte microporeuse"]
[null,null,null,"Peinture, lasures et vernis, droguerie, colles et traitement, adjuvants","Traitements bois","teinte antirouille"]
[]
[null,473,null,"Vernis et vitrificateurs"]
[]
[null,null,null,"Rayon","Catégorie","Exemples de produits (non-exhaustif)"]
[null,null,null,{"$f":"$B$2574","v":"Peinture, lasures et vernis, droguerie, colles et traitement, adjuvants"},{"$f":"$D$2743","v":"Vernis et vitrificateurs"},"vernis intérieurs"]
[null,null,null,{"$f":"$B$2574","v":"Peinture, lasures et vernis, droguerie, colles et traitement, adjuvants"},{"$f":"$D$2743","v":"Vernis et vitrificateurs"},"vernis extérieurs"]
[null,null,null,{"$f":"$B$2574","v":"Peinture, lasures et vernis, droguerie, colles et traitement, adjuvants"},{"$f":"$D$2743","v":"Vernis et vitrificateurs"},"vernis"]
[null,null,null,{"$f":"$B$2574","v":"Peinture, lasures et vernis, droguerie, colles et traitement, adjuvants"},{"$f":"$D$2743","v":"Vernis et vitrificateurs"},"vitrificateurs a solvant"]
[null,null,null,{"$f":"$B$2574","v":"Peinture, lasures et vernis, droguerie, colles et traitement, adjuvants"},{"$f":"$D$2743","v":"Vernis et vitrificateurs"},"vitrificateurs phase aqueuse"]
[null,null,null,null,null,null,null,null,{"$f":"TRIM((LOWER(F2751)))","v":""}]
[null,null,null,null,null,null,null,null,{"$f":"TRIM((LOWER(F2752)))","v":""}]
[null,"Equipements sanitaires pour salle de bain, cuisine et WC",null,null,null,null,null,null,{"$f":"TRIM((LOWER(F2753)))","v":""}]
[null,null,null,null,null,null,null,null,{"$f":"TRIM((LOWER(F2754)))","v":""}]
[null,495,null,"Eviers, vasques et lavabo",null,null,null,null,{"$f":"TRIM((LOWER(F2755)))","v":""}]
[]
[null,null,null,"Rayon","Catégorie","Exemples de produits (non-exhaustif)"]
[null,null,null,{"$f":"$B$2753","v":"Equipements sanitaires pour salle de bain, cuisine et WC"},{"$f":"$D$2755","v":"Eviers, vasques et lavabo"},"lavabo"]
[null,null,null,{"$f":"$B$2753","v":"Equipements sanitaires pour salle de bain, cuisine et WC"},{"$f":"$D$2755","v":"Eviers, vasques et lavabo"},"plan vasque double"]
[null,null,null,{"$f":"$B$2753","v":"Equipements sanitaires pour salle de bain, cuisine et WC"},{"$f":"$D$2755","v":"Eviers, vasques et lavabo"},"plan vasque simple"]
[null,null,null,{"$f":"$B$2753","v":"Equipements sanitaires pour salle de bain, cuisine et WC"},{"$f":"$D$2755","v":"Eviers, vasques et lavabo"},"plan vasque suspendu"]
[null,null,null,{"$f":"$B$2753","v":"Equipements sanitaires pour salle de bain, cuisine et WC"},{"$f":"$D$2755","v":"Eviers, vasques et lavabo"},"vasque à encastrer"]
[null,null,null,{"$f":"$B$2753","v":"Equipements sanitaires pour salle de bain, cuisine et WC"},{"$f":"$D$2755","v":"Eviers, vasques et lavabo"},"vasque à poser"]
[null,null,null,"Equipements sanitaires pour salle de bain, cuisine et WC","Eviers, vasques et lavabo","vasque lave mains"]
[null,null,null,"Equipements sanitaires pour salle de bain, cuisine et WC","Eviers, vasques et lavabo","vasque semi-encastrée"]
[null,null,null,"Equipements sanitaires pour salle de bain, cuisine et WC","Eviers, vasques et lavabo","evier"]
[null,null,null,"Equipements sanitaires pour salle de bain, cuisine et WC","Eviers, vasques et lavabo","broyeurs domestiques"]
[null,null,null,"Equipements sanitaires pour salle de bain, cuisine et WC","Eviers, vasques et lavabo","evier grès"]
[null,null,null,"Equipements sanitaires pour salle de bain, cuisine et WC","Eviers, vasques et lavabo","evier résine"]
[null,null,null,"Equipements sanitaires pour salle de bain, cuisine et WC","Eviers, vasques et lavabo","evier inox"]
[]
[null,496,null,"Receveurs de douche et baignoires"]
[]
[null,null,null,"Rayon","Catégorie","Exemples de produits (non-exhaustif)"]
[null,null,null,{"$f":"$B$2753","v":"Equipements sanitaires pour salle de bain, cuisine et WC"},{"$f":"$D$2772","v":"Receveurs de douche et baignoires"},"autres baignoires"]
[null,null,null,"Equipements sanitaires pour salle de bain, cuisine et WC","Receveurs de douche et baignoires","baignoire"]
[null,null,null,"Equipements sanitaires pour salle de bain, cuisine et WC","Receveurs de douche et baignoires","baignoire acrylique"]
[null,null,null,"Equipements sanitaires pour salle de bain, cuisine et WC","Receveurs de douche et baignoires","douches italienne"]
[null,null,null,"Equipements sanitaires pour salle de bain, cuisine et WC","Receveurs de douche et baignoires","receveurs de douche"]
[null,null,null,"Equipements sanitaires pour salle de bain, cuisine et WC","Receveurs de douche et baignoires","tablier et habillage de baignoire"]
[]
[null,497,null,"WC"]
[]
[null,null,null,"Rayon","Catégorie","Exemples de produits (non-exhaustif)"]
[null,null,null,{"$f":"$B$2753","v":"Equipements sanitaires pour salle de bain, cuisine et WC"},{"$f":"$D$2782","v":"WC"},"wc chimique"]
[null,null,null,"Equipements sanitaires pour salle de bain, cuisine et WC","WC","bidets"]
[null,null,null,"Equipements sanitaires pour salle de bain, cuisine et WC","WC","bondes - siphons"]
[null,null,null,"Equipements sanitaires pour salle de bain, cuisine et WC","WC","cuvettes seules"]
[null,null,null,"Equipements sanitaires pour salle de bain, cuisine et WC","WC","réservoirs wc"]
[null,null,null,"Equipements sanitaires pour salle de bain, cuisine et WC","WC","toilettes sèches"]
[null,null,null,"Equipements sanitaires pour salle de bain, cuisine et WC","WC","urinoirs"]
[null,null,null,"Equipements sanitaires pour salle de bain, cuisine et WC","WC","wc à poser"]
[null,null,null,"Equipements sanitaires pour salle de bain, cuisine et WC","WC","wc broyeurs"]
[null,null,null,"Equipements sanitaires pour salle de bain, cuisine et WC","WC","wc suspendus"]
[]
[null,498,null,"Pare-baignoire, pare-douche et cabines intégrales de douche"]
[]
[null,null,null,"Rayon","Catégorie","Exemples de produits (non-exhaustif)"]
[null,null,null,{"$f":"$B$2753","v":"Equipements sanitaires pour salle de bain, cuisine et WC"},{"$f":"$D$2796","v":"Pare-baignoire, pare-douche et cabines intégrales de douche"},"panneaux à carreler"]
[null,null,null,"Equipements sanitaires pour salle de bain, cuisine et WC","Pare-baignoire, pare-douche et cabines intégrales de douche","panneaux mural douche"]
[null,null,null,"Equipements sanitaires pour salle de bain, cuisine et WC","Pare-baignoire, pare-douche et cabines intégrales de douche","parois de douche"]
[null,null,null,{"$f":"$B$2753","v":"Equipements sanitaires pour salle de bain, cuisine et WC"},{"$f":"$D$2796","v":"Pare-baignoire, pare-douche et cabines intégrales de douche"},"ecrans de baignoire"]
[null,null,null,{"$f":"$B$2753","v":"Equipements sanitaires pour salle de bain, cuisine et WC"},{"$f":"$D$2796","v":"Pare-baignoire, pare-douche et cabines intégrales de douche"},"cabine intégrale"]
[null,null,null,{"$f":"$B$2753","v":"Equipements sanitaires pour salle de bain, cuisine et WC"},{"$f":"$D$2796","v":"Pare-baignoire, pare-douche et cabines intégrales de douche"},"pare-baignoire"]
[null,null,null,"Equipements sanitaires pour salle de bain, cuisine et WC","Pare-baignoire, pare-douche et cabines intégrales de douche","portes de douche"]
[null,null,null,{"$f":"$B$2753","v":"Equipements sanitaires pour salle de bain, cuisine et WC"},{"$f":"$D$2796","v":"Pare-baignoire, pare-douche et cabines intégrales de douche"},"cabines de douches"]
[null,null,null,{"$f":"$B$2753","v":"Equipements sanitaires pour salle de bain, cuisine et WC"},{"$f":"$D$2796","v":"Pare-baignoire, pare-douche et cabines intégrales de douche"},"pare baignoires"]
[]
[null,499,null,"Robinetterie et colonne de douche et bain"]
[null,null,null,null,null,null,null,null,{"$f":"TRIM((LOWER(F2810)))","v":""}]
[null,null,null,"Rayon","Catégorie","Exemples de produits (non-exhaustif)"]
[null,null,null,{"$f":"$B$2753","v":"Equipements sanitaires pour salle de bain, cuisine et WC"},{"$f":"$D$2809","v":"Robinetterie et colonne de douche et bain"},"accessoire de robinet"]
[null,null,null,"Equipements sanitaires pour salle de bain, cuisine et WC","Robinetterie et colonne de douche et bain","bagues d'étanchéité"]
[null,null,null,"Equipements sanitaires pour salle de bain, cuisine et WC","Robinetterie et colonne de douche et bain","bondes"]
[null,null,null,"Equipements sanitaires pour salle de bain, cuisine et WC","Robinetterie et colonne de douche et bain","boutons de commande"]
[null,null,null,"Equipements sanitaires pour salle de bain, cuisine et WC","Robinetterie et colonne de douche et bain","colliers et systèmes de fixation pour canalisations"]
[null,null,null,"Equipements sanitaires pour salle de bain, cuisine et WC","Robinetterie et colonne de douche et bain","colonne de douche"]
[null,null,null,"Equipements sanitaires pour salle de bain, cuisine et WC","Robinetterie et colonne de douche et bain","colonnes de douches"]
[null,null,null,"Equipements sanitaires pour salle de bain, cuisine et WC","Robinetterie et colonne de douche et bain","composants hydrosanitaires spéciaux et dispositifs anti-inondation"]
[null,null,null,"Equipements sanitaires pour salle de bain, cuisine et WC","Robinetterie et colonne de douche et bain","composants pour réseaux de distribution d'eau"]
[null,null,null,"Equipements sanitaires pour salle de bain, cuisine et WC","Robinetterie et colonne de douche et bain","cuves, citernes et réservoirs pour installations d'eau"]
[null,null,null,"Equipements sanitaires pour salle de bain, cuisine et WC","Robinetterie et colonne de douche et bain","douchettes et flexibles de douche"]
[null,null,null,"Equipements sanitaires pour salle de bain, cuisine et WC","Robinetterie et colonne de douche et bain","equipement de douche extérieure"]
[null,null,null,"Equipements sanitaires pour salle de bain, cuisine et WC","Robinetterie et colonne de douche et bain","fluxomètres"]
[null,null,null,"Equipements sanitaires pour salle de bain, cuisine et WC","Robinetterie et colonne de douche et bain","groupes de mélange et collecteurs"]
[null,null,null,"Equipements sanitaires pour salle de bain, cuisine et WC","Robinetterie et colonne de douche et bain","hydrothérapie , douchettes et accessoires"]
[null,null,null,"Equipements sanitaires pour salle de bain, cuisine et WC","Robinetterie et colonne de douche et bain","mélangeur"]
[null,null,null,"Equipements sanitaires pour salle de bain, cuisine et WC","Robinetterie et colonne de douche et bain","mitigeur"]
[null,null,null,"Equipements sanitaires pour salle de bain, cuisine et WC","Robinetterie et colonne de douche et bain","modules sanitaires"]
[null,null,null,"Equipements sanitaires pour salle de bain, cuisine et WC","Robinetterie et colonne de douche et bain","plaques de commande"]
[null,null,null,"Equipements sanitaires pour salle de bain, cuisine et WC","Robinetterie et colonne de douche et bain","pompes de relevage"]
[null,null,null,"Equipements sanitaires pour salle de bain, cuisine et WC","Robinetterie et colonne de douche et bain","puisards d’inspection et bouches"]
[null,null,null,"Equipements sanitaires pour salle de bain, cuisine et WC","Robinetterie et colonne de douche et bain","purgeur"]
[null,null,null,"Equipements sanitaires pour salle de bain, cuisine et WC","Robinetterie et colonne de douche et bain","regards et grilles pour installations hydrosanitaires"]
[null,null,null,"Equipements sanitaires pour salle de bain, cuisine et WC","Robinetterie et colonne de douche et bain","réservoirs de chasse"]
[null,null,null,"Equipements sanitaires pour salle de bain, cuisine et WC","Robinetterie et colonne de douche et bain","réservoirs et installations de surpression"]
[null,null,null,"Equipements sanitaires pour salle de bain, cuisine et WC","Robinetterie et colonne de douche et bain","rigoles de douche"]
[null,null,null,"Equipements sanitaires pour salle de bain, cuisine et WC","Robinetterie et colonne de douche et bain","robinet"]
[null,null,null,"Equipements sanitaires pour salle de bain, cuisine et WC","Robinetterie et colonne de douche et bain","robinet de cuisine"]
[null,null,null,"Equipements sanitaires pour salle de bain, cuisine et WC","Robinetterie et colonne de douche et bain","robinet de douche"]
[null,null,null,"Equipements sanitaires pour salle de bain, cuisine et WC","Robinetterie et colonne de douche et bain","robinet de lavabo"]
[null,null,null,"Equipements sanitaires pour salle de bain, cuisine et WC","Robinetterie et colonne de douche et bain","robinet purgeur"]
[null,null,null,"Equipements sanitaires pour salle de bain, cuisine et WC","Robinetterie et colonne de douche et bain","robinets de bidet"]
[null,null,null,"Equipements sanitaires pour salle de bain, cuisine et WC","Robinetterie et colonne de douche et bain","robinets de wc"]
[null,null,null,"Equipements sanitaires pour salle de bain, cuisine et WC","Robinetterie et colonne de douche et bain","robinets, vannes, valves pour installations"]
[null,null,null,"Equipements sanitaires pour salle de bain, cuisine et WC","Robinetterie et colonne de douche et bain","robinetterie cuisine"]
[null,null,null,"Equipements sanitaires pour salle de bain, cuisine et WC","Robinetterie et colonne de douche et bain","robinetterie sdb"]
[null,null,null,"Equipements sanitaires pour salle de bain, cuisine et WC","Robinetterie et colonne de douche et bain","siphon"]
[null,null,null,"Equipements sanitaires pour salle de bain, cuisine et WC","Robinetterie et colonne de douche et bain","soupapes d'écoulement"]
[null,null,null,"Equipements sanitaires pour salle de bain, cuisine et WC","Robinetterie et colonne de douche et bain","stations de relevage"]
[null,null,null,"Equipements sanitaires pour salle de bain, cuisine et WC","Robinetterie et colonne de douche et bain","tête de robinet"]
[null,null,null,"Equipements sanitaires pour salle de bain, cuisine et WC","Robinetterie et colonne de douche et bain","vidage de douche"]
[null,null,null,"Equipements sanitaires pour salle de bain, cuisine et WC","Robinetterie et colonne de douche et bain","vidages de baignoire"]
[]
[null,505,null,"Divers équipements sanitaires et accessoires vendus séparément hors robinetterie"]
[]
[null,null,null,"Rayon","Catégorie","Exemples de produits (non-exhaustif)"]
[null,null,null,{"$f":"$B$2753","v":"Equipements sanitaires pour salle de bain, cuisine et WC"},{"$f":"$D$2855","v":"Divers équipements sanitaires et accessoires vendus séparément hors robinetterie"},"barres d'appui"]
[null,null,null,"Equipements sanitaires pour salle de bain, cuisine et WC","Divers équipements sanitaires et accessoires vendus séparément hors robinetterie","abattants"]
[null,null,null,{"$f":"$B$2753","v":"Equipements sanitaires pour salle de bain, cuisine et WC"},{"$f":"$D$2855","v":"Divers équipements sanitaires et accessoires vendus séparément hors robinetterie"},"mécanismes wc et accessoires"]
[null,null,null,"Equipements sanitaires pour salle de bain, cuisine et WC","Divers équipements sanitaires et accessoires vendus séparément hors robinetterie","trappe de visite baignoire"]
[null,null,null,{"$f":"$B$2753","v":"Equipements sanitaires pour salle de bain, cuisine et WC"},{"$f":"$D$2855","v":"Divers équipements sanitaires et accessoires vendus séparément hors robinetterie"},"miroirs fixes de salle de bain"]
[null,null,null,"Equipements sanitaires pour salle de bain, cuisine et WC","Divers équipements sanitaires et accessoires vendus séparément hors robinetterie","barres relevables pour baignoires"]
[null,null,null,{"$f":"$B$2753","v":"Equipements sanitaires pour salle de bain, cuisine et WC"},{"$f":"$D$2855","v":"Divers équipements sanitaires et accessoires vendus séparément hors robinetterie"},"accessoires à fixer ou à poser"]
[null,null,null,"Equipements sanitaires pour salle de bain, cuisine et WC","Divers équipements sanitaires et accessoires vendus séparément hors robinetterie","vases d'expansion"]
[]
[]
[null,"Electricité",null,null,null,null,null,null,{"$f":"TRIM((LOWER(F2868)))","v":""}]
[null,null,null,null,null,null,null,null,{"$f":"TRIM((LOWER(F2869)))","v":""}]
[null,510,null,"Fils et câbles",null,null,null,null,{"$f":"TRIM((LOWER(F2870)))","v":""}]
[null,null,null,null,null,null,null,null,{"$f":"TRIM((LOWER(F2871)))","v":""}]
[null,null,null,"Rayon","Catégorie","Exemples de produits (non-exhaustif)"]
[null,null,null,{"$f":"$B$2868","v":"Electricité"},{"$f":"$D$2870","v":"Fils et câbles"},"câble et connectique"]
[null,null,null,{"$f":"$B$2868","v":"Electricité"},{"$f":"$D$2870","v":"Fils et câbles"},"câble et fil d’installation"]
[null,null,null,{"$f":"$B$2868","v":"Electricité"},{"$f":"$D$2870","v":"Fils et câbles"},"câble et fil électrique ethernet"]
[null,null,null,"Electricité","Fils et câbles","téléphonie"]
[null,null,null,"Electricité","Fils et câbles","câble"]
[null,null,null,{"$f":"$B$2868","v":"Electricité"},{"$f":"$D$2870","v":"Fils et câbles"},"Fils souples couronne"]
[null,null,null,{"$f":"$B$2868","v":"Electricité"},{"$f":"$D$2870","v":"Fils et câbles"},"Fils rigides couronne"]
[null,null,null,"Electricité","Fils et câbles","fil et cordon d'alimentation"]
[null,null,null,"Electricité","Fils et câbles","câblage cuivre non muni de connecteurs"]
[null,null,null,"Electricité","Fils et câbles","conducteurs et câbles électriques"]
[null,null,null,{"$f":"$B$2868","v":"Electricité"},{"$f":"$D$2870","v":"Fils et câbles"},"fils et câbles Energie"]
[null,null,null,{"$f":"$B$2868","v":"Electricité"},{"$f":"$D$2870","v":"Fils et câbles"},"fils et câbles Télécom"]
[null,null,null,"Electricité","Fils et câbles","conduits pour installations électriques"]
[null,null,null,"Electricité","Fils et câbles","dispositifs et systèmes de câblage"]
[null,null,null,{"$f":"$B$2868","v":"Electricité"},{"$f":"$D$2870","v":"Fils et câbles"},"fils et câbles à la coupe"]
[null,null,null,{"$f":"$B$2868","v":"Electricité"},{"$f":"$D$2870","v":"Fils et câbles"},"fils et câbles en couronnes ou bobinots"]
[]
[null,511,null,"Gaines et fixation",null,null,null,null,{"$f":"TRIM((LOWER(F2890)))","v":""}]
[null,null,null,null,null,null,null,null,{"$f":"TRIM((LOWER(F2891)))","v":""}]
[null,null,null,"Rayon","Catégorie","Exemples de produits (non-exhaustif)"]
[null,null,null,{"$f":"$B$2868","v":"Electricité"},{"$f":"$D$2890","v":"Gaines et fixation"},"boîte de dérivation"]
[null,null,null,"Electricité","Gaines et fixation","chambre"]
[null,null,null,"Electricité","Gaines et fixation","fixation et raccordement du câble"]
[null,null,null,"Electricité","Gaines et fixation","gaine électrique"]
[null,null,null,"Electricité","Gaines et fixation","gaines tpc"]
[null,null,null,"Electricité","Gaines et fixation","tuyau flexible"]
[null,null,null,"Electricité","Gaines et fixation","Fourreau protection câbles"]
[null,null,null,"Electricité","Gaines et fixation","tuyau polyéthylène"]
[null,null,null,"Electricité","Gaines et fixation","goulottes"]
[null,null,null,"Electricité","Gaines et fixation","conduits"]
[null,null,null,"Electricité","Gaines et fixation","plinthes chemins de câbles"]
[null,null,null,"Electricité","Gaines et fixation","échelles à câbles"]
[null,null,null,"Electricité","Gaines et fixation","gaines"]
[null,null,null,"Electricité","Gaines et fixation","gaines préfilées"]
[null,null,null,"Electricité","Gaines et fixation","tubes et accessoires"]
[null,null,null,{"$f":"$B$2868","v":"Electricité"},{"$f":"$D$2890","v":"Gaines et fixation"},"moulures et accessoires"]
[null,null,null,{"$f":"$B$2868","v":"Electricité"},{"$f":"$D$2890","v":"Gaines et fixation"},"attaches, colliers, pontets"]
[]
[null,512,null,"Ascenseurs (hors machinerie)"]
[]
[null,null,null,"Rayon","Catégorie","Exemples de produits (non-exhaustif)"]
[null,null,null,{"$f":"$B$2868","v":"Electricité"},{"$f":"$D$2911","v":"Ascenseurs (hors machinerie)"},"câbles"]
[null,null,null,"Electricité","Ascenseurs (hors machinerie)","guides"]
[null,null,null,"Electricité","Ascenseurs (hors machinerie)","chassis d'ascenseur"]
[null,null,null,"Electricité","Ascenseurs (hors machinerie)","poulies"]
[null,null,null,"Electricité","Ascenseurs (hors machinerie)","structure de la cabine"]
[null,null,null,"Electricité","Ascenseurs (hors machinerie)","accessoires de la cabine"]
[null,null,null,"Electricité","Ascenseurs (hors machinerie)","portes palières"]
[null,null,null,"Electricité","Ascenseurs (hors machinerie)","portes cabine"]
[null,null,null,"Electricité","Ascenseurs (hors machinerie)","contre-poids"]
[null,null,null,"Electricité","Ascenseurs (hors machinerie)","gueuses acier ou béton"]
[]
[null,513,null,"Caissons de télécommunication"]
[]
[null,null,null,"Rayon","Catégorie","Exemples de produits (non-exhaustif)"]
[null,null,null,{"$f":"$B$2868","v":"Electricité"},{"$f":"$D$2925","v":"Caissons de télécommunication"},"chambres de télécommunication"]
[null,null,null,"Electricité","Caissons de télécommunication","coffrets"]
[null,null,null,"Electricité","Caissons de télécommunication","bornes pavillonnaires"]
[null,null,null,"Electricité","Caissons de télécommunication","tableaux de répartition"]
[null,null,null,"Electricité","Caissons de télécommunication","equipement modulaire pour tableaux"]
[null,null,null,"Electricité","Caissons de télécommunication","fusibles et accessoires"]
[]
[]
[null,514,null,"Supports pour lignes aériennes"]
[]
[null,null,null,"Rayon","Catégorie","Exemples de produits (non-exhaustif)"]
[null,null,null,{"$f":"$B$2868","v":"Electricité"},{"$f":"$D$2936","v":"Supports pour lignes aériennes"},"supports pour lignes aériennes"]
[null,null,null,{"$f":"$B$2868","v":"Electricité"},{"$f":"$D$2936","v":"Supports pour lignes aériennes"},"candélâbres"]
[null,null,null,{"$f":"$B$2868","v":"Electricité"},{"$f":"$D$2936","v":"Supports pour lignes aériennes"},"mâts"]
[]
[null,516,null,"Divers produits d'électricité hors prises"]
[]
[null,null,null,"Rayon","Catégorie","Exemples de produits (non-exhaustif)"]
[null,null,null,{"$f":"$B$2868","v":"Electricité"},{"$f":"$D$2943","v":"Divers produits d'électricité hors prises"},"clapet coupe-feu"]
[null,null,null,{"$f":"$B$2868","v":"Electricité"},{"$f":"$D$2943","v":"Divers produits d'électricité hors prises"},"composants électriques divers"]
[null,null,null,{"$f":"$B$2868","v":"Electricité"},{"$f":"$D$2943","v":"Divers produits d'électricité hors prises"},"plaques de finition"]
[null,null,null,{"$f":"$B$2868","v":"Electricité"},{"$f":"$D$2943","v":"Divers produits d'électricité hors prises"},"barrettes, cosses, connecteurs et isolants"]
[]
[]
[null,"Chauffage et traitement de l'air",null,null,null,null,null,null,{"$f":"TRIM((LOWER(F2952)))","v":""}]
[null,null,null,null,null,null,null,null,{"$f":"TRIM((LOWER(F2953)))","v":""}]
[null,525,null,"Cheminées et inserts"]
[]
[null,null,null,"Rayon","Catégorie","Exemples de produits (non-exhaustif)"]
[null,null,null,{"$f":"$B$2952","v":"Chauffage et traitement de l'air"},{"$f":"$D$2954","v":"Cheminées et inserts"},"insert"]
[null,null,null,{"$f":"$B$2952","v":"Chauffage et traitement de l'air"},{"$f":"$D$2954","v":"Cheminées et inserts"},"foyer fermé"]
[null,null,null,{"$f":"$B$2952","v":"Chauffage et traitement de l'air"},{"$f":"$D$2954","v":"Cheminées et inserts"},"cheminée à poser"]
[null,null,null,{"$f":"$B$2952","v":"Chauffage et traitement de l'air"},{"$f":"$D$2954","v":"Cheminées et inserts"},"cheminées, inserts, foyers"]
[null,null,null,{"$f":"$B$2952","v":"Chauffage et traitement de l'air"},{"$f":"$D$2954","v":"Cheminées et inserts"},"cheminées"]
[]
[null,526,null,"Fumisterie"]
[]
[null,null,null,"Rayon","Catégorie","Exemples de produits (non-exhaustif)"]
[null,null,null,{"$f":"$B$2952","v":"Chauffage et traitement de l'air"},{"$f":"$D$2963","v":"Fumisterie"},"caisson de distribution d'air chaud et accessoires"]
[null,null,null,{"$f":"$B$2952","v":"Chauffage et traitement de l'air"},{"$f":"$D$2963","v":"Fumisterie"},"chapeau de cheminée"]
[null,null,null,"Chauffage et traitement de l'air","Fumisterie","embase d'étanchéité"]
[null,null,null,"Chauffage et traitement de l'air","Fumisterie","entrée d'air frais"]
[null,null,null,"Chauffage et traitement de l'air","Fumisterie","habillage de cheminée"]
[null,null,null,"Chauffage et traitement de l'air","Fumisterie","raccordement et accessoires"]
[null,null,null,"Chauffage et traitement de l'air","Fumisterie","sortie de toit"]
[null,null,null,"Chauffage et traitement de l'air","Fumisterie","tubage flexible"]
[null,null,null,"Chauffage et traitement de l'air","Fumisterie","tubage rigide"]
[null,null,null,"Chauffage et traitement de l'air","Fumisterie","conduits aérauliques"]
[null,null,null,"Chauffage et traitement de l'air","Fumisterie","conduits d'évacuation des fumées"]
[null,null,null,"Chauffage et traitement de l'air","Fumisterie","entrées d'air"]
[null,null,null,"Chauffage et traitement de l'air","Fumisterie","bouches dextraction"]
[null,null,null,"Chauffage et traitement de l'air","Fumisterie","diffuseurs"]
[null,null,null,"Chauffage et traitement de l'air","Fumisterie","terminaux passifs"]
[null,null,null,"Chauffage et traitement de l'air","Fumisterie","accessoires pour installations thermiques et de climatisation"]
[null,null,null,"Chauffage et traitement de l'air","Fumisterie","brides, manchons, joints"]
[null,null,null,"Chauffage et traitement de l'air","Fumisterie","colliers et supports pour canalisations"]
[null,null,null,"Chauffage et traitement de l'air","Fumisterie","évents"]
[null,null,null,"Chauffage et traitement de l'air","Fumisterie","isolation thermique pour gaines d’installations"]
[]
[null,527,null,"Chauffage central"]
[]
[null,null,null,"Rayon","Catégorie","Exemples de produits (non-exhaustif)"]
[null,null,null,{"$f":"$B$2952","v":"Chauffage et traitement de l'air"},{"$f":"$D$2987","v":"Chauffage central"},"tube"]
[null,null,null,"Chauffage et traitement de l'air","Chauffage central","canalisation"]
[null,null,null,"Chauffage et traitement de l'air","Chauffage central","raccord"]
[null,null,null,"Chauffage et traitement de l'air","Chauffage central","coude"]
[null,null,null,"Chauffage et traitement de l'air","Chauffage central","gaine"]
[null,null,null,"Chauffage et traitement de l'air","Chauffage central","fourreaux"]
[null,null,null,"Chauffage et traitement de l'air","Chauffage central","accessoires pour réseaux et canalisations"]
[null,null,null,"Chauffage et traitement de l'air","Chauffage central","bouches et diffuseurs pour installations gainées"]
[null,null,null,"Chauffage et traitement de l'air","Chauffage central","gaines et conduits pour installations de climatisation"]
[null,null,null,"Chauffage et traitement de l'air","Chauffage central","gaines pour installations de chauffage"]
[null,null,null,"Chauffage et traitement de l'air","Chauffage central","gaines pour installations de climatisation"]
[null,null,null,"Chauffage et traitement de l'air","Chauffage central","grilles d'aération"]
[]
[null,528,null,"Radiateurs"]
[]
[null,null,null,"Rayon","Catégorie","Exemples de produits (non-exhaustif)"]
[null,null,null,{"$f":"$B$2952","v":"Chauffage et traitement de l'air"},{"$f":"$D$3003","v":"Radiateurs"},"radiateurs à eau chaude"]
[null,null,null,{"$f":"$B$2952","v":"Chauffage et traitement de l'air"},{"$f":"$D$3003","v":"Radiateurs"},"sèche serviette"]
[]
[null,529,null,"Poêles non-électriques"]
[]
[null,null,null,"Rayon","Catégorie","Exemples de produits (non-exhaustif)"]
[null,null,null,{"$f":"$B$2952","v":"Chauffage et traitement de l'air"},{"$f":"$D$3009","v":"Poêles non-électriques"},"poêle à bois"]
[null,null,null,{"$f":"$B$2952","v":"Chauffage et traitement de l'air"},{"$f":"$D$3009","v":"Poêles non-électriques"},"appareils de chauffage au bois"]
[null,null,null,{"$f":"$B$2952","v":"Chauffage et traitement de l'air"},{"$f":"$D$3009","v":"Poêles non-électriques"},"poêle à granulés"]
[null,null,null,{"$f":"$B$2952","v":"Chauffage et traitement de l'air"},{"$f":"$D$3009","v":"Poêles non-électriques"},"appareils de chauffage à granulés à bois"]
[null,null,null,{"$f":"$B$2952","v":"Chauffage et traitement de l'air"},{"$f":"$D$3009","v":"Poêles non-électriques"},"poeles à petrole, gaz"]
[]
[null,530,null,"Traitement de l'air et ventilation"]
[]
[null,null,null,"Rayon","Catégorie","Exemples de produits (non-exhaustif)"]
[null,null,null,{"$f":"$B$2952","v":"Chauffage et traitement de l'air"},{"$f":"$D$3018","v":"Traitement de l'air et ventilation"},"bouche vmc plastique"]
[null,null,null,"Chauffage et traitement de l'air","Traitement de l'air et ventilation","conduit et accessoires d'aération plastique"]
[null,null,null,"Chauffage et traitement de l'air","Traitement de l'air et ventilation","filtre"]
[null,null,null,"Chauffage et traitement de l'air","Traitement de l'air et ventilation","hotte"]
[null,null,null,"Chauffage et traitement de l'air","Traitement de l'air et ventilation","gaine vmc plastique"]
[null,null,null,"Chauffage et traitement de l'air","Traitement de l'air et ventilation","grille d'aération plastique"]
[null,null,null,"Chauffage et traitement de l'air","Traitement de l'air et ventilation","conduits de ventilation"]
[]
[]
[null,"Eléments de jardin maçonnés et leurs pièces structurelles",null,null,null,null,null,null,{"$f":"TRIM((LOWER(F3030)))","v":""}]
[null,null,null,null,null,null,null,null,{"$f":"TRIM((LOWER(F3031)))","v":""}]
[null,535,null,"Abris de jardins, serres maçonnées, pergolas et vérandas",null,null,null,null,{"$f":"TRIM((LOWER(F3032)))","v":""}]
[]
[null,null,null,"Rayon","Catégorie","Exemples de produits (non-exhaustif)"]
[null,null,null,{"$f":"$B$3030","v":"Eléments de jardin maçonnés et leurs pièces structurelles"},{"$f":"$D$3032","v":"Abris de jardins, serres maçonnées, pergolas et vérandas"},"serres de jardin"]
[null,null,null,"Eléments de jardin maçonnés et leurs pièces structurelles","Abris de jardins, serres maçonnées, pergolas et vérandas","pergolas maçonnées"]
[null,null,null,"Eléments de jardin maçonnés et leurs pièces structurelles","Abris de jardins, serres maçonnées, pergolas et vérandas","vérandas"]
[null,null,null,"Eléments de jardin maçonnés et leurs pièces structurelles","Abris de jardins, serres maçonnées, pergolas et vérandas","carport"]
[null,null,null,"Eléments de jardin maçonnés et leurs pièces structurelles","Abris de jardins, serres maçonnées, pergolas et vérandas","abris de jardin"]
[null,null,null,"Eléments de jardin maçonnés et leurs pièces structurelles","Abris de jardins, serres maçonnées, pergolas et vérandas","elements de construction légers pour les garages et les abris"]
[]
[null,536,null,"Clôtures maçonnées et éléments de protection de la parcelle"]
[null,null,null,null,null,null,null,null,{"$f":"TRIM((LOWER(F3043)))","v":""}]
[null,null,null,"Rayon","Catégorie","Exemples de produits (non-exhaustif)"]
[null,null,null,{"$f":"$B$3030","v":"Eléments de jardin maçonnés et leurs pièces structurelles"},{"$f":"$D$3042","v":"Clôtures maçonnées et éléments de protection de la parcelle"},"balustrades"]
[null,null,null,"Eléments de jardin maçonnés et leurs pièces structurelles","Clôtures maçonnées et éléments de protection de la parcelle","barriere/clôture/filet/tapis"]
[null,null,null,"Eléments de jardin maçonnés et leurs pièces structurelles","Clôtures maçonnées et éléments de protection de la parcelle","brises-vue"]
[null,null,null,"Eléments de jardin maçonnés et leurs pièces structurelles","Clôtures maçonnées et éléments de protection de la parcelle","canisses - ecrans d occultation"]
[null,null,null,"Eléments de jardin maçonnés et leurs pièces structurelles","Clôtures maçonnées et éléments de protection de la parcelle","clôture bois et composite"]
[null,null,null,"Eléments de jardin maçonnés et leurs pièces structurelles","Clôtures maçonnées et éléments de protection de la parcelle","clôture maçonnée"]
[null,null,null,"Eléments de jardin maçonnés et leurs pièces structurelles","Clôtures maçonnées et éléments de protection de la parcelle","clôtures"]
[null,null,null,"Eléments de jardin maçonnés et leurs pièces structurelles","Clôtures maçonnées et éléments de protection de la parcelle","clôtures sécurité"]
[null,null,null,"Eléments de jardin maçonnés et leurs pièces structurelles","Clôtures maçonnées et éléments de protection de la parcelle","ecrans - panneaux - clôtures - accessoires"]
[null,null,null,"Eléments de jardin maçonnés et leurs pièces structurelles","Clôtures maçonnées et éléments de protection de la parcelle","éléments pour délimitations extérieures"]
[null,null,null,"Eléments de jardin maçonnés et leurs pièces structurelles","Clôtures maçonnées et éléments de protection de la parcelle","bordure jardin béton"]
[null,null,null,"Eléments de jardin maçonnés et leurs pièces structurelles","Clôtures maçonnées et éléments de protection de la parcelle","bordure jardin imitation bois"]
[null,null,null,"Eléments de jardin maçonnés et leurs pièces structurelles","Clôtures maçonnées et éléments de protection de la parcelle","bordure pierre naturelle"]
[null,null,null,"Eléments de jardin maçonnés et leurs pièces structurelles","Clôtures maçonnées et éléments de protection de la parcelle","éléments de construction légers "]
[null,null,null,"Eléments de jardin maçonnés et leurs pièces structurelles","Clôtures maçonnées et éléments de protection de la parcelle","bordure"]
[null,null,null,"Eléments de jardin maçonnés et leurs pièces structurelles","Clôtures maçonnées et éléments de protection de la parcelle","muret"]
[null,null,null,"Eléments de jardin maçonnés et leurs pièces structurelles","Clôtures maçonnées et éléments de protection de la parcelle","grillage maçonné"]
[null,null,null,"Eléments de jardin maçonnés et leurs pièces structurelles","Clôtures maçonnées et éléments de protection de la parcelle","grilles de sécurité"]
[null,null,null,"Eléments de jardin maçonnés et leurs pièces structurelles","Clôtures maçonnées et éléments de protection de la parcelle","haies artificielles"]
[null,null,null,"Eléments de jardin maçonnés et leurs pièces structurelles","Clôtures maçonnées et éléments de protection de la parcelle","murs végétaux d'extérieur"]
[null,null,null,"Eléments de jardin maçonnés et leurs pièces structurelles","Clôtures maçonnées et éléments de protection de la parcelle","pieds de clôture"]
[null,null,null,"Eléments de jardin maçonnés et leurs pièces structurelles","Clôtures maçonnées et éléments de protection de la parcelle","piquet"]
[null,null,null,"Eléments de jardin maçonnés et leurs pièces structurelles","Clôtures maçonnées et éléments de protection de la parcelle","portails"]
[null,null,null,"Eléments de jardin maçonnés et leurs pièces structurelles","Clôtures maçonnées et éléments de protection de la parcelle","poteau pour clôture"]
[null,null,null,"Eléments de jardin maçonnés et leurs pièces structurelles","Clôtures maçonnées et éléments de protection de la parcelle","poteaux - rondins - piquets"]
[null,null,null,"Eléments de jardin maçonnés et leurs pièces structurelles","Clôtures maçonnées et éléments de protection de la parcelle","rondin"]
[null,null,null,{"$f":"$B$3030","v":"Eléments de jardin maçonnés et leurs pièces structurelles"},{"$f":"$D$3042","v":"Clôtures maçonnées et éléments de protection de la parcelle"},"autres produits divers pour parcelle"]
[null,null,null,"Eléments de jardin maçonnés et leurs pièces structurelles","Clôtures maçonnées et éléments de protection de la parcelle","grilles"]
[null,null,null,"Eléments de jardin maçonnés et leurs pièces structurelles","Clôtures maçonnées et éléments de protection de la parcelle","panneaux et claustra installés via une \nplatine"]
[null,null,null,"Eléments de jardin maçonnés et leurs pièces structurelles","Clôtures maçonnées et éléments de protection de la parcelle","treillages pour jardin vertical"]
[]
[]
[null,537,null,"Piscine et accessoires de piscine",null,null,null,null,{"$f":"TRIM((LOWER(F3077)))","v":""}]
[null,null,null,null,null,null,null,null,{"$f":"TRIM((LOWER(F3078)))","v":""}]
[null,null,null,"Rayon","Catégorie","Exemples de produits (non-exhaustif)"]
[null,null,null,{"$f":"$B$3030","v":"Eléments de jardin maçonnés et leurs pièces structurelles"},{"$f":"$D$3077","v":"Piscine et accessoires de piscine"},"coque de piscine et armatures préfabriquées"]
[null,null,null,"Eléments de jardin maçonnés et leurs pièces structurelles","Piscine et accessoires de piscine","coque de piscine enterrées ou hors-sol"]
[null,null,null,"Eléments de jardin maçonnés et leurs pièces structurelles","Piscine et accessoires de piscine","coque de piscine hors-sol avec filtration et ses accessoires"]
[null,null,null,"Eléments de jardin maçonnés et leurs pièces structurelles","Piscine et accessoires de piscine","verrière en plexiglas (abris) de piscine"]
[null,null,null,"Eléments de jardin maçonnés et leurs pièces structurelles","Piscine et accessoires de piscine","plancher sécurisant"]
[null,null,null,"Eléments de jardin maçonnés et leurs pièces structurelles","Piscine et accessoires de piscine","bâche dure de piscine"]
[null,null,null,{"$f":"$B$3030","v":"Eléments de jardin maçonnés et leurs pièces structurelles"},{"$f":"$D$3077","v":"Piscine et accessoires de piscine"},"Revêtements de piscine (liner, PVC armé, polyester, …)"]
[null,null,null,"Eléments de jardin maçonnés et leurs pièces structurelles","Piscine et accessoires de piscine","baches souples (rigide ou avec ossature) de piscine"]
[null,null,null,{"$f":"$B$3030","v":"Eléments de jardin maçonnés et leurs pièces structurelles"},{"$f":"$D$3077","v":"Piscine et accessoires de piscine"},"sauna finlandais"]
[null,null,null,{"$f":"$B$3030","v":"Eléments de jardin maçonnés et leurs pièces structurelles"},{"$f":"$D$3077","v":"Piscine et accessoires de piscine"},"spas"]
[null,null,null,"Eléments de jardin maçonnés et leurs pièces structurelles","Piscine et accessoires de piscine","couvertures de piscine : couvertures à barres"]
[null,null,null,"Eléments de jardin maçonnés et leurs pièces structurelles","Piscine et accessoires de piscine","liner pour piscine"]
[null,null,null,"Eléments de jardin maçonnés et leurs pièces structurelles","Piscine et accessoires de piscine","structure préfabriquée priscine"]
[null,null,null,"Eléments de jardin maçonnés et leurs pièces structurelles","Piscine et accessoires de piscine","margelle piscine"]
[null,null,null,"Eléments de jardin maçonnés et leurs pièces structurelles","Piscine et accessoires de piscine","spa d'une hauteur de plus de 40cm de hauteur, hors chauffage et moteur électrique"]
[null,null,null,"Eléments de jardin maçonnés et leurs pièces structurelles","Piscine et accessoires de piscine","echelles de piscine"]
[null,null,null,"Eléments de jardin maçonnés et leurs pièces structurelles","Piscine et accessoires de piscine","pièces scellées"]
[null,null,null,"Eléments de jardin maçonnés et leurs pièces structurelles","Piscine et accessoires de piscine","pièces à sceller en inox"]
[null,null,null,"Eléments de jardin maçonnés et leurs pièces structurelles","Piscine et accessoires de piscine","plages de structure bois"]
[null,null,null,"Eléments de jardin maçonnés et leurs pièces structurelles","Piscine et accessoires de piscine","barrières de piscine"]
[null,null,null,"Eléments de jardin maçonnés et leurs pièces structurelles","Piscine et accessoires de piscine","armature et covering piscine"]
[null,null,null,"Eléments de jardin maçonnés et leurs pièces structurelles","Piscine et accessoires de piscine","piscine hors sol, gonflable hors pataugette",null,null,{"$f":"TRIM((LOWER(F3101)))","v":"piscine hors sol, gonflable hors pataugette"}]
[null,null,null,null,null,null,null,null,{"$f":"TRIM((LOWER(F3102)))","v":""}]
[null,540,null,"Divers produits de jardins associés à la construction"]
[]
[null,null,null,"Rayon","Catégorie","Exemples de produits (non-exhaustif)"]
[null,null,null,{"$f":"$B$3030","v":"Eléments de jardin maçonnés et leurs pièces structurelles"},{"$f":"$D$3103","v":"Divers produits de jardins associés à la construction"},"systèmes d’irrigation pour jardins"]
[null,null,null,"Eléments de jardin maçonnés et leurs pièces structurelles","Divers produits de jardins associés à la construction","fontaines maçonnées et accessoires"]
[null,null,null,"Eléments de jardin maçonnés et leurs pièces structurelles","Divers produits de jardins associés à la construction","quai de chargement"]
[null,null,null,"Eléments de jardin maçonnés et leurs pièces structurelles","Divers produits de jardins associés à la construction","mobilier de jardin hors rep adj et dea"]
[null,null,null,"Eléments de jardin maçonnés et leurs pièces structurelles","Divers produits de jardins associés à la construction","mobilier professionnel et aménagement fixe/scellé en bois faisant exception à la rep dea"]
[null,null,null,"Eléments de jardin maçonnés et leurs pièces structurelles","Divers produits de jardins associés à la construction","mobilier urbain"]
[null,null,null,"Eléments de jardin maçonnés et leurs pièces structurelles","Divers produits de jardins associés à la construction","gazon artificiel professionnel"]
[]
[]
[null,538,null,"Eléments de construction pour exploitation agricole"]
[null,null,null,null,null,null,null,null,{"$f":"TRIM((LOWER(F3116)))","v":""}]
[null,null,null,"Rayon","Catégorie","Exemples de produits (non-exhaustif)"]
[null,null,null,{"$f":"$B$3030","v":"Eléments de jardin maçonnés et leurs pièces structurelles"},{"$f":"$D$3115","v":"Eléments de construction pour exploitation agricole"},"silos"]
[null,null,null,"Eléments de jardin maçonnés et leurs pièces structurelles",{"$f":"$D$3115","v":"Eléments de construction pour exploitation agricole"},"cloisons mobiles"]
[null,null,null,"Eléments de jardin maçonnés et leurs pièces structurelles","Eléments de construction pour exploitation agricole","abreuvoirs"]
[null,null,null,"Eléments de jardin maçonnés et leurs pièces structurelles","Eléments de construction pour exploitation agricole","auges"]
[null,null,null,"Eléments de jardin maçonnés et leurs pièces structurelles","Eléments de construction pour exploitation agricole","mangeoires"]
[null,null,null,"Eléments de jardin maçonnés et leurs pièces structurelles","Eléments de construction pour exploitation agricole","séparation des stalles"]
[null,null,null,"Eléments de jardin maçonnés et leurs pièces structurelles","Eléments de construction pour exploitation agricole","logettes"]
[null,null,null,"Eléments de jardin maçonnés et leurs pièces structurelles","Eléments de construction pour exploitation agricole","clapiers"]
[]
[]
[]
[null,"Produits électriques, électroniques, thermiques relevant des REPs DEEE ou ABJ thermique (hors ecomaison)"]
[]
[null,"HORS P.",null,"Produits hors ecomaison"]
[]
[null,null,null,"Rayon","Catégorie","Exemples de produits (non-exhaustif)"]
[null,null,null,{"$f":"$B$3129","v":"Produits électriques, électroniques, thermiques relevant des REPs DEEE ou ABJ thermique (hors ecomaison)"},"Produits non couverts par ecomaison","lampe"]
[null,null,null,"Produits électriques, électroniques, thermiques relevant des REPs DEEE ou ABJ thermique (hors ecomaison)","Produits non couverts par ecomaison","prise"]
[null,null,null,"Produits électriques, électroniques, thermiques relevant des REPs DEEE ou ABJ thermique (hors ecomaison)","Produits non couverts par ecomaison","ampoule"]
[null,null,null,"Produits électriques, électroniques, thermiques relevant des REPs DEEE ou ABJ thermique (hors ecomaison)","Produits non couverts par ecomaison","électrique"]
[null,null,null,{"$f":"$B$3129","v":"Produits électriques, électroniques, thermiques relevant des REPs DEEE ou ABJ thermique (hors ecomaison)"},"Produits non couverts par ecomaison","LED"]
[null,null,null,{"$f":"$B$3129","v":"Produits électriques, électroniques, thermiques relevant des REPs DEEE ou ABJ thermique (hors ecomaison)"},"Produits non couverts par ecomaison","éclairage"]
[null,null,null,{"$f":"$B$3129","v":"Produits électriques, électroniques, thermiques relevant des REPs DEEE ou ABJ thermique (hors ecomaison)"},"Produits non couverts par ecomaison","appliques"]
[null,null,null,{"$f":"$B$3129","v":"Produits électriques, électroniques, thermiques relevant des REPs DEEE ou ABJ thermique (hors ecomaison)"},"Produits non couverts par ecomaison","lampadaire"]
[null,null,null,"Produits électriques, électroniques, thermiques relevant des REPs DEEE ou ABJ thermique (hors ecomaison)","Produits non couverts par ecomaison","thermique"]
[null,null,null,"Produits électriques, électroniques, thermiques relevant des REPs DEEE ou ABJ thermique (hors ecomaison)","Produits non couverts par ecomaison","électroportatif"]
[null,null,null,"Produits électriques, électroniques, thermiques relevant des REPs DEEE ou ABJ thermique (hors ecomaison)","Produits non couverts par ecomaison","batterie"]

{"sheet":"Comprendre la codification","index":2,"n_rows":363,"n_cols":7,"rows_kept":363,"cut":false,"hidden":true,"merged":[[0,1,0,5],[303,1,303,5],[7,1,7,5],[19,1,19,5],[48,1,48,5],[218,1,218,5]]}
[null,"Système de codification ecomaison"]
[]
[]
[null,"► Un outil de création de tables de correspondance entre votre catalogue et le catalogue produit ecomaison est disponible"]
[null,"► Les codifications DEA ne sont pas représentées ci-dessous"]
[]
[]
[null,"Structure générale du code"]
[]
[]
[]
[]
[]
[]
[]
[]
[]
[]
[]
[null,"Code Rayon : XX 000 00 000 0"]
[]
[null,"REP","_","Rayon","_2","Code Rayon"]
[]
[null,"Articles Bricolage et Jardin - ABJ",null,"Articles de bricolage",null,21]
[null,"Articles Bricolage et Jardin - ABJ",null,"Entretien et aménagement du jardin",null,22]
[]
[null,"Jeux et jouets - JJ",null,"Jouets",null,31]
[null,"Jeux et jouets - JJ",null,"Jouets de plein air",null,32]
[null,"Jeux et jouets - JJ",null,"Jeux de société",null,33]
[null,"Jeux et jouets - JJ",null,"Jouets cadeaux",null,34]
[]
[null,"Construction du bâtiment - PMCB",null,"Matériaux primaires de construction",null,40]
[null,"Construction du bâtiment - PMCB",null,"Voirie, réseaux intérieurs et extérieurs",null,{"$f":"F32+1","v":41}]
[null,"Construction du bâtiment - PMCB",null,"Structure, maçonnerie, gros oeuvre, charpente",null,{"$f":"F33+1","v":42}]
[null,"Construction du bâtiment - PMCB",null,"Couverture et étanchéité",null,43]
[null,"Construction du bâtiment - PMCB",null,"Cloisonnement, plafonds",null,44]
[null,"Construction du bâtiment - PMCB",null,"Isolation thermique et acoustique",null,45]
[null,"Construction du bâtiment - PMCB",null,"Menuiseries intérieures et extérieures, fermetures",null,46]
[null,"Construction du bâtiment - PMCB",null,"Façades",null,47]
[null,"Construction du bâtiment - PMCB",null,"Revêtements des sols, murs et plafonds",null,48]
[null,"Construction du bâtiment - PMCB",null,"Quincaillerie du bâtiment",null,49]
[null,"Construction du bâtiment - PMCB",null,"Peinture, lasures et vernis, droguerie, colles et traitement, adjuvants",null,50]
[null,"Construction du bâtiment - PMCB",null,"Equipements sanitaires pour salle de bain, cuisine et WC",null,51]
[null,"Construction du bâtiment - PMCB",null,"Electricité",null,52]
[null,"Construction du bâtiment - PMCB",null,"Chauffage et traitement de l'air",null,53]
[null,"Construction du bâtiment - PMCB",null,"Eléments de jardin maçonnés et leurs pièces structurelles",null,54]
[]
[]
[null,"Code Catégorie Produit : 00 XXX 00 000 0"]
[]
[null,"REP","_","Rayon","Catégorie","Code Produit"]
[]
[null,"ABJ",null,{"$f":"$D$24","v":"Articles de bricolage"},"Outillage à main et leurs accessoires",100]
[]
[null,"ABJ",null,{"$f":"$D$24","v":"Articles de bricolage"},"Gros objets et machines non électriques et non thermiques et leurs accessoires",{"$f":"F53+1","v":101}]
[null,"ABJ",null,"Articles de bricolage","Outils et supports de travail en hauteur",{"$f":"F55+1","v":102}]
[null,"ABJ",null,"Articles de bricolage","Equipement personnel et accessoires de protection de bricolage",103]
[null,"ABJ",null,"Articles de bricolage","Bâches, housses, filets et films de bricolage",104]
[null,"ABJ",null,{"$f":"$D$25","v":"Entretien et aménagement du jardin"},"Outils à main d’entretien du jardin et petits accessoires",150]
[null,"ABJ",null,{"$f":"$D$25","v":"Entretien et aménagement du jardin"},"Equipement personnel et accessoires de protection de jardinage",{"$f":"F59+1","v":151}]
[null,"ABJ",null,{"$f":"$D$25","v":"Entretien et aménagement du jardin"},"Pots de fleur et contenants",{"$f":"F60+1","v":152}]
[null,"ABJ",null,"Entretien et aménagement du jardin","Bâches, housses, filets et films de jardinage",153]
[null,"ABJ",null,"Entretien et aménagement du jardin","Equipements de plein air et leurs accessoires (hors bâches, filets, housses)",154]
[null,"ABJ",null,"Entretien et aménagement du jardin","Structures extérieures non-maçonnées",155]
[]
[null,"JJ",null,{"$f":"$D$27","v":"Jouets"},"Figurines d'action & accessoires ","201"]
[null,"JJ",null,"Jouets","Jeux de construction & accessoires","202"]
[null,"JJ",null,"Jouets","Poupées, Poupons & accessoires","203"]
[null,"JJ",null,"Jouets","Peluches & accessoires","204"]
[null,"JJ",null,"Jouets","Jouets premier âge et préscolaire & accessoires","205"]
[null,"JJ",null,"Jouets","Véhicules miniatures & accessoires","206"]
[null,"JJ",null,"Jouets","Arts créatifs & accessoires","207"]
[null,"JJ",null,"Jouets","Jouets d'exploration et autres jouets & accessoires","208"]
[null,"JJ",null,{"$f":"$D$28","v":"Jouets de plein air"},"Jouets porteurs à pédales & accessoires","209"]
[null,"JJ",null,{"$f":"$D$28","v":"Jouets de plein air"},"Jouets porteurs sans pédales & accessoires","210"]
[null,"JJ",null,{"$f":"$D$28","v":"Jouets de plein air"},"Jouets sportifs & accessoires","211"]
[null,"JJ",null,{"$f":"$D$28","v":"Jouets de plein air"},"Jouet d'été & accessoires","212"]
[null,"JJ",null,{"$f":"$D$28","v":"Jouets de plein air"},"Jouets d'activité à usage famillial","213"]
[null,"JJ",null,{"$f":"$D$29","v":"Jeux de société"},"Jeux de société tous publics","214"]
[null,"JJ",null,"Jeux de société","Jeux de société adultes","215"]
[null,"JJ",null,"Jeux de société","Puzzles enfants","216"]
[null,"JJ",null,"Jeux de société","Puzzles de grand format","217"]
[null,"JJ",null,"Jeux de société","Maquettes enfants","218"]
[null,"JJ",null,"Jeux de société","Maquettes adultes","219"]
[null,"JJ",null,{"$f":"$D$30","v":"Jouets cadeaux"},"Jouets cadeaux","220"]
[]
[null,"PMCB",null,"Matériaux primaires de construction","Granulats",300]
[null,"PMCB",null,"Matériaux primaires de construction","Pierre de construction, granit, grès et lave",301]
[null,"PMCB",null,"Matériaux primaires de construction","Terre crue et éléments en terre cuite",302]
[null,"PMCB",null,"Matériaux primaires de construction","Ciments et chaux",303]
[null,"PMCB",null,"Matériaux primaires de construction","Mortier, béton, éléments en béton, y.c. biosourcés",304]
[null,"PMCB",null,"Matériaux primaires de construction","Plâtre et éléments en plâtre",305]
[null,"PMCB",null,"Matériaux primaires de construction","Bois de charpente, panneaux, planches, tablettes, tasseaux",306]
[null,"PMCB",null,"Matériaux primaires de construction","Verre et assimilés pour assemblage",307]
[null,"PMCB",null,"Matériaux primaires de construction","Divers produits et matériaux primaires de construction",310]
[null,"PMCB",null,"Voirie, réseaux intérieurs et extérieurs","Enrobé de voirie, bordure et caniveau",315]
[null,"PMCB",null,"Voirie, réseaux intérieurs et extérieurs","Réseaux d'adduction d'eau et de gaz (tuyaux et éléments intérieurs et extérieurs)",316]
[null,"PMCB",null,"Voirie, réseaux intérieurs et extérieurs","Evacuation et assainissement des eaux pluviales et usées (goutières, raccords, traitement, drainage, évacuation)",317]
[null,"PMCB",null,"Voirie, réseaux intérieurs et extérieurs","Cuves et réservoirs",318]
[null,"PMCB",null,"Voirie, réseaux intérieurs et extérieurs","Eléments de voirie spéciaux et divers produits et matériaux de voirie et réseaux",321]
[null,"PMCB",null,"Structure, maçonnerie, gros oeuvre, charpente","Eléments de charpente et contreventements",330]
[null,"PMCB",null,"Structure, maçonnerie, gros oeuvre, charpente","Construction métallique, armatures et ferraillages",331]
[null,"PMCB",null,"Structure, maçonnerie, gros oeuvre, charpente","Eléments préfabriqués hors blocs de béton",332]
[null,"PMCB",null,"Structure, maçonnerie, gros oeuvre, charpente","Elements de ventilation de vide sanitaire",333]
[null,"PMCB",null,"Structure, maçonnerie, gros oeuvre, charpente","Divers produits et matériaux de structure et charpente",336]
[null,"PMCB",null,"Couverture et étanchéité","Eléments de couverture",345]
[null,"PMCB",null,"Couverture et étanchéité","Produits d'étanchéité et d'imperméabilisation",346]
[null,"PMCB",null,"Couverture et étanchéité","Divers élements de couverture et étanchéité (hors droguerie)",349]
[null,"PMCB",null,"Cloisonnement, plafonds","Cloisons (hors plâtre et isolation)",355]
[null,"PMCB",null,"Cloisonnement, plafonds","Ossatures métalliques",356]
[null,"PMCB",null,"Cloisonnement, plafonds","Plafonds suspendus, plafonds tendus",357]
[null,"PMCB",null,"Cloisonnement, plafonds","Divers produits de cloisonnement et plafonds",360]
[null,"PMCB",null,"Cloisonnement, plafonds","Eléments en plâtre pour cloisons, plafonds",361]
[null,"PMCB",null,"Isolation thermique et acoustique","Laines, mousse, fibres isolantes",370]
[null,"PMCB",null,"Isolation thermique et acoustique","Eléments spéciaux d'isolation",371]
[null,"PMCB",null,"Menuiseries intérieures et extérieures, fermetures","Portes (intérieures, coulissantes, entrée, garage, de service, technique,...)",380]
[null,"PMCB",null,"Menuiseries intérieures et extérieures, fermetures","Fenêtres, portes fenêtres, fenêtres de toit et leurs accessoires hors fermetures",381]
[null,"PMCB",null,"Menuiseries intérieures et extérieures, fermetures","Volets, volets roulants, persiennes, stores, brise-soleil",382]
[null,"PMCB",null,"Menuiseries intérieures et extérieures, fermetures","Escaliers intérieurs et extérieurs",383]
[null,"PMCB",null,"Menuiseries intérieures et extérieures, fermetures","Garde-corps, balustres et accessoires d'escaliers",384]
[null,"PMCB",null,"Menuiseries intérieures et extérieures, fermetures","Fenêtre et porte fenêtre (cadre en bois)",385]
[null,"PMCB",null,"Menuiseries intérieures et extérieures, fermetures","Fenêtre et porte fenêtre (cadre en métal)",386]
[null,"PMCB",null,"Menuiseries intérieures et extérieures, fermetures","Fenêtre et porte fenêtre (cadre en PVC)",387]
[null,"PMCB",null,"Menuiseries intérieures et extérieures, fermetures","Fenêtres, portes fenêtres, fenêtres de toit et leurs accessoires hors quincailleries",388]
[null,"PMCB",null,"Menuiseries intérieures et extérieures, fermetures","Portail",389]
[null,"PMCB",null,"Menuiseries intérieures et extérieures, fermetures","Portes : Huisserie bois",390]
[null,"PMCB",null,"Menuiseries intérieures et extérieures, fermetures","Portes : Huisserie métallique",391]
[null,"PMCB",null,"Menuiseries intérieures et extérieures, fermetures","Portes : Huisserie PVC",392]
[null,"PMCB",null,"Menuiseries intérieures et extérieures, fermetures","Portes : Trappes en bois",393]
[null,"PMCB",null,"Menuiseries intérieures et extérieures, fermetures","Portes : Trappes en métal",394]
[null,"PMCB",null,"Menuiseries intérieures et extérieures, fermetures","Portes : Trappes en PVC",395]
[null,"PMCB",null,"Menuiseries intérieures et extérieures, fermetures","Portes : vantail porte alvéolaire",396]
[null,"PMCB",null,"Menuiseries intérieures et extérieures, fermetures","Portes : vantail porte en bois ",397]
[null,"PMCB",null,"Menuiseries intérieures et extérieures, fermetures","Portes : vantail porte en métal",398]
[null,"PMCB",null,"Menuiseries intérieures et extérieures, fermetures","Portes : vantail porte en PVC",399]
[null,"PMCB",null,"Menuiseries intérieures et extérieures, fermetures","Portes : vantail porte en verre (>90%)",400]
[null,"PMCB",null,"Menuiseries intérieures et extérieures, fermetures","Portes : vantail porte vitrée",401]
[null,"PMCB",null,"Menuiseries intérieures et extérieures, fermetures","Portes : Trappes autres",402]
[null,"PMCB",null,"Menuiseries intérieures et extérieures, fermetures","Portes : vantail autres",403]
[null,"PMCB",null,"Menuiseries intérieures et extérieures, fermetures","Volet battant (bois à plus de 90 %)",404]
[null,"PMCB",null,"Menuiseries intérieures et extérieures, fermetures","Volet battant (métal à plus de 90 %)",405]
[null,"PMCB",null,"Menuiseries intérieures et extérieures, fermetures","Volet battant (PVC à plus de 90 %)",406]
[null,"PMCB",null,"Menuiseries intérieures et extérieures, fermetures","Volet roulant",407]
[null,"PMCB",null,"Menuiseries intérieures et extérieures, fermetures","Divers élements de menuiserie",410]
[null,"PMCB",null,"Menuiseries intérieures et extérieures, fermetures","Bloc - Porte (huisserie métal)",411]
[null,"PMCB",null,"Menuiseries intérieures et extérieures, fermetures","Bloc - Porte (huisserie bois)",412]
[null,"PMCB",null,"Menuiseries intérieures et extérieures, fermetures","Bloc - Porte (huisserie plastique)",413]
[null,"PMCB",null,"Menuiseries intérieures et extérieures, fermetures","Bloc - Porte double vantail (huisserie métal)",545]
[null,"PMCB",null,"Menuiseries intérieures et extérieures, fermetures","Bloc - Porte double vantail (huisserie bois)",546]
[null,"PMCB",null,"Menuiseries intérieures et extérieures, fermetures","Bloc - Porte double vantail (huisserie plastique)",547]
[null,"PMCB",null,"Façades","Mur-rideau",415]
[null,"PMCB",null,"Façades","Bardage et clins",416]
[null,"PMCB",null,"Façades","Vêtures",417]
[null,"PMCB",null,"Façades","Panneaux sandwich de façade",418]
[null,"PMCB",null,"Façades","Divers éléments de façade",421]
[null,"PMCB",null,"Revêtements des sols, murs et plafonds","Pavés, dalles, plaquettes de parement en pierre",430]
[null,"PMCB",null,"Revêtements des sols, murs et plafonds","Carrelage sol & Faïence murale",431]
[null,"PMCB",null,"Revêtements des sols, murs et plafonds","Parquets, terrasses et lames en bois",432]
[null,"PMCB",null,"Revêtements des sols, murs et plafonds","Lambris",433]
[null,"PMCB",null,"Revêtements des sols, murs et plafonds","Plinthes",434]
[null,"PMCB",null,"Revêtements des sols, murs et plafonds","Lames d'intérieur hors bois",435]
[null,"PMCB",null,"Revêtements des sols, murs et plafonds","Sols plastiques",436]
[null,"PMCB",null,"Revêtements des sols, murs et plafonds","Moquette de sol et murale fixe",437]
[null,"PMCB",null,"Revêtements des sols, murs et plafonds","Papier peint et toile de verre",438]
[null,"PMCB",null,"Revêtements des sols, murs et plafonds","Revêtement mural en fibre naturelle",439]
[null,"PMCB",null,"Revêtements des sols, murs et plafonds","Revêtement mural avec fibre de verre",440]
[null,"PMCB",null,"Revêtements des sols, murs et plafonds","Divers dont moulures",443]
[null,"PMCB",null,"Quincaillerie du bâtiment","Eléments de fermeture de portes et fenêtres, gonds et pentures",450]
[null,"PMCB",null,"Quincaillerie du bâtiment","Bas de portes",451]
[null,"PMCB",null,"Quincaillerie du bâtiment","Accessoires de pose",452]
[null,"PMCB",null,"Quincaillerie du bâtiment","Quincallerie et accessoire divers toute catégorie",455]
[null,"PMCB",null,"Peinture, lasures et vernis, droguerie, colles et traitement, adjuvants","Sous-couches, préparation des sols et étanchéité",465]
[null,"PMCB",null,"Peinture, lasures et vernis, droguerie, colles et traitement, adjuvants","Traitements des murs et toitures",467]
[null,"PMCB",null,"Peinture, lasures et vernis, droguerie, colles et traitement, adjuvants","Peintures intérieures",468]
[null,"PMCB",null,"Peinture, lasures et vernis, droguerie, colles et traitement, adjuvants","Colles et adhésifs",469]
[null,"PMCB",null,"Peinture, lasures et vernis, droguerie, colles et traitement, adjuvants","Mastic, joints et mousses polyuréthanes",470]
[null,"PMCB",null,"Peinture, lasures et vernis, droguerie, colles et traitement, adjuvants","Adjuvants",471]
[null,"PMCB",null,"Peinture, lasures et vernis, droguerie, colles et traitement, adjuvants","Traitements bois",472]
[null,"PMCB",null,"Peinture, lasures et vernis, droguerie, colles et traitement, adjuvants","Vernis et vitrificateurs",473]
[null,"PMCB",null,"Peinture, lasures et vernis, droguerie, colles et traitement, adjuvants","Absorbeurs d'humidité",474]
[null,"PMCB",null,"Peinture, lasures et vernis, droguerie, colles et traitement, adjuvants","Décapants",475]
[null,"PMCB",null,"Peinture, lasures et vernis, droguerie, colles et traitement, adjuvants","Diluants, solvants",476]
[null,"PMCB",null,"Peinture, lasures et vernis, droguerie, colles et traitement, adjuvants","Divers produits de droguerie du bâtiment",479]
[null,"PMCB",null,"Peinture, lasures et vernis, droguerie, colles et traitement, adjuvants","Enduits pate",480]
[null,"PMCB",null,"Peinture, lasures et vernis, droguerie, colles et traitement, adjuvants","Enduits poudre",481]
[null,"PMCB",null,"Peinture, lasures et vernis, droguerie, colles et traitement, adjuvants","Peintures extérieures, yc enduits et peintures de façade",482]
[null,"PMCB",null,"Peinture, lasures et vernis, droguerie, colles et traitement, adjuvants","Résines PU et expansive (aérosol)",483]
[null,"PMCB",null,"Peinture, lasures et vernis, droguerie, colles et traitement, adjuvants","Traitement anti-termite",484]
[null,"PMCB",null,"Peinture, lasures et vernis, droguerie, colles et traitement, adjuvants","Traitement des matériaux  (aérosol)",485]
[null,"PMCB",null,"Peinture, lasures et vernis, droguerie, colles et traitement, adjuvants","Traitement des matériaux hors bois ",486]
[null,"PMCB",null,"Peinture, lasures et vernis, droguerie, colles et traitement, adjuvants","Vernis et vitrificateurs et dérivés (aérosols)",487]
[null,"PMCB",null,"Equipements sanitaires pour salle de bain, cuisine et WC","Eviers, vasques et lavabo",495]
[null,"PMCB",null,"Equipements sanitaires pour salle de bain, cuisine et WC","Receveurs de douche et baignoires",496]
[null,"PMCB",null,"Equipements sanitaires pour salle de bain, cuisine et WC","WC",497]
[null,"PMCB",null,"Equipements sanitaires pour salle de bain, cuisine et WC","Pare-baignoire, pare-douche et cabines intégrales de douche",498]
[null,"PMCB",null,"Equipements sanitaires pour salle de bain, cuisine et WC","Robinetterie et colonne de douche et bain",499]
[null,"PMCB",null,"Equipements sanitaires pour salle de bain, cuisine et WC","Receveur de douche",501]
[null,"PMCB",null,"Equipements sanitaires pour salle de bain, cuisine et WC","Baignoire (hors balnéo)",502]
[null,"PMCB",null,"Equipements sanitaires pour salle de bain, cuisine et WC","Divers équipements sanitaires et accessoires vendus séparément hors robinetterie",505]
[null,"PMCB",null,"Electricité","Fils et câbles",510]
[null,"PMCB",null,"Electricité","Gaines et fixation",511]
[null,"PMCB",null,"Electricité","Ascenseurs (hors machinerie)",512]
[null,"PMCB",null,"Electricité","Caissons de télécommunication",513]
[null,"PMCB",null,"Electricité","Supports pour lignes aériennes",514]
[null,"PMCB",null,"Electricité","Divers produits d'électricité hors prises",516]
[null,"PMCB",null,"Chauffage et traitement de l'air","Cheminées et inserts",525]
[null,"PMCB",null,"Chauffage et traitement de l'air","Fumisterie",526]
[null,"PMCB",null,"Chauffage et traitement de l'air","Chauffage central",527]
[null,"PMCB",null,"Chauffage et traitement de l'air","Radiateurs",528]
[null,"PMCB",null,"Chauffage et traitement de l'air","Poêles non-électriques",529]
[null,"PMCB",null,"Chauffage et traitement de l'air","Traitement de l'air et ventilation",530]
[null,"PMCB",null,"Eléments de jardin maçonnés et leurs pièces structurelles","Abris de jardins, serres maçonnées, pergolas et vérandas",535]
[null,"PMCB",null,"Eléments de jardin maçonnés et leurs pièces structurelles","Clôtures maçonnées et éléments de protection de la parcelle",536]
[null,"PMCB",null,"Eléments de jardin maçonnés et leurs pièces structurelles","Piscine et accessoires de piscine",537]
[null,"PMCB",null,"Eléments de jardin maçonnés et leurs pièces structurelles","Divers produits de jardins associés à la construction",540]
[null,"PMCB",null,"Eléments de jardin maçonnés et leurs pièces structurelles","Eléments de construction pour exploitation agricole",538]
[]
[]
[null,"Code Matériaux : 00 000 XX 000 0"]
[]
[null,"Type de matériaux","_","Matériaux","Exemples de matériaux","Code matériaux","Colonne1"]
[]
[null,"1 - Métal",null,"Métal >90%","Ferreux (Acier, Acier inoxydable, Fer forgé, Fonte, Acier au carbone, acier zingué, tole, alliages…) et non-ferreux (Aluminium, plomb, zinc, étain, chrome, cuivre, bronze, argent, zamac, nickel, titane, laiton...)",28]
[null,"1 - Métal",null,"Assemblage avec métal >50% et autres matériaux","Assemblage métal-bois, métal-plastique, métal-inertes …","02"]
[]
[null,"2 - Bois et dérivés de bois",null,"Massif et assimilés certifiés >90%","Toutes essences (douglas, sapin, chène, hêtre, pin maritime, pin sylvestre, moabi , mélèze, teak, épicea ...), dont contreplaqué, contrecollé, lamellé, plaqué",52]
[null,"2 - Bois et dérivés de bois",null,"Massif et assimilés certifiés >75%","Toutes essences (douglas, sapin, chène, hêtre, pin maritime, pin sylvestre, moabi , mélèze, teak, épicea ...), dont contreplaqué, contrecollé, lamellé, plaqué",20]
[null,"2 - Bois et dérivés de bois",null,"Massif et assimilés >90%","Toutes essences (douglas, sapin, chène, hêtre, pin maritime, pin sylvestre, moabi , mélèze, teak, épicea ...), dont contreplaqué, contrecollé, lamellé, plaqué",53]
[null,"2 - Bois et dérivés de bois",null,"Massif et assimilés >75%","Toutes essences (douglas, sapin, chène, hêtre, pin maritime, pin sylvestre, moabi , mélèze, teak, épicea ...), dont contreplaqué, contrecollé, lamellé, plaqué",21]
[null,"2 - Bois et dérivés de bois",null,"Panneaux de particules ou OSB certifiés >90%","Panneaux de particules, OSB",59]
[null,"2 - Bois et dérivés de bois",null,"Panneaux de particules ou OSB certifiés >75%","Panneaux de particules, OSB",60]
[null,"2 - Bois et dérivés de bois",null,"Panneaux de particules ou OSB >90%","Panneaux de particules, OSB",61]
[null,"2 - Bois et dérivés de bois",null,"Panneaux de particules ou OSB >75%","Panneaux de particules, OSB",25]
[null,"2 - Bois et dérivés de bois",null,"Dérivés de bois >90%","Bois composite, MDF, HDF, alvéolaire, stratifé, HPL….",62]
[null,"2 - Bois et dérivés de bois",null,"Assemblage de bois, dérivés de bois à plus de 50% avec d'autres matériaux ou bois composite (hors verre)","Assemblage bois-métal, bois-plastique …","01"]
[]
[null,"3 - Papier carton",null,"Papier carton >50% avec d'autres matériaux (hors verre)","Papier, Carton, Compact, Papier Kraft","19"]
[]
[null,"4 - Matériaux et fibres d'origine végétal ou animal autres que bois et papier, carton",null,"Matériaux bio sourcés ou textiles non synthétiques >90%","Tiges végétales (bambou, rotin, osiers, jute, paille, liège), textiles naturels d'origine végétale non mélangés (coton, lin, chanvre, soie, ramie, fibres de noix de coco, rafia…)",55]
[null,"4 - Matériaux et fibres d'origine végétal ou animal autres que bois et papier, carton",null,"Matériaux bio sourcés ou textiles non synthétiques >50%","Assemblage de matériaux bio sourcés avec du plastique, du métal …","04"]
[null,"4 - Matériaux et fibres d'origine végétal ou animal autres que bois et papier, carton",null,"Caoutchouc naturel >90%","Caoutchouc, latex",63]
[null,"4 - Matériaux et fibres d'origine végétal ou animal autres que bois et papier, carton",null,"Caoutchouc naturel >50%","Caoutchouc, latex",64]
[null,"4 - Matériaux et fibres d'origine végétal ou animal autres que bois et papier, carton",null,"Matériaux d'origine animale >50%","Matières textiles ou rembourrages d'origine animale (laine, feutre, mohair, plumes, duvets, poils, cuirs...)","06"]
[]
[null,"5 - Plastique, matériaux et fibres synthétiques",null,"Plastiques (mono résine) >90%","Plastiques et autres matériaux synthétiques : acrylique, PP, PE, PS, XPS, EPS, PER, Nylon, Polyamide, PU, PVC, vinyle, époxy, fibres synthétiques, PL, matériaux composites, carbone….",41]
[null,"5 - Plastique, matériaux et fibres synthétiques",null,"PE ou PP ou mélange PP/PE >90%","Polyéthylène (PE), Polypropylène (PP), mélange PP/PE",45]
[null,"5 - Plastique, matériaux et fibres synthétiques",null,"PVC >90%",null,48]
[null,"5 - Plastique, matériaux et fibres synthétiques",null,"Polyterephtalate d'Ethylène (PET) >90%",null,42]
[null,"5 - Plastique, matériaux et fibres synthétiques",null,"ABS >90%",null,46]
[null,"5 - Plastique, matériaux et fibres synthétiques",null,"Polystyrène >90%",null,47]
[null,"5 - Plastique, matériaux et fibres synthétiques",null,"Plastiques ou autres matériaux synthétiques >50%","Assemblage de matériaux et textiles synthétiques, ensemble","05"]
[null,"5 - Plastique, matériaux et fibres synthétiques",null,"Caoutchouc synthétique >90%","Caoutchouc",49]
[null,"5 - Plastique, matériaux et fibres synthétiques",null,"Eléments contenant du latex","Latex",10]
[null,"5 - Plastique, matériaux et fibres synthétiques",null,"Assemblage caoutchouc synthétique ou latex >50% avec d'autres matériaux","Caoutchouc, latex avec d'autres matériaux synthétiques, du bois, du métal …",40]
[null,"5 - Plastique, matériaux et fibres synthétiques",null,"Matériaux ou fibres synthétiques >90%","Polyamides, nylon, polyester (PES) et polyterephtalate d'Ethylène (PET), viscose, polyester, élastane, mousses …",65]
[null,"5 - Plastique, matériaux et fibres synthétiques",null,"Textile et rembourrage en polyester >90%","Polyester",66]
[null,"5 - Plastique, matériaux et fibres synthétiques",null,"Eléments contenant de la mousse",null,"09"]
[null,"5 - Plastique, matériaux et fibres synthétiques",null,"Eléments textiles contenant des ressorts",null,11]
[null,"5 - Plastique, matériaux et fibres synthétiques",null,"Assemblage matériaux ou fibres synthétiques >50% avec d'autres matériaux","Assemblage de matériaux et textiles synthétiques avec du métal, du bois …",67]
[]
[null,"6 - Verre et parois vitrées",null,"Verre >90%","Verre plat, brique de verre …",68]
[null,"6 - Verre et parois vitrées",null,"Assemblage verre à plus de 50% avec métal","Assemblage de verre avec des métaux",70]
[null,"6 - Verre et parois vitrées",null,"Assemblage verre à plus de 50% avec Inerte","Assemblage de verre avec de l'inerte",71]
[null,"6 - Verre et parois vitrées",null,"Assemblage verre à plus de 50% avec bois ou dérivés de bois","Assemblage de verre avec du bois ou des matériaux biosourcés",72]
[null,"6 - Verre et parois vitrées",null,"Assemblage verre à plus de 50% avec plastique","Assemblage de verre avec du plastique",73]
[null,"6 - Verre et parois vitrées",null,"Miroir >90%","Miroir",69]
[]
[null,"7 - Plâtre",null,"Plâtre >90%","Matière en plâtre, plaque de plâtre (placo) et fibre gypse",75]
[null,"7 - Plâtre",null,"Plâtre >50%","Elément composé majoritaitement de plâtre et associé à d'autres matériaux",76]
[]
[null,"8- Laines de verre et laines de roches",null,"Laines de roche à plus de 90 %","Matière isolante fabriquée à partir d'un matériau naturel issu de l'activité volcanique",77]
[null,"8- Laines de verre et laines de roches",null,"Laine de verre à plus de 90 %","Matière composée de fils de verre, utilisé comme filtrant ou isolant",78]
[null,"8- Laines de verre et laines de roches",null,"Assemblage de laines de verre ou laines de roches à plus de 50% et d'autres matériaux","Elément composé majoritaitement de laine minérale",79]
[]
[null,"9 - Membranes bitumineuses",null,"Membranes bitumineuses à plus de 90 %","Membrane d'étanchéité synthétique",80]
[]
[null,"10 - Autres mix matériaux ou matériaux non classés ou non spécifiés",null,"Assemblage dont la composition conjointe en bois, dérivés de bois et en métal dépasse 90%",null,81]
[null,"10 - Autres mix matériaux ou matériaux non classés ou non spécifiés",null,"Assemblage de 3 matériaux ou plus sans un matériau à plus de 50%","Elément composé de parties en matériaux divers avec souvent mais non exclusivement une partie de plastique ou de textile synthétique",82]
[null,"10 - Autres mix matériaux ou matériaux non classés ou non spécifiés",null,"Autre matériau majoritaire","Autre matériau majoritaire",12]
[null,"10 - Autres mix matériaux ou matériaux non classés ou non spécifiés",null,"Non connu ou non spécifié par l'entreprise","Non connu ou non spécifié par l'entreprise","00"]
[]
[null,"11 - Mortiers, enduits, peintures, vernis, résines, produits de préparation",null,"Produits liquides, y.c. dangereux >90%","Sous couches, préparation des sols et étanchéité, Peintures extérieures, Traitement des sols et toitures, Peintures intérieures, Colles et adhésifs, Résines PU et expansive (aérosol), Mastics, joints et mousses PU, Adjuvants, Traitement des bois, Traitement des matériaux  (aérosol), Traitement des matériaux hors bois, Vernis et vitrificateurs et dérivés, Vernis et vitrificateurs et dérivés (aérosols), Enduits poudre, Enduits pate",83]
[]
[null,"12 - Matériaux inertes",null,"Assemblage de matériaux avec de l'inerte >50%",null,"08"]
[null,"12 - Matériaux inertes",null,"Composites et autres matériaux minéraux reconstitués >50%",null,15]
[null,"12 - Matériaux inertes",null,"Ardoise >90%","Ardoise",84]
[null,"12 - Matériaux inertes",null,"Granulats hors pierre >90%","Matière minérale de petite taille (granulats, gravillons, sable, grave, gravier, moellon, concassé, …) hors pierre",85]
[null,"12 - Matériaux inertes",null,"Pierre calcaire >90%","Matière minérale de grosse taille, hors granulats, gravillons, sable et hors pierres spécifiques comme l'ardoise",86]
[null,"12 - Matériaux inertes",null,"Lave >90%",null,87]
[null,"12 - Matériaux inertes",null,"Mélange bitumineux >90%","Matière liquide à base de bitume",88]
[null,"12 - Matériaux inertes",null,"Terre cuite ou crue >90%","Matière terre cuite",89]
[null,"12 - Matériaux inertes",null,"Béton >90%","Assemblage de granulats (graviers, gravillons, sables, etc.), d'un liant (ciment, bitume, argile) d'adjuvants et d'eau",74]
[null,"12 - Matériaux inertes",null,"Béton cellulaire >90%",null,96]
[null,"12 - Matériaux inertes",null,"Ciment >90%",null,90]
[null,"12 - Matériaux inertes",null,"Granit >90%",null,91]
[null,"12 - Matériaux inertes",null,"Céramique >90%","Matière à base de faïence ou grès",97]
[null,"12 - Matériaux inertes",null,"Mortier >90%",null,92]
[null,"12 - Matériaux inertes",null,"Adjuvants >90%",null,93]
[null,"12 - Matériaux inertes",null,"Grès >90%",null,94]
[null,"12 - Matériaux inertes",null,"Chaux >90%",null,95]
[null,"12 - Matériaux inertes",null,"Pierre artificielle >90%","Matériau obtenu par moulage d'agrégats divers, charges et liants (béton, pierre reconstituée) ou par synthèse chimique",98]
[]
[]
[null,"Code Mesure : 00 000 00 XXX 0"]
[]
[null,"Type de mesure","concat","Mode de calcul","Périmètres produits d'application","Code Mesure"]
[null,null,{"$f":"Tbl_Code_Mesure[[#This Row],[Mode de calcul]]&Tbl_Code_Mesure[[#This Row],[Périmètres produits d''application]]","v":""}]
[null,"Général",{"$f":"Tbl_Code_Mesure[[#This Row],[Mode de calcul]]&Tbl_Code_Mesure[[#This Row],[Périmètres produits d''application]]","v":"€ / TonneEléments de toutes dimensions et poids"},"€ / Tonne","Eléments de toutes dimensions et poids","000"]
[null,"Général",{"$f":"Tbl_Code_Mesure[[#This Row],[Mode de calcul]]&Tbl_Code_Mesure[[#This Row],[Périmètres produits d''application]]","v":"€ / m2Eléments de toutes dimensions et poids"},"€ / m2","Eléments de toutes dimensions et poids",101]
[null,"Général",{"$f":"Tbl_Code_Mesure[[#This Row],[Mode de calcul]]&Tbl_Code_Mesure[[#This Row],[Périmètres produits d''application]]","v":"€ / m3Eléments de toutes dimensions et poids"},"€ / m3","Eléments de toutes dimensions et poids",102]
[null,"Général",{"$f":"Tbl_Code_Mesure[[#This Row],[Mode de calcul]]&Tbl_Code_Mesure[[#This Row],[Périmètres produits d''application]]","v":"€ / mlEléments de toutes dimensions et poids"},"€ / ml","Eléments de toutes dimensions et poids",908]
[null,"Général",{"$f":"Tbl_Code_Mesure[[#This Row],[Mode de calcul]]&Tbl_Code_Mesure[[#This Row],[Périmètres produits d''application]]","v":"€ / unitéEléments de toutes dimensions et poids"},"€ / unité","Eléments de toutes dimensions et poids",907]
[null,null,{"$f":"Tbl_Code_Mesure[[#This Row],[Mode de calcul]]&Tbl_Code_Mesure[[#This Row],[Périmètres produits d''application]]","v":""}]
[null,"Tranches",{"$f":"Tbl_Code_Mesure[[#This Row],[Mode de calcul]]&Tbl_Code_Mesure[[#This Row],[Périmètres produits d''application]]","v":"€ / unité< 1m"},"€ / unité","< 1m",103]
[null,"Tranches",{"$f":"Tbl_Code_Mesure[[#This Row],[Mode de calcul]]&Tbl_Code_Mesure[[#This Row],[Périmètres produits d''application]]","v":"€ / unité>= 1m"},"€ / unité",">= 1m",104]
[null,"Tranches",{"$f":"Tbl_Code_Mesure[[#This Row],[Mode de calcul]]&Tbl_Code_Mesure[[#This Row],[Périmètres produits d''application]]","v":"€ / m2>= 13mm"},"€ / m2",">= 13mm",105]
[null,"Tranches",{"$f":"Tbl_Code_Mesure[[#This Row],[Mode de calcul]]&Tbl_Code_Mesure[[#This Row],[Périmètres produits d''application]]","v":"€ / m2<13mm"},"€ / m2","<13mm",106]
[null,"Tranches",{"$f":"Tbl_Code_Mesure[[#This Row],[Mode de calcul]]&Tbl_Code_Mesure[[#This Row],[Périmètres produits d''application]]","v":"€ / unitéPar lot ou par unité < 5 kg "},"€ / unité","Par lot ou par unité < 5 kg ",107]
[null,"Tranches",{"$f":"Tbl_Code_Mesure[[#This Row],[Mode de calcul]]&Tbl_Code_Mesure[[#This Row],[Périmètres produits d''application]]","v":"€ / unitéPar lot ou par unité < 1 kg "},"€ / unité","Par lot ou par unité < 1 kg ",108]
[null,"Tranches",{"$f":"Tbl_Code_Mesure[[#This Row],[Mode de calcul]]&Tbl_Code_Mesure[[#This Row],[Périmètres produits d''application]]","v":"€ / unitéPar lot ou par unité < 300 g "},"€ / unité","Par lot ou par unité < 300 g ",109]
[null,"Tranches",{"$f":"Tbl_Code_Mesure[[#This Row],[Mode de calcul]]&Tbl_Code_Mesure[[#This Row],[Périmètres produits d''application]]","v":"€ / unitéPar lot de 2"},"€ / unité","Par lot de 2",110]
[null,"Tranches",{"$f":"Tbl_Code_Mesure[[#This Row],[Mode de calcul]]&Tbl_Code_Mesure[[#This Row],[Périmètres produits d''application]]","v":"€ / unitéPar lot de 4"},"€ / unité","Par lot de 4",111]
[null,"Tranches",{"$f":"Tbl_Code_Mesure[[#This Row],[Mode de calcul]]&Tbl_Code_Mesure[[#This Row],[Périmètres produits d''application]]","v":"€ / unitéPar lot de 1000"},"€ / unité","Par lot de 1000","089"]
[null,"Tranches",{"$f":"Tbl_Code_Mesure[[#This Row],[Mode de calcul]]&Tbl_Code_Mesure[[#This Row],[Périmètres produits d''application]]","v":"€ / unitéinférieur strictement à 0,1 kg"},"€ / unité","inférieur strictement à 0,1 kg","083"]
[null,"Tranches",{"$f":"Tbl_Code_Mesure[[#This Row],[Mode de calcul]]&Tbl_Code_Mesure[[#This Row],[Périmètres produits d''application]]","v":"€ / unitéCompris entre 0,1 kg et 0,2 kg exclus"},"€ / unité","Compris entre 0,1 kg et 0,2 kg exclus","084"]
[null,"Tranches",{"$f":"Tbl_Code_Mesure[[#This Row],[Mode de calcul]]&Tbl_Code_Mesure[[#This Row],[Périmètres produits d''application]]","v":"€ / unitéCompris entre 0,2 kg et 0,3 kg exclus"},"€ / unité","Compris entre 0,2 kg et 0,3 kg exclus","085"]
[null,"Tranches",{"$f":"Tbl_Code_Mesure[[#This Row],[Mode de calcul]]&Tbl_Code_Mesure[[#This Row],[Périmètres produits d''application]]","v":"€ / unitéCompris entre 0,3 kg et 0,4 kg exclus"},"€ / unité","Compris entre 0,3 kg et 0,4 kg exclus","086"]
[null,"Tranches",{"$f":"Tbl_Code_Mesure[[#This Row],[Mode de calcul]]&Tbl_Code_Mesure[[#This Row],[Périmètres produits d''application]]","v":"€ / unitéCompris entre 0,4 kg et 0,5 kg exclus"},"€ / unité","Compris entre 0,4 kg et 0,5 kg exclus","087"]
[null,"Tranches",{"$f":"Tbl_Code_Mesure[[#This Row],[Mode de calcul]]&Tbl_Code_Mesure[[#This Row],[Périmètres produits d''application]]","v":"€ / unitéCompris entre 0,5 kg et 1 kg exclus"},"€ / unité","Compris entre 0,5 kg et 1 kg exclus","021"]
[null,"Tranches",{"$f":"Tbl_Code_Mesure[[#This Row],[Mode de calcul]]&Tbl_Code_Mesure[[#This Row],[Périmètres produits d''application]]","v":"€ / unitéCompris entre 1 kg et 2 kg exclus"},"€ / unité","Compris entre 1 kg et 2 kg exclus","022"]
[null,"Tranches",{"$f":"Tbl_Code_Mesure[[#This Row],[Mode de calcul]]&Tbl_Code_Mesure[[#This Row],[Périmètres produits d''application]]","v":"€ / unitéCompris entre 2 kg et 3 kg exclus"},"€ / unité","Compris entre 2 kg et 3 kg exclus","052"]
[null,"Tranches",{"$f":"Tbl_Code_Mesure[[#This Row],[Mode de calcul]]&Tbl_Code_Mesure[[#This Row],[Périmètres produits d''application]]","v":"€ / unitéCompris entre 3 kg et 5 kg exclus"},"€ / unité","Compris entre 3 kg et 5 kg exclus","053"]
[null,"Tranches",{"$f":"Tbl_Code_Mesure[[#This Row],[Mode de calcul]]&Tbl_Code_Mesure[[#This Row],[Périmètres produits d''application]]","v":"€ / unitéCompris entre 5 kg et 7 kg exclus"},"€ / unité","Compris entre 5 kg et 7 kg exclus","054"]
[null,"Tranches",{"$f":"Tbl_Code_Mesure[[#This Row],[Mode de calcul]]&Tbl_Code_Mesure[[#This Row],[Périmètres produits d''application]]","v":"€ / unitéCompris entre 7 kg et 10 kg exclus"},"€ / unité","Compris entre 7 kg et 10 kg exclus","055"]
[null,"Tranches",{"$f":"Tbl_Code_Mesure[[#This Row],[Mode de calcul]]&Tbl_Code_Mesure[[#This Row],[Périmètres produits d''application]]","v":"€ / unitéCompris entre 10 kg et 15 kg exclus"},"€ / unité","Compris entre 10 kg et 15 kg exclus","056"]
[null,"Tranches",{"$f":"Tbl_Code_Mesure[[#This Row],[Mode de calcul]]&Tbl_Code_Mesure[[#This Row],[Périmètres produits d''application]]","v":"€ / unitéCompris entre 15 kg et 20 kg exclus"},"€ / unité","Compris entre 15 kg et 20 kg exclus","057"]
[null,"Tranches",{"$f":"Tbl_Code_Mesure[[#This Row],[Mode de calcul]]&Tbl_Code_Mesure[[#This Row],[Périmètres produits d''application]]","v":"€ / unitéCompris entre 20 kg et 25 kg exclus"},"€ / unité","Compris entre 20 kg et 25 kg exclus","058"]
[null,"Tranches",{"$f":"Tbl_Code_Mesure[[#This Row],[Mode de calcul]]&Tbl_Code_Mesure[[#This Row],[Périmètres produits d''application]]","v":"€ / unitéCompris entre 25 kg et 30 kg exclus"},"€ / unité","Compris entre 25 kg et 30 kg exclus","059"]
[null,"Tranches",{"$f":"Tbl_Code_Mesure[[#This Row],[Mode de calcul]]&Tbl_Code_Mesure[[#This Row],[Périmètres produits d''application]]","v":"€ / unitéCompris entre 30 kg et 40 kg exclus"},"€ / unité","Compris entre 30 kg et 40 kg exclus","027"]
[null,"Tranches",{"$f":"Tbl_Code_Mesure[[#This Row],[Mode de calcul]]&Tbl_Code_Mesure[[#This Row],[Périmètres produits d''application]]","v":"€ / unitéCompris entre 40 kg et 50 kg exclus"},"€ / unité","Compris entre 40 kg et 50 kg exclus","060"]
[null,"Tranches",{"$f":"Tbl_Code_Mesure[[#This Row],[Mode de calcul]]&Tbl_Code_Mesure[[#This Row],[Périmètres produits d''application]]","v":"€ / unitéCompris entre 50 kg et 100 kg exclus"},"€ / unité","Compris entre 50 kg et 100 kg exclus","088"]
[null,"Tranches",{"$f":"Tbl_Code_Mesure[[#This Row],[Mode de calcul]]&Tbl_Code_Mesure[[#This Row],[Périmètres produits d''application]]","v":"€ / unitéCompris entre 100 kg et 150 kg exclus"},"€ / unité","Compris entre 100 kg et 150 kg exclus","030"]
[null,"Tranches",{"$f":"Tbl_Code_Mesure[[#This Row],[Mode de calcul]]&Tbl_Code_Mesure[[#This Row],[Périmètres produits d''application]]","v":"€ / unitéCompris entre 150 kg et 200 kg exclus"},"€ / unité","Compris entre 150 kg et 200 kg exclus","031"]
[null,"Tranches",{"$f":"Tbl_Code_Mesure[[#This Row],[Mode de calcul]]&Tbl_Code_Mesure[[#This Row],[Périmètres produits d''application]]","v":"€ / unitéCompris entre 200 kg et 250 kg exclus"},"€ / unité","Compris entre 200 kg et 250 kg exclus","032"]
[null,"Tranches",{"$f":"Tbl_Code_Mesure[[#This Row],[Mode de calcul]]&Tbl_Code_Mesure[[#This Row],[Périmètres produits d''application]]","v":"€ / unitésupérieur à 250 kg"},"€ / unité","supérieur à 250 kg","082"]
[null,"Tranches",{"$f":"Tbl_Code_Mesure[[#This Row],[Mode de calcul]]&Tbl_Code_Mesure[[#This Row],[Périmètres produits d''application]]","v":"€ / m2épaisseur du panneau <= 10mm"},"€ / m2","épaisseur du panneau <= 10mm","112"]
[null,"Tranches",{"$f":"Tbl_Code_Mesure[[#This Row],[Mode de calcul]]&Tbl_Code_Mesure[[#This Row],[Périmètres produits d''application]]","v":"€ / m210mm < épaisseur du panneau <= 15mm"},"€ / m2","10mm < épaisseur du panneau <= 15mm","113"]
[null,"Tranches",{"$f":"Tbl_Code_Mesure[[#This Row],[Mode de calcul]]&Tbl_Code_Mesure[[#This Row],[Périmètres produits d''application]]","v":"€ / m215mm < épaisseur du panneau <= 22mm"},"€ / m2","15mm < épaisseur du panneau <= 22mm","114"]
[null,"Tranches",{"$f":"Tbl_Code_Mesure[[#This Row],[Mode de calcul]]&Tbl_Code_Mesure[[#This Row],[Périmètres produits d''application]]","v":"€ / m2épaisseur du panneau > 22mm"},"€ / m2","épaisseur du panneau > 22mm","115"]
[null,"Tranches",{"$f":"Tbl_Code_Mesure[[#This Row],[Mode de calcul]]&Tbl_Code_Mesure[[#This Row],[Périmètres produits d''application]]","v":"€ / m2épaisseur <= 100mm"},"€ / m2","épaisseur <= 100mm","116"]
[null,"Tranches",{"$f":"Tbl_Code_Mesure[[#This Row],[Mode de calcul]]&Tbl_Code_Mesure[[#This Row],[Périmètres produits d''application]]","v":"€ / m2épaisseur > 100mm"},"€ / m2","épaisseur > 100mm","117"]
[null,null,{"$f":"Tbl_Code_Mesure[[#This Row],[Mode de calcul]]&Tbl_Code_Mesure[[#This Row],[Périmètres produits d''application]]","v":""}]
[null,"Spécifiques produit",{"$f":"Tbl_Code_Mesure[[#This Row],[Mode de calcul]]&Tbl_Code_Mesure[[#This Row],[Périmètres produits d''application]]","v":"€ / UnitéFenêtre <= 1,5 m²"},"€ / Unité","Fenêtre <= 1,5 m²",500]
[null,"Spécifiques produit",{"$f":"Tbl_Code_Mesure[[#This Row],[Mode de calcul]]&Tbl_Code_Mesure[[#This Row],[Périmètres produits d''application]]","v":"€ / Unité1,5m² < Fenêtre < 3,5 m²"},"€ / Unité","1,5m² < Fenêtre < 3,5 m²",501]
[null,"Spécifiques produit",{"$f":"Tbl_Code_Mesure[[#This Row],[Mode de calcul]]&Tbl_Code_Mesure[[#This Row],[Périmètres produits d''application]]","v":"€ / UnitéFenêtre >= 3,5 m²"},"€ / Unité","Fenêtre >= 3,5 m²",502]
[null,"Spécifiques produit",{"$f":"Tbl_Code_Mesure[[#This Row],[Mode de calcul]]&Tbl_Code_Mesure[[#This Row],[Périmètres produits d''application]]","v":"€ / UnitéRadiateur < 1 mètre (plus grande largeur ou hauteur)"},"€ / Unité","Radiateur < 1 mètre (plus grande largeur ou hauteur)",510]
[null,"Spécifiques produit",{"$f":"Tbl_Code_Mesure[[#This Row],[Mode de calcul]]&Tbl_Code_Mesure[[#This Row],[Périmètres produits d''application]]","v":"€ / UnitéRadiateur > 1 mètre (plus grande largeur ou hauteur)"},"€ / Unité","Radiateur > 1 mètre (plus grande largeur ou hauteur)",511]
[null,null,{"$f":"Tbl_Code_Mesure[[#This Row],[Mode de calcul]]&Tbl_Code_Mesure[[#This Row],[Périmètres produits d''application]]","v":""}]
[null,"Spécifiques Ecominero",{"$f":"Tbl_Code_Mesure[[#This Row],[Mode de calcul]]&Tbl_Code_Mesure[[#This Row],[Périmètres produits d''application]]","v":"€ / TonnePulvérulent"},"€ / Tonne","Pulvérulent",600]
[null,"Spécifiques Ecominero",{"$f":"Tbl_Code_Mesure[[#This Row],[Mode de calcul]]&Tbl_Code_Mesure[[#This Row],[Périmètres produits d''application]]","v":"€ / m3Béton prêt à l'emploi >90%"},"€ / m3","Béton prêt à l'emploi >90%",601]
[null,"Spécifiques Ecominero",{"$f":"Tbl_Code_Mesure[[#This Row],[Mode de calcul]]&Tbl_Code_Mesure[[#This Row],[Périmètres produits d''application]]","v":"€ / TonneDivers jardin"},"€ / Tonne","Divers jardin",602]
[null,"Spécifiques Ecominero",{"$f":"Tbl_Code_Mesure[[#This Row],[Mode de calcul]]&Tbl_Code_Mesure[[#This Row],[Périmètres produits d''application]]","v":"€ / TonnePremix"},"€ / Tonne","Premix",603]
[null,"Spécifiques Ecominero",{"$f":"Tbl_Code_Mesure[[#This Row],[Mode de calcul]]&Tbl_Code_Mesure[[#This Row],[Périmètres produits d''application]]","v":"€ / TonneNon pulvérulent"},"€ / Tonne","Non pulvérulent",604]

{"sheet":"Générateur de codes","index":3,"n_rows":33,"n_cols":11,"rows_kept":33,"cut":false,"hidden":false,"merged":[[0,0,0,6],[23,0,24,0],[1,0,1,6],[33,3,35,6],[15,0,15,2],[26,0,26,1],[32,0,32,6]]}
["Générateur de code produit - Outillage et Bâtiment",null,null,null,null,null,null,"MASQUER","MASQUER",null,{"$f":"Consignes!$A$7","v":"Version 1.10 - 10 février 2023"}]
["Sélectionner les éléments dans les cases vertes"]
[]
[]
["1 - Choisissez une REP :",null,null,null,null,null,"Code:",1,{"$f":"VLOOKUP(D5,'Param masqué'!$B$3:$C$19,2,FALSE)","v":{"$error":"#N/A"}}]
[]
[]
["2 - Choisissez un rayon :",null,null,null,null,null,{"$f":"IF(D8=\"\",\"\",VLOOKUP(D8,'Param masqué'!$D$3:$E$19,2,FALSE))","v":""},{"$f":"LEFT(A8,1)+0","v":2},{"$f":"I5&\"_\"&G8","v":{"$error":"#N/A"}}]
[]
[{"$f":"H8+1&\" - Choisissez une catégorie de produit : \"","v":"3 - Choisissez une catégorie de produit : "},null,null,null,"_",null,{"$f":"IF(D10=\"\",\"\",VLOOKUP(D10,'Param masqué'!$J$3:$K$144,2,FALSE))","v":""},{"$f":"LEFT(A10,1)+0","v":3},{"$f":"I5&\"_\"&G10","v":{"$error":"#N/A"}}]
[]
[{"$f":"IF(I12=0,\"\",H10+1&\" - Choisissez votre unité fonctionnelle :\")","v":""},null,null,null,null,null,null,{"$f":"IF(I12=0,H10,LEFT(A12,1)+0)","v":3},{"$f":"IFERROR(VLOOKUP(I10,'Param masqué'!W:Y,3,FALSE),0)","v":0}]
[null,null,null,null,null,null,null,null,{"$f":"IF(OR(D12=\"Prix en fonction d'une autre unité fonctionelle\",D12=\"Prix en m2\"),I10&\"F\",IF(D12=\"Prix en m3\",I10&\"G\",\"\"))","v":""}]
[{"$f":"H12+1&\" - Choisissez un matériau : \"","v":"4 - Choisissez un matériau : "},null,null,null,null,null,{"$f":"IF(D14=\"\",\"\",VLOOKUP(D14,'Param masqué'!$R$3:$T$80,3,FALSE))","v":""},{"$f":"LEFT(A14,1)+0","v":4},{"$f":"IF(OR($D$12=\"Prix en fonction d'une autre unité fonctionelle\",$D$12=\"Prix en m2\",$D$12=\"Prix en m3\"),VLOOKUP(I13,'Param masqué'!AH:AK,4,FALSE),VLOOKUP(I10,'Param masqué'!AH:AK,4,FALSE))","v":{"$error":"#N/A"}}]
[]
[{"$f":"H14+1&\" - Choisissez la caractéristique (ou conditionnement) en fonction du type de produit : \"","v":"5 - Choisissez la caractéristique (ou conditionnement) en fonction du type de produit : "},null,null,null,null,null,{"$f":"IF(D16=\"\",\"\",VLOOKUP(D16,'Param masqué'!$AE$1:$AF$59,2,FALSE))","v":""},{"$f":"LEFT(A16,1)+0","v":5}]
[]
[null,null,null,{"$f":"IF(OR($G$8='Param masqué'!$E$15,'Générateur de codes'!$G$8='Param masqué'!$E$19,'Générateur de codes'!$G$10='Param masqué'!$K$92),\"Attention, ce produit relève peut-être d'une autre filière REP. Pensez à bien vérifier son appartenance à la \"&'Générateur de codes'!$D$5,\"\")","v":""}]
[]
["D'où le code produit:",null,null,{"$f":"IF(OR(D16=\"\",D14=\"\",D10=\"\",D8=\"\"),\"\",CONCATENATE(G8,G10,G14,G16,0))","v":""}]
[null,null,null,{"$f":"IF(D20=\"\",\"\",D8&\" - \"&D10&\" en \"&D14&\" \"&D16)","v":""}]
[{"$f":"IF(D24=\"\",\"\",\"Le montant de l'éco-participation en \"&F24&\" est :\")","v":""}]
[]
["Vous pouvez le paramétrer le taux de TVA",null,"HT :",{"$f":"IFERROR(VLOOKUP('Générateur de codes'!$D$20,'Liste des tarifs'!$C:$J,8,FALSE),\"\")","v":""},null,{"$f":"IFERROR(VLOOKUP('Générateur de codes'!$D$20,'Liste des tarifs'!$C:$J,7,FALSE),\"\")","v":""}]
[null,0.2,"TTC :",{"$f":"IF(D24=\"\",\"\",D24*(1+$B$25))","v":""},null,{"$f":"IFERROR(VLOOKUP('Générateur de codes'!$D$20,'Liste des tarifs'!$C:$J,7,FALSE),\"\")","v":""}]
[]
["Si applicable, indiquez  ici le poids de votre produit en kg ou la longueur en m ou le volume en m3 ou la surface en m² :"]
[]
[null,null,null,{"$f":"IFERROR(IF(D27=\"\",\"\",IF(F24=\"€ / Tonne\",IF(D27*D24/1000<0.01,\"Attention, le prix unitaire calculé est inférieur à 1ct, nous vous conseillons d'afficher le barème applicable si vous ne pouvez afficher le montant exact\",\"\"),\"\")),\"\")","v":""}]
[null,null,"soit :",{"$f":"IFERROR(IF(D27=\"\",\"\",IF(F24=\"€ / Tonne\",D27*D24/1000,D27*D24)),\"\")","v":""},null,"HT"]
[]
["NB :"]
["penser à actionner le bouton \"RESET\" avant de faire une nouvelle génération. \nle montant TTC de l’éco-participation est donné à titre indicatif ; le barème applicable est le barème HT."]

{"sheet":"Barème par matériau","index":4,"n_rows":19,"n_cols":8,"rows_kept":19,"cut":false,"hidden":false,"merged":[[0,0,0,3],[1,0,1,3],[15,0,16,0],[24,0,24,3],[27,3,29,3]]}
["Barème par matériau PMCB",null,null,null,"MASQUER","MASQUER",null,{"$f":"Consignes!$A$7","v":"Version 1.10 - 10 février 2023"}]
["Sélectionner les éléments dans les cases vertes"]
[]
[]
[]
[{"$f":"1&\" - Choisissez un type de matériau : \"","v":"1 - Choisissez un type de matériau : "},null,null,null,{"$f":"LEFT(A6,1)+0","v":1}]
[]
[{"$f":"IFERROR(IF(#REF!=\"Abs\",\"Précisez le matériau majoritaire :\",\"Précisez le rembourrage :\"),\"\")","v":""},null,null,null,null,{"$f":"IF(D8=\"\",\"\",VLOOKUP(D8,'Param masqué'!$AU$2:$AV$12,2,FALSE))","v":""}]
[]
[{"$f":"E6+1&\" - Choisissez le matériau précis : \"","v":"2 - Choisissez le matériau précis : "},null,null,null,{"$f":"LEFT(A10,1)+0","v":2},{"$f":"VLOOKUP(D8,'Param masqué'!$AU$2:$AW$12,3,FALSE)","v":{"$error":"#N/A"}}]
[]
[]
[]
["Le montant de l'éco-participation (€/Tonne mise en marché):"]
[]
["Vous pouvez le paramétrer le taux de TVA",null,"HT :",{"$f":"IFERROR(VLOOKUP('Barème par matériau'!$D$19,'PMCB - Grille d''éco-part'!$D$5:$G$49,4,FALSE),\"\")","v":""}]
[null,0.2,"TTC :",{"$f":"IF(D16=\"\",\"\",D16*(1+$B$17))","v":""}]
[]
["D'où le code de déclaration matériau :",null,null,{"$f":"IF(D12=\"\",\"\",IF(F10=11,\"50\"&VLOOKUP(D12,'Param masqué'!$AZ$2:$BA$56,2,FALSE)&\"000000\",\"40310\"&VLOOKUP(D12,'Param masqué'!$AZ$2:$BA$56,2,FALSE)&\"0000\"))","v":""}]

{"sheet":"Param masqué","index":5,"n_rows":2025,"n_cols":57,"rows_kept":2025,"cut":false,"hidden":true,"merged":[[189,1,189,4],[1779,21,1809,21]]}
[null,"REP","_","Rayon","Code Rayon",null,"REP","_","Rayon","Catégorie","Code Produit",null,null,null,null,null,"Type de matériaux","Matériaux","Exemples de matériaux","Code matériaux",null,null,null,null,null,null,null,null,"Type de mesure","Mode de calcul","Périmètres produits d'application","Code Mesure",null,"code produit","Tranches de dimensions","unité","meta cat",null,null,null,null,"Tranches de dimensions","unité","meta cat",null,null,null,null,null,null,null,"Cat1"]
[null,null,null,null,null,null,null,null,null,null,null,null,null,null,null,null,null,null,null,null,null,null,null,null,null,null,null,null,null,null,null,null,null,"A_100","Eléments de toutes dimensions et poids","€ / Tonne","DimT",null,null,null,null,"Eléments de toutes dimensions et poids (T)","€ / Tonne","DimT",null,null,"1 - Métal (Cat. a du décret)","Cat_1",1,null,"28","Métal >90%",{"$f":"VLOOKUP(AZ2,'Comprendre la codification'!$D$223:$F$301,3,FALSE)","v":28},null,"Prix au poids",null,"Prix au poids"]
[{"$f":"E3","v":21},"Articles Bricolage et Jardin - ABJ","A","Articles de bricolage",{"$f":"VLOOKUP(D3,'Comprendre la codification'!$D$20:$F$42,3,FALSE)","v":21},null,"ABJ",{"$f":"\"A_\"&VLOOKUP(I3,$D$3:$E$19,2,FALSE)","v":"A_21"},"Articles de bricolage","Outillage à main et leurs accessoires",{"$f":"VLOOKUP(J3,'Comprendre la codification'!$E$49:$F$216,2,FALSE)","v":100},null,"1 - Métal","MAT_1",1,"MAT_1","1 - Métal","Métal >90%","Ferreux (Acier, Acier inoxydable, Fer forgé, Fonte, Acier au carbone, acier zingué, tole, alliages…) et non-ferreux (Aluminium, plomb, zinc, étain, chrome, cuivre, bronze, argent, zamac, nickel, titane, laiton...)",{"$f":"VLOOKUP(R3,'Comprendre la codification'!$D$219:$F$301,3,FALSE)","v":28},null,null,"B_300",null,null,null,null,null,"Général","€ / Tonne","Eléments de toutes dimensions et poids (T)","000",null,"A_101","Eléments de toutes dimensions et poids","€ / Tonne","DimT",null,null,null,null,"<13mm","€ / m2","Cloison",null,null,"2 - Bois et dérivés de bois. (Cat. b du décret)","Cat_2",2,null,"02","Assemblage avec métal >50% et autres matériaux",{"$f":"VLOOKUP(AZ3,'Comprendre la codification'!$D$223:$F$301,3,FALSE)","v":"02"},null,"Prix en fonction d'une autre unité fonctionelle",null,"Prix en m2"]
[{"$f":"E4","v":22},"Articles Bricolage et Jardin - ABJ","A","Entretien et aménagement du jardin",{"$f":"VLOOKUP(D4,'Comprendre la codification'!$D$20:$F$42,3,FALSE)","v":22},null,"ABJ",{"$f":"\"A_\"&VLOOKUP(I4,$D$3:$E$19,2,FALSE)","v":"A_21"},"Articles de bricolage","Gros objets et machines non électriques et non thermiques et leurs accessoires",{"$f":"VLOOKUP(J4,'Comprendre la codification'!$E$49:$F$216,2,FALSE)","v":101},null,"2 - Bois et dérivés de bois","MAT_2",2,"MAT_1","1 - Métal","Assemblage avec métal >50% et autres matériaux","Assemblage métal-bois, métal-plastique, métal-inertes …",{"$f":"VLOOKUP(R4,'Comprendre la codification'!$D$219:$F$301,3,FALSE)","v":"02"},null,null,"Granulats hors pierre >90%",{"$f":"VLOOKUP(W4,R:T,3,FALSE)","v":85},null,null,null,null,"Général","€ / m2","Eléments de toutes dimensions et poids (m²)",101,null,"A_102","Eléments de toutes dimensions et poids","€ / Tonne","DimT",null,null,null,null,">= 13mm","€ / m2","Cloison",null,null,"3 - Papier carton (Cat. j du décret)","Cat_3",3,null,null,"Cat2",null,null,null,null,"Prix en m3"]
[40,"Construction du bâtiment - PMCB","B","Matériaux primaires de construction",{"$f":"VLOOKUP(D5,'Comprendre la codification'!$D$20:$F$46,3,FALSE)","v":40},null,"ABJ","A_21","Articles de bricolage","Outils et supports de travail en hauteur",{"$f":"VLOOKUP(J5,'Comprendre la codification'!$E$49:$F$216,2,FALSE)","v":102},null,"3 - Papier carton","MAT_3",3,null,null,null,null,null,null,null,"B_301",null,null,null,null,null,"Général","€ / m3","Eléments de toutes dimensions et poids (m3)",102,null,"A_103","Eléments de toutes dimensions et poids","€ / Tonne","DimT",null,null,null,null,"Fenêtre <= 1,5 m²","€ / m2","Fen",null,null,"4 - Matériaux et fibres d'origine végétal ou animal autres que bois et papier, carton (Cat. j du décret)","Cat_4",4,null,"53","Massif et assimilés >90%",{"$f":"VLOOKUP(AZ5,'Comprendre la codification'!$D$223:$F$301,3,FALSE)","v":53}]
[41,"Construction du bâtiment - PMCB","B","Voirie, réseaux intérieurs et extérieurs",{"$f":"VLOOKUP(D6,'Comprendre la codification'!$D$20:$F$46,3,FALSE)","v":41},null,"ABJ","A_21","Articles de bricolage","Equipement personnel et accessoires de protection de bricolage",{"$f":"VLOOKUP(J6,'Comprendre la codification'!$E$49:$F$216,2,FALSE)","v":103},null,"4 - Matériaux et fibres d'origine végétal ou animal autres que bois et papier, carton","MAT_4",4,"MAT_2","2 - Bois et dérivés de bois","Massif et assimilés certifiés >90%","Toutes essences (douglas, sapin, chène, hêtre, pin maritime, pin sylvestre, moabi , mélèze, teak, épicea ...), dont contreplaqué, contrecollé, lamellé, plaqué",{"$f":"VLOOKUP(R6,'Comprendre la codification'!$D$219:$F$301,3,FALSE)","v":52},null,null,"Pierre calcaire >90%",{"$f":"VLOOKUP(W6,R:T,3,FALSE)","v":86},null,null,null,null,"Général","€ / ml","Eléments de toutes dimensions et poids (mL)",908,null,"A_104","Eléments de toutes dimensions et poids","€ / Tonne","DimT",null,null,null,null,"1,5m² < Fenêtre < 3,5 m²","€ / m2","Fen",null,null,"5 - Plastique, matériaux et fibres synthétiques (Cat. f du décret)","Cat_5",5,null,"61","Panneaux de particules ou OSB >90%",{"$f":"VLOOKUP(AZ6,'Comprendre la codification'!$D$223:$F$301,3,FALSE)","v":61}]
[42,"Construction du bâtiment - PMCB","B","Structure, maçonnerie, gros oeuvre, charpente",{"$f":"VLOOKUP(D7,'Comprendre la codification'!$D$20:$F$46,3,FALSE)","v":42},null,"ABJ","A_21","Articles de bricolage","Bâches, housses, filets et films de bricolage",{"$f":"VLOOKUP(J7,'Comprendre la codification'!$E$49:$F$216,2,FALSE)","v":104},null,"5 - Plastique, matériaux et fibres synthétiques","MAT_5",5,"MAT_2","2 - Bois et dérivés de bois","Massif et assimilés certifiés >75%","Toutes essences (douglas, sapin, chène, hêtre, pin maritime, pin sylvestre, moabi , mélèze, teak, épicea ...), dont contreplaqué, contrecollé, lamellé, plaqué",{"$f":"VLOOKUP(R7,'Comprendre la codification'!$D$219:$F$301,3,FALSE)","v":20},null,null,"B_302",null,null,null,null,null,"Général","€ / unité","Eléments de toutes dimensions et poids (U)",907,null,"A_105","Eléments de toutes dimensions et poids","€ / Tonne","DimT",null,null,null,null,"Fenêtre >= 3,5 m²","€ / m2","Fen",null,null,"6 - Verre et parois vitrées (Cat. d du décret)","Cat_6",6,null,"62","Dérivés de bois >90%",{"$f":"VLOOKUP(AZ7,'Comprendre la codification'!$D$223:$F$301,3,FALSE)","v":62}]
[43,"Construction du bâtiment - PMCB","B","Couverture et étanchéité",{"$f":"VLOOKUP(D8,'Comprendre la codification'!$D$20:$F$46,3,FALSE)","v":43},null,"ABJ","A_22","Entretien et aménagement du jardin","Outils à main d’entretien du jardin et petits accessoires",{"$f":"VLOOKUP(J8,'Comprendre la codification'!$E$49:$F$216,2,FALSE)","v":150},null,"6 - Verre et parois vitrées","MAT_6",6,"MAT_2","2 - Bois et dérivés de bois","Massif et assimilés >90%","Toutes essences (douglas, sapin, chène, hêtre, pin maritime, pin sylvestre, moabi , mélèze, teak, épicea ...), dont contreplaqué, contrecollé, lamellé, plaqué",{"$f":"VLOOKUP(R8,'Comprendre la codification'!$D$219:$F$301,3,FALSE)","v":53},null,null,"Terre cuite ou crue >90%",{"$f":"VLOOKUP(W8,R:T,3,FALSE)","v":89},null,null,null,null,null,null,null,null,null,"A_150","Eléments de toutes dimensions et poids","€ / Tonne","DimT",null,null,null,null,"Par lot ou par unité < 300 g ","€ / Unité","Lot",null,null,"7 - Plâtre (Cat. e du décret)","Cat_7",7,null,"01","Assemblage de bois, dérivés de bois à plus de 50% avec d'autres matériaux ou bois composite (hors verre)",{"$f":"VLOOKUP(AZ8,'Comprendre la codification'!$D$223:$F$301,3,FALSE)","v":"01"}]
[44,"Construction du bâtiment - PMCB","B","Cloisonnement, plafonds",{"$f":"VLOOKUP(D9,'Comprendre la codification'!$D$20:$F$46,3,FALSE)","v":44},null,"ABJ","A_22","Entretien et aménagement du jardin","Equipement personnel et accessoires de protection de jardinage",{"$f":"VLOOKUP(J9,'Comprendre la codification'!$E$49:$F$216,2,FALSE)","v":151},null,"7 - Plâtre","MAT_7",7,"MAT_2","2 - Bois et dérivés de bois","Massif et assimilés >75%","Toutes essences (douglas, sapin, chène, hêtre, pin maritime, pin sylvestre, moabi , mélèze, teak, épicea ...), dont contreplaqué, contrecollé, lamellé, plaqué",{"$f":"VLOOKUP(R9,'Comprendre la codification'!$D$219:$F$301,3,FALSE)","v":21},null,null,"B_303",null,null,null,null,null,"Tranches","€ / unité","< 1m",{"$f":"VLOOKUP(AE9,'Comprendre la codification'!$E$314:$F$363,2,FALSE)","v":103},null,"A_151","Eléments de toutes dimensions et poids","€ / Tonne","DimT",null,null,null,null,"Par lot ou par unité < 1 kg ","€ / Unité","Lot",null,null,"8- Laines de verre et laines de roches (Cat. h et i du décret)","Cat_8",8,null,null,"Cat3"]
[45,"Construction du bâtiment - PMCB","B","Isolation thermique et acoustique",{"$f":"VLOOKUP(D10,'Comprendre la codification'!$D$20:$F$46,3,FALSE)","v":45},null,"ABJ","A_22","Entretien et aménagement du jardin","Pots de fleur et contenants",{"$f":"VLOOKUP(J10,'Comprendre la codification'!$E$49:$F$216,2,FALSE)","v":152},null,"8 - Laines de verre et laines de roches","MAT_8",8,"MAT_2","2 - Bois et dérivés de bois","Panneaux de particules ou OSB certifiés >90%","Panneaux de particules, OSB",{"$f":"VLOOKUP(R10,'Comprendre la codification'!$D$219:$F$301,3,FALSE)","v":59},null,null,"Chaux >90%",{"$f":"VLOOKUP(W10,R:T,3,FALSE)","v":95},null,null,null,null,"Tranches","€ / unité",">= 1m",{"$f":"VLOOKUP(AE10,'Comprendre la codification'!$E$314:$F$363,2,FALSE)","v":104},null,"A_152","Eléments de toutes dimensions et poids","€ / Tonne","DimT",null,null,null,null,"Par lot ou par unité < 5 kg ","€ / Unité","Lot",null,null,"9 - Membranes bitumineuses (Cat. g du décret)","Cat_9",9,null,"19","Papier carton >50% avec d'autres matériaux (hors verre)",{"$f":"VLOOKUP(AZ10,'Comprendre la codification'!$D$223:$F$301,3,FALSE)","v":"19"}]
[46,"Construction du bâtiment - PMCB","B","Menuiseries intérieures et extérieures, fermetures",{"$f":"VLOOKUP(D11,'Comprendre la codification'!$D$20:$F$46,3,FALSE)","v":46},null,"ABJ","A_22","Entretien et aménagement du jardin","Bâches, housses, filets et films de jardinage",{"$f":"VLOOKUP(J11,'Comprendre la codification'!$E$49:$F$216,2,FALSE)","v":153},null,"9 - Membranes bitumineuses","MAT_9",9,"MAT_2","2 - Bois et dérivés de bois","Panneaux de particules ou OSB certifiés >75%","Panneaux de particules, OSB",{"$f":"VLOOKUP(R11,'Comprendre la codification'!$D$219:$F$301,3,FALSE)","v":60},null,null,"Ciment >90%",{"$f":"VLOOKUP(W11,R:T,3,FALSE)","v":90},null,null,null,null,"Tranches","€ / m2",">= 13mm",{"$f":"VLOOKUP(AE11,'Comprendre la codification'!$E$314:$F$363,2,FALSE)","v":105},null,"A_153","Eléments de toutes dimensions et poids","€ / Tonne","DimT",null,null,null,null,"< 1m","€ / Unité","Evier",null,null,"10 - Autres mix matériaux ou matériaux non classés ou non spécifiés (produits appartenant aux catégories a,b, d, e, f, g, h, i et j et non spécifiés par l'entreprise)","Cat_10",10,null,null,"Cat4"]
[47,"Construction du bâtiment - PMCB","B","Façades",{"$f":"VLOOKUP(D12,'Comprendre la codification'!$D$20:$F$46,3,FALSE)","v":47},null,"ABJ","A_22","Entretien et aménagement du jardin","Equipements de plein air et leurs accessoires (hors bâches, filets, housses)",{"$f":"VLOOKUP(J12,'Comprendre la codification'!$E$49:$F$216,2,FALSE)","v":154},null,"10 - Autres mix matériaux ou matériaux non classés ou non spécifiés","MAT_10",10,"MAT_2","2 - Bois et dérivés de bois","Panneaux de particules ou OSB >90%","Panneaux de particules, OSB",{"$f":"VLOOKUP(R12,'Comprendre la codification'!$D$219:$F$301,3,FALSE)","v":61},null,null,"B_304",null,"FOR",null,null,null,"Tranches","€ / m2","<13mm",{"$f":"VLOOKUP(AE12,'Comprendre la codification'!$E$314:$F$363,2,FALSE)","v":106},null,"A_154","Eléments de toutes dimensions et poids","€ / Tonne","DimT",null,null,null,null,">= 1m","€ / Unité","Evier",null,null,"11 - Mortiers, enduits, peintures, vernis, résines, produits de préparation (Cat. c du décret)","Cat_11",11,null,"55","Matériaux bio sourcés ou textiles non synthétiques >90%",{"$f":"VLOOKUP(AZ12,'Comprendre la codification'!$D$223:$F$301,3,FALSE)","v":55}]
[48,"Construction du bâtiment - PMCB","B","Revêtements des sols, murs et plafonds",{"$f":"VLOOKUP(D13,'Comprendre la codification'!$D$20:$F$46,3,FALSE)","v":48},null,"ABJ","A_22","Entretien et aménagement du jardin","Structures extérieures non-maçonnées",{"$f":"VLOOKUP(J13,'Comprendre la codification'!$E$49:$F$216,2,FALSE)","v":155},null,"11 - Mortiers, enduits, peintures, vernis, résines, produits de préparation","MAT_11",11,"MAT_2","2 - Bois et dérivés de bois","Panneaux de particules ou OSB >75%","Panneaux de particules, OSB",{"$f":"VLOOKUP(R13,'Comprendre la codification'!$D$219:$F$301,3,FALSE)","v":25},null,null,"Béton >90%",{"$f":"VLOOKUP(W13,R:T,3,FALSE)","v":74},null,null,null,null,"Tranches","€ / unité","Par lot ou par unité < 5 kg ",{"$f":"VLOOKUP(AE13,'Comprendre la codification'!$E$314:$F$363,2,FALSE)","v":107},null,"A_155","Eléments de toutes dimensions et poids","€ / Tonne","DimT",null,null,null,null,"Radiateur < 1 mètre (plus grande largeur ou hauteur)","€ / Unité","Rad",null,null,null,null,null,null,"04","Matériaux bio sourcés ou textiles non synthétiques >50%",{"$f":"VLOOKUP(AZ13,'Comprendre la codification'!$D$223:$F$301,3,FALSE)","v":"04"}]
[49,"Construction du bâtiment - PMCB","B","Quincaillerie du bâtiment",{"$f":"VLOOKUP(D14,'Comprendre la codification'!$D$20:$F$46,3,FALSE)","v":49},null,null,null,null,null,null,null,"12 - Matériaux inertes","MAT_12",12,"MAT_2","2 - Bois et dérivés de bois","Dérivés de bois >90%","Bois composite, MDF, HDF, alvéolaire, stratifé, HPL….",{"$f":"VLOOKUP(R14,'Comprendre la codification'!$D$219:$F$301,3,FALSE)","v":62},null,null,"Béton cellulaire >90%",{"$f":"VLOOKUP(W14,R:T,3,FALSE)","v":96},null,null,null,null,"Tranches","€ / unité","Par lot ou par unité < 1 kg ",{"$f":"VLOOKUP(AE14,'Comprendre la codification'!$E$314:$F$363,2,FALSE)","v":108},null,"B_300","Eléments de toutes dimensions et poids","€ / Tonne","DimT",null,null,null,null,"Radiateur > 1 mètre (plus grande largeur ou hauteur)","€ / Unité","Rad",null,null,null,null,null,null,"63","Caoutchouc naturel >90%",{"$f":"VLOOKUP(AZ14,'Comprendre la codification'!$D$223:$F$301,3,FALSE)","v":63}]
[50,"Construction du bâtiment - PMCB","B","Peinture, lasures et vernis, droguerie, colles et traitement, adjuvants",{"$f":"VLOOKUP(D15,'Comprendre la codification'!$D$20:$F$46,3,FALSE)","v":50},null,"PMCB",{"$f":"\"B_\"&VLOOKUP(I15,$D$3:$E$19,2,FALSE)","v":"B_40"},"Matériaux primaires de construction","Granulats",{"$f":"VLOOKUP(J15,'Comprendre la codification'!$E$49:$F$216,2,FALSE)","v":300},null,null,null,null,"MAT_2","2 - Bois et dérivés de bois","Assemblage de bois, dérivés de bois à plus de 50% avec d'autres matériaux ou bois composite (hors verre)","Assemblage bois-métal, bois-plastique …",{"$f":"VLOOKUP(R15,'Comprendre la codification'!$D$219:$F$301,3,FALSE)","v":"01"},null,null,"Matériaux bio sourcés ou textiles non synthétiques >90%",{"$f":"VLOOKUP(W15,R:T,3,FALSE)","v":55},null,null,null,null,"Tranches","€ / unité","Par lot ou par unité < 300 g ",{"$f":"VLOOKUP(AE15,'Comprendre la codification'!$E$314:$F$363,2,FALSE)","v":109},null,"B_301","Eléments de toutes dimensions et poids","€ / Tonne","DimT",null,null,null,null,"Eléments de toutes dimensions et poids (U)","€ / Unité","DimU",null,null,null,null,null,null,"64","Caoutchouc naturel >50%",{"$f":"VLOOKUP(AZ15,'Comprendre la codification'!$D$223:$F$301,3,FALSE)","v":64}]
[51,"Construction du bâtiment - PMCB","B","Equipements sanitaires pour salle de bain, cuisine et WC",{"$f":"VLOOKUP(D16,'Comprendre la codification'!$D$20:$F$46,3,FALSE)","v":51},null,"PMCB",{"$f":"\"B_\"&VLOOKUP(I16,$D$3:$E$19,2,FALSE)","v":"B_40"},"Matériaux primaires de construction","Pierre de construction, granit, grès et lave",{"$f":"VLOOKUP(J16,'Comprendre la codification'!$E$49:$F$216,2,FALSE)","v":301},null,null,null,null,null,null,null,null,null,null,null,"Mortier >90%",{"$f":"VLOOKUP(W16,R:T,3,FALSE)","v":92},null,null,null,null,"Tranches","€ / unité","Par lot de 2",{"$f":"VLOOKUP(AE16,'Comprendre la codification'!$E$314:$F$363,2,FALSE)","v":110},null,"B_302","Eléments de toutes dimensions et poids","€ / Tonne","DimT",null,null,null,null,"Eléments de toutes dimensions et poids (m²)","€ / m2","Dim_2",null,null,null,null,null,null,null,"Cat5"]
[52,"Construction du bâtiment - PMCB","B","Electricité",{"$f":"VLOOKUP(D17,'Comprendre la codification'!$D$20:$F$46,3,FALSE)","v":52},null,"PMCB","B_40","Matériaux primaires de construction","Terre crue et éléments en terre cuite",{"$f":"VLOOKUP(J17,'Comprendre la codification'!$E$49:$F$216,2,FALSE)","v":302},null,null,null,null,"MAT_3","3 - Papier carton","Papier carton >50% avec d'autres matériaux (hors verre)","Papier, Carton, Compact, Papier Kraft",{"$f":"VLOOKUP(R17,'Comprendre la codification'!$D$219:$F$301,3,FALSE)","v":"19"},null,null,"Non connu ou non spécifié par l'entreprise",{"$f":"VLOOKUP(W17,R:T,3,FALSE)","v":"00"},null,null,null,null,"Tranches","€ / unité","Par lot de 4",{"$f":"VLOOKUP(AE17,'Comprendre la codification'!$E$314:$F$363,2,FALSE)","v":111},null,"B_303","Eléments de toutes dimensions et poids","€ / Tonne","DimT",null,null,null,null,"Eléments de toutes dimensions et poids (m3)","€ / m3","Dim_3",null,null,null,null,null,null,"41","Plastiques (mono résine) >90%",{"$f":"VLOOKUP(AZ17,'Comprendre la codification'!$D$223:$F$301,3,FALSE)","v":41}]
[53,"Construction du bâtiment - PMCB","B","Chauffage et traitement de l'air",{"$f":"VLOOKUP(D18,'Comprendre la codification'!$D$20:$F$46,3,FALSE)","v":53},null,"PMCB","B_40","Matériaux primaires de construction","Ciments et chaux",{"$f":"VLOOKUP(J18,'Comprendre la codification'!$E$49:$F$216,2,FALSE)","v":303},null,null,null,null,null,null,null,null,null,null,null,"B_305",null,null,null,null,null,"Tranches","€ / unité","Par lot de 1000",{"$f":"VLOOKUP(AE18,'Comprendre la codification'!$E$314:$F$363,2,FALSE)","v":"089"},null,"B_304","Eléments de toutes dimensions et poids","€ / Tonne","DimT",null,null,null,null,"Eléments de toutes dimensions et poids (mL)","€ / ml","DimL",null,null,null,null,null,null,"05","Plastiques ou autres matériaux synthétiques >50%",{"$f":"VLOOKUP(AZ18,'Comprendre la codification'!$D$223:$F$301,3,FALSE)","v":"05"}]
[54,"Construction du bâtiment - PMCB","B","Eléments de jardin maçonnés et leurs pièces structurelles",{"$f":"VLOOKUP(D19,'Comprendre la codification'!$D$20:$F$46,3,FALSE)","v":54},null,"PMCB","B_40","Matériaux primaires de construction","Mortier, béton, éléments en béton, y.c. biosourcés",{"$f":"VLOOKUP(J19,'Comprendre la codification'!$E$49:$F$216,2,FALSE)","v":304},null,null,null,null,"MAT_4","4 - Matériaux et fibres d'origine végétal ou animal autres que bois et papier, carton","Matériaux bio sourcés ou textiles non synthétiques >90%","Tiges végétales (bambou, rotin, osiers, jute, paille, liège), textiles naturels d'origine végétale non mélangés (coton, lin, chanvre, soie, ramie, fibres de noix de coco, rafia…)",{"$f":"VLOOKUP(R19,'Comprendre la codification'!$D$219:$F$301,3,FALSE)","v":55},null,null,"Plâtre >50%",{"$f":"VLOOKUP(W19,R:T,3,FALSE)","v":76},null,null,null,null,"Tranches","€ / unité","inférieur strictement à 0,1 kg",{"$f":"VLOOKUP(AE19,'Comprendre la codification'!$E$314:$F$363,2,FALSE)","v":"083"},null,"B_304F","Béton prêt à l'emploi >90%","€ / m3","Dim_Beton",null,null,null,null,"Eléments de toutes dimensions et poids","€ / m3","Dim_Beton",null,null,null,null,null,null,"49","Caoutchouc synthétique >90%",{"$f":"VLOOKUP(AZ19,'Comprendre la codification'!$D$223:$F$301,3,FALSE)","v":49}]
[null,null,null,null,null,null,"PMCB","B_40","Matériaux primaires de construction","Plâtre et éléments en plâtre",{"$f":"VLOOKUP(J20,'Comprendre la codification'!$E$49:$F$216,2,FALSE)","v":305},null,null,null,null,"MAT_4","4 - Matériaux et fibres d'origine végétal ou animal autres que bois et papier, carton","Matériaux bio sourcés ou textiles non synthétiques >50%","Assemblage de matériaux bio sourcés avec du plastique, du métal …",{"$f":"VLOOKUP(R20,'Comprendre la codification'!$D$219:$F$301,3,FALSE)","v":"04"},null,null,"Plâtre >90%",{"$f":"VLOOKUP(W20,R:T,3,FALSE)","v":75},null,null,null,null,"Tranches","€ / unité","Compris entre 0,1 kg et 0,2 kg exclus",{"$f":"VLOOKUP(AE20,'Comprendre la codification'!$E$314:$F$363,2,FALSE)","v":"084"},null,"B_304F","Premix","€ / Tonne","Dim_Beton",null,null,null,null,"Béton prêt à l'emploi >90%","€ / m3","Dim_Beton",null,null,null,null,null,null,"40","Assemblage caoutchouc synthétique ou latex >50% avec d'autres matériaux",{"$f":"VLOOKUP(AZ20,'Comprendre la codification'!$D$223:$F$301,3,FALSE)","v":40}]
[null,null,null,null,null,null,"PMCB","B_40","Matériaux primaires de construction","Bois de charpente, panneaux, planches, tablettes, tasseaux",{"$f":"VLOOKUP(J21,'Comprendre la codification'!$E$49:$F$216,2,FALSE)","v":306},null,null,null,null,"MAT_4","4 - Matériaux et fibres d'origine végétal ou animal autres que bois et papier, carton","Caoutchouc naturel >90%","Caoutchouc, latex",{"$f":"VLOOKUP(R21,'Comprendre la codification'!$D$219:$F$301,3,FALSE)","v":63},null,null,"Non connu ou non spécifié par l'entreprise",{"$f":"VLOOKUP(W21,R:T,3,FALSE)","v":"00"},null,null,null,null,"Tranches","€ / unité","Compris entre 0,2 kg et 0,3 kg exclus",{"$f":"VLOOKUP(AE21,'Comprendre la codification'!$E$314:$F$363,2,FALSE)","v":"085"},null,"B_305","Eléments de toutes dimensions et poids","€ / Tonne","DimT",null,null,null,null,"Premix","€ / Tonne","Dim_Beton",null,null,null,null,null,null,"65","Matériaux ou fibres synthétiques >90%",{"$f":"VLOOKUP(AZ21,'Comprendre la codification'!$D$223:$F$301,3,FALSE)","v":65}]
[null,null,null,null,null,null,"PMCB","B_40","Matériaux primaires de construction","Verre et assimilés pour assemblage",{"$f":"VLOOKUP(J22,'Comprendre la codification'!$E$49:$F$216,2,FALSE)","v":307},null,null,null,null,"MAT_4","4 - Matériaux et fibres d'origine végétal ou animal autres que bois et papier, carton","Caoutchouc naturel >50%","Caoutchouc, latex",{"$f":"VLOOKUP(R22,'Comprendre la codification'!$D$219:$F$301,3,FALSE)","v":64},null,null,"B_306",null,"FOR",null,null,null,"Tranches","€ / unité","Compris entre 0,3 kg et 0,4 kg exclus",{"$f":"VLOOKUP(AE22,'Comprendre la codification'!$E$314:$F$363,2,FALSE)","v":"086"},null,"B_306","Eléments de toutes dimensions et poids","€ / Tonne","DimT",null,null,null,null,"Eléments de toutes dimensions et poids (m3)","€ / m3","Dim_Panneau",null,null,null,null,null,null,"67","Assemblage matériaux ou fibres synthétiques >50% avec d'autres matériaux",{"$f":"VLOOKUP(AZ22,'Comprendre la codification'!$D$223:$F$301,3,FALSE)","v":67}]
[null,null,null,null,null,null,"PMCB","B_40","Matériaux primaires de construction","Divers produits et matériaux primaires de construction",{"$f":"VLOOKUP(J23,'Comprendre la codification'!$E$49:$F$216,2,FALSE)","v":310},null,null,null,null,"MAT_4","4 - Matériaux et fibres d'origine végétal ou animal autres que bois et papier, carton","Matériaux d'origine animale >50%","Matières textiles ou rembourrages d'origine animale (laine, feutre, mohair, plumes, duvets, poils, cuirs...)",{"$f":"VLOOKUP(R23,'Comprendre la codification'!$D$219:$F$301,3,FALSE)","v":"06"},null,null,"Assemblage de 3 matériaux ou plus sans un matériau à plus de 50%",{"$f":"VLOOKUP(W23,R:T,3,FALSE)","v":82},null,null,null,null,"Tranches","€ / unité","Compris entre 0,4 kg et 0,5 kg exclus",{"$f":"VLOOKUP(AE23,'Comprendre la codification'!$E$314:$F$363,2,FALSE)","v":"087"},null,"B_306F","Eléments de toutes dimensions et poids (m3)","€ / m3","Dim_Panneau",null,null,null,null,"épaisseur du panneau <= 10mm","€ / m2","Dim_Panneau",null,null,null,null,null,null,null,"Cat6"]
[null,null,null,null,null,null,"PMCB","B_41","Voirie, réseaux intérieurs et extérieurs","Enrobé de voirie, bordure et caniveau",{"$f":"VLOOKUP(J24,'Comprendre la codification'!$E$49:$F$216,2,FALSE)","v":315},null,null,null,null,null,null,null,null,null,null,null,"Assemblage de bois, dérivés de bois à plus de 50% avec d'autres matériaux ou bois composite (hors verre)",{"$f":"VLOOKUP(W24,R:T,3,FALSE)","v":"01"},null,null,null,null,"Tranches","€ / unité","Compris entre 0,5 kg et 1 kg exclus",{"$f":"VLOOKUP(AE24,'Comprendre la codification'!$E$314:$F$363,2,FALSE)","v":"021"},null,"B_306F","épaisseur du panneau <= 10mm","€ / m2","Dim_Panneau",null,null,null,null,"10mm < épaisseur du panneau <= 15mm","€ / m2","Dim_Panneau",null,null,null,null,null,null,"68","Verre >90%",{"$f":"VLOOKUP(AZ24,'Comprendre la codification'!$D$223:$F$301,3,FALSE)","v":68}]
[null,null,null,null,null,null,"PMCB","B_41","Voirie, réseaux intérieurs et extérieurs","Réseaux d'adduction d'eau et de gaz (tuyaux et éléments intérieurs et extérieurs)",{"$f":"VLOOKUP(J25,'Comprendre la codification'!$E$49:$F$216,2,FALSE)","v":316},null,null,null,null,"MAT_5","5 - Plastique, matériaux et fibres synthétiques","Plastiques (mono résine) >90%","Plastiques et autres matériaux synthétiques : acrylique, PP, PE, PS, XPS, EPS, PER, Nylon, Polyamide, PU, PVC, vinyle, époxy, fibres synthétiques, PL, matériaux composites, carbone….",{"$f":"VLOOKUP(R25,'Comprendre la codification'!$D$219:$F$301,3,FALSE)","v":41},null,null,"Dérivés de bois >90%",{"$f":"VLOOKUP(W25,R:T,3,FALSE)","v":62},null,null,null,null,"Tranches","€ / unité","Compris entre 1 kg et 2 kg exclus",{"$f":"VLOOKUP(AE25,'Comprendre la codification'!$E$314:$F$363,2,FALSE)","v":"022"},null,"B_306F","10mm < épaisseur du panneau <= 15mm","€ / m2","Dim_Panneau",null,null,null,null,"15mm < épaisseur du panneau <= 22mm","€ / m2","Dim_Panneau",null,null,null,null,null,null,"70","Assemblage verre à plus de 50% avec métal",{"$f":"VLOOKUP(AZ25,'Comprendre la codification'!$D$223:$F$301,3,FALSE)","v":70}]
[null,null,null,null,null,null,"PMCB","B_41","Voirie, réseaux intérieurs et extérieurs","Evacuation et assainissement des eaux pluviales et usées (goutières, raccords, traitement, drainage, évacuation)",{"$f":"VLOOKUP(J26,'Comprendre la codification'!$E$49:$F$216,2,FALSE)","v":317},null,null,null,null,"MAT_5","5 - Plastique, matériaux et fibres synthétiques","PE ou PP ou mélange PP/PE >90%","Polyéthylène (PE), Polypropylène (PP), mélange PP/PE",{"$f":"VLOOKUP(R26,'Comprendre la codification'!$D$219:$F$301,3,FALSE)","v":45},null,null,"Massif et assimilés >90%",{"$f":"VLOOKUP(W26,R:T,3,FALSE)","v":53},null,null,null,null,"Tranches","€ / unité","Compris entre 2 kg et 3 kg exclus",{"$f":"VLOOKUP(AE26,'Comprendre la codification'!$E$314:$F$363,2,FALSE)","v":"052"},null,"B_306F","15mm < épaisseur du panneau <= 22mm","€ / m2","Dim_Panneau",null,null,null,null,"épaisseur du panneau > 22mm","€ / m2","Dim_Panneau",null,null,null,null,null,null,"71","Assemblage verre à plus de 50% avec Inerte",{"$f":"VLOOKUP(AZ26,'Comprendre la codification'!$D$223:$F$301,3,FALSE)","v":71}]
[null,null,null,null,null,null,"PMCB","B_41","Voirie, réseaux intérieurs et extérieurs","Cuves et réservoirs",{"$f":"VLOOKUP(J27,'Comprendre la codification'!$E$49:$F$216,2,FALSE)","v":318},null,null,null,null,"MAT_5","5 - Plastique, matériaux et fibres synthétiques","PVC >90%",null,{"$f":"VLOOKUP(R27,'Comprendre la codification'!$D$219:$F$301,3,FALSE)","v":48},null,null,"Matériaux bio sourcés ou textiles non synthétiques >90%",{"$f":"VLOOKUP(W27,R:T,3,FALSE)","v":55},null,null,null,null,"Tranches","€ / unité","Compris entre 3 kg et 5 kg exclus",{"$f":"VLOOKUP(AE27,'Comprendre la codification'!$E$314:$F$363,2,FALSE)","v":"053"},null,"B_306F","épaisseur du panneau > 22mm","€ / m2","Dim_Panneau",null,null,null,null,"Eléments de toutes dimensions et poids (m3)","€ / m3","Isolant3",null,null,null,null,null,null,"72","Assemblage verre à plus de 50% avec bois ou dérivés de bois",{"$f":"VLOOKUP(AZ27,'Comprendre la codification'!$D$223:$F$301,3,FALSE)","v":72}]
[null,null,null,null,null,null,"PMCB","B_41","Voirie, réseaux intérieurs et extérieurs","Eléments de voirie spéciaux et divers produits et matériaux de voirie et réseaux",{"$f":"VLOOKUP(J28,'Comprendre la codification'!$E$49:$F$216,2,FALSE)","v":321},null,null,null,null,"MAT_5","5 - Plastique, matériaux et fibres synthétiques","Polyterephtalate d'Ethylène (PET) >90%",null,{"$f":"VLOOKUP(R28,'Comprendre la codification'!$D$219:$F$301,3,FALSE)","v":42},null,null,"Panneaux de particules ou OSB >90%",{"$f":"VLOOKUP(W28,R:T,3,FALSE)","v":61},null,null,null,null,"Tranches","€ / unité","Compris entre 5 kg et 7 kg exclus",{"$f":"VLOOKUP(AE28,'Comprendre la codification'!$E$314:$F$363,2,FALSE)","v":"054"},null,"B_307","Eléments de toutes dimensions et poids","€ / Tonne","DimT",null,null,null,null,"épaisseur <= 100mm","€ / m2","Isolant",null,null,null,null,null,null,"73","Assemblage verre à plus de 50% avec plastique",{"$f":"VLOOKUP(AZ28,'Comprendre la codification'!$D$223:$F$301,3,FALSE)","v":73}]
[null,null,null,null,null,null,"PMCB","B_42","Structure, maçonnerie, gros oeuvre, charpente","Eléments de charpente et contreventements",{"$f":"VLOOKUP(J29,'Comprendre la codification'!$E$49:$F$216,2,FALSE)","v":330},null,null,null,null,"MAT_5","5 - Plastique, matériaux et fibres synthétiques","ABS >90%",null,{"$f":"VLOOKUP(R29,'Comprendre la codification'!$D$219:$F$301,3,FALSE)","v":46},null,null,"Autre matériau majoritaire",{"$f":"VLOOKUP(W29,R:T,3,FALSE)","v":12},null,null,null,null,"Tranches","€ / unité","Compris entre 7 kg et 10 kg exclus",{"$f":"VLOOKUP(AE29,'Comprendre la codification'!$E$314:$F$363,2,FALSE)","v":"055"},null,"B_310","Eléments de toutes dimensions et poids","€ / Tonne","DimT",null,null,null,null,"épaisseur > 100mm","€ / m2","Isolant",null,null,null,null,null,null,"69","Miroir >90%",{"$f":"VLOOKUP(AZ29,'Comprendre la codification'!$D$223:$F$301,3,FALSE)","v":69}]
[null,null,null,null,null,null,"PMCB","B_42","Structure, maçonnerie, gros oeuvre, charpente","Construction métallique, armatures et ferraillages",{"$f":"VLOOKUP(J30,'Comprendre la codification'!$E$49:$F$216,2,FALSE)","v":331},null,null,null,null,"MAT_5","5 - Plastique, matériaux et fibres synthétiques","Polystyrène >90%",null,{"$f":"VLOOKUP(R30,'Comprendre la codification'!$D$219:$F$301,3,FALSE)","v":47},null,null,"Non connu ou non spécifié par l'entreprise",{"$f":"VLOOKUP(W30,R:T,3,FALSE)","v":"00"},null,null,null,null,"Tranches","€ / unité","Compris entre 10 kg et 15 kg exclus",{"$f":"VLOOKUP(AE30,'Comprendre la codification'!$E$314:$F$363,2,FALSE)","v":"056"},null,"B_315","Eléments de toutes dimensions et poids","€ / Tonne","DimT",null,null,null,null,"Eléments de toutes dimensions et poids (U)","€ / Unité","Porte",null,null,null,null,null,null,null,"Cat7"]
[null,null,null,null,null,null,"PMCB","B_42","Structure, maçonnerie, gros oeuvre, charpente","Eléments préfabriqués hors blocs de béton",{"$f":"VLOOKUP(J31,'Comprendre la codification'!$E$49:$F$216,2,FALSE)","v":332},null,null,null,null,"MAT_5","5 - Plastique, matériaux et fibres synthétiques","Plastiques ou autres matériaux synthétiques >50%","Assemblage de matériaux et textiles synthétiques, ensemble",{"$f":"VLOOKUP(R31,'Comprendre la codification'!$D$219:$F$301,3,FALSE)","v":"05"},null,null,"B_307",null,null,null,null,null,"Tranches","€ / unité","Compris entre 15 kg et 20 kg exclus",{"$f":"VLOOKUP(AE31,'Comprendre la codification'!$E$314:$F$363,2,FALSE)","v":"057"},null,"B_316","Eléments de toutes dimensions et poids","€ / Tonne","DimT",null,null,null,null,"Par lot de 2","le double vantail","Porte",null,null,null,null,null,null,"75","Plâtre >90%",{"$f":"VLOOKUP(AZ31,'Comprendre la codification'!$D$223:$F$301,3,FALSE)","v":75}]
[null,null,null,null,null,null,"PMCB","B_42","Structure, maçonnerie, gros oeuvre, charpente","Elements de ventilation de vide sanitaire",{"$f":"VLOOKUP(J32,'Comprendre la codification'!$E$49:$F$216,2,FALSE)","v":333},null,null,null,null,"MAT_5","5 - Plastique, matériaux et fibres synthétiques","Caoutchouc synthétique >90%","Caoutchouc",{"$f":"VLOOKUP(R32,'Comprendre la codification'!$D$219:$F$301,3,FALSE)","v":49},null,null,"Assemblage de 3 matériaux ou plus sans un matériau à plus de 50%",{"$f":"VLOOKUP(W32,R:T,3,FALSE)","v":82},null,null,null,null,"Tranches","€ / unité","Compris entre 20 kg et 25 kg exclus",{"$f":"VLOOKUP(AE32,'Comprendre la codification'!$E$314:$F$363,2,FALSE)","v":"058"},null,"B_317","Eléments de toutes dimensions et poids","€ / Tonne","DimT",null,null,null,null,null,null,null,null,null,null,null,null,null,"76","Plâtre >50%",{"$f":"VLOOKUP(AZ32,'Comprendre la codification'!$D$223:$F$301,3,FALSE)","v":76}]
[null,null,null,null,null,null,"PMCB","B_42","Structure, maçonnerie, gros oeuvre, charpente","Divers produits et matériaux de structure et charpente",{"$f":"VLOOKUP(J33,'Comprendre la codification'!$E$49:$F$216,2,FALSE)","v":336},null,null,null,null,"MAT_5","5 - Plastique, matériaux et fibres synthétiques","Eléments contenant du latex","Latex",{"$f":"VLOOKUP(R33,'Comprendre la codification'!$D$219:$F$301,3,FALSE)","v":10},null,null,"Assemblage verre à plus de 50% avec bois ou dérivés de bois",{"$f":"VLOOKUP(W33,R:T,3,FALSE)","v":72},null,null,null,null,"Tranches","€ / unité","Compris entre 25 kg et 30 kg exclus",{"$f":"VLOOKUP(AE33,'Comprendre la codification'!$E$314:$F$363,2,FALSE)","v":"059"},null,"B_318","Eléments de toutes dimensions et poids","€ / Tonne","DimT",null,null,null,null,null,null,null,null,null,null,null,null,null,null,"Cat8"]
[null,null,null,null,null,null,"PMCB","B_43","Couverture et étanchéité","Eléments de couverture",{"$f":"VLOOKUP(J34,'Comprendre la codification'!$E$49:$F$216,2,FALSE)","v":345},null,null,null,null,"MAT_5","5 - Plastique, matériaux et fibres synthétiques","Assemblage caoutchouc synthétique ou latex >50% avec d'autres matériaux","Caoutchouc, latex avec d'autres matériaux synthétiques, du bois, du métal …",{"$f":"VLOOKUP(R34,'Comprendre la codification'!$D$219:$F$301,3,FALSE)","v":40},null,null,"Assemblage verre à plus de 50% avec Inerte",{"$f":"VLOOKUP(W34,R:T,3,FALSE)","v":71},null,null,null,null,"Tranches","€ / unité","Compris entre 30 kg et 40 kg exclus",{"$f":"VLOOKUP(AE34,'Comprendre la codification'!$E$314:$F$363,2,FALSE)","v":"027"},null,"B_321","Eléments de toutes dimensions et poids","€ / Tonne","DimT",null,null,null,null,null,null,null,null,null,null,null,null,null,"77","Laines de roche à plus de 90 %",{"$f":"VLOOKUP(AZ34,'Comprendre la codification'!$D$223:$F$301,3,FALSE)","v":77}]
[null,null,null,null,null,null,"PMCB","B_43","Couverture et étanchéité","Produits d'étanchéité et d'imperméabilisation",{"$f":"VLOOKUP(J35,'Comprendre la codification'!$E$49:$F$216,2,FALSE)","v":346},null,null,null,null,"MAT_5","5 - Plastique, matériaux et fibres synthétiques","Matériaux ou fibres synthétiques >90%","Polyamides, nylon, polyester (PES) et polyterephtalate d'Ethylène (PET), viscose, polyester, élastane, mousses …",{"$f":"VLOOKUP(R35,'Comprendre la codification'!$D$219:$F$301,3,FALSE)","v":65},null,null,"Assemblage verre à plus de 50% avec métal",{"$f":"VLOOKUP(W35,R:T,3,FALSE)","v":70},null,null,null,null,"Tranches","€ / unité","Compris entre 40 kg et 50 kg exclus",{"$f":"VLOOKUP(AE35,'Comprendre la codification'!$E$314:$F$363,2,FALSE)","v":"060"},null,"B_330","Eléments de toutes dimensions et poids","€ / Tonne","DimT",null,null,null,null,null,null,null,null,null,null,null,null,null,"78","Laine de verre à plus de 90 %",{"$f":"VLOOKUP(AZ35,'Comprendre la codification'!$D$223:$F$301,3,FALSE)","v":78}]
[null,null,null,null,null,null,"PMCB","B_43","Couverture et étanchéité","Divers élements de couverture et étanchéité (hors droguerie)",{"$f":"VLOOKUP(J36,'Comprendre la codification'!$E$49:$F$216,2,FALSE)","v":349},null,null,null,null,"MAT_5","5 - Plastique, matériaux et fibres synthétiques","Textile et rembourrage en polyester >90%","Polyester",{"$f":"VLOOKUP(R36,'Comprendre la codification'!$D$219:$F$301,3,FALSE)","v":66},null,null,"Assemblage verre à plus de 50% avec plastique",{"$f":"VLOOKUP(W36,R:T,3,FALSE)","v":73},null,null,null,null,"Tranches","€ / unité","Compris entre 50 kg et 100 kg exclus",{"$f":"VLOOKUP(AE36,'Comprendre la codification'!$E$314:$F$363,2,FALSE)","v":"088"},null,"B_331","Eléments de toutes dimensions et poids","€ / Tonne","DimT",null,null,null,null,null,null,null,null,null,null,null,null,null,"79","Assemblage de laines de verre ou laines de roches à plus de 50% et d'autres matériaux",{"$f":"VLOOKUP(AZ36,'Comprendre la codification'!$D$223:$F$301,3,FALSE)","v":79}]
[null,null,null,null,null,null,"PMCB",{"$f":"\"B_\"&VLOOKUP(I37,$D$3:$E$19,2,FALSE)","v":"B_44"},"Cloisonnement, plafonds","Cloisons (hors plâtre et isolation)",{"$f":"VLOOKUP(J37,'Comprendre la codification'!$E$49:$F$216,2,FALSE)","v":355},null,null,null,null,"MAT_5","5 - Plastique, matériaux et fibres synthétiques","Eléments contenant de la mousse",null,{"$f":"VLOOKUP(R37,'Comprendre la codification'!$D$219:$F$301,3,FALSE)","v":"09"},null,null,"Verre >90%",{"$f":"VLOOKUP(W37,R:T,3,FALSE)","v":68},null,null,null,null,"Tranches","€ / unité","Compris entre 100 kg et 150 kg exclus",{"$f":"VLOOKUP(AE37,'Comprendre la codification'!$E$314:$F$363,2,FALSE)","v":"030"},null,"B_332","Eléments de toutes dimensions et poids","€ / Tonne","DimT",null,null,null,null,null,null,null,null,null,null,null,null,null,null,"Cat9"]
[null,null,null,null,null,null,"PMCB","B_44","Cloisonnement, plafonds","Ossatures métalliques",{"$f":"VLOOKUP(J38,'Comprendre la codification'!$E$49:$F$216,2,FALSE)","v":356},null,null,null,null,"MAT_5","5 - Plastique, matériaux et fibres synthétiques","Eléments textiles contenant des ressorts",null,{"$f":"VLOOKUP(R38,'Comprendre la codification'!$D$219:$F$301,3,FALSE)","v":11},null,null,"Autre matériau majoritaire",{"$f":"VLOOKUP(W38,R:T,3,FALSE)","v":12},null,null,null,null,"Tranches","€ / unité","Compris entre 150 kg et 200 kg exclus",{"$f":"VLOOKUP(AE38,'Comprendre la codification'!$E$314:$F$363,2,FALSE)","v":"031"},null,"B_333","Eléments de toutes dimensions et poids","€ / Tonne","DimT",null,null,null,null,null,null,null,null,null,null,null,null,null,"80","Membranes bitumineuses à plus de 90 %",{"$f":"VLOOKUP(AZ38,'Comprendre la codification'!$D$223:$F$301,3,FALSE)","v":80}]
[null,null,null,null,null,null,"PMCB","B_44","Cloisonnement, plafonds","Plafonds suspendus, plafonds tendus",{"$f":"VLOOKUP(J39,'Comprendre la codification'!$E$49:$F$216,2,FALSE)","v":357},null,null,null,null,"MAT_5","5 - Plastique, matériaux et fibres synthétiques","Assemblage matériaux ou fibres synthétiques >50% avec d'autres matériaux","Assemblage de matériaux et textiles synthétiques avec du métal, du bois …",{"$f":"VLOOKUP(R39,'Comprendre la codification'!$D$219:$F$301,3,FALSE)","v":67},null,null,"Non connu ou non spécifié par l'entreprise",{"$f":"VLOOKUP(W39,R:T,3,FALSE)","v":"00"},null,null,null,null,"Tranches","€ / unité","Compris entre 200 kg et 250 kg exclus",{"$f":"VLOOKUP(AE39,'Comprendre la codification'!$E$314:$F$363,2,FALSE)","v":"032"},null,"B_336","Eléments de toutes dimensions et poids","€ / Tonne","DimT",null,null,null,null,null,null,null,null,null,null,null,null,null,null,"Cat10"]
[null,null,null,null,null,null,"PMCB","B_44","Cloisonnement, plafonds","Divers produits de cloisonnement et plafonds",{"$f":"VLOOKUP(J40,'Comprendre la codification'!$E$49:$F$216,2,FALSE)","v":360},null,null,null,null,null,null,null,null,null,null,null,"B_310",null,null,null,null,null,"Tranches","€ / unité","supérieur à 250 kg",{"$f":"VLOOKUP(AE40,'Comprendre la codification'!$E$314:$F$363,2,FALSE)","v":"082"},null,"B_345","Eléments de toutes dimensions et poids","€ / Tonne","DimT",null,null,null,null,null,null,null,null,null,null,null,null,null,"82","Assemblage de 3 matériaux ou plus sans un matériau à plus de 50%",{"$f":"VLOOKUP(AZ40,'Comprendre la codification'!$D$223:$F$301,3,FALSE)","v":82}]
[null,null,null,null,null,null,"PMCB","B_44","Cloisonnement, plafonds","Eléments en plâtre pour cloisons, plafonds",{"$f":"VLOOKUP(J41,'Comprendre la codification'!$E$49:$F$216,2,FALSE)","v":361},null,null,null,null,"MAT_6","6 - Verre et parois vitrées","Verre >90%","Verre plat, brique de verre …",{"$f":"VLOOKUP(R41,'Comprendre la codification'!$D$219:$F$301,3,FALSE)","v":68},null,null,"ABS >90%",{"$f":"VLOOKUP(W41,R:T,3,FALSE)","v":46},null,null,null,null,"Tranches","€ / m2","épaisseur du panneau <= 10mm",{"$f":"VLOOKUP(AE41,'Comprendre la codification'!$E$314:$F$363,2,FALSE)","v":"112"},null,"B_345F","Eléments de toutes dimensions et poids","€ / m2","Dim_2",null,null,null,null,null,null,null,null,null,null,null,null,null,"00","Non connu ou non spécifié par l'entreprise",{"$f":"VLOOKUP(AZ41,'Comprendre la codification'!$D$223:$F$301,3,FALSE)","v":"00"}]
[null,null,null,null,null,null,"PMCB","B_45","Isolation thermique et acoustique","Laines, mousse, fibres isolantes",{"$f":"VLOOKUP(J42,'Comprendre la codification'!$E$49:$F$216,2,FALSE)","v":370},null,null,null,null,"MAT_6","6 - Verre et parois vitrées","Assemblage verre à plus de 50% avec métal","Assemblage de verre avec des métaux",{"$f":"VLOOKUP(R42,'Comprendre la codification'!$D$219:$F$301,3,FALSE)","v":70},null,null,"Adjuvants >90%",{"$f":"VLOOKUP(W42,R:T,3,FALSE)","v":93},null,null,null,null,"Tranches","€ / m2","10mm < épaisseur du panneau <= 15mm",{"$f":"VLOOKUP(AE42,'Comprendre la codification'!$E$314:$F$363,2,FALSE)","v":"113"},null,"B_346","Eléments de toutes dimensions et poids","€ / Tonne","DimT",null,null,null,null,null,null,null,null,null,null,null,null,null,null,"Cat11"]
[null,null,null,null,null,null,"PMCB","B_45","Isolation thermique et acoustique","Eléments spéciaux d'isolation",{"$f":"VLOOKUP(J43,'Comprendre la codification'!$E$49:$F$216,2,FALSE)","v":371},null,null,null,null,"MAT_6","6 - Verre et parois vitrées","Assemblage verre à plus de 50% avec Inerte","Assemblage de verre avec de l'inerte",{"$f":"VLOOKUP(R43,'Comprendre la codification'!$D$219:$F$301,3,FALSE)","v":71},null,null,"Assemblage avec métal >50% et autres matériaux",{"$f":"VLOOKUP(W43,R:T,3,FALSE)","v":"02"},null,null,null,null,"Tranches","€ / m2","15mm < épaisseur du panneau <= 22mm",{"$f":"VLOOKUP(AE43,'Comprendre la codification'!$E$314:$F$363,2,FALSE)","v":"114"},null,"B_346F","Eléments de toutes dimensions et poids","€ / m2","Dim_2",null,null,null,null,null,null,null,null,null,null,null,null,null,"465","Sous-couches, préparation des sols et étanchéité",{"$f":"VLOOKUP(AZ43,'Comprendre la codification'!$E$172:$F$191,2,FALSE)","v":465}]
[null,null,null,null,null,null,"PMCB","B_46","Menuiseries intérieures et extérieures, fermetures","Portes (intérieures, coulissantes, entrée, garage, de service, technique,...)",{"$f":"VLOOKUP(J44,'Comprendre la codification'!$E$49:$F$216,2,FALSE)","v":380},null,null,null,null,"MAT_6","6 - Verre et parois vitrées","Assemblage verre à plus de 50% avec bois ou dérivés de bois","Assemblage de verre avec du bois ou des matériaux biosourcés",{"$f":"VLOOKUP(R44,'Comprendre la codification'!$D$219:$F$301,3,FALSE)","v":72},null,null,"Assemblage caoutchouc synthétique ou latex >50% avec d'autres matériaux",{"$f":"VLOOKUP(W44,R:T,3,FALSE)","v":40},null,null,null,null,"Tranches","€ / m2","épaisseur du panneau > 22mm",{"$f":"VLOOKUP(AE44,'Comprendre la codification'!$E$314:$F$363,2,FALSE)","v":"115"},null,"B_349","Eléments de toutes dimensions et poids","€ / Tonne","DimT",null,null,null,null,null,null,null,null,null,null,null,null,null,"467","Traitements des murs et toitures",{"$f":"VLOOKUP(AZ44,'Comprendre la codification'!$E$172:$F$191,2,FALSE)","v":467}]
[null,null,null,null,null,null,"PMCB","B_46","Menuiseries intérieures et extérieures, fermetures","Fenêtres, portes fenêtres, fenêtres de toit et leurs accessoires hors fermetures",{"$f":"VLOOKUP(J45,'Comprendre la codification'!$E$49:$F$216,2,FALSE)","v":381},null,null,null,null,"MAT_6","6 - Verre et parois vitrées","Assemblage verre à plus de 50% avec plastique","Assemblage de verre avec du plastique",{"$f":"VLOOKUP(R45,'Comprendre la codification'!$D$219:$F$301,3,FALSE)","v":73},null,null,"Assemblage de 3 matériaux ou plus sans un matériau à plus de 50%",{"$f":"VLOOKUP(W45,R:T,3,FALSE)","v":82},null,null,null,null,"Tranches","€ / m2","épaisseur <= 100mm",{"$f":"VLOOKUP(AE45,'Comprendre la codification'!$E$314:$F$363,2,FALSE)","v":"116"},null,"B_349F","Eléments de toutes dimensions et poids","€ / m2","Dim_2",null,null,null,null,null,null,null,null,null,null,null,null,null,"468","Peintures intérieures",{"$f":"VLOOKUP(AZ45,'Comprendre la codification'!$E$172:$F$191,2,FALSE)","v":468}]
[null,null,null,null,null,null,"PMCB","B_46","Menuiseries intérieures et extérieures, fermetures","Volets, volets roulants, persiennes, stores, brise-soleil",{"$f":"VLOOKUP(J46,'Comprendre la codification'!$E$49:$F$216,2,FALSE)","v":382},null,null,null,null,"MAT_6","6 - Verre et parois vitrées","Miroir >90%","Miroir",{"$f":"VLOOKUP(R46,'Comprendre la codification'!$D$219:$F$301,3,FALSE)","v":69},null,null,"Assemblage de bois, dérivés de bois à plus de 50% avec d'autres matériaux ou bois composite (hors verre)",{"$f":"VLOOKUP(W46,R:T,3,FALSE)","v":"01"},null,null,null,null,"Tranches","€ / m2","épaisseur > 100mm",{"$f":"VLOOKUP(AE46,'Comprendre la codification'!$E$314:$F$363,2,FALSE)","v":"117"},null,"B_355","Eléments de toutes dimensions et poids","€ / Tonne","DimT",null,null,null,null,null,null,null,null,null,null,null,null,null,"469","Colles et adhésifs",{"$f":"VLOOKUP(AZ46,'Comprendre la codification'!$E$172:$F$191,2,FALSE)","v":469}]
[null,null,null,null,null,null,"PMCB","B_46","Menuiseries intérieures et extérieures, fermetures","Escaliers intérieurs et extérieurs",{"$f":"VLOOKUP(J47,'Comprendre la codification'!$E$49:$F$216,2,FALSE)","v":383},null,null,null,null,null,null,null,null,null,null,null,"Assemblage de laines de verre ou laines de roches à plus de 50% et d'autres matériaux",{"$f":"VLOOKUP(W47,R:T,3,FALSE)","v":79},null,null,null,null,null,null,null,null,null,"B_356","Eléments de toutes dimensions et poids","€ / Tonne","DimT",null,null,null,null,null,null,null,null,null,null,null,null,null,"483","Résines PU et expansive (aérosol)",{"$f":"VLOOKUP(AZ47,'Comprendre la codification'!$E$172:$F$191,2,FALSE)","v":483}]
[null,null,null,null,null,null,"PMCB","B_46","Menuiseries intérieures et extérieures, fermetures","Garde-corps, balustres et accessoires d'escaliers",{"$f":"VLOOKUP(J48,'Comprendre la codification'!$E$49:$F$216,2,FALSE)","v":384},null,null,null,null,"MAT_7","7 - Plâtre","Plâtre >90%","Matière en plâtre, plaque de plâtre (placo) et fibre gypse",{"$f":"VLOOKUP(R48,'Comprendre la codification'!$D$219:$F$301,3,FALSE)","v":75},null,null,"Assemblage matériaux ou fibres synthétiques >50% avec d'autres matériaux",{"$f":"VLOOKUP(W48,R:T,3,FALSE)","v":67},null,null,null,null,null,null,null,null,null,"B_357","Eléments de toutes dimensions et poids","€ / Tonne","DimT",null,null,null,null,null,null,null,null,null,null,null,null,null,"470","Mastic, joints et mousses polyuréthanes",{"$f":"VLOOKUP(AZ48,'Comprendre la codification'!$E$172:$F$191,2,FALSE)","v":470}]
[null,null,null,null,null,null,"PMCB","B_46","Menuiseries intérieures et extérieures, fermetures","Fenêtre et porte fenêtre (cadre en bois)",{"$f":"VLOOKUP(J49,'Comprendre la codification'!$E$49:$F$216,2,FALSE)","v":385},null,null,null,null,"MAT_7","7 - Plâtre","Plâtre >50%","Elément composé majoritaitement de plâtre et associé à d'autres matériaux",{"$f":"VLOOKUP(R49,'Comprendre la codification'!$D$219:$F$301,3,FALSE)","v":76},null,null,"Assemblage verre à plus de 50% avec bois ou dérivés de bois",{"$f":"VLOOKUP(W49,R:T,3,FALSE)","v":72},null,null,null,null,"Spécifiques produit","€ / m2","Fenêtre <= 1,5 m²",{"$f":"VLOOKUP(AE49,'Comprendre la codification'!$E$314:$F$363,2,FALSE)","v":500},null,"B_360","Eléments de toutes dimensions et poids","€ / Tonne","DimT",null,null,null,null,null,null,null,null,null,null,null,null,null,"471","Adjuvants",{"$f":"VLOOKUP(AZ49,'Comprendre la codification'!$E$172:$F$191,2,FALSE)","v":471}]
[null,null,null,null,null,null,"PMCB","B_46","Menuiseries intérieures et extérieures, fermetures","Fenêtre et porte fenêtre (cadre en métal)",{"$f":"VLOOKUP(J50,'Comprendre la codification'!$E$49:$F$216,2,FALSE)","v":386},null,null,null,null,null,null,null,null,null,null,null,"Assemblage verre à plus de 50% avec Inerte",{"$f":"VLOOKUP(W50,R:T,3,FALSE)","v":71},null,null,null,null,"Spécifiques produit","€ / m2","1,5m² < Fenêtre < 3,5 m²",{"$f":"VLOOKUP(AE50,'Comprendre la codification'!$E$314:$F$363,2,FALSE)","v":501},null,"B_361","Eléments de toutes dimensions et poids","€ / Tonne","DimT",null,null,null,null,null,null,null,null,null,null,null,null,null,"472","Traitements bois",{"$f":"VLOOKUP(AZ50,'Comprendre la codification'!$E$172:$F$191,2,FALSE)","v":472}]
[null,null,null,null,null,null,"PMCB","B_46","Menuiseries intérieures et extérieures, fermetures","Fenêtre et porte fenêtre (cadre en PVC)",{"$f":"VLOOKUP(J51,'Comprendre la codification'!$E$49:$F$216,2,FALSE)","v":387},null,null,null,null,"MAT_8","8 - Laines de verre et laines de roches","Laines de roche à plus de 90 %","Matière isolante fabriquée à partir d'un matériau naturel issu de l'activité volcanique",{"$f":"VLOOKUP(R51,'Comprendre la codification'!$D$219:$F$301,3,FALSE)","v":77},null,null,"Assemblage verre à plus de 50% avec métal",{"$f":"VLOOKUP(W51,R:T,3,FALSE)","v":70},null,null,null,null,"Spécifiques produit","€ / m2","Fenêtre >= 3,5 m²",{"$f":"VLOOKUP(AE51,'Comprendre la codification'!$E$314:$F$363,2,FALSE)","v":502},null,"B_361F","<13mm","€ / m2","Cloison",null,null,null,null,null,null,null,null,null,null,null,null,null,"485","Traitement des matériaux  (aérosol)",{"$f":"VLOOKUP(AZ51,'Comprendre la codification'!$E$172:$F$191,2,FALSE)","v":485}]
[null,null,null,null,null,null,"PMCB","B_46","Menuiseries intérieures et extérieures, fermetures","Fenêtres, portes fenêtres, fenêtres de toit et leurs accessoires hors quincailleries",{"$f":"VLOOKUP(J52,'Comprendre la codification'!$E$49:$F$216,2,FALSE)","v":388},null,null,null,null,"MAT_8","8 - Laines de verre et laines de roches","Laine de verre à plus de 90 %","Matière composée de fils de verre, utilisé comme filtrant ou isolant",{"$f":"VLOOKUP(R52,'Comprendre la codification'!$D$219:$F$301,3,FALSE)","v":78},null,null,"Assemblage verre à plus de 50% avec plastique",{"$f":"VLOOKUP(W52,R:T,3,FALSE)","v":73},null,null,null,null,"Spécifiques produit","€ / Unité","Radiateur < 1 mètre (plus grande largeur ou hauteur)",{"$f":"VLOOKUP(AE52,'Comprendre la codification'!$E$314:$F$363,2,FALSE)","v":510},null,"B_361F",">= 13mm","€ / m2","Cloison",null,null,null,null,null,null,null,null,null,null,null,null,null,"486","Traitement des matériaux hors bois ",{"$f":"VLOOKUP(AZ52,'Comprendre la codification'!$E$172:$F$191,2,FALSE)","v":486}]
[null,null,null,null,null,null,"PMCB","B_46","Menuiseries intérieures et extérieures, fermetures","Portail",{"$f":"VLOOKUP(J53,'Comprendre la codification'!$E$49:$F$216,2,FALSE)","v":389},null,null,null,null,"MAT_8","8 - Laines de verre et laines de roches","Assemblage de laines de verre ou laines de roches à plus de 50% et d'autres matériaux","Elément composé majoritaitement de laine minérale",{"$f":"VLOOKUP(R53,'Comprendre la codification'!$D$219:$F$301,3,FALSE)","v":79},null,null,"Béton >90%",{"$f":"VLOOKUP(W53,R:T,3,FALSE)","v":74},null,null,null,null,"Spécifiques produit","€ / Unité","Radiateur > 1 mètre (plus grande largeur ou hauteur)",{"$f":"VLOOKUP(AE53,'Comprendre la codification'!$E$314:$F$363,2,FALSE)","v":511},null,"B_370","Eléments de toutes dimensions et poids","€ / Tonne","DimT",null,null,null,null,null,null,null,null,null,null,null,null,null,"473","Vernis et vitrificateurs",{"$f":"VLOOKUP(AZ53,'Comprendre la codification'!$E$172:$F$191,2,FALSE)","v":473}]
[null,null,null,null,null,null,"PMCB","B_46","Menuiseries intérieures et extérieures, fermetures","Portes : Huisserie bois",{"$f":"VLOOKUP(J54,'Comprendre la codification'!$E$49:$F$216,2,FALSE)","v":390},null,null,null,null,null,null,null,null,null,null,null,"Caoutchouc naturel >50%",{"$f":"VLOOKUP(W54,R:T,3,FALSE)","v":64},null,null,null,null,null,null,null,null,null,"B_370G","Eléments de toutes dimensions et poids","€ / m3","Isolant3",null,null,null,null,null,null,null,null,null,null,null,null,null,"487","Vernis et vitrificateurs et dérivés (aérosols)",{"$f":"VLOOKUP(AZ54,'Comprendre la codification'!$E$172:$F$191,2,FALSE)","v":487}]
[null,null,null,null,null,null,"PMCB","B_46","Menuiseries intérieures et extérieures, fermetures","Portes : Huisserie métallique",{"$f":"VLOOKUP(J55,'Comprendre la codification'!$E$49:$F$216,2,FALSE)","v":391},null,null,null,null,"MAT_9","9 - Membranes bitumineuses","Membranes bitumineuses à plus de 90 %","Membrane d'étanchéité synthétique",{"$f":"VLOOKUP(R55,'Comprendre la codification'!$D$219:$F$301,3,FALSE)","v":80},null,null,"Caoutchouc naturel >90%",{"$f":"VLOOKUP(W55,R:T,3,FALSE)","v":63},null,null,null,null,"Spécifiques Ecominero","€ / Tonne","Pulvérulent",600,null,"B_370F","épaisseur <= 100mm","€ / m2","Isolant",null,null,null,null,null,null,null,null,null,null,null,null,null,"481","Enduits poudre",{"$f":"VLOOKUP(AZ55,'Comprendre la codification'!$E$172:$F$191,2,FALSE)","v":481}]
[null,null,null,null,null,null,"PMCB","B_46","Menuiseries intérieures et extérieures, fermetures","Portes : Huisserie PVC",{"$f":"VLOOKUP(J56,'Comprendre la codification'!$E$49:$F$216,2,FALSE)","v":392},null,null,null,null,null,null,null,null,null,null,null,"Caoutchouc synthétique >90%",{"$f":"VLOOKUP(W56,R:T,3,FALSE)","v":49},null,null,null,null,"Spécifiques Ecominero","€ / m3","Béton prêt à l'emploi >90%",601,null,"B_370F","épaisseur > 100mm","€ / m2","Isolant",null,null,null,null,null,null,null,null,null,null,null,null,null,"480","Enduits pate",{"$f":"VLOOKUP(AZ56,'Comprendre la codification'!$E$172:$F$191,2,FALSE)","v":480}]
[null,null,null,null,null,null,"PMCB","B_46","Menuiseries intérieures et extérieures, fermetures","Portes : Trappes en bois",{"$f":"VLOOKUP(J57,'Comprendre la codification'!$E$49:$F$216,2,FALSE)","v":393},null,null,null,null,"MAT_10","10 - Autres mix matériaux ou matériaux non classés ou non spécifiés","Assemblage dont la composition conjointe en bois, dérivés de bois et en métal dépasse 90%",null,{"$f":"VLOOKUP(R57,'Comprendre la codification'!$D$219:$F$301,3,FALSE)","v":81},null,null,"Dérivés de bois >90%",{"$f":"VLOOKUP(W57,R:T,3,FALSE)","v":62},null,null,null,null,"Spécifiques Ecominero","€ / Tonne","Divers jardin",602,null,"B_371","Eléments de toutes dimensions et poids","€ / Tonne","DimT"]
[null,null,null,null,null,null,"PMCB","B_46","Menuiseries intérieures et extérieures, fermetures","Portes : Trappes en métal",{"$f":"VLOOKUP(J58,'Comprendre la codification'!$E$49:$F$216,2,FALSE)","v":394},null,null,null,null,"MAT_10","10 - Autres mix matériaux ou matériaux non classés ou non spécifiés","Assemblage de 3 matériaux ou plus sans un matériau à plus de 50%","Elément composé de parties en matériaux divers avec souvent mais non exclusivement une partie de plastique ou de textile synthétique",{"$f":"VLOOKUP(R58,'Comprendre la codification'!$D$219:$F$301,3,FALSE)","v":82},null,null,"Laine de verre à plus de 90 %",{"$f":"VLOOKUP(W58,R:T,3,FALSE)","v":78},null,null,null,null,"Spécifiques Ecominero","€ / Tonne","Premix",603,null,"B_380","Eléments de toutes dimensions et poids","€ / Tonne","DimT"]
[null,null,null,null,null,null,"PMCB","B_46","Menuiseries intérieures et extérieures, fermetures","Portes : Trappes en PVC",{"$f":"VLOOKUP(J59,'Comprendre la codification'!$E$49:$F$216,2,FALSE)","v":395},null,null,null,null,"MAT_10","10 - Autres mix matériaux ou matériaux non classés ou non spécifiés","Autre matériau majoritaire","Autre matériau majoritaire",{"$f":"VLOOKUP(R59,'Comprendre la codification'!$D$219:$F$301,3,FALSE)","v":12},null,null,"Laines de roche à plus de 90 %",{"$f":"VLOOKUP(W59,R:T,3,FALSE)","v":77},null,null,null,null,"Spécifiques Ecominero","€ / Tonne","Non pulvérulent",604,null,"B_380F","Eléments de toutes dimensions et poids","€ / Unité","DimU"]
[null,null,null,null,null,null,"PMCB","B_46","Menuiseries intérieures et extérieures, fermetures","Portes : vantail porte alvéolaire",{"$f":"VLOOKUP(J60,'Comprendre la codification'!$E$49:$F$216,2,FALSE)","v":396},null,null,null,null,"MAT_10","10 - Autres mix matériaux ou matériaux non classés ou non spécifiés","Non connu ou non spécifié par l'entreprise","Non connu ou non spécifié par l'entreprise",{"$f":"VLOOKUP(R60,'Comprendre la codification'!$D$219:$F$301,3,FALSE)","v":"00"},null,null,"Massif et assimilés >90%",{"$f":"VLOOKUP(W60,R:T,3,FALSE)","v":53},null,null,null,null,null,null,null,null,null,"B_381","Eléments de toutes dimensions et poids","€ / Tonne","DimT"]
[null,null,null,null,null,null,"PMCB","B_46","Menuiseries intérieures et extérieures, fermetures","Portes : vantail porte en bois ",{"$f":"VLOOKUP(J61,'Comprendre la codification'!$E$49:$F$216,2,FALSE)","v":397},null,null,null,null,null,null,null,null,null,null,null,"Matériaux bio sourcés ou textiles non synthétiques >50%",{"$f":"VLOOKUP(W61,R:T,3,FALSE)","v":"04"},null,null,null,null,null,null,null,null,null,"B_381F","Eléments de toutes dimensions et poids","€ / Unité","Fen"]
[null,null,null,null,null,null,"PMCB","B_46","Menuiseries intérieures et extérieures, fermetures","Portes : vantail porte en métal",{"$f":"VLOOKUP(J62,'Comprendre la codification'!$E$49:$F$216,2,FALSE)","v":398},null,null,null,null,"MAT_11","11 - Mortiers, enduits, peintures, vernis, résines, produits de préparation","Produits liquides, y.c. dangereux >90%","Sous couches, préparation des sols et étanchéité, Peintures extérieures, Traitement des sols et toitures, Peintures intérieures, Colles et adhésifs, Résines PU et expansive (aérosol), Mastics, joints et mousses PU, Adjuvants, Traitement des bois, Traitement des matériaux  (aérosol), Traitement des matériaux hors bois, Vernis et vitrificateurs et dérivés, Vernis et vitrificateurs et dérivés (aérosols), Enduits poudre, Enduits pate",{"$f":"VLOOKUP(R62,'Comprendre la codification'!$D$219:$F$301,3,FALSE)","v":83},null,null,"Matériaux bio sourcés ou textiles non synthétiques >90%",{"$f":"VLOOKUP(W62,R:T,3,FALSE)","v":55},null,null,null,null,null,null,null,null,null,"B_382","Eléments de toutes dimensions et poids","€ / Tonne","DimT"]
[null,null,null,null,null,null,"PMCB","B_46","Menuiseries intérieures et extérieures, fermetures","Portes : vantail porte en PVC",{"$f":"VLOOKUP(J63,'Comprendre la codification'!$E$49:$F$216,2,FALSE)","v":399},null,null,null,null,null,null,null,null,null,null,null,"Matériaux ou fibres synthétiques >90%",{"$f":"VLOOKUP(W63,R:T,3,FALSE)","v":65},null,null,null,null,null,null,null,null,null,"B_383","Eléments de toutes dimensions et poids","€ / Tonne","DimT"]
[null,null,null,null,null,null,"PMCB","B_46","Menuiseries intérieures et extérieures, fermetures","Portes : vantail porte en verre (>90%)",{"$f":"VLOOKUP(J64,'Comprendre la codification'!$E$49:$F$216,2,FALSE)","v":400},null,null,null,null,"MAT_12","12 - Matériaux inertes","Assemblage de matériaux avec de l'inerte >50%",null,{"$f":"VLOOKUP(R64,'Comprendre la codification'!$D$219:$F$301,3,FALSE)","v":"08"},null,null,"Membranes bitumineuses à plus de 90 %",{"$f":"VLOOKUP(W64,R:T,3,FALSE)","v":80},null,null,null,null,null,null,null,null,null,"B_383F","Eléments de toutes dimensions et poids","€ / Unité","DimU"]
[null,null,null,null,null,null,"PMCB","B_46","Menuiseries intérieures et extérieures, fermetures","Portes : vantail porte vitrée",{"$f":"VLOOKUP(J65,'Comprendre la codification'!$E$49:$F$216,2,FALSE)","v":401},null,null,null,null,"MAT_12","12 - Matériaux inertes","Composites et autres matériaux minéraux reconstitués >50%",null,{"$f":"VLOOKUP(R65,'Comprendre la codification'!$D$219:$F$301,3,FALSE)","v":15},null,null,"Métal >90%",{"$f":"VLOOKUP(W65,R:T,3,FALSE)","v":28},null,null,null,null,null,null,null,null,null,"B_384","Eléments de toutes dimensions et poids","€ / Tonne","DimT"]
[null,null,null,null,null,null,"PMCB","B_46","Menuiseries intérieures et extérieures, fermetures","Portes : Trappes autres",{"$f":"VLOOKUP(J66,'Comprendre la codification'!$E$49:$F$216,2,FALSE)","v":402},null,null,null,null,"MAT_12","12 - Matériaux inertes","Ardoise >90%","Ardoise",{"$f":"VLOOKUP(R66,'Comprendre la codification'!$D$219:$F$301,3,FALSE)","v":84},null,null,"Miroir >90%",{"$f":"VLOOKUP(W66,R:T,3,FALSE)","v":69},null,null,null,null,null,null,null,null,null,"B_385","Fenêtre <= 1,5 m²","€ / m2","Fen"]
[null,null,null,null,null,null,"PMCB","B_46","Menuiseries intérieures et extérieures, fermetures","Portes : vantail autres",{"$f":"VLOOKUP(J67,'Comprendre la codification'!$E$49:$F$216,2,FALSE)","v":403},null,null,null,null,"MAT_12","12 - Matériaux inertes","Granulats hors pierre >90%","Matière minérale de petite taille (granulats, gravillons, sable, grave, gravier, moellon, concassé, …) hors pierre",{"$f":"VLOOKUP(R67,'Comprendre la codification'!$D$219:$F$301,3,FALSE)","v":85},null,null,"Panneaux de particules ou OSB >90%",{"$f":"VLOOKUP(W67,R:T,3,FALSE)","v":61},null,null,null,null,null,null,null,null,null,"B_385","1,5m² < Fenêtre < 3,5 m²","€ / m2","Fen"]
[null,null,null,null,null,null,"PMCB","B_46","Menuiseries intérieures et extérieures, fermetures","Volet battant (bois à plus de 90 %)",{"$f":"VLOOKUP(J68,'Comprendre la codification'!$E$49:$F$216,2,FALSE)","v":404},null,null,null,null,"MAT_12","12 - Matériaux inertes","Pierre calcaire >90%","Matière minérale de grosse taille, hors granulats, gravillons, sable et hors pierres spécifiques comme l'ardoise",{"$f":"VLOOKUP(R68,'Comprendre la codification'!$D$219:$F$301,3,FALSE)","v":86},null,null,"Papier carton >50% avec d'autres matériaux (hors verre)",{"$f":"VLOOKUP(W68,R:T,3,FALSE)","v":"19"},null,null,null,null,null,null,null,null,null,"B_385","Fenêtre >= 3,5 m²","€ / m2","Fen"]
[null,null,null,null,null,null,"PMCB","B_46","Menuiseries intérieures et extérieures, fermetures","Volet battant (métal à plus de 90 %)",{"$f":"VLOOKUP(J69,'Comprendre la codification'!$E$49:$F$216,2,FALSE)","v":405},null,null,null,null,"MAT_12","12 - Matériaux inertes","Lave >90%",null,{"$f":"VLOOKUP(R69,'Comprendre la codification'!$D$219:$F$301,3,FALSE)","v":87},null,null,"PE ou PP ou mélange PP/PE >90%",{"$f":"VLOOKUP(W69,R:T,3,FALSE)","v":45},null,null,null,null,null,null,null,null,null,"B_385F","Eléments de toutes dimensions et poids","€ / Unité","DimU"]
[null,null,null,null,null,null,"PMCB","B_46","Menuiseries intérieures et extérieures, fermetures","Volet battant (PVC à plus de 90 %)",{"$f":"VLOOKUP(J70,'Comprendre la codification'!$E$49:$F$216,2,FALSE)","v":406},null,null,null,null,"MAT_12","12 - Matériaux inertes","Mélange bitumineux >90%","Matière liquide à base de bitume",{"$f":"VLOOKUP(R70,'Comprendre la codification'!$D$219:$F$301,3,FALSE)","v":88},null,null,"Plastiques (mono résine) >90%",{"$f":"VLOOKUP(W70,R:T,3,FALSE)","v":41},null,null,null,null,null,null,null,null,null,"B_386","Fenêtre <= 1,5 m²","€ / m2","Fen"]
[null,null,null,null,null,null,"PMCB","B_46","Menuiseries intérieures et extérieures, fermetures","Volet roulant",{"$f":"VLOOKUP(J71,'Comprendre la codification'!$E$49:$F$216,2,FALSE)","v":407},null,null,null,null,"MAT_12","12 - Matériaux inertes","Terre cuite ou crue >90%","Matière terre cuite",{"$f":"VLOOKUP(R71,'Comprendre la codification'!$D$219:$F$301,3,FALSE)","v":89},null,null,"Plastiques ou autres matériaux synthétiques >50%",{"$f":"VLOOKUP(W71,R:T,3,FALSE)","v":"05"},null,null,null,null,null,null,null,null,null,"B_386","1,5m² < Fenêtre < 3,5 m²","€ / m2","Fen"]
[null,null,null,null,null,null,"PMCB","B_46","Menuiseries intérieures et extérieures, fermetures","Divers élements de menuiserie",{"$f":"VLOOKUP(J72,'Comprendre la codification'!$E$49:$F$216,2,FALSE)","v":410},null,null,null,null,"MAT_12","12 - Matériaux inertes","Béton >90%","Assemblage de granulats (graviers, gravillons, sables, etc.), d'un liant (ciment, bitume, argile) d'adjuvants et d'eau",{"$f":"VLOOKUP(R72,'Comprendre la codification'!$D$219:$F$301,3,FALSE)","v":74},null,null,"Plâtre >50%",{"$f":"VLOOKUP(W72,R:T,3,FALSE)","v":76},null,null,null,null,null,null,null,null,null,"B_386","Fenêtre >= 3,5 m²","€ / m2","Fen"]
[null,null,null,null,null,null,"PMCB",{"$f":"\"B_\"&VLOOKUP(I73,$D$3:$E$19,2,FALSE)","v":"B_46"},"Menuiseries intérieures et extérieures, fermetures","Bloc - Porte (huisserie métal)",{"$f":"VLOOKUP(J73,'Comprendre la codification'!$E$49:$F$216,2,FALSE)","v":411},null,null,null,null,"MAT_12","12 - Matériaux inertes","Béton cellulaire >90%",null,{"$f":"VLOOKUP(R73,'Comprendre la codification'!$D$219:$F$301,3,FALSE)","v":96},null,null,"Plâtre >90%",{"$f":"VLOOKUP(W73,R:T,3,FALSE)","v":75},null,null,null,null,null,null,null,null,null,"B_386F","Eléments de toutes dimensions et poids","€ / Unité","DimU"]
[null,null,null,null,null,null,"PMCB","B_46","Menuiseries intérieures et extérieures, fermetures","Bloc - Porte (huisserie bois)",{"$f":"VLOOKUP(J74,'Comprendre la codification'!$E$49:$F$216,2,FALSE)","v":412},null,null,null,null,"MAT_12","12 - Matériaux inertes","Ciment >90%",null,{"$f":"VLOOKUP(R74,'Comprendre la codification'!$D$219:$F$301,3,FALSE)","v":90},null,null,"Polystyrène >90%",{"$f":"VLOOKUP(W74,R:T,3,FALSE)","v":47},null,null,null,null,null,null,null,null,null,"B_387","Fenêtre <= 1,5 m²","€ / m2","Fen"]
[null,null,null,null,null,null,"PMCB",{"$f":"\"B_\"&VLOOKUP(I75,$D$3:$E$19,2,FALSE)","v":"B_46"},"Menuiseries intérieures et extérieures, fermetures","Bloc - Porte (huisserie plastique)",{"$f":"VLOOKUP(J75,'Comprendre la codification'!$E$49:$F$216,2,FALSE)","v":413},null,null,null,null,"MAT_12","12 - Matériaux inertes","Granit >90%","Matière à base de faïence ou grès",{"$f":"VLOOKUP(R75,'Comprendre la codification'!$D$219:$F$301,3,FALSE)","v":91},null,null,"Polyterephtalate d'Ethylène (PET) >90%",{"$f":"VLOOKUP(W75,R:T,3,FALSE)","v":42},null,null,null,null,null,null,null,null,null,"B_387","1,5m² < Fenêtre < 3,5 m²","€ / m2","Fen"]
[null,null,null,null,null,null,"PMCB",{"$f":"\"B_\"&VLOOKUP(I76,$D$3:$E$19,2,FALSE)","v":"B_46"},"Menuiseries intérieures et extérieures, fermetures","Bloc - Porte double vantail (huisserie métal)",545,null,null,null,null,"MAT_12","12 - Matériaux inertes","Céramique >90%",null,{"$f":"VLOOKUP(R76,'Comprendre la codification'!$D$219:$F$301,3,FALSE)","v":97},null,null,"PVC >90%",{"$f":"VLOOKUP(W76,R:T,3,FALSE)","v":48},null,null,null,null,null,null,null,null,null,"B_387","Fenêtre >= 3,5 m²","€ / m2","Fen"]
[null,null,null,null,null,null,"PMCB","B_46","Menuiseries intérieures et extérieures, fermetures","Bloc - Porte double vantail (huisserie bois)",546,null,null,null,null,"MAT_12","12 - Matériaux inertes","Mortier >90%",null,{"$f":"VLOOKUP(R77,'Comprendre la codification'!$D$219:$F$301,3,FALSE)","v":92},null,null,"Verre >90%",{"$f":"VLOOKUP(W77,R:T,3,FALSE)","v":68},null,null,null,null,null,null,null,null,null,"B_387F","Eléments de toutes dimensions et poids","€ / Unité","DimU"]
[null,null,null,null,null,null,"PMCB","B_46","Menuiseries intérieures et extérieures, fermetures","Bloc - Porte double vantail (huisserie plastique)",547,null,null,null,null,"MAT_12","12 - Matériaux inertes","Adjuvants >90%",null,{"$f":"VLOOKUP(R78,'Comprendre la codification'!$D$219:$F$301,3,FALSE)","v":93},null,null,"Autre matériau majoritaire",{"$f":"VLOOKUP(W78,R:T,3,FALSE)","v":12},null,null,null,null,null,null,null,null,null,"B_388","Eléments de toutes dimensions et poids","€ / Tonne","DimT"]
[null,null,null,null,null,null,"PMCB","B_47","Façades","Mur-rideau",{"$f":"VLOOKUP(J79,'Comprendre la codification'!$E$49:$F$216,2,FALSE)","v":415},null,null,null,null,"MAT_12","12 - Matériaux inertes","Grès >90%",null,{"$f":"VLOOKUP(R79,'Comprendre la codification'!$D$219:$F$301,3,FALSE)","v":94},null,null,"Non connu ou non spécifié par l'entreprise",{"$f":"VLOOKUP(W79,R:T,3,FALSE)","v":"00"},null,null,null,null,null,null,null,null,null,"B_389","Eléments de toutes dimensions et poids","€ / ml","DimL"]
[null,null,null,null,null,null,"PMCB","B_47","Façades","Bardage et clins",{"$f":"VLOOKUP(J80,'Comprendre la codification'!$E$49:$F$216,2,FALSE)","v":416},null,null,null,null,"MAT_12","12 - Matériaux inertes","Chaux >90%","Matériau obtenu par moulage d'agrégats divers, charges et liants (béton, pierre reconstituée) ou par synthèse chimique",{"$f":"VLOOKUP(R80,'Comprendre la codification'!$D$219:$F$301,3,FALSE)","v":95},null,null,"B_315",null,null,null,null,null,null,null,null,null,null,"B_390","Eléments de toutes dimensions et poids","€ / Unité","DimU"]
[null,null,null,null,null,null,"PMCB","B_47","Façades","Vêtures",{"$f":"VLOOKUP(J81,'Comprendre la codification'!$E$49:$F$216,2,FALSE)","v":417},null,null,null,null,"MAT_12","12 - Matériaux inertes","Pierre artificielle >90%",null,{"$f":"VLOOKUP(R81,'Comprendre la codification'!$D$219:$F$301,3,FALSE)","v":98},null,null,"Béton >90%",{"$f":"VLOOKUP(W81,R:T,3,FALSE)","v":74},null,null,null,null,null,null,null,null,null,"B_391","Eléments de toutes dimensions et poids","€ / Unité","DimU"]
[null,null,null,null,null,null,"PMCB","B_47","Façades","Panneaux sandwich de façade",{"$f":"VLOOKUP(J82,'Comprendre la codification'!$E$49:$F$216,2,FALSE)","v":418},null,null,null,null,null,null,null,null,null,null,null,"Autre matériau majoritaire",{"$f":"VLOOKUP(W82,R:T,3,FALSE)","v":12},null,null,null,null,null,null,null,null,null,"B_392","Eléments de toutes dimensions et poids","€ / Unité","DimU"]
[null,null,null,null,null,null,"PMCB","B_47","Façades","Divers éléments de façade",{"$f":"VLOOKUP(J83,'Comprendre la codification'!$E$49:$F$216,2,FALSE)","v":421},null,null,null,null,null,null,null,null,null,null,null,"Mélange bitumineux >90%",{"$f":"VLOOKUP(W83,R:T,3,FALSE)","v":88},null,null,null,null,null,null,null,null,null,"B_393","Eléments de toutes dimensions et poids","€ / Unité","DimU"]
[null,null,null,null,null,null,"PMCB","B_48","Revêtements des sols, murs et plafonds","Pavés, dalles, plaquettes de parement en pierre",{"$f":"VLOOKUP(J84,'Comprendre la codification'!$E$49:$F$216,2,FALSE)","v":430},null,null,null,null,null,null,null,null,null,null,null,"B_316",null,null,null,null,null,null,null,null,null,null,"B_394","Eléments de toutes dimensions et poids","€ / Unité","DimU"]
[null,null,null,null,null,null,"PMCB",{"$f":"\"B_\"&VLOOKUP(I85,$D$3:$E$19,2,FALSE)","v":"B_48"},"Revêtements des sols, murs et plafonds","Carrelage sol & Faïence murale",{"$f":"VLOOKUP(J85,'Comprendre la codification'!$E$49:$F$216,2,FALSE)","v":431},null,null,null,null,null,null,null,null,null,null,null,"ABS >90%",{"$f":"VLOOKUP(W85,R:T,3,FALSE)","v":46},null,null,null,null,null,null,null,null,null,"B_395","Eléments de toutes dimensions et poids","€ / Unité","DimU"]
[null,null,null,null,null,null,"PMCB","B_48","Revêtements des sols, murs et plafonds","Parquets, terrasses et lames en bois",{"$f":"VLOOKUP(J86,'Comprendre la codification'!$E$49:$F$216,2,FALSE)","v":432},null,null,null,null,null,null,null,null,null,null,null,"Assemblage avec métal >50% et autres matériaux",{"$f":"VLOOKUP(W86,R:T,3,FALSE)","v":"02"},null,null,null,null,null,null,null,null,null,"B_396","Eléments de toutes dimensions et poids","€ / Unité","Porte"]
[null,null,null,null,null,null,"PMCB","B_48","Revêtements des sols, murs et plafonds","Lambris",{"$f":"VLOOKUP(J87,'Comprendre la codification'!$E$49:$F$216,2,FALSE)","v":433},null,null,null,null,null,null,null,null,null,null,null,"Assemblage de 3 matériaux ou plus sans un matériau à plus de 50%",{"$f":"VLOOKUP(W87,R:T,3,FALSE)","v":82},null,null,null,null,null,null,null,null,null,"B_397","Eléments de toutes dimensions et poids","€ / Unité","Porte"]
[null,null,null,null,null,null,"PMCB","B_48","Revêtements des sols, murs et plafonds","Plinthes",{"$f":"VLOOKUP(J88,'Comprendre la codification'!$E$49:$F$216,2,FALSE)","v":434},null,null,null,null,null,null,null,null,null,null,null,"Assemblage matériaux ou fibres synthétiques >50% avec d'autres matériaux",{"$f":"VLOOKUP(W88,R:T,3,FALSE)","v":67},null,null,null,null,null,null,null,null,null,"B_398","Eléments de toutes dimensions et poids","€ / Unité","Porte"]
[null,null,null,null,null,null,"PMCB","B_48","Revêtements des sols, murs et plafonds","Lames d'intérieur hors bois",{"$f":"VLOOKUP(J89,'Comprendre la codification'!$E$49:$F$216,2,FALSE)","v":435},null,null,null,null,null,null,null,null,null,null,null,"Béton >90%",{"$f":"VLOOKUP(W89,R:T,3,FALSE)","v":74},null,null,null,null,null,null,null,null,null,"B_399","Eléments de toutes dimensions et poids","€ / Unité","Porte"]
[null,null,null,null,null,null,"PMCB","B_48","Revêtements des sols, murs et plafonds","Sols plastiques",{"$f":"VLOOKUP(J90,'Comprendre la codification'!$E$49:$F$216,2,FALSE)","v":436},null,null,null,null,null,null,null,null,null,null,null,"Métal >90%",{"$f":"VLOOKUP(W90,R:T,3,FALSE)","v":28},null,null,null,null,null,null,null,null,null,"B_400","Eléments de toutes dimensions et poids","€ / Unité","Porte"]
[null,null,null,null,null,null,"PMCB","B_48","Revêtements des sols, murs et plafonds","Moquette de sol et murale fixe",{"$f":"VLOOKUP(J91,'Comprendre la codification'!$E$49:$F$216,2,FALSE)","v":437},null,null,null,null,null,null,null,null,null,null,null,"PE ou PP ou mélange PP/PE >90%",{"$f":"VLOOKUP(W91,R:T,3,FALSE)","v":45},null,null,null,null,null,null,null,null,null,"B_401","Eléments de toutes dimensions et poids","€ / Unité","Porte"]
[null,null,null,null,null,null,"PMCB","B_48","Revêtements des sols, murs et plafonds","Papier peint et toile de verre",{"$f":"VLOOKUP(J92,'Comprendre la codification'!$E$49:$F$216,2,FALSE)","v":438},null,null,null,null,null,null,null,null,null,null,null,"Plastiques (mono résine) >90%",{"$f":"VLOOKUP(W92,R:T,3,FALSE)","v":41},null,null,null,null,null,null,null,null,null,"B_402","Eléments de toutes dimensions et poids","€ / Unité","DimU"]
[null,null,null,null,null,null,"PMCB","B_48","Revêtements des sols, murs et plafonds","Revêtement mural en fibre naturelle",{"$f":"VLOOKUP(J93,'Comprendre la codification'!$E$49:$F$216,2,FALSE)","v":439},null,null,null,null,null,null,null,null,null,null,null,"Plastiques ou autres matériaux synthétiques >50%",{"$f":"VLOOKUP(W93,R:T,3,FALSE)","v":"05"},null,null,null,null,null,null,null,null,null,"B_403","Eléments de toutes dimensions et poids","€ / Unité","Porte"]
[null,null,null,null,null,null,"PMCB","B_48","Revêtements des sols, murs et plafonds","Revêtement mural avec fibre de verre",{"$f":"VLOOKUP(J94,'Comprendre la codification'!$E$49:$F$216,2,FALSE)","v":440},null,null,null,null,null,null,null,null,null,null,null,"Polystyrène >90%",{"$f":"VLOOKUP(W94,R:T,3,FALSE)","v":47},null,null,null,null,null,null,null,null,null,"B_404","Fenêtre <= 1,5 m²","€ / m2","Fen"]
[null,null,null,null,null,null,"PMCB","B_48","Revêtements des sols, murs et plafonds","Divers dont moulures",{"$f":"VLOOKUP(J95,'Comprendre la codification'!$E$49:$F$216,2,FALSE)","v":443},null,null,null,null,null,null,null,null,null,null,null,"Polyterephtalate d'Ethylène (PET) >90%",{"$f":"VLOOKUP(W95,R:T,3,FALSE)","v":42},null,null,null,null,null,null,null,null,null,"B_404","1,5m² < Fenêtre < 3,5 m²","€ / m2","Fen"]
[null,null,null,null,null,null,"PMCB","B_49","Quincaillerie du bâtiment","Eléments de fermeture de portes et fenêtres, gonds et pentures",{"$f":"VLOOKUP(J96,'Comprendre la codification'!$E$49:$F$216,2,FALSE)","v":450},null,null,null,null,null,null,null,null,null,null,null,"PVC >90%",{"$f":"VLOOKUP(W96,R:T,3,FALSE)","v":48},null,null,null,null,null,null,null,null,null,"B_405","Fenêtre <= 1,5 m²","€ / m2","Fen"]
[null,null,null,null,null,null,"PMCB","B_49","Quincaillerie du bâtiment","Bas de portes",{"$f":"VLOOKUP(J97,'Comprendre la codification'!$E$49:$F$216,2,FALSE)","v":451},null,null,null,null,null,null,null,null,null,null,null,"Autre matériau majoritaire",{"$f":"VLOOKUP(W97,R:T,3,FALSE)","v":12},null,null,null,null,null,null,null,null,null,"B_405","1,5m² < Fenêtre < 3,5 m²","€ / m2","Fen"]
[null,null,null,null,null,null,"PMCB","B_49","Quincaillerie du bâtiment","Accessoires de pose",{"$f":"VLOOKUP(J98,'Comprendre la codification'!$E$49:$F$216,2,FALSE)","v":452},null,null,null,null,null,null,null,null,null,null,null,"Non connu ou non spécifié par l'entreprise",{"$f":"VLOOKUP(W98,R:T,3,FALSE)","v":"00"},null,null,null,null,null,null,null,null,null,"B_406","Fenêtre <= 1,5 m²","€ / m2","Fen"]
[null,null,null,null,null,null,"PMCB","B_49","Quincaillerie du bâtiment","Quincallerie et accessoire divers toute catégorie",{"$f":"VLOOKUP(J99,'Comprendre la codification'!$E$49:$F$216,2,FALSE)","v":455},null,null,null,null,null,null,null,null,null,null,null,"B_317",null,null,null,null,null,null,null,null,null,null,"B_406","1,5m² < Fenêtre < 3,5 m²","€ / m2","Fen"]
[null,null,null,null,null,null,"PMCB","B_50","Peinture, lasures et vernis, droguerie, colles et traitement, adjuvants","Sous-couches, préparation des sols et étanchéité",{"$f":"VLOOKUP(J100,'Comprendre la codification'!$E$49:$F$216,2,FALSE)","v":465},null,null,null,null,null,null,null,null,null,null,null,"ABS >90%",{"$f":"VLOOKUP(W100,R:T,3,FALSE)","v":46},null,null,null,null,null,null,null,null,null,"B_407","Fenêtre <= 1,5 m²","€ / m2","Fen"]
[null,null,null,null,null,null,"PMCB","B_50","Peinture, lasures et vernis, droguerie, colles et traitement, adjuvants","Traitements des murs et toitures",{"$f":"VLOOKUP(J101,'Comprendre la codification'!$E$49:$F$216,2,FALSE)","v":467},null,null,null,null,null,null,null,null,null,null,null,"Assemblage avec métal >50% et autres matériaux",{"$f":"VLOOKUP(W101,R:T,3,FALSE)","v":"02"},null,null,null,null,null,null,null,null,null,"B_407","1,5m² < Fenêtre < 3,5 m²","€ / m2","Fen"]
[null,null,null,null,null,null,"PMCB","B_50","Peinture, lasures et vernis, droguerie, colles et traitement, adjuvants","Peintures intérieures",{"$f":"VLOOKUP(J102,'Comprendre la codification'!$E$49:$F$216,2,FALSE)","v":468},null,null,null,null,null,null,null,null,null,null,null,"Assemblage de 3 matériaux ou plus sans un matériau à plus de 50%",{"$f":"VLOOKUP(W102,R:T,3,FALSE)","v":82},null,null,null,null,null,null,null,null,null,"B_410","Eléments de toutes dimensions et poids","€ / Tonne","DimT"]
[null,null,null,null,null,null,"PMCB","B_50","Peinture, lasures et vernis, droguerie, colles et traitement, adjuvants","Colles et adhésifs",{"$f":"VLOOKUP(J103,'Comprendre la codification'!$E$49:$F$216,2,FALSE)","v":469},null,null,null,null,null,null,null,null,null,null,null,"Assemblage matériaux ou fibres synthétiques >50% avec d'autres matériaux",{"$f":"VLOOKUP(W103,R:T,3,FALSE)","v":67},null,null,null,null,null,null,null,null,null,"B_411","Eléments de toutes dimensions et poids","€ / Unité","DimU"]
[null,null,null,null,null,null,"PMCB","B_50","Peinture, lasures et vernis, droguerie, colles et traitement, adjuvants","Mastic, joints et mousses polyuréthanes",{"$f":"VLOOKUP(J104,'Comprendre la codification'!$E$49:$F$216,2,FALSE)","v":470},null,null,null,null,null,null,null,null,null,null,null,"Béton >90%",{"$f":"VLOOKUP(W104,R:T,3,FALSE)","v":74},null,null,null,null,null,null,null,null,null,"B_412","Eléments de toutes dimensions et poids","€ / Unité","DimU"]
[null,null,null,null,null,null,"PMCB","B_50","Peinture, lasures et vernis, droguerie, colles et traitement, adjuvants","Adjuvants",{"$f":"VLOOKUP(J105,'Comprendre la codification'!$E$49:$F$216,2,FALSE)","v":471},null,null,null,null,null,null,null,null,null,null,null,"Caoutchouc synthétique >90%",{"$f":"VLOOKUP(W105,R:T,3,FALSE)","v":49},null,null,null,null,null,null,null,null,null,"B_413","Eléments de toutes dimensions et poids","€ / Unité","DimU"]
[null,null,null,null,null,null,"PMCB","B_50","Peinture, lasures et vernis, droguerie, colles et traitement, adjuvants","Traitements bois",{"$f":"VLOOKUP(J106,'Comprendre la codification'!$E$49:$F$216,2,FALSE)","v":472},null,null,null,null,null,null,null,null,null,null,null,"Matériaux ou fibres synthétiques >90%",{"$f":"VLOOKUP(W106,R:T,3,FALSE)","v":65},null,null,null,null,null,null,null,null,null,"B_415","Eléments de toutes dimensions et poids","€ / Tonne","DimT"]
[null,null,null,null,null,null,"PMCB","B_50","Peinture, lasures et vernis, droguerie, colles et traitement, adjuvants","Vernis et vitrificateurs",{"$f":"VLOOKUP(J107,'Comprendre la codification'!$E$49:$F$216,2,FALSE)","v":473},null,null,null,null,null,null,null,null,null,null,null,"Métal >90%",{"$f":"VLOOKUP(W107,R:T,3,FALSE)","v":28},null,null,null,null,null,null,null,null,null,"B_416","Eléments de toutes dimensions et poids","€ / Tonne","DimT"]
[null,null,null,null,null,null,"PMCB","B_50","Peinture, lasures et vernis, droguerie, colles et traitement, adjuvants","Absorbeurs d'humidité",{"$f":"VLOOKUP(J108,'Comprendre la codification'!$E$49:$F$216,2,FALSE)","v":474},null,null,null,null,null,null,null,null,null,null,null,"PE ou PP ou mélange PP/PE >90%",{"$f":"VLOOKUP(W108,R:T,3,FALSE)","v":45},null,null,null,null,null,null,null,null,null,"B_417","Eléments de toutes dimensions et poids","€ / Tonne","DimT"]
[null,null,null,null,null,null,"PMCB","B_50","Peinture, lasures et vernis, droguerie, colles et traitement, adjuvants","Décapants",{"$f":"VLOOKUP(J109,'Comprendre la codification'!$E$49:$F$216,2,FALSE)","v":475},null,null,null,null,null,null,null,null,null,null,null,"Plastiques (mono résine) >90%",{"$f":"VLOOKUP(W109,R:T,3,FALSE)","v":41},null,null,null,null,null,null,null,null,null,"B_418","Eléments de toutes dimensions et poids","€ / Tonne","DimT"]
[null,null,null,null,null,null,"PMCB","B_50","Peinture, lasures et vernis, droguerie, colles et traitement, adjuvants","Diluants, solvants",{"$f":"VLOOKUP(J110,'Comprendre la codification'!$E$49:$F$216,2,FALSE)","v":476},null,null,null,null,null,null,null,null,null,null,null,"Plastiques ou autres matériaux synthétiques >50%",{"$f":"VLOOKUP(W110,R:T,3,FALSE)","v":"05"},null,null,null,null,null,null,null,null,null,"B_421","Eléments de toutes dimensions et poids","€ / Tonne","DimT"]
[null,null,null,null,null,null,"PMCB","B_50","Peinture, lasures et vernis, droguerie, colles et traitement, adjuvants","Divers produits de droguerie du bâtiment",{"$f":"VLOOKUP(J111,'Comprendre la codification'!$E$49:$F$216,2,FALSE)","v":479},null,null,null,null,null,null,null,null,null,null,null,"Polystyrène >90%",{"$f":"VLOOKUP(W111,R:T,3,FALSE)","v":47},null,null,null,null,null,null,null,null,null,"B_430","Eléments de toutes dimensions et poids","€ / Tonne","DimT"]
[null,null,null,null,null,null,"PMCB","B_50","Peinture, lasures et vernis, droguerie, colles et traitement, adjuvants","Enduits pate",{"$f":"VLOOKUP(J112,'Comprendre la codification'!$E$49:$F$216,2,FALSE)","v":480},null,null,null,null,null,null,null,null,null,null,null,"Polyterephtalate d'Ethylène (PET) >90%",{"$f":"VLOOKUP(W112,R:T,3,FALSE)","v":42},null,null,null,null,null,null,null,null,null,"B_431","Eléments de toutes dimensions et poids","€ / Tonne","DimT"]
[null,null,null,null,null,null,"PMCB","B_50","Peinture, lasures et vernis, droguerie, colles et traitement, adjuvants","Enduits poudre",{"$f":"VLOOKUP(J113,'Comprendre la codification'!$E$49:$F$216,2,FALSE)","v":481},null,null,null,null,null,null,null,null,null,null,null,"PVC >90%",{"$f":"VLOOKUP(W113,R:T,3,FALSE)","v":48},null,null,null,null,null,null,null,null,null,"B_432","Eléments de toutes dimensions et poids","€ / Tonne","DimT"]
[null,null,null,null,null,null,"PMCB","B_50","Peinture, lasures et vernis, droguerie, colles et traitement, adjuvants","Peintures extérieures, yc enduits et peintures de façade",{"$f":"VLOOKUP(J114,'Comprendre la codification'!$E$49:$F$216,2,FALSE)","v":482},null,null,null,null,null,null,null,null,null,null,null,"Autre matériau majoritaire",{"$f":"VLOOKUP(W114,R:T,3,FALSE)","v":12},null,null,null,null,null,null,null,null,null,"B_432F","Eléments de toutes dimensions et poids","€ / m2","Dim_2"]
[null,null,null,null,null,null,"PMCB","B_50","Peinture, lasures et vernis, droguerie, colles et traitement, adjuvants","Résines PU et expansive (aérosol)",{"$f":"VLOOKUP(J115,'Comprendre la codification'!$E$49:$F$216,2,FALSE)","v":483},null,null,null,null,null,null,null,null,null,null,null,"Non connu ou non spécifié par l'entreprise",{"$f":"VLOOKUP(W115,R:T,3,FALSE)","v":"00"},null,null,null,null,null,null,null,null,null,"B_433","Eléments de toutes dimensions et poids","€ / Tonne","DimT"]
[null,null,null,null,null,null,"PMCB","B_50","Peinture, lasures et vernis, droguerie, colles et traitement, adjuvants","Traitement anti-termite",{"$f":"VLOOKUP(J116,'Comprendre la codification'!$E$49:$F$216,2,FALSE)","v":484},null,null,null,null,null,null,null,null,null,null,null,"B_318",null,null,null,null,null,null,null,null,null,null,"B_433F","Eléments de toutes dimensions et poids","€ / m2","Dim_2"]
[null,null,null,null,null,null,"PMCB","B_50","Peinture, lasures et vernis, droguerie, colles et traitement, adjuvants","Traitement des matériaux  (aérosol)",{"$f":"VLOOKUP(J117,'Comprendre la codification'!$E$49:$F$216,2,FALSE)","v":485},null,null,null,null,null,null,null,null,null,null,null,"ABS >90%",{"$f":"VLOOKUP(W117,R:T,3,FALSE)","v":46},null,null,null,null,null,null,null,null,null,"B_434","Eléments de toutes dimensions et poids","€ / Tonne","DimT"]
[null,null,null,null,null,null,"PMCB","B_50","Peinture, lasures et vernis, droguerie, colles et traitement, adjuvants","Traitement des matériaux hors bois ",{"$f":"VLOOKUP(J118,'Comprendre la codification'!$E$49:$F$216,2,FALSE)","v":486},null,null,null,null,null,null,null,null,null,null,null,"Assemblage avec métal >50% et autres matériaux",{"$f":"VLOOKUP(W118,R:T,3,FALSE)","v":"02"},null,null,null,null,null,null,null,null,null,"B_434F","Eléments de toutes dimensions et poids","€ / ml","DimL"]
[null,null,null,null,null,null,"PMCB","B_50","Peinture, lasures et vernis, droguerie, colles et traitement, adjuvants","Vernis et vitrificateurs et dérivés (aérosols)",{"$f":"VLOOKUP(J119,'Comprendre la codification'!$E$49:$F$216,2,FALSE)","v":487},null,null,null,null,null,null,null,null,null,null,null,"Assemblage de 3 matériaux ou plus sans un matériau à plus de 50%",{"$f":"VLOOKUP(W119,R:T,3,FALSE)","v":82},null,null,null,null,null,null,null,null,null,"B_435","Eléments de toutes dimensions et poids","€ / Tonne","DimT"]
[null,null,null,null,null,null,"PMCB",{"$f":"\"B_\"&VLOOKUP(I120,$D$3:$E$19,2,FALSE)","v":"B_51"},"Equipements sanitaires pour salle de bain, cuisine et WC","Eviers, vasques et lavabo",{"$f":"VLOOKUP(J120,'Comprendre la codification'!$E$49:$F$216,2,FALSE)","v":495},null,null,null,null,null,null,null,null,null,null,null,"Assemblage matériaux ou fibres synthétiques >50% avec d'autres matériaux",{"$f":"VLOOKUP(W120,R:T,3,FALSE)","v":67},null,null,null,null,null,null,null,null,null,"B_436","Eléments de toutes dimensions et poids","€ / Tonne","DimT"]
[null,null,null,null,null,null,"PMCB","B_51","Equipements sanitaires pour salle de bain, cuisine et WC","Receveurs de douche et baignoires",{"$f":"VLOOKUP(J121,'Comprendre la codification'!$E$49:$F$216,2,FALSE)","v":496},null,null,null,null,null,null,null,null,null,null,null,"Béton >90%",{"$f":"VLOOKUP(W121,R:T,3,FALSE)","v":74},null,null,null,null,null,null,null,null,null,"B_436F","Eléments de toutes dimensions et poids","€ / m2","Dim_2"]
[null,null,null,null,null,null,"PMCB","B_51","Equipements sanitaires pour salle de bain, cuisine et WC","WC",{"$f":"VLOOKUP(J122,'Comprendre la codification'!$E$49:$F$216,2,FALSE)","v":497},null,null,null,null,null,null,null,null,null,null,null,"Métal >90%",{"$f":"VLOOKUP(W122,R:T,3,FALSE)","v":28},null,null,null,null,null,null,null,null,null,"B_437","Eléments de toutes dimensions et poids","€ / Tonne","DimT"]
[null,null,null,null,null,null,"PMCB",{"$f":"\"B_\"&VLOOKUP(I123,$D$3:$E$19,2,FALSE)","v":"B_51"},"Equipements sanitaires pour salle de bain, cuisine et WC","Pare-baignoire, pare-douche et cabines intégrales de douche",{"$f":"VLOOKUP(J123,'Comprendre la codification'!$E$49:$F$216,2,FALSE)","v":498},null,null,null,null,null,null,null,null,null,null,null,"PE ou PP ou mélange PP/PE >90%",{"$f":"VLOOKUP(W123,R:T,3,FALSE)","v":45},null,null,null,null,null,null,null,null,null,"B_438","Eléments de toutes dimensions et poids","€ / Tonne","DimT"]
[null,null,null,null,null,null,"PMCB",{"$f":"\"B_\"&VLOOKUP(I124,$D$3:$E$19,2,FALSE)","v":"B_51"},"Equipements sanitaires pour salle de bain, cuisine et WC","Robinetterie et colonne de douche et bain",{"$f":"VLOOKUP(J124,'Comprendre la codification'!$E$49:$F$216,2,FALSE)","v":499},null,null,null,null,null,null,null,null,null,null,null,"Plastiques (mono résine) >90%",{"$f":"VLOOKUP(W124,R:T,3,FALSE)","v":41},null,null,null,null,null,null,null,null,null,"B_439","Eléments de toutes dimensions et poids","€ / m2","Dim_2"]
[null,null,null,null,null,null,"PMCB","B_51","Equipements sanitaires pour salle de bain, cuisine et WC","Receveur de douche",{"$f":"VLOOKUP(J125,'Comprendre la codification'!$E$49:$F$216,2,FALSE)","v":501},null,null,null,null,null,null,null,null,null,null,null,"Plastiques ou autres matériaux synthétiques >50%",{"$f":"VLOOKUP(W125,R:T,3,FALSE)","v":"05"},null,null,null,null,null,null,null,null,null,"B_440","Eléments de toutes dimensions et poids","€ / m2","Dim_2"]
[null,null,null,null,null,null,"PMCB","B_51","Equipements sanitaires pour salle de bain, cuisine et WC","Baignoire (hors balnéo)",{"$f":"VLOOKUP(J126,'Comprendre la codification'!$E$49:$F$216,2,FALSE)","v":502},null,null,null,null,null,null,null,null,null,null,null,"Polystyrène >90%",{"$f":"VLOOKUP(W126,R:T,3,FALSE)","v":47},null,null,null,null,null,null,null,null,null,"B_443","Eléments de toutes dimensions et poids","€ / Tonne","DimT"]
[null,null,null,null,null,null,"PMCB","B_51","Equipements sanitaires pour salle de bain, cuisine et WC","Divers équipements sanitaires et accessoires vendus séparément hors robinetterie",{"$f":"VLOOKUP(J127,'Comprendre la codification'!$E$49:$F$216,2,FALSE)","v":505},null,null,null,null,null,null,null,null,null,null,null,"Polyterephtalate d'Ethylène (PET) >90%",{"$f":"VLOOKUP(W127,R:T,3,FALSE)","v":42},null,null,null,null,null,null,null,null,null,"B_450","Eléments de toutes dimensions et poids","€ / Tonne","DimT"]
[null,null,null,null,null,null,"PMCB",{"$f":"\"B_\"&VLOOKUP(I128,$D$3:$E$19,2,FALSE)","v":"B_52"},"Electricité","Fils et câbles",{"$f":"VLOOKUP(J128,'Comprendre la codification'!$E$49:$F$216,2,FALSE)","v":510},null,null,null,null,null,null,null,null,null,null,null,"PVC >90%",{"$f":"VLOOKUP(W128,R:T,3,FALSE)","v":48},null,null,null,null,null,null,null,null,null,"B_451","Eléments de toutes dimensions et poids","€ / Tonne","DimT"]
[null,null,null,null,null,null,"PMCB","B_52","Electricité","Gaines et fixation",{"$f":"VLOOKUP(J129,'Comprendre la codification'!$E$49:$F$216,2,FALSE)","v":511},null,null,null,null,null,null,null,null,null,null,null,"Non connu ou non spécifié par l'entreprise",{"$f":"VLOOKUP(W129,R:T,3,FALSE)","v":"00"},null,null,null,null,null,null,null,null,null,"B_452","Eléments de toutes dimensions et poids","€ / Tonne","DimT"]
[null,null,null,null,null,null,"PMCB","B_52","Electricité","Ascenseurs (hors machinerie)",{"$f":"VLOOKUP(J130,'Comprendre la codification'!$E$49:$F$216,2,FALSE)","v":512},null,null,null,null,null,null,null,null,null,null,null,"ABS >90%",{"$f":"VLOOKUP(W130,R:T,3,FALSE)","v":46},null,null,null,null,null,null,null,null,null,"B_455","Eléments de toutes dimensions et poids","€ / Tonne","DimT"]
[null,null,null,null,null,null,"PMCB","B_52","Electricité","Caissons de télécommunication",{"$f":"VLOOKUP(J131,'Comprendre la codification'!$E$49:$F$216,2,FALSE)","v":513},null,null,null,null,null,null,null,null,null,null,null,"Assemblage avec métal >50% et autres matériaux",{"$f":"VLOOKUP(W131,R:T,3,FALSE)","v":"02"},null,null,null,null,null,null,null,null,null,"B_455F","Par lot ou par unité < 1 kg ","€ / Unité","Lot"]
[null,null,null,null,null,null,"PMCB","B_52","Electricité","Supports pour lignes aériennes",{"$f":"VLOOKUP(J132,'Comprendre la codification'!$E$49:$F$216,2,FALSE)","v":514},null,null,null,null,null,null,null,null,null,null,null,"Assemblage de 3 matériaux ou plus sans un matériau à plus de 50%",{"$f":"VLOOKUP(W132,R:T,3,FALSE)","v":82},null,null,null,null,null,null,null,null,null,"B_455F","Par lot ou par unité < 300 g ","€ / Unité","Lot"]
[null,null,null,null,null,null,"PMCB","B_52","Electricité","Divers produits d'électricité hors prises",{"$f":"VLOOKUP(J133,'Comprendre la codification'!$E$49:$F$216,2,FALSE)","v":516},null,null,null,null,null,null,null,null,null,null,null,"Assemblage de bois, dérivés de bois à plus de 50% avec d'autres matériaux ou bois composite (hors verre)",{"$f":"VLOOKUP(W133,R:T,3,FALSE)","v":"01"},null,null,null,null,null,null,null,null,null,"B_455F","Par lot ou par unité < 5 kg ","€ / Unité","Lot"]
[null,null,null,null,null,null,"PMCB",{"$f":"\"B_\"&VLOOKUP(I134,$D$3:$E$19,2,FALSE)","v":"B_53"},"Chauffage et traitement de l'air","Cheminées et inserts",{"$f":"VLOOKUP(J134,'Comprendre la codification'!$E$49:$F$216,2,FALSE)","v":525},null,null,null,null,null,null,null,null,null,null,null,"Assemblage matériaux ou fibres synthétiques >50% avec d'autres matériaux",{"$f":"VLOOKUP(W134,R:T,3,FALSE)","v":67},null,null,null,null,null,null,null,null,null,"B_465","Eléments de toutes dimensions et poids","€ / Tonne","DimT"]
[null,null,null,null,null,null,"PMCB","B_53","Chauffage et traitement de l'air","Fumisterie",{"$f":"VLOOKUP(J135,'Comprendre la codification'!$E$49:$F$216,2,FALSE)","v":526},null,null,null,null,null,null,null,null,null,null,null,"Assemblage verre à plus de 50% avec bois ou dérivés de bois",{"$f":"VLOOKUP(W135,R:T,3,FALSE)","v":72},null,null,null,null,null,null,null,null,null,"B_467","Eléments de toutes dimensions et poids","€ / Tonne","DimT"]
[null,null,null,null,null,null,"PMCB","B_53","Chauffage et traitement de l'air","Chauffage central",{"$f":"VLOOKUP(J136,'Comprendre la codification'!$E$49:$F$216,2,FALSE)","v":527},null,null,null,null,null,null,null,null,null,null,null,"Assemblage verre à plus de 50% avec Inerte",{"$f":"VLOOKUP(W136,R:T,3,FALSE)","v":71},null,null,null,null,null,null,null,null,null,"B_468","Eléments de toutes dimensions et poids","€ / Tonne","DimT"]
[null,null,null,null,null,null,"PMCB","B_53","Chauffage et traitement de l'air","Radiateurs",{"$f":"VLOOKUP(J137,'Comprendre la codification'!$E$49:$F$216,2,FALSE)","v":528},null,null,null,null,null,null,null,null,null,null,null,"Assemblage verre à plus de 50% avec métal",{"$f":"VLOOKUP(W137,R:T,3,FALSE)","v":70},null,null,null,null,null,null,null,null,null,"B_469","Eléments de toutes dimensions et poids","€ / Tonne","DimT"]
[null,null,null,null,null,null,"PMCB","B_53","Chauffage et traitement de l'air","Poêles non-électriques",{"$f":"VLOOKUP(J138,'Comprendre la codification'!$E$49:$F$216,2,FALSE)","v":529},null,null,null,null,null,null,null,null,null,null,null,"Assemblage verre à plus de 50% avec plastique",{"$f":"VLOOKUP(W138,R:T,3,FALSE)","v":73},null,null,null,null,null,null,null,null,null,"B_470","Eléments de toutes dimensions et poids","€ / Tonne","DimT"]
[null,null,null,null,null,null,"PMCB","B_53","Chauffage et traitement de l'air","Traitement de l'air et ventilation",{"$f":"VLOOKUP(J139,'Comprendre la codification'!$E$49:$F$216,2,FALSE)","v":530},null,null,null,null,null,null,null,null,null,null,null,"Béton >90%",{"$f":"VLOOKUP(W139,R:T,3,FALSE)","v":74},null,null,null,null,null,null,null,null,null,"B_471","Eléments de toutes dimensions et poids","€ / Tonne","DimT"]
[null,null,null,null,null,null,"PMCB",{"$f":"\"B_\"&VLOOKUP(I140,$D$3:$E$19,2,FALSE)","v":"B_54"},"Eléments de jardin maçonnés et leurs pièces structurelles","Abris de jardins, serres maçonnées, pergolas et vérandas",{"$f":"VLOOKUP(J140,'Comprendre la codification'!$E$49:$F$216,2,FALSE)","v":535},null,null,null,null,null,null,null,null,null,null,null,"Caoutchouc naturel >50%",{"$f":"VLOOKUP(W140,R:T,3,FALSE)","v":64},null,null,null,null,null,null,null,null,null,"B_472","Eléments de toutes dimensions et poids","€ / Tonne","DimT"]
[null,null,null,null,null,null,"PMCB","B_54","Eléments de jardin maçonnés et leurs pièces structurelles","Clôtures maçonnées et éléments de protection de la parcelle",{"$f":"VLOOKUP(J141,'Comprendre la codification'!$E$49:$F$216,2,FALSE)","v":536},null,null,null,null,null,null,null,null,null,null,null,"Caoutchouc synthétique >90%",{"$f":"VLOOKUP(W141,R:T,3,FALSE)","v":49},null,null,null,null,null,null,null,null,null,"B_473","Eléments de toutes dimensions et poids","€ / Tonne","DimT"]
[null,null,null,null,null,null,"PMCB","B_54","Eléments de jardin maçonnés et leurs pièces structurelles","Piscine et accessoires de piscine",{"$f":"VLOOKUP(J142,'Comprendre la codification'!$E$49:$F$216,2,FALSE)","v":537},null,null,null,null,null,null,null,null,null,null,null,"Dérivés de bois >90%",{"$f":"VLOOKUP(W142,R:T,3,FALSE)","v":62},null,null,null,null,null,null,null,null,null,"B_474","Eléments de toutes dimensions et poids","€ / Tonne","DimT"]
[null,null,null,null,null,null,"PMCB","B_54","Eléments de jardin maçonnés et leurs pièces structurelles","Divers produits de jardins associés à la construction",{"$f":"VLOOKUP(J143,'Comprendre la codification'!$E$49:$F$216,2,FALSE)","v":540},null,null,null,null,null,null,null,null,null,null,null,"Massif et assimilés >90%",{"$f":"VLOOKUP(W143,R:T,3,FALSE)","v":53},null,null,null,null,null,null,null,null,null,"B_475","Eléments de toutes dimensions et poids","€ / Tonne","DimT"]
[null,null,null,null,null,null,"PMCB","B_54","Eléments de jardin maçonnés et leurs pièces structurelles","Eléments de construction pour exploitation agricole",{"$f":"VLOOKUP(J144,'Comprendre la codification'!$E$49:$F$216,2,FALSE)","v":538},null,null,null,null,null,null,null,null,null,null,null,"Matériaux bio sourcés ou textiles non synthétiques >90%",{"$f":"VLOOKUP(W144,R:T,3,FALSE)","v":55},null,null,null,null,null,null,null,null,null,"B_476","Eléments de toutes dimensions et poids","€ / Tonne","DimT"]
[null,null,null,null,null,null,null,null,null,null,null,null,null,null,null,null,null,null,null,null,null,null,"Matériaux ou fibres synthétiques >90%",{"$f":"VLOOKUP(W145,R:T,3,FALSE)","v":65},null,null,null,null,null,null,null,null,null,"B_479","Eléments de toutes dimensions et poids","€ / Tonne","DimT"]
[null,null,null,null,null,null,null,null,null,null,null,null,null,null,null,null,null,null,null,null,null,null,"Métal >90%",{"$f":"VLOOKUP(W146,R:T,3,FALSE)","v":28},null,null,null,null,null,null,null,null,null,"B_480","Eléments de toutes dimensions et poids","€ / Tonne","DimT"]
[null,null,null,null,null,null,null,null,null,null,null,null,null,null,null,null,null,null,null,null,null,null,"Miroir >90%",{"$f":"VLOOKUP(W147,R:T,3,FALSE)","v":69},null,null,null,null,null,null,null,null,null,"B_481","Eléments de toutes dimensions et poids","€ / Tonne","DimT"]
[null,null,null,null,null,null,null,null,null,null,null,null,null,null,null,null,null,null,null,null,null,null,"Panneaux de particules ou OSB >90%",{"$f":"VLOOKUP(W148,R:T,3,FALSE)","v":61},null,null,null,null,null,null,null,null,null,"B_482","Eléments de toutes dimensions et poids","€ / Tonne","DimT"]
[null,null,null,null,null,null,null,null,null,null,null,null,null,null,null,null,null,null,null,null,null,null,"PE ou PP ou mélange PP/PE >90%",{"$f":"VLOOKUP(W149,R:T,3,FALSE)","v":45},null,null,null,null,null,null,null,null,null,"B_483","Eléments de toutes dimensions et poids","€ / Tonne","DimT"]
[null,null,null,null,null,null,null,null,null,null,null,null,null,null,null,null,null,null,null,null,null,null,"Plastiques (mono résine) >90%",{"$f":"VLOOKUP(W150,R:T,3,FALSE)","v":41},null,null,null,null,null,null,null,null,null,"B_484","Eléments de toutes dimensions et poids","€ / Tonne","DimT"]
[null,null,null,null,null,null,null,null,null,null,null,null,null,null,null,null,null,null,null,null,null,null,"Plastiques ou autres matériaux synthétiques >50%",{"$f":"VLOOKUP(W151,R:T,3,FALSE)","v":"05"},null,null,null,null,null,null,null,null,null,"B_485","Eléments de toutes dimensions et poids","€ / Tonne","DimT"]
[null,null,null,null,null,null,null,null,null,null,null,null,null,null,null,null,null,null,null,null,null,null,"Polystyrène >90%",{"$f":"VLOOKUP(W152,R:T,3,FALSE)","v":47},null,null,null,null,null,null,null,null,null,"B_486","Eléments de toutes dimensions et poids","€ / Tonne","DimT"]
[null,null,null,null,null,null,null,null,null,null,null,null,null,null,null,null,null,null,null,null,null,null,"Polyterephtalate d'Ethylène (PET) >90%",{"$f":"VLOOKUP(W153,R:T,3,FALSE)","v":42},null,null,null,null,null,null,null,null,null,"B_487","Eléments de toutes dimensions et poids","€ / Tonne","DimT"]
[null,null,null,null,null,null,null,null,null,null,null,null,null,null,null,null,null,null,null,null,null,null,"PVC >90%",{"$f":"VLOOKUP(W154,R:T,3,FALSE)","v":48},null,null,null,null,null,null,null,null,null,"B_495","Eléments de toutes dimensions et poids","€ / Tonne","DimT"]
[null,null,null,null,null,null,null,null,null,null,null,null,null,null,null,null,null,null,null,null,null,null,"Autre matériau majoritaire",{"$f":"VLOOKUP(W155,R:T,3,FALSE)","v":12},null,null,null,null,null,null,null,null,null,"B_495F","< 1m","€ / Unité","Evier"]
[null,null,null,null,null,null,null,null,null,null,null,null,null,null,null,null,null,null,null,null,null,null,"Non connu ou non spécifié par l'entreprise",{"$f":"VLOOKUP(W156,R:T,3,FALSE)","v":"00"},null,null,null,null,null,null,null,null,null,"B_495F",">= 1m","€ / Unité","Evier"]
[null,null,null,null,null,null,null,null,null,null,null,null,null,null,null,null,null,null,null,null,null,null,"B_330",null,null,null,null,null,null,null,null,null,null,"B_496","Eléments de toutes dimensions et poids","€ / Tonne","DimT"]
[null,null,null,null,null,null,null,null,null,null,null,null,null,null,null,null,null,null,null,null,null,null,"Assemblage avec métal >50% et autres matériaux",{"$f":"VLOOKUP(W158,R:T,3,FALSE)","v":"02"},null,null,null,null,null,null,null,null,null,"B_497","Eléments de toutes dimensions et poids","€ / Tonne","DimT"]
[null,null,null,null,null,null,null,null,null,null,null,null,null,null,null,null,null,null,null,null,null,null,"Assemblage de 3 matériaux ou plus sans un matériau à plus de 50%",{"$f":"VLOOKUP(W159,R:T,3,FALSE)","v":82},null,null,null,null,null,null,null,null,null,"B_497F","Eléments de toutes dimensions et poids","€ / Unité","DimU"]
[null,null,null,null,null,null,null,null,null,null,null,null,null,null,null,null,null,null,null,null,null,null,"Assemblage de bois, dérivés de bois à plus de 50% avec d'autres matériaux ou bois composite (hors verre)",{"$f":"VLOOKUP(W160,R:T,3,FALSE)","v":"01"},null,null,null,null,null,null,null,null,null,"B_498","Eléments de toutes dimensions et poids","€ / Tonne","DimT"]
[null,null,null,null,null,null,null,null,null,null,null,null,null,null,null,null,null,null,null,null,null,null,"Béton >90%",{"$f":"VLOOKUP(W161,R:T,3,FALSE)","v":74},null,null,null,null,null,null,null,null,null,"B_499","Eléments de toutes dimensions et poids","€ / Tonne","DimT"]
[null,null,null,null,null,null,null,null,null,null,null,null,null,null,null,null,null,null,null,null,null,null,"Dérivés de bois >90%",{"$f":"VLOOKUP(W162,R:T,3,FALSE)","v":62},null,null,null,null,null,null,null,null,null,"B_501","Eléments de toutes dimensions et poids","€ / Unité","DimU"]
[null,null,null,null,null,null,null,null,null,null,null,null,null,null,null,null,null,null,null,null,null,null,"Massif et assimilés >90%",{"$f":"VLOOKUP(W163,R:T,3,FALSE)","v":53},null,null,null,null,null,null,null,null,null,"B_502","Eléments de toutes dimensions et poids","€ / Unité","DimU"]
[null,null,null,null,null,null,null,null,null,null,null,null,null,null,null,null,null,null,null,null,null,null,"Matériaux bio sourcés ou textiles non synthétiques >90%",{"$f":"VLOOKUP(W164,R:T,3,FALSE)","v":55},null,null,null,null,null,null,null,null,null,"B_505","Eléments de toutes dimensions et poids","€ / Tonne","DimT"]
[null,null,null,null,null,null,null,null,null,null,null,null,null,null,null,null,null,null,null,null,null,null,"Métal >90%",{"$f":"VLOOKUP(W165,R:T,3,FALSE)","v":28},null,null,null,null,null,null,null,null,null,"B_510","Eléments de toutes dimensions et poids","€ / Tonne","DimT"]
[null,null,null,null,null,null,null,null,null,null,null,null,null,null,null,null,null,null,null,null,null,null,"Panneaux de particules ou OSB >90%",{"$f":"VLOOKUP(W166,R:T,3,FALSE)","v":61},null,null,null,null,null,null,null,null,null,"B_511","Eléments de toutes dimensions et poids","€ / Tonne","DimT"]
[null,null,null,null,null,null,null,null,null,null,null,null,null,null,null,null,null,null,null,null,null,null,"Autre matériau majoritaire",{"$f":"VLOOKUP(W167,R:T,3,FALSE)","v":12},null,null,null,null,null,null,null,null,null,"B_512","Eléments de toutes dimensions et poids","€ / Tonne","DimT"]
[null,null,null,null,null,null,null,null,null,null,null,null,null,null,null,null,null,null,null,null,null,null,"Non connu ou non spécifié par l'entreprise",{"$f":"VLOOKUP(W168,R:T,3,FALSE)","v":"00"},null,null,null,null,null,null,null,null,null,"B_513","Eléments de toutes dimensions et poids","€ / Tonne","DimT"]
[null,null,null,null,null,null,null,null,null,null,null,null,null,null,null,null,null,null,null,null,null,null,"B_331",null,null,null,null,null,null,null,null,null,null,"B_514","Eléments de toutes dimensions et poids","€ / Tonne","DimT"]
[null,null,null,null,null,null,null,null,null,null,null,null,null,null,null,null,null,null,null,null,null,null,"Assemblage avec métal >50% et autres matériaux",{"$f":"VLOOKUP(W170,R:T,3,FALSE)","v":"02"},null,null,null,null,null,null,null,null,null,"B_516","Eléments de toutes dimensions et poids","€ / Tonne","DimT"]
[null,null,null,null,null,null,null,null,null,null,null,null,null,null,null,null,null,null,null,null,null,null,"Assemblage de 3 matériaux ou plus sans un matériau à plus de 50%",{"$f":"VLOOKUP(W171,R:T,3,FALSE)","v":82},null,null,null,null,null,null,null,null,null,"B_525","Eléments de toutes dimensions et poids","€ / Tonne","DimT"]
[null,null,null,null,null,null,null,null,null,null,null,null,null,null,null,null,null,null,null,null,null,null,"Métal >90%",{"$f":"VLOOKUP(W172,R:T,3,FALSE)","v":28},null,null,null,null,null,null,null,null,null,"B_526","Eléments de toutes dimensions et poids","€ / Tonne","DimT"]
[null,null,null,null,null,null,null,null,null,null,null,null,null,null,null,null,null,null,null,null,null,null,"Autre matériau majoritaire",{"$f":"VLOOKUP(W173,R:T,3,FALSE)","v":12},null,null,null,null,null,null,null,null,null,"B_527","Eléments de toutes dimensions et poids","€ / Tonne","DimT"]
[null,null,null,null,null,null,null,null,null,null,null,null,null,null,null,null,null,null,null,null,null,null,"Non connu ou non spécifié par l'entreprise",{"$f":"VLOOKUP(W174,R:T,3,FALSE)","v":"00"},null,null,null,null,null,null,null,null,null,"B_528","Eléments de toutes dimensions et poids","€ / Tonne","DimT"]
[null,null,null,null,null,null,null,null,null,null,null,null,null,null,null,null,null,null,null,null,null,null,"B_332",null,null,null,null,null,null,null,null,null,null,"B_528F","Radiateur < 1 mètre (plus grande largeur ou hauteur)","€ / Unité","Rad"]
[null,null,null,null,null,null,null,null,null,null,null,null,null,null,null,null,null,null,null,null,null,null,"Assemblage avec métal >50% et autres matériaux",{"$f":"VLOOKUP(W176,R:T,3,FALSE)","v":"02"},null,null,null,null,null,null,null,null,null,"B_528F","Radiateur > 1 mètre (plus grande largeur ou hauteur)","€ / Unité","Rad"]
[null,null,null,null,null,null,null,null,null,null,null,null,null,null,null,null,null,null,null,null,null,null,"Assemblage de 3 matériaux ou plus sans un matériau à plus de 50%",{"$f":"VLOOKUP(W177,R:T,3,FALSE)","v":82},null,null,null,null,null,null,null,null,null,"B_529","Eléments de toutes dimensions et poids","€ / Tonne","DimT"]
[null,null,null,null,null,null,null,null,null,null,null,null,null,null,null,null,null,null,null,null,null,null,"Assemblage de bois, dérivés de bois à plus de 50% avec d'autres matériaux ou bois composite (hors verre)",{"$f":"VLOOKUP(W178,R:T,3,FALSE)","v":"01"},null,null,null,null,null,null,null,null,null,"B_530","Eléments de toutes dimensions et poids","€ / Tonne","DimT"]
[null,null,null,null,null,null,null,null,null,null,null,null,null,null,null,null,null,null,null,null,null,null,"Béton cellulaire >90%",{"$f":"VLOOKUP(W179,R:T,3,FALSE)","v":96},null,null,null,null,null,null,null,null,null,"B_535","Eléments de toutes dimensions et poids","€ / Tonne","DimT"]
[null,null,null,null,null,null,null,null,null,null,null,null,null,null,null,null,null,null,null,null,null,null,"Dérivés de bois >90%",{"$f":"VLOOKUP(W180,R:T,3,FALSE)","v":62},null,null,null,null,null,null,null,null,null,"B_536","Eléments de toutes dimensions et poids","€ / Tonne","DimT"]
[null,null,null,null,null,null,null,null,null,null,null,null,null,null,null,null,null,null,null,null,null,null,"Massif et assimilés >90%",{"$f":"VLOOKUP(W181,R:T,3,FALSE)","v":53},null,null,null,null,null,null,null,null,null,"B_537","Eléments de toutes dimensions et poids","€ / Tonne","DimT"]
[null,null,null,null,null,null,null,null,null,null,null,null,null,null,null,null,null,null,null,null,null,null,"Matériaux bio sourcés ou textiles non synthétiques >90%",{"$f":"VLOOKUP(W182,R:T,3,FALSE)","v":55},null,null,null,null,null,null,null,null,null,"B_538","Eléments de toutes dimensions et poids","€ / Tonne","DimT"]
[null,null,null,null,null,null,null,null,null,null,null,null,null,null,null,null,null,null,null,null,null,null,"Métal >90%",{"$f":"VLOOKUP(W183,R:T,3,FALSE)","v":28},null,null,null,null,null,null,null,null,null,"B_540","Eléments de toutes dimensions et poids","€ / Tonne","DimT"]
[null,null,null,null,null,null,null,null,null,null,null,null,null,null,null,null,null,null,null,null,null,null,"Panneaux de particules ou OSB >90%",{"$f":"VLOOKUP(W184,R:T,3,FALSE)","v":61},null,null,null,null,null,null,null,null,null,"B_431F","Eléments de toutes dimensions et poids","€ / m2","Dim_2"]
[null,null,null,null,null,null,null,null,null,null,null,null,null,null,null,null,null,null,null,null,null,null,"Papier carton >50% avec d'autres matériaux (hors verre)",{"$f":"VLOOKUP(W185,R:T,3,FALSE)","v":"19"},null,null,null,null,null,null,null,null,null,"B_545","Eléments de toutes dimensions et poids","€ / Unité","DimU"]
[null,null,null,null,null,null,null,null,null,null,null,null,null,null,null,null,null,null,null,null,null,null,"Pierre calcaire >90%",{"$f":"VLOOKUP(W186,R:T,3,FALSE)","v":86},null,null,null,null,null,null,null,null,null,"B_546","Eléments de toutes dimensions et poids","€ / Unité","DimU"]
[null,null,null,null,null,null,null,null,null,null,null,null,null,null,null,null,null,null,null,null,null,null,"Autre matériau majoritaire",{"$f":"VLOOKUP(W187,R:T,3,FALSE)","v":12},null,null,null,null,null,null,null,null,null,"B_547","Eléments de toutes dimensions et poids","€ / Unité","DimU"]
[null,null,null,null,null,null,null,null,null,null,null,null,null,null,null,null,null,null,null,null,null,null,"Non connu ou non spécifié par l'entreprise",{"$f":"VLOOKUP(W188,R:T,3,FALSE)","v":"00"},null,null,null,null,null,null,null,null,null,"B_382F","Fenêtre <= 1,5 m²","€ / m2","Fen"]
[null,null,null,"Textile et rembourrage en polyester >90%",null,null,null,null,null,null,null,null,null,null,null,null,null,null,null,null,null,null,"B_333",null,null,null,null,null,null,null,null,null,null,"B_382F","1,5m² < Fenêtre < 3,5 m²","€ / m2","Fen"]
[null,"Code Mesure : 00 000 00 XXX 0",null,null,null,null,null,null,null,null,null,null,null,null,null,null,null,null,null,null,null,null,"ABS >90%",{"$f":"VLOOKUP(W190,R:T,3,FALSE)","v":46},null,null,null,null,null,null,null,null,null,"B_382F","Fenêtre >= 3,5 m²","€ / m2","Fen"]
[null,null,null,null,null,null,null,null,null,null,null,null,null,null,null,null,null,null,null,null,null,null,"Assemblage avec métal >50% et autres matériaux",{"$f":"VLOOKUP(W191,R:T,3,FALSE)","v":"02"},null,null,null,null,null,null,null,null,null,"B_437F","Eléments de toutes dimensions et poids","€ / m2","Dim_2"]
[null,null,null,null,null,null,null,null,null,null,null,null,null,null,null,null,null,null,null,null,null,null,"Assemblage de 3 matériaux ou plus sans un matériau à plus de 50%",{"$f":"VLOOKUP(W192,R:T,3,FALSE)","v":82}]
[null,null,null,null,null,null,null,null,null,null,null,null,null,null,null,null,null,null,null,null,null,null,"Assemblage matériaux ou fibres synthétiques >50% avec d'autres matériaux",{"$f":"VLOOKUP(W193,R:T,3,FALSE)","v":67}]
[null,null,null,null,null,null,null,null,null,null,null,null,null,null,null,null,null,null,null,null,null,null,"Assemblage verre à plus de 50% avec bois ou dérivés de bois",{"$f":"VLOOKUP(W194,R:T,3,FALSE)","v":72}]
[null,null,null,null,null,null,null,null,null,null,null,null,null,null,null,null,null,null,null,null,null,null,"Assemblage verre à plus de 50% avec Inerte",{"$f":"VLOOKUP(W195,R:T,3,FALSE)","v":71}]
[null,null,null,null,null,null,null,null,null,null,null,null,null,null,null,null,null,null,null,null,null,null,"Assemblage verre à plus de 50% avec métal",{"$f":"VLOOKUP(W196,R:T,3,FALSE)","v":70}]
[null,null,null,null,null,null,null,null,null,null,null,null,null,null,null,null,null,null,null,null,null,null,"Assemblage verre à plus de 50% avec plastique",{"$f":"VLOOKUP(W197,R:T,3,FALSE)","v":73}]
[null,null,null,null,null,null,null,null,null,null,null,null,null,null,null,null,null,null,null,null,null,null,"Béton >90%",{"$f":"VLOOKUP(W198,R:T,3,FALSE)","v":74}]
[null,null,null,null,null,null,null,null,null,null,null,null,null,null,null,null,null,null,null,null,null,null,"Caoutchouc naturel >50%",{"$f":"VLOOKUP(W199,R:T,3,FALSE)","v":64}]
[null,null,null,null,null,null,null,null,null,null,null,null,null,null,null,null,null,null,null,null,null,null,"Caoutchouc synthétique >90%",{"$f":"VLOOKUP(W200,R:T,3,FALSE)","v":49}]
[null,null,null,null,null,null,null,null,null,null,null,null,null,null,null,null,null,null,null,null,null,null,"Matériaux ou fibres synthétiques >90%",{"$f":"VLOOKUP(W201,R:T,3,FALSE)","v":65}]
[null,null,null,null,null,null,null,null,null,null,null,null,null,null,null,null,null,null,null,null,null,null,"Métal >90%",{"$f":"VLOOKUP(W202,R:T,3,FALSE)","v":28}]
[null,null,null,null,null,null,null,null,null,null,null,null,null,null,null,null,null,null,null,null,null,null,"PE ou PP ou mélange PP/PE >90%",{"$f":"VLOOKUP(W203,R:T,3,FALSE)","v":45}]
[null,null,null,null,null,null,null,null,null,null,null,null,null,null,null,null,null,null,null,null,null,null,"Plastiques (mono résine) >90%",{"$f":"VLOOKUP(W204,R:T,3,FALSE)","v":41}]
[null,null,null,null,null,null,null,null,null,null,null,null,null,null,null,null,null,null,null,null,null,null,"Plastiques ou autres matériaux synthétiques >50%",{"$f":"VLOOKUP(W205,R:T,3,FALSE)","v":"05"}]
[null,null,null,null,null,null,null,null,null,null,null,null,null,null,null,null,null,null,null,null,null,null,"Polystyrène >90%",{"$f":"VLOOKUP(W206,R:T,3,FALSE)","v":47}]
[null,null,null,null,null,null,null,null,null,null,null,null,null,null,null,null,null,null,null,null,null,null,"Polyterephtalate d'Ethylène (PET) >90%",{"$f":"VLOOKUP(W207,R:T,3,FALSE)","v":42}]
[null,null,null,null,null,null,null,null,null,null,null,null,null,null,null,null,null,null,null,null,null,null,"PVC >90%",{"$f":"VLOOKUP(W208,R:T,3,FALSE)","v":48}]
[null,null,null,null,null,null,null,null,null,null,null,null,null,null,null,null,null,null,null,null,null,null,"Autre matériau majoritaire",{"$f":"VLOOKUP(W209,R:T,3,FALSE)","v":12}]
[null,null,null,null,null,null,null,null,null,null,null,null,null,null,null,null,null,null,null,null,null,null,"Non connu ou non spécifié par l'entreprise",{"$f":"VLOOKUP(W210,R:T,3,FALSE)","v":"00"}]
[null,null,null,null,null,null,null,null,null,null,null,null,null,null,null,null,null,null,null,null,null,null,"B_336"]
[null,null,null,null,null,null,null,null,null,null,null,null,null,null,null,null,null,null,null,null,null,null,"ABS >90%",{"$f":"VLOOKUP(W212,R:T,3,FALSE)","v":46}]
[null,null,null,null,null,null,null,null,null,null,null,null,null,null,null,null,null,null,null,null,null,null,"Assemblage avec métal >50% et autres matériaux",{"$f":"VLOOKUP(W213,R:T,3,FALSE)","v":"02"}]
[null,null,null,null,null,null,null,null,null,null,null,null,null,null,null,null,null,null,null,null,null,null,"Assemblage de 3 matériaux ou plus sans un matériau à plus de 50%",{"$f":"VLOOKUP(W214,R:T,3,FALSE)","v":82}]
[null,null,null,null,null,null,null,null,null,null,null,null,null,null,null,null,null,null,null,null,null,null,"Assemblage de bois, dérivés de bois à plus de 50% avec d'autres matériaux ou bois composite (hors verre)",{"$f":"VLOOKUP(W215,R:T,3,FALSE)","v":"01"}]
[null,null,null,null,null,null,null,null,null,null,null,null,null,null,null,null,null,null,null,null,null,null,"Assemblage matériaux ou fibres synthétiques >50% avec d'autres matériaux",{"$f":"VLOOKUP(W216,R:T,3,FALSE)","v":67}]
[null,null,null,null,null,null,null,null,null,null,null,null,null,null,null,null,null,null,null,null,null,null,"Assemblage verre à plus de 50% avec bois ou dérivés de bois",{"$f":"VLOOKUP(W217,R:T,3,FALSE)","v":72}]
[null,null,null,null,null,null,null,null,null,null,null,null,null,null,null,null,null,null,null,null,null,null,"Assemblage verre à plus de 50% avec Inerte",{"$f":"VLOOKUP(W218,R:T,3,FALSE)","v":71}]
[null,null,null,null,null,null,null,null,null,null,null,null,null,null,null,null,null,null,null,null,null,null,"Assemblage verre à plus de 50% avec métal",{"$f":"VLOOKUP(W219,R:T,3,FALSE)","v":70}]
[null,null,null,null,null,null,null,null,null,null,null,null,null,null,null,null,null,null,null,null,null,null,"Assemblage verre à plus de 50% avec plastique",{"$f":"VLOOKUP(W220,R:T,3,FALSE)","v":73}]
[null,null,null,null,null,null,null,null,null,null,null,null,null,null,null,null,null,null,null,null,null,null,"Béton >90%",{"$f":"VLOOKUP(W221,R:T,3,FALSE)","v":74}]
[null,null,null,null,null,null,null,null,null,null,null,null,null,null,null,null,null,null,null,null,null,null,"Caoutchouc naturel >50%",{"$f":"VLOOKUP(W222,R:T,3,FALSE)","v":64}]
[null,null,null,null,null,null,null,null,null,null,null,null,null,null,null,null,null,null,null,null,null,null,"Caoutchouc synthétique >90%",{"$f":"VLOOKUP(W223,R:T,3,FALSE)","v":49}]
[null,null,null,null,null,null,null,null,null,null,null,null,null,null,null,null,null,null,null,null,null,null,"Dérivés de bois >90%",{"$f":"VLOOKUP(W224,R:T,3,FALSE)","v":62}]
[null,null,null,null,null,null,null,null,null,null,null,null,null,null,null,null,null,null,null,null,null,null,"Massif et assimilés >90%",{"$f":"VLOOKUP(W225,R:T,3,FALSE)","v":53}]
[null,null,null,null,null,null,null,null,null,null,null,null,null,null,null,null,null,null,null,null,null,null,"Matériaux bio sourcés ou textiles non synthétiques >90%",{"$f":"VLOOKUP(W226,R:T,3,FALSE)","v":55}]
[null,null,null,null,null,null,null,null,null,null,null,null,null,null,null,null,null,null,null,null,null,null,"Matériaux ou fibres synthétiques >90%",{"$f":"VLOOKUP(W227,R:T,3,FALSE)","v":65}]
[null,null,null,null,null,null,null,null,null,null,null,null,null,null,null,null,null,null,null,null,null,null,"Membranes bitumineuses à plus de 90 %",{"$f":"VLOOKUP(W228,R:T,3,FALSE)","v":80}]
[null,null,null,null,null,null,null,null,null,null,null,null,null,null,null,null,null,null,null,null,null,null,"Métal >90%",{"$f":"VLOOKUP(W229,R:T,3,FALSE)","v":28}]
[null,null,null,null,null,null,null,null,null,null,null,null,null,null,null,null,null,null,null,null,null,null,"Miroir >90%",{"$f":"VLOOKUP(W230,R:T,3,FALSE)","v":69}]
[null,null,null,null,null,null,null,null,null,null,null,null,null,null,null,null,null,null,null,null,null,null,"Panneaux de particules ou OSB >90%",{"$f":"VLOOKUP(W231,R:T,3,FALSE)","v":61}]
[null,null,null,null,null,null,null,null,null,null,null,null,null,null,null,null,null,null,null,null,null,null,"Papier carton >50% avec d'autres matériaux (hors verre)",{"$f":"VLOOKUP(W232,R:T,3,FALSE)","v":"19"}]
[null,null,null,null,null,null,null,null,null,null,null,null,null,null,null,null,null,null,null,null,null,null,"PE ou PP ou mélange PP/PE >90%",{"$f":"VLOOKUP(W233,R:T,3,FALSE)","v":45}]
[null,null,null,null,null,null,null,null,null,null,null,null,null,null,null,null,null,null,null,null,null,null,"Plastiques (mono résine) >90%",{"$f":"VLOOKUP(W234,R:T,3,FALSE)","v":41}]
[null,null,null,null,null,null,null,null,null,null,null,null,null,null,null,null,null,null,null,null,null,null,"Plastiques ou autres matériaux synthétiques >50%",{"$f":"VLOOKUP(W235,R:T,3,FALSE)","v":"05"}]
[null,null,null,null,null,null,null,null,null,null,null,null,null,null,null,null,null,null,null,null,null,null,"Polystyrène >90%",{"$f":"VLOOKUP(W236,R:T,3,FALSE)","v":47}]
[null,null,null,null,null,null,null,null,null,null,null,null,null,null,null,null,null,null,null,null,null,null,"Polyterephtalate d'Ethylène (PET) >90%",{"$f":"VLOOKUP(W237,R:T,3,FALSE)","v":42}]
[null,null,null,null,null,null,null,null,null,null,null,null,null,null,null,null,null,null,null,null,null,null,"PVC >90%",{"$f":"VLOOKUP(W238,R:T,3,FALSE)","v":48}]
[null,null,null,null,null,null,null,null,null,null,null,null,null,null,null,null,null,null,null,null,null,null,"Autre matériau majoritaire",{"$f":"VLOOKUP(W239,R:T,3,FALSE)","v":12}]
[null,null,null,null,null,null,null,null,null,null,null,null,null,null,null,null,null,null,null,null,null,null,"Non connu ou non spécifié par l'entreprise",{"$f":"VLOOKUP(W240,R:T,3,FALSE)","v":"00"}]
[null,null,null,null,null,null,null,null,null,null,null,null,null,null,null,null,null,null,null,null,null,null,"B_345",null,"FOR"]
[null,null,null,null,null,null,null,null,null,null,null,null,null,null,null,null,null,null,null,null,null,null,"ABS >90%",{"$f":"VLOOKUP(W242,R:T,3,FALSE)","v":46}]
[null,null,null,null,null,null,null,null,null,null,null,null,null,null,null,null,null,null,null,null,null,null,"Ardoise >90%",{"$f":"VLOOKUP(W243,R:T,3,FALSE)","v":84}]
[null,null,null,null,null,null,null,null,null,null,null,null,null,null,null,null,null,null,null,null,null,null,"Assemblage avec métal >50% et autres matériaux",{"$f":"VLOOKUP(W244,R:T,3,FALSE)","v":"02"}]
[null,null,null,null,null,null,null,null,null,null,null,null,null,null,null,null,null,null,null,null,null,null,"Assemblage de 3 matériaux ou plus sans un matériau à plus de 50%",{"$f":"VLOOKUP(W245,R:T,3,FALSE)","v":82}]
[null,null,null,null,null,null,null,null,null,null,null,null,null,null,null,null,null,null,null,null,null,null,"Assemblage de bois, dérivés de bois à plus de 50% avec d'autres matériaux ou bois composite (hors verre)",{"$f":"VLOOKUP(W246,R:T,3,FALSE)","v":"01"}]
[null,null,null,null,null,null,null,null,null,null,null,null,null,null,null,null,null,null,null,null,null,null,"Assemblage matériaux ou fibres synthétiques >50% avec d'autres matériaux",{"$f":"VLOOKUP(W247,R:T,3,FALSE)","v":67}]
[null,null,null,null,null,null,null,null,null,null,null,null,null,null,null,null,null,null,null,null,null,null,"Béton >90%",{"$f":"VLOOKUP(W248,R:T,3,FALSE)","v":74}]
[null,null,null,null,null,null,null,null,null,null,null,null,null,null,null,null,null,null,null,null,null,null,"Caoutchouc naturel >50%",{"$f":"VLOOKUP(W249,R:T,3,FALSE)","v":64}]
[null,null,null,null,null,null,null,null,null,null,null,null,null,null,null,null,null,null,null,null,null,null,"Caoutchouc synthétique >90%",{"$f":"VLOOKUP(W250,R:T,3,FALSE)","v":49}]
[null,null,null,null,null,null,null,null,null,null,null,null,null,null,null,null,null,null,null,null,null,null,"Dérivés de bois >90%",{"$f":"VLOOKUP(W251,R:T,3,FALSE)","v":62}]
[null,null,null,null,null,null,null,null,null,null,null,null,null,null,null,null,null,null,null,null,null,null,"Massif et assimilés >90%",{"$f":"VLOOKUP(W252,R:T,3,FALSE)","v":53}]
[null,null,null,null,null,null,null,null,null,null,null,null,null,null,null,null,null,null,null,null,null,null,"Matériaux bio sourcés ou textiles non synthétiques >90%",{"$f":"VLOOKUP(W253,R:T,3,FALSE)","v":55}]
[null,null,null,null,null,null,null,null,null,null,null,null,null,null,null,null,null,null,null,null,null,null,"Matériaux ou fibres synthétiques >90%",{"$f":"VLOOKUP(W254,R:T,3,FALSE)","v":65}]
[null,null,null,null,null,null,null,null,null,null,null,null,null,null,null,null,null,null,null,null,null,null,"Membranes bitumineuses à plus de 90 %",{"$f":"VLOOKUP(W255,R:T,3,FALSE)","v":80}]
[null,null,null,null,null,null,null,null,null,null,null,null,null,null,null,null,null,null,null,null,null,null,"Métal >90%",{"$f":"VLOOKUP(W256,R:T,3,FALSE)","v":28}]
[null,null,null,null,null,null,null,null,null,null,null,null,null,null,null,null,null,null,null,null,null,null,"Panneaux de particules ou OSB >90%",{"$f":"VLOOKUP(W257,R:T,3,FALSE)","v":61}]
[null,null,null,null,null,null,null,null,null,null,null,null,null,null,null,null,null,null,null,null,null,null,"PE ou PP ou mélange PP/PE >90%",{"$f":"VLOOKUP(W258,R:T,3,FALSE)","v":45}]
[null,null,null,null,null,null,null,null,null,null,null,null,null,null,null,null,null,null,null,null,null,null,"Plastiques (mono résine) >90%",{"$f":"VLOOKUP(W259,R:T,3,FALSE)","v":41}]
[null,null,null,null,null,null,null,null,null,null,null,null,null,null,null,null,null,null,null,null,null,null,"Plastiques ou autres matériaux synthétiques >50%",{"$f":"VLOOKUP(W260,R:T,3,FALSE)","v":"05"}]
[null,null,null,null,null,null,null,null,null,null,null,null,null,null,null,null,null,null,null,null,null,null,"Polystyrène >90%",{"$f":"VLOOKUP(W261,R:T,3,FALSE)","v":47}]
[null,null,null,null,null,null,null,null,null,null,null,null,null,null,null,null,null,null,null,null,null,null,"Polyterephtalate d'Ethylène (PET) >90%",{"$f":"VLOOKUP(W262,R:T,3,FALSE)","v":42}]
[null,null,null,null,null,null,null,null,null,null,null,null,null,null,null,null,null,null,null,null,null,null,"PVC >90%",{"$f":"VLOOKUP(W263,R:T,3,FALSE)","v":48}]
[null,null,null,null,null,null,null,null,null,null,null,null,null,null,null,null,null,null,null,null,null,null,"Terre cuite ou crue >90%",{"$f":"VLOOKUP(W264,R:T,3,FALSE)","v":89}]
[null,null,null,null,null,null,null,null,null,null,null,null,null,null,null,null,null,null,null,null,null,null,"Autre matériau majoritaire",{"$f":"VLOOKUP(W265,R:T,3,FALSE)","v":12}]
[null,null,null,null,null,null,null,null,null,null,null,null,null,null,null,null,null,null,null,null,null,null,"Non connu ou non spécifié par l'entreprise",{"$f":"VLOOKUP(W266,R:T,3,FALSE)","v":"00"}]
[null,null,null,null,null,null,null,null,null,null,null,null,null,null,null,null,null,null,null,null,null,null,"B_346",null,"FOR"]
[null,null,null,null,null,null,null,null,null,null,null,null,null,null,null,null,null,null,null,null,null,null,"ABS >90%",{"$f":"VLOOKUP(W268,R:T,3,FALSE)","v":46}]
[null,null,null,null,null,null,null,null,null,null,null,null,null,null,null,null,null,null,null,null,null,null,"Assemblage avec métal >50% et autres matériaux",{"$f":"VLOOKUP(W269,R:T,3,FALSE)","v":"02"}]
[null,null,null,null,null,null,null,null,null,null,null,null,null,null,null,null,null,null,null,null,null,null,"Assemblage de 3 matériaux ou plus sans un matériau à plus de 50%",{"$f":"VLOOKUP(W270,R:T,3,FALSE)","v":82}]
[null,null,null,null,null,null,null,null,null,null,null,null,null,null,null,null,null,null,null,null,null,null,"Assemblage matériaux ou fibres synthétiques >50% avec d'autres matériaux",{"$f":"VLOOKUP(W271,R:T,3,FALSE)","v":67}]
[null,null,null,null,null,null,null,null,null,null,null,null,null,null,null,null,null,null,null,null,null,null,"Caoutchouc naturel >50%",{"$f":"VLOOKUP(W272,R:T,3,FALSE)","v":64}]
[null,null,null,null,null,null,null,null,null,null,null,null,null,null,null,null,null,null,null,null,null,null,"Caoutchouc synthétique >90%",{"$f":"VLOOKUP(W273,R:T,3,FALSE)","v":49}]
[null,null,null,null,null,null,null,null,null,null,null,null,null,null,null,null,null,null,null,null,null,null,"Matériaux ou fibres synthétiques >90%",{"$f":"VLOOKUP(W274,R:T,3,FALSE)","v":65}]
[null,null,null,null,null,null,null,null,null,null,null,null,null,null,null,null,null,null,null,null,null,null,"Membranes bitumineuses à plus de 90 %",{"$f":"VLOOKUP(W275,R:T,3,FALSE)","v":80}]
[null,null,null,null,null,null,null,null,null,null,null,null,null,null,null,null,null,null,null,null,null,null,"Métal >90%",{"$f":"VLOOKUP(W276,R:T,3,FALSE)","v":28}]
[null,null,null,null,null,null,null,null,null,null,null,null,null,null,null,null,null,null,null,null,null,null,"PE ou PP ou mélange PP/PE >90%",{"$f":"VLOOKUP(W277,R:T,3,FALSE)","v":45}]
[null,null,null,null,null,null,null,null,null,null,null,null,null,null,null,null,null,null,null,null,null,null,"Plastiques (mono résine) >90%",{"$f":"VLOOKUP(W278,R:T,3,FALSE)","v":41}]
[null,null,null,null,null,null,null,null,null,null,null,null,null,null,null,null,null,null,null,null,null,null,"Plastiques ou autres matériaux synthétiques >50%",{"$f":"VLOOKUP(W279,R:T,3,FALSE)","v":"05"}]
[null,null,null,null,null,null,null,null,null,null,null,null,null,null,null,null,null,null,null,null,null,null,"Polystyrène >90%",{"$f":"VLOOKUP(W280,R:T,3,FALSE)","v":47}]
[null,null,null,null,null,null,null,null,null,null,null,null,null,null,null,null,null,null,null,null,null,null,"Polyterephtalate d'Ethylène (PET) >90%",{"$f":"VLOOKUP(W281,R:T,3,FALSE)","v":42}]
[null,null,null,null,null,null,null,null,null,null,null,null,null,null,null,null,null,null,null,null,null,null,"Autre matériau majoritaire",{"$f":"VLOOKUP(W282,R:T,3,FALSE)","v":12}]
[null,null,null,null,null,null,null,null,null,null,null,null,null,null,null,null,null,null,null,null,null,null,"PVC >90%",{"$f":"VLOOKUP(W283,R:T,3,FALSE)","v":48}]
[null,null,null,null,null,null,null,null,null,null,null,null,null,null,null,null,null,null,null,null,null,null,"Non connu ou non spécifié par l'entreprise",{"$f":"VLOOKUP(W284,R:T,3,FALSE)","v":"00"}]
[null,null,null,null,null,null,null,null,null,null,null,null,null,null,null,null,null,null,null,null,null,null,"B_349",null,"FOR"]
[null,null,null,null,null,null,null,null,null,null,null,null,null,null,null,null,null,null,null,null,null,null,"ABS >90%",{"$f":"VLOOKUP(W286,R:T,3,FALSE)","v":46}]
[null,null,null,null,null,null,null,null,null,null,null,null,null,null,null,null,null,null,null,null,null,null,"Assemblage avec métal >50% et autres matériaux",{"$f":"VLOOKUP(W287,R:T,3,FALSE)","v":"02"}]
[null,null,null,null,null,null,null,null,null,null,null,null,null,null,null,null,null,null,null,null,null,null,"Assemblage de 3 matériaux ou plus sans un matériau à plus de 50%",{"$f":"VLOOKUP(W288,R:T,3,FALSE)","v":82}]
[null,null,null,null,null,null,null,null,null,null,null,null,null,null,null,null,null,null,null,null,null,null,"Assemblage de bois, dérivés de bois à plus de 50% avec d'autres matériaux ou bois composite (hors verre)",{"$f":"VLOOKUP(W289,R:T,3,FALSE)","v":"01"}]
[null,null,null,null,null,null,null,null,null,null,null,null,null,null,null,null,null,null,null,null,null,null,"Assemblage matériaux ou fibres synthétiques >50% avec d'autres matériaux",{"$f":"VLOOKUP(W290,R:T,3,FALSE)","v":67}]
[null,null,null,null,null,null,null,null,null,null,null,null,null,null,null,null,null,null,null,null,null,null,"Assemblage verre à plus de 50% avec bois ou dérivés de bois",{"$f":"VLOOKUP(W291,R:T,3,FALSE)","v":72}]
[null,null,null,null,null,null,null,null,null,null,null,null,null,null,null,null,null,null,null,null,null,null,"Assemblage verre à plus de 50% avec Inerte",{"$f":"VLOOKUP(W292,R:T,3,FALSE)","v":71}]
[null,null,null,null,null,null,null,null,null,null,null,null,null,null,null,null,null,null,null,null,null,null,"Assemblage verre à plus de 50% avec métal",{"$f":"VLOOKUP(W293,R:T,3,FALSE)","v":70}]
[null,null,null,null,null,null,null,null,null,null,null,null,null,null,null,null,null,null,null,null,null,null,"Assemblage verre à plus de 50% avec plastique",{"$f":"VLOOKUP(W294,R:T,3,FALSE)","v":73}]
[null,null,null,null,null,null,null,null,null,null,null,null,null,null,null,null,null,null,null,null,null,null,"Caoutchouc naturel >50%",{"$f":"VLOOKUP(W295,R:T,3,FALSE)","v":64}]
[null,null,null,null,null,null,null,null,null,null,null,null,null,null,null,null,null,null,null,null,null,null,"Caoutchouc synthétique >90%",{"$f":"VLOOKUP(W296,R:T,3,FALSE)","v":49}]
[null,null,null,null,null,null,null,null,null,null,null,null,null,null,null,null,null,null,null,null,null,null,"Dérivés de bois >90%",{"$f":"VLOOKUP(W297,R:T,3,FALSE)","v":62}]
[null,null,null,null,null,null,null,null,null,null,null,null,null,null,null,null,null,null,null,null,null,null,"Massif et assimilés >90%",{"$f":"VLOOKUP(W298,R:T,3,FALSE)","v":53}]
[null,null,null,null,null,null,null,null,null,null,null,null,null,null,null,null,null,null,null,null,null,null,"Matériaux bio sourcés ou textiles non synthétiques >90%",{"$f":"VLOOKUP(W299,R:T,3,FALSE)","v":55}]
[null,null,null,null,null,null,null,null,null,null,null,null,null,null,null,null,null,null,null,null,null,null,"Matériaux ou fibres synthétiques >90%",{"$f":"VLOOKUP(W300,R:T,3,FALSE)","v":65}]
[null,null,null,null,null,null,null,null,null,null,null,null,null,null,null,null,null,null,null,null,null,null,"Membranes bitumineuses à plus de 90 %",{"$f":"VLOOKUP(W301,R:T,3,FALSE)","v":80}]
[null,null,null,null,null,null,null,null,null,null,null,null,null,null,null,null,null,null,null,null,null,null,"Métal >90%",{"$f":"VLOOKUP(W302,R:T,3,FALSE)","v":28}]
[null,null,null,null,null,null,null,null,null,null,null,null,null,null,null,null,null,null,null,null,null,null,"Miroir >90%",{"$f":"VLOOKUP(W303,R:T,3,FALSE)","v":69}]
[null,null,null,null,null,null,null,null,null,null,null,null,null,null,null,null,null,null,null,null,null,null,"Panneaux de particules ou OSB >90%",{"$f":"VLOOKUP(W304,R:T,3,FALSE)","v":61}]
[null,null,null,null,null,null,null,null,null,null,null,null,null,null,null,null,null,null,null,null,null,null,"Papier carton >50% avec d'autres matériaux (hors verre)",{"$f":"VLOOKUP(W305,R:T,3,FALSE)","v":"19"}]
[null,null,null,null,null,null,null,null,null,null,null,null,null,null,null,null,null,null,null,null,null,null,"PE ou PP ou mélange PP/PE >90%",{"$f":"VLOOKUP(W306,R:T,3,FALSE)","v":45}]
[null,null,null,null,null,null,null,null,null,null,null,null,null,null,null,null,null,null,null,null,null,null,"Plastiques (mono résine) >90%",{"$f":"VLOOKUP(W307,R:T,3,FALSE)","v":41}]
[null,null,null,null,null,null,null,null,null,null,null,null,null,null,null,null,null,null,null,null,null,null,"Plastiques ou autres matériaux synthétiques >50%",{"$f":"VLOOKUP(W308,R:T,3,FALSE)","v":"05"}]
[null,null,null,null,null,null,null,null,null,null,null,null,null,null,null,null,null,null,null,null,null,null,"Plâtre >50%",{"$f":"VLOOKUP(W309,R:T,3,FALSE)","v":76}]
[null,null,null,null,null,null,null,null,null,null,null,null,null,null,null,null,null,null,null,null,null,null,"Polystyrène >90%",{"$f":"VLOOKUP(W310,R:T,3,FALSE)","v":47}]
[null,null,null,null,null,null,null,null,null,null,null,null,null,null,null,null,null,null,null,null,null,null,"Polyterephtalate d'Ethylène (PET) >90%",{"$f":"VLOOKUP(W311,R:T,3,FALSE)","v":42}]
[null,null,null,null,null,null,null,null,null,null,null,null,null,null,null,null,null,null,null,null,null,null,"PVC >90%",{"$f":"VLOOKUP(W312,R:T,3,FALSE)","v":48}]
[null,null,null,null,null,null,null,null,null,null,null,null,null,null,null,null,null,null,null,null,null,null,"Autre matériau majoritaire",{"$f":"VLOOKUP(W313,R:T,3,FALSE)","v":12}]
[null,null,null,null,null,null,null,null,null,null,null,null,null,null,null,null,null,null,null,null,null,null,"Non connu ou non spécifié par l'entreprise",{"$f":"VLOOKUP(W314,R:T,3,FALSE)","v":"00"}]
[null,null,null,null,null,null,null,null,null,null,null,null,null,null,null,null,null,null,null,null,null,null,"B_355"]
[null,null,null,null,null,null,null,null,null,null,null,null,null,null,null,null,null,null,null,null,null,null,"ABS >90%",{"$f":"VLOOKUP(W316,R:T,3,FALSE)","v":46}]
[null,null,null,null,null,null,null,null,null,null,null,null,null,null,null,null,null,null,null,null,null,null,"Assemblage avec métal >50% et autres matériaux",{"$f":"VLOOKUP(W317,R:T,3,FALSE)","v":"02"}]
[null,null,null,null,null,null,null,null,null,null,null,null,null,null,null,null,null,null,null,null,null,null,"Assemblage de 3 matériaux ou plus sans un matériau à plus de 50%",{"$f":"VLOOKUP(W318,R:T,3,FALSE)","v":82}]
[null,null,null,null,null,null,null,null,null,null,null,null,null,null,null,null,null,null,null,null,null,null,"Assemblage de bois, dérivés de bois à plus de 50% avec d'autres matériaux ou bois composite (hors verre)",{"$f":"VLOOKUP(W319,R:T,3,FALSE)","v":"01"}]
[null,null,null,null,null,null,null,null,null,null,null,null,null,null,null,null,null,null,null,null,null,null,"Assemblage matériaux ou fibres synthétiques >50% avec d'autres matériaux",{"$f":"VLOOKUP(W320,R:T,3,FALSE)","v":67}]
[null,null,null,null,null,null,null,null,null,null,null,null,null,null,null,null,null,null,null,null,null,null,"Assemblage verre à plus de 50% avec bois ou dérivés de bois",{"$f":"VLOOKUP(W321,R:T,3,FALSE)","v":72}]
[null,null,null,null,null,null,null,null,null,null,null,null,null,null,null,null,null,null,null,null,null,null,"Assemblage verre à plus de 50% avec Inerte",{"$f":"VLOOKUP(W322,R:T,3,FALSE)","v":71}]
[null,null,null,null,null,null,null,null,null,null,null,null,null,null,null,null,null,null,null,null,null,null,"Assemblage verre à plus de 50% avec métal",{"$f":"VLOOKUP(W323,R:T,3,FALSE)","v":70}]
[null,null,null,null,null,null,null,null,null,null,null,null,null,null,null,null,null,null,null,null,null,null,"Assemblage verre à plus de 50% avec plastique",{"$f":"VLOOKUP(W324,R:T,3,FALSE)","v":73}]
[null,null,null,null,null,null,null,null,null,null,null,null,null,null,null,null,null,null,null,null,null,null,"Béton >90%",{"$f":"VLOOKUP(W325,R:T,3,FALSE)","v":74}]
[null,null,null,null,null,null,null,null,null,null,null,null,null,null,null,null,null,null,null,null,null,null,"Béton cellulaire >90%",{"$f":"VLOOKUP(W326,R:T,3,FALSE)","v":96}]
[null,null,null,null,null,null,null,null,null,null,null,null,null,null,null,null,null,null,null,null,null,null,"Dérivés de bois >90%",{"$f":"VLOOKUP(W327,R:T,3,FALSE)","v":62}]
[null,null,null,null,null,null,null,null,null,null,null,null,null,null,null,null,null,null,null,null,null,null,"Massif et assimilés >90%",{"$f":"VLOOKUP(W328,R:T,3,FALSE)","v":53}]
[null,null,null,null,null,null,null,null,null,null,null,null,null,null,null,null,null,null,null,null,null,null,"Matériaux bio sourcés ou textiles non synthétiques >90%",{"$f":"VLOOKUP(W329,R:T,3,FALSE)","v":55}]
[null,null,null,null,null,null,null,null,null,null,null,null,null,null,null,null,null,null,null,null,null,null,"Métal >90%",{"$f":"VLOOKUP(W330,R:T,3,FALSE)","v":28}]
[null,null,null,null,null,null,null,null,null,null,null,null,null,null,null,null,null,null,null,null,null,null,"Miroir >90%",{"$f":"VLOOKUP(W331,R:T,3,FALSE)","v":69}]
[null,null,null,null,null,null,null,null,null,null,null,null,null,null,null,null,null,null,null,null,null,null,"Panneaux de particules ou OSB >90%",{"$f":"VLOOKUP(W332,R:T,3,FALSE)","v":61}]
[null,null,null,null,null,null,null,null,null,null,null,null,null,null,null,null,null,null,null,null,null,null,"Papier carton >50% avec d'autres matériaux (hors verre)",{"$f":"VLOOKUP(W333,R:T,3,FALSE)","v":"19"}]
[null,null,null,null,null,null,null,null,null,null,null,null,null,null,null,null,null,null,null,null,null,null,"PE ou PP ou mélange PP/PE >90%",{"$f":"VLOOKUP(W334,R:T,3,FALSE)","v":45}]
[null,null,null,null,null,null,null,null,null,null,null,null,null,null,null,null,null,null,null,null,null,null,"Plastiques (mono résine) >90%",{"$f":"VLOOKUP(W335,R:T,3,FALSE)","v":41}]
[null,null,null,null,null,null,null,null,null,null,null,null,null,null,null,null,null,null,null,null,null,null,"Plastiques ou autres matériaux synthétiques >50%",{"$f":"VLOOKUP(W336,R:T,3,FALSE)","v":"05"}]
[null,null,null,null,null,null,null,null,null,null,null,null,null,null,null,null,null,null,null,null,null,null,"Polystyrène >90%",{"$f":"VLOOKUP(W337,R:T,3,FALSE)","v":47}]
[null,null,null,null,null,null,null,null,null,null,null,null,null,null,null,null,null,null,null,null,null,null,"Polyterephtalate d'Ethylène (PET) >90%",{"$f":"VLOOKUP(W338,R:T,3,FALSE)","v":42}]
[null,null,null,null,null,null,null,null,null,null,null,null,null,null,null,null,null,null,null,null,null,null,"PVC >90%",{"$f":"VLOOKUP(W339,R:T,3,FALSE)","v":48}]
[null,null,null,null,null,null,null,null,null,null,null,null,null,null,null,null,null,null,null,null,null,null,"Autre matériau majoritaire",{"$f":"VLOOKUP(W340,R:T,3,FALSE)","v":12}]
[null,null,null,null,null,null,null,null,null,null,null,null,null,null,null,null,null,null,null,null,null,null,"Non connu ou non spécifié par l'entreprise",{"$f":"VLOOKUP(W341,R:T,3,FALSE)","v":"00"}]
[null,null,null,null,null,null,null,null,null,null,null,null,null,null,null,null,null,null,null,null,null,null,"B_356"]
[null,null,null,null,null,null,null,null,null,null,null,null,null,null,null,null,null,null,null,null,null,null,"Assemblage avec métal >50% et autres matériaux",{"$f":"VLOOKUP(W343,R:T,3,FALSE)","v":"02"}]
[null,null,null,null,null,null,null,null,null,null,null,null,null,null,null,null,null,null,null,null,null,null,"Assemblage de 3 matériaux ou plus sans un matériau à plus de 50%",{"$f":"VLOOKUP(W344,R:T,3,FALSE)","v":82}]
[null,null,null,null,null,null,null,null,null,null,null,null,null,null,null,null,null,null,null,null,null,null,"Métal >90%",{"$f":"VLOOKUP(W345,R:T,3,FALSE)","v":28}]
[null,null,null,null,null,null,null,null,null,null,null,null,null,null,null,null,null,null,null,null,null,null,"Autre matériau majoritaire",{"$f":"VLOOKUP(W346,R:T,3,FALSE)","v":12}]
[null,null,null,null,null,null,null,null,null,null,null,null,null,null,null,null,null,null,null,null,null,null,"Non connu ou non spécifié par l'entreprise",{"$f":"VLOOKUP(W347,R:T,3,FALSE)","v":"00"}]
[null,null,null,null,null,null,null,null,null,null,null,null,null,null,null,null,null,null,null,null,null,null,"B_357"]
[null,null,null,null,null,null,null,null,null,null,null,null,null,null,null,null,null,null,null,null,null,null,"ABS >90%",{"$f":"VLOOKUP(W349,R:T,3,FALSE)","v":46}]
[null,null,null,null,null,null,null,null,null,null,null,null,null,null,null,null,null,null,null,null,null,null,"Assemblage avec métal >50% et autres matériaux",{"$f":"VLOOKUP(W350,R:T,3,FALSE)","v":"02"}]
[null,null,null,null,null,null,null,null,null,null,null,null,null,null,null,null,null,null,null,null,null,null,"Assemblage de 3 matériaux ou plus sans un matériau à plus de 50%",{"$f":"VLOOKUP(W351,R:T,3,FALSE)","v":82}]
[null,null,null,null,null,null,null,null,null,null,null,null,null,null,null,null,null,null,null,null,null,null,"Assemblage de bois, dérivés de bois à plus de 50% avec d'autres matériaux ou bois composite (hors verre)",{"$f":"VLOOKUP(W352,R:T,3,FALSE)","v":"01"}]
[null,null,null,null,null,null,null,null,null,null,null,null,null,null,null,null,null,null,null,null,null,null,"Assemblage matériaux ou fibres synthétiques >50% avec d'autres matériaux",{"$f":"VLOOKUP(W353,R:T,3,FALSE)","v":67}]
[null,null,null,null,null,null,null,null,null,null,null,null,null,null,null,null,null,null,null,null,null,null,"Caoutchouc naturel >50%",{"$f":"VLOOKUP(W354,R:T,3,FALSE)","v":64}]
[null,null,null,null,null,null,null,null,null,null,null,null,null,null,null,null,null,null,null,null,null,null,"Caoutchouc synthétique >90%",{"$f":"VLOOKUP(W355,R:T,3,FALSE)","v":49}]
[null,null,null,null,null,null,null,null,null,null,null,null,null,null,null,null,null,null,null,null,null,null,"Dérivés de bois >90%",{"$f":"VLOOKUP(W356,R:T,3,FALSE)","v":62}]
[null,null,null,null,null,null,null,null,null,null,null,null,null,null,null,null,null,null,null,null,null,null,"Massif et assimilés >90%",{"$f":"VLOOKUP(W357,R:T,3,FALSE)","v":53}]
[null,null,null,null,null,null,null,null,null,null,null,null,null,null,null,null,null,null,null,null,null,null,"Matériaux bio sourcés ou textiles non synthétiques >90%",{"$f":"VLOOKUP(W358,R:T,3,FALSE)","v":55}]
[null,null,null,null,null,null,null,null,null,null,null,null,null,null,null,null,null,null,null,null,null,null,"Métal >90%",{"$f":"VLOOKUP(W359,R:T,3,FALSE)","v":28}]
[null,null,null,null,null,null,null,null,null,null,null,null,null,null,null,null,null,null,null,null,null,null,"Panneaux de particules ou OSB >90%",{"$f":"VLOOKUP(W360,R:T,3,FALSE)","v":61}]
[null,null,null,null,null,null,null,null,null,null,null,null,null,null,null,null,null,null,null,null,null,null,"Papier carton >50% avec d'autres matériaux (hors verre)",{"$f":"VLOOKUP(W361,R:T,3,FALSE)","v":"19"}]
[null,null,null,null,null,null,null,null,null,null,null,null,null,null,null,null,null,null,null,null,null,null,"PE ou PP ou mélange PP/PE >90%",{"$f":"VLOOKUP(W362,R:T,3,FALSE)","v":45}]
[null,null,null,null,null,null,null,null,null,null,null,null,null,null,null,null,null,null,null,null,null,null,"Plastiques (mono résine) >90%",{"$f":"VLOOKUP(W363,R:T,3,FALSE)","v":41}]
[null,null,null,null,null,null,null,null,null,null,null,null,null,null,null,null,null,null,null,null,null,null,"Plastiques ou autres matériaux synthétiques >50%",{"$f":"VLOOKUP(W364,R:T,3,FALSE)","v":"05"}]
[null,null,null,null,null,null,null,null,null,null,null,null,null,null,null,null,null,null,null,null,null,null,"Polystyrène >90%",{"$f":"VLOOKUP(W365,R:T,3,FALSE)","v":47}]
[null,null,null,null,null,null,null,null,null,null,null,null,null,null,null,null,null,null,null,null,null,null,"Polyterephtalate d'Ethylène (PET) >90%",{"$f":"VLOOKUP(W366,R:T,3,FALSE)","v":42}]
[null,null,null,null,null,null,null,null,null,null,null,null,null,null,null,null,null,null,null,null,null,null,"PVC >90%",{"$f":"VLOOKUP(W367,R:T,3,FALSE)","v":48}]
[null,null,null,null,null,null,null,null,null,null,null,null,null,null,null,null,null,null,null,null,null,null,"Autre matériau majoritaire",{"$f":"VLOOKUP(W368,R:T,3,FALSE)","v":12}]
[null,null,null,null,null,null,null,null,null,null,null,null,null,null,null,null,null,null,null,null,null,null,"Non connu ou non spécifié par l'entreprise",{"$f":"VLOOKUP(W369,R:T,3,FALSE)","v":"00"}]
[null,null,null,null,null,null,null,null,null,null,null,null,null,null,null,null,null,null,null,null,null,null,"B_360"]
[null,null,null,null,null,null,null,null,null,null,null,null,null,null,null,null,null,null,null,null,null,null,"ABS >90%",{"$f":"VLOOKUP(W371,R:T,3,FALSE)","v":46}]
[null,null,null,null,null,null,null,null,null,null,null,null,null,null,null,null,null,null,null,null,null,null,"Assemblage avec métal >50% et autres matériaux",{"$f":"VLOOKUP(W372,R:T,3,FALSE)","v":"02"}]
[null,null,null,null,null,null,null,null,null,null,null,null,null,null,null,null,null,null,null,null,null,null,"Assemblage de 3 matériaux ou plus sans un matériau à plus de 50%",{"$f":"VLOOKUP(W373,R:T,3,FALSE)","v":82}]
[null,null,null,null,null,null,null,null,null,null,null,null,null,null,null,null,null,null,null,null,null,null,"Assemblage de bois, dérivés de bois à plus de 50% avec d'autres matériaux ou bois composite (hors verre)",{"$f":"VLOOKUP(W374,R:T,3,FALSE)","v":"01"}]
[null,null,null,null,null,null,null,null,null,null,null,null,null,null,null,null,null,null,null,null,null,null,"Assemblage matériaux ou fibres synthétiques >50% avec d'autres matériaux",{"$f":"VLOOKUP(W375,R:T,3,FALSE)","v":67}]
[null,null,null,null,null,null,null,null,null,null,null,null,null,null,null,null,null,null,null,null,null,null,"Assemblage verre à plus de 50% avec bois ou dérivés de bois",{"$f":"VLOOKUP(W376,R:T,3,FALSE)","v":72}]
[null,null,null,null,null,null,null,null,null,null,null,null,null,null,null,null,null,null,null,null,null,null,"Assemblage verre à plus de 50% avec Inerte",{"$f":"VLOOKUP(W377,R:T,3,FALSE)","v":71}]
[null,null,null,null,null,null,null,null,null,null,null,null,null,null,null,null,null,null,null,null,null,null,"Assemblage verre à plus de 50% avec métal",{"$f":"VLOOKUP(W378,R:T,3,FALSE)","v":70}]
[null,null,null,null,null,null,null,null,null,null,null,null,null,null,null,null,null,null,null,null,null,null,"Assemblage verre à plus de 50% avec plastique",{"$f":"VLOOKUP(W379,R:T,3,FALSE)","v":73}]
[null,null,null,null,null,null,null,null,null,null,null,null,null,null,null,null,null,null,null,null,null,null,"Caoutchouc naturel >50%",{"$f":"VLOOKUP(W380,R:T,3,FALSE)","v":64}]
[null,null,null,null,null,null,null,null,null,null,null,null,null,null,null,null,null,null,null,null,null,null,"Caoutchouc synthétique >90%",{"$f":"VLOOKUP(W381,R:T,3,FALSE)","v":49}]
[null,null,null,null,null,null,null,null,null,null,null,null,null,null,null,null,null,null,null,null,null,null,"Dérivés de bois >90%",{"$f":"VLOOKUP(W382,R:T,3,FALSE)","v":62}]
[null,null,null,null,null,null,null,null,null,null,null,null,null,null,null,null,null,null,null,null,null,null,"Massif et assimilés >90%",{"$f":"VLOOKUP(W383,R:T,3,FALSE)","v":53}]
[null,null,null,null,null,null,null,null,null,null,null,null,null,null,null,null,null,null,null,null,null,null,"Matériaux bio sourcés ou textiles non synthétiques >90%",{"$f":"VLOOKUP(W384,R:T,3,FALSE)","v":55}]
[null,null,null,null,null,null,null,null,null,null,null,null,null,null,null,null,null,null,null,null,null,null,"Matériaux ou fibres synthétiques >90%",{"$f":"VLOOKUP(W385,R:T,3,FALSE)","v":65}]
[null,null,null,null,null,null,null,null,null,null,null,null,null,null,null,null,null,null,null,null,null,null,"Membranes bitumineuses à plus de 90 %",{"$f":"VLOOKUP(W386,R:T,3,FALSE)","v":80}]
[null,null,null,null,null,null,null,null,null,null,null,null,null,null,null,null,null,null,null,null,null,null,"Métal >90%",{"$f":"VLOOKUP(W387,R:T,3,FALSE)","v":28}]
[null,null,null,null,null,null,null,null,null,null,null,null,null,null,null,null,null,null,null,null,null,null,"Miroir >90%",{"$f":"VLOOKUP(W388,R:T,3,FALSE)","v":69}]
[null,null,null,null,null,null,null,null,null,null,null,null,null,null,null,null,null,null,null,null,null,null,"Panneaux de particules ou OSB >90%",{"$f":"VLOOKUP(W389,R:T,3,FALSE)","v":61}]
[null,null,null,null,null,null,null,null,null,null,null,null,null,null,null,null,null,null,null,null,null,null,"Papier carton >50% avec d'autres matériaux (hors verre)",{"$f":"VLOOKUP(W390,R:T,3,FALSE)","v":"19"}]
[null,null,null,null,null,null,null,null,null,null,null,null,null,null,null,null,null,null,null,null,null,null,"PE ou PP ou mélange PP/PE >90%",{"$f":"VLOOKUP(W391,R:T,3,FALSE)","v":45}]
[null,null,null,null,null,null,null,null,null,null,null,null,null,null,null,null,null,null,null,null,null,null,"Plastiques (mono résine) >90%",{"$f":"VLOOKUP(W392,R:T,3,FALSE)","v":41}]
[null,null,null,null,null,null,null,null,null,null,null,null,null,null,null,null,null,null,null,null,null,null,"Plastiques ou autres matériaux synthétiques >50%",{"$f":"VLOOKUP(W393,R:T,3,FALSE)","v":"05"}]
[null,null,null,null,null,null,null,null,null,null,null,null,null,null,null,null,null,null,null,null,null,null,"Plâtre >50%",{"$f":"VLOOKUP(W394,R:T,3,FALSE)","v":76}]
[null,null,null,null,null,null,null,null,null,null,null,null,null,null,null,null,null,null,null,null,null,null,"Plâtre >90%",{"$f":"VLOOKUP(W395,R:T,3,FALSE)","v":75}]
[null,null,null,null,null,null,null,null,null,null,null,null,null,null,null,null,null,null,null,null,null,null,"Polystyrène >90%",{"$f":"VLOOKUP(W396,R:T,3,FALSE)","v":47}]
[null,null,null,null,null,null,null,null,null,null,null,null,null,null,null,null,null,null,null,null,null,null,"Polyterephtalate d'Ethylène (PET) >90%",{"$f":"VLOOKUP(W397,R:T,3,FALSE)","v":42}]
[null,null,null,null,null,null,null,null,null,null,null,null,null,null,null,null,null,null,null,null,null,null,"PVC >90%",{"$f":"VLOOKUP(W398,R:T,3,FALSE)","v":48}]
[null,null,null,null,null,null,null,null,null,null,null,null,null,null,null,null,null,null,null,null,null,null,"Autre matériau majoritaire",{"$f":"VLOOKUP(W399,R:T,3,FALSE)","v":12}]
[null,null,null,null,null,null,null,null,null,null,null,null,null,null,null,null,null,null,null,null,null,null,"Non connu ou non spécifié par l'entreprise",{"$f":"VLOOKUP(W400,R:T,3,FALSE)","v":"00"}]
[null,null,null,null,null,null,null,null,null,null,null,null,null,null,null,null,null,null,null,null,null,null,"B_361",null,"FOR"]
[null,null,null,null,null,null,null,null,null,null,null,null,null,null,null,null,null,null,null,null,null,null,"Plâtre >50%",{"$f":"VLOOKUP(W402,R:T,3,FALSE)","v":76}]
[null,null,null,null,null,null,null,null,null,null,null,null,null,null,null,null,null,null,null,null,null,null,"Plâtre >90%",{"$f":"VLOOKUP(W403,R:T,3,FALSE)","v":75}]
[null,null,null,null,null,null,null,null,null,null,null,null,null,null,null,null,null,null,null,null,null,null,"Autre matériau majoritaire",{"$f":"VLOOKUP(W404,R:T,3,FALSE)","v":12}]
[null,null,null,null,null,null,null,null,null,null,null,null,null,null,null,null,null,null,null,null,null,null,"B_370",null,"FOR_ISOL"]
[null,null,null,null,null,null,null,null,null,null,null,null,null,null,null,null,null,null,null,null,null,null,"Assemblage avec métal >50% et autres matériaux",{"$f":"VLOOKUP(W406,R:T,3,FALSE)","v":"02"}]
[null,null,null,null,null,null,null,null,null,null,null,null,null,null,null,null,null,null,null,null,null,null,"Assemblage de 3 matériaux ou plus sans un matériau à plus de 50%",{"$f":"VLOOKUP(W407,R:T,3,FALSE)","v":82}]
[null,null,null,null,null,null,null,null,null,null,null,null,null,null,null,null,null,null,null,null,null,null,"Assemblage de laines de verre ou laines de roches à plus de 50% et d'autres matériaux",{"$f":"VLOOKUP(W408,R:T,3,FALSE)","v":79}]
[null,null,null,null,null,null,null,null,null,null,null,null,null,null,null,null,null,null,null,null,null,null,"Laine de verre à plus de 90 %",{"$f":"VLOOKUP(W409,R:T,3,FALSE)","v":78}]
[null,null,null,null,null,null,null,null,null,null,null,null,null,null,null,null,null,null,null,null,null,null,"Laines de roche à plus de 90 %",{"$f":"VLOOKUP(W410,R:T,3,FALSE)","v":77}]
[null,null,null,null,null,null,null,null,null,null,null,null,null,null,null,null,null,null,null,null,null,null,"Matériaux bio sourcés ou textiles non synthétiques >90%",{"$f":"VLOOKUP(W411,R:T,3,FALSE)","v":55}]
[null,null,null,null,null,null,null,null,null,null,null,null,null,null,null,null,null,null,null,null,null,null,"Matériaux ou fibres synthétiques >90%",{"$f":"VLOOKUP(W412,R:T,3,FALSE)","v":65}]
[null,null,null,null,null,null,null,null,null,null,null,null,null,null,null,null,null,null,null,null,null,null,"Métal >90%",{"$f":"VLOOKUP(W413,R:T,3,FALSE)","v":28}]
[null,null,null,null,null,null,null,null,null,null,null,null,null,null,null,null,null,null,null,null,null,null,"Autre matériau majoritaire",{"$f":"VLOOKUP(W414,R:T,3,FALSE)","v":12}]
[null,null,null,null,null,null,null,null,null,null,null,null,null,null,null,null,null,null,null,null,null,null,"Non connu ou non spécifié par l'entreprise",{"$f":"VLOOKUP(W415,R:T,3,FALSE)","v":"00"}]
[null,null,null,null,null,null,null,null,null,null,null,null,null,null,null,null,null,null,null,null,null,null,"B_371"]
[null,null,null,null,null,null,null,null,null,null,null,null,null,null,null,null,null,null,null,null,null,null,"ABS >90%",{"$f":"VLOOKUP(W417,R:T,3,FALSE)","v":46}]
[null,null,null,null,null,null,null,null,null,null,null,null,null,null,null,null,null,null,null,null,null,null,"Assemblage avec métal >50% et autres matériaux",{"$f":"VLOOKUP(W418,R:T,3,FALSE)","v":"02"}]
[null,null,null,null,null,null,null,null,null,null,null,null,null,null,null,null,null,null,null,null,null,null,"Assemblage de 3 matériaux ou plus sans un matériau à plus de 50%",{"$f":"VLOOKUP(W419,R:T,3,FALSE)","v":82}]
[null,null,null,null,null,null,null,null,null,null,null,null,null,null,null,null,null,null,null,null,null,null,"Assemblage de bois, dérivés de bois à plus de 50% avec d'autres matériaux ou bois composite (hors verre)",{"$f":"VLOOKUP(W420,R:T,3,FALSE)","v":"01"}]
[null,null,null,null,null,null,null,null,null,null,null,null,null,null,null,null,null,null,null,null,null,null,"Assemblage de laines de verre ou laines de roches à plus de 50% et d'autres matériaux",{"$f":"VLOOKUP(W421,R:T,3,FALSE)","v":79}]
[null,null,null,null,null,null,null,null,null,null,null,null,null,null,null,null,null,null,null,null,null,null,"Assemblage matériaux ou fibres synthétiques >50% avec d'autres matériaux",{"$f":"VLOOKUP(W422,R:T,3,FALSE)","v":67}]
[null,null,null,null,null,null,null,null,null,null,null,null,null,null,null,null,null,null,null,null,null,null,"Caoutchouc naturel >50%",{"$f":"VLOOKUP(W423,R:T,3,FALSE)","v":64}]
[null,null,null,null,null,null,null,null,null,null,null,null,null,null,null,null,null,null,null,null,null,null,"Caoutchouc synthétique >90%",{"$f":"VLOOKUP(W424,R:T,3,FALSE)","v":49}]
[null,null,null,null,null,null,null,null,null,null,null,null,null,null,null,null,null,null,null,null,null,null,"Dérivés de bois >90%",{"$f":"VLOOKUP(W425,R:T,3,FALSE)","v":62}]
[null,null,null,null,null,null,null,null,null,null,null,null,null,null,null,null,null,null,null,null,null,null,"Laines de roche à plus de 90 %",{"$f":"VLOOKUP(W426,R:T,3,FALSE)","v":77}]
[null,null,null,null,null,null,null,null,null,null,null,null,null,null,null,null,null,null,null,null,null,null,"Massif et assimilés >90%",{"$f":"VLOOKUP(W427,R:T,3,FALSE)","v":53}]
[null,null,null,null,null,null,null,null,null,null,null,null,null,null,null,null,null,null,null,null,null,null,"Matériaux bio sourcés ou textiles non synthétiques >90%",{"$f":"VLOOKUP(W428,R:T,3,FALSE)","v":55}]
[null,null,null,null,null,null,null,null,null,null,null,null,null,null,null,null,null,null,null,null,null,null,"Matériaux ou fibres synthétiques >90%",{"$f":"VLOOKUP(W429,R:T,3,FALSE)","v":65}]
[null,null,null,null,null,null,null,null,null,null,null,null,null,null,null,null,null,null,null,null,null,null,"Métal >90%",{"$f":"VLOOKUP(W430,R:T,3,FALSE)","v":28}]
[null,null,null,null,null,null,null,null,null,null,null,null,null,null,null,null,null,null,null,null,null,null,"Panneaux de particules ou OSB >90%",{"$f":"VLOOKUP(W431,R:T,3,FALSE)","v":61}]
[null,null,null,null,null,null,null,null,null,null,null,null,null,null,null,null,null,null,null,null,null,null,"Papier carton >50% avec d'autres matériaux (hors verre)",{"$f":"VLOOKUP(W432,R:T,3,FALSE)","v":"19"}]
[null,null,null,null,null,null,null,null,null,null,null,null,null,null,null,null,null,null,null,null,null,null,"PE ou PP ou mélange PP/PE >90%",{"$f":"VLOOKUP(W433,R:T,3,FALSE)","v":45}]
[null,null,null,null,null,null,null,null,null,null,null,null,null,null,null,null,null,null,null,null,null,null,"Plastiques (mono résine) >90%",{"$f":"VLOOKUP(W434,R:T,3,FALSE)","v":41}]
[null,null,null,null,null,null,null,null,null,null,null,null,null,null,null,null,null,null,null,null,null,null,"Plastiques ou autres matériaux synthétiques >50%",{"$f":"VLOOKUP(W435,R:T,3,FALSE)","v":"05"}]
[null,null,null,null,null,null,null,null,null,null,null,null,null,null,null,null,null,null,null,null,null,null,"Plâtre >50%",{"$f":"VLOOKUP(W436,R:T,3,FALSE)","v":76}]
[null,null,null,null,null,null,null,null,null,null,null,null,null,null,null,null,null,null,null,null,null,null,"Polystyrène >90%",{"$f":"VLOOKUP(W437,R:T,3,FALSE)","v":47}]
[null,null,null,null,null,null,null,null,null,null,null,null,null,null,null,null,null,null,null,null,null,null,"Polyterephtalate d'Ethylène (PET) >90%",{"$f":"VLOOKUP(W438,R:T,3,FALSE)","v":42}]
[null,null,null,null,null,null,null,null,null,null,null,null,null,null,null,null,null,null,null,null,null,null,"PVC >90%",{"$f":"VLOOKUP(W439,R:T,3,FALSE)","v":48}]
[null,null,null,null,null,null,null,null,null,null,null,null,null,null,null,null,null,null,null,null,null,null,"Autre matériau majoritaire",{"$f":"VLOOKUP(W440,R:T,3,FALSE)","v":12}]
[null,null,null,null,null,null,null,null,null,null,null,null,null,null,null,null,null,null,null,null,null,null,"Non connu ou non spécifié par l'entreprise",{"$f":"VLOOKUP(W441,R:T,3,FALSE)","v":"00"}]
[null,null,null,null,null,null,null,null,null,null,null,null,null,null,null,null,null,null,null,null,null,null,"B_380",null,"FOR"]
[null,null,null,null,null,null,null,null,null,null,null,null,null,null,null,null,null,null,null,null,null,null,"ABS >90%",{"$f":"VLOOKUP(W443,R:T,3,FALSE)","v":46}]
[null,null,null,null,null,null,null,null,null,null,null,null,null,null,null,null,null,null,null,null,null,null,"Assemblage avec métal >50% et autres matériaux",{"$f":"VLOOKUP(W444,R:T,3,FALSE)","v":"02"}]
[null,null,null,null,null,null,null,null,null,null,null,null,null,null,null,null,null,null,null,null,null,null,"Assemblage de 3 matériaux ou plus sans un matériau à plus de 50%",{"$f":"VLOOKUP(W445,R:T,3,FALSE)","v":82}]
[null,null,null,null,null,null,null,null,null,null,null,null,null,null,null,null,null,null,null,null,null,null,"Assemblage de bois, dérivés de bois à plus de 50% avec d'autres matériaux ou bois composite (hors verre)",{"$f":"VLOOKUP(W446,R:T,3,FALSE)","v":"01"}]
[null,null,null,null,null,null,null,null,null,null,null,null,null,null,null,null,null,null,null,null,null,null,"Assemblage matériaux ou fibres synthétiques >50% avec d'autres matériaux",{"$f":"VLOOKUP(W447,R:T,3,FALSE)","v":67}]
[null,null,null,null,null,null,null,null,null,null,null,null,null,null,null,null,null,null,null,null,null,null,"Assemblage verre à plus de 50% avec bois ou dérivés de bois",{"$f":"VLOOKUP(W448,R:T,3,FALSE)","v":72}]
[null,null,null,null,null,null,null,null,null,null,null,null,null,null,null,null,null,null,null,null,null,null,"Assemblage verre à plus de 50% avec Inerte",{"$f":"VLOOKUP(W449,R:T,3,FALSE)","v":71}]
[null,null,null,null,null,null,null,null,null,null,null,null,null,null,null,null,null,null,null,null,null,null,"Assemblage verre à plus de 50% avec métal",{"$f":"VLOOKUP(W450,R:T,3,FALSE)","v":70}]
[null,null,null,null,null,null,null,null,null,null,null,null,null,null,null,null,null,null,null,null,null,null,"Assemblage verre à plus de 50% avec plastique",{"$f":"VLOOKUP(W451,R:T,3,FALSE)","v":73}]
[null,null,null,null,null,null,null,null,null,null,null,null,null,null,null,null,null,null,null,null,null,null,"Dérivés de bois >90%",{"$f":"VLOOKUP(W452,R:T,3,FALSE)","v":62}]
[null,null,null,null,null,null,null,null,null,null,null,null,null,null,null,null,null,null,null,null,null,null,"Massif et assimilés >90%",{"$f":"VLOOKUP(W453,R:T,3,FALSE)","v":53}]
[null,null,null,null,null,null,null,null,null,null,null,null,null,null,null,null,null,null,null,null,null,null,"Matériaux bio sourcés ou textiles non synthétiques >90%",{"$f":"VLOOKUP(W454,R:T,3,FALSE)","v":55}]
[null,null,null,null,null,null,null,null,null,null,null,null,null,null,null,null,null,null,null,null,null,null,"Métal >90%",{"$f":"VLOOKUP(W455,R:T,3,FALSE)","v":28}]
[null,null,null,null,null,null,null,null,null,null,null,null,null,null,null,null,null,null,null,null,null,null,"Panneaux de particules ou OSB >90%",{"$f":"VLOOKUP(W456,R:T,3,FALSE)","v":61}]
[null,null,null,null,null,null,null,null,null,null,null,null,null,null,null,null,null,null,null,null,null,null,"PE ou PP ou mélange PP/PE >90%",{"$f":"VLOOKUP(W457,R:T,3,FALSE)","v":45}]
[null,null,null,null,null,null,null,null,null,null,null,null,null,null,null,null,null,null,null,null,null,null,"Plastiques (mono résine) >90%",{"$f":"VLOOKUP(W458,R:T,3,FALSE)","v":41}]
[null,null,null,null,null,null,null,null,null,null,null,null,null,null,null,null,null,null,null,null,null,null,"Plastiques ou autres matériaux synthétiques >50%",{"$f":"VLOOKUP(W459,R:T,3,FALSE)","v":"05"}]
[null,null,null,null,null,null,null,null,null,null,null,null,null,null,null,null,null,null,null,null,null,null,"Polystyrène >90%",{"$f":"VLOOKUP(W460,R:T,3,FALSE)","v":47}]
[null,null,null,null,null,null,null,null,null,null,null,null,null,null,null,null,null,null,null,null,null,null,"Polyterephtalate d'Ethylène (PET) >90%",{"$f":"VLOOKUP(W461,R:T,3,FALSE)","v":42}]
[null,null,null,null,null,null,null,null,null,null,null,null,null,null,null,null,null,null,null,null,null,null,"PVC >90%",{"$f":"VLOOKUP(W462,R:T,3,FALSE)","v":48}]
[null,null,null,null,null,null,null,null,null,null,null,null,null,null,null,null,null,null,null,null,null,null,"Verre >90%",{"$f":"VLOOKUP(W463,R:T,3,FALSE)","v":68}]
[null,null,null,null,null,null,null,null,null,null,null,null,null,null,null,null,null,null,null,null,null,null,"Autre matériau majoritaire",{"$f":"VLOOKUP(W464,R:T,3,FALSE)","v":12}]
[null,null,null,null,null,null,null,null,null,null,null,null,null,null,null,null,null,null,null,null,null,null,"Non connu ou non spécifié par l'entreprise",{"$f":"VLOOKUP(W465,R:T,3,FALSE)","v":"00"}]
[null,null,null,null,null,null,null,null,null,null,null,null,null,null,null,null,null,null,null,null,null,null,"B_381",null,"FOR"]
[null,null,null,null,null,null,null,null,null,null,null,null,null,null,null,null,null,null,null,null,null,null,"Assemblage de 3 matériaux ou plus sans un matériau à plus de 50%",{"$f":"VLOOKUP(W467,R:T,3,FALSE)","v":82}]
[null,null,null,null,null,null,null,null,null,null,null,null,null,null,null,null,null,null,null,null,null,null,"Assemblage de bois, dérivés de bois à plus de 50% avec d'autres matériaux ou bois composite (hors verre)",{"$f":"VLOOKUP(W468,R:T,3,FALSE)","v":"01"}]
[null,null,null,null,null,null,null,null,null,null,null,null,null,null,null,null,null,null,null,null,null,null,"Béton >90%",{"$f":"VLOOKUP(W469,R:T,3,FALSE)","v":74}]
[null,null,null,null,null,null,null,null,null,null,null,null,null,null,null,null,null,null,null,null,null,null,"Dérivés de bois >90%",{"$f":"VLOOKUP(W470,R:T,3,FALSE)","v":62}]
[null,null,null,null,null,null,null,null,null,null,null,null,null,null,null,null,null,null,null,null,null,null,"Massif et assimilés >90%",{"$f":"VLOOKUP(W471,R:T,3,FALSE)","v":53}]
[null,null,null,null,null,null,null,null,null,null,null,null,null,null,null,null,null,null,null,null,null,null,"Matériaux bio sourcés ou textiles non synthétiques >90%",{"$f":"VLOOKUP(W472,R:T,3,FALSE)","v":55}]
[null,null,null,null,null,null,null,null,null,null,null,null,null,null,null,null,null,null,null,null,null,null,"Panneaux de particules ou OSB >90%",{"$f":"VLOOKUP(W473,R:T,3,FALSE)","v":61}]
[null,null,null,null,null,null,null,null,null,null,null,null,null,null,null,null,null,null,null,null,null,null,"Verre >90%",{"$f":"VLOOKUP(W474,R:T,3,FALSE)","v":68}]
[null,null,null,null,null,null,null,null,null,null,null,null,null,null,null,null,null,null,null,null,null,null,"Autre matériau majoritaire",{"$f":"VLOOKUP(W475,R:T,3,FALSE)","v":12}]
[null,null,null,null,null,null,null,null,null,null,null,null,null,null,null,null,null,null,null,null,null,null,"Non connu ou non spécifié par l'entreprise",{"$f":"VLOOKUP(W476,R:T,3,FALSE)","v":"00"}]
[null,null,null,null,null,null,null,null,null,null,null,null,null,null,null,null,null,null,null,null,null,null,"B_382",null,"FOR"]
[null,null,null,null,null,null,null,null,null,null,null,null,null,null,null,null,null,null,null,null,null,null,"ABS >90%",{"$f":"VLOOKUP(W478,R:T,3,FALSE)","v":46}]
[null,null,null,null,null,null,null,null,null,null,null,null,null,null,null,null,null,null,null,null,null,null,"Assemblage avec métal >50% et autres matériaux",{"$f":"VLOOKUP(W479,R:T,3,FALSE)","v":"02"}]
[null,null,null,null,null,null,null,null,null,null,null,null,null,null,null,null,null,null,null,null,null,null,"Assemblage de 3 matériaux ou plus sans un matériau à plus de 50%",{"$f":"VLOOKUP(W480,R:T,3,FALSE)","v":82}]
[null,null,null,null,null,null,null,null,null,null,null,null,null,null,null,null,null,null,null,null,null,null,"Assemblage de bois, dérivés de bois à plus de 50% avec d'autres matériaux ou bois composite (hors verre)",{"$f":"VLOOKUP(W481,R:T,3,FALSE)","v":"01"}]
[null,null,null,null,null,null,null,null,null,null,null,null,null,null,null,null,null,null,null,null,null,null,"Assemblage matériaux ou fibres synthétiques >50% avec d'autres matériaux",{"$f":"VLOOKUP(W482,R:T,3,FALSE)","v":67}]
[null,null,null,null,null,null,null,null,null,null,null,null,null,null,null,null,null,null,null,null,null,null,"Dérivés de bois >90%",{"$f":"VLOOKUP(W483,R:T,3,FALSE)","v":62}]
[null,null,null,null,null,null,null,null,null,null,null,null,null,null,null,null,null,null,null,null,null,null,"Massif et assimilés >90%",{"$f":"VLOOKUP(W484,R:T,3,FALSE)","v":53}]
[null,null,null,null,null,null,null,null,null,null,null,null,null,null,null,null,null,null,null,null,null,null,"Matériaux bio sourcés ou textiles non synthétiques >90%",{"$f":"VLOOKUP(W485,R:T,3,FALSE)","v":55}]
[null,null,null,null,null,null,null,null,null,null,null,null,null,null,null,null,null,null,null,null,null,null,"Métal >90%",{"$f":"VLOOKUP(W486,R:T,3,FALSE)","v":28}]
[null,null,null,null,null,null,null,null,null,null,null,null,null,null,null,null,null,null,null,null,null,null,"Panneaux de particules ou OSB >90%",{"$f":"VLOOKUP(W487,R:T,3,FALSE)","v":61}]
[null,null,null,null,null,null,null,null,null,null,null,null,null,null,null,null,null,null,null,null,null,null,"PE ou PP ou mélange PP/PE >90%",{"$f":"VLOOKUP(W488,R:T,3,FALSE)","v":45}]
[null,null,null,null,null,null,null,null,null,null,null,null,null,null,null,null,null,null,null,null,null,null,"Plastiques (mono résine) >90%",{"$f":"VLOOKUP(W489,R:T,3,FALSE)","v":41}]
[null,null,null,null,null,null,null,null,null,null,null,null,null,null,null,null,null,null,null,null,null,null,"Plastiques ou autres matériaux synthétiques >50%",{"$f":"VLOOKUP(W490,R:T,3,FALSE)","v":"05"}]
[null,null,null,null,null,null,null,null,null,null,null,null,null,null,null,null,null,null,null,null,null,null,"Polystyrène >90%",{"$f":"VLOOKUP(W491,R:T,3,FALSE)","v":47}]
[null,null,null,null,null,null,null,null,null,null,null,null,null,null,null,null,null,null,null,null,null,null,"Polyterephtalate d'Ethylène (PET) >90%",{"$f":"VLOOKUP(W492,R:T,3,FALSE)","v":42}]
[null,null,null,null,null,null,null,null,null,null,null,null,null,null,null,null,null,null,null,null,null,null,"PVC >90%",{"$f":"VLOOKUP(W493,R:T,3,FALSE)","v":48}]
[null,null,null,null,null,null,null,null,null,null,null,null,null,null,null,null,null,null,null,null,null,null,"Autre matériau majoritaire",{"$f":"VLOOKUP(W494,R:T,3,FALSE)","v":12}]
[null,null,null,null,null,null,null,null,null,null,null,null,null,null,null,null,null,null,null,null,null,null,"Non connu ou non spécifié par l'entreprise",{"$f":"VLOOKUP(W495,R:T,3,FALSE)","v":"00"}]
[null,null,null,null,null,null,null,null,null,null,null,null,null,null,null,null,null,null,null,null,null,null,"B_383",null,"FOR"]
[null,null,null,null,null,null,null,null,null,null,null,null,null,null,null,null,null,null,null,null,null,null,"ABS >90%",{"$f":"VLOOKUP(W497,R:T,3,FALSE)","v":46}]
[null,null,null,null,null,null,null,null,null,null,null,null,null,null,null,null,null,null,null,null,null,null,"Assemblage avec métal >50% et autres matériaux",{"$f":"VLOOKUP(W498,R:T,3,FALSE)","v":"02"}]
[null,null,null,null,null,null,null,null,null,null,null,null,null,null,null,null,null,null,null,null,null,null,"Assemblage de 3 matériaux ou plus sans un matériau à plus de 50%",{"$f":"VLOOKUP(W499,R:T,3,FALSE)","v":82}]
[null,null,null,null,null,null,null,null,null,null,null,null,null,null,null,null,null,null,null,null,null,null,"Assemblage de bois, dérivés de bois à plus de 50% avec d'autres matériaux ou bois composite (hors verre)",{"$f":"VLOOKUP(W500,R:T,3,FALSE)","v":"01"}]
[null,null,null,null,null,null,null,null,null,null,null,null,null,null,null,null,null,null,null,null,null,null,"Assemblage matériaux ou fibres synthétiques >50% avec d'autres matériaux",{"$f":"VLOOKUP(W501,R:T,3,FALSE)","v":67}]
[null,null,null,null,null,null,null,null,null,null,null,null,null,null,null,null,null,null,null,null,null,null,"Assemblage verre à plus de 50% avec bois ou dérivés de bois",{"$f":"VLOOKUP(W502,R:T,3,FALSE)","v":72}]
[null,null,null,null,null,null,null,null,null,null,null,null,null,null,null,null,null,null,null,null,null,null,"Assemblage verre à plus de 50% avec Inerte",{"$f":"VLOOKUP(W503,R:T,3,FALSE)","v":71}]
[null,null,null,null,null,null,null,null,null,null,null,null,null,null,null,null,null,null,null,null,null,null,"Assemblage verre à plus de 50% avec métal",{"$f":"VLOOKUP(W504,R:T,3,FALSE)","v":70}]
[null,null,null,null,null,null,null,null,null,null,null,null,null,null,null,null,null,null,null,null,null,null,"Assemblage verre à plus de 50% avec plastique",{"$f":"VLOOKUP(W505,R:T,3,FALSE)","v":73}]
[null,null,null,null,null,null,null,null,null,null,null,null,null,null,null,null,null,null,null,null,null,null,"Béton >90%",{"$f":"VLOOKUP(W506,R:T,3,FALSE)","v":74}]
[null,null,null,null,null,null,null,null,null,null,null,null,null,null,null,null,null,null,null,null,null,null,"Dérivés de bois >90%",{"$f":"VLOOKUP(W507,R:T,3,FALSE)","v":62}]
[null,null,null,null,null,null,null,null,null,null,null,null,null,null,null,null,null,null,null,null,null,null,"Massif et assimilés >90%",{"$f":"VLOOKUP(W508,R:T,3,FALSE)","v":53}]
[null,null,null,null,null,null,null,null,null,null,null,null,null,null,null,null,null,null,null,null,null,null,"Matériaux bio sourcés ou textiles non synthétiques >90%",{"$f":"VLOOKUP(W509,R:T,3,FALSE)","v":55}]
[null,null,null,null,null,null,null,null,null,null,null,null,null,null,null,null,null,null,null,null,null,null,"Métal >90%",{"$f":"VLOOKUP(W510,R:T,3,FALSE)","v":28}]
[null,null,null,null,null,null,null,null,null,null,null,null,null,null,null,null,null,null,null,null,null,null,"Panneaux de particules ou OSB >90%",{"$f":"VLOOKUP(W511,R:T,3,FALSE)","v":61}]
[null,null,null,null,null,null,null,null,null,null,null,null,null,null,null,null,null,null,null,null,null,null,"PE ou PP ou mélange PP/PE >90%",{"$f":"VLOOKUP(W512,R:T,3,FALSE)","v":45}]
[null,null,null,null,null,null,null,null,null,null,null,null,null,null,null,null,null,null,null,null,null,null,"Plastiques (mono résine) >90%",{"$f":"VLOOKUP(W513,R:T,3,FALSE)","v":41}]
[null,null,null,null,null,null,null,null,null,null,null,null,null,null,null,null,null,null,null,null,null,null,"Plastiques ou autres matériaux synthétiques >50%",{"$f":"VLOOKUP(W514,R:T,3,FALSE)","v":"05"}]
[null,null,null,null,null,null,null,null,null,null,null,null,null,null,null,null,null,null,null,null,null,null,"Polystyrène >90%",{"$f":"VLOOKUP(W515,R:T,3,FALSE)","v":47}]
[null,null,null,null,null,null,null,null,null,null,null,null,null,null,null,null,null,null,null,null,null,null,"Polyterephtalate d'Ethylène (PET) >90%",{"$f":"VLOOKUP(W516,R:T,3,FALSE)","v":42}]
[null,null,null,null,null,null,null,null,null,null,null,null,null,null,null,null,null,null,null,null,null,null,"PVC >90%",{"$f":"VLOOKUP(W517,R:T,3,FALSE)","v":48}]
[null,null,null,null,null,null,null,null,null,null,null,null,null,null,null,null,null,null,null,null,null,null,"Autre matériau majoritaire",{"$f":"VLOOKUP(W518,R:T,3,FALSE)","v":12}]
[null,null,null,null,null,null,null,null,null,null,null,null,null,null,null,null,null,null,null,null,null,null,"Non connu ou non spécifié par l'entreprise",{"$f":"VLOOKUP(W519,R:T,3,FALSE)","v":"00"}]
[null,null,null,null,null,null,null,null,null,null,null,null,null,null,null,null,null,null,null,null,null,null,"B_384"]
[null,null,null,null,null,null,null,null,null,null,null,null,null,null,null,null,null,null,null,null,null,null,"ABS >90%",{"$f":"VLOOKUP(W521,R:T,3,FALSE)","v":46}]
[null,null,null,null,null,null,null,null,null,null,null,null,null,null,null,null,null,null,null,null,null,null,"Assemblage avec métal >50% et autres matériaux",{"$f":"VLOOKUP(W522,R:T,3,FALSE)","v":"02"}]
[null,null,null,null,null,null,null,null,null,null,null,null,null,null,null,null,null,null,null,null,null,null,"Assemblage de 3 matériaux ou plus sans un matériau à plus de 50%",{"$f":"VLOOKUP(W523,R:T,3,FALSE)","v":82}]
[null,null,null,null,null,null,null,null,null,null,null,null,null,null,null,null,null,null,null,null,null,null,"Assemblage de bois, dérivés de bois à plus de 50% avec d'autres matériaux ou bois composite (hors verre)",{"$f":"VLOOKUP(W524,R:T,3,FALSE)","v":"01"}]
[null,null,null,null,null,null,null,null,null,null,null,null,null,null,null,null,null,null,null,null,null,null,"Assemblage matériaux ou fibres synthétiques >50% avec d'autres matériaux",{"$f":"VLOOKUP(W525,R:T,3,FALSE)","v":67}]
[null,null,null,null,null,null,null,null,null,null,null,null,null,null,null,null,null,null,null,null,null,null,"Assemblage verre à plus de 50% avec bois ou dérivés de bois",{"$f":"VLOOKUP(W526,R:T,3,FALSE)","v":72}]
[null,null,null,null,null,null,null,null,null,null,null,null,null,null,null,null,null,null,null,null,null,null,"Assemblage verre à plus de 50% avec Inerte",{"$f":"VLOOKUP(W527,R:T,3,FALSE)","v":71}]
[null,null,null,null,null,null,null,null,null,null,null,null,null,null,null,null,null,null,null,null,null,null,"Assemblage verre à plus de 50% avec métal",{"$f":"VLOOKUP(W528,R:T,3,FALSE)","v":70}]
[null,null,null,null,null,null,null,null,null,null,null,null,null,null,null,null,null,null,null,null,null,null,"Assemblage verre à plus de 50% avec plastique",{"$f":"VLOOKUP(W529,R:T,3,FALSE)","v":73}]
[null,null,null,null,null,null,null,null,null,null,null,null,null,null,null,null,null,null,null,null,null,null,"Béton >90%",{"$f":"VLOOKUP(W530,R:T,3,FALSE)","v":74}]
[null,null,null,null,null,null,null,null,null,null,null,null,null,null,null,null,null,null,null,null,null,null,"Dérivés de bois >90%",{"$f":"VLOOKUP(W531,R:T,3,FALSE)","v":62}]
[null,null,null,null,null,null,null,null,null,null,null,null,null,null,null,null,null,null,null,null,null,null,"Massif et assimilés >90%",{"$f":"VLOOKUP(W532,R:T,3,FALSE)","v":53}]
[null,null,null,null,null,null,null,null,null,null,null,null,null,null,null,null,null,null,null,null,null,null,"Matériaux bio sourcés ou textiles non synthétiques >90%",{"$f":"VLOOKUP(W533,R:T,3,FALSE)","v":55}]
[null,null,null,null,null,null,null,null,null,null,null,null,null,null,null,null,null,null,null,null,null,null,"Métal >90%",{"$f":"VLOOKUP(W534,R:T,3,FALSE)","v":28}]
[null,null,null,null,null,null,null,null,null,null,null,null,null,null,null,null,null,null,null,null,null,null,"Panneaux de particules ou OSB >90%",{"$f":"VLOOKUP(W535,R:T,3,FALSE)","v":61}]
[null,null,null,null,null,null,null,null,null,null,null,null,null,null,null,null,null,null,null,null,null,null,"PE ou PP ou mélange PP/PE >90%",{"$f":"VLOOKUP(W536,R:T,3,FALSE)","v":45}]
[null,null,null,null,null,null,null,null,null,null,null,null,null,null,null,null,null,null,null,null,null,null,"Plastiques (mono résine) >90%",{"$f":"VLOOKUP(W537,R:T,3,FALSE)","v":41}]
[null,null,null,null,null,null,null,null,null,null,null,null,null,null,null,null,null,null,null,null,null,null,"Plastiques ou autres matériaux synthétiques >50%",{"$f":"VLOOKUP(W538,R:T,3,FALSE)","v":"05"}]
[null,null,null,null,null,null,null,null,null,null,null,null,null,null,null,null,null,null,null,null,null,null,"Polystyrène >90%",{"$f":"VLOOKUP(W539,R:T,3,FALSE)","v":47}]
[null,null,null,null,null,null,null,null,null,null,null,null,null,null,null,null,null,null,null,null,null,null,"Polyterephtalate d'Ethylène (PET) >90%",{"$f":"VLOOKUP(W540,R:T,3,FALSE)","v":42}]
[null,null,null,null,null,null,null,null,null,null,null,null,null,null,null,null,null,null,null,null,null,null,"PVC >90%",{"$f":"VLOOKUP(W541,R:T,3,FALSE)","v":48}]
[null,null,null,null,null,null,null,null,null,null,null,null,null,null,null,null,null,null,null,null,null,null,"Autre matériau majoritaire",{"$f":"VLOOKUP(W542,R:T,3,FALSE)","v":12}]
[null,null,null,null,null,null,null,null,null,null,null,null,null,null,null,null,null,null,null,null,null,null,"Non connu ou non spécifié par l'entreprise",{"$f":"VLOOKUP(W543,R:T,3,FALSE)","v":"00"}]
[null,null,null,null,null,null,null,null,null,null,null,null,null,null,null,null,null,null,null,null,null,null,"B_388"]
[null,null,null,null,null,null,null,null,null,null,null,null,null,null,null,null,null,null,null,null,null,null,"ABS >90%",{"$f":"VLOOKUP(W545,R:T,3,FALSE)","v":46}]
[null,null,null,null,null,null,null,null,null,null,null,null,null,null,null,null,null,null,null,null,null,null,"Assemblage matériaux ou fibres synthétiques >50% avec d'autres matériaux",{"$f":"VLOOKUP(W546,R:T,3,FALSE)","v":67}]
[null,null,null,null,null,null,null,null,null,null,null,null,null,null,null,null,null,null,null,null,null,null,"Assemblage verre à plus de 50% avec bois ou dérivés de bois",{"$f":"VLOOKUP(W547,R:T,3,FALSE)","v":72}]
[null,null,null,null,null,null,null,null,null,null,null,null,null,null,null,null,null,null,null,null,null,null,"Assemblage verre à plus de 50% avec Inerte",{"$f":"VLOOKUP(W548,R:T,3,FALSE)","v":71}]
[null,null,null,null,null,null,null,null,null,null,null,null,null,null,null,null,null,null,null,null,null,null,"Assemblage verre à plus de 50% avec métal",{"$f":"VLOOKUP(W549,R:T,3,FALSE)","v":70}]
[null,null,null,null,null,null,null,null,null,null,null,null,null,null,null,null,null,null,null,null,null,null,"Assemblage verre à plus de 50% avec plastique",{"$f":"VLOOKUP(W550,R:T,3,FALSE)","v":73}]
[null,null,null,null,null,null,null,null,null,null,null,null,null,null,null,null,null,null,null,null,null,null,"PE ou PP ou mélange PP/PE >90%",{"$f":"VLOOKUP(W551,R:T,3,FALSE)","v":45}]
[null,null,null,null,null,null,null,null,null,null,null,null,null,null,null,null,null,null,null,null,null,null,"Plastiques (mono résine) >90%",{"$f":"VLOOKUP(W552,R:T,3,FALSE)","v":41}]
[null,null,null,null,null,null,null,null,null,null,null,null,null,null,null,null,null,null,null,null,null,null,"Plastiques ou autres matériaux synthétiques >50%",{"$f":"VLOOKUP(W553,R:T,3,FALSE)","v":"05"}]
[null,null,null,null,null,null,null,null,null,null,null,null,null,null,null,null,null,null,null,null,null,null,"Polystyrène >90%",{"$f":"VLOOKUP(W554,R:T,3,FALSE)","v":47}]
[null,null,null,null,null,null,null,null,null,null,null,null,null,null,null,null,null,null,null,null,null,null,"Polyterephtalate d'Ethylène (PET) >90%",{"$f":"VLOOKUP(W555,R:T,3,FALSE)","v":42}]
[null,null,null,null,null,null,null,null,null,null,null,null,null,null,null,null,null,null,null,null,null,null,"PVC >90%",{"$f":"VLOOKUP(W556,R:T,3,FALSE)","v":48}]
[null,null,null,null,null,null,null,null,null,null,null,null,null,null,null,null,null,null,null,null,null,null,"Autre matériau majoritaire",{"$f":"VLOOKUP(W557,R:T,3,FALSE)","v":12}]
[null,null,null,null,null,null,null,null,null,null,null,null,null,null,null,null,null,null,null,null,null,null,"Non connu ou non spécifié par l'entreprise",{"$f":"VLOOKUP(W558,R:T,3,FALSE)","v":"00"}]
[null,null,null,null,null,null,null,null,null,null,null,null,null,null,null,null,null,null,null,null,null,null,"B_410"]
[null,null,null,null,null,null,null,null,null,null,null,null,null,null,null,null,null,null,null,null,null,null,"ABS >90%",{"$f":"VLOOKUP(W560,R:T,3,FALSE)","v":46}]
[null,null,null,null,null,null,null,null,null,null,null,null,null,null,null,null,null,null,null,null,null,null,"Assemblage avec métal >50% et autres matériaux",{"$f":"VLOOKUP(W561,R:T,3,FALSE)","v":"02"}]
[null,null,null,null,null,null,null,null,null,null,null,null,null,null,null,null,null,null,null,null,null,null,"Assemblage de 3 matériaux ou plus sans un matériau à plus de 50%",{"$f":"VLOOKUP(W562,R:T,3,FALSE)","v":82}]
[null,null,null,null,null,null,null,null,null,null,null,null,null,null,null,null,null,null,null,null,null,null,"Assemblage de bois, dérivés de bois à plus de 50% avec d'autres matériaux ou bois composite (hors verre)",{"$f":"VLOOKUP(W563,R:T,3,FALSE)","v":"01"}]
[null,null,null,null,null,null,null,null,null,null,null,null,null,null,null,null,null,null,null,null,null,null,"Assemblage matériaux ou fibres synthétiques >50% avec d'autres matériaux",{"$f":"VLOOKUP(W564,R:T,3,FALSE)","v":67}]
[null,null,null,null,null,null,null,null,null,null,null,null,null,null,null,null,null,null,null,null,null,null,"Assemblage verre à plus de 50% avec bois ou dérivés de bois",{"$f":"VLOOKUP(W565,R:T,3,FALSE)","v":72}]
[null,null,null,null,null,null,null,null,null,null,null,null,null,null,null,null,null,null,null,null,null,null,"Assemblage verre à plus de 50% avec Inerte",{"$f":"VLOOKUP(W566,R:T,3,FALSE)","v":71}]
[null,null,null,null,null,null,null,null,null,null,null,null,null,null,null,null,null,null,null,null,null,null,"Assemblage verre à plus de 50% avec métal",{"$f":"VLOOKUP(W567,R:T,3,FALSE)","v":70}]
[null,null,null,null,null,null,null,null,null,null,null,null,null,null,null,null,null,null,null,null,null,null,"Assemblage verre à plus de 50% avec plastique",{"$f":"VLOOKUP(W568,R:T,3,FALSE)","v":73}]
[null,null,null,null,null,null,null,null,null,null,null,null,null,null,null,null,null,null,null,null,null,null,"Dérivés de bois >90%",{"$f":"VLOOKUP(W569,R:T,3,FALSE)","v":62}]
[null,null,null,null,null,null,null,null,null,null,null,null,null,null,null,null,null,null,null,null,null,null,"Massif et assimilés >90%",{"$f":"VLOOKUP(W570,R:T,3,FALSE)","v":53}]
[null,null,null,null,null,null,null,null,null,null,null,null,null,null,null,null,null,null,null,null,null,null,"Matériaux bio sourcés ou textiles non synthétiques >90%",{"$f":"VLOOKUP(W571,R:T,3,FALSE)","v":55}]
[null,null,null,null,null,null,null,null,null,null,null,null,null,null,null,null,null,null,null,null,null,null,"Métal >90%",{"$f":"VLOOKUP(W572,R:T,3,FALSE)","v":28}]
[null,null,null,null,null,null,null,null,null,null,null,null,null,null,null,null,null,null,null,null,null,null,"Miroir >90%",{"$f":"VLOOKUP(W573,R:T,3,FALSE)","v":69}]
[null,null,null,null,null,null,null,null,null,null,null,null,null,null,null,null,null,null,null,null,null,null,"Panneaux de particules ou OSB >90%",{"$f":"VLOOKUP(W574,R:T,3,FALSE)","v":61}]
[null,null,null,null,null,null,null,null,null,null,null,null,null,null,null,null,null,null,null,null,null,null,"PE ou PP ou mélange PP/PE >90%",{"$f":"VLOOKUP(W575,R:T,3,FALSE)","v":45}]
[null,null,null,null,null,null,null,null,null,null,null,null,null,null,null,null,null,null,null,null,null,null,"Plastiques (mono résine) >90%",{"$f":"VLOOKUP(W576,R:T,3,FALSE)","v":41}]
[null,null,null,null,null,null,null,null,null,null,null,null,null,null,null,null,null,null,null,null,null,null,"Plastiques ou autres matériaux synthétiques >50%",{"$f":"VLOOKUP(W577,R:T,3,FALSE)","v":"05"}]
[null,null,null,null,null,null,null,null,null,null,null,null,null,null,null,null,null,null,null,null,null,null,"Polystyrène >90%",{"$f":"VLOOKUP(W578,R:T,3,FALSE)","v":47}]
[null,null,null,null,null,null,null,null,null,null,null,null,null,null,null,null,null,null,null,null,null,null,"Polyterephtalate d'Ethylène (PET) >90%",{"$f":"VLOOKUP(W579,R:T,3,FALSE)","v":42}]
[null,null,null,null,null,null,null,null,null,null,null,null,null,null,null,null,null,null,null,null,null,null,"PVC >90%",{"$f":"VLOOKUP(W580,R:T,3,FALSE)","v":48}]
[null,null,null,null,null,null,null,null,null,null,null,null,null,null,null,null,null,null,null,null,null,null,"Autre matériau majoritaire",{"$f":"VLOOKUP(W581,R:T,3,FALSE)","v":12}]
[null,null,null,null,null,null,null,null,null,null,null,null,null,null,null,null,null,null,null,null,null,null,"Non connu ou non spécifié par l'entreprise",{"$f":"VLOOKUP(W582,R:T,3,FALSE)","v":"00"}]
[null,null,null,null,null,null,null,null,null,null,null,null,null,null,null,null,null,null,null,null,null,null,"B_415"]
[null,null,null,null,null,null,null,null,null,null,null,null,null,null,null,null,null,null,null,null,null,null,"Assemblage avec métal >50% et autres matériaux",{"$f":"VLOOKUP(W584,R:T,3,FALSE)","v":"02"}]
[null,null,null,null,null,null,null,null,null,null,null,null,null,null,null,null,null,null,null,null,null,null,"Assemblage de 3 matériaux ou plus sans un matériau à plus de 50%",{"$f":"VLOOKUP(W585,R:T,3,FALSE)","v":82}]
[null,null,null,null,null,null,null,null,null,null,null,null,null,null,null,null,null,null,null,null,null,null,"Assemblage de bois, dérivés de bois à plus de 50% avec d'autres matériaux ou bois composite (hors verre)",{"$f":"VLOOKUP(W586,R:T,3,FALSE)","v":"01"}]
[null,null,null,null,null,null,null,null,null,null,null,null,null,null,null,null,null,null,null,null,null,null,"Assemblage verre à plus de 50% avec bois ou dérivés de bois",{"$f":"VLOOKUP(W587,R:T,3,FALSE)","v":72}]
[null,null,null,null,null,null,null,null,null,null,null,null,null,null,null,null,null,null,null,null,null,null,"Assemblage verre à plus de 50% avec Inerte",{"$f":"VLOOKUP(W588,R:T,3,FALSE)","v":71}]
[null,null,null,null,null,null,null,null,null,null,null,null,null,null,null,null,null,null,null,null,null,null,"Assemblage verre à plus de 50% avec métal",{"$f":"VLOOKUP(W589,R:T,3,FALSE)","v":70}]
[null,null,null,null,null,null,null,null,null,null,null,null,null,null,null,null,null,null,null,null,null,null,"Assemblage verre à plus de 50% avec plastique",{"$f":"VLOOKUP(W590,R:T,3,FALSE)","v":73}]
[null,null,null,null,null,null,null,null,null,null,null,null,null,null,null,null,null,null,null,null,null,null,"Dérivés de bois >90%",{"$f":"VLOOKUP(W591,R:T,3,FALSE)","v":62}]
[null,null,null,null,null,null,null,null,null,null,null,null,null,null,null,null,null,null,null,null,null,null,"Massif et assimilés >90%",{"$f":"VLOOKUP(W592,R:T,3,FALSE)","v":53}]
[null,null,null,null,null,null,null,null,null,null,null,null,null,null,null,null,null,null,null,null,null,null,"Matériaux bio sourcés ou textiles non synthétiques >90%",{"$f":"VLOOKUP(W593,R:T,3,FALSE)","v":55}]
[null,null,null,null,null,null,null,null,null,null,null,null,null,null,null,null,null,null,null,null,null,null,"Métal >90%",{"$f":"VLOOKUP(W594,R:T,3,FALSE)","v":28}]
[null,null,null,null,null,null,null,null,null,null,null,null,null,null,null,null,null,null,null,null,null,null,"Panneaux de particules ou OSB >90%",{"$f":"VLOOKUP(W595,R:T,3,FALSE)","v":61}]
[null,null,null,null,null,null,null,null,null,null,null,null,null,null,null,null,null,null,null,null,null,null,"Autre matériau majoritaire",{"$f":"VLOOKUP(W596,R:T,3,FALSE)","v":12}]
[null,null,null,null,null,null,null,null,null,null,null,null,null,null,null,null,null,null,null,null,null,null,"Non connu ou non spécifié par l'entreprise",{"$f":"VLOOKUP(W597,R:T,3,FALSE)","v":"00"}]
[null,null,null,null,null,null,null,null,null,null,null,null,null,null,null,null,null,null,null,null,null,null,"B_416"]
[null,null,null,null,null,null,null,null,null,null,null,null,null,null,null,null,null,null,null,null,null,null,"Assemblage avec métal >50% et autres matériaux",{"$f":"VLOOKUP(W599,R:T,3,FALSE)","v":"02"}]
[null,null,null,null,null,null,null,null,null,null,null,null,null,null,null,null,null,null,null,null,null,null,"Assemblage de 3 matériaux ou plus sans un matériau à plus de 50%",{"$f":"VLOOKUP(W600,R:T,3,FALSE)","v":82}]
[null,null,null,null,null,null,null,null,null,null,null,null,null,null,null,null,null,null,null,null,null,null,"Assemblage de bois, dérivés de bois à plus de 50% avec d'autres matériaux ou bois composite (hors verre)",{"$f":"VLOOKUP(W601,R:T,3,FALSE)","v":"01"}]
[null,null,null,null,null,null,null,null,null,null,null,null,null,null,null,null,null,null,null,null,null,null,"Dérivés de bois >90%",{"$f":"VLOOKUP(W602,R:T,3,FALSE)","v":62}]
[null,null,null,null,null,null,null,null,null,null,null,null,null,null,null,null,null,null,null,null,null,null,"Massif et assimilés >90%",{"$f":"VLOOKUP(W603,R:T,3,FALSE)","v":53}]
[null,null,null,null,null,null,null,null,null,null,null,null,null,null,null,null,null,null,null,null,null,null,"Matériaux bio sourcés ou textiles non synthétiques >90%",{"$f":"VLOOKUP(W604,R:T,3,FALSE)","v":55}]
[null,null,null,null,null,null,null,null,null,null,null,null,null,null,null,null,null,null,null,null,null,null,"Métal >90%",{"$f":"VLOOKUP(W605,R:T,3,FALSE)","v":28}]
[null,null,null,null,null,null,null,null,null,null,null,null,null,null,null,null,null,null,null,null,null,null,"Panneaux de particules ou OSB >90%",{"$f":"VLOOKUP(W606,R:T,3,FALSE)","v":61}]
[null,null,null,null,null,null,null,null,null,null,null,null,null,null,null,null,null,null,null,null,null,null,"Autre matériau majoritaire",{"$f":"VLOOKUP(W607,R:T,3,FALSE)","v":12}]
[null,null,null,null,null,null,null,null,null,null,null,null,null,null,null,null,null,null,null,null,null,null,"Non connu ou non spécifié par l'entreprise",{"$f":"VLOOKUP(W608,R:T,3,FALSE)","v":"00"}]
[null,null,null,null,null,null,null,null,null,null,null,null,null,null,null,null,null,null,null,null,null,null,"B_417"]
[null,null,null,null,null,null,null,null,null,null,null,null,null,null,null,null,null,null,null,null,null,null,"Assemblage avec métal >50% et autres matériaux",{"$f":"VLOOKUP(W610,R:T,3,FALSE)","v":"02"}]
[null,null,null,null,null,null,null,null,null,null,null,null,null,null,null,null,null,null,null,null,null,null,"Assemblage de 3 matériaux ou plus sans un matériau à plus de 50%",{"$f":"VLOOKUP(W611,R:T,3,FALSE)","v":82}]
[null,null,null,null,null,null,null,null,null,null,null,null,null,null,null,null,null,null,null,null,null,null,"Assemblage de bois, dérivés de bois à plus de 50% avec d'autres matériaux ou bois composite (hors verre)",{"$f":"VLOOKUP(W612,R:T,3,FALSE)","v":"01"}]
[null,null,null,null,null,null,null,null,null,null,null,null,null,null,null,null,null,null,null,null,null,null,"Dérivés de bois >90%",{"$f":"VLOOKUP(W613,R:T,3,FALSE)","v":62}]
[null,null,null,null,null,null,null,null,null,null,null,null,null,null,null,null,null,null,null,null,null,null,"Massif et assimilés >90%",{"$f":"VLOOKUP(W614,R:T,3,FALSE)","v":53}]
[null,null,null,null,null,null,null,null,null,null,null,null,null,null,null,null,null,null,null,null,null,null,"Matériaux bio sourcés ou textiles non synthétiques >90%",{"$f":"VLOOKUP(W615,R:T,3,FALSE)","v":55}]
[null,null,null,null,null,null,null,null,null,null,null,null,null,null,null,null,null,null,null,null,null,null,"Métal >90%",{"$f":"VLOOKUP(W616,R:T,3,FALSE)","v":28}]
[null,null,null,null,null,null,null,null,null,null,null,null,null,null,null,null,null,null,null,null,null,null,"Panneaux de particules ou OSB >90%",{"$f":"VLOOKUP(W617,R:T,3,FALSE)","v":61}]
[null,null,null,null,null,null,null,null,null,null,null,null,null,null,null,null,null,null,null,null,null,null,"Autre matériau majoritaire",{"$f":"VLOOKUP(W618,R:T,3,FALSE)","v":12}]
[null,null,null,null,null,null,null,null,null,null,null,null,null,null,null,null,null,null,null,null,null,null,"Non connu ou non spécifié par l'entreprise",{"$f":"VLOOKUP(W619,R:T,3,FALSE)","v":"00"}]
[null,null,null,null,null,null,null,null,null,null,null,null,null,null,null,null,null,null,null,null,null,null,"B_418"]
[null,null,null,null,null,null,null,null,null,null,null,null,null,null,null,null,null,null,null,null,null,null,"Assemblage avec métal >50% et autres matériaux",{"$f":"VLOOKUP(W621,R:T,3,FALSE)","v":"02"}]
[null,null,null,null,null,null,null,null,null,null,null,null,null,null,null,null,null,null,null,null,null,null,"Assemblage de 3 matériaux ou plus sans un matériau à plus de 50%",{"$f":"VLOOKUP(W622,R:T,3,FALSE)","v":82}]
[null,null,null,null,null,null,null,null,null,null,null,null,null,null,null,null,null,null,null,null,null,null,"Assemblage de bois, dérivés de bois à plus de 50% avec d'autres matériaux ou bois composite (hors verre)",{"$f":"VLOOKUP(W623,R:T,3,FALSE)","v":"01"}]
[null,null,null,null,null,null,null,null,null,null,null,null,null,null,null,null,null,null,null,null,null,null,"Dérivés de bois >90%",{"$f":"VLOOKUP(W624,R:T,3,FALSE)","v":62}]
[null,null,null,null,null,null,null,null,null,null,null,null,null,null,null,null,null,null,null,null,null,null,"Massif et assimilés >90%",{"$f":"VLOOKUP(W625,R:T,3,FALSE)","v":53}]
[null,null,null,null,null,null,null,null,null,null,null,null,null,null,null,null,null,null,null,null,null,null,"Matériaux bio sourcés ou textiles non synthétiques >90%",{"$f":"VLOOKUP(W626,R:T,3,FALSE)","v":55}]
[null,null,null,null,null,null,null,null,null,null,null,null,null,null,null,null,null,null,null,null,null,null,"Métal >90%",{"$f":"VLOOKUP(W627,R:T,3,FALSE)","v":28}]
[null,null,null,null,null,null,null,null,null,null,null,null,null,null,null,null,null,null,null,null,null,null,"Panneaux de particules ou OSB >90%",{"$f":"VLOOKUP(W628,R:T,3,FALSE)","v":61}]
[null,null,null,null,null,null,null,null,null,null,null,null,null,null,null,null,null,null,null,null,null,null,"Autre matériau majoritaire",{"$f":"VLOOKUP(W629,R:T,3,FALSE)","v":12}]
[null,null,null,null,null,null,null,null,null,null,null,null,null,null,null,null,null,null,null,null,null,null,"Non connu ou non spécifié par l'entreprise",{"$f":"VLOOKUP(W630,R:T,3,FALSE)","v":"00"}]
[null,null,null,null,null,null,null,null,null,null,null,null,null,null,null,null,null,null,null,null,null,null,"B_421"]
[null,null,null,null,null,null,null,null,null,null,null,null,null,null,null,null,null,null,null,null,null,null,"ABS >90%",{"$f":"VLOOKUP(W632,R:T,3,FALSE)","v":46}]
[null,null,null,null,null,null,null,null,null,null,null,null,null,null,null,null,null,null,null,null,null,null,"Assemblage avec métal >50% et autres matériaux",{"$f":"VLOOKUP(W633,R:T,3,FALSE)","v":"02"}]
[null,null,null,null,null,null,null,null,null,null,null,null,null,null,null,null,null,null,null,null,null,null,"Assemblage de 3 matériaux ou plus sans un matériau à plus de 50%",{"$f":"VLOOKUP(W634,R:T,3,FALSE)","v":82}]
[null,null,null,null,null,null,null,null,null,null,null,null,null,null,null,null,null,null,null,null,null,null,"Assemblage de bois, dérivés de bois à plus de 50% avec d'autres matériaux ou bois composite (hors verre)",{"$f":"VLOOKUP(W635,R:T,3,FALSE)","v":"01"}]
[null,null,null,null,null,null,null,null,null,null,null,null,null,null,null,null,null,null,null,null,null,null,"Assemblage matériaux ou fibres synthétiques >50% avec d'autres matériaux",{"$f":"VLOOKUP(W636,R:T,3,FALSE)","v":67}]
[null,null,null,null,null,null,null,null,null,null,null,null,null,null,null,null,null,null,null,null,null,null,"Assemblage verre à plus de 50% avec bois ou dérivés de bois",{"$f":"VLOOKUP(W637,R:T,3,FALSE)","v":72}]
[null,null,null,null,null,null,null,null,null,null,null,null,null,null,null,null,null,null,null,null,null,null,"Assemblage verre à plus de 50% avec Inerte",{"$f":"VLOOKUP(W638,R:T,3,FALSE)","v":71}]
[null,null,null,null,null,null,null,null,null,null,null,null,null,null,null,null,null,null,null,null,null,null,"Assemblage verre à plus de 50% avec métal",{"$f":"VLOOKUP(W639,R:T,3,FALSE)","v":70}]
[null,null,null,null,null,null,null,null,null,null,null,null,null,null,null,null,null,null,null,null,null,null,"Assemblage verre à plus de 50% avec plastique",{"$f":"VLOOKUP(W640,R:T,3,FALSE)","v":73}]
[null,null,null,null,null,null,null,null,null,null,null,null,null,null,null,null,null,null,null,null,null,null,"Béton cellulaire >90%",{"$f":"VLOOKUP(W641,R:T,3,FALSE)","v":96}]
[null,null,null,null,null,null,null,null,null,null,null,null,null,null,null,null,null,null,null,null,null,null,"Dérivés de bois >90%",{"$f":"VLOOKUP(W642,R:T,3,FALSE)","v":62}]
[null,null,null,null,null,null,null,null,null,null,null,null,null,null,null,null,null,null,null,null,null,null,"Massif et assimilés >90%",{"$f":"VLOOKUP(W643,R:T,3,FALSE)","v":53}]
[null,null,null,null,null,null,null,null,null,null,null,null,null,null,null,null,null,null,null,null,null,null,"Matériaux bio sourcés ou textiles non synthétiques >90%",{"$f":"VLOOKUP(W644,R:T,3,FALSE)","v":55}]
[null,null,null,null,null,null,null,null,null,null,null,null,null,null,null,null,null,null,null,null,null,null,"Métal >90%",{"$f":"VLOOKUP(W645,R:T,3,FALSE)","v":28}]
[null,null,null,null,null,null,null,null,null,null,null,null,null,null,null,null,null,null,null,null,null,null,"Panneaux de particules ou OSB >90%",{"$f":"VLOOKUP(W646,R:T,3,FALSE)","v":61}]
[null,null,null,null,null,null,null,null,null,null,null,null,null,null,null,null,null,null,null,null,null,null,"PE ou PP ou mélange PP/PE >90%",{"$f":"VLOOKUP(W647,R:T,3,FALSE)","v":45}]
[null,null,null,null,null,null,null,null,null,null,null,null,null,null,null,null,null,null,null,null,null,null,"Plastiques (mono résine) >90%",{"$f":"VLOOKUP(W648,R:T,3,FALSE)","v":41}]
[null,null,null,null,null,null,null,null,null,null,null,null,null,null,null,null,null,null,null,null,null,null,"Plastiques ou autres matériaux synthétiques >50%",{"$f":"VLOOKUP(W649,R:T,3,FALSE)","v":"05"}]
[null,null,null,null,null,null,null,null,null,null,null,null,null,null,null,null,null,null,null,null,null,null,"Polystyrène >90%",{"$f":"VLOOKUP(W650,R:T,3,FALSE)","v":47}]
[null,null,null,null,null,null,null,null,null,null,null,null,null,null,null,null,null,null,null,null,null,null,"Polyterephtalate d'Ethylène (PET) >90%",{"$f":"VLOOKUP(W651,R:T,3,FALSE)","v":42}]
[null,null,null,null,null,null,null,null,null,null,null,null,null,null,null,null,null,null,null,null,null,null,"PVC >90%",{"$f":"VLOOKUP(W652,R:T,3,FALSE)","v":48}]
[null,null,null,null,null,null,null,null,null,null,null,null,null,null,null,null,null,null,null,null,null,null,"Autre matériau majoritaire",{"$f":"VLOOKUP(W653,R:T,3,FALSE)","v":12}]
[null,null,null,null,null,null,null,null,null,null,null,null,null,null,null,null,null,null,null,null,null,null,"Non connu ou non spécifié par l'entreprise",{"$f":"VLOOKUP(W654,R:T,3,FALSE)","v":"00"}]
[null,null,null,null,null,null,null,null,null,null,null,null,null,null,null,null,null,null,null,null,null,null,"B_430"]
[null,null,null,null,null,null,null,null,null,null,null,null,null,null,null,null,null,null,null,null,null,null,"Béton >90%",{"$f":"VLOOKUP(W656,R:T,3,FALSE)","v":74}]
[null,null,null,null,null,null,null,null,null,null,null,null,null,null,null,null,null,null,null,null,null,null,"Béton cellulaire >90%",{"$f":"VLOOKUP(W657,R:T,3,FALSE)","v":96}]
[null,null,null,null,null,null,null,null,null,null,null,null,null,null,null,null,null,null,null,null,null,null,"Pierre calcaire >90%",{"$f":"VLOOKUP(W658,R:T,3,FALSE)","v":86}]
[null,null,null,null,null,null,null,null,null,null,null,null,null,null,null,null,null,null,null,null,null,null,"Autre matériau majoritaire",{"$f":"VLOOKUP(W659,R:T,3,FALSE)","v":12}]
[null,null,null,null,null,null,null,null,null,null,null,null,null,null,null,null,null,null,null,null,null,null,"B_431",null,"FOR"]
[null,null,null,null,null,null,null,null,null,null,null,null,null,null,null,null,null,null,null,null,null,null,"Céramique >90%",{"$f":"VLOOKUP(W661,R:T,3,FALSE)","v":97}]
[null,null,null,null,null,null,null,null,null,null,null,null,null,null,null,null,null,null,null,null,null,null,"Autre matériau majoritaire",{"$f":"VLOOKUP(W662,R:T,3,FALSE)","v":12}]
[null,null,null,null,null,null,null,null,null,null,null,null,null,null,null,null,null,null,null,null,null,null,"B_432",null,"FOR"]
[null,null,null,null,null,null,null,null,null,null,null,null,null,null,null,null,null,null,null,null,null,null,"Assemblage de 3 matériaux ou plus sans un matériau à plus de 50%",{"$f":"VLOOKUP(W664,R:T,3,FALSE)","v":82}]
[null,null,null,null,null,null,null,null,null,null,null,null,null,null,null,null,null,null,null,null,null,null,"Assemblage de bois, dérivés de bois à plus de 50% avec d'autres matériaux ou bois composite (hors verre)",{"$f":"VLOOKUP(W665,R:T,3,FALSE)","v":"01"}]
[null,null,null,null,null,null,null,null,null,null,null,null,null,null,null,null,null,null,null,null,null,null,"Dérivés de bois >90%",{"$f":"VLOOKUP(W666,R:T,3,FALSE)","v":62}]
[null,null,null,null,null,null,null,null,null,null,null,null,null,null,null,null,null,null,null,null,null,null,"Massif et assimilés >90%",{"$f":"VLOOKUP(W667,R:T,3,FALSE)","v":53}]
[null,null,null,null,null,null,null,null,null,null,null,null,null,null,null,null,null,null,null,null,null,null,"Matériaux bio sourcés ou textiles non synthétiques >90%",{"$f":"VLOOKUP(W668,R:T,3,FALSE)","v":55}]
[null,null,null,null,null,null,null,null,null,null,null,null,null,null,null,null,null,null,null,null,null,null,"Panneaux de particules ou OSB >90%",{"$f":"VLOOKUP(W669,R:T,3,FALSE)","v":61}]
[null,null,null,null,null,null,null,null,null,null,null,null,null,null,null,null,null,null,null,null,null,null,"Autre matériau majoritaire",{"$f":"VLOOKUP(W670,R:T,3,FALSE)","v":12}]
[null,null,null,null,null,null,null,null,null,null,null,null,null,null,null,null,null,null,null,null,null,null,"Non connu ou non spécifié par l'entreprise",{"$f":"VLOOKUP(W671,R:T,3,FALSE)","v":"00"}]
[null,null,null,null,null,null,null,null,null,null,null,null,null,null,null,null,null,null,null,null,null,null,"B_433",null,"FOR"]
[null,null,null,null,null,null,null,null,null,null,null,null,null,null,null,null,null,null,null,null,null,null,"Assemblage de 3 matériaux ou plus sans un matériau à plus de 50%",{"$f":"VLOOKUP(W673,R:T,3,FALSE)","v":82}]
[null,null,null,null,null,null,null,null,null,null,null,null,null,null,null,null,null,null,null,null,null,null,"Assemblage de bois, dérivés de bois à plus de 50% avec d'autres matériaux ou bois composite (hors verre)",{"$f":"VLOOKUP(W674,R:T,3,FALSE)","v":"01"}]
[null,null,null,null,null,null,null,null,null,null,null,null,null,null,null,null,null,null,null,null,null,null,"Assemblage matériaux ou fibres synthétiques >50% avec d'autres matériaux",{"$f":"VLOOKUP(W675,R:T,3,FALSE)","v":67}]
[null,null,null,null,null,null,null,null,null,null,null,null,null,null,null,null,null,null,null,null,null,null,"Dérivés de bois >90%",{"$f":"VLOOKUP(W676,R:T,3,FALSE)","v":62}]
[null,null,null,null,null,null,null,null,null,null,null,null,null,null,null,null,null,null,null,null,null,null,"Massif et assimilés >90%",{"$f":"VLOOKUP(W677,R:T,3,FALSE)","v":53}]
[null,null,null,null,null,null,null,null,null,null,null,null,null,null,null,null,null,null,null,null,null,null,"Matériaux bio sourcés ou textiles non synthétiques >90%",{"$f":"VLOOKUP(W678,R:T,3,FALSE)","v":55}]
[null,null,null,null,null,null,null,null,null,null,null,null,null,null,null,null,null,null,null,null,null,null,"Panneaux de particules ou OSB >90%",{"$f":"VLOOKUP(W679,R:T,3,FALSE)","v":61}]
[null,null,null,null,null,null,null,null,null,null,null,null,null,null,null,null,null,null,null,null,null,null,"PVC >90%",{"$f":"VLOOKUP(W680,R:T,3,FALSE)","v":48}]
[null,null,null,null,null,null,null,null,null,null,null,null,null,null,null,null,null,null,null,null,null,null,"Autre matériau majoritaire",{"$f":"VLOOKUP(W681,R:T,3,FALSE)","v":12}]
[null,null,null,null,null,null,null,null,null,null,null,null,null,null,null,null,null,null,null,null,null,null,"Non connu ou non spécifié par l'entreprise",{"$f":"VLOOKUP(W682,R:T,3,FALSE)","v":"00"}]
[null,null,null,null,null,null,null,null,null,null,null,null,null,null,null,null,null,null,null,null,null,null,"B_434",null,"FOR"]
[null,null,null,null,null,null,null,null,null,null,null,null,null,null,null,null,null,null,null,null,null,null,"ABS >90%",{"$f":"VLOOKUP(W684,R:T,3,FALSE)","v":46}]
[null,null,null,null,null,null,null,null,null,null,null,null,null,null,null,null,null,null,null,null,null,null,"Assemblage de bois, dérivés de bois à plus de 50% avec d'autres matériaux ou bois composite (hors verre)",{"$f":"VLOOKUP(W685,R:T,3,FALSE)","v":"01"}]
[null,null,null,null,null,null,null,null,null,null,null,null,null,null,null,null,null,null,null,null,null,null,"Assemblage de 3 matériaux ou plus sans un matériau à plus de 50%",{"$f":"VLOOKUP(W686,R:T,3,FALSE)","v":82}]
[null,null,null,null,null,null,null,null,null,null,null,null,null,null,null,null,null,null,null,null,null,null,"Dérivés de bois >90%",{"$f":"VLOOKUP(W687,R:T,3,FALSE)","v":62}]
[null,null,null,null,null,null,null,null,null,null,null,null,null,null,null,null,null,null,null,null,null,null,"Massif et assimilés >90%",{"$f":"VLOOKUP(W688,R:T,3,FALSE)","v":53}]
[null,null,null,null,null,null,null,null,null,null,null,null,null,null,null,null,null,null,null,null,null,null,"Matériaux bio sourcés ou textiles non synthétiques >90%",{"$f":"VLOOKUP(W689,R:T,3,FALSE)","v":55}]
[null,null,null,null,null,null,null,null,null,null,null,null,null,null,null,null,null,null,null,null,null,null,"Panneaux de particules ou OSB >90%",{"$f":"VLOOKUP(W690,R:T,3,FALSE)","v":61}]
[null,null,null,null,null,null,null,null,null,null,null,null,null,null,null,null,null,null,null,null,null,null,"Plastiques (mono résine) >90%",{"$f":"VLOOKUP(W691,R:T,3,FALSE)","v":41}]
[null,null,null,null,null,null,null,null,null,null,null,null,null,null,null,null,null,null,null,null,null,null,"PE ou PP ou mélange PP/PE >90%",{"$f":"VLOOKUP(W692,R:T,3,FALSE)","v":45}]
[null,null,null,null,null,null,null,null,null,null,null,null,null,null,null,null,null,null,null,null,null,null,"Polystyrène >90%",{"$f":"VLOOKUP(W693,R:T,3,FALSE)","v":47}]
[null,null,null,null,null,null,null,null,null,null,null,null,null,null,null,null,null,null,null,null,null,null,"Polyterephtalate d'Ethylène (PET) >90%",{"$f":"VLOOKUP(W694,R:T,3,FALSE)","v":42}]
[null,null,null,null,null,null,null,null,null,null,null,null,null,null,null,null,null,null,null,null,null,null,"PVC >90%",{"$f":"VLOOKUP(W695,R:T,3,FALSE)","v":48}]
[null,null,null,null,null,null,null,null,null,null,null,null,null,null,null,null,null,null,null,null,null,null,"Autre matériau majoritaire",{"$f":"VLOOKUP(W696,R:T,3,FALSE)","v":12}]
[null,null,null,null,null,null,null,null,null,null,null,null,null,null,null,null,null,null,null,null,null,null,"Non connu ou non spécifié par l'entreprise",{"$f":"VLOOKUP(W697,R:T,3,FALSE)","v":"00"}]
[null,null,null,null,null,null,null,null,null,null,null,null,null,null,null,null,null,null,null,null,null,null,"B_435"]
[null,null,null,null,null,null,null,null,null,null,null,null,null,null,null,null,null,null,null,null,null,null,"Assemblage avec métal >50% et autres matériaux",{"$f":"VLOOKUP(W699,R:T,3,FALSE)","v":"02"}]
[null,null,null,null,null,null,null,null,null,null,null,null,null,null,null,null,null,null,null,null,null,null,"Assemblage de 3 matériaux ou plus sans un matériau à plus de 50%",{"$f":"VLOOKUP(W700,R:T,3,FALSE)","v":82}]
[null,null,null,null,null,null,null,null,null,null,null,null,null,null,null,null,null,null,null,null,null,null,"Métal >90%",{"$f":"VLOOKUP(W701,R:T,3,FALSE)","v":28}]
[null,null,null,null,null,null,null,null,null,null,null,null,null,null,null,null,null,null,null,null,null,null,"Plastiques ou autres matériaux synthétiques >50%",{"$f":"VLOOKUP(W702,R:T,3,FALSE)","v":"05"}]
[null,null,null,null,null,null,null,null,null,null,null,null,null,null,null,null,null,null,null,null,null,null,"Autre matériau majoritaire",{"$f":"VLOOKUP(W703,R:T,3,FALSE)","v":12}]
[null,null,null,null,null,null,null,null,null,null,null,null,null,null,null,null,null,null,null,null,null,null,"Non connu ou non spécifié par l'entreprise",{"$f":"VLOOKUP(W704,R:T,3,FALSE)","v":"00"}]
[null,null,null,null,null,null,null,null,null,null,null,null,null,null,null,null,null,null,null,null,null,null,"B_436",null,"FOR"]
[null,null,null,null,null,null,null,null,null,null,null,null,null,null,null,null,null,null,null,null,null,null,"ABS >90%",{"$f":"VLOOKUP(W706,R:T,3,FALSE)","v":46}]
[null,null,null,null,null,null,null,null,null,null,null,null,null,null,null,null,null,null,null,null,null,null,"Assemblage de 3 matériaux ou plus sans un matériau à plus de 50%",{"$f":"VLOOKUP(W707,R:T,3,FALSE)","v":82}]
[null,null,null,null,null,null,null,null,null,null,null,null,null,null,null,null,null,null,null,null,null,null,"Assemblage matériaux ou fibres synthétiques >50% avec d'autres matériaux",{"$f":"VLOOKUP(W708,R:T,3,FALSE)","v":67}]
[null,null,null,null,null,null,null,null,null,null,null,null,null,null,null,null,null,null,null,null,null,null,"Caoutchouc naturel >50%",{"$f":"VLOOKUP(W709,R:T,3,FALSE)","v":64}]
[null,null,null,null,null,null,null,null,null,null,null,null,null,null,null,null,null,null,null,null,null,null,"Caoutchouc synthétique >90%",{"$f":"VLOOKUP(W710,R:T,3,FALSE)","v":49}]
[null,null,null,null,null,null,null,null,null,null,null,null,null,null,null,null,null,null,null,null,null,null,"PE ou PP ou mélange PP/PE >90%",{"$f":"VLOOKUP(W711,R:T,3,FALSE)","v":45}]
[null,null,null,null,null,null,null,null,null,null,null,null,null,null,null,null,null,null,null,null,null,null,"Plastiques (mono résine) >90%",{"$f":"VLOOKUP(W712,R:T,3,FALSE)","v":41}]
[null,null,null,null,null,null,null,null,null,null,null,null,null,null,null,null,null,null,null,null,null,null,"Plastiques ou autres matériaux synthétiques >50%",{"$f":"VLOOKUP(W713,R:T,3,FALSE)","v":"05"}]
[null,null,null,null,null,null,null,null,null,null,null,null,null,null,null,null,null,null,null,null,null,null,"Polystyrène >90%",{"$f":"VLOOKUP(W714,R:T,3,FALSE)","v":47}]
[null,null,null,null,null,null,null,null,null,null,null,null,null,null,null,null,null,null,null,null,null,null,"Polyterephtalate d'Ethylène (PET) >90%",{"$f":"VLOOKUP(W715,R:T,3,FALSE)","v":42}]
[null,null,null,null,null,null,null,null,null,null,null,null,null,null,null,null,null,null,null,null,null,null,"PVC >90%",{"$f":"VLOOKUP(W716,R:T,3,FALSE)","v":48}]
[null,null,null,null,null,null,null,null,null,null,null,null,null,null,null,null,null,null,null,null,null,null,"Autre matériau majoritaire",{"$f":"VLOOKUP(W717,R:T,3,FALSE)","v":12}]
[null,null,null,null,null,null,null,null,null,null,null,null,null,null,null,null,null,null,null,null,null,null,"Non connu ou non spécifié par l'entreprise",{"$f":"VLOOKUP(W718,R:T,3,FALSE)","v":"00"}]
[null,null,null,null,null,null,null,null,null,null,null,null,null,null,null,null,null,null,null,null,null,null,"B_437",null,"FOR"]
[null,null,null,null,null,null,null,null,null,null,null,null,null,null,null,null,null,null,null,null,null,null,"ABS >90%",{"$f":"VLOOKUP(W720,R:T,3,FALSE)","v":46}]
[null,null,null,null,null,null,null,null,null,null,null,null,null,null,null,null,null,null,null,null,null,null,"Assemblage de 3 matériaux ou plus sans un matériau à plus de 50%",{"$f":"VLOOKUP(W721,R:T,3,FALSE)","v":82}]
[null,null,null,null,null,null,null,null,null,null,null,null,null,null,null,null,null,null,null,null,null,null,"Assemblage matériaux ou fibres synthétiques >50% avec d'autres matériaux",{"$f":"VLOOKUP(W722,R:T,3,FALSE)","v":67}]
[null,null,null,null,null,null,null,null,null,null,null,null,null,null,null,null,null,null,null,null,null,null,"Matériaux bio sourcés ou textiles non synthétiques >90%",{"$f":"VLOOKUP(W723,R:T,3,FALSE)","v":55}]
[null,null,null,null,null,null,null,null,null,null,null,null,null,null,null,null,null,null,null,null,null,null,"Matériaux ou fibres synthétiques >90%",{"$f":"VLOOKUP(W724,R:T,3,FALSE)","v":65}]
[null,null,null,null,null,null,null,null,null,null,null,null,null,null,null,null,null,null,null,null,null,null,"PE ou PP ou mélange PP/PE >90%",{"$f":"VLOOKUP(W725,R:T,3,FALSE)","v":45}]
[null,null,null,null,null,null,null,null,null,null,null,null,null,null,null,null,null,null,null,null,null,null,"Plastiques (mono résine) >90%",{"$f":"VLOOKUP(W726,R:T,3,FALSE)","v":41}]
[null,null,null,null,null,null,null,null,null,null,null,null,null,null,null,null,null,null,null,null,null,null,"Plastiques ou autres matériaux synthétiques >50%",{"$f":"VLOOKUP(W727,R:T,3,FALSE)","v":"05"}]
[null,null,null,null,null,null,null,null,null,null,null,null,null,null,null,null,null,null,null,null,null,null,"Polystyrène >90%",{"$f":"VLOOKUP(W728,R:T,3,FALSE)","v":47}]
[null,null,null,null,null,null,null,null,null,null,null,null,null,null,null,null,null,null,null,null,null,null,"Polyterephtalate d'Ethylène (PET) >90%",{"$f":"VLOOKUP(W729,R:T,3,FALSE)","v":42}]
[null,null,null,null,null,null,null,null,null,null,null,null,null,null,null,null,null,null,null,null,null,null,"PVC >90%",{"$f":"VLOOKUP(W730,R:T,3,FALSE)","v":48}]
[null,null,null,null,null,null,null,null,null,null,null,null,null,null,null,null,null,null,null,null,null,null,"Autre matériau majoritaire",{"$f":"VLOOKUP(W731,R:T,3,FALSE)","v":12}]
[null,null,null,null,null,null,null,null,null,null,null,null,null,null,null,null,null,null,null,null,null,null,"Non connu ou non spécifié par l'entreprise",{"$f":"VLOOKUP(W732,R:T,3,FALSE)","v":"00"}]
[null,null,null,null,null,null,null,null,null,null,null,null,null,null,null,null,null,null,null,null,null,null,"B_438",null,"FOR"]
[null,null,null,null,null,null,null,null,null,null,null,null,null,null,null,null,null,null,null,null,null,null,"ABS >90%",{"$f":"VLOOKUP(W734,R:T,3,FALSE)","v":46}]
[null,null,null,null,null,null,null,null,null,null,null,null,null,null,null,null,null,null,null,null,null,null,"Assemblage de 3 matériaux ou plus sans un matériau à plus de 50%",{"$f":"VLOOKUP(W735,R:T,3,FALSE)","v":82}]
[null,null,null,null,null,null,null,null,null,null,null,null,null,null,null,null,null,null,null,null,null,null,"Assemblage matériaux ou fibres synthétiques >50% avec d'autres matériaux",{"$f":"VLOOKUP(W736,R:T,3,FALSE)","v":67}]
[null,null,null,null,null,null,null,null,null,null,null,null,null,null,null,null,null,null,null,null,null,null,"Matériaux bio sourcés ou textiles non synthétiques >90%",{"$f":"VLOOKUP(W737,R:T,3,FALSE)","v":55}]
[null,null,null,null,null,null,null,null,null,null,null,null,null,null,null,null,null,null,null,null,null,null,"Papier carton >50% avec d'autres matériaux (hors verre)",{"$f":"VLOOKUP(W738,R:T,3,FALSE)","v":"19"}]
[null,null,null,null,null,null,null,null,null,null,null,null,null,null,null,null,null,null,null,null,null,null,"PE ou PP ou mélange PP/PE >90%",{"$f":"VLOOKUP(W739,R:T,3,FALSE)","v":45}]
[null,null,null,null,null,null,null,null,null,null,null,null,null,null,null,null,null,null,null,null,null,null,"Plastiques (mono résine) >90%",{"$f":"VLOOKUP(W740,R:T,3,FALSE)","v":41}]
[null,null,null,null,null,null,null,null,null,null,null,null,null,null,null,null,null,null,null,null,null,null,"Plastiques ou autres matériaux synthétiques >50%",{"$f":"VLOOKUP(W741,R:T,3,FALSE)","v":"05"}]
[null,null,null,null,null,null,null,null,null,null,null,null,null,null,null,null,null,null,null,null,null,null,"Polystyrène >90%",{"$f":"VLOOKUP(W742,R:T,3,FALSE)","v":47}]
[null,null,null,null,null,null,null,null,null,null,null,null,null,null,null,null,null,null,null,null,null,null,"Polyterephtalate d'Ethylène (PET) >90%",{"$f":"VLOOKUP(W743,R:T,3,FALSE)","v":42}]
[null,null,null,null,null,null,null,null,null,null,null,null,null,null,null,null,null,null,null,null,null,null,"PVC >90%",{"$f":"VLOOKUP(W744,R:T,3,FALSE)","v":48}]
[null,null,null,null,null,null,null,null,null,null,null,null,null,null,null,null,null,null,null,null,null,null,"Autre matériau majoritaire",{"$f":"VLOOKUP(W745,R:T,3,FALSE)","v":12}]
[null,null,null,null,null,null,null,null,null,null,null,null,null,null,null,null,null,null,null,null,null,null,"Non connu ou non spécifié par l'entreprise",{"$f":"VLOOKUP(W746,R:T,3,FALSE)","v":"00"}]
[null,null,null,null,null,null,null,null,null,null,null,null,null,null,null,null,null,null,null,null,null,null,"B_443"]
[null,null,null,null,null,null,null,null,null,null,null,null,null,null,null,null,null,null,null,null,null,null,"ABS >90%",{"$f":"VLOOKUP(W748,R:T,3,FALSE)","v":46}]
[null,null,null,null,null,null,null,null,null,null,null,null,null,null,null,null,null,null,null,null,null,null,"Assemblage avec métal >50% et autres matériaux",{"$f":"VLOOKUP(W749,R:T,3,FALSE)","v":"02"}]
[null,null,null,null,null,null,null,null,null,null,null,null,null,null,null,null,null,null,null,null,null,null,"Assemblage de 3 matériaux ou plus sans un matériau à plus de 50%",{"$f":"VLOOKUP(W750,R:T,3,FALSE)","v":82}]
[null,null,null,null,null,null,null,null,null,null,null,null,null,null,null,null,null,null,null,null,null,null,"Assemblage de bois, dérivés de bois à plus de 50% avec d'autres matériaux ou bois composite (hors verre)",{"$f":"VLOOKUP(W751,R:T,3,FALSE)","v":"01"}]
[null,null,null,null,null,null,null,null,null,null,null,null,null,null,null,null,null,null,null,null,null,null,"Assemblage matériaux ou fibres synthétiques >50% avec d'autres matériaux",{"$f":"VLOOKUP(W752,R:T,3,FALSE)","v":67}]
[null,null,null,null,null,null,null,null,null,null,null,null,null,null,null,null,null,null,null,null,null,null,"Béton >90%",{"$f":"VLOOKUP(W753,R:T,3,FALSE)","v":74}]
[null,null,null,null,null,null,null,null,null,null,null,null,null,null,null,null,null,null,null,null,null,null,"Caoutchouc naturel >50%",{"$f":"VLOOKUP(W754,R:T,3,FALSE)","v":64}]
[null,null,null,null,null,null,null,null,null,null,null,null,null,null,null,null,null,null,null,null,null,null,"Caoutchouc synthétique >90%",{"$f":"VLOOKUP(W755,R:T,3,FALSE)","v":49}]
[null,null,null,null,null,null,null,null,null,null,null,null,null,null,null,null,null,null,null,null,null,null,"Dérivés de bois >90%",{"$f":"VLOOKUP(W756,R:T,3,FALSE)","v":62}]
[null,null,null,null,null,null,null,null,null,null,null,null,null,null,null,null,null,null,null,null,null,null,"Massif et assimilés >90%",{"$f":"VLOOKUP(W757,R:T,3,FALSE)","v":53}]
[null,null,null,null,null,null,null,null,null,null,null,null,null,null,null,null,null,null,null,null,null,null,"Matériaux bio sourcés ou textiles non synthétiques >90%",{"$f":"VLOOKUP(W758,R:T,3,FALSE)","v":55}]
[null,null,null,null,null,null,null,null,null,null,null,null,null,null,null,null,null,null,null,null,null,null,"Matériaux ou fibres synthétiques >90%",{"$f":"VLOOKUP(W759,R:T,3,FALSE)","v":65}]
[null,null,null,null,null,null,null,null,null,null,null,null,null,null,null,null,null,null,null,null,null,null,"Métal >90%",{"$f":"VLOOKUP(W760,R:T,3,FALSE)","v":28}]
[null,null,null,null,null,null,null,null,null,null,null,null,null,null,null,null,null,null,null,null,null,null,"Miroir >90%",{"$f":"VLOOKUP(W761,R:T,3,FALSE)","v":69}]
[null,null,null,null,null,null,null,null,null,null,null,null,null,null,null,null,null,null,null,null,null,null,"Panneaux de particules ou OSB >90%",{"$f":"VLOOKUP(W762,R:T,3,FALSE)","v":61}]
[null,null,null,null,null,null,null,null,null,null,null,null,null,null,null,null,null,null,null,null,null,null,"Papier carton >50% avec d'autres matériaux (hors verre)",{"$f":"VLOOKUP(W763,R:T,3,FALSE)","v":"19"}]
[null,null,null,null,null,null,null,null,null,null,null,null,null,null,null,null,null,null,null,null,null,null,"PE ou PP ou mélange PP/PE >90%",{"$f":"VLOOKUP(W764,R:T,3,FALSE)","v":45}]
[null,null,null,null,null,null,null,null,null,null,null,null,null,null,null,null,null,null,null,null,null,null,"Plastiques (mono résine) >90%",{"$f":"VLOOKUP(W765,R:T,3,FALSE)","v":41}]
[null,null,null,null,null,null,null,null,null,null,null,null,null,null,null,null,null,null,null,null,null,null,"Plastiques ou autres matériaux synthétiques >50%",{"$f":"VLOOKUP(W766,R:T,3,FALSE)","v":"05"}]
[null,null,null,null,null,null,null,null,null,null,null,null,null,null,null,null,null,null,null,null,null,null,"Plâtre >50%",{"$f":"VLOOKUP(W767,R:T,3,FALSE)","v":76}]
[null,null,null,null,null,null,null,null,null,null,null,null,null,null,null,null,null,null,null,null,null,null,"Polystyrène >90%",{"$f":"VLOOKUP(W768,R:T,3,FALSE)","v":47}]
[null,null,null,null,null,null,null,null,null,null,null,null,null,null,null,null,null,null,null,null,null,null,"Polyterephtalate d'Ethylène (PET) >90%",{"$f":"VLOOKUP(W769,R:T,3,FALSE)","v":42}]
[null,null,null,null,null,null,null,null,null,null,null,null,null,null,null,null,null,null,null,null,null,null,"PVC >90%",{"$f":"VLOOKUP(W770,R:T,3,FALSE)","v":48}]
[null,null,null,null,null,null,null,null,null,null,null,null,null,null,null,null,null,null,null,null,null,null,"Autre matériau majoritaire",{"$f":"VLOOKUP(W771,R:T,3,FALSE)","v":12}]
[null,null,null,null,null,null,null,null,null,null,null,null,null,null,null,null,null,null,null,null,null,null,"Non connu ou non spécifié par l'entreprise",{"$f":"VLOOKUP(W772,R:T,3,FALSE)","v":"00"}]
[null,null,null,null,null,null,null,null,null,null,null,null,null,null,null,null,null,null,null,null,null,null,"B_450"]
[null,null,null,null,null,null,null,null,null,null,null,null,null,null,null,null,null,null,null,null,null,null,"ABS >90%",{"$f":"VLOOKUP(W774,R:T,3,FALSE)","v":46}]
[null,null,null,null,null,null,null,null,null,null,null,null,null,null,null,null,null,null,null,null,null,null,"Assemblage avec métal >50% et autres matériaux",{"$f":"VLOOKUP(W775,R:T,3,FALSE)","v":"02"}]
[null,null,null,null,null,null,null,null,null,null,null,null,null,null,null,null,null,null,null,null,null,null,"Assemblage de 3 matériaux ou plus sans un matériau à plus de 50%",{"$f":"VLOOKUP(W776,R:T,3,FALSE)","v":82}]
[null,null,null,null,null,null,null,null,null,null,null,null,null,null,null,null,null,null,null,null,null,null,"Assemblage de bois, dérivés de bois à plus de 50% avec d'autres matériaux ou bois composite (hors verre)",{"$f":"VLOOKUP(W777,R:T,3,FALSE)","v":"01"}]
[null,null,null,null,null,null,null,null,null,null,null,null,null,null,null,null,null,null,null,null,null,null,"Assemblage matériaux ou fibres synthétiques >50% avec d'autres matériaux",{"$f":"VLOOKUP(W778,R:T,3,FALSE)","v":67}]
[null,null,null,null,null,null,null,null,null,null,null,null,null,null,null,null,null,null,null,null,null,null,"Dérivés de bois >90%",{"$f":"VLOOKUP(W779,R:T,3,FALSE)","v":62}]
[null,null,null,null,null,null,null,null,null,null,null,null,null,null,null,null,null,null,null,null,null,null,"Massif et assimilés >90%",{"$f":"VLOOKUP(W780,R:T,3,FALSE)","v":53}]
[null,null,null,null,null,null,null,null,null,null,null,null,null,null,null,null,null,null,null,null,null,null,"Matériaux bio sourcés ou textiles non synthétiques >90%",{"$f":"VLOOKUP(W781,R:T,3,FALSE)","v":55}]
[null,null,null,null,null,null,null,null,null,null,null,null,null,null,null,null,null,null,null,null,null,null,"Métal >90%",{"$f":"VLOOKUP(W782,R:T,3,FALSE)","v":28}]
[null,null,null,null,null,null,null,null,null,null,null,null,null,null,null,null,null,null,null,null,null,null,"Panneaux de particules ou OSB >90%",{"$f":"VLOOKUP(W783,R:T,3,FALSE)","v":61}]
[null,null,null,null,null,null,null,null,null,null,null,null,null,null,null,null,null,null,null,null,null,null,"PE ou PP ou mélange PP/PE >90%",{"$f":"VLOOKUP(W784,R:T,3,FALSE)","v":45}]
[null,null,null,null,null,null,null,null,null,null,null,null,null,null,null,null,null,null,null,null,null,null,"Plastiques (mono résine) >90%",{"$f":"VLOOKUP(W785,R:T,3,FALSE)","v":41}]
[null,null,null,null,null,null,null,null,null,null,null,null,null,null,null,null,null,null,null,null,null,null,"Plastiques ou autres matériaux synthétiques >50%",{"$f":"VLOOKUP(W786,R:T,3,FALSE)","v":"05"}]
[null,null,null,null,null,null,null,null,null,null,null,null,null,null,null,null,null,null,null,null,null,null,"Polystyrène >90%",{"$f":"VLOOKUP(W787,R:T,3,FALSE)","v":47}]
[null,null,null,null,null,null,null,null,null,null,null,null,null,null,null,null,null,null,null,null,null,null,"Polyterephtalate d'Ethylène (PET) >90%",{"$f":"VLOOKUP(W788,R:T,3,FALSE)","v":42}]
[null,null,null,null,null,null,null,null,null,null,null,null,null,null,null,null,null,null,null,null,null,null,"PVC >90%",{"$f":"VLOOKUP(W789,R:T,3,FALSE)","v":48}]
[null,null,null,null,null,null,null,null,null,null,null,null,null,null,null,null,null,null,null,null,null,null,"Autre matériau majoritaire",{"$f":"VLOOKUP(W790,R:T,3,FALSE)","v":12}]
[null,null,null,null,null,null,null,null,null,null,null,null,null,null,null,null,null,null,null,null,null,null,"Non connu ou non spécifié par l'entreprise",{"$f":"VLOOKUP(W791,R:T,3,FALSE)","v":"00"}]
[null,null,null,null,null,null,null,null,null,null,null,null,null,null,null,null,null,null,null,null,null,null,"B_451"]
[null,null,null,null,null,null,null,null,null,null,null,null,null,null,null,null,null,null,null,null,null,null,"ABS >90%",{"$f":"VLOOKUP(W793,R:T,3,FALSE)","v":46}]
[null,null,null,null,null,null,null,null,null,null,null,null,null,null,null,null,null,null,null,null,null,null,"Assemblage avec métal >50% et autres matériaux",{"$f":"VLOOKUP(W794,R:T,3,FALSE)","v":"02"}]
[null,null,null,null,null,null,null,null,null,null,null,null,null,null,null,null,null,null,null,null,null,null,"Assemblage de 3 matériaux ou plus sans un matériau à plus de 50%",{"$f":"VLOOKUP(W795,R:T,3,FALSE)","v":82}]
[null,null,null,null,null,null,null,null,null,null,null,null,null,null,null,null,null,null,null,null,null,null,"Assemblage de bois, dérivés de bois à plus de 50% avec d'autres matériaux ou bois composite (hors verre)",{"$f":"VLOOKUP(W796,R:T,3,FALSE)","v":"01"}]
[null,null,null,null,null,null,null,null,null,null,null,null,null,null,null,null,null,null,null,null,null,null,"Assemblage matériaux ou fibres synthétiques >50% avec d'autres matériaux",{"$f":"VLOOKUP(W797,R:T,3,FALSE)","v":67}]
[null,null,null,null,null,null,null,null,null,null,null,null,null,null,null,null,null,null,null,null,null,null,"Béton >90%",{"$f":"VLOOKUP(W798,R:T,3,FALSE)","v":74}]
[null,null,null,null,null,null,null,null,null,null,null,null,null,null,null,null,null,null,null,null,null,null,"Caoutchouc naturel >50%",{"$f":"VLOOKUP(W799,R:T,3,FALSE)","v":64}]
[null,null,null,null,null,null,null,null,null,null,null,null,null,null,null,null,null,null,null,null,null,null,"Caoutchouc synthétique >90%",{"$f":"VLOOKUP(W800,R:T,3,FALSE)","v":49}]
[null,null,null,null,null,null,null,null,null,null,null,null,null,null,null,null,null,null,null,null,null,null,"Dérivés de bois >90%",{"$f":"VLOOKUP(W801,R:T,3,FALSE)","v":62}]
[null,null,null,null,null,null,null,null,null,null,null,null,null,null,null,null,null,null,null,null,null,null,"Massif et assimilés >90%",{"$f":"VLOOKUP(W802,R:T,3,FALSE)","v":53}]
[null,null,null,null,null,null,null,null,null,null,null,null,null,null,null,null,null,null,null,null,null,null,"Matériaux bio sourcés ou textiles non synthétiques >90%",{"$f":"VLOOKUP(W803,R:T,3,FALSE)","v":55}]
[null,null,null,null,null,null,null,null,null,null,null,null,null,null,null,null,null,null,null,null,null,null,"Métal >90%",{"$f":"VLOOKUP(W804,R:T,3,FALSE)","v":28}]
[null,null,null,null,null,null,null,null,null,null,null,null,null,null,null,null,null,null,null,null,null,null,"Panneaux de particules ou OSB >90%",{"$f":"VLOOKUP(W805,R:T,3,FALSE)","v":61}]
[null,null,null,null,null,null,null,null,null,null,null,null,null,null,null,null,null,null,null,null,null,null,"PE ou PP ou mélange PP/PE >90%",{"$f":"VLOOKUP(W806,R:T,3,FALSE)","v":45}]
[null,null,null,null,null,null,null,null,null,null,null,null,null,null,null,null,null,null,null,null,null,null,"Plastiques (mono résine) >90%",{"$f":"VLOOKUP(W807,R:T,3,FALSE)","v":41}]
[null,null,null,null,null,null,null,null,null,null,null,null,null,null,null,null,null,null,null,null,null,null,"Plastiques ou autres matériaux synthétiques >50%",{"$f":"VLOOKUP(W808,R:T,3,FALSE)","v":"05"}]
[null,null,null,null,null,null,null,null,null,null,null,null,null,null,null,null,null,null,null,null,null,null,"Polystyrène >90%",{"$f":"VLOOKUP(W809,R:T,3,FALSE)","v":47}]
[null,null,null,null,null,null,null,null,null,null,null,null,null,null,null,null,null,null,null,null,null,null,"Polyterephtalate d'Ethylène (PET) >90%",{"$f":"VLOOKUP(W810,R:T,3,FALSE)","v":42}]
[null,null,null,null,null,null,null,null,null,null,null,null,null,null,null,null,null,null,null,null,null,null,"PVC >90%",{"$f":"VLOOKUP(W811,R:T,3,FALSE)","v":48}]
[null,null,null,null,null,null,null,null,null,null,null,null,null,null,null,null,null,null,null,null,null,null,"Autre matériau majoritaire",{"$f":"VLOOKUP(W812,R:T,3,FALSE)","v":12}]
[null,null,null,null,null,null,null,null,null,null,null,null,null,null,null,null,null,null,null,null,null,null,"Non connu ou non spécifié par l'entreprise",{"$f":"VLOOKUP(W813,R:T,3,FALSE)","v":"00"}]
[null,null,null,null,null,null,null,null,null,null,null,null,null,null,null,null,null,null,null,null,null,null,"B_452"]
[null,null,null,null,null,null,null,null,null,null,null,null,null,null,null,null,null,null,null,null,null,null,"ABS >90%",{"$f":"VLOOKUP(W815,R:T,3,FALSE)","v":46}]
[null,null,null,null,null,null,null,null,null,null,null,null,null,null,null,null,null,null,null,null,null,null,"Assemblage avec métal >50% et autres matériaux",{"$f":"VLOOKUP(W816,R:T,3,FALSE)","v":"02"}]
[null,null,null,null,null,null,null,null,null,null,null,null,null,null,null,null,null,null,null,null,null,null,"Assemblage de 3 matériaux ou plus sans un matériau à plus de 50%",{"$f":"VLOOKUP(W817,R:T,3,FALSE)","v":82}]
[null,null,null,null,null,null,null,null,null,null,null,null,null,null,null,null,null,null,null,null,null,null,"Assemblage matériaux ou fibres synthétiques >50% avec d'autres matériaux",{"$f":"VLOOKUP(W818,R:T,3,FALSE)","v":67}]
[null,null,null,null,null,null,null,null,null,null,null,null,null,null,null,null,null,null,null,null,null,null,"Caoutchouc naturel >50%",{"$f":"VLOOKUP(W819,R:T,3,FALSE)","v":64}]
[null,null,null,null,null,null,null,null,null,null,null,null,null,null,null,null,null,null,null,null,null,null,"Caoutchouc synthétique >90%",{"$f":"VLOOKUP(W820,R:T,3,FALSE)","v":49}]
[null,null,null,null,null,null,null,null,null,null,null,null,null,null,null,null,null,null,null,null,null,null,"Métal >90%",{"$f":"VLOOKUP(W821,R:T,3,FALSE)","v":28}]
[null,null,null,null,null,null,null,null,null,null,null,null,null,null,null,null,null,null,null,null,null,null,"Papier carton >50% avec d'autres matériaux (hors verre)",{"$f":"VLOOKUP(W822,R:T,3,FALSE)","v":"19"}]
[null,null,null,null,null,null,null,null,null,null,null,null,null,null,null,null,null,null,null,null,null,null,"PE ou PP ou mélange PP/PE >90%",{"$f":"VLOOKUP(W823,R:T,3,FALSE)","v":45}]
[null,null,null,null,null,null,null,null,null,null,null,null,null,null,null,null,null,null,null,null,null,null,"Plastiques (mono résine) >90%",{"$f":"VLOOKUP(W824,R:T,3,FALSE)","v":41}]
[null,null,null,null,null,null,null,null,null,null,null,null,null,null,null,null,null,null,null,null,null,null,"Plastiques ou autres matériaux synthétiques >50%",{"$f":"VLOOKUP(W825,R:T,3,FALSE)","v":"05"}]
[null,null,null,null,null,null,null,null,null,null,null,null,null,null,null,null,null,null,null,null,null,null,"Polystyrène >90%",{"$f":"VLOOKUP(W826,R:T,3,FALSE)","v":47}]
[null,null,null,null,null,null,null,null,null,null,null,null,null,null,null,null,null,null,null,null,null,null,"Polyterephtalate d'Ethylène (PET) >90%",{"$f":"VLOOKUP(W827,R:T,3,FALSE)","v":42}]
[null,null,null,null,null,null,null,null,null,null,null,null,null,null,null,null,null,null,null,null,null,null,"PVC >90%",{"$f":"VLOOKUP(W828,R:T,3,FALSE)","v":48}]
[null,null,null,null,null,null,null,null,null,null,null,null,null,null,null,null,null,null,null,null,null,null,"Autre matériau majoritaire",{"$f":"VLOOKUP(W829,R:T,3,FALSE)","v":12}]
[null,null,null,null,null,null,null,null,null,null,null,null,null,null,null,null,null,null,null,null,null,null,"Non connu ou non spécifié par l'entreprise",{"$f":"VLOOKUP(W830,R:T,3,FALSE)","v":"00"}]
[null,null,null,null,null,null,null,null,null,null,null,null,null,null,null,null,null,null,null,null,null,null,"B_455",null,"FOR"]
[null,null,null,null,null,null,null,null,null,null,null,null,null,null,null,null,null,null,null,null,null,null,"ABS >90%",{"$f":"VLOOKUP(W832,R:T,3,FALSE)","v":46}]
[null,null,null,null,null,null,null,null,null,null,null,null,null,null,null,null,null,null,null,null,null,null,"Assemblage avec métal >50% et autres matériaux",{"$f":"VLOOKUP(W833,R:T,3,FALSE)","v":"02"}]
[null,null,null,null,null,null,null,null,null,null,null,null,null,null,null,null,null,null,null,null,null,null,"Assemblage de 3 matériaux ou plus sans un matériau à plus de 50%",{"$f":"VLOOKUP(W834,R:T,3,FALSE)","v":82}]
[null,null,null,null,null,null,null,null,null,null,null,null,null,null,null,null,null,null,null,null,null,null,"Assemblage de bois, dérivés de bois à plus de 50% avec d'autres matériaux ou bois composite (hors verre)",{"$f":"VLOOKUP(W835,R:T,3,FALSE)","v":"01"}]
[null,null,null,null,null,null,null,null,null,null,null,null,null,null,null,null,null,null,null,null,null,null,"Assemblage matériaux ou fibres synthétiques >50% avec d'autres matériaux",{"$f":"VLOOKUP(W836,R:T,3,FALSE)","v":67}]
[null,null,null,null,null,null,null,null,null,null,null,null,null,null,null,null,null,null,null,null,null,null,"Assemblage verre à plus de 50% avec bois ou dérivés de bois",{"$f":"VLOOKUP(W837,R:T,3,FALSE)","v":72}]
[null,null,null,null,null,null,null,null,null,null,null,null,null,null,null,null,null,null,null,null,null,null,"Assemblage verre à plus de 50% avec Inerte",{"$f":"VLOOKUP(W838,R:T,3,FALSE)","v":71}]
[null,null,null,null,null,null,null,null,null,null,null,null,null,null,null,null,null,null,null,null,null,null,"Assemblage verre à plus de 50% avec métal",{"$f":"VLOOKUP(W839,R:T,3,FALSE)","v":70}]
[null,null,null,null,null,null,null,null,null,null,null,null,null,null,null,null,null,null,null,null,null,null,"Assemblage verre à plus de 50% avec plastique",{"$f":"VLOOKUP(W840,R:T,3,FALSE)","v":73}]
[null,null,null,null,null,null,null,null,null,null,null,null,null,null,null,null,null,null,null,null,null,null,"Caoutchouc naturel >50%",{"$f":"VLOOKUP(W841,R:T,3,FALSE)","v":64}]
[null,null,null,null,null,null,null,null,null,null,null,null,null,null,null,null,null,null,null,null,null,null,"Caoutchouc synthétique >90%",{"$f":"VLOOKUP(W842,R:T,3,FALSE)","v":49}]
[null,null,null,null,null,null,null,null,null,null,null,null,null,null,null,null,null,null,null,null,null,null,"Dérivés de bois >90%",{"$f":"VLOOKUP(W843,R:T,3,FALSE)","v":62}]
[null,null,null,null,null,null,null,null,null,null,null,null,null,null,null,null,null,null,null,null,null,null,"Massif et assimilés >90%",{"$f":"VLOOKUP(W844,R:T,3,FALSE)","v":53}]
[null,null,null,null,null,null,null,null,null,null,null,null,null,null,null,null,null,null,null,null,null,null,"Matériaux bio sourcés ou textiles non synthétiques >90%",{"$f":"VLOOKUP(W845,R:T,3,FALSE)","v":55}]
[null,null,null,null,null,null,null,null,null,null,null,null,null,null,null,null,null,null,null,null,null,null,"Métal >90%",{"$f":"VLOOKUP(W846,R:T,3,FALSE)","v":28}]
[null,null,null,null,null,null,null,null,null,null,null,null,null,null,null,null,null,null,null,null,null,null,"Panneaux de particules ou OSB >90%",{"$f":"VLOOKUP(W847,R:T,3,FALSE)","v":61}]
[null,null,null,null,null,null,null,null,null,null,null,null,null,null,null,null,null,null,null,null,null,null,"Papier carton >50% avec d'autres matériaux (hors verre)",{"$f":"VLOOKUP(W848,R:T,3,FALSE)","v":"19"}]
[null,null,null,null,null,null,null,null,null,null,null,null,null,null,null,null,null,null,null,null,null,null,"PE ou PP ou mélange PP/PE >90%",{"$f":"VLOOKUP(W849,R:T,3,FALSE)","v":45}]
[null,null,null,null,null,null,null,null,null,null,null,null,null,null,null,null,null,null,null,null,null,null,"Plastiques (mono résine) >90%",{"$f":"VLOOKUP(W850,R:T,3,FALSE)","v":41}]
[null,null,null,null,null,null,null,null,null,null,null,null,null,null,null,null,null,null,null,null,null,null,"Plastiques ou autres matériaux synthétiques >50%",{"$f":"VLOOKUP(W851,R:T,3,FALSE)","v":"05"}]
[null,null,null,null,null,null,null,null,null,null,null,null,null,null,null,null,null,null,null,null,null,null,"Polystyrène >90%",{"$f":"VLOOKUP(W852,R:T,3,FALSE)","v":47}]
[null,null,null,null,null,null,null,null,null,null,null,null,null,null,null,null,null,null,null,null,null,null,"Polyterephtalate d'Ethylène (PET) >90%",{"$f":"VLOOKUP(W853,R:T,3,FALSE)","v":42}]
[null,null,null,null,null,null,null,null,null,null,null,null,null,null,null,null,null,null,null,null,null,null,"PVC >90%",{"$f":"VLOOKUP(W854,R:T,3,FALSE)","v":48}]
[null,null,null,null,null,null,null,null,null,null,null,null,null,null,null,null,null,null,null,null,null,null,"Autre matériau majoritaire",{"$f":"VLOOKUP(W855,R:T,3,FALSE)","v":12}]
[null,null,null,null,null,null,null,null,null,null,null,null,null,null,null,null,null,null,null,null,null,null,"Non connu ou non spécifié par l'entreprise",{"$f":"VLOOKUP(W856,R:T,3,FALSE)","v":"00"}]
[null,null,null,null,null,null,null,null,null,null,null,null,null,null,null,null,null,null,null,null,null,null,"B_465"]
[null,null,null,null,null,null,null,null,null,null,null,null,null,null,null,null,null,null,null,null,null,null,"Produits liquides, y.c. dangereux >90%",{"$f":"VLOOKUP(W858,R:T,3,FALSE)","v":83}]
[null,null,null,null,null,null,null,null,null,null,null,null,null,null,null,null,null,null,null,null,null,null,"Autre matériau majoritaire",{"$f":"VLOOKUP(W859,R:T,3,FALSE)","v":12}]
[null,null,null,null,null,null,null,null,null,null,null,null,null,null,null,null,null,null,null,null,null,null,"Non connu ou non spécifié par l'entreprise",{"$f":"VLOOKUP(W860,R:T,3,FALSE)","v":"00"}]
[null,null,null,null,null,null,null,null,null,null,null,null,null,null,null,null,null,null,null,null,null,null,"B_467"]
[null,null,null,null,null,null,null,null,null,null,null,null,null,null,null,null,null,null,null,null,null,null,"Produits liquides, y.c. dangereux >90%",{"$f":"VLOOKUP(W862,R:T,3,FALSE)","v":83}]
[null,null,null,null,null,null,null,null,null,null,null,null,null,null,null,null,null,null,null,null,null,null,"Autre matériau majoritaire",{"$f":"VLOOKUP(W863,R:T,3,FALSE)","v":12}]
[null,null,null,null,null,null,null,null,null,null,null,null,null,null,null,null,null,null,null,null,null,null,"Non connu ou non spécifié par l'entreprise",{"$f":"VLOOKUP(W864,R:T,3,FALSE)","v":"00"}]
[null,null,null,null,null,null,null,null,null,null,null,null,null,null,null,null,null,null,null,null,null,null,"B_468"]
[null,null,null,null,null,null,null,null,null,null,null,null,null,null,null,null,null,null,null,null,null,null,"Produits liquides, y.c. dangereux >90%",{"$f":"VLOOKUP(W866,R:T,3,FALSE)","v":83}]
[null,null,null,null,null,null,null,null,null,null,null,null,null,null,null,null,null,null,null,null,null,null,"Autre matériau majoritaire",{"$f":"VLOOKUP(W867,R:T,3,FALSE)","v":12}]
[null,null,null,null,null,null,null,null,null,null,null,null,null,null,null,null,null,null,null,null,null,null,"Non connu ou non spécifié par l'entreprise",{"$f":"VLOOKUP(W868,R:T,3,FALSE)","v":"00"}]
[null,null,null,null,null,null,null,null,null,null,null,null,null,null,null,null,null,null,null,null,null,null,"B_469"]
[null,null,null,null,null,null,null,null,null,null,null,null,null,null,null,null,null,null,null,null,null,null,"Produits liquides, y.c. dangereux >90%",{"$f":"VLOOKUP(W870,R:T,3,FALSE)","v":83}]
[null,null,null,null,null,null,null,null,null,null,null,null,null,null,null,null,null,null,null,null,null,null,"Autre matériau majoritaire",{"$f":"VLOOKUP(W871,R:T,3,FALSE)","v":12}]
[null,null,null,null,null,null,null,null,null,null,null,null,null,null,null,null,null,null,null,null,null,null,"Non connu ou non spécifié par l'entreprise",{"$f":"VLOOKUP(W872,R:T,3,FALSE)","v":"00"}]
[null,null,null,null,null,null,null,null,null,null,null,null,null,null,null,null,null,null,null,null,null,null,"B_470"]
[null,null,null,null,null,null,null,null,null,null,null,null,null,null,null,null,null,null,null,null,null,null,"Produits liquides, y.c. dangereux >90%",{"$f":"VLOOKUP(W874,R:T,3,FALSE)","v":83}]
[null,null,null,null,null,null,null,null,null,null,null,null,null,null,null,null,null,null,null,null,null,null,"Autre matériau majoritaire",{"$f":"VLOOKUP(W875,R:T,3,FALSE)","v":12}]
[null,null,null,null,null,null,null,null,null,null,null,null,null,null,null,null,null,null,null,null,null,null,"Non connu ou non spécifié par l'entreprise",{"$f":"VLOOKUP(W876,R:T,3,FALSE)","v":"00"}]
[null,null,null,null,null,null,null,null,null,null,null,null,null,null,null,null,null,null,null,null,null,null,"B_471"]
[null,null,null,null,null,null,null,null,null,null,null,null,null,null,null,null,null,null,null,null,null,null,"Adjuvants >90%",{"$f":"VLOOKUP(W878,R:T,3,FALSE)","v":93}]
[null,null,null,null,null,null,null,null,null,null,null,null,null,null,null,null,null,null,null,null,null,null,"Produits liquides, y.c. dangereux >90%",{"$f":"VLOOKUP(W879,R:T,3,FALSE)","v":83}]
[null,null,null,null,null,null,null,null,null,null,null,null,null,null,null,null,null,null,null,null,null,null,"Autre matériau majoritaire",{"$f":"VLOOKUP(W880,R:T,3,FALSE)","v":12}]
[null,null,null,null,null,null,null,null,null,null,null,null,null,null,null,null,null,null,null,null,null,null,"Non connu ou non spécifié par l'entreprise",{"$f":"VLOOKUP(W881,R:T,3,FALSE)","v":"00"}]
[null,null,null,null,null,null,null,null,null,null,null,null,null,null,null,null,null,null,null,null,null,null,"B_472"]
[null,null,null,null,null,null,null,null,null,null,null,null,null,null,null,null,null,null,null,null,null,null,"Produits liquides, y.c. dangereux >90%",{"$f":"VLOOKUP(W883,R:T,3,FALSE)","v":83}]
[null,null,null,null,null,null,null,null,null,null,null,null,null,null,null,null,null,null,null,null,null,null,"Autre matériau majoritaire",{"$f":"VLOOKUP(W884,R:T,3,FALSE)","v":12}]
[null,null,null,null,null,null,null,null,null,null,null,null,null,null,null,null,null,null,null,null,null,null,"Non connu ou non spécifié par l'entreprise",{"$f":"VLOOKUP(W885,R:T,3,FALSE)","v":"00"}]
[null,null,null,null,null,null,null,null,null,null,null,null,null,null,null,null,null,null,null,null,null,null,"B_473"]
[null,null,null,null,null,null,null,null,null,null,null,null,null,null,null,null,null,null,null,null,null,null,"Produits liquides, y.c. dangereux >90%",{"$f":"VLOOKUP(W887,R:T,3,FALSE)","v":83}]
[null,null,null,null,null,null,null,null,null,null,null,null,null,null,null,null,null,null,null,null,null,null,"Autre matériau majoritaire",{"$f":"VLOOKUP(W888,R:T,3,FALSE)","v":12}]
[null,null,null,null,null,null,null,null,null,null,null,null,null,null,null,null,null,null,null,null,null,null,"Non connu ou non spécifié par l'entreprise",{"$f":"VLOOKUP(W889,R:T,3,FALSE)","v":"00"}]
[null,null,null,null,null,null,null,null,null,null,null,null,null,null,null,null,null,null,null,null,null,null,"B_474"]
[null,null,null,null,null,null,null,null,null,null,null,null,null,null,null,null,null,null,null,null,null,null,"Produits liquides, y.c. dangereux >90%",{"$f":"VLOOKUP(W891,R:T,3,FALSE)","v":83}]
[null,null,null,null,null,null,null,null,null,null,null,null,null,null,null,null,null,null,null,null,null,null,"Autre matériau majoritaire",{"$f":"VLOOKUP(W892,R:T,3,FALSE)","v":12}]
[null,null,null,null,null,null,null,null,null,null,null,null,null,null,null,null,null,null,null,null,null,null,"Non connu ou non spécifié par l'entreprise",{"$f":"VLOOKUP(W893,R:T,3,FALSE)","v":"00"}]
[null,null,null,null,null,null,null,null,null,null,null,null,null,null,null,null,null,null,null,null,null,null,"B_475"]
[null,null,null,null,null,null,null,null,null,null,null,null,null,null,null,null,null,null,null,null,null,null,"Produits liquides, y.c. dangereux >90%",{"$f":"VLOOKUP(W895,R:T,3,FALSE)","v":83}]
[null,null,null,null,null,null,null,null,null,null,null,null,null,null,null,null,null,null,null,null,null,null,"Autre matériau majoritaire",{"$f":"VLOOKUP(W896,R:T,3,FALSE)","v":12}]
[null,null,null,null,null,null,null,null,null,null,null,null,null,null,null,null,null,null,null,null,null,null,"Non connu ou non spécifié par l'entreprise",{"$f":"VLOOKUP(W897,R:T,3,FALSE)","v":"00"}]
[null,null,null,null,null,null,null,null,null,null,null,null,null,null,null,null,null,null,null,null,null,null,"B_476"]
[null,null,null,null,null,null,null,null,null,null,null,null,null,null,null,null,null,null,null,null,null,null,"Produits liquides, y.c. dangereux >90%",{"$f":"VLOOKUP(W899,R:T,3,FALSE)","v":83}]
[null,null,null,null,null,null,null,null,null,null,null,null,null,null,null,null,null,null,null,null,null,null,"Autre matériau majoritaire",{"$f":"VLOOKUP(W900,R:T,3,FALSE)","v":12}]
[null,null,null,null,null,null,null,null,null,null,null,null,null,null,null,null,null,null,null,null,null,null,"Non connu ou non spécifié par l'entreprise",{"$f":"VLOOKUP(W901,R:T,3,FALSE)","v":"00"}]
[null,null,null,null,null,null,null,null,null,null,null,null,null,null,null,null,null,null,null,null,null,null,"B_479"]
[null,null,null,null,null,null,null,null,null,null,null,null,null,null,null,null,null,null,null,null,null,null,"Produits liquides, y.c. dangereux >90%",{"$f":"VLOOKUP(W903,R:T,3,FALSE)","v":83}]
[null,null,null,null,null,null,null,null,null,null,null,null,null,null,null,null,null,null,null,null,null,null,"Autre matériau majoritaire",{"$f":"VLOOKUP(W904,R:T,3,FALSE)","v":12}]
[null,null,null,null,null,null,null,null,null,null,null,null,null,null,null,null,null,null,null,null,null,null,"Non connu ou non spécifié par l'entreprise",{"$f":"VLOOKUP(W905,R:T,3,FALSE)","v":"00"}]
[null,null,null,null,null,null,null,null,null,null,null,null,null,null,null,null,null,null,null,null,null,null,"B_480"]
[null,null,null,null,null,null,null,null,null,null,null,null,null,null,null,null,null,null,null,null,null,null,"Produits liquides, y.c. dangereux >90%",{"$f":"VLOOKUP(W907,R:T,3,FALSE)","v":83}]
[null,null,null,null,null,null,null,null,null,null,null,null,null,null,null,null,null,null,null,null,null,null,"Autre matériau majoritaire",{"$f":"VLOOKUP(W908,R:T,3,FALSE)","v":12}]
[null,null,null,null,null,null,null,null,null,null,null,null,null,null,null,null,null,null,null,null,null,null,"Non connu ou non spécifié par l'entreprise",{"$f":"VLOOKUP(W909,R:T,3,FALSE)","v":"00"}]
[null,null,null,null,null,null,null,null,null,null,null,null,null,null,null,null,null,null,null,null,null,null,"B_481"]
[null,null,null,null,null,null,null,null,null,null,null,null,null,null,null,null,null,null,null,null,null,null,"Produits liquides, y.c. dangereux >90%",{"$f":"VLOOKUP(W911,R:T,3,FALSE)","v":83}]
[null,null,null,null,null,null,null,null,null,null,null,null,null,null,null,null,null,null,null,null,null,null,"Autre matériau majoritaire",{"$f":"VLOOKUP(W912,R:T,3,FALSE)","v":12}]
[null,null,null,null,null,null,null,null,null,null,null,null,null,null,null,null,null,null,null,null,null,null,"Non connu ou non spécifié par l'entreprise",{"$f":"VLOOKUP(W913,R:T,3,FALSE)","v":"00"}]
[null,null,null,null,null,null,null,null,null,null,null,null,null,null,null,null,null,null,null,null,null,null,"B_482"]
[null,null,null,null,null,null,null,null,null,null,null,null,null,null,null,null,null,null,null,null,null,null,"Produits liquides, y.c. dangereux >90%",{"$f":"VLOOKUP(W915,R:T,3,FALSE)","v":83}]
[null,null,null,null,null,null,null,null,null,null,null,null,null,null,null,null,null,null,null,null,null,null,"Autre matériau majoritaire",{"$f":"VLOOKUP(W916,R:T,3,FALSE)","v":12}]
[null,null,null,null,null,null,null,null,null,null,null,null,null,null,null,null,null,null,null,null,null,null,"Non connu ou non spécifié par l'entreprise",{"$f":"VLOOKUP(W917,R:T,3,FALSE)","v":"00"}]
[null,null,null,null,null,null,null,null,null,null,null,null,null,null,null,null,null,null,null,null,null,null,"B_483"]
[null,null,null,null,null,null,null,null,null,null,null,null,null,null,null,null,null,null,null,null,null,null,"Produits liquides, y.c. dangereux >90%",{"$f":"VLOOKUP(W919,R:T,3,FALSE)","v":83}]
[null,null,null,null,null,null,null,null,null,null,null,null,null,null,null,null,null,null,null,null,null,null,"Autre matériau majoritaire",{"$f":"VLOOKUP(W920,R:T,3,FALSE)","v":12}]
[null,null,null,null,null,null,null,null,null,null,null,null,null,null,null,null,null,null,null,null,null,null,"Non connu ou non spécifié par l'entreprise",{"$f":"VLOOKUP(W921,R:T,3,FALSE)","v":"00"}]
[null,null,null,null,null,null,null,null,null,null,null,null,null,null,null,null,null,null,null,null,null,null,"B_484"]
[null,null,null,null,null,null,null,null,null,null,null,null,null,null,null,null,null,null,null,null,null,null,"Produits liquides, y.c. dangereux >90%",{"$f":"VLOOKUP(W923,R:T,3,FALSE)","v":83}]
[null,null,null,null,null,null,null,null,null,null,null,null,null,null,null,null,null,null,null,null,null,null,"Autre matériau majoritaire",{"$f":"VLOOKUP(W924,R:T,3,FALSE)","v":12}]
[null,null,null,null,null,null,null,null,null,null,null,null,null,null,null,null,null,null,null,null,null,null,"Non connu ou non spécifié par l'entreprise",{"$f":"VLOOKUP(W925,R:T,3,FALSE)","v":"00"}]
[null,null,null,null,null,null,null,null,null,null,null,null,null,null,null,null,null,null,null,null,null,null,"B_485"]
[null,null,null,null,null,null,null,null,null,null,null,null,null,null,null,null,null,null,null,null,null,null,"Produits liquides, y.c. dangereux >90%",{"$f":"VLOOKUP(W927,R:T,3,FALSE)","v":83}]
[null,null,null,null,null,null,null,null,null,null,null,null,null,null,null,null,null,null,null,null,null,null,"Autre matériau majoritaire",{"$f":"VLOOKUP(W928,R:T,3,FALSE)","v":12}]
[null,null,null,null,null,null,null,null,null,null,null,null,null,null,null,null,null,null,null,null,null,null,"Non connu ou non spécifié par l'entreprise",{"$f":"VLOOKUP(W929,R:T,3,FALSE)","v":"00"}]
[null,null,null,null,null,null,null,null,null,null,null,null,null,null,null,null,null,null,null,null,null,null,"B_486"]
[null,null,null,null,null,null,null,null,null,null,null,null,null,null,null,null,null,null,null,null,null,null,"Produits liquides, y.c. dangereux >90%",{"$f":"VLOOKUP(W931,R:T,3,FALSE)","v":83}]
[null,null,null,null,null,null,null,null,null,null,null,null,null,null,null,null,null,null,null,null,null,null,"Autre matériau majoritaire",{"$f":"VLOOKUP(W932,R:T,3,FALSE)","v":12}]
[null,null,null,null,null,null,null,null,null,null,null,null,null,null,null,null,null,null,null,null,null,null,"Non connu ou non spécifié par l'entreprise",{"$f":"VLOOKUP(W933,R:T,3,FALSE)","v":"00"}]
[null,null,null,null,null,null,null,null,null,null,null,null,null,null,null,null,null,null,null,null,null,null,"B_487"]
[null,null,null,null,null,null,null,null,null,null,null,null,null,null,null,null,null,null,null,null,null,null,"Produits liquides, y.c. dangereux >90%",{"$f":"VLOOKUP(W935,R:T,3,FALSE)","v":83}]
[null,null,null,null,null,null,null,null,null,null,null,null,null,null,null,null,null,null,null,null,null,null,"Autre matériau majoritaire",{"$f":"VLOOKUP(W936,R:T,3,FALSE)","v":12}]
[null,null,null,null,null,null,null,null,null,null,null,null,null,null,null,null,null,null,null,null,null,null,"Non connu ou non spécifié par l'entreprise",{"$f":"VLOOKUP(W937,R:T,3,FALSE)","v":"00"}]
[null,null,null,null,null,null,null,null,null,null,null,null,null,null,null,null,null,null,null,null,null,null,"B_495",null,"FOR"]
[null,null,null,null,null,null,null,null,null,null,null,null,null,null,null,null,null,null,null,null,null,null,"ABS >90%",{"$f":"VLOOKUP(W939,R:T,3,FALSE)","v":46}]
[null,null,null,null,null,null,null,null,null,null,null,null,null,null,null,null,null,null,null,null,null,null,"Assemblage avec métal >50% et autres matériaux",{"$f":"VLOOKUP(W940,R:T,3,FALSE)","v":"02"}]
[null,null,null,null,null,null,null,null,null,null,null,null,null,null,null,null,null,null,null,null,null,null,"Assemblage de 3 matériaux ou plus sans un matériau à plus de 50%",{"$f":"VLOOKUP(W941,R:T,3,FALSE)","v":82}]
[null,null,null,null,null,null,null,null,null,null,null,null,null,null,null,null,null,null,null,null,null,null,"Assemblage de bois, dérivés de bois à plus de 50% avec d'autres matériaux ou bois composite (hors verre)",{"$f":"VLOOKUP(W942,R:T,3,FALSE)","v":"01"}]
[null,null,null,null,null,null,null,null,null,null,null,null,null,null,null,null,null,null,null,null,null,null,"Assemblage matériaux ou fibres synthétiques >50% avec d'autres matériaux",{"$f":"VLOOKUP(W943,R:T,3,FALSE)","v":67}]
[null,null,null,null,null,null,null,null,null,null,null,null,null,null,null,null,null,null,null,null,null,null,"Céramique >90%",{"$f":"VLOOKUP(W944,R:T,3,FALSE)","v":97}]
[null,null,null,null,null,null,null,null,null,null,null,null,null,null,null,null,null,null,null,null,null,null,"Dérivés de bois >90%",{"$f":"VLOOKUP(W945,R:T,3,FALSE)","v":62}]
[null,null,null,null,null,null,null,null,null,null,null,null,null,null,null,null,null,null,null,null,null,null,"Granit >90%",91]
[null,null,null,null,null,null,null,null,null,null,null,null,null,null,null,null,null,null,null,null,null,null,"Grès >90%",94]
[null,null,null,null,null,null,null,null,null,null,null,null,null,null,null,null,null,null,null,null,null,null,"Lave >90%",87]
[null,null,null,null,null,null,null,null,null,null,null,null,null,null,null,null,null,null,null,null,null,null,"Massif et assimilés >90%",{"$f":"VLOOKUP(W949,R:T,3,FALSE)","v":53}]
[null,null,null,null,null,null,null,null,null,null,null,null,null,null,null,null,null,null,null,null,null,null,"Matériaux bio sourcés ou textiles non synthétiques >90%",{"$f":"VLOOKUP(W950,R:T,3,FALSE)","v":55}]
[null,null,null,null,null,null,null,null,null,null,null,null,null,null,null,null,null,null,null,null,null,null,"Métal >90%",{"$f":"VLOOKUP(W951,R:T,3,FALSE)","v":28}]
[null,null,null,null,null,null,null,null,null,null,null,null,null,null,null,null,null,null,null,null,null,null,"PE ou PP ou mélange PP/PE >90%",{"$f":"VLOOKUP(W952,R:T,3,FALSE)","v":45}]
[null,null,null,null,null,null,null,null,null,null,null,null,null,null,null,null,null,null,null,null,null,null,"Pierre calcaire >90%",86]
[null,null,null,null,null,null,null,null,null,null,null,null,null,null,null,null,null,null,null,null,null,null,"Plastiques (mono résine) >90%",{"$f":"VLOOKUP(W954,R:T,3,FALSE)","v":41}]
[null,null,null,null,null,null,null,null,null,null,null,null,null,null,null,null,null,null,null,null,null,null,"Plastiques ou autres matériaux synthétiques >50%",{"$f":"VLOOKUP(W955,R:T,3,FALSE)","v":"05"}]
[null,null,null,null,null,null,null,null,null,null,null,null,null,null,null,null,null,null,null,null,null,null,"Polystyrène >90%",{"$f":"VLOOKUP(W956,R:T,3,FALSE)","v":47}]
[null,null,null,null,null,null,null,null,null,null,null,null,null,null,null,null,null,null,null,null,null,null,"Polyterephtalate d'Ethylène (PET) >90%",{"$f":"VLOOKUP(W957,R:T,3,FALSE)","v":42}]
[null,null,null,null,null,null,null,null,null,null,null,null,null,null,null,null,null,null,null,null,null,null,"PVC >90%",{"$f":"VLOOKUP(W958,R:T,3,FALSE)","v":48}]
[null,null,null,null,null,null,null,null,null,null,null,null,null,null,null,null,null,null,null,null,null,null,"Autre matériau majoritaire",{"$f":"VLOOKUP(W959,R:T,3,FALSE)","v":12}]
[null,null,null,null,null,null,null,null,null,null,null,null,null,null,null,null,null,null,null,null,null,null,"Non connu ou non spécifié par l'entreprise",{"$f":"VLOOKUP(W960,R:T,3,FALSE)","v":"00"}]
[null,null,null,null,null,null,null,null,null,null,null,null,null,null,null,null,null,null,null,null,null,null,"B_496"]
[null,null,null,null,null,null,null,null,null,null,null,null,null,null,null,null,null,null,null,null,null,null,"ABS >90%",{"$f":"VLOOKUP(W962,R:T,3,FALSE)","v":46}]
[null,null,null,null,null,null,null,null,null,null,null,null,null,null,null,null,null,null,null,null,null,null,"Assemblage avec métal >50% et autres matériaux",{"$f":"VLOOKUP(W963,R:T,3,FALSE)","v":"02"}]
[null,null,null,null,null,null,null,null,null,null,null,null,null,null,null,null,null,null,null,null,null,null,"Assemblage de 3 matériaux ou plus sans un matériau à plus de 50%",{"$f":"VLOOKUP(W964,R:T,3,FALSE)","v":82}]
[null,null,null,null,null,null,null,null,null,null,null,null,null,null,null,null,null,null,null,null,null,null,"Assemblage matériaux ou fibres synthétiques >50% avec d'autres matériaux",{"$f":"VLOOKUP(W965,R:T,3,FALSE)","v":67}]
[null,null,null,null,null,null,null,null,null,null,null,null,null,null,null,null,null,null,null,null,null,null,"Céramique >90%",{"$f":"VLOOKUP(W966,R:T,3,FALSE)","v":97}]
[null,null,null,null,null,null,null,null,null,null,null,null,null,null,null,null,null,null,null,null,null,null,"Dérivés de bois >90%",{"$f":"VLOOKUP(W967,R:T,3,FALSE)","v":62}]
[null,null,null,null,null,null,null,null,null,null,null,null,null,null,null,null,null,null,null,null,null,null,"Matériaux bio sourcés ou textiles non synthétiques >90%",{"$f":"VLOOKUP(W968,R:T,3,FALSE)","v":55}]
[null,null,null,null,null,null,null,null,null,null,null,null,null,null,null,null,null,null,null,null,null,null,"PE ou PP ou mélange PP/PE >90%",{"$f":"VLOOKUP(W969,R:T,3,FALSE)","v":45}]
[null,null,null,null,null,null,null,null,null,null,null,null,null,null,null,null,null,null,null,null,null,null,"Plastiques (mono résine) >90%",{"$f":"VLOOKUP(W970,R:T,3,FALSE)","v":41}]
[null,null,null,null,null,null,null,null,null,null,null,null,null,null,null,null,null,null,null,null,null,null,"Plastiques ou autres matériaux synthétiques >50%",{"$f":"VLOOKUP(W971,R:T,3,FALSE)","v":"05"}]
[null,null,null,null,null,null,null,null,null,null,null,null,null,null,null,null,null,null,null,null,null,null,"Polystyrène >90%",{"$f":"VLOOKUP(W972,R:T,3,FALSE)","v":47}]
[null,null,null,null,null,null,null,null,null,null,null,null,null,null,null,null,null,null,null,null,null,null,"Polyterephtalate d'Ethylène (PET) >90%",{"$f":"VLOOKUP(W973,R:T,3,FALSE)","v":42}]
[null,null,null,null,null,null,null,null,null,null,null,null,null,null,null,null,null,null,null,null,null,null,"PVC >90%",{"$f":"VLOOKUP(W974,R:T,3,FALSE)","v":48}]
[null,null,null,null,null,null,null,null,null,null,null,null,null,null,null,null,null,null,null,null,null,null,"Autre matériau majoritaire",{"$f":"VLOOKUP(W975,R:T,3,FALSE)","v":12}]
[null,null,null,null,null,null,null,null,null,null,null,null,null,null,null,null,null,null,null,null,null,null,"Non connu ou non spécifié par l'entreprise",{"$f":"VLOOKUP(W976,R:T,3,FALSE)","v":"00"}]
[null,null,null,null,null,null,null,null,null,null,null,null,null,null,null,null,null,null,null,null,null,null,"B_497",null,"FOR"]
[null,null,null,null,null,null,null,null,null,null,null,null,null,null,null,null,null,null,null,null,null,null,"ABS >90%",{"$f":"VLOOKUP(W978,R:T,3,FALSE)","v":46}]
[null,null,null,null,null,null,null,null,null,null,null,null,null,null,null,null,null,null,null,null,null,null,"Assemblage avec métal >50% et autres matériaux",{"$f":"VLOOKUP(W979,R:T,3,FALSE)","v":"02"}]
[null,null,null,null,null,null,null,null,null,null,null,null,null,null,null,null,null,null,null,null,null,null,"Assemblage de 3 matériaux ou plus sans un matériau à plus de 50%",{"$f":"VLOOKUP(W980,R:T,3,FALSE)","v":82}]
[null,null,null,null,null,null,null,null,null,null,null,null,null,null,null,null,null,null,null,null,null,null,"Assemblage matériaux ou fibres synthétiques >50% avec d'autres matériaux",{"$f":"VLOOKUP(W981,R:T,3,FALSE)","v":67}]
[null,null,null,null,null,null,null,null,null,null,null,null,null,null,null,null,null,null,null,null,null,null,"Céramique >90%",{"$f":"VLOOKUP(W982,R:T,3,FALSE)","v":97}]
[null,null,null,null,null,null,null,null,null,null,null,null,null,null,null,null,null,null,null,null,null,null,"Métal >90%",{"$f":"VLOOKUP(W983,R:T,3,FALSE)","v":28}]
[null,null,null,null,null,null,null,null,null,null,null,null,null,null,null,null,null,null,null,null,null,null,"PE ou PP ou mélange PP/PE >90%",{"$f":"VLOOKUP(W984,R:T,3,FALSE)","v":45}]
[null,null,null,null,null,null,null,null,null,null,null,null,null,null,null,null,null,null,null,null,null,null,"Plastiques (mono résine) >90%",{"$f":"VLOOKUP(W985,R:T,3,FALSE)","v":41}]
[null,null,null,null,null,null,null,null,null,null,null,null,null,null,null,null,null,null,null,null,null,null,"Plastiques ou autres matériaux synthétiques >50%",{"$f":"VLOOKUP(W986,R:T,3,FALSE)","v":"05"}]
[null,null,null,null,null,null,null,null,null,null,null,null,null,null,null,null,null,null,null,null,null,null,"Polystyrène >90%",{"$f":"VLOOKUP(W987,R:T,3,FALSE)","v":47}]
[null,null,null,null,null,null,null,null,null,null,null,null,null,null,null,null,null,null,null,null,null,null,"Polyterephtalate d'Ethylène (PET) >90%",{"$f":"VLOOKUP(W988,R:T,3,FALSE)","v":42}]
[null,null,null,null,null,null,null,null,null,null,null,null,null,null,null,null,null,null,null,null,null,null,"PVC >90%",{"$f":"VLOOKUP(W989,R:T,3,FALSE)","v":48}]
[null,null,null,null,null,null,null,null,null,null,null,null,null,null,null,null,null,null,null,null,null,null,"Autre matériau majoritaire",{"$f":"VLOOKUP(W990,R:T,3,FALSE)","v":12}]
[null,null,null,null,null,null,null,null,null,null,null,null,null,null,null,null,null,null,null,null,null,null,"Non connu ou non spécifié par l'entreprise",{"$f":"VLOOKUP(W991,R:T,3,FALSE)","v":"00"}]
[null,null,null,null,null,null,null,null,null,null,null,null,null,null,null,null,null,null,null,null,null,null,"B_498"]
[null,null,null,null,null,null,null,null,null,null,null,null,null,null,null,null,null,null,null,null,null,null,"ABS >90%",{"$f":"VLOOKUP(W993,R:T,3,FALSE)","v":46}]
[null,null,null,null,null,null,null,null,null,null,null,null,null,null,null,null,null,null,null,null,null,null,"Assemblage avec métal >50% et autres matériaux",{"$f":"VLOOKUP(W994,R:T,3,FALSE)","v":"02"}]
[null,null,null,null,null,null,null,null,null,null,null,null,null,null,null,null,null,null,null,null,null,null,"Assemblage de 3 matériaux ou plus sans un matériau à plus de 50%",{"$f":"VLOOKUP(W995,R:T,3,FALSE)","v":82}]
[null,null,null,null,null,null,null,null,null,null,null,null,null,null,null,null,null,null,null,null,null,null,"Assemblage de bois, dérivés de bois à plus de 50% avec d'autres matériaux ou bois composite (hors verre)",{"$f":"VLOOKUP(W996,R:T,3,FALSE)","v":"01"}]
[null,null,null,null,null,null,null,null,null,null,null,null,null,null,null,null,null,null,null,null,null,null,"Assemblage matériaux ou fibres synthétiques >50% avec d'autres matériaux",{"$f":"VLOOKUP(W997,R:T,3,FALSE)","v":67}]
[null,null,null,null,null,null,null,null,null,null,null,null,null,null,null,null,null,null,null,null,null,null,"Caoutchouc naturel >50%",{"$f":"VLOOKUP(W998,R:T,3,FALSE)","v":64}]
[null,null,null,null,null,null,null,null,null,null,null,null,null,null,null,null,null,null,null,null,null,null,"Dérivés de bois >90%",{"$f":"VLOOKUP(W999,R:T,3,FALSE)","v":62}]
[null,null,null,null,null,null,null,null,null,null,null,null,null,null,null,null,null,null,null,null,null,null,"Massif et assimilés >90%",{"$f":"VLOOKUP(W1000,R:T,3,FALSE)","v":53}]
[null,null,null,null,null,null,null,null,null,null,null,null,null,null,null,null,null,null,null,null,null,null,"Matériaux bio sourcés ou textiles non synthétiques >90%",{"$f":"VLOOKUP(W1001,R:T,3,FALSE)","v":55}]
[null,null,null,null,null,null,null,null,null,null,null,null,null,null,null,null,null,null,null,null,null,null,"Panneaux de particules ou OSB >90%",{"$f":"VLOOKUP(W1002,R:T,3,FALSE)","v":61}]
[null,null,null,null,null,null,null,null,null,null,null,null,null,null,null,null,null,null,null,null,null,null,"PE ou PP ou mélange PP/PE >90%",{"$f":"VLOOKUP(W1003,R:T,3,FALSE)","v":45}]
[null,null,null,null,null,null,null,null,null,null,null,null,null,null,null,null,null,null,null,null,null,null,"Plastiques (mono résine) >90%",{"$f":"VLOOKUP(W1004,R:T,3,FALSE)","v":41}]
[null,null,null,null,null,null,null,null,null,null,null,null,null,null,null,null,null,null,null,null,null,null,"Plastiques ou autres matériaux synthétiques >50%",{"$f":"VLOOKUP(W1005,R:T,3,FALSE)","v":"05"}]
[null,null,null,null,null,null,null,null,null,null,null,null,null,null,null,null,null,null,null,null,null,null,"Polystyrène >90%",{"$f":"VLOOKUP(W1006,R:T,3,FALSE)","v":47}]
[null,null,null,null,null,null,null,null,null,null,null,null,null,null,null,null,null,null,null,null,null,null,"Polyterephtalate d'Ethylène (PET) >90%",{"$f":"VLOOKUP(W1007,R:T,3,FALSE)","v":42}]
[null,null,null,null,null,null,null,null,null,null,null,null,null,null,null,null,null,null,null,null,null,null,"PVC >90%",{"$f":"VLOOKUP(W1008,R:T,3,FALSE)","v":48}]
[null,null,null,null,null,null,null,null,null,null,null,null,null,null,null,null,null,null,null,null,null,null,"Verre >90%",{"$f":"VLOOKUP(W1009,R:T,3,FALSE)","v":68}]
[null,null,null,null,null,null,null,null,null,null,null,null,null,null,null,null,null,null,null,null,null,null,"Autre matériau majoritaire",{"$f":"VLOOKUP(W1010,R:T,3,FALSE)","v":12}]
[null,null,null,null,null,null,null,null,null,null,null,null,null,null,null,null,null,null,null,null,null,null,"Non connu ou non spécifié par l'entreprise",{"$f":"VLOOKUP(W1011,R:T,3,FALSE)","v":"00"}]
[null,null,null,null,null,null,null,null,null,null,null,null,null,null,null,null,null,null,null,null,null,null,"B_499"]
[null,null,null,null,null,null,null,null,null,null,null,null,null,null,null,null,null,null,null,null,null,null,"ABS >90%",{"$f":"VLOOKUP(W1013,R:T,3,FALSE)","v":46}]
[null,null,null,null,null,null,null,null,null,null,null,null,null,null,null,null,null,null,null,null,null,null,"Assemblage avec métal >50% et autres matériaux",{"$f":"VLOOKUP(W1014,R:T,3,FALSE)","v":"02"}]
[null,null,null,null,null,null,null,null,null,null,null,null,null,null,null,null,null,null,null,null,null,null,"Assemblage de 3 matériaux ou plus sans un matériau à plus de 50%",{"$f":"VLOOKUP(W1015,R:T,3,FALSE)","v":82}]
[null,null,null,null,null,null,null,null,null,null,null,null,null,null,null,null,null,null,null,null,null,null,"Assemblage matériaux ou fibres synthétiques >50% avec d'autres matériaux",{"$f":"VLOOKUP(W1016,R:T,3,FALSE)","v":67}]
[null,null,null,null,null,null,null,null,null,null,null,null,null,null,null,null,null,null,null,null,null,null,"Métal >90%",{"$f":"VLOOKUP(W1017,R:T,3,FALSE)","v":28}]
[null,null,null,null,null,null,null,null,null,null,null,null,null,null,null,null,null,null,null,null,null,null,"PE ou PP ou mélange PP/PE >90%",{"$f":"VLOOKUP(W1018,R:T,3,FALSE)","v":45}]
[null,null,null,null,null,null,null,null,null,null,null,null,null,null,null,null,null,null,null,null,null,null,"Plastiques (mono résine) >90%",{"$f":"VLOOKUP(W1019,R:T,3,FALSE)","v":41}]
[null,null,null,null,null,null,null,null,null,null,null,null,null,null,null,null,null,null,null,null,null,null,"Plastiques ou autres matériaux synthétiques >50%",{"$f":"VLOOKUP(W1020,R:T,3,FALSE)","v":"05"}]
[null,null,null,null,null,null,null,null,null,null,null,null,null,null,null,null,null,null,null,null,null,null,"Polystyrène >90%",{"$f":"VLOOKUP(W1021,R:T,3,FALSE)","v":47}]
[null,null,null,null,null,null,null,null,null,null,null,null,null,null,null,null,null,null,null,null,null,null,"Polyterephtalate d'Ethylène (PET) >90%",{"$f":"VLOOKUP(W1022,R:T,3,FALSE)","v":42}]
[null,null,null,null,null,null,null,null,null,null,null,null,null,null,null,null,null,null,null,null,null,null,"PVC >90%",{"$f":"VLOOKUP(W1023,R:T,3,FALSE)","v":48}]
[null,null,null,null,null,null,null,null,null,null,null,null,null,null,null,null,null,null,null,null,null,null,"Autre matériau majoritaire",{"$f":"VLOOKUP(W1024,R:T,3,FALSE)","v":12}]
[null,null,null,null,null,null,null,null,null,null,null,null,null,null,null,null,null,null,null,null,null,null,"Non connu ou non spécifié par l'entreprise",{"$f":"VLOOKUP(W1025,R:T,3,FALSE)","v":"00"}]
[null,null,null,null,null,null,null,null,null,null,null,null,null,null,null,null,null,null,null,null,null,null,"B_505"]
[null,null,null,null,null,null,null,null,null,null,null,null,null,null,null,null,null,null,null,null,null,null,"ABS >90%",{"$f":"VLOOKUP(W1027,R:T,3,FALSE)","v":46}]
[null,null,null,null,null,null,null,null,null,null,null,null,null,null,null,null,null,null,null,null,null,null,"Assemblage avec métal >50% et autres matériaux",{"$f":"VLOOKUP(W1028,R:T,3,FALSE)","v":"02"}]
[null,null,null,null,null,null,null,null,null,null,null,null,null,null,null,null,null,null,null,null,null,null,"Assemblage de 3 matériaux ou plus sans un matériau à plus de 50%",{"$f":"VLOOKUP(W1029,R:T,3,FALSE)","v":82}]
[null,null,null,null,null,null,null,null,null,null,null,null,null,null,null,null,null,null,null,null,null,null,"Assemblage de bois, dérivés de bois à plus de 50% avec d'autres matériaux ou bois composite (hors verre)",{"$f":"VLOOKUP(W1030,R:T,3,FALSE)","v":"01"}]
[null,null,null,null,null,null,null,null,null,null,null,null,null,null,null,null,null,null,null,null,null,null,"Assemblage matériaux ou fibres synthétiques >50% avec d'autres matériaux",{"$f":"VLOOKUP(W1031,R:T,3,FALSE)","v":67}]
[null,null,null,null,null,null,null,null,null,null,null,null,null,null,null,null,null,null,null,null,null,null,"Assemblage verre à plus de 50% avec bois ou dérivés de bois",{"$f":"VLOOKUP(W1032,R:T,3,FALSE)","v":72}]
[null,null,null,null,null,null,null,null,null,null,null,null,null,null,null,null,null,null,null,null,null,null,"Assemblage verre à plus de 50% avec Inerte",{"$f":"VLOOKUP(W1033,R:T,3,FALSE)","v":71}]
[null,null,null,null,null,null,null,null,null,null,null,null,null,null,null,null,null,null,null,null,null,null,"Assemblage verre à plus de 50% avec métal",{"$f":"VLOOKUP(W1034,R:T,3,FALSE)","v":70}]
[null,null,null,null,null,null,null,null,null,null,null,null,null,null,null,null,null,null,null,null,null,null,"Assemblage verre à plus de 50% avec plastique",{"$f":"VLOOKUP(W1035,R:T,3,FALSE)","v":73}]
[null,null,null,null,null,null,null,null,null,null,null,null,null,null,null,null,null,null,null,null,null,null,"Caoutchouc synthétique >90%",{"$f":"VLOOKUP(W1036,R:T,3,FALSE)","v":49}]
[null,null,null,null,null,null,null,null,null,null,null,null,null,null,null,null,null,null,null,null,null,null,"Métal >90%",{"$f":"VLOOKUP(W1037,R:T,3,FALSE)","v":28}]
[null,null,null,null,null,null,null,null,null,null,null,null,null,null,null,null,null,null,null,null,null,null,"Miroir >90%",{"$f":"VLOOKUP(W1038,R:T,3,FALSE)","v":69}]
[null,null,null,null,null,null,null,null,null,null,null,null,null,null,null,null,null,null,null,null,null,null,"PE ou PP ou mélange PP/PE >90%",{"$f":"VLOOKUP(W1039,R:T,3,FALSE)","v":45}]
[null,null,null,null,null,null,null,null,null,null,null,null,null,null,null,null,null,null,null,null,null,null,"Plastiques (mono résine) >90%",{"$f":"VLOOKUP(W1040,R:T,3,FALSE)","v":41}]
[null,null,null,null,null,null,null,null,null,null,null,null,null,null,null,null,null,null,null,null,null,null,"Plastiques ou autres matériaux synthétiques >50%",{"$f":"VLOOKUP(W1041,R:T,3,FALSE)","v":"05"}]
[null,null,null,null,null,null,null,null,null,null,null,null,null,null,null,null,null,null,null,null,null,null,"Polystyrène >90%",{"$f":"VLOOKUP(W1042,R:T,3,FALSE)","v":47}]
[null,null,null,null,null,null,null,null,null,null,null,null,null,null,null,null,null,null,null,null,null,null,"Polyterephtalate d'Ethylène (PET) >90%",{"$f":"VLOOKUP(W1043,R:T,3,FALSE)","v":42}]
[null,null,null,null,null,null,null,null,null,null,null,null,null,null,null,null,null,null,null,null,null,null,"PVC >90%",{"$f":"VLOOKUP(W1044,R:T,3,FALSE)","v":48}]
[null,null,null,null,null,null,null,null,null,null,null,null,null,null,null,null,null,null,null,null,null,null,"Verre >90%",{"$f":"VLOOKUP(W1045,R:T,3,FALSE)","v":68}]
[null,null,null,null,null,null,null,null,null,null,null,null,null,null,null,null,null,null,null,null,null,null,"Autre matériau majoritaire",{"$f":"VLOOKUP(W1046,R:T,3,FALSE)","v":12}]
[null,null,null,null,null,null,null,null,null,null,null,null,null,null,null,null,null,null,null,null,null,null,"Non connu ou non spécifié par l'entreprise",{"$f":"VLOOKUP(W1047,R:T,3,FALSE)","v":"00"}]
[null,null,null,null,null,null,null,null,null,null,null,null,null,null,null,null,null,null,null,null,null,null,"B_510"]
[null,null,null,null,null,null,null,null,null,null,null,null,null,null,null,null,null,null,null,null,null,null,"ABS >90%",{"$f":"VLOOKUP(W1049,R:T,3,FALSE)","v":46}]
[null,null,null,null,null,null,null,null,null,null,null,null,null,null,null,null,null,null,null,null,null,null,"Assemblage avec métal >50% et autres matériaux",{"$f":"VLOOKUP(W1050,R:T,3,FALSE)","v":"02"}]
[null,null,null,null,null,null,null,null,null,null,null,null,null,null,null,null,null,null,null,null,null,null,"Assemblage de 3 matériaux ou plus sans un matériau à plus de 50%",{"$f":"VLOOKUP(W1051,R:T,3,FALSE)","v":82}]
[null,null,null,null,null,null,null,null,null,null,null,null,null,null,null,null,null,null,null,null,null,null,"Assemblage matériaux ou fibres synthétiques >50% avec d'autres matériaux",{"$f":"VLOOKUP(W1052,R:T,3,FALSE)","v":67}]
[null,null,null,null,null,null,null,null,null,null,null,null,null,null,null,null,null,null,null,null,null,null,"Caoutchouc naturel >50%",{"$f":"VLOOKUP(W1053,R:T,3,FALSE)","v":64}]
[null,null,null,null,null,null,null,null,null,null,null,null,null,null,null,null,null,null,null,null,null,null,"Caoutchouc synthétique >90%",{"$f":"VLOOKUP(W1054,R:T,3,FALSE)","v":49}]
[null,null,null,null,null,null,null,null,null,null,null,null,null,null,null,null,null,null,null,null,null,null,"Métal >90%",{"$f":"VLOOKUP(W1055,R:T,3,FALSE)","v":28}]
[null,null,null,null,null,null,null,null,null,null,null,null,null,null,null,null,null,null,null,null,null,null,"PE ou PP ou mélange PP/PE >90%",{"$f":"VLOOKUP(W1056,R:T,3,FALSE)","v":45}]
[null,null,null,null,null,null,null,null,null,null,null,null,null,null,null,null,null,null,null,null,null,null,"Plastiques (mono résine) >90%",{"$f":"VLOOKUP(W1057,R:T,3,FALSE)","v":41}]
[null,null,null,null,null,null,null,null,null,null,null,null,null,null,null,null,null,null,null,null,null,null,"Plastiques ou autres matériaux synthétiques >50%",{"$f":"VLOOKUP(W1058,R:T,3,FALSE)","v":"05"}]
[null,null,null,null,null,null,null,null,null,null,null,null,null,null,null,null,null,null,null,null,null,null,"Polystyrène >90%",{"$f":"VLOOKUP(W1059,R:T,3,FALSE)","v":47}]
[null,null,null,null,null,null,null,null,null,null,null,null,null,null,null,null,null,null,null,null,null,null,"Polyterephtalate d'Ethylène (PET) >90%",{"$f":"VLOOKUP(W1060,R:T,3,FALSE)","v":42}]
[null,null,null,null,null,null,null,null,null,null,null,null,null,null,null,null,null,null,null,null,null,null,"PVC >90%",{"$f":"VLOOKUP(W1061,R:T,3,FALSE)","v":48}]
[null,null,null,null,null,null,null,null,null,null,null,null,null,null,null,null,null,null,null,null,null,null,"Autre matériau majoritaire",{"$f":"VLOOKUP(W1062,R:T,3,FALSE)","v":12}]
[null,null,null,null,null,null,null,null,null,null,null,null,null,null,null,null,null,null,null,null,null,null,"Non connu ou non spécifié par l'entreprise",{"$f":"VLOOKUP(W1063,R:T,3,FALSE)","v":"00"}]
[null,null,null,null,null,null,null,null,null,null,null,null,null,null,null,null,null,null,null,null,null,null,"B_511"]
[null,null,null,null,null,null,null,null,null,null,null,null,null,null,null,null,null,null,null,null,null,null,"ABS >90%",{"$f":"VLOOKUP(W1065,R:T,3,FALSE)","v":46}]
[null,null,null,null,null,null,null,null,null,null,null,null,null,null,null,null,null,null,null,null,null,null,"Assemblage avec métal >50% et autres matériaux",{"$f":"VLOOKUP(W1066,R:T,3,FALSE)","v":"02"}]
[null,null,null,null,null,null,null,null,null,null,null,null,null,null,null,null,null,null,null,null,null,null,"Assemblage de 3 matériaux ou plus sans un matériau à plus de 50%",{"$f":"VLOOKUP(W1067,R:T,3,FALSE)","v":82}]
[null,null,null,null,null,null,null,null,null,null,null,null,null,null,null,null,null,null,null,null,null,null,"Assemblage matériaux ou fibres synthétiques >50% avec d'autres matériaux",{"$f":"VLOOKUP(W1068,R:T,3,FALSE)","v":67}]
[null,null,null,null,null,null,null,null,null,null,null,null,null,null,null,null,null,null,null,null,null,null,"Caoutchouc naturel >50%",{"$f":"VLOOKUP(W1069,R:T,3,FALSE)","v":64}]
[null,null,null,null,null,null,null,null,null,null,null,null,null,null,null,null,null,null,null,null,null,null,"Caoutchouc synthétique >90%",{"$f":"VLOOKUP(W1070,R:T,3,FALSE)","v":49}]
[null,null,null,null,null,null,null,null,null,null,null,null,null,null,null,null,null,null,null,null,null,null,"Métal >90%",{"$f":"VLOOKUP(W1071,R:T,3,FALSE)","v":28}]
[null,null,null,null,null,null,null,null,null,null,null,null,null,null,null,null,null,null,null,null,null,null,"PE ou PP ou mélange PP/PE >90%",{"$f":"VLOOKUP(W1072,R:T,3,FALSE)","v":45}]
[null,null,null,null,null,null,null,null,null,null,null,null,null,null,null,null,null,null,null,null,null,null,"Plastiques (mono résine) >90%",{"$f":"VLOOKUP(W1073,R:T,3,FALSE)","v":41}]
[null,null,null,null,null,null,null,null,null,null,null,null,null,null,null,null,null,null,null,null,null,null,"Plastiques ou autres matériaux synthétiques >50%",{"$f":"VLOOKUP(W1074,R:T,3,FALSE)","v":"05"}]
[null,null,null,null,null,null,null,null,null,null,null,null,null,null,null,null,null,null,null,null,null,null,"Polystyrène >90%",{"$f":"VLOOKUP(W1075,R:T,3,FALSE)","v":47}]
[null,null,null,null,null,null,null,null,null,null,null,null,null,null,null,null,null,null,null,null,null,null,"Polyterephtalate d'Ethylène (PET) >90%",{"$f":"VLOOKUP(W1076,R:T,3,FALSE)","v":42}]
[null,null,null,null,null,null,null,null,null,null,null,null,null,null,null,null,null,null,null,null,null,null,"PVC >90%",{"$f":"VLOOKUP(W1077,R:T,3,FALSE)","v":48}]
[null,null,null,null,null,null,null,null,null,null,null,null,null,null,null,null,null,null,null,null,null,null,"Autre matériau majoritaire",{"$f":"VLOOKUP(W1078,R:T,3,FALSE)","v":12}]
[null,null,null,null,null,null,null,null,null,null,null,null,null,null,null,null,null,null,null,null,null,null,"Non connu ou non spécifié par l'entreprise",{"$f":"VLOOKUP(W1079,R:T,3,FALSE)","v":"00"}]
[null,null,null,null,null,null,null,null,null,null,null,null,null,null,null,null,null,null,null,null,null,null,"B_512"]
[null,null,null,null,null,null,null,null,null,null,null,null,null,null,null,null,null,null,null,null,null,null,"ABS >90%",{"$f":"VLOOKUP(W1081,R:T,3,FALSE)","v":46}]
[null,null,null,null,null,null,null,null,null,null,null,null,null,null,null,null,null,null,null,null,null,null,"Assemblage avec métal >50% et autres matériaux",{"$f":"VLOOKUP(W1082,R:T,3,FALSE)","v":"02"}]
[null,null,null,null,null,null,null,null,null,null,null,null,null,null,null,null,null,null,null,null,null,null,"Assemblage de 3 matériaux ou plus sans un matériau à plus de 50%",{"$f":"VLOOKUP(W1083,R:T,3,FALSE)","v":82}]
[null,null,null,null,null,null,null,null,null,null,null,null,null,null,null,null,null,null,null,null,null,null,"Assemblage de bois, dérivés de bois à plus de 50% avec d'autres matériaux ou bois composite (hors verre)",{"$f":"VLOOKUP(W1084,R:T,3,FALSE)","v":"01"}]
[null,null,null,null,null,null,null,null,null,null,null,null,null,null,null,null,null,null,null,null,null,null,"Assemblage matériaux ou fibres synthétiques >50% avec d'autres matériaux",{"$f":"VLOOKUP(W1085,R:T,3,FALSE)","v":67}]
[null,null,null,null,null,null,null,null,null,null,null,null,null,null,null,null,null,null,null,null,null,null,"Assemblage verre à plus de 50% avec bois ou dérivés de bois",{"$f":"VLOOKUP(W1086,R:T,3,FALSE)","v":72}]
[null,null,null,null,null,null,null,null,null,null,null,null,null,null,null,null,null,null,null,null,null,null,"Assemblage verre à plus de 50% avec Inerte",{"$f":"VLOOKUP(W1087,R:T,3,FALSE)","v":71}]
[null,null,null,null,null,null,null,null,null,null,null,null,null,null,null,null,null,null,null,null,null,null,"Assemblage verre à plus de 50% avec métal",{"$f":"VLOOKUP(W1088,R:T,3,FALSE)","v":70}]
[null,null,null,null,null,null,null,null,null,null,null,null,null,null,null,null,null,null,null,null,null,null,"Assemblage verre à plus de 50% avec plastique",{"$f":"VLOOKUP(W1089,R:T,3,FALSE)","v":73}]
[null,null,null,null,null,null,null,null,null,null,null,null,null,null,null,null,null,null,null,null,null,null,"Métal >90%",{"$f":"VLOOKUP(W1090,R:T,3,FALSE)","v":28}]
[null,null,null,null,null,null,null,null,null,null,null,null,null,null,null,null,null,null,null,null,null,null,"Miroir >90%",{"$f":"VLOOKUP(W1091,R:T,3,FALSE)","v":69}]
[null,null,null,null,null,null,null,null,null,null,null,null,null,null,null,null,null,null,null,null,null,null,"PE ou PP ou mélange PP/PE >90%",{"$f":"VLOOKUP(W1092,R:T,3,FALSE)","v":45}]
[null,null,null,null,null,null,null,null,null,null,null,null,null,null,null,null,null,null,null,null,null,null,"Plastiques (mono résine) >90%",{"$f":"VLOOKUP(W1093,R:T,3,FALSE)","v":41}]
[null,null,null,null,null,null,null,null,null,null,null,null,null,null,null,null,null,null,null,null,null,null,"Plastiques ou autres matériaux synthétiques >50%",{"$f":"VLOOKUP(W1094,R:T,3,FALSE)","v":"05"}]
[null,null,null,null,null,null,null,null,null,null,null,null,null,null,null,null,null,null,null,null,null,null,"Polystyrène >90%",{"$f":"VLOOKUP(W1095,R:T,3,FALSE)","v":47}]
[null,null,null,null,null,null,null,null,null,null,null,null,null,null,null,null,null,null,null,null,null,null,"Polyterephtalate d'Ethylène (PET) >90%",{"$f":"VLOOKUP(W1096,R:T,3,FALSE)","v":42}]
[null,null,null,null,null,null,null,null,null,null,null,null,null,null,null,null,null,null,null,null,null,null,"PVC >90%",{"$f":"VLOOKUP(W1097,R:T,3,FALSE)","v":48}]
[null,null,null,null,null,null,null,null,null,null,null,null,null,null,null,null,null,null,null,null,null,null,"Verre >90%",{"$f":"VLOOKUP(W1098,R:T,3,FALSE)","v":68}]
[null,null,null,null,null,null,null,null,null,null,null,null,null,null,null,null,null,null,null,null,null,null,"Autre matériau majoritaire",{"$f":"VLOOKUP(W1099,R:T,3,FALSE)","v":12}]
[null,null,null,null,null,null,null,null,null,null,null,null,null,null,null,null,null,null,null,null,null,null,"Non connu ou non spécifié par l'entreprise",{"$f":"VLOOKUP(W1100,R:T,3,FALSE)","v":"00"}]
[null,null,null,null,null,null,null,null,null,null,null,null,null,null,null,null,null,null,null,null,null,null,"B_513"]
[null,null,null,null,null,null,null,null,null,null,null,null,null,null,null,null,null,null,null,null,null,null,"ABS >90%",{"$f":"VLOOKUP(W1102,R:T,3,FALSE)","v":46}]
[null,null,null,null,null,null,null,null,null,null,null,null,null,null,null,null,null,null,null,null,null,null,"Assemblage avec métal >50% et autres matériaux",{"$f":"VLOOKUP(W1103,R:T,3,FALSE)","v":"02"}]
[null,null,null,null,null,null,null,null,null,null,null,null,null,null,null,null,null,null,null,null,null,null,"Assemblage de 3 matériaux ou plus sans un matériau à plus de 50%",{"$f":"VLOOKUP(W1104,R:T,3,FALSE)","v":82}]
[null,null,null,null,null,null,null,null,null,null,null,null,null,null,null,null,null,null,null,null,null,null,"Assemblage de bois, dérivés de bois à plus de 50% avec d'autres matériaux ou bois composite (hors verre)",{"$f":"VLOOKUP(W1105,R:T,3,FALSE)","v":"01"}]
[null,null,null,null,null,null,null,null,null,null,null,null,null,null,null,null,null,null,null,null,null,null,"Assemblage matériaux ou fibres synthétiques >50% avec d'autres matériaux",{"$f":"VLOOKUP(W1106,R:T,3,FALSE)","v":67}]
[null,null,null,null,null,null,null,null,null,null,null,null,null,null,null,null,null,null,null,null,null,null,"Béton >90%",{"$f":"VLOOKUP(W1107,R:T,3,FALSE)","v":74}]
[null,null,null,null,null,null,null,null,null,null,null,null,null,null,null,null,null,null,null,null,null,null,"Métal >90%",{"$f":"VLOOKUP(W1108,R:T,3,FALSE)","v":28}]
[null,null,null,null,null,null,null,null,null,null,null,null,null,null,null,null,null,null,null,null,null,null,"PE ou PP ou mélange PP/PE >90%",{"$f":"VLOOKUP(W1109,R:T,3,FALSE)","v":45}]
[null,null,null,null,null,null,null,null,null,null,null,null,null,null,null,null,null,null,null,null,null,null,"Plastiques (mono résine) >90%",{"$f":"VLOOKUP(W1110,R:T,3,FALSE)","v":41}]
[null,null,null,null,null,null,null,null,null,null,null,null,null,null,null,null,null,null,null,null,null,null,"Plastiques ou autres matériaux synthétiques >50%",{"$f":"VLOOKUP(W1111,R:T,3,FALSE)","v":"05"}]
[null,null,null,null,null,null,null,null,null,null,null,null,null,null,null,null,null,null,null,null,null,null,"Polystyrène >90%",{"$f":"VLOOKUP(W1112,R:T,3,FALSE)","v":47}]
[null,null,null,null,null,null,null,null,null,null,null,null,null,null,null,null,null,null,null,null,null,null,"Polyterephtalate d'Ethylène (PET) >90%",{"$f":"VLOOKUP(W1113,R:T,3,FALSE)","v":42}]
[null,null,null,null,null,null,null,null,null,null,null,null,null,null,null,null,null,null,null,null,null,null,"PVC >90%",{"$f":"VLOOKUP(W1114,R:T,3,FALSE)","v":48}]
[null,null,null,null,null,null,null,null,null,null,null,null,null,null,null,null,null,null,null,null,null,null,"Autre matériau majoritaire",{"$f":"VLOOKUP(W1115,R:T,3,FALSE)","v":12}]
[null,null,null,null,null,null,null,null,null,null,null,null,null,null,null,null,null,null,null,null,null,null,"Non connu ou non spécifié par l'entreprise",{"$f":"VLOOKUP(W1116,R:T,3,FALSE)","v":"00"}]
[null,null,null,null,null,null,null,null,null,null,null,null,null,null,null,null,null,null,null,null,null,null,"B_514"]
[null,null,null,null,null,null,null,null,null,null,null,null,null,null,null,null,null,null,null,null,null,null,"Béton >90%",{"$f":"VLOOKUP(W1118,R:T,3,FALSE)","v":74}]
[null,null,null,null,null,null,null,null,null,null,null,null,null,null,null,null,null,null,null,null,null,null,"Autre matériau majoritaire",{"$f":"VLOOKUP(W1119,R:T,3,FALSE)","v":12}]
[null,null,null,null,null,null,null,null,null,null,null,null,null,null,null,null,null,null,null,null,null,null,"B_516"]
[null,null,null,null,null,null,null,null,null,null,null,null,null,null,null,null,null,null,null,null,null,null,"ABS >90%",{"$f":"VLOOKUP(W1121,R:T,3,FALSE)","v":46}]
[null,null,null,null,null,null,null,null,null,null,null,null,null,null,null,null,null,null,null,null,null,null,"Assemblage avec métal >50% et autres matériaux",{"$f":"VLOOKUP(W1122,R:T,3,FALSE)","v":"02"}]
[null,null,null,null,null,null,null,null,null,null,null,null,null,null,null,null,null,null,null,null,null,null,"Assemblage de 3 matériaux ou plus sans un matériau à plus de 50%",{"$f":"VLOOKUP(W1123,R:T,3,FALSE)","v":82}]
[null,null,null,null,null,null,null,null,null,null,null,null,null,null,null,null,null,null,null,null,null,null,"Assemblage matériaux ou fibres synthétiques >50% avec d'autres matériaux",{"$f":"VLOOKUP(W1124,R:T,3,FALSE)","v":67}]
[null,null,null,null,null,null,null,null,null,null,null,null,null,null,null,null,null,null,null,null,null,null,"Caoutchouc naturel >50%",{"$f":"VLOOKUP(W1125,R:T,3,FALSE)","v":64}]
[null,null,null,null,null,null,null,null,null,null,null,null,null,null,null,null,null,null,null,null,null,null,"Caoutchouc synthétique >90%",{"$f":"VLOOKUP(W1126,R:T,3,FALSE)","v":49}]
[null,null,null,null,null,null,null,null,null,null,null,null,null,null,null,null,null,null,null,null,null,null,"Matériaux bio sourcés ou textiles non synthétiques >90%",{"$f":"VLOOKUP(W1127,R:T,3,FALSE)","v":55}]
[null,null,null,null,null,null,null,null,null,null,null,null,null,null,null,null,null,null,null,null,null,null,"Métal >90%",{"$f":"VLOOKUP(W1128,R:T,3,FALSE)","v":28}]
[null,null,null,null,null,null,null,null,null,null,null,null,null,null,null,null,null,null,null,null,null,null,"Papier carton >50% avec d'autres matériaux (hors verre)",{"$f":"VLOOKUP(W1129,R:T,3,FALSE)","v":"19"}]
[null,null,null,null,null,null,null,null,null,null,null,null,null,null,null,null,null,null,null,null,null,null,"PE ou PP ou mélange PP/PE >90%",{"$f":"VLOOKUP(W1130,R:T,3,FALSE)","v":45}]
[null,null,null,null,null,null,null,null,null,null,null,null,null,null,null,null,null,null,null,null,null,null,"Plastiques (mono résine) >90%",{"$f":"VLOOKUP(W1131,R:T,3,FALSE)","v":41}]
[null,null,null,null,null,null,null,null,null,null,null,null,null,null,null,null,null,null,null,null,null,null,"Plastiques ou autres matériaux synthétiques >50%",{"$f":"VLOOKUP(W1132,R:T,3,FALSE)","v":"05"}]
[null,null,null,null,null,null,null,null,null,null,null,null,null,null,null,null,null,null,null,null,null,null,"Polystyrène >90%",{"$f":"VLOOKUP(W1133,R:T,3,FALSE)","v":47}]
[null,null,null,null,null,null,null,null,null,null,null,null,null,null,null,null,null,null,null,null,null,null,"Polyterephtalate d'Ethylène (PET) >90%",{"$f":"VLOOKUP(W1134,R:T,3,FALSE)","v":42}]
[null,null,null,null,null,null,null,null,null,null,null,null,null,null,null,null,null,null,null,null,null,null,"PVC >90%",{"$f":"VLOOKUP(W1135,R:T,3,FALSE)","v":48}]
[null,null,null,null,null,null,null,null,null,null,null,null,null,null,null,null,null,null,null,null,null,null,"Autre matériau majoritaire",{"$f":"VLOOKUP(W1136,R:T,3,FALSE)","v":12}]
[null,null,null,null,null,null,null,null,null,null,null,null,null,null,null,null,null,null,null,null,null,null,"Non connu ou non spécifié par l'entreprise",{"$f":"VLOOKUP(W1137,R:T,3,FALSE)","v":"00"}]
[null,null,null,null,null,null,null,null,null,null,null,null,null,null,null,null,null,null,null,null,null,null,"B_525"]
[null,null,null,null,null,null,null,null,null,null,null,null,null,null,null,null,null,null,null,null,null,null,"ABS >90%",{"$f":"VLOOKUP(W1139,R:T,3,FALSE)","v":46}]
[null,null,null,null,null,null,null,null,null,null,null,null,null,null,null,null,null,null,null,null,null,null,"Assemblage avec métal >50% et autres matériaux",{"$f":"VLOOKUP(W1140,R:T,3,FALSE)","v":"02"}]
[null,null,null,null,null,null,null,null,null,null,null,null,null,null,null,null,null,null,null,null,null,null,"Assemblage de 3 matériaux ou plus sans un matériau à plus de 50%",{"$f":"VLOOKUP(W1141,R:T,3,FALSE)","v":82}]
[null,null,null,null,null,null,null,null,null,null,null,null,null,null,null,null,null,null,null,null,null,null,"Assemblage matériaux ou fibres synthétiques >50% avec d'autres matériaux",{"$f":"VLOOKUP(W1142,R:T,3,FALSE)","v":67}]
[null,null,null,null,null,null,null,null,null,null,null,null,null,null,null,null,null,null,null,null,null,null,"Assemblage verre à plus de 50% avec Inerte",{"$f":"VLOOKUP(W1143,R:T,3,FALSE)","v":71}]
[null,null,null,null,null,null,null,null,null,null,null,null,null,null,null,null,null,null,null,null,null,null,"Assemblage verre à plus de 50% avec métal",{"$f":"VLOOKUP(W1144,R:T,3,FALSE)","v":70}]
[null,null,null,null,null,null,null,null,null,null,null,null,null,null,null,null,null,null,null,null,null,null,"Métal >90%",{"$f":"VLOOKUP(W1145,R:T,3,FALSE)","v":28}]
[null,null,null,null,null,null,null,null,null,null,null,null,null,null,null,null,null,null,null,null,null,null,"PE ou PP ou mélange PP/PE >90%",{"$f":"VLOOKUP(W1146,R:T,3,FALSE)","v":45}]
[null,null,null,null,null,null,null,null,null,null,null,null,null,null,null,null,null,null,null,null,null,null,"Plastiques (mono résine) >90%",{"$f":"VLOOKUP(W1147,R:T,3,FALSE)","v":41}]
[null,null,null,null,null,null,null,null,null,null,null,null,null,null,null,null,null,null,null,null,null,null,"Plastiques ou autres matériaux synthétiques >50%",{"$f":"VLOOKUP(W1148,R:T,3,FALSE)","v":"05"}]
[null,null,null,null,null,null,null,null,null,null,null,null,null,null,null,null,null,null,null,null,null,null,"Polystyrène >90%",{"$f":"VLOOKUP(W1149,R:T,3,FALSE)","v":47}]
[null,null,null,null,null,null,null,null,null,null,null,null,null,null,null,null,null,null,null,null,null,null,"Polyterephtalate d'Ethylène (PET) >90%",{"$f":"VLOOKUP(W1150,R:T,3,FALSE)","v":42}]
[null,null,null,null,null,null,null,null,null,null,null,null,null,null,null,null,null,null,null,null,null,null,"PVC >90%",{"$f":"VLOOKUP(W1151,R:T,3,FALSE)","v":48}]
[null,null,null,null,null,null,null,null,null,null,null,null,null,null,null,null,null,null,null,null,null,null,"Autre matériau majoritaire",{"$f":"VLOOKUP(W1152,R:T,3,FALSE)","v":12}]
[null,null,null,null,null,null,null,null,null,null,null,null,null,null,null,null,null,null,null,null,null,null,"Non connu ou non spécifié par l'entreprise",{"$f":"VLOOKUP(W1153,R:T,3,FALSE)","v":"00"}]
[null,null,null,null,null,null,null,null,null,null,null,null,null,null,null,null,null,null,null,null,null,null,"B_526"]
[null,null,null,null,null,null,null,null,null,null,null,null,null,null,null,null,null,null,null,null,null,null,"ABS >90%",{"$f":"VLOOKUP(W1155,R:T,3,FALSE)","v":46}]
[null,null,null,null,null,null,null,null,null,null,null,null,null,null,null,null,null,null,null,null,null,null,"Assemblage avec métal >50% et autres matériaux",{"$f":"VLOOKUP(W1156,R:T,3,FALSE)","v":"02"}]
[null,null,null,null,null,null,null,null,null,null,null,null,null,null,null,null,null,null,null,null,null,null,"Assemblage de 3 matériaux ou plus sans un matériau à plus de 50%",{"$f":"VLOOKUP(W1157,R:T,3,FALSE)","v":82}]
[null,null,null,null,null,null,null,null,null,null,null,null,null,null,null,null,null,null,null,null,null,null,"Assemblage matériaux ou fibres synthétiques >50% avec d'autres matériaux",{"$f":"VLOOKUP(W1158,R:T,3,FALSE)","v":67}]
[null,null,null,null,null,null,null,null,null,null,null,null,null,null,null,null,null,null,null,null,null,null,"Métal >90%",{"$f":"VLOOKUP(W1159,R:T,3,FALSE)","v":28}]
[null,null,null,null,null,null,null,null,null,null,null,null,null,null,null,null,null,null,null,null,null,null,"PE ou PP ou mélange PP/PE >90%",{"$f":"VLOOKUP(W1160,R:T,3,FALSE)","v":45}]
[null,null,null,null,null,null,null,null,null,null,null,null,null,null,null,null,null,null,null,null,null,null,"Plastiques (mono résine) >90%",{"$f":"VLOOKUP(W1161,R:T,3,FALSE)","v":41}]
[null,null,null,null,null,null,null,null,null,null,null,null,null,null,null,null,null,null,null,null,null,null,"Plastiques ou autres matériaux synthétiques >50%",{"$f":"VLOOKUP(W1162,R:T,3,FALSE)","v":"05"}]
[null,null,null,null,null,null,null,null,null,null,null,null,null,null,null,null,null,null,null,null,null,null,"Polystyrène >90%",{"$f":"VLOOKUP(W1163,R:T,3,FALSE)","v":47}]
[null,null,null,null,null,null,null,null,null,null,null,null,null,null,null,null,null,null,null,null,null,null,"Polyterephtalate d'Ethylène (PET) >90%",{"$f":"VLOOKUP(W1164,R:T,3,FALSE)","v":42}]
[null,null,null,null,null,null,null,null,null,null,null,null,null,null,null,null,null,null,null,null,null,null,"PVC >90%",{"$f":"VLOOKUP(W1165,R:T,3,FALSE)","v":48}]
[null,null,null,null,null,null,null,null,null,null,null,null,null,null,null,null,null,null,null,null,null,null,"Autre matériau majoritaire",{"$f":"VLOOKUP(W1166,R:T,3,FALSE)","v":12}]
[null,null,null,null,null,null,null,null,null,null,null,null,null,null,null,null,null,null,null,null,null,null,"Non connu ou non spécifié par l'entreprise",{"$f":"VLOOKUP(W1167,R:T,3,FALSE)","v":"00"}]
[null,null,null,null,null,null,null,null,null,null,null,null,null,null,null,null,null,null,null,null,null,null,"B_527"]
[null,null,null,null,null,null,null,null,null,null,null,null,null,null,null,null,null,null,null,null,null,null,"ABS >90%",{"$f":"VLOOKUP(W1169,R:T,3,FALSE)","v":46}]
[null,null,null,null,null,null,null,null,null,null,null,null,null,null,null,null,null,null,null,null,null,null,"Assemblage avec métal >50% et autres matériaux",{"$f":"VLOOKUP(W1170,R:T,3,FALSE)","v":"02"}]
[null,null,null,null,null,null,null,null,null,null,null,null,null,null,null,null,null,null,null,null,null,null,"Assemblage de 3 matériaux ou plus sans un matériau à plus de 50%",{"$f":"VLOOKUP(W1171,R:T,3,FALSE)","v":82}]
[null,null,null,null,null,null,null,null,null,null,null,null,null,null,null,null,null,null,null,null,null,null,"Assemblage matériaux ou fibres synthétiques >50% avec d'autres matériaux",{"$f":"VLOOKUP(W1172,R:T,3,FALSE)","v":67}]
[null,null,null,null,null,null,null,null,null,null,null,null,null,null,null,null,null,null,null,null,null,null,"Métal >90%",{"$f":"VLOOKUP(W1173,R:T,3,FALSE)","v":28}]
[null,null,null,null,null,null,null,null,null,null,null,null,null,null,null,null,null,null,null,null,null,null,"PE ou PP ou mélange PP/PE >90%",{"$f":"VLOOKUP(W1174,R:T,3,FALSE)","v":45}]
[null,null,null,null,null,null,null,null,null,null,null,null,null,null,null,null,null,null,null,null,null,null,"Plastiques (mono résine) >90%",{"$f":"VLOOKUP(W1175,R:T,3,FALSE)","v":41}]
[null,null,null,null,null,null,null,null,null,null,null,null,null,null,null,null,null,null,null,null,null,null,"Plastiques ou autres matériaux synthétiques >50%",{"$f":"VLOOKUP(W1176,R:T,3,FALSE)","v":"05"}]
[null,null,null,null,null,null,null,null,null,null,null,null,null,null,null,null,null,null,null,null,null,null,"Polystyrène >90%",{"$f":"VLOOKUP(W1177,R:T,3,FALSE)","v":47}]
[null,null,null,null,null,null,null,null,null,null,null,null,null,null,null,null,null,null,null,null,null,null,"Polyterephtalate d'Ethylène (PET) >90%",{"$f":"VLOOKUP(W1178,R:T,3,FALSE)","v":42}]
[null,null,null,null,null,null,null,null,null,null,null,null,null,null,null,null,null,null,null,null,null,null,"PVC >90%",{"$f":"VLOOKUP(W1179,R:T,3,FALSE)","v":48}]
[null,null,null,null,null,null,null,null,null,null,null,null,null,null,null,null,null,null,null,null,null,null,"Autre matériau majoritaire",{"$f":"VLOOKUP(W1180,R:T,3,FALSE)","v":12}]
[null,null,null,null,null,null,null,null,null,null,null,null,null,null,null,null,null,null,null,null,null,null,"Non connu ou non spécifié par l'entreprise",{"$f":"VLOOKUP(W1181,R:T,3,FALSE)","v":"00"}]
[null,null,null,null,null,null,null,null,null,null,null,null,null,null,null,null,null,null,null,null,null,null,"B_528",null,"FOR"]
[null,null,null,null,null,null,null,null,null,null,null,null,null,null,null,null,null,null,null,null,null,null,"Assemblage avec métal >50% et autres matériaux",{"$f":"VLOOKUP(W1183,R:T,3,FALSE)","v":"02"}]
[null,null,null,null,null,null,null,null,null,null,null,null,null,null,null,null,null,null,null,null,null,null,"Assemblage de 3 matériaux ou plus sans un matériau à plus de 50%",{"$f":"VLOOKUP(W1184,R:T,3,FALSE)","v":82}]
[null,null,null,null,null,null,null,null,null,null,null,null,null,null,null,null,null,null,null,null,null,null,"Métal >90%",{"$f":"VLOOKUP(W1185,R:T,3,FALSE)","v":28}]
[null,null,null,null,null,null,null,null,null,null,null,null,null,null,null,null,null,null,null,null,null,null,"Autre matériau majoritaire",{"$f":"VLOOKUP(W1186,R:T,3,FALSE)","v":12}]
[null,null,null,null,null,null,null,null,null,null,null,null,null,null,null,null,null,null,null,null,null,null,"Non connu ou non spécifié par l'entreprise",{"$f":"VLOOKUP(W1187,R:T,3,FALSE)","v":"00"}]
[null,null,null,null,null,null,null,null,null,null,null,null,null,null,null,null,null,null,null,null,null,null,"B_529"]
[null,null,null,null,null,null,null,null,null,null,null,null,null,null,null,null,null,null,null,null,null,null,"ABS >90%",{"$f":"VLOOKUP(W1189,R:T,3,FALSE)","v":46}]
[null,null,null,null,null,null,null,null,null,null,null,null,null,null,null,null,null,null,null,null,null,null,"Assemblage avec métal >50% et autres matériaux",{"$f":"VLOOKUP(W1190,R:T,3,FALSE)","v":"02"}]
[null,null,null,null,null,null,null,null,null,null,null,null,null,null,null,null,null,null,null,null,null,null,"Assemblage de 3 matériaux ou plus sans un matériau à plus de 50%",{"$f":"VLOOKUP(W1191,R:T,3,FALSE)","v":82}]
[null,null,null,null,null,null,null,null,null,null,null,null,null,null,null,null,null,null,null,null,null,null,"Assemblage matériaux ou fibres synthétiques >50% avec d'autres matériaux",{"$f":"VLOOKUP(W1192,R:T,3,FALSE)","v":67}]
[null,null,null,null,null,null,null,null,null,null,null,null,null,null,null,null,null,null,null,null,null,null,"Métal >90%",{"$f":"VLOOKUP(W1193,R:T,3,FALSE)","v":28}]
[null,null,null,null,null,null,null,null,null,null,null,null,null,null,null,null,null,null,null,null,null,null,"PE ou PP ou mélange PP/PE >90%",{"$f":"VLOOKUP(W1194,R:T,3,FALSE)","v":45}]
[null,null,null,null,null,null,null,null,null,null,null,null,null,null,null,null,null,null,null,null,null,null,"Plastiques (mono résine) >90%",{"$f":"VLOOKUP(W1195,R:T,3,FALSE)","v":41}]
[null,null,null,null,null,null,null,null,null,null,null,null,null,null,null,null,null,null,null,null,null,null,"Plastiques ou autres matériaux synthétiques >50%",{"$f":"VLOOKUP(W1196,R:T,3,FALSE)","v":"05"}]
[null,null,null,null,null,null,null,null,null,null,null,null,null,null,null,null,null,null,null,null,null,null,"Polystyrène >90%",{"$f":"VLOOKUP(W1197,R:T,3,FALSE)","v":47}]
[null,null,null,null,null,null,null,null,null,null,null,null,null,null,null,null,null,null,null,null,null,null,"Polyterephtalate d'Ethylène (PET) >90%",{"$f":"VLOOKUP(W1198,R:T,3,FALSE)","v":42}]
[null,null,null,null,null,null,null,null,null,null,null,null,null,null,null,null,null,null,null,null,null,null,"PVC >90%",{"$f":"VLOOKUP(W1199,R:T,3,FALSE)","v":48}]
[null,null,null,null,null,null,null,null,null,null,null,null,null,null,null,null,null,null,null,null,null,null,"Autre matériau majoritaire",{"$f":"VLOOKUP(W1200,R:T,3,FALSE)","v":12}]
[null,null,null,null,null,null,null,null,null,null,null,null,null,null,null,null,null,null,null,null,null,null,"Non connu ou non spécifié par l'entreprise",{"$f":"VLOOKUP(W1201,R:T,3,FALSE)","v":"00"}]
[null,null,null,null,null,null,null,null,null,null,null,null,null,null,null,null,null,null,null,null,null,null,"B_530"]
[null,null,null,null,null,null,null,null,null,null,null,null,null,null,null,null,null,null,null,null,null,null,"ABS >90%",{"$f":"VLOOKUP(W1203,R:T,3,FALSE)","v":46}]
[null,null,null,null,null,null,null,null,null,null,null,null,null,null,null,null,null,null,null,null,null,null,"Assemblage avec métal >50% et autres matériaux",{"$f":"VLOOKUP(W1204,R:T,3,FALSE)","v":"02"}]
[null,null,null,null,null,null,null,null,null,null,null,null,null,null,null,null,null,null,null,null,null,null,"Assemblage de 3 matériaux ou plus sans un matériau à plus de 50%",{"$f":"VLOOKUP(W1205,R:T,3,FALSE)","v":82}]
[null,null,null,null,null,null,null,null,null,null,null,null,null,null,null,null,null,null,null,null,null,null,"Assemblage matériaux ou fibres synthétiques >50% avec d'autres matériaux",{"$f":"VLOOKUP(W1206,R:T,3,FALSE)","v":67}]
[null,null,null,null,null,null,null,null,null,null,null,null,null,null,null,null,null,null,null,null,null,null,"Métal >90%",{"$f":"VLOOKUP(W1207,R:T,3,FALSE)","v":28}]
[null,null,null,null,null,null,null,null,null,null,null,null,null,null,null,null,null,null,null,null,null,null,"PE ou PP ou mélange PP/PE >90%",{"$f":"VLOOKUP(W1208,R:T,3,FALSE)","v":45}]
[null,null,null,null,null,null,null,null,null,null,null,null,null,null,null,null,null,null,null,null,null,null,"Plastiques (mono résine) >90%",{"$f":"VLOOKUP(W1209,R:T,3,FALSE)","v":41}]
[null,null,null,null,null,null,null,null,null,null,null,null,null,null,null,null,null,null,null,null,null,null,"Plastiques ou autres matériaux synthétiques >50%",{"$f":"VLOOKUP(W1210,R:T,3,FALSE)","v":"05"}]
[null,null,null,null,null,null,null,null,null,null,null,null,null,null,null,null,null,null,null,null,null,null,"Polystyrène >90%",{"$f":"VLOOKUP(W1211,R:T,3,FALSE)","v":47}]
[null,null,null,null,null,null,null,null,null,null,null,null,null,null,null,null,null,null,null,null,null,null,"Polyterephtalate d'Ethylène (PET) >90%",{"$f":"VLOOKUP(W1212,R:T,3,FALSE)","v":42}]
[null,null,null,null,null,null,null,null,null,null,null,null,null,null,null,null,null,null,null,null,null,null,"PVC >90%",{"$f":"VLOOKUP(W1213,R:T,3,FALSE)","v":48}]
[null,null,null,null,null,null,null,null,null,null,null,null,null,null,null,null,null,null,null,null,null,null,"Autre matériau majoritaire",{"$f":"VLOOKUP(W1214,R:T,3,FALSE)","v":12}]
[null,null,null,null,null,null,null,null,null,null,null,null,null,null,null,null,null,null,null,null,null,null,"Non connu ou non spécifié par l'entreprise",{"$f":"VLOOKUP(W1215,R:T,3,FALSE)","v":"00"}]
[null,null,null,null,null,null,null,null,null,null,null,null,null,null,null,null,null,null,null,null,null,null,"B_535"]
[null,null,null,null,null,null,null,null,null,null,null,null,null,null,null,null,null,null,null,null,null,null,"ABS >90%",{"$f":"VLOOKUP(W1217,R:T,3,FALSE)","v":46}]
[null,null,null,null,null,null,null,null,null,null,null,null,null,null,null,null,null,null,null,null,null,null,"Assemblage avec métal >50% et autres matériaux",{"$f":"VLOOKUP(W1218,R:T,3,FALSE)","v":"02"}]
[null,null,null,null,null,null,null,null,null,null,null,null,null,null,null,null,null,null,null,null,null,null,"Assemblage de 3 matériaux ou plus sans un matériau à plus de 50%",{"$f":"VLOOKUP(W1219,R:T,3,FALSE)","v":82}]
[null,null,null,null,null,null,null,null,null,null,null,null,null,null,null,null,null,null,null,null,null,null,"Assemblage de bois, dérivés de bois à plus de 50% avec d'autres matériaux ou bois composite (hors verre)",{"$f":"VLOOKUP(W1220,R:T,3,FALSE)","v":"01"}]
[null,null,null,null,null,null,null,null,null,null,null,null,null,null,null,null,null,null,null,null,null,null,"Assemblage matériaux ou fibres synthétiques >50% avec d'autres matériaux",{"$f":"VLOOKUP(W1221,R:T,3,FALSE)","v":67}]
[null,null,null,null,null,null,null,null,null,null,null,null,null,null,null,null,null,null,null,null,null,null,"Assemblage verre à plus de 50% avec bois ou dérivés de bois",{"$f":"VLOOKUP(W1222,R:T,3,FALSE)","v":72}]
[null,null,null,null,null,null,null,null,null,null,null,null,null,null,null,null,null,null,null,null,null,null,"Assemblage verre à plus de 50% avec Inerte",{"$f":"VLOOKUP(W1223,R:T,3,FALSE)","v":71}]
[null,null,null,null,null,null,null,null,null,null,null,null,null,null,null,null,null,null,null,null,null,null,"Assemblage verre à plus de 50% avec métal",{"$f":"VLOOKUP(W1224,R:T,3,FALSE)","v":70}]
[null,null,null,null,null,null,null,null,null,null,null,null,null,null,null,null,null,null,null,null,null,null,"Assemblage verre à plus de 50% avec plastique",{"$f":"VLOOKUP(W1225,R:T,3,FALSE)","v":73}]
[null,null,null,null,null,null,null,null,null,null,null,null,null,null,null,null,null,null,null,null,null,null,"Béton >90%",{"$f":"VLOOKUP(W1226,R:T,3,FALSE)","v":74}]
[null,null,null,null,null,null,null,null,null,null,null,null,null,null,null,null,null,null,null,null,null,null,"Caoutchouc synthétique >90%",{"$f":"VLOOKUP(W1227,R:T,3,FALSE)","v":49}]
[null,null,null,null,null,null,null,null,null,null,null,null,null,null,null,null,null,null,null,null,null,null,"Dérivés de bois >90%",{"$f":"VLOOKUP(W1228,R:T,3,FALSE)","v":62}]
[null,null,null,null,null,null,null,null,null,null,null,null,null,null,null,null,null,null,null,null,null,null,"Massif et assimilés >90%",{"$f":"VLOOKUP(W1229,R:T,3,FALSE)","v":53}]
[null,null,null,null,null,null,null,null,null,null,null,null,null,null,null,null,null,null,null,null,null,null,"Matériaux bio sourcés ou textiles non synthétiques >90%",{"$f":"VLOOKUP(W1230,R:T,3,FALSE)","v":55}]
[null,null,null,null,null,null,null,null,null,null,null,null,null,null,null,null,null,null,null,null,null,null,"Métal >90%",{"$f":"VLOOKUP(W1231,R:T,3,FALSE)","v":28}]
[null,null,null,null,null,null,null,null,null,null,null,null,null,null,null,null,null,null,null,null,null,null,"Panneaux de particules ou OSB >90%",{"$f":"VLOOKUP(W1232,R:T,3,FALSE)","v":61}]
[null,null,null,null,null,null,null,null,null,null,null,null,null,null,null,null,null,null,null,null,null,null,"Papier carton >50% avec d'autres matériaux (hors verre)",{"$f":"VLOOKUP(W1233,R:T,3,FALSE)","v":"19"}]
[null,null,null,null,null,null,null,null,null,null,null,null,null,null,null,null,null,null,null,null,null,null,"PE ou PP ou mélange PP/PE >90%",{"$f":"VLOOKUP(W1234,R:T,3,FALSE)","v":45}]
[null,null,null,null,null,null,null,null,null,null,null,null,null,null,null,null,null,null,null,null,null,null,"Plastiques (mono résine) >90%",{"$f":"VLOOKUP(W1235,R:T,3,FALSE)","v":41}]
[null,null,null,null,null,null,null,null,null,null,null,null,null,null,null,null,null,null,null,null,null,null,"Plastiques ou autres matériaux synthétiques >50%",{"$f":"VLOOKUP(W1236,R:T,3,FALSE)","v":"05"}]
[null,null,null,null,null,null,null,null,null,null,null,null,null,null,null,null,null,null,null,null,null,null,"Polystyrène >90%",{"$f":"VLOOKUP(W1237,R:T,3,FALSE)","v":47}]
[null,null,null,null,null,null,null,null,null,null,null,null,null,null,null,null,null,null,null,null,null,null,"Polyterephtalate d'Ethylène (PET) >90%",{"$f":"VLOOKUP(W1238,R:T,3,FALSE)","v":42}]
[null,null,null,null,null,null,null,null,null,null,null,null,null,null,null,null,null,null,null,null,null,null,"PVC >90%",{"$f":"VLOOKUP(W1239,R:T,3,FALSE)","v":48}]
[null,null,null,null,null,null,null,null,null,null,null,null,null,null,null,null,null,null,null,null,null,null,"Verre >90%",{"$f":"VLOOKUP(W1240,R:T,3,FALSE)","v":68}]
[null,null,null,null,null,null,null,null,null,null,null,null,null,null,null,null,null,null,null,null,null,null,"Autre matériau majoritaire",{"$f":"VLOOKUP(W1241,R:T,3,FALSE)","v":12}]
[null,null,null,null,null,null,null,null,null,null,null,null,null,null,null,null,null,null,null,null,null,null,"Non connu ou non spécifié par l'entreprise",{"$f":"VLOOKUP(W1242,R:T,3,FALSE)","v":"00"}]
[null,null,null,null,null,null,null,null,null,null,null,null,null,null,null,null,null,null,null,null,null,null,"B_536"]
[null,null,null,null,null,null,null,null,null,null,null,null,null,null,null,null,null,null,null,null,null,null,"ABS >90%",{"$f":"VLOOKUP(W1244,R:T,3,FALSE)","v":46}]
[null,null,null,null,null,null,null,null,null,null,null,null,null,null,null,null,null,null,null,null,null,null,"Assemblage avec métal >50% et autres matériaux",{"$f":"VLOOKUP(W1245,R:T,3,FALSE)","v":"02"}]
[null,null,null,null,null,null,null,null,null,null,null,null,null,null,null,null,null,null,null,null,null,null,"Assemblage de 3 matériaux ou plus sans un matériau à plus de 50%",{"$f":"VLOOKUP(W1246,R:T,3,FALSE)","v":82}]
[null,null,null,null,null,null,null,null,null,null,null,null,null,null,null,null,null,null,null,null,null,null,"Assemblage de bois, dérivés de bois à plus de 50% avec d'autres matériaux ou bois composite (hors verre)",{"$f":"VLOOKUP(W1247,R:T,3,FALSE)","v":"01"}]
[null,null,null,null,null,null,null,null,null,null,null,null,null,null,null,null,null,null,null,null,null,null,"Assemblage matériaux ou fibres synthétiques >50% avec d'autres matériaux",{"$f":"VLOOKUP(W1248,R:T,3,FALSE)","v":67}]
[null,null,null,null,null,null,null,null,null,null,null,null,null,null,null,null,null,null,null,null,null,null,"Assemblage verre à plus de 50% avec bois ou dérivés de bois",{"$f":"VLOOKUP(W1249,R:T,3,FALSE)","v":72}]
[null,null,null,null,null,null,null,null,null,null,null,null,null,null,null,null,null,null,null,null,null,null,"Assemblage verre à plus de 50% avec Inerte",{"$f":"VLOOKUP(W1250,R:T,3,FALSE)","v":71}]
[null,null,null,null,null,null,null,null,null,null,null,null,null,null,null,null,null,null,null,null,null,null,"Assemblage verre à plus de 50% avec métal",{"$f":"VLOOKUP(W1251,R:T,3,FALSE)","v":70}]
[null,null,null,null,null,null,null,null,null,null,null,null,null,null,null,null,null,null,null,null,null,null,"Assemblage verre à plus de 50% avec plastique",{"$f":"VLOOKUP(W1252,R:T,3,FALSE)","v":73}]
[null,null,null,null,null,null,null,null,null,null,null,null,null,null,null,null,null,null,null,null,null,null,"Béton >90%",{"$f":"VLOOKUP(W1253,R:T,3,FALSE)","v":74}]
[null,null,null,null,null,null,null,null,null,null,null,null,null,null,null,null,null,null,null,null,null,null,"Dérivés de bois >90%",{"$f":"VLOOKUP(W1254,R:T,3,FALSE)","v":62}]
[null,null,null,null,null,null,null,null,null,null,null,null,null,null,null,null,null,null,null,null,null,null,"Massif et assimilés >90%",{"$f":"VLOOKUP(W1255,R:T,3,FALSE)","v":53}]
[null,null,null,null,null,null,null,null,null,null,null,null,null,null,null,null,null,null,null,null,null,null,"Matériaux bio sourcés ou textiles non synthétiques >90%",{"$f":"VLOOKUP(W1256,R:T,3,FALSE)","v":55}]
[null,null,null,null,null,null,null,null,null,null,null,null,null,null,null,null,null,null,null,null,null,null,"Métal >90%",{"$f":"VLOOKUP(W1257,R:T,3,FALSE)","v":28}]
[null,null,null,null,null,null,null,null,null,null,null,null,null,null,null,null,null,null,null,null,null,null,"Panneaux de particules ou OSB >90%",{"$f":"VLOOKUP(W1258,R:T,3,FALSE)","v":61}]
[null,null,null,null,null,null,null,null,null,null,null,null,null,null,null,null,null,null,null,null,null,null,"PE ou PP ou mélange PP/PE >90%",{"$f":"VLOOKUP(W1259,R:T,3,FALSE)","v":45}]
[null,null,null,null,null,null,null,null,null,null,null,null,null,null,null,null,null,null,null,null,null,null,"Plastiques (mono résine) >90%",{"$f":"VLOOKUP(W1260,R:T,3,FALSE)","v":41}]
[null,null,null,null,null,null,null,null,null,null,null,null,null,null,null,null,null,null,null,null,null,null,"Plastiques ou autres matériaux synthétiques >50%",{"$f":"VLOOKUP(W1261,R:T,3,FALSE)","v":"05"}]
[null,null,null,null,null,null,null,null,null,null,null,null,null,null,null,null,null,null,null,null,null,null,"Polystyrène >90%",{"$f":"VLOOKUP(W1262,R:T,3,FALSE)","v":47}]
[null,null,null,null,null,null,null,null,null,null,null,null,null,null,null,null,null,null,null,null,null,null,"Polyterephtalate d'Ethylène (PET) >90%",{"$f":"VLOOKUP(W1263,R:T,3,FALSE)","v":42}]
[null,null,null,null,null,null,null,null,null,null,null,null,null,null,null,null,null,null,null,null,null,null,"PVC >90%",{"$f":"VLOOKUP(W1264,R:T,3,FALSE)","v":48}]
[null,null,null,null,null,null,null,null,null,null,null,null,null,null,null,null,null,null,null,null,null,null,"Autre matériau majoritaire",{"$f":"VLOOKUP(W1265,R:T,3,FALSE)","v":12}]
[null,null,null,null,null,null,null,null,null,null,null,null,null,null,null,null,null,null,null,null,null,null,"Non connu ou non spécifié par l'entreprise",{"$f":"VLOOKUP(W1266,R:T,3,FALSE)","v":"00"}]
[null,null,null,null,null,null,null,null,null,null,null,null,null,null,null,null,null,null,null,null,null,null,"B_537"]
[null,null,null,null,null,null,null,null,null,null,null,null,null,null,null,null,null,null,null,null,null,null,"ABS >90%",{"$f":"VLOOKUP(W1268,R:T,3,FALSE)","v":46}]
[null,null,null,null,null,null,null,null,null,null,null,null,null,null,null,null,null,null,null,null,null,null,"Assemblage avec métal >50% et autres matériaux",{"$f":"VLOOKUP(W1269,R:T,3,FALSE)","v":"02"}]
[null,null,null,null,null,null,null,null,null,null,null,null,null,null,null,null,null,null,null,null,null,null,"Assemblage de 3 matériaux ou plus sans un matériau à plus de 50%",{"$f":"VLOOKUP(W1270,R:T,3,FALSE)","v":82}]
[null,null,null,null,null,null,null,null,null,null,null,null,null,null,null,null,null,null,null,null,null,null,"Assemblage de bois, dérivés de bois à plus de 50% avec d'autres matériaux ou bois composite (hors verre)",{"$f":"VLOOKUP(W1271,R:T,3,FALSE)","v":"01"}]
[null,null,null,null,null,null,null,null,null,null,null,null,null,null,null,null,null,null,null,null,null,null,"Assemblage matériaux ou fibres synthétiques >50% avec d'autres matériaux",{"$f":"VLOOKUP(W1272,R:T,3,FALSE)","v":67}]
[null,null,null,null,null,null,null,null,null,null,null,null,null,null,null,null,null,null,null,null,null,null,"Assemblage verre à plus de 50% avec bois ou dérivés de bois",{"$f":"VLOOKUP(W1273,R:T,3,FALSE)","v":72}]
[null,null,null,null,null,null,null,null,null,null,null,null,null,null,null,null,null,null,null,null,null,null,"Assemblage verre à plus de 50% avec Inerte",{"$f":"VLOOKUP(W1274,R:T,3,FALSE)","v":71}]
[null,null,null,null,null,null,null,null,null,null,null,null,null,null,null,null,null,null,null,null,null,null,"Assemblage verre à plus de 50% avec métal",{"$f":"VLOOKUP(W1275,R:T,3,FALSE)","v":70}]
[null,null,null,null,null,null,null,null,null,null,null,null,null,null,null,null,null,null,null,null,null,null,"Assemblage verre à plus de 50% avec plastique",{"$f":"VLOOKUP(W1276,R:T,3,FALSE)","v":73}]
[null,null,null,null,null,null,null,null,null,null,null,null,null,null,null,null,null,null,null,null,null,null,"Caoutchouc naturel >50%",{"$f":"VLOOKUP(W1277,R:T,3,FALSE)","v":64}]
[null,null,null,null,null,null,null,null,null,null,null,null,null,null,null,null,null,null,null,null,null,null,"Caoutchouc synthétique >90%",{"$f":"VLOOKUP(W1278,R:T,3,FALSE)","v":49}]
[null,null,null,null,null,null,null,null,null,null,null,null,null,null,null,null,null,null,null,null,null,null,"Dérivés de bois >90%",{"$f":"VLOOKUP(W1279,R:T,3,FALSE)","v":62}]
[null,null,null,null,null,null,null,null,null,null,null,null,null,null,null,null,null,null,null,null,null,null,"Massif et assimilés >90%",{"$f":"VLOOKUP(W1280,R:T,3,FALSE)","v":53}]
[null,null,null,null,null,null,null,null,null,null,null,null,null,null,null,null,null,null,null,null,null,null,"Matériaux bio sourcés ou textiles non synthétiques >90%",{"$f":"VLOOKUP(W1281,R:T,3,FALSE)","v":55}]
[null,null,null,null,null,null,null,null,null,null,null,null,null,null,null,null,null,null,null,null,null,null,"Métal >90%",{"$f":"VLOOKUP(W1282,R:T,3,FALSE)","v":28}]
[null,null,null,null,null,null,null,null,null,null,null,null,null,null,null,null,null,null,null,null,null,null,"Miroir >90%",{"$f":"VLOOKUP(W1283,R:T,3,FALSE)","v":69}]
[null,null,null,null,null,null,null,null,null,null,null,null,null,null,null,null,null,null,null,null,null,null,"Panneaux de particules ou OSB >90%",{"$f":"VLOOKUP(W1284,R:T,3,FALSE)","v":61}]
[null,null,null,null,null,null,null,null,null,null,null,null,null,null,null,null,null,null,null,null,null,null,"PE ou PP ou mélange PP/PE >90%",{"$f":"VLOOKUP(W1285,R:T,3,FALSE)","v":45}]
[null,null,null,null,null,null,null,null,null,null,null,null,null,null,null,null,null,null,null,null,null,null,"Plastiques (mono résine) >90%",{"$f":"VLOOKUP(W1286,R:T,3,FALSE)","v":41}]
[null,null,null,null,null,null,null,null,null,null,null,null,null,null,null,null,null,null,null,null,null,null,"Plastiques ou autres matériaux synthétiques >50%",{"$f":"VLOOKUP(W1287,R:T,3,FALSE)","v":"05"}]
[null,null,null,null,null,null,null,null,null,null,null,null,null,null,null,null,null,null,null,null,null,null,"Polystyrène >90%",{"$f":"VLOOKUP(W1288,R:T,3,FALSE)","v":47}]
[null,null,null,null,null,null,null,null,null,null,null,null,null,null,null,null,null,null,null,null,null,null,"Polyterephtalate d'Ethylène (PET) >90%",{"$f":"VLOOKUP(W1289,R:T,3,FALSE)","v":42}]
[null,null,null,null,null,null,null,null,null,null,null,null,null,null,null,null,null,null,null,null,null,null,"PVC >90%",{"$f":"VLOOKUP(W1290,R:T,3,FALSE)","v":48}]
[null,null,null,null,null,null,null,null,null,null,null,null,null,null,null,null,null,null,null,null,null,null,"Verre >90%",{"$f":"VLOOKUP(W1291,R:T,3,FALSE)","v":68}]
[null,null,null,null,null,null,null,null,null,null,null,null,null,null,null,null,null,null,null,null,null,null,"Autre matériau majoritaire",{"$f":"VLOOKUP(W1292,R:T,3,FALSE)","v":12}]
[null,null,null,null,null,null,null,null,null,null,null,null,null,null,null,null,null,null,null,null,null,null,"Non connu ou non spécifié par l'entreprise",{"$f":"VLOOKUP(W1293,R:T,3,FALSE)","v":"00"}]
[null,null,null,null,null,null,null,null,null,null,null,null,null,null,null,null,null,null,null,null,null,null,"B_538"]
[null,null,null,null,null,null,null,null,null,null,null,null,null,null,null,null,null,null,null,null,null,null,"Béton >90%",{"$f":"VLOOKUP(W1295,R:T,3,FALSE)","v":74}]
[null,null,null,null,null,null,null,null,null,null,null,null,null,null,null,null,null,null,null,null,null,null,"Autre matériau majoritaire",{"$f":"VLOOKUP(W1296,R:T,3,FALSE)","v":12}]
[null,null,null,null,null,null,null,null,null,null,null,null,null,null,null,null,null,null,null,null,null,null,"B_540"]
[null,null,null,null,null,null,null,null,null,null,null,null,null,null,null,null,null,null,null,null,null,null,"ABS >90%",{"$f":"VLOOKUP(W1298,R:T,3,FALSE)","v":46}]
[null,null,null,null,null,null,null,null,null,null,null,null,null,null,null,null,null,null,null,null,null,null,"Assemblage avec métal >50% et autres matériaux",{"$f":"VLOOKUP(W1299,R:T,3,FALSE)","v":"02"}]
[null,null,null,null,null,null,null,null,null,null,null,null,null,null,null,null,null,null,null,null,null,null,"Assemblage de 3 matériaux ou plus sans un matériau à plus de 50%",{"$f":"VLOOKUP(W1300,R:T,3,FALSE)","v":82}]
[null,null,null,null,null,null,null,null,null,null,null,null,null,null,null,null,null,null,null,null,null,null,"Assemblage de bois, dérivés de bois à plus de 50% avec d'autres matériaux ou bois composite (hors verre)",{"$f":"VLOOKUP(W1301,R:T,3,FALSE)","v":"01"}]
[null,null,null,null,null,null,null,null,null,null,null,null,null,null,null,null,null,null,null,null,null,null,"Assemblage matériaux ou fibres synthétiques >50% avec d'autres matériaux",{"$f":"VLOOKUP(W1302,R:T,3,FALSE)","v":67}]
[null,null,null,null,null,null,null,null,null,null,null,null,null,null,null,null,null,null,null,null,null,null,"Assemblage verre à plus de 50% avec bois ou dérivés de bois",{"$f":"VLOOKUP(W1303,R:T,3,FALSE)","v":72}]
[null,null,null,null,null,null,null,null,null,null,null,null,null,null,null,null,null,null,null,null,null,null,"Assemblage verre à plus de 50% avec Inerte",{"$f":"VLOOKUP(W1304,R:T,3,FALSE)","v":71}]
[null,null,null,null,null,null,null,null,null,null,null,null,null,null,null,null,null,null,null,null,null,null,"Assemblage verre à plus de 50% avec métal",{"$f":"VLOOKUP(W1305,R:T,3,FALSE)","v":70}]
[null,null,null,null,null,null,null,null,null,null,null,null,null,null,null,null,null,null,null,null,null,null,"Assemblage verre à plus de 50% avec plastique",{"$f":"VLOOKUP(W1306,R:T,3,FALSE)","v":73}]
[null,null,null,null,null,null,null,null,null,null,null,null,null,null,null,null,null,null,null,null,null,null,"Béton >90%",{"$f":"VLOOKUP(W1307,R:T,3,FALSE)","v":74}]
[null,null,null,null,null,null,null,null,null,null,null,null,null,null,null,null,null,null,null,null,null,null,"Caoutchouc naturel >50%",{"$f":"VLOOKUP(W1308,R:T,3,FALSE)","v":64}]
[null,null,null,null,null,null,null,null,null,null,null,null,null,null,null,null,null,null,null,null,null,null,"Caoutchouc synthétique >90%",{"$f":"VLOOKUP(W1309,R:T,3,FALSE)","v":49}]
[null,null,null,null,null,null,null,null,null,null,null,null,null,null,null,null,null,null,null,null,null,null,"Dérivés de bois >90%",{"$f":"VLOOKUP(W1310,R:T,3,FALSE)","v":62}]
[null,null,null,null,null,null,null,null,null,null,null,null,null,null,null,null,null,null,null,null,null,null,"Massif et assimilés >90%",{"$f":"VLOOKUP(W1311,R:T,3,FALSE)","v":53}]
[null,null,null,null,null,null,null,null,null,null,null,null,null,null,null,null,null,null,null,null,null,null,"Matériaux bio sourcés ou textiles non synthétiques >90%",{"$f":"VLOOKUP(W1312,R:T,3,FALSE)","v":55}]
[null,null,null,null,null,null,null,null,null,null,null,null,null,null,null,null,null,null,null,null,null,null,"Matériaux ou fibres synthétiques >90%",{"$f":"VLOOKUP(W1313,R:T,3,FALSE)","v":65}]
[null,null,null,null,null,null,null,null,null,null,null,null,null,null,null,null,null,null,null,null,null,null,"Métal >90%",{"$f":"VLOOKUP(W1314,R:T,3,FALSE)","v":28}]
[null,null,null,null,null,null,null,null,null,null,null,null,null,null,null,null,null,null,null,null,null,null,"Miroir >90%",{"$f":"VLOOKUP(W1315,R:T,3,FALSE)","v":69}]
[null,null,null,null,null,null,null,null,null,null,null,null,null,null,null,null,null,null,null,null,null,null,"Panneaux de particules ou OSB >90%",{"$f":"VLOOKUP(W1316,R:T,3,FALSE)","v":61}]
[null,null,null,null,null,null,null,null,null,null,null,null,null,null,null,null,null,null,null,null,null,null,"Papier carton >50% avec d'autres matériaux (hors verre)",{"$f":"VLOOKUP(W1317,R:T,3,FALSE)","v":"19"}]
[null,null,null,null,null,null,null,null,null,null,null,null,null,null,null,null,null,null,null,null,null,null,"PE ou PP ou mélange PP/PE >90%",{"$f":"VLOOKUP(W1318,R:T,3,FALSE)","v":45}]
[null,null,null,null,null,null,null,null,null,null,null,null,null,null,null,null,null,null,null,null,null,null,"Plastiques (mono résine) >90%",{"$f":"VLOOKUP(W1319,R:T,3,FALSE)","v":41}]
[null,null,null,null,null,null,null,null,null,null,null,null,null,null,null,null,null,null,null,null,null,null,"Plastiques ou autres matériaux synthétiques >50%",{"$f":"VLOOKUP(W1320,R:T,3,FALSE)","v":"05"}]
[null,null,null,null,null,null,null,null,null,null,null,null,null,null,null,null,null,null,null,null,null,null,"Polystyrène >90%",{"$f":"VLOOKUP(W1321,R:T,3,FALSE)","v":47}]
[null,null,null,null,null,null,null,null,null,null,null,null,null,null,null,null,null,null,null,null,null,null,"Polyterephtalate d'Ethylène (PET) >90%",{"$f":"VLOOKUP(W1322,R:T,3,FALSE)","v":42}]
[null,null,null,null,null,null,null,null,null,null,null,null,null,null,null,null,null,null,null,null,null,null,"PVC >90%",{"$f":"VLOOKUP(W1323,R:T,3,FALSE)","v":48}]
[null,null,null,null,null,null,null,null,null,null,null,null,null,null,null,null,null,null,null,null,null,null,"Verre >90%",{"$f":"VLOOKUP(W1324,R:T,3,FALSE)","v":68}]
[null,null,null,null,null,null,null,null,null,null,null,null,null,null,null,null,null,null,null,null,null,null,"Autre matériau majoritaire",{"$f":"VLOOKUP(W1325,R:T,3,FALSE)","v":12}]
[null,null,null,null,null,null,null,null,null,null,null,null,null,null,null,null,null,null,null,null,null,null,"Non connu ou non spécifié par l'entreprise",{"$f":"VLOOKUP(W1326,R:T,3,FALSE)","v":"00"}]
[null,null,null,null,null,null,null,null,null,null,null,null,null,null,null,null,null,null,null,null,null,null,"A_100"]
[null,null,null,null,null,null,null,null,null,null,null,null,null,null,null,null,null,null,null,null,null,null,"ABS >90%",{"$f":"VLOOKUP(W1328,R:T,3,FALSE)","v":46}]
[null,null,null,null,null,null,null,null,null,null,null,null,null,null,null,null,null,null,null,null,null,null,"Assemblage avec métal >50% et autres matériaux",{"$f":"VLOOKUP(W1329,R:T,3,FALSE)","v":"02"}]
[null,null,null,null,null,null,null,null,null,null,null,null,null,null,null,null,null,null,null,null,null,null,"Assemblage caoutchouc synthétique ou latex >50% avec d'autres matériaux",{"$f":"VLOOKUP(W1330,R:T,3,FALSE)","v":40}]
[null,null,null,null,null,null,null,null,null,null,null,null,null,null,null,null,null,null,null,null,null,null,"Assemblage de 3 matériaux ou plus sans un matériau à plus de 50%",{"$f":"VLOOKUP(W1331,R:T,3,FALSE)","v":82}]
[null,null,null,null,null,null,null,null,null,null,null,null,null,null,null,null,null,null,null,null,null,null,"Assemblage de bois, dérivés de bois à plus de 50% avec d'autres matériaux ou bois composite (hors verre)",{"$f":"VLOOKUP(W1332,R:T,3,FALSE)","v":"01"}]
[null,null,null,null,null,null,null,null,null,null,null,null,null,null,null,null,null,null,null,null,null,null,"Assemblage dont la composition conjointe en bois, dérivés de bois et en métal dépasse 90%",{"$f":"VLOOKUP(W1333,R:T,3,FALSE)","v":81}]
[null,null,null,null,null,null,null,null,null,null,null,null,null,null,null,null,null,null,null,null,null,null,"Assemblage matériaux ou fibres synthétiques >50% avec d'autres matériaux",{"$f":"VLOOKUP(W1334,R:T,3,FALSE)","v":67}]
[null,null,null,null,null,null,null,null,null,null,null,null,null,null,null,null,null,null,null,null,null,null,"Assemblage verre à plus de 50% avec bois ou dérivés de bois",{"$f":"VLOOKUP(W1335,R:T,3,FALSE)","v":72}]
[null,null,null,null,null,null,null,null,null,null,null,null,null,null,null,null,null,null,null,null,null,null,"Assemblage verre à plus de 50% avec Inerte",{"$f":"VLOOKUP(W1336,R:T,3,FALSE)","v":71}]
[null,null,null,null,null,null,null,null,null,null,null,null,null,null,null,null,null,null,null,null,null,null,"Assemblage verre à plus de 50% avec métal",{"$f":"VLOOKUP(W1337,R:T,3,FALSE)","v":70}]
[null,null,null,null,null,null,null,null,null,null,null,null,null,null,null,null,null,null,null,null,null,null,"Assemblage verre à plus de 50% avec plastique",{"$f":"VLOOKUP(W1338,R:T,3,FALSE)","v":73}]
[null,null,null,null,null,null,null,null,null,null,null,null,null,null,null,null,null,null,null,null,null,null,"Caoutchouc naturel >50%",{"$f":"VLOOKUP(W1339,R:T,3,FALSE)","v":64}]
[null,null,null,null,null,null,null,null,null,null,null,null,null,null,null,null,null,null,null,null,null,null,"Caoutchouc naturel >90%",{"$f":"VLOOKUP(W1340,R:T,3,FALSE)","v":63}]
[null,null,null,null,null,null,null,null,null,null,null,null,null,null,null,null,null,null,null,null,null,null,"Caoutchouc synthétique >90%",{"$f":"VLOOKUP(W1341,R:T,3,FALSE)","v":49}]
[null,null,null,null,null,null,null,null,null,null,null,null,null,null,null,null,null,null,null,null,null,null,"Dérivés de bois >90%",{"$f":"VLOOKUP(W1342,R:T,3,FALSE)","v":62}]
[null,null,null,null,null,null,null,null,null,null,null,null,null,null,null,null,null,null,null,null,null,null,"Caoutchouc synthétique >90%",{"$f":"VLOOKUP(W1343,R:T,3,FALSE)","v":49}]
[null,null,null,null,null,null,null,null,null,null,null,null,null,null,null,null,null,null,null,null,null,null,"Massif et assimilés >75%",{"$f":"VLOOKUP(W1344,R:T,3,FALSE)","v":21}]
[null,null,null,null,null,null,null,null,null,null,null,null,null,null,null,null,null,null,null,null,null,null,"Massif et assimilés >90%",{"$f":"VLOOKUP(W1345,R:T,3,FALSE)","v":53}]
[null,null,null,null,null,null,null,null,null,null,null,null,null,null,null,null,null,null,null,null,null,null,"Massif et assimilés certifiés >75%",{"$f":"VLOOKUP(W1346,R:T,3,FALSE)","v":20}]
[null,null,null,null,null,null,null,null,null,null,null,null,null,null,null,null,null,null,null,null,null,null,"Massif et assimilés certifiés >90%",{"$f":"VLOOKUP(W1347,R:T,3,FALSE)","v":52}]
[null,null,null,null,null,null,null,null,null,null,null,null,null,null,null,null,null,null,null,null,null,null,"Matériaux bio sourcés ou textiles non synthétiques >50%",{"$f":"VLOOKUP(W1348,R:T,3,FALSE)","v":"04"}]
[null,null,null,null,null,null,null,null,null,null,null,null,null,null,null,null,null,null,null,null,null,null,"Matériaux bio sourcés ou textiles non synthétiques >90%",{"$f":"VLOOKUP(W1349,R:T,3,FALSE)","v":55}]
[null,null,null,null,null,null,null,null,null,null,null,null,null,null,null,null,null,null,null,null,null,null,"Matériaux d'origine animale >50%",{"$f":"VLOOKUP(W1350,R:T,3,FALSE)","v":"06"}]
[null,null,null,null,null,null,null,null,null,null,null,null,null,null,null,null,null,null,null,null,null,null,"Matériaux ou fibres synthétiques >90%",{"$f":"VLOOKUP(W1351,R:T,3,FALSE)","v":65}]
[null,null,null,null,null,null,null,null,null,null,null,null,null,null,null,null,null,null,null,null,null,null,"Métal >90%",{"$f":"VLOOKUP(W1352,R:T,3,FALSE)","v":28}]
[null,null,null,null,null,null,null,null,null,null,null,null,null,null,null,null,null,null,null,null,null,null,"Non connu ou non spécifié par l'entreprise",{"$f":"VLOOKUP(W1353,R:T,3,FALSE)","v":"00"}]
[null,null,null,null,null,null,null,null,null,null,null,null,null,null,null,null,null,null,null,null,null,null,"Panneaux de particules ou OSB >75%",{"$f":"VLOOKUP(W1354,R:T,3,FALSE)","v":25}]
[null,null,null,null,null,null,null,null,null,null,null,null,null,null,null,null,null,null,null,null,null,null,"Panneaux de particules ou OSB >90%",{"$f":"VLOOKUP(W1355,R:T,3,FALSE)","v":61}]
[null,null,null,null,null,null,null,null,null,null,null,null,null,null,null,null,null,null,null,null,null,null,"Panneaux de particules ou OSB certifiés >75%",{"$f":"VLOOKUP(W1356,R:T,3,FALSE)","v":60}]
[null,null,null,null,null,null,null,null,null,null,null,null,null,null,null,null,null,null,null,null,null,null,"Panneaux de particules ou OSB certifiés >90%",{"$f":"VLOOKUP(W1357,R:T,3,FALSE)","v":59}]
[null,null,null,null,null,null,null,null,null,null,null,null,null,null,null,null,null,null,null,null,null,null,"Papier carton >50% avec d'autres matériaux (hors verre)",{"$f":"VLOOKUP(W1358,R:T,3,FALSE)","v":"19"}]
[null,null,null,null,null,null,null,null,null,null,null,null,null,null,null,null,null,null,null,null,null,null,"PE ou PP ou mélange PP/PE >90%",{"$f":"VLOOKUP(W1359,R:T,3,FALSE)","v":45}]
[null,null,null,null,null,null,null,null,null,null,null,null,null,null,null,null,null,null,null,null,null,null,"Plastiques (mono résine) >90%",{"$f":"VLOOKUP(W1360,R:T,3,FALSE)","v":41}]
[null,null,null,null,null,null,null,null,null,null,null,null,null,null,null,null,null,null,null,null,null,null,"Plastiques ou autres matériaux synthétiques >50%",{"$f":"VLOOKUP(W1361,R:T,3,FALSE)","v":"05"}]
[null,null,null,null,null,null,null,null,null,null,null,null,null,null,null,null,null,null,null,null,null,null,"Polystyrène >90%",{"$f":"VLOOKUP(W1362,R:T,3,FALSE)","v":47}]
[null,null,null,null,null,null,null,null,null,null,null,null,null,null,null,null,null,null,null,null,null,null,"Polyterephtalate d'Ethylène (PET) >90%",{"$f":"VLOOKUP(W1363,R:T,3,FALSE)","v":42}]
[null,null,null,null,null,null,null,null,null,null,null,null,null,null,null,null,null,null,null,null,null,null,"PVC >90%",{"$f":"VLOOKUP(W1364,R:T,3,FALSE)","v":48}]
[null,null,null,null,null,null,null,null,null,null,null,null,null,null,null,null,null,null,null,null,null,null,"Verre >90%",{"$f":"VLOOKUP(W1365,R:T,3,FALSE)","v":68}]
[null,null,null,null,null,null,null,null,null,null,null,null,null,null,null,null,null,null,null,null,null,null,"A_101"]
[null,null,null,null,null,null,null,null,null,null,null,null,null,null,null,null,null,null,null,null,null,null,"ABS >90%",{"$f":"VLOOKUP(W1367,R:T,3,FALSE)","v":46}]
[null,null,null,null,null,null,null,null,null,null,null,null,null,null,null,null,null,null,null,null,null,null,"Ardoise >90%",{"$f":"VLOOKUP(W1368,R:T,3,FALSE)","v":84}]
[null,null,null,null,null,null,null,null,null,null,null,null,null,null,null,null,null,null,null,null,null,null,"Assemblage avec métal >50% et autres matériaux",{"$f":"VLOOKUP(W1369,R:T,3,FALSE)","v":"02"}]
[null,null,null,null,null,null,null,null,null,null,null,null,null,null,null,null,null,null,null,null,null,null,"Assemblage caoutchouc synthétique ou latex >50% avec d'autres matériaux",{"$f":"VLOOKUP(W1370,R:T,3,FALSE)","v":40}]
[null,null,null,null,null,null,null,null,null,null,null,null,null,null,null,null,null,null,null,null,null,null,"Assemblage de 3 matériaux ou plus sans un matériau à plus de 50%",{"$f":"VLOOKUP(W1371,R:T,3,FALSE)","v":82}]
[null,null,null,null,null,null,null,null,null,null,null,null,null,null,null,null,null,null,null,null,null,null,"Assemblage de bois, dérivés de bois à plus de 50% avec d'autres matériaux ou bois composite (hors verre)",{"$f":"VLOOKUP(W1372,R:T,3,FALSE)","v":"01"}]
[null,null,null,null,null,null,null,null,null,null,null,null,null,null,null,null,null,null,null,null,null,null,"Assemblage de matériaux avec de l'inerte >50%",{"$f":"VLOOKUP(W1373,R:T,3,FALSE)","v":"08"}]
[null,null,null,null,null,null,null,null,null,null,null,null,null,null,null,null,null,null,null,null,null,null,"Assemblage dont la composition conjointe en bois, dérivés de bois et en métal dépasse 90%",{"$f":"VLOOKUP(W1374,R:T,3,FALSE)","v":81}]
[null,null,null,null,null,null,null,null,null,null,null,null,null,null,null,null,null,null,null,null,null,null,"Assemblage matériaux ou fibres synthétiques >50% avec d'autres matériaux",{"$f":"VLOOKUP(W1375,R:T,3,FALSE)","v":67}]
[null,null,null,null,null,null,null,null,null,null,null,null,null,null,null,null,null,null,null,null,null,null,"Assemblage verre à plus de 50% avec bois ou dérivés de bois",{"$f":"VLOOKUP(W1376,R:T,3,FALSE)","v":72}]
[null,null,null,null,null,null,null,null,null,null,null,null,null,null,null,null,null,null,null,null,null,null,"Assemblage verre à plus de 50% avec Inerte",{"$f":"VLOOKUP(W1377,R:T,3,FALSE)","v":71}]
[null,null,null,null,null,null,null,null,null,null,null,null,null,null,null,null,null,null,null,null,null,null,"Assemblage verre à plus de 50% avec métal",{"$f":"VLOOKUP(W1378,R:T,3,FALSE)","v":70}]
[null,null,null,null,null,null,null,null,null,null,null,null,null,null,null,null,null,null,null,null,null,null,"Assemblage verre à plus de 50% avec plastique",{"$f":"VLOOKUP(W1379,R:T,3,FALSE)","v":73}]
[null,null,null,null,null,null,null,null,null,null,null,null,null,null,null,null,null,null,null,null,null,null,"Béton >90%",{"$f":"VLOOKUP(W1380,R:T,3,FALSE)","v":74}]
[null,null,null,null,null,null,null,null,null,null,null,null,null,null,null,null,null,null,null,null,null,null,"Caoutchouc naturel >50%",{"$f":"VLOOKUP(W1381,R:T,3,FALSE)","v":64}]
[null,null,null,null,null,null,null,null,null,null,null,null,null,null,null,null,null,null,null,null,null,null,"Caoutchouc naturel >90%",{"$f":"VLOOKUP(W1382,R:T,3,FALSE)","v":63}]
[null,null,null,null,null,null,null,null,null,null,null,null,null,null,null,null,null,null,null,null,null,null,"Caoutchouc synthétique >90%",{"$f":"VLOOKUP(W1383,R:T,3,FALSE)","v":49}]
[null,null,null,null,null,null,null,null,null,null,null,null,null,null,null,null,null,null,null,null,null,null,"Céramique >90%",{"$f":"VLOOKUP(W1384,R:T,3,FALSE)","v":97}]
[null,null,null,null,null,null,null,null,null,null,null,null,null,null,null,null,null,null,null,null,null,null,"Ciment >90%",{"$f":"VLOOKUP(W1385,R:T,3,FALSE)","v":90}]
[null,null,null,null,null,null,null,null,null,null,null,null,null,null,null,null,null,null,null,null,null,null,"Composites et autres matériaux minéraux reconstitués >50%",{"$f":"VLOOKUP(W1386,R:T,3,FALSE)","v":15}]
[null,null,null,null,null,null,null,null,null,null,null,null,null,null,null,null,null,null,null,null,null,null,"Dérivés de bois >90%",{"$f":"VLOOKUP(W1387,R:T,3,FALSE)","v":62}]
[null,null,null,null,null,null,null,null,null,null,null,null,null,null,null,null,null,null,null,null,null,null,"Granit >90%",{"$f":"VLOOKUP(W1388,R:T,3,FALSE)","v":91}]
[null,null,null,null,null,null,null,null,null,null,null,null,null,null,null,null,null,null,null,null,null,null,"Grès >90%",{"$f":"VLOOKUP(W1389,R:T,3,FALSE)","v":94}]
[null,null,null,null,null,null,null,null,null,null,null,null,null,null,null,null,null,null,null,null,null,null,"Caoutchouc synthétique >90%",{"$f":"VLOOKUP(W1390,R:T,3,FALSE)","v":49}]
[null,null,null,null,null,null,null,null,null,null,null,null,null,null,null,null,null,null,null,null,null,null,"Lave >90%",{"$f":"VLOOKUP(W1391,R:T,3,FALSE)","v":87}]
[null,null,null,null,null,null,null,null,null,null,null,null,null,null,null,null,null,null,null,null,null,null,"Massif et assimilés >75%",{"$f":"VLOOKUP(W1392,R:T,3,FALSE)","v":21}]
[null,null,null,null,null,null,null,null,null,null,null,null,null,null,null,null,null,null,null,null,null,null,"Massif et assimilés >90%",{"$f":"VLOOKUP(W1393,R:T,3,FALSE)","v":53}]
[null,null,null,null,null,null,null,null,null,null,null,null,null,null,null,null,null,null,null,null,null,null,"Massif et assimilés certifiés >75%",{"$f":"VLOOKUP(W1394,R:T,3,FALSE)","v":20}]
[null,null,null,null,null,null,null,null,null,null,null,null,null,null,null,null,null,null,null,null,null,null,"Massif et assimilés certifiés >90%",{"$f":"VLOOKUP(W1395,R:T,3,FALSE)","v":52}]
[null,null,null,null,null,null,null,null,null,null,null,null,null,null,null,null,null,null,null,null,null,null,"Matériaux bio sourcés ou textiles non synthétiques >50%",{"$f":"VLOOKUP(W1396,R:T,3,FALSE)","v":"04"}]
[null,null,null,null,null,null,null,null,null,null,null,null,null,null,null,null,null,null,null,null,null,null,"Matériaux bio sourcés ou textiles non synthétiques >90%",{"$f":"VLOOKUP(W1397,R:T,3,FALSE)","v":55}]
[null,null,null,null,null,null,null,null,null,null,null,null,null,null,null,null,null,null,null,null,null,null,"Matériaux d'origine animale >50%",{"$f":"VLOOKUP(W1398,R:T,3,FALSE)","v":"06"}]
[null,null,null,null,null,null,null,null,null,null,null,null,null,null,null,null,null,null,null,null,null,null,"Matériaux ou fibres synthétiques >90%",{"$f":"VLOOKUP(W1399,R:T,3,FALSE)","v":65}]
[null,null,null,null,null,null,null,null,null,null,null,null,null,null,null,null,null,null,null,null,null,null,"Métal >90%",{"$f":"VLOOKUP(W1400,R:T,3,FALSE)","v":28}]
[null,null,null,null,null,null,null,null,null,null,null,null,null,null,null,null,null,null,null,null,null,null,"Non connu ou non spécifié par l'entreprise",{"$f":"VLOOKUP(W1401,R:T,3,FALSE)","v":"00"}]
[null,null,null,null,null,null,null,null,null,null,null,null,null,null,null,null,null,null,null,null,null,null,"Panneaux de particules ou OSB >75%",{"$f":"VLOOKUP(W1402,R:T,3,FALSE)","v":25}]
[null,null,null,null,null,null,null,null,null,null,null,null,null,null,null,null,null,null,null,null,null,null,"Panneaux de particules ou OSB >90%",{"$f":"VLOOKUP(W1403,R:T,3,FALSE)","v":61}]
[null,null,null,null,null,null,null,null,null,null,null,null,null,null,null,null,null,null,null,null,null,null,"Panneaux de particules ou OSB certifiés >75%",{"$f":"VLOOKUP(W1404,R:T,3,FALSE)","v":60}]
[null,null,null,null,null,null,null,null,null,null,null,null,null,null,null,null,null,null,null,null,null,null,"Panneaux de particules ou OSB certifiés >90%",{"$f":"VLOOKUP(W1405,R:T,3,FALSE)","v":59}]
[null,null,null,null,null,null,null,null,null,null,null,null,null,null,null,null,null,null,null,null,null,null,"Papier carton >50% avec d'autres matériaux (hors verre)",{"$f":"VLOOKUP(W1406,R:T,3,FALSE)","v":"19"}]
[null,null,null,null,null,null,null,null,null,null,null,null,null,null,null,null,null,null,null,null,null,null,"PE ou PP ou mélange PP/PE >90%",{"$f":"VLOOKUP(W1407,R:T,3,FALSE)","v":45}]
[null,null,null,null,null,null,null,null,null,null,null,null,null,null,null,null,null,null,null,null,null,null,"Pierre artificielle >90%",{"$f":"VLOOKUP(W1408,R:T,3,FALSE)","v":98}]
[null,null,null,null,null,null,null,null,null,null,null,null,null,null,null,null,null,null,null,null,null,null,"Pierre calcaire >90%",{"$f":"VLOOKUP(W1409,R:T,3,FALSE)","v":86}]
[null,null,null,null,null,null,null,null,null,null,null,null,null,null,null,null,null,null,null,null,null,null,"Plastiques (mono résine) >90%",{"$f":"VLOOKUP(W1410,R:T,3,FALSE)","v":41}]
[null,null,null,null,null,null,null,null,null,null,null,null,null,null,null,null,null,null,null,null,null,null,"Plastiques ou autres matériaux synthétiques >50%",{"$f":"VLOOKUP(W1411,R:T,3,FALSE)","v":"05"}]
[null,null,null,null,null,null,null,null,null,null,null,null,null,null,null,null,null,null,null,null,null,null,"Polystyrène >90%",{"$f":"VLOOKUP(W1412,R:T,3,FALSE)","v":47}]
[null,null,null,null,null,null,null,null,null,null,null,null,null,null,null,null,null,null,null,null,null,null,"Polyterephtalate d'Ethylène (PET) >90%",{"$f":"VLOOKUP(W1413,R:T,3,FALSE)","v":42}]
[null,null,null,null,null,null,null,null,null,null,null,null,null,null,null,null,null,null,null,null,null,null,"PVC >90%",{"$f":"VLOOKUP(W1414,R:T,3,FALSE)","v":48}]
[null,null,null,null,null,null,null,null,null,null,null,null,null,null,null,null,null,null,null,null,null,null,"Terre cuite ou crue >90%",{"$f":"VLOOKUP(W1415,R:T,3,FALSE)","v":89}]
[null,null,null,null,null,null,null,null,null,null,null,null,null,null,null,null,null,null,null,null,null,null,"Verre >90%",{"$f":"VLOOKUP(W1416,R:T,3,FALSE)","v":68}]
[null,null,null,null,null,null,null,null,null,null,null,null,null,null,null,null,null,null,null,null,null,null,"A_103"]
[null,null,null,null,null,null,null,null,null,null,null,null,null,null,null,null,null,null,null,null,null,null,"ABS >90%",{"$f":"VLOOKUP(W1418,R:T,3,FALSE)","v":46}]
[null,null,null,null,null,null,null,null,null,null,null,null,null,null,null,null,null,null,null,null,null,null,"Assemblage avec métal >50% et autres matériaux",{"$f":"VLOOKUP(W1419,R:T,3,FALSE)","v":"02"}]
[null,null,null,null,null,null,null,null,null,null,null,null,null,null,null,null,null,null,null,null,null,null,"Assemblage caoutchouc synthétique ou latex >50% avec d'autres matériaux",{"$f":"VLOOKUP(W1420,R:T,3,FALSE)","v":40}]
[null,null,null,null,null,null,null,null,null,null,null,null,null,null,null,null,null,null,null,null,null,null,"Assemblage de 3 matériaux ou plus sans un matériau à plus de 50%",{"$f":"VLOOKUP(W1421,R:T,3,FALSE)","v":82}]
[null,null,null,null,null,null,null,null,null,null,null,null,null,null,null,null,null,null,null,null,null,null,"Assemblage de bois, dérivés de bois à plus de 50% avec d'autres matériaux ou bois composite (hors verre)",{"$f":"VLOOKUP(W1422,R:T,3,FALSE)","v":"01"}]
[null,null,null,null,null,null,null,null,null,null,null,null,null,null,null,null,null,null,null,null,null,null,"Assemblage dont la composition conjointe en bois, dérivés de bois et en métal dépasse 90%",{"$f":"VLOOKUP(W1423,R:T,3,FALSE)","v":81}]
[null,null,null,null,null,null,null,null,null,null,null,null,null,null,null,null,null,null,null,null,null,null,"Assemblage matériaux ou fibres synthétiques >50% avec d'autres matériaux",{"$f":"VLOOKUP(W1424,R:T,3,FALSE)","v":67}]
[null,null,null,null,null,null,null,null,null,null,null,null,null,null,null,null,null,null,null,null,null,null,"Assemblage verre à plus de 50% avec bois ou dérivés de bois",{"$f":"VLOOKUP(W1425,R:T,3,FALSE)","v":72}]
[null,null,null,null,null,null,null,null,null,null,null,null,null,null,null,null,null,null,null,null,null,null,"Assemblage verre à plus de 50% avec Inerte",{"$f":"VLOOKUP(W1426,R:T,3,FALSE)","v":71}]
[null,null,null,null,null,null,null,null,null,null,null,null,null,null,null,null,null,null,null,null,null,null,"Assemblage verre à plus de 50% avec métal",{"$f":"VLOOKUP(W1427,R:T,3,FALSE)","v":70}]
[null,null,null,null,null,null,null,null,null,null,null,null,null,null,null,null,null,null,null,null,null,null,"Assemblage verre à plus de 50% avec plastique",{"$f":"VLOOKUP(W1428,R:T,3,FALSE)","v":73}]
[null,null,null,null,null,null,null,null,null,null,null,null,null,null,null,null,null,null,null,null,null,null,"Caoutchouc naturel >50%",{"$f":"VLOOKUP(W1429,R:T,3,FALSE)","v":64}]
[null,null,null,null,null,null,null,null,null,null,null,null,null,null,null,null,null,null,null,null,null,null,"Caoutchouc naturel >90%",{"$f":"VLOOKUP(W1430,R:T,3,FALSE)","v":63}]
[null,null,null,null,null,null,null,null,null,null,null,null,null,null,null,null,null,null,null,null,null,null,"Caoutchouc synthétique >90%",{"$f":"VLOOKUP(W1431,R:T,3,FALSE)","v":49}]
[null,null,null,null,null,null,null,null,null,null,null,null,null,null,null,null,null,null,null,null,null,null,"Dérivés de bois >90%",{"$f":"VLOOKUP(W1432,R:T,3,FALSE)","v":62}]
[null,null,null,null,null,null,null,null,null,null,null,null,null,null,null,null,null,null,null,null,null,null,"Caoutchouc synthétique >90%",{"$f":"VLOOKUP(W1433,R:T,3,FALSE)","v":49}]
[null,null,null,null,null,null,null,null,null,null,null,null,null,null,null,null,null,null,null,null,null,null,"Massif et assimilés >75%",{"$f":"VLOOKUP(W1434,R:T,3,FALSE)","v":21}]
[null,null,null,null,null,null,null,null,null,null,null,null,null,null,null,null,null,null,null,null,null,null,"Massif et assimilés >90%",{"$f":"VLOOKUP(W1435,R:T,3,FALSE)","v":53}]
[null,null,null,null,null,null,null,null,null,null,null,null,null,null,null,null,null,null,null,null,null,null,"Massif et assimilés certifiés >75%",{"$f":"VLOOKUP(W1436,R:T,3,FALSE)","v":20}]
[null,null,null,null,null,null,null,null,null,null,null,null,null,null,null,null,null,null,null,null,null,null,"Massif et assimilés certifiés >90%",{"$f":"VLOOKUP(W1437,R:T,3,FALSE)","v":52}]
[null,null,null,null,null,null,null,null,null,null,null,null,null,null,null,null,null,null,null,null,null,null,"Matériaux bio sourcés ou textiles non synthétiques >50%",{"$f":"VLOOKUP(W1438,R:T,3,FALSE)","v":"04"}]
[null,null,null,null,null,null,null,null,null,null,null,null,null,null,null,null,null,null,null,null,null,null,"Matériaux bio sourcés ou textiles non synthétiques >90%",{"$f":"VLOOKUP(W1439,R:T,3,FALSE)","v":55}]
[null,null,null,null,null,null,null,null,null,null,null,null,null,null,null,null,null,null,null,null,null,null,"Matériaux d'origine animale >50%",{"$f":"VLOOKUP(W1440,R:T,3,FALSE)","v":"06"}]
[null,null,null,null,null,null,null,null,null,null,null,null,null,null,null,null,null,null,null,null,null,null,"Matériaux ou fibres synthétiques >90%",{"$f":"VLOOKUP(W1441,R:T,3,FALSE)","v":65}]
[null,null,null,null,null,null,null,null,null,null,null,null,null,null,null,null,null,null,null,null,null,null,"Métal >90%",{"$f":"VLOOKUP(W1442,R:T,3,FALSE)","v":28}]
[null,null,null,null,null,null,null,null,null,null,null,null,null,null,null,null,null,null,null,null,null,null,"Non connu ou non spécifié par l'entreprise",{"$f":"VLOOKUP(W1443,R:T,3,FALSE)","v":"00"}]
[null,null,null,null,null,null,null,null,null,null,null,null,null,null,null,null,null,null,null,null,null,null,"Panneaux de particules ou OSB >75%",{"$f":"VLOOKUP(W1444,R:T,3,FALSE)","v":25}]
[null,null,null,null,null,null,null,null,null,null,null,null,null,null,null,null,null,null,null,null,null,null,"Panneaux de particules ou OSB >90%",{"$f":"VLOOKUP(W1445,R:T,3,FALSE)","v":61}]
[null,null,null,null,null,null,null,null,null,null,null,null,null,null,null,null,null,null,null,null,null,null,"Panneaux de particules ou OSB certifiés >75%",{"$f":"VLOOKUP(W1446,R:T,3,FALSE)","v":60}]
[null,null,null,null,null,null,null,null,null,null,null,null,null,null,null,null,null,null,null,null,null,null,"Panneaux de particules ou OSB certifiés >90%",{"$f":"VLOOKUP(W1447,R:T,3,FALSE)","v":59}]
[null,null,null,null,null,null,null,null,null,null,null,null,null,null,null,null,null,null,null,null,null,null,"Papier carton >50% avec d'autres matériaux (hors verre)",{"$f":"VLOOKUP(W1448,R:T,3,FALSE)","v":"19"}]
[null,null,null,null,null,null,null,null,null,null,null,null,null,null,null,null,null,null,null,null,null,null,"PE ou PP ou mélange PP/PE >90%",{"$f":"VLOOKUP(W1449,R:T,3,FALSE)","v":45}]
[null,null,null,null,null,null,null,null,null,null,null,null,null,null,null,null,null,null,null,null,null,null,"Plastiques (mono résine) >90%",{"$f":"VLOOKUP(W1450,R:T,3,FALSE)","v":41}]
[null,null,null,null,null,null,null,null,null,null,null,null,null,null,null,null,null,null,null,null,null,null,"Plastiques ou autres matériaux synthétiques >50%",{"$f":"VLOOKUP(W1451,R:T,3,FALSE)","v":"05"}]
[null,null,null,null,null,null,null,null,null,null,null,null,null,null,null,null,null,null,null,null,null,null,"Polystyrène >90%",{"$f":"VLOOKUP(W1452,R:T,3,FALSE)","v":47}]
[null,null,null,null,null,null,null,null,null,null,null,null,null,null,null,null,null,null,null,null,null,null,"Polyterephtalate d'Ethylène (PET) >90%",{"$f":"VLOOKUP(W1453,R:T,3,FALSE)","v":42}]
[null,null,null,null,null,null,null,null,null,null,null,null,null,null,null,null,null,null,null,null,null,null,"PVC >90%",{"$f":"VLOOKUP(W1454,R:T,3,FALSE)","v":48}]
[null,null,null,null,null,null,null,null,null,null,null,null,null,null,null,null,null,null,null,null,null,null,"Verre >90%",{"$f":"VLOOKUP(W1455,R:T,3,FALSE)","v":68}]
[null,null,null,null,null,null,null,null,null,null,null,null,null,null,null,null,null,null,null,null,null,null,"A_104"]
[null,null,null,null,null,null,null,null,null,null,null,null,null,null,null,null,null,null,null,null,null,null,"ABS >90%",{"$f":"VLOOKUP(W1457,R:T,3,FALSE)","v":46}]
[null,null,null,null,null,null,null,null,null,null,null,null,null,null,null,null,null,null,null,null,null,null,"Assemblage caoutchouc synthétique ou latex >50% avec d'autres matériaux",{"$f":"VLOOKUP(W1458,R:T,3,FALSE)","v":40}]
[null,null,null,null,null,null,null,null,null,null,null,null,null,null,null,null,null,null,null,null,null,null,"Assemblage de 3 matériaux ou plus sans un matériau à plus de 50%",{"$f":"VLOOKUP(W1459,R:T,3,FALSE)","v":82}]
[null,null,null,null,null,null,null,null,null,null,null,null,null,null,null,null,null,null,null,null,null,null,"Assemblage matériaux ou fibres synthétiques >50% avec d'autres matériaux",{"$f":"VLOOKUP(W1460,R:T,3,FALSE)","v":67}]
[null,null,null,null,null,null,null,null,null,null,null,null,null,null,null,null,null,null,null,null,null,null,"Caoutchouc naturel >50%",{"$f":"VLOOKUP(W1461,R:T,3,FALSE)","v":64}]
[null,null,null,null,null,null,null,null,null,null,null,null,null,null,null,null,null,null,null,null,null,null,"Caoutchouc naturel >90%",{"$f":"VLOOKUP(W1462,R:T,3,FALSE)","v":63}]
[null,null,null,null,null,null,null,null,null,null,null,null,null,null,null,null,null,null,null,null,null,null,"Caoutchouc synthétique >90%",{"$f":"VLOOKUP(W1463,R:T,3,FALSE)","v":49}]
[null,null,null,null,null,null,null,null,null,null,null,null,null,null,null,null,null,null,null,null,null,null,"Caoutchouc synthétique >90%",{"$f":"VLOOKUP(W1464,R:T,3,FALSE)","v":49}]
[null,null,null,null,null,null,null,null,null,null,null,null,null,null,null,null,null,null,null,null,null,null,"Matériaux bio sourcés ou textiles non synthétiques >50%",{"$f":"VLOOKUP(W1465,R:T,3,FALSE)","v":"04"}]
[null,null,null,null,null,null,null,null,null,null,null,null,null,null,null,null,null,null,null,null,null,null,"Matériaux bio sourcés ou textiles non synthétiques >90%",{"$f":"VLOOKUP(W1466,R:T,3,FALSE)","v":55}]
[null,null,null,null,null,null,null,null,null,null,null,null,null,null,null,null,null,null,null,null,null,null,"Matériaux d'origine animale >50%",{"$f":"VLOOKUP(W1467,R:T,3,FALSE)","v":"06"}]
[null,null,null,null,null,null,null,null,null,null,null,null,null,null,null,null,null,null,null,null,null,null,"Matériaux ou fibres synthétiques >90%",{"$f":"VLOOKUP(W1468,R:T,3,FALSE)","v":65}]
[null,null,null,null,null,null,null,null,null,null,null,null,null,null,null,null,null,null,null,null,null,null,"Non connu ou non spécifié par l'entreprise",{"$f":"VLOOKUP(W1469,R:T,3,FALSE)","v":"00"}]
[null,null,null,null,null,null,null,null,null,null,null,null,null,null,null,null,null,null,null,null,null,null,"Papier carton >50% avec d'autres matériaux (hors verre)",{"$f":"VLOOKUP(W1470,R:T,3,FALSE)","v":"19"}]
[null,null,null,null,null,null,null,null,null,null,null,null,null,null,null,null,null,null,null,null,null,null,"PE ou PP ou mélange PP/PE >90%",{"$f":"VLOOKUP(W1471,R:T,3,FALSE)","v":45}]
[null,null,null,null,null,null,null,null,null,null,null,null,null,null,null,null,null,null,null,null,null,null,"Plastiques (mono résine) >90%",{"$f":"VLOOKUP(W1472,R:T,3,FALSE)","v":41}]
[null,null,null,null,null,null,null,null,null,null,null,null,null,null,null,null,null,null,null,null,null,null,"Plastiques ou autres matériaux synthétiques >50%",{"$f":"VLOOKUP(W1473,R:T,3,FALSE)","v":"05"}]
[null,null,null,null,null,null,null,null,null,null,null,null,null,null,null,null,null,null,null,null,null,null,"Polystyrène >90%",{"$f":"VLOOKUP(W1474,R:T,3,FALSE)","v":47}]
[null,null,null,null,null,null,null,null,null,null,null,null,null,null,null,null,null,null,null,null,null,null,"Polyterephtalate d'Ethylène (PET) >90%",{"$f":"VLOOKUP(W1475,R:T,3,FALSE)","v":42}]
[null,null,null,null,null,null,null,null,null,null,null,null,null,null,null,null,null,null,null,null,null,null,"PVC >90%",{"$f":"VLOOKUP(W1476,R:T,3,FALSE)","v":48}]
[null,null,null,null,null,null,null,null,null,null,null,null,null,null,null,null,null,null,null,null,null,null,"A_102"]
[null,null,null,null,null,null,null,null,null,null,null,null,null,null,null,null,null,null,null,null,null,null,"ABS >90%",{"$f":"VLOOKUP(W1478,R:T,3,FALSE)","v":46}]
[null,null,null,null,null,null,null,null,null,null,null,null,null,null,null,null,null,null,null,null,null,null,"Ardoise >90%",{"$f":"VLOOKUP(W1479,R:T,3,FALSE)","v":84}]
[null,null,null,null,null,null,null,null,null,null,null,null,null,null,null,null,null,null,null,null,null,null,"Assemblage avec métal >50% et autres matériaux",{"$f":"VLOOKUP(W1480,R:T,3,FALSE)","v":"02"}]
[null,null,null,null,null,null,null,null,null,null,null,null,null,null,null,null,null,null,null,null,null,null,"Assemblage caoutchouc synthétique ou latex >50% avec d'autres matériaux",{"$f":"VLOOKUP(W1481,R:T,3,FALSE)","v":40}]
[null,null,null,null,null,null,null,null,null,null,null,null,null,null,null,null,null,null,null,null,null,null,"Assemblage de 3 matériaux ou plus sans un matériau à plus de 50%",{"$f":"VLOOKUP(W1482,R:T,3,FALSE)","v":82}]
[null,null,null,null,null,null,null,null,null,null,null,null,null,null,null,null,null,null,null,null,null,null,"Assemblage de bois, dérivés de bois à plus de 50% avec d'autres matériaux ou bois composite (hors verre)",{"$f":"VLOOKUP(W1483,R:T,3,FALSE)","v":"01"}]
[null,null,null,null,null,null,null,null,null,null,null,null,null,null,null,null,null,null,null,null,null,null,"Assemblage de matériaux avec de l'inerte >50%",{"$f":"VLOOKUP(W1484,R:T,3,FALSE)","v":"08"}]
[null,null,null,null,null,null,null,null,null,null,null,null,null,null,null,null,null,null,null,null,null,null,"Assemblage dont la composition conjointe en bois, dérivés de bois et en métal dépasse 90%",{"$f":"VLOOKUP(W1485,R:T,3,FALSE)","v":81}]
[null,null,null,null,null,null,null,null,null,null,null,null,null,null,null,null,null,null,null,null,null,null,"Assemblage matériaux ou fibres synthétiques >50% avec d'autres matériaux",{"$f":"VLOOKUP(W1486,R:T,3,FALSE)","v":67}]
[null,null,null,null,null,null,null,null,null,null,null,null,null,null,null,null,null,null,null,null,null,null,"Assemblage verre à plus de 50% avec bois ou dérivés de bois",{"$f":"VLOOKUP(W1487,R:T,3,FALSE)","v":72}]
[null,null,null,null,null,null,null,null,null,null,null,null,null,null,null,null,null,null,null,null,null,null,"Assemblage verre à plus de 50% avec Inerte",{"$f":"VLOOKUP(W1488,R:T,3,FALSE)","v":71}]
[null,null,null,null,null,null,null,null,null,null,null,null,null,null,null,null,null,null,null,null,null,null,"Assemblage verre à plus de 50% avec métal",{"$f":"VLOOKUP(W1489,R:T,3,FALSE)","v":70}]
[null,null,null,null,null,null,null,null,null,null,null,null,null,null,null,null,null,null,null,null,null,null,"Assemblage verre à plus de 50% avec plastique",{"$f":"VLOOKUP(W1490,R:T,3,FALSE)","v":73}]
[null,null,null,null,null,null,null,null,null,null,null,null,null,null,null,null,null,null,null,null,null,null,"Béton >90%",{"$f":"VLOOKUP(W1491,R:T,3,FALSE)","v":74}]
[null,null,null,null,null,null,null,null,null,null,null,null,null,null,null,null,null,null,null,null,null,null,"Caoutchouc naturel >50%",{"$f":"VLOOKUP(W1492,R:T,3,FALSE)","v":64}]
[null,null,null,null,null,null,null,null,null,null,null,null,null,null,null,null,null,null,null,null,null,null,"Caoutchouc naturel >90%",{"$f":"VLOOKUP(W1493,R:T,3,FALSE)","v":63}]
[null,null,null,null,null,null,null,null,null,null,null,null,null,null,null,null,null,null,null,null,null,null,"Caoutchouc synthétique >90%",{"$f":"VLOOKUP(W1494,R:T,3,FALSE)","v":49}]
[null,null,null,null,null,null,null,null,null,null,null,null,null,null,null,null,null,null,null,null,null,null,"Céramique >90%",{"$f":"VLOOKUP(W1495,R:T,3,FALSE)","v":97}]
[null,null,null,null,null,null,null,null,null,null,null,null,null,null,null,null,null,null,null,null,null,null,"Ciment >90%",{"$f":"VLOOKUP(W1496,R:T,3,FALSE)","v":90}]
[null,null,null,null,null,null,null,null,null,null,null,null,null,null,null,null,null,null,null,null,null,null,"Composites et autres matériaux minéraux reconstitués >50%",{"$f":"VLOOKUP(W1497,R:T,3,FALSE)","v":15}]
[null,null,null,null,null,null,null,null,null,null,null,null,null,null,null,null,null,null,null,null,null,null,"Dérivés de bois >90%",{"$f":"VLOOKUP(W1498,R:T,3,FALSE)","v":62}]
[null,null,null,null,null,null,null,null,null,null,null,null,null,null,null,null,null,null,null,null,null,null,"Granit >90%",{"$f":"VLOOKUP(W1499,R:T,3,FALSE)","v":91}]
[null,null,null,null,null,null,null,null,null,null,null,null,null,null,null,null,null,null,null,null,null,null,"Grès >90%",{"$f":"VLOOKUP(W1500,R:T,3,FALSE)","v":94}]
[null,null,null,null,null,null,null,null,null,null,null,null,null,null,null,null,null,null,null,null,null,null,"Caoutchouc synthétique >90%",{"$f":"VLOOKUP(W1501,R:T,3,FALSE)","v":49}]
[null,null,null,null,null,null,null,null,null,null,null,null,null,null,null,null,null,null,null,null,null,null,"Lave >90%",{"$f":"VLOOKUP(W1502,R:T,3,FALSE)","v":87}]
[null,null,null,null,null,null,null,null,null,null,null,null,null,null,null,null,null,null,null,null,null,null,"Massif et assimilés >75%",{"$f":"VLOOKUP(W1503,R:T,3,FALSE)","v":21}]
[null,null,null,null,null,null,null,null,null,null,null,null,null,null,null,null,null,null,null,null,null,null,"Massif et assimilés >90%",{"$f":"VLOOKUP(W1504,R:T,3,FALSE)","v":53}]
[null,null,null,null,null,null,null,null,null,null,null,null,null,null,null,null,null,null,null,null,null,null,"Massif et assimilés certifiés >75%",{"$f":"VLOOKUP(W1505,R:T,3,FALSE)","v":20}]
[null,null,null,null,null,null,null,null,null,null,null,null,null,null,null,null,null,null,null,null,null,null,"Massif et assimilés certifiés >90%",{"$f":"VLOOKUP(W1506,R:T,3,FALSE)","v":52}]
[null,null,null,null,null,null,null,null,null,null,null,null,null,null,null,null,null,null,null,null,null,null,"Matériaux bio sourcés ou textiles non synthétiques >50%",{"$f":"VLOOKUP(W1507,R:T,3,FALSE)","v":"04"}]
[null,null,null,null,null,null,null,null,null,null,null,null,null,null,null,null,null,null,null,null,null,null,"Matériaux bio sourcés ou textiles non synthétiques >90%",{"$f":"VLOOKUP(W1508,R:T,3,FALSE)","v":55}]
[null,null,null,null,null,null,null,null,null,null,null,null,null,null,null,null,null,null,null,null,null,null,"Matériaux d'origine animale >50%",{"$f":"VLOOKUP(W1509,R:T,3,FALSE)","v":"06"}]
[null,null,null,null,null,null,null,null,null,null,null,null,null,null,null,null,null,null,null,null,null,null,"Matériaux ou fibres synthétiques >90%",{"$f":"VLOOKUP(W1510,R:T,3,FALSE)","v":65}]
[null,null,null,null,null,null,null,null,null,null,null,null,null,null,null,null,null,null,null,null,null,null,"Métal >90%",{"$f":"VLOOKUP(W1511,R:T,3,FALSE)","v":28}]
[null,null,null,null,null,null,null,null,null,null,null,null,null,null,null,null,null,null,null,null,null,null,"Non connu ou non spécifié par l'entreprise",{"$f":"VLOOKUP(W1512,R:T,3,FALSE)","v":"00"}]
[null,null,null,null,null,null,null,null,null,null,null,null,null,null,null,null,null,null,null,null,null,null,"Panneaux de particules ou OSB >75%",{"$f":"VLOOKUP(W1513,R:T,3,FALSE)","v":25}]
[null,null,null,null,null,null,null,null,null,null,null,null,null,null,null,null,null,null,null,null,null,null,"Panneaux de particules ou OSB >90%",{"$f":"VLOOKUP(W1514,R:T,3,FALSE)","v":61}]
[null,null,null,null,null,null,null,null,null,null,null,null,null,null,null,null,null,null,null,null,null,null,"Panneaux de particules ou OSB certifiés >75%",{"$f":"VLOOKUP(W1515,R:T,3,FALSE)","v":60}]
[null,null,null,null,null,null,null,null,null,null,null,null,null,null,null,null,null,null,null,null,null,null,"Panneaux de particules ou OSB certifiés >90%",{"$f":"VLOOKUP(W1516,R:T,3,FALSE)","v":59}]
[null,null,null,null,null,null,null,null,null,null,null,null,null,null,null,null,null,null,null,null,null,null,"Papier carton >50% avec d'autres matériaux (hors verre)",{"$f":"VLOOKUP(W1517,R:T,3,FALSE)","v":"19"}]
[null,null,null,null,null,null,null,null,null,null,null,null,null,null,null,null,null,null,null,null,null,null,"PE ou PP ou mélange PP/PE >90%",{"$f":"VLOOKUP(W1518,R:T,3,FALSE)","v":45}]
[null,null,null,null,null,null,null,null,null,null,null,null,null,null,null,null,null,null,null,null,null,null,"Pierre artificielle >90%",{"$f":"VLOOKUP(W1519,R:T,3,FALSE)","v":98}]
[null,null,null,null,null,null,null,null,null,null,null,null,null,null,null,null,null,null,null,null,null,null,"Pierre calcaire >90%",{"$f":"VLOOKUP(W1520,R:T,3,FALSE)","v":86}]
[null,null,null,null,null,null,null,null,null,null,null,null,null,null,null,null,null,null,null,null,null,null,"Plastiques (mono résine) >90%",{"$f":"VLOOKUP(W1521,R:T,3,FALSE)","v":41}]
[null,null,null,null,null,null,null,null,null,null,null,null,null,null,null,null,null,null,null,null,null,null,"Plastiques ou autres matériaux synthétiques >50%",{"$f":"VLOOKUP(W1522,R:T,3,FALSE)","v":"05"}]
[null,null,null,null,null,null,null,null,null,null,null,null,null,null,null,null,null,null,null,null,null,null,"Polystyrène >90%",{"$f":"VLOOKUP(W1523,R:T,3,FALSE)","v":47}]
[null,null,null,null,null,null,null,null,null,null,null,null,null,null,null,null,null,null,null,null,null,null,"Polyterephtalate d'Ethylène (PET) >90%",{"$f":"VLOOKUP(W1524,R:T,3,FALSE)","v":42}]
[null,null,null,null,null,null,null,null,null,null,null,null,null,null,null,null,null,null,null,null,null,null,"PVC >90%",{"$f":"VLOOKUP(W1525,R:T,3,FALSE)","v":48}]
[null,null,null,null,null,null,null,null,null,null,null,null,null,null,null,null,null,null,null,null,null,null,"Terre cuite ou crue >90%",{"$f":"VLOOKUP(W1526,R:T,3,FALSE)","v":89}]
[null,null,null,null,null,null,null,null,null,null,null,null,null,null,null,null,null,null,null,null,null,null,"Verre >90%",{"$f":"VLOOKUP(W1527,R:T,3,FALSE)","v":68}]
[null,null,null,null,null,null,null,null,null,null,null,null,null,null,null,null,null,null,null,null,null,null,"A_153"]
[null,null,null,null,null,null,null,null,null,null,null,null,null,null,null,null,null,null,null,null,null,null,"ABS >90%",{"$f":"VLOOKUP(W1529,R:T,3,FALSE)","v":46}]
[null,null,null,null,null,null,null,null,null,null,null,null,null,null,null,null,null,null,null,null,null,null,"Assemblage caoutchouc synthétique ou latex >50% avec d'autres matériaux",{"$f":"VLOOKUP(W1530,R:T,3,FALSE)","v":40}]
[null,null,null,null,null,null,null,null,null,null,null,null,null,null,null,null,null,null,null,null,null,null,"Assemblage de 3 matériaux ou plus sans un matériau à plus de 50%",{"$f":"VLOOKUP(W1531,R:T,3,FALSE)","v":82}]
[null,null,null,null,null,null,null,null,null,null,null,null,null,null,null,null,null,null,null,null,null,null,"Assemblage matériaux ou fibres synthétiques >50% avec d'autres matériaux",{"$f":"VLOOKUP(W1532,R:T,3,FALSE)","v":67}]
[null,null,null,null,null,null,null,null,null,null,null,null,null,null,null,null,null,null,null,null,null,null,"Caoutchouc naturel >50%",{"$f":"VLOOKUP(W1533,R:T,3,FALSE)","v":64}]
[null,null,null,null,null,null,null,null,null,null,null,null,null,null,null,null,null,null,null,null,null,null,"Caoutchouc naturel >90%",{"$f":"VLOOKUP(W1534,R:T,3,FALSE)","v":63}]
[null,null,null,null,null,null,null,null,null,null,null,null,null,null,null,null,null,null,null,null,null,null,"Caoutchouc synthétique >90%",{"$f":"VLOOKUP(W1535,R:T,3,FALSE)","v":49}]
[null,null,null,null,null,null,null,null,null,null,null,null,null,null,null,null,null,null,null,null,null,null,"Caoutchouc synthétique >90%",{"$f":"VLOOKUP(W1536,R:T,3,FALSE)","v":49}]
[null,null,null,null,null,null,null,null,null,null,null,null,null,null,null,null,null,null,null,null,null,null,"Matériaux bio sourcés ou textiles non synthétiques >50%",{"$f":"VLOOKUP(W1537,R:T,3,FALSE)","v":"04"}]
[null,null,null,null,null,null,null,null,null,null,null,null,null,null,null,null,null,null,null,null,null,null,"Matériaux bio sourcés ou textiles non synthétiques >90%",{"$f":"VLOOKUP(W1538,R:T,3,FALSE)","v":55}]
[null,null,null,null,null,null,null,null,null,null,null,null,null,null,null,null,null,null,null,null,null,null,"Matériaux d'origine animale >50%",{"$f":"VLOOKUP(W1539,R:T,3,FALSE)","v":"06"}]
[null,null,null,null,null,null,null,null,null,null,null,null,null,null,null,null,null,null,null,null,null,null,"Matériaux ou fibres synthétiques >90%",{"$f":"VLOOKUP(W1540,R:T,3,FALSE)","v":65}]
[null,null,null,null,null,null,null,null,null,null,null,null,null,null,null,null,null,null,null,null,null,null,"Non connu ou non spécifié par l'entreprise",{"$f":"VLOOKUP(W1541,R:T,3,FALSE)","v":"00"}]
[null,null,null,null,null,null,null,null,null,null,null,null,null,null,null,null,null,null,null,null,null,null,"Papier carton >50% avec d'autres matériaux (hors verre)",{"$f":"VLOOKUP(W1542,R:T,3,FALSE)","v":"19"}]
[null,null,null,null,null,null,null,null,null,null,null,null,null,null,null,null,null,null,null,null,null,null,"PE ou PP ou mélange PP/PE >90%",{"$f":"VLOOKUP(W1543,R:T,3,FALSE)","v":45}]
[null,null,null,null,null,null,null,null,null,null,null,null,null,null,null,null,null,null,null,null,null,null,"Plastiques (mono résine) >90%",{"$f":"VLOOKUP(W1544,R:T,3,FALSE)","v":41}]
[null,null,null,null,null,null,null,null,null,null,null,null,null,null,null,null,null,null,null,null,null,null,"Plastiques ou autres matériaux synthétiques >50%",{"$f":"VLOOKUP(W1545,R:T,3,FALSE)","v":"05"}]
[null,null,null,null,null,null,null,null,null,null,null,null,null,null,null,null,null,null,null,null,null,null,"Polystyrène >90%",{"$f":"VLOOKUP(W1546,R:T,3,FALSE)","v":47}]
[null,null,null,null,null,null,null,null,null,null,null,null,null,null,null,null,null,null,null,null,null,null,"Polyterephtalate d'Ethylène (PET) >90%",{"$f":"VLOOKUP(W1547,R:T,3,FALSE)","v":42}]
[null,null,null,null,null,null,null,null,null,null,null,null,null,null,null,null,null,null,null,null,null,null,"PVC >90%",{"$f":"VLOOKUP(W1548,R:T,3,FALSE)","v":48}]
[null,null,null,null,null,null,null,null,null,null,null,null,null,null,null,null,null,null,null,null,null,null,"A_151"]
[null,null,null,null,null,null,null,null,null,null,null,null,null,null,null,null,null,null,null,null,null,null,"ABS >90%",{"$f":"VLOOKUP(W1550,R:T,3,FALSE)","v":46}]
[null,null,null,null,null,null,null,null,null,null,null,null,null,null,null,null,null,null,null,null,null,null,"Assemblage avec métal >50% et autres matériaux",{"$f":"VLOOKUP(W1551,R:T,3,FALSE)","v":"02"}]
[null,null,null,null,null,null,null,null,null,null,null,null,null,null,null,null,null,null,null,null,null,null,"Assemblage caoutchouc synthétique ou latex >50% avec d'autres matériaux",{"$f":"VLOOKUP(W1552,R:T,3,FALSE)","v":40}]
[null,null,null,null,null,null,null,null,null,null,null,null,null,null,null,null,null,null,null,null,null,null,"Assemblage de 3 matériaux ou plus sans un matériau à plus de 50%",{"$f":"VLOOKUP(W1553,R:T,3,FALSE)","v":82}]
[null,null,null,null,null,null,null,null,null,null,null,null,null,null,null,null,null,null,null,null,null,null,"Assemblage de bois, dérivés de bois à plus de 50% avec d'autres matériaux ou bois composite (hors verre)",{"$f":"VLOOKUP(W1554,R:T,3,FALSE)","v":"01"}]
[null,null,null,null,null,null,null,null,null,null,null,null,null,null,null,null,null,null,null,null,null,null,"Assemblage dont la composition conjointe en bois, dérivés de bois et en métal dépasse 90%",{"$f":"VLOOKUP(W1555,R:T,3,FALSE)","v":81}]
[null,null,null,null,null,null,null,null,null,null,null,null,null,null,null,null,null,null,null,null,null,null,"Assemblage matériaux ou fibres synthétiques >50% avec d'autres matériaux",{"$f":"VLOOKUP(W1556,R:T,3,FALSE)","v":67}]
[null,null,null,null,null,null,null,null,null,null,null,null,null,null,null,null,null,null,null,null,null,null,"Assemblage verre à plus de 50% avec bois ou dérivés de bois",{"$f":"VLOOKUP(W1557,R:T,3,FALSE)","v":72}]
[null,null,null,null,null,null,null,null,null,null,null,null,null,null,null,null,null,null,null,null,null,null,"Assemblage verre à plus de 50% avec Inerte",{"$f":"VLOOKUP(W1558,R:T,3,FALSE)","v":71}]
[null,null,null,null,null,null,null,null,null,null,null,null,null,null,null,null,null,null,null,null,null,null,"Assemblage verre à plus de 50% avec métal",{"$f":"VLOOKUP(W1559,R:T,3,FALSE)","v":70}]
[null,null,null,null,null,null,null,null,null,null,null,null,null,null,null,null,null,null,null,null,null,null,"Assemblage verre à plus de 50% avec plastique",{"$f":"VLOOKUP(W1560,R:T,3,FALSE)","v":73}]
[null,null,null,null,null,null,null,null,null,null,null,null,null,null,null,null,null,null,null,null,null,null,"Caoutchouc naturel >50%",{"$f":"VLOOKUP(W1561,R:T,3,FALSE)","v":64}]
[null,null,null,null,null,null,null,null,null,null,null,null,null,null,null,null,null,null,null,null,null,null,"Caoutchouc naturel >90%",{"$f":"VLOOKUP(W1562,R:T,3,FALSE)","v":63}]
[null,null,null,null,null,null,null,null,null,null,null,null,null,null,null,null,null,null,null,null,null,null,"Caoutchouc synthétique >90%",{"$f":"VLOOKUP(W1563,R:T,3,FALSE)","v":49}]
[null,null,null,null,null,null,null,null,null,null,null,null,null,null,null,null,null,null,null,null,null,null,"Dérivés de bois >90%",{"$f":"VLOOKUP(W1564,R:T,3,FALSE)","v":62}]
[null,null,null,null,null,null,null,null,null,null,null,null,null,null,null,null,null,null,null,null,null,null,"Caoutchouc synthétique >90%",{"$f":"VLOOKUP(W1565,R:T,3,FALSE)","v":49}]
[null,null,null,null,null,null,null,null,null,null,null,null,null,null,null,null,null,null,null,null,null,null,"Massif et assimilés >75%",{"$f":"VLOOKUP(W1566,R:T,3,FALSE)","v":21}]
[null,null,null,null,null,null,null,null,null,null,null,null,null,null,null,null,null,null,null,null,null,null,"Massif et assimilés >90%",{"$f":"VLOOKUP(W1567,R:T,3,FALSE)","v":53}]
[null,null,null,null,null,null,null,null,null,null,null,null,null,null,null,null,null,null,null,null,null,null,"Massif et assimilés certifiés >75%",{"$f":"VLOOKUP(W1568,R:T,3,FALSE)","v":20}]
[null,null,null,null,null,null,null,null,null,null,null,null,null,null,null,null,null,null,null,null,null,null,"Massif et assimilés certifiés >90%",{"$f":"VLOOKUP(W1569,R:T,3,FALSE)","v":52}]
[null,null,null,null,null,null,null,null,null,null,null,null,null,null,null,null,null,null,null,null,null,null,"Matériaux bio sourcés ou textiles non synthétiques >50%",{"$f":"VLOOKUP(W1570,R:T,3,FALSE)","v":"04"}]
[null,null,null,null,null,null,null,null,null,null,null,null,null,null,null,null,null,null,null,null,null,null,"Matériaux bio sourcés ou textiles non synthétiques >90%",{"$f":"VLOOKUP(W1571,R:T,3,FALSE)","v":55}]
[null,null,null,null,null,null,null,null,null,null,null,null,null,null,null,null,null,null,null,null,null,null,"Matériaux d'origine animale >50%",{"$f":"VLOOKUP(W1572,R:T,3,FALSE)","v":"06"}]
[null,null,null,null,null,null,null,null,null,null,null,null,null,null,null,null,null,null,null,null,null,null,"Matériaux ou fibres synthétiques >90%",{"$f":"VLOOKUP(W1573,R:T,3,FALSE)","v":65}]
[null,null,null,null,null,null,null,null,null,null,null,null,null,null,null,null,null,null,null,null,null,null,"Métal >90%",{"$f":"VLOOKUP(W1574,R:T,3,FALSE)","v":28}]
[null,null,null,null,null,null,null,null,null,null,null,null,null,null,null,null,null,null,null,null,null,null,"Non connu ou non spécifié par l'entreprise",{"$f":"VLOOKUP(W1575,R:T,3,FALSE)","v":"00"}]
[null,null,null,null,null,null,null,null,null,null,null,null,null,null,null,null,null,null,null,null,null,null,"Panneaux de particules ou OSB >75%",{"$f":"VLOOKUP(W1576,R:T,3,FALSE)","v":25}]
[null,null,null,null,null,null,null,null,null,null,null,null,null,null,null,null,null,null,null,null,null,null,"Panneaux de particules ou OSB >90%",{"$f":"VLOOKUP(W1577,R:T,3,FALSE)","v":61}]
[null,null,null,null,null,null,null,null,null,null,null,null,null,null,null,null,null,null,null,null,null,null,"Panneaux de particules ou OSB certifiés >75%",{"$f":"VLOOKUP(W1578,R:T,3,FALSE)","v":60}]
[null,null,null,null,null,null,null,null,null,null,null,null,null,null,null,null,null,null,null,null,null,null,"Panneaux de particules ou OSB certifiés >90%",{"$f":"VLOOKUP(W1579,R:T,3,FALSE)","v":59}]
[null,null,null,null,null,null,null,null,null,null,null,null,null,null,null,null,null,null,null,null,null,null,"Papier carton >50% avec d'autres matériaux (hors verre)",{"$f":"VLOOKUP(W1580,R:T,3,FALSE)","v":"19"}]
[null,null,null,null,null,null,null,null,null,null,null,null,null,null,null,null,null,null,null,null,null,null,"PE ou PP ou mélange PP/PE >90%",{"$f":"VLOOKUP(W1581,R:T,3,FALSE)","v":45}]
[null,null,null,null,null,null,null,null,null,null,null,null,null,null,null,null,null,null,null,null,null,null,"Plastiques (mono résine) >90%",{"$f":"VLOOKUP(W1582,R:T,3,FALSE)","v":41}]
[null,null,null,null,null,null,null,null,null,null,null,null,null,null,null,null,null,null,null,null,null,null,"Plastiques ou autres matériaux synthétiques >50%",{"$f":"VLOOKUP(W1583,R:T,3,FALSE)","v":"05"}]
[null,null,null,null,null,null,null,null,null,null,null,null,null,null,null,null,null,null,null,null,null,null,"Polystyrène >90%",{"$f":"VLOOKUP(W1584,R:T,3,FALSE)","v":47}]
[null,null,null,null,null,null,null,null,null,null,null,null,null,null,null,null,null,null,null,null,null,null,"Polyterephtalate d'Ethylène (PET) >90%",{"$f":"VLOOKUP(W1585,R:T,3,FALSE)","v":42}]
[null,null,null,null,null,null,null,null,null,null,null,null,null,null,null,null,null,null,null,null,null,null,"PVC >90%",{"$f":"VLOOKUP(W1586,R:T,3,FALSE)","v":48}]
[null,null,null,null,null,null,null,null,null,null,null,null,null,null,null,null,null,null,null,null,null,null,"Verre >90%",{"$f":"VLOOKUP(W1587,R:T,3,FALSE)","v":68}]
[null,null,null,null,null,null,null,null,null,null,null,null,null,null,null,null,null,null,null,null,null,null,"A_154"]
[null,null,null,null,null,null,null,null,null,null,null,null,null,null,null,null,null,null,null,null,null,null,"ABS >90%",{"$f":"VLOOKUP(W1589,R:T,3,FALSE)","v":46}]
[null,null,null,null,null,null,null,null,null,null,null,null,null,null,null,null,null,null,null,null,null,null,"Ardoise >90%",{"$f":"VLOOKUP(W1590,R:T,3,FALSE)","v":84}]
[null,null,null,null,null,null,null,null,null,null,null,null,null,null,null,null,null,null,null,null,null,null,"Assemblage avec métal >50% et autres matériaux",{"$f":"VLOOKUP(W1591,R:T,3,FALSE)","v":"02"}]
[null,null,null,null,null,null,null,null,null,null,null,null,null,null,null,null,null,null,null,null,null,null,"Assemblage caoutchouc synthétique ou latex >50% avec d'autres matériaux",{"$f":"VLOOKUP(W1592,R:T,3,FALSE)","v":40}]
[null,null,null,null,null,null,null,null,null,null,null,null,null,null,null,null,null,null,null,null,null,null,"Assemblage de 3 matériaux ou plus sans un matériau à plus de 50%",{"$f":"VLOOKUP(W1593,R:T,3,FALSE)","v":82}]
[null,null,null,null,null,null,null,null,null,null,null,null,null,null,null,null,null,null,null,null,null,null,"Assemblage de bois, dérivés de bois à plus de 50% avec d'autres matériaux ou bois composite (hors verre)",{"$f":"VLOOKUP(W1594,R:T,3,FALSE)","v":"01"}]
[null,null,null,null,null,null,null,null,null,null,null,null,null,null,null,null,null,null,null,null,null,null,"Assemblage de matériaux avec de l'inerte >50%",{"$f":"VLOOKUP(W1595,R:T,3,FALSE)","v":"08"}]
[null,null,null,null,null,null,null,null,null,null,null,null,null,null,null,null,null,null,null,null,null,null,"Assemblage dont la composition conjointe en bois, dérivés de bois et en métal dépasse 90%",{"$f":"VLOOKUP(W1596,R:T,3,FALSE)","v":81}]
[null,null,null,null,null,null,null,null,null,null,null,null,null,null,null,null,null,null,null,null,null,null,"Assemblage matériaux ou fibres synthétiques >50% avec d'autres matériaux",{"$f":"VLOOKUP(W1597,R:T,3,FALSE)","v":67}]
[null,null,null,null,null,null,null,null,null,null,null,null,null,null,null,null,null,null,null,null,null,null,"Assemblage verre à plus de 50% avec bois ou dérivés de bois",{"$f":"VLOOKUP(W1598,R:T,3,FALSE)","v":72}]
[null,null,null,null,null,null,null,null,null,null,null,null,null,null,null,null,null,null,null,null,null,null,"Assemblage verre à plus de 50% avec Inerte",{"$f":"VLOOKUP(W1599,R:T,3,FALSE)","v":71}]
[null,null,null,null,null,null,null,null,null,null,null,null,null,null,null,null,null,null,null,null,null,null,"Assemblage verre à plus de 50% avec métal",{"$f":"VLOOKUP(W1600,R:T,3,FALSE)","v":70}]
[null,null,null,null,null,null,null,null,null,null,null,null,null,null,null,null,null,null,null,null,null,null,"Assemblage verre à plus de 50% avec plastique",{"$f":"VLOOKUP(W1601,R:T,3,FALSE)","v":73}]
[null,null,null,null,null,null,null,null,null,null,null,null,null,null,null,null,null,null,null,null,null,null,"Béton >90%",{"$f":"VLOOKUP(W1602,R:T,3,FALSE)","v":74}]
[null,null,null,null,null,null,null,null,null,null,null,null,null,null,null,null,null,null,null,null,null,null,"Caoutchouc naturel >50%",{"$f":"VLOOKUP(W1603,R:T,3,FALSE)","v":64}]
[null,null,null,null,null,null,null,null,null,null,null,null,null,null,null,null,null,null,null,null,null,null,"Caoutchouc naturel >90%",{"$f":"VLOOKUP(W1604,R:T,3,FALSE)","v":63}]
[null,null,null,null,null,null,null,null,null,null,null,null,null,null,null,null,null,null,null,null,null,null,"Caoutchouc synthétique >90%",{"$f":"VLOOKUP(W1605,R:T,3,FALSE)","v":49}]
[null,null,null,null,null,null,null,null,null,null,null,null,null,null,null,null,null,null,null,null,null,null,"Céramique >90%",{"$f":"VLOOKUP(W1606,R:T,3,FALSE)","v":97}]
[null,null,null,null,null,null,null,null,null,null,null,null,null,null,null,null,null,null,null,null,null,null,"Ciment >90%",{"$f":"VLOOKUP(W1607,R:T,3,FALSE)","v":90}]
[null,null,null,null,null,null,null,null,null,null,null,null,null,null,null,null,null,null,null,null,null,null,"Composites et autres matériaux minéraux reconstitués >50%",{"$f":"VLOOKUP(W1608,R:T,3,FALSE)","v":15}]
[null,null,null,null,null,null,null,null,null,null,null,null,null,null,null,null,null,null,null,null,null,null,"Dérivés de bois >90%",{"$f":"VLOOKUP(W1609,R:T,3,FALSE)","v":62}]
[null,null,null,null,null,null,null,null,null,null,null,null,null,null,null,null,null,null,null,null,null,null,"Granit >90%",{"$f":"VLOOKUP(W1610,R:T,3,FALSE)","v":91}]
[null,null,null,null,null,null,null,null,null,null,null,null,null,null,null,null,null,null,null,null,null,null,"Grès >90%",{"$f":"VLOOKUP(W1611,R:T,3,FALSE)","v":94}]
[null,null,null,null,null,null,null,null,null,null,null,null,null,null,null,null,null,null,null,null,null,null,"Caoutchouc synthétique >90%",{"$f":"VLOOKUP(W1612,R:T,3,FALSE)","v":49}]
[null,null,null,null,null,null,null,null,null,null,null,null,null,null,null,null,null,null,null,null,null,null,"Lave >90%",{"$f":"VLOOKUP(W1613,R:T,3,FALSE)","v":87}]
[null,null,null,null,null,null,null,null,null,null,null,null,null,null,null,null,null,null,null,null,null,null,"Massif et assimilés >75%",{"$f":"VLOOKUP(W1614,R:T,3,FALSE)","v":21}]
[null,null,null,null,null,null,null,null,null,null,null,null,null,null,null,null,null,null,null,null,null,null,"Massif et assimilés >90%",{"$f":"VLOOKUP(W1615,R:T,3,FALSE)","v":53}]
[null,null,null,null,null,null,null,null,null,null,null,null,null,null,null,null,null,null,null,null,null,null,"Massif et assimilés certifiés >75%",{"$f":"VLOOKUP(W1616,R:T,3,FALSE)","v":20}]
[null,null,null,null,null,null,null,null,null,null,null,null,null,null,null,null,null,null,null,null,null,null,"Massif et assimilés certifiés >90%",{"$f":"VLOOKUP(W1617,R:T,3,FALSE)","v":52}]
[null,null,null,null,null,null,null,null,null,null,null,null,null,null,null,null,null,null,null,null,null,null,"Matériaux bio sourcés ou textiles non synthétiques >50%",{"$f":"VLOOKUP(W1618,R:T,3,FALSE)","v":"04"}]
[null,null,null,null,null,null,null,null,null,null,null,null,null,null,null,null,null,null,null,null,null,null,"Matériaux bio sourcés ou textiles non synthétiques >90%",{"$f":"VLOOKUP(W1619,R:T,3,FALSE)","v":55}]
[null,null,null,null,null,null,null,null,null,null,null,null,null,null,null,null,null,null,null,null,null,null,"Matériaux d'origine animale >50%",{"$f":"VLOOKUP(W1620,R:T,3,FALSE)","v":"06"}]
[null,null,null,null,null,null,null,null,null,null,null,null,null,null,null,null,null,null,null,null,null,null,"Matériaux ou fibres synthétiques >90%",{"$f":"VLOOKUP(W1621,R:T,3,FALSE)","v":65}]
[null,null,null,null,null,null,null,null,null,null,null,null,null,null,null,null,null,null,null,null,null,null,"Métal >90%",{"$f":"VLOOKUP(W1622,R:T,3,FALSE)","v":28}]
[null,null,null,null,null,null,null,null,null,null,null,null,null,null,null,null,null,null,null,null,null,null,"Non connu ou non spécifié par l'entreprise",{"$f":"VLOOKUP(W1623,R:T,3,FALSE)","v":"00"}]
[null,null,null,null,null,null,null,null,null,null,null,null,null,null,null,null,null,null,null,null,null,null,"Panneaux de particules ou OSB >75%",{"$f":"VLOOKUP(W1624,R:T,3,FALSE)","v":25}]
[null,null,null,null,null,null,null,null,null,null,null,null,null,null,null,null,null,null,null,null,null,null,"Panneaux de particules ou OSB >90%",{"$f":"VLOOKUP(W1625,R:T,3,FALSE)","v":61}]
[null,null,null,null,null,null,null,null,null,null,null,null,null,null,null,null,null,null,null,null,null,null,"Panneaux de particules ou OSB certifiés >75%",{"$f":"VLOOKUP(W1626,R:T,3,FALSE)","v":60}]
[null,null,null,null,null,null,null,null,null,null,null,null,null,null,null,null,null,null,null,null,null,null,"Panneaux de particules ou OSB certifiés >90%",{"$f":"VLOOKUP(W1627,R:T,3,FALSE)","v":59}]
[null,null,null,null,null,null,null,null,null,null,null,null,null,null,null,null,null,null,null,null,null,null,"Papier carton >50% avec d'autres matériaux (hors verre)",{"$f":"VLOOKUP(W1628,R:T,3,FALSE)","v":"19"}]
[null,null,null,null,null,null,null,null,null,null,null,null,null,null,null,null,null,null,null,null,null,null,"PE ou PP ou mélange PP/PE >90%",{"$f":"VLOOKUP(W1629,R:T,3,FALSE)","v":45}]
[null,null,null,null,null,null,null,null,null,null,null,null,null,null,null,null,null,null,null,null,null,null,"Pierre artificielle >90%",{"$f":"VLOOKUP(W1630,R:T,3,FALSE)","v":98}]
[null,null,null,null,null,null,null,null,null,null,null,null,null,null,null,null,null,null,null,null,null,null,"Pierre calcaire >90%",{"$f":"VLOOKUP(W1631,R:T,3,FALSE)","v":86}]
[null,null,null,null,null,null,null,null,null,null,null,null,null,null,null,null,null,null,null,null,null,null,"Plastiques (mono résine) >90%",{"$f":"VLOOKUP(W1632,R:T,3,FALSE)","v":41}]
[null,null,null,null,null,null,null,null,null,null,null,null,null,null,null,null,null,null,null,null,null,null,"Plastiques ou autres matériaux synthétiques >50%",{"$f":"VLOOKUP(W1633,R:T,3,FALSE)","v":"05"}]
[null,null,null,null,null,null,null,null,null,null,null,null,null,null,null,null,null,null,null,null,null,null,"Polystyrène >90%",{"$f":"VLOOKUP(W1634,R:T,3,FALSE)","v":47}]
[null,null,null,null,null,null,null,null,null,null,null,null,null,null,null,null,null,null,null,null,null,null,"Polyterephtalate d'Ethylène (PET) >90%",{"$f":"VLOOKUP(W1635,R:T,3,FALSE)","v":42}]
[null,null,null,null,null,null,null,null,null,null,null,null,null,null,null,null,null,null,null,null,null,null,"PVC >90%",{"$f":"VLOOKUP(W1636,R:T,3,FALSE)","v":48}]
[null,null,null,null,null,null,null,null,null,null,null,null,null,null,null,null,null,null,null,null,null,null,"Terre cuite ou crue >90%",{"$f":"VLOOKUP(W1637,R:T,3,FALSE)","v":89}]
[null,null,null,null,null,null,null,null,null,null,null,null,null,null,null,null,null,null,null,null,null,null,"Verre >90%",{"$f":"VLOOKUP(W1638,R:T,3,FALSE)","v":68}]
[null,null,null,null,null,null,null,null,null,null,null,null,null,null,null,null,null,null,null,null,null,null,"A_150"]
[null,null,null,null,null,null,null,null,null,null,null,null,null,null,null,null,null,null,null,null,null,null,"ABS >90%",{"$f":"VLOOKUP(W1640,R:T,3,FALSE)","v":46}]
[null,null,null,null,null,null,null,null,null,null,null,null,null,null,null,null,null,null,null,null,null,null,"Assemblage avec métal >50% et autres matériaux",{"$f":"VLOOKUP(W1641,R:T,3,FALSE)","v":"02"}]
[null,null,null,null,null,null,null,null,null,null,null,null,null,null,null,null,null,null,null,null,null,null,"Assemblage caoutchouc synthétique ou latex >50% avec d'autres matériaux",{"$f":"VLOOKUP(W1642,R:T,3,FALSE)","v":40}]
[null,null,null,null,null,null,null,null,null,null,null,null,null,null,null,null,null,null,null,null,null,null,"Assemblage de 3 matériaux ou plus sans un matériau à plus de 50%",{"$f":"VLOOKUP(W1643,R:T,3,FALSE)","v":82}]
[null,null,null,null,null,null,null,null,null,null,null,null,null,null,null,null,null,null,null,null,null,null,"Assemblage de bois, dérivés de bois à plus de 50% avec d'autres matériaux ou bois composite (hors verre)",{"$f":"VLOOKUP(W1644,R:T,3,FALSE)","v":"01"}]
[null,null,null,null,null,null,null,null,null,null,null,null,null,null,null,null,null,null,null,null,null,null,"Assemblage dont la composition conjointe en bois, dérivés de bois et en métal dépasse 90%",{"$f":"VLOOKUP(W1645,R:T,3,FALSE)","v":81}]
[null,null,null,null,null,null,null,null,null,null,null,null,null,null,null,null,null,null,null,null,null,null,"Assemblage matériaux ou fibres synthétiques >50% avec d'autres matériaux",{"$f":"VLOOKUP(W1646,R:T,3,FALSE)","v":67}]
[null,null,null,null,null,null,null,null,null,null,null,null,null,null,null,null,null,null,null,null,null,null,"Assemblage verre à plus de 50% avec bois ou dérivés de bois",{"$f":"VLOOKUP(W1647,R:T,3,FALSE)","v":72}]
[null,null,null,null,null,null,null,null,null,null,null,null,null,null,null,null,null,null,null,null,null,null,"Assemblage verre à plus de 50% avec Inerte",{"$f":"VLOOKUP(W1648,R:T,3,FALSE)","v":71}]
[null,null,null,null,null,null,null,null,null,null,null,null,null,null,null,null,null,null,null,null,null,null,"Assemblage verre à plus de 50% avec métal",{"$f":"VLOOKUP(W1649,R:T,3,FALSE)","v":70}]
[null,null,null,null,null,null,null,null,null,null,null,null,null,null,null,null,null,null,null,null,null,null,"Assemblage verre à plus de 50% avec plastique",{"$f":"VLOOKUP(W1650,R:T,3,FALSE)","v":73}]
[null,null,null,null,null,null,null,null,null,null,null,null,null,null,null,null,null,null,null,null,null,null,"Caoutchouc naturel >50%",{"$f":"VLOOKUP(W1651,R:T,3,FALSE)","v":64}]
[null,null,null,null,null,null,null,null,null,null,null,null,null,null,null,null,null,null,null,null,null,null,"Caoutchouc naturel >90%",{"$f":"VLOOKUP(W1652,R:T,3,FALSE)","v":63}]
[null,null,null,null,null,null,null,null,null,null,null,null,null,null,null,null,null,null,null,null,null,null,"Caoutchouc synthétique >90%",{"$f":"VLOOKUP(W1653,R:T,3,FALSE)","v":49}]
[null,null,null,null,null,null,null,null,null,null,null,null,null,null,null,null,null,null,null,null,null,null,"Dérivés de bois >90%",{"$f":"VLOOKUP(W1654,R:T,3,FALSE)","v":62}]
[null,null,null,null,null,null,null,null,null,null,null,null,null,null,null,null,null,null,null,null,null,null,"Caoutchouc synthétique >90%",{"$f":"VLOOKUP(W1655,R:T,3,FALSE)","v":49}]
[null,null,null,null,null,null,null,null,null,null,null,null,null,null,null,null,null,null,null,null,null,null,"Massif et assimilés >75%",{"$f":"VLOOKUP(W1656,R:T,3,FALSE)","v":21}]
[null,null,null,null,null,null,null,null,null,null,null,null,null,null,null,null,null,null,null,null,null,null,"Massif et assimilés >90%",{"$f":"VLOOKUP(W1657,R:T,3,FALSE)","v":53}]
[null,null,null,null,null,null,null,null,null,null,null,null,null,null,null,null,null,null,null,null,null,null,"Massif et assimilés certifiés >75%",{"$f":"VLOOKUP(W1658,R:T,3,FALSE)","v":20}]
[null,null,null,null,null,null,null,null,null,null,null,null,null,null,null,null,null,null,null,null,null,null,"Massif et assimilés certifiés >90%",{"$f":"VLOOKUP(W1659,R:T,3,FALSE)","v":52}]
[null,null,null,null,null,null,null,null,null,null,null,null,null,null,null,null,null,null,null,null,null,null,"Matériaux bio sourcés ou textiles non synthétiques >50%",{"$f":"VLOOKUP(W1660,R:T,3,FALSE)","v":"04"}]
[null,null,null,null,null,null,null,null,null,null,null,null,null,null,null,null,null,null,null,null,null,null,"Matériaux bio sourcés ou textiles non synthétiques >90%",{"$f":"VLOOKUP(W1661,R:T,3,FALSE)","v":55}]
[null,null,null,null,null,null,null,null,null,null,null,null,null,null,null,null,null,null,null,null,null,null,"Matériaux d'origine animale >50%",{"$f":"VLOOKUP(W1662,R:T,3,FALSE)","v":"06"}]
[null,null,null,null,null,null,null,null,null,null,null,null,null,null,null,null,null,null,null,null,null,null,"Matériaux ou fibres synthétiques >90%",{"$f":"VLOOKUP(W1663,R:T,3,FALSE)","v":65}]
[null,null,null,null,null,null,null,null,null,null,null,null,null,null,null,null,null,null,null,null,null,null,"Métal >90%",{"$f":"VLOOKUP(W1664,R:T,3,FALSE)","v":28}]
[null,null,null,null,null,null,null,null,null,null,null,null,null,null,null,null,null,null,null,null,null,null,"Non connu ou non spécifié par l'entreprise",{"$f":"VLOOKUP(W1665,R:T,3,FALSE)","v":"00"}]
[null,null,null,null,null,null,null,null,null,null,null,null,null,null,null,null,null,null,null,null,null,null,"Panneaux de particules ou OSB >75%",{"$f":"VLOOKUP(W1666,R:T,3,FALSE)","v":25}]
[null,null,null,null,null,null,null,null,null,null,null,null,null,null,null,null,null,null,null,null,null,null,"Panneaux de particules ou OSB >90%",{"$f":"VLOOKUP(W1667,R:T,3,FALSE)","v":61}]
[null,null,null,null,null,null,null,null,null,null,null,null,null,null,null,null,null,null,null,null,null,null,"Panneaux de particules ou OSB certifiés >75%",{"$f":"VLOOKUP(W1668,R:T,3,FALSE)","v":60}]
[null,null,null,null,null,null,null,null,null,null,null,null,null,null,null,null,null,null,null,null,null,null,"Panneaux de particules ou OSB certifiés >90%",{"$f":"VLOOKUP(W1669,R:T,3,FALSE)","v":59}]
[null,null,null,null,null,null,null,null,null,null,null,null,null,null,null,null,null,null,null,null,null,null,"Papier carton >50% avec d'autres matériaux (hors verre)",{"$f":"VLOOKUP(W1670,R:T,3,FALSE)","v":"19"}]
[null,null,null,null,null,null,null,null,null,null,null,null,null,null,null,null,null,null,null,null,null,null,"PE ou PP ou mélange PP/PE >90%",{"$f":"VLOOKUP(W1671,R:T,3,FALSE)","v":45}]
[null,null,null,null,null,null,null,null,null,null,null,null,null,null,null,null,null,null,null,null,null,null,"Plastiques (mono résine) >90%",{"$f":"VLOOKUP(W1672,R:T,3,FALSE)","v":41}]
[null,null,null,null,null,null,null,null,null,null,null,null,null,null,null,null,null,null,null,null,null,null,"Plastiques ou autres matériaux synthétiques >50%",{"$f":"VLOOKUP(W1673,R:T,3,FALSE)","v":"05"}]
[null,null,null,null,null,null,null,null,null,null,null,null,null,null,null,null,null,null,null,null,null,null,"Polystyrène >90%",{"$f":"VLOOKUP(W1674,R:T,3,FALSE)","v":47}]
[null,null,null,null,null,null,null,null,null,null,null,null,null,null,null,null,null,null,null,null,null,null,"Polyterephtalate d'Ethylène (PET) >90%",{"$f":"VLOOKUP(W1675,R:T,3,FALSE)","v":42}]
[null,null,null,null,null,null,null,null,null,null,null,null,null,null,null,null,null,null,null,null,null,null,"PVC >90%",{"$f":"VLOOKUP(W1676,R:T,3,FALSE)","v":48}]
[null,null,null,null,null,null,null,null,null,null,null,null,null,null,null,null,null,null,null,null,null,null,"Verre >90%",{"$f":"VLOOKUP(W1677,R:T,3,FALSE)","v":68}]
[null,null,null,null,null,null,null,null,null,null,null,null,null,null,null,null,null,null,null,null,null,null,"A_152"]
[null,null,null,null,null,null,null,null,null,null,null,null,null,null,null,null,null,null,null,null,null,null,"ABS >90%",{"$f":"VLOOKUP(W1679,R:T,3,FALSE)","v":46}]
[null,null,null,null,null,null,null,null,null,null,null,null,null,null,null,null,null,null,null,null,null,null,"Ardoise >90%",{"$f":"VLOOKUP(W1680,R:T,3,FALSE)","v":84}]
[null,null,null,null,null,null,null,null,null,null,null,null,null,null,null,null,null,null,null,null,null,null,"Assemblage avec métal >50% et autres matériaux",{"$f":"VLOOKUP(W1681,R:T,3,FALSE)","v":"02"}]
[null,null,null,null,null,null,null,null,null,null,null,null,null,null,null,null,null,null,null,null,null,null,"Assemblage caoutchouc synthétique ou latex >50% avec d'autres matériaux",{"$f":"VLOOKUP(W1682,R:T,3,FALSE)","v":40}]
[null,null,null,null,null,null,null,null,null,null,null,null,null,null,null,null,null,null,null,null,null,null,"Assemblage de 3 matériaux ou plus sans un matériau à plus de 50%",{"$f":"VLOOKUP(W1683,R:T,3,FALSE)","v":82}]
[null,null,null,null,null,null,null,null,null,null,null,null,null,null,null,null,null,null,null,null,null,null,"Assemblage de bois, dérivés de bois à plus de 50% avec d'autres matériaux ou bois composite (hors verre)",{"$f":"VLOOKUP(W1684,R:T,3,FALSE)","v":"01"}]
[null,null,null,null,null,null,null,null,null,null,null,null,null,null,null,null,null,null,null,null,null,null,"Assemblage de matériaux avec de l'inerte >50%",{"$f":"VLOOKUP(W1685,R:T,3,FALSE)","v":"08"}]
[null,null,null,null,null,null,null,null,null,null,null,null,null,null,null,null,null,null,null,null,null,null,"Assemblage dont la composition conjointe en bois, dérivés de bois et en métal dépasse 90%",{"$f":"VLOOKUP(W1686,R:T,3,FALSE)","v":81}]
[null,null,null,null,null,null,null,null,null,null,null,null,null,null,null,null,null,null,null,null,null,null,"Assemblage matériaux ou fibres synthétiques >50% avec d'autres matériaux",{"$f":"VLOOKUP(W1687,R:T,3,FALSE)","v":67}]
[null,null,null,null,null,null,null,null,null,null,null,null,null,null,null,null,null,null,null,null,null,null,"Assemblage verre à plus de 50% avec bois ou dérivés de bois",{"$f":"VLOOKUP(W1688,R:T,3,FALSE)","v":72}]
[null,null,null,null,null,null,null,null,null,null,null,null,null,null,null,null,null,null,null,null,null,null,"Assemblage verre à plus de 50% avec Inerte",{"$f":"VLOOKUP(W1689,R:T,3,FALSE)","v":71}]
[null,null,null,null,null,null,null,null,null,null,null,null,null,null,null,null,null,null,null,null,null,null,"Assemblage verre à plus de 50% avec métal",{"$f":"VLOOKUP(W1690,R:T,3,FALSE)","v":70}]
[null,null,null,null,null,null,null,null,null,null,null,null,null,null,null,null,null,null,null,null,null,null,"Assemblage verre à plus de 50% avec plastique",{"$f":"VLOOKUP(W1691,R:T,3,FALSE)","v":73}]
[null,null,null,null,null,null,null,null,null,null,null,null,null,null,null,null,null,null,null,null,null,null,"Béton >90%",{"$f":"VLOOKUP(W1692,R:T,3,FALSE)","v":74}]
[null,null,null,null,null,null,null,null,null,null,null,null,null,null,null,null,null,null,null,null,null,null,"Caoutchouc naturel >50%",{"$f":"VLOOKUP(W1693,R:T,3,FALSE)","v":64}]
[null,null,null,null,null,null,null,null,null,null,null,null,null,null,null,null,null,null,null,null,null,null,"Caoutchouc naturel >90%",{"$f":"VLOOKUP(W1694,R:T,3,FALSE)","v":63}]
[null,null,null,null,null,null,null,null,null,null,null,null,null,null,null,null,null,null,null,null,null,null,"Caoutchouc synthétique >90%",{"$f":"VLOOKUP(W1695,R:T,3,FALSE)","v":49}]
[null,null,null,null,null,null,null,null,null,null,null,null,null,null,null,null,null,null,null,null,null,null,"Céramique >90%",{"$f":"VLOOKUP(W1696,R:T,3,FALSE)","v":97}]
[null,null,null,null,null,null,null,null,null,null,null,null,null,null,null,null,null,null,null,null,null,null,"Ciment >90%",{"$f":"VLOOKUP(W1697,R:T,3,FALSE)","v":90}]
[null,null,null,null,null,null,null,null,null,null,null,null,null,null,null,null,null,null,null,null,null,null,"Composites et autres matériaux minéraux reconstitués >50%",{"$f":"VLOOKUP(W1698,R:T,3,FALSE)","v":15}]
[null,null,null,null,null,null,null,null,null,null,null,null,null,null,null,null,null,null,null,null,null,null,"Dérivés de bois >90%",{"$f":"VLOOKUP(W1699,R:T,3,FALSE)","v":62}]
[null,null,null,null,null,null,null,null,null,null,null,null,null,null,null,null,null,null,null,null,null,null,"Granit >90%",{"$f":"VLOOKUP(W1700,R:T,3,FALSE)","v":91}]
[null,null,null,null,null,null,null,null,null,null,null,null,null,null,null,null,null,null,null,null,null,null,"Grès >90%",{"$f":"VLOOKUP(W1701,R:T,3,FALSE)","v":94}]
[null,null,null,null,null,null,null,null,null,null,null,null,null,null,null,null,null,null,null,null,null,null,"Caoutchouc synthétique >90%",{"$f":"VLOOKUP(W1702,R:T,3,FALSE)","v":49}]
[null,null,null,null,null,null,null,null,null,null,null,null,null,null,null,null,null,null,null,null,null,null,"Lave >90%",{"$f":"VLOOKUP(W1703,R:T,3,FALSE)","v":87}]
[null,null,null,null,null,null,null,null,null,null,null,null,null,null,null,null,null,null,null,null,null,null,"Massif et assimilés >75%",{"$f":"VLOOKUP(W1704,R:T,3,FALSE)","v":21}]
[null,null,null,null,null,null,null,null,null,null,null,null,null,null,null,null,null,null,null,null,null,null,"Massif et assimilés >90%",{"$f":"VLOOKUP(W1705,R:T,3,FALSE)","v":53}]
[null,null,null,null,null,null,null,null,null,null,null,null,null,null,null,null,null,null,null,null,null,null,"Massif et assimilés certifiés >75%",{"$f":"VLOOKUP(W1706,R:T,3,FALSE)","v":20}]
[null,null,null,null,null,null,null,null,null,null,null,null,null,null,null,null,null,null,null,null,null,null,"Massif et assimilés certifiés >90%",{"$f":"VLOOKUP(W1707,R:T,3,FALSE)","v":52}]
[null,null,null,null,null,null,null,null,null,null,null,null,null,null,null,null,null,null,null,null,null,null,"Matériaux bio sourcés ou textiles non synthétiques >50%",{"$f":"VLOOKUP(W1708,R:T,3,FALSE)","v":"04"}]
[null,null,null,null,null,null,null,null,null,null,null,null,null,null,null,null,null,null,null,null,null,null,"Matériaux bio sourcés ou textiles non synthétiques >90%",{"$f":"VLOOKUP(W1709,R:T,3,FALSE)","v":55}]
[null,null,null,null,null,null,null,null,null,null,null,null,null,null,null,null,null,null,null,null,null,null,"Matériaux d'origine animale >50%",{"$f":"VLOOKUP(W1710,R:T,3,FALSE)","v":"06"}]
[null,null,null,null,null,null,null,null,null,null,null,null,null,null,null,null,null,null,null,null,null,null,"Matériaux ou fibres synthétiques >90%",{"$f":"VLOOKUP(W1711,R:T,3,FALSE)","v":65}]
[null,null,null,null,null,null,null,null,null,null,null,null,null,null,null,null,null,null,null,null,null,null,"Métal >90%",{"$f":"VLOOKUP(W1712,R:T,3,FALSE)","v":28}]
[null,null,null,null,null,null,null,null,null,null,null,null,null,null,null,null,null,null,null,null,null,null,"Non connu ou non spécifié par l'entreprise",{"$f":"VLOOKUP(W1713,R:T,3,FALSE)","v":"00"}]
[null,null,null,null,null,null,null,null,null,null,null,null,null,null,null,null,null,null,null,null,null,null,"Panneaux de particules ou OSB >75%",{"$f":"VLOOKUP(W1714,R:T,3,FALSE)","v":25}]
[null,null,null,null,null,null,null,null,null,null,null,null,null,null,null,null,null,null,null,null,null,null,"Panneaux de particules ou OSB >90%",{"$f":"VLOOKUP(W1715,R:T,3,FALSE)","v":61}]
[null,null,null,null,null,null,null,null,null,null,null,null,null,null,null,null,null,null,null,null,null,null,"Panneaux de particules ou OSB certifiés >75%",{"$f":"VLOOKUP(W1716,R:T,3,FALSE)","v":60}]
[null,null,null,null,null,null,null,null,null,null,null,null,null,null,null,null,null,null,null,null,null,null,"Panneaux de particules ou OSB certifiés >90%",{"$f":"VLOOKUP(W1717,R:T,3,FALSE)","v":59}]
[null,null,null,null,null,null,null,null,null,null,null,null,null,null,null,null,null,null,null,null,null,null,"Papier carton >50% avec d'autres matériaux (hors verre)",{"$f":"VLOOKUP(W1718,R:T,3,FALSE)","v":"19"}]
[null,null,null,null,null,null,null,null,null,null,null,null,null,null,null,null,null,null,null,null,null,null,"PE ou PP ou mélange PP/PE >90%",{"$f":"VLOOKUP(W1719,R:T,3,FALSE)","v":45}]
[null,null,null,null,null,null,null,null,null,null,null,null,null,null,null,null,null,null,null,null,null,null,"Pierre artificielle >90%",{"$f":"VLOOKUP(W1720,R:T,3,FALSE)","v":98}]
[null,null,null,null,null,null,null,null,null,null,null,null,null,null,null,null,null,null,null,null,null,null,"Pierre calcaire >90%",{"$f":"VLOOKUP(W1721,R:T,3,FALSE)","v":86}]
[null,null,null,null,null,null,null,null,null,null,null,null,null,null,null,null,null,null,null,null,null,null,"Plastiques (mono résine) >90%",{"$f":"VLOOKUP(W1722,R:T,3,FALSE)","v":41}]
[null,null,null,null,null,null,null,null,null,null,null,null,null,null,null,null,null,null,null,null,null,null,"Plastiques ou autres matériaux synthétiques >50%",{"$f":"VLOOKUP(W1723,R:T,3,FALSE)","v":"05"}]
[null,null,null,null,null,null,null,null,null,null,null,null,null,null,null,null,null,null,null,null,null,null,"Polystyrène >90%",{"$f":"VLOOKUP(W1724,R:T,3,FALSE)","v":47}]
[null,null,null,null,null,null,null,null,null,null,null,null,null,null,null,null,null,null,null,null,null,null,"Polyterephtalate d'Ethylène (PET) >90%",{"$f":"VLOOKUP(W1725,R:T,3,FALSE)","v":42}]
[null,null,null,null,null,null,null,null,null,null,null,null,null,null,null,null,null,null,null,null,null,null,"PVC >90%",{"$f":"VLOOKUP(W1726,R:T,3,FALSE)","v":48}]
[null,null,null,null,null,null,null,null,null,null,null,null,null,null,null,null,null,null,null,null,null,null,"Terre cuite ou crue >90%",{"$f":"VLOOKUP(W1727,R:T,3,FALSE)","v":89}]
[null,null,null,null,null,null,null,null,null,null,null,null,null,null,null,null,null,null,null,null,null,null,"Verre >90%",{"$f":"VLOOKUP(W1728,R:T,3,FALSE)","v":68}]
[null,null,null,null,null,null,null,null,null,null,null,null,null,null,null,null,null,null,null,null,null,null,"A_155"]
[null,null,null,null,null,null,null,null,null,null,null,null,null,null,null,null,null,null,null,null,null,null,"ABS >90%",{"$f":"VLOOKUP(W1730,R:T,3,FALSE)","v":46}]
[null,null,null,null,null,null,null,null,null,null,null,null,null,null,null,null,null,null,null,null,null,null,"Ardoise >90%",{"$f":"VLOOKUP(W1731,R:T,3,FALSE)","v":84}]
[null,null,null,null,null,null,null,null,null,null,null,null,null,null,null,null,null,null,null,null,null,null,"Assemblage avec métal >50% et autres matériaux",{"$f":"VLOOKUP(W1732,R:T,3,FALSE)","v":"02"}]
[null,null,null,null,null,null,null,null,null,null,null,null,null,null,null,null,null,null,null,null,null,null,"Assemblage caoutchouc synthétique ou latex >50% avec d'autres matériaux",{"$f":"VLOOKUP(W1733,R:T,3,FALSE)","v":40}]
[null,null,null,null,null,null,null,null,null,null,null,null,null,null,null,null,null,null,null,null,null,null,"Assemblage de 3 matériaux ou plus sans un matériau à plus de 50%",{"$f":"VLOOKUP(W1734,R:T,3,FALSE)","v":82}]
[null,null,null,null,null,null,null,null,null,null,null,null,null,null,null,null,null,null,null,null,null,null,"Assemblage de bois, dérivés de bois à plus de 50% avec d'autres matériaux ou bois composite (hors verre)",{"$f":"VLOOKUP(W1735,R:T,3,FALSE)","v":"01"}]
[null,null,null,null,null,null,null,null,null,null,null,null,null,null,null,null,null,null,null,null,null,null,"Assemblage de matériaux avec de l'inerte >50%",{"$f":"VLOOKUP(W1736,R:T,3,FALSE)","v":"08"}]
[null,null,null,null,null,null,null,null,null,null,null,null,null,null,null,null,null,null,null,null,null,null,"Assemblage dont la composition conjointe en bois, dérivés de bois et en métal dépasse 90%",{"$f":"VLOOKUP(W1737,R:T,3,FALSE)","v":81}]
[null,null,null,null,null,null,null,null,null,null,null,null,null,null,null,null,null,null,null,null,null,null,"Assemblage matériaux ou fibres synthétiques >50% avec d'autres matériaux",{"$f":"VLOOKUP(W1738,R:T,3,FALSE)","v":67}]
[null,null,null,null,null,null,null,null,null,null,null,null,null,null,null,null,null,null,null,null,null,null,"Assemblage verre à plus de 50% avec bois ou dérivés de bois",{"$f":"VLOOKUP(W1739,R:T,3,FALSE)","v":72}]
[null,null,null,null,null,null,null,null,null,null,null,null,null,null,null,null,null,null,null,null,null,null,"Assemblage verre à plus de 50% avec Inerte",{"$f":"VLOOKUP(W1740,R:T,3,FALSE)","v":71}]
[null,null,null,null,null,null,null,null,null,null,null,null,null,null,null,null,null,null,null,null,null,null,"Assemblage verre à plus de 50% avec métal",{"$f":"VLOOKUP(W1741,R:T,3,FALSE)","v":70}]
[null,null,null,null,null,null,null,null,null,null,null,null,null,null,null,null,null,null,null,null,null,null,"Assemblage verre à plus de 50% avec plastique",{"$f":"VLOOKUP(W1742,R:T,3,FALSE)","v":73}]
[null,null,null,null,null,null,null,null,null,null,null,null,null,null,null,null,null,null,null,null,null,null,"Béton >90%",{"$f":"VLOOKUP(W1743,R:T,3,FALSE)","v":74}]
[null,null,null,null,null,null,null,null,null,null,null,null,null,null,null,null,null,null,null,null,null,null,"Caoutchouc naturel >50%",{"$f":"VLOOKUP(W1744,R:T,3,FALSE)","v":64}]
[null,null,null,null,null,null,null,null,null,null,null,null,null,null,null,null,null,null,null,null,null,null,"Caoutchouc naturel >90%",{"$f":"VLOOKUP(W1745,R:T,3,FALSE)","v":63}]
[null,null,null,null,null,null,null,null,null,null,null,null,null,null,null,null,null,null,null,null,null,null,"Caoutchouc synthétique >90%",{"$f":"VLOOKUP(W1746,R:T,3,FALSE)","v":49}]
[null,null,null,null,null,null,null,null,null,null,null,null,null,null,null,null,null,null,null,null,null,null,"Céramique >90%",{"$f":"VLOOKUP(W1747,R:T,3,FALSE)","v":97}]
[null,null,null,null,null,null,null,null,null,null,null,null,null,null,null,null,null,null,null,null,null,null,"Ciment >90%",{"$f":"VLOOKUP(W1748,R:T,3,FALSE)","v":90}]
[null,null,null,null,null,null,null,null,null,null,null,null,null,null,null,null,null,null,null,null,null,null,"Composites et autres matériaux minéraux reconstitués >50%",{"$f":"VLOOKUP(W1749,R:T,3,FALSE)","v":15}]
[null,null,null,null,null,null,null,null,null,null,null,null,null,null,null,null,null,null,null,null,null,null,"Dérivés de bois >90%",{"$f":"VLOOKUP(W1750,R:T,3,FALSE)","v":62}]
[null,null,null,null,null,null,null,null,null,null,null,null,null,null,null,null,null,null,null,null,null,null,"Granit >90%",{"$f":"VLOOKUP(W1751,R:T,3,FALSE)","v":91}]
[null,null,null,null,null,null,null,null,null,null,null,null,null,null,null,null,null,null,null,null,null,null,"Grès >90%",{"$f":"VLOOKUP(W1752,R:T,3,FALSE)","v":94}]
[null,null,null,null,null,null,null,null,null,null,null,null,null,null,null,null,null,null,null,null,null,null,"Caoutchouc synthétique >90%",{"$f":"VLOOKUP(W1753,R:T,3,FALSE)","v":49}]
[null,null,null,null,null,null,null,null,null,null,null,null,null,null,null,null,null,null,null,null,null,null,"Lave >90%",{"$f":"VLOOKUP(W1754,R:T,3,FALSE)","v":87}]
[null,null,null,null,null,null,null,null,null,null,null,null,null,null,null,null,null,null,null,null,null,null,"Massif et assimilés >75%",{"$f":"VLOOKUP(W1755,R:T,3,FALSE)","v":21}]
[null,null,null,null,null,null,null,null,null,null,null,null,null,null,null,null,null,null,null,null,null,null,"Massif et assimilés >90%",{"$f":"VLOOKUP(W1756,R:T,3,FALSE)","v":53}]
[null,null,null,null,null,null,null,null,null,null,null,null,null,null,null,null,null,null,null,null,null,null,"Massif et assimilés certifiés >75%",{"$f":"VLOOKUP(W1757,R:T,3,FALSE)","v":20}]
[null,null,null,null,null,null,null,null,null,null,null,null,null,null,null,null,null,null,null,null,null,null,"Massif et assimilés certifiés >90%",{"$f":"VLOOKUP(W1758,R:T,3,FALSE)","v":52}]
[null,null,null,null,null,null,null,null,null,null,null,null,null,null,null,null,null,null,null,null,null,null,"Matériaux bio sourcés ou textiles non synthétiques >50%",{"$f":"VLOOKUP(W1759,R:T,3,FALSE)","v":"04"}]
[null,null,null,null,null,null,null,null,null,null,null,null,null,null,null,null,null,null,null,null,null,null,"Matériaux bio sourcés ou textiles non synthétiques >90%",{"$f":"VLOOKUP(W1760,R:T,3,FALSE)","v":55}]
[null,null,null,null,null,null,null,null,null,null,null,null,null,null,null,null,null,null,null,null,null,null,"Matériaux d'origine animale >50%",{"$f":"VLOOKUP(W1761,R:T,3,FALSE)","v":"06"}]
[null,null,null,null,null,null,null,null,null,null,null,null,null,null,null,null,null,null,null,null,null,null,"Matériaux ou fibres synthétiques >90%",{"$f":"VLOOKUP(W1762,R:T,3,FALSE)","v":65}]
[null,null,null,null,null,null,null,null,null,null,null,null,null,null,null,null,null,null,null,null,null,null,"Métal >90%",{"$f":"VLOOKUP(W1763,R:T,3,FALSE)","v":28}]
[null,null,null,null,null,null,null,null,null,null,null,null,null,null,null,null,null,null,null,null,null,null,"Non connu ou non spécifié par l'entreprise",{"$f":"VLOOKUP(W1764,R:T,3,FALSE)","v":"00"}]
[null,null,null,null,null,null,null,null,null,null,null,null,null,null,null,null,null,null,null,null,null,null,"Panneaux de particules ou OSB >75%",{"$f":"VLOOKUP(W1765,R:T,3,FALSE)","v":25}]
[null,null,null,null,null,null,null,null,null,null,null,null,null,null,null,null,null,null,null,null,null,null,"Panneaux de particules ou OSB >90%",{"$f":"VLOOKUP(W1766,R:T,3,FALSE)","v":61}]
[null,null,null,null,null,null,null,null,null,null,null,null,null,null,null,null,null,null,null,null,null,null,"Panneaux de particules ou OSB certifiés >75%",{"$f":"VLOOKUP(W1767,R:T,3,FALSE)","v":60}]
[null,null,null,null,null,null,null,null,null,null,null,null,null,null,null,null,null,null,null,null,null,null,"Panneaux de particules ou OSB certifiés >90%",{"$f":"VLOOKUP(W1768,R:T,3,FALSE)","v":59}]
[null,null,null,null,null,null,null,null,null,null,null,null,null,null,null,null,null,null,null,null,null,null,"Papier carton >50% avec d'autres matériaux (hors verre)",{"$f":"VLOOKUP(W1769,R:T,3,FALSE)","v":"19"}]
[null,null,null,null,null,null,null,null,null,null,null,null,null,null,null,null,null,null,null,null,null,null,"PE ou PP ou mélange PP/PE >90%",{"$f":"VLOOKUP(W1770,R:T,3,FALSE)","v":45}]
[null,null,null,null,null,null,null,null,null,null,null,null,null,null,null,null,null,null,null,null,null,null,"Pierre artificielle >90%",{"$f":"VLOOKUP(W1771,R:T,3,FALSE)","v":98}]
[null,null,null,null,null,null,null,null,null,null,null,null,null,null,null,null,null,null,null,null,null,null,"Pierre calcaire >90%",{"$f":"VLOOKUP(W1772,R:T,3,FALSE)","v":86}]
[null,null,null,null,null,null,null,null,null,null,null,null,null,null,null,null,null,null,null,null,null,null,"Plastiques (mono résine) >90%",{"$f":"VLOOKUP(W1773,R:T,3,FALSE)","v":41}]
[null,null,null,null,null,null,null,null,null,null,null,null,null,null,null,null,null,null,null,null,null,null,"Plastiques ou autres matériaux synthétiques >50%",{"$f":"VLOOKUP(W1774,R:T,3,FALSE)","v":"05"}]
[null,null,null,null,null,null,null,null,null,null,null,null,null,null,null,null,null,null,null,null,null,null,"Polystyrène >90%",{"$f":"VLOOKUP(W1775,R:T,3,FALSE)","v":47}]
[null,null,null,null,null,null,null,null,null,null,null,null,null,null,null,null,null,null,null,null,null,null,"Polyterephtalate d'Ethylène (PET) >90%",{"$f":"VLOOKUP(W1776,R:T,3,FALSE)","v":42}]
[null,null,null,null,null,null,null,null,null,null,null,null,null,null,null,null,null,null,null,null,null,null,"PVC >90%",{"$f":"VLOOKUP(W1777,R:T,3,FALSE)","v":48}]
[null,null,null,null,null,null,null,null,null,null,null,null,null,null,null,null,null,null,null,null,null,null,"Terre cuite ou crue >90%",{"$f":"VLOOKUP(W1778,R:T,3,FALSE)","v":89}]
[null,null,null,null,null,null,null,null,null,null,null,null,null,null,null,null,null,null,null,null,null,null,"Verre >90%",{"$f":"VLOOKUP(W1779,R:T,3,FALSE)","v":68}]
[null,null,null,null,null,null,null,null,null,null,null,null,null,null,null,null,null,null,null,null,null,"Alternative forfaitaire","B_304F",null,"FOR"]
[null,null,null,null,null,null,null,null,null,null,null,null,null,null,null,null,null,null,null,null,null,null,"Béton >90%",{"$f":"VLOOKUP(W1781,R:T,3,FALSE)","v":74}]
[null,null,null,null,null,null,null,null,null,null,null,null,null,null,null,null,null,null,null,null,null,null,"B_306F",null,"FOR"]
[null,null,null,null,null,null,null,null,null,null,null,null,null,null,null,null,null,null,null,null,null,null,"Dérivés de bois >90%",{"$f":"VLOOKUP(W1783,R:T,3,FALSE)","v":62}]
[null,null,null,null,null,null,null,null,null,null,null,null,null,null,null,null,null,null,null,null,null,null,"Massif et assimilés >90%",{"$f":"VLOOKUP(W1784,R:T,3,FALSE)","v":53}]
[null,null,null,null,null,null,null,null,null,null,null,null,null,null,null,null,null,null,null,null,null,null,"Panneaux de particules ou OSB >90%",{"$f":"VLOOKUP(W1785,R:T,3,FALSE)","v":61}]
[null,null,null,null,null,null,null,null,null,null,null,null,null,null,null,null,null,null,null,null,null,null,"B_345F",null,"FOR"]
[null,null,null,null,null,null,null,null,null,null,null,null,null,null,null,null,null,null,null,null,null,null,"Membranes bitumineuses à plus de 90 %",80]
[null,null,null,null,null,null,null,null,null,null,null,null,null,null,null,null,null,null,null,null,null,null,"B_346F",null,"FOR"]
[null,null,null,null,null,null,null,null,null,null,null,null,null,null,null,null,null,null,null,null,null,null,"Membranes bitumineuses à plus de 90 %",80]
[null,null,null,null,null,null,null,null,null,null,null,null,null,null,null,null,null,null,null,null,null,null,"B_349F",null,"FOR"]
[null,null,null,null,null,null,null,null,null,null,null,null,null,null,null,null,null,null,null,null,null,null,"Membranes bitumineuses à plus de 90 %",80]
[null,null,null,null,null,null,null,null,null,null,null,null,null,null,null,null,null,null,null,null,null,null,"B_361F",null,"FOR"]
[null,null,null,null,null,null,null,null,null,null,null,null,null,null,null,null,null,null,null,null,null,null,"Plâtre >50%",{"$f":"VLOOKUP(W1793,R:T,3,FALSE)","v":76}]
[null,null,null,null,null,null,null,null,null,null,null,null,null,null,null,null,null,null,null,null,null,null,"Plâtre >90%",{"$f":"VLOOKUP(W1794,R:T,3,FALSE)","v":75}]
[null,null,null,null,null,null,null,null,null,null,null,null,null,null,null,null,null,null,null,null,null,null,"B_370F",null,"FOR"]
[null,null,null,null,null,null,null,null,null,null,null,null,null,null,null,null,null,null,null,null,null,null,"Assemblage de 3 matériaux ou plus sans un matériau à plus de 50%",{"$f":"VLOOKUP(W1796,R:T,3,FALSE)","v":82}]
[null,null,null,null,null,null,null,null,null,null,null,null,null,null,null,null,null,null,null,null,null,null,"Laine de verre à plus de 90 %",{"$f":"VLOOKUP(W1797,R:T,3,FALSE)","v":78}]
[null,null,null,null,null,null,null,null,null,null,null,null,null,null,null,null,null,null,null,null,null,null,"Laines de roche à plus de 90 %",{"$f":"VLOOKUP(W1798,R:T,3,FALSE)","v":77}]
[null,null,null,null,null,null,null,null,null,null,null,null,null,null,null,null,null,null,null,null,null,null,"Matériaux bio sourcés ou textiles non synthétiques >90%",{"$f":"VLOOKUP(W1799,R:T,3,FALSE)","v":55}]
[null,null,null,null,null,null,null,null,null,null,null,null,null,null,null,null,null,null,null,null,null,null,"B_380F",null,"FOR"]
[null,null,null,null,null,null,null,null,null,null,null,null,null,null,null,null,null,null,null,null,null,null,"Assemblage avec métal >50% et autres matériaux",{"$f":"VLOOKUP(W1801,R:T,3,FALSE)","v":"02"}]
[null,null,null,null,null,null,null,null,null,null,null,null,null,null,null,null,null,null,null,null,null,null,"Assemblage de 3 matériaux ou plus sans un matériau à plus de 50%",{"$f":"VLOOKUP(W1802,R:T,3,FALSE)","v":82}]
[null,null,null,null,null,null,null,null,null,null,null,null,null,null,null,null,null,null,null,null,null,null,"Non connu ou non spécifié par l'entreprise",{"$f":"VLOOKUP(W1803,R:T,3,FALSE)","v":"00"}]
[null,null,null,null,null,null,null,null,null,null,null,null,null,null,null,null,null,null,null,null,null,null,"B_381F",null,"FOR"]
[null,null,null,null,null,null,null,null,null,null,null,null,null,null,null,null,null,null,null,null,null,null,"Assemblage de 3 matériaux ou plus sans un matériau à plus de 50%",{"$f":"VLOOKUP(W1805,R:T,3,FALSE)","v":82}]
[null,null,null,null,null,null,null,null,null,null,null,null,null,null,null,null,null,null,null,null,null,null,"B_382F",null,"FOR"]
[null,null,null,null,null,null,null,null,null,null,null,null,null,null,null,null,null,null,null,null,null,null,"Assemblage de 3 matériaux ou plus sans un matériau à plus de 50%",{"$f":"VLOOKUP(W1807,R:T,3,FALSE)","v":82}]
[null,null,null,null,null,null,null,null,null,null,null,null,null,null,null,null,null,null,null,null,null,null,"B_383F",null,"FOR"]
[null,null,null,null,null,null,null,null,null,null,null,null,null,null,null,null,null,null,null,null,null,null,"Assemblage avec métal >50% et autres matériaux",{"$f":"VLOOKUP(W1809,R:T,3,FALSE)","v":"02"}]
[null,null,null,null,null,null,null,null,null,null,null,null,null,null,null,null,null,null,null,null,null,null,"Assemblage de bois, dérivés de bois à plus de 50% avec d'autres matériaux ou bois composite (hors verre)",{"$f":"VLOOKUP(W1810,R:T,3,FALSE)","v":"01"}]
[null,null,null,null,null,null,null,null,null,null,null,null,null,null,null,null,null,null,null,null,null,null,"Massif et assimilés >90%",{"$f":"VLOOKUP(W1811,R:T,3,FALSE)","v":53}]
[null,null,null,null,null,null,null,null,null,null,null,null,null,null,null,null,null,null,null,null,null,null,"Métal >90%",{"$f":"VLOOKUP(W1812,R:T,3,FALSE)","v":28}]
[null,null,null,null,null,null,null,null,null,null,null,null,null,null,null,null,null,null,null,null,null,null,"Non connu ou non spécifié par l'entreprise",{"$f":"VLOOKUP(W1813,R:T,3,FALSE)","v":"00"}]
[null,null,null,null,null,null,null,null,null,null,null,null,null,null,null,null,null,null,null,null,null,null,"B_431F",null,"FOR"]
[null,null,null,null,null,null,null,null,null,null,null,null,null,null,null,null,null,null,null,null,null,null,"Céramique >90%",{"$f":"VLOOKUP(W1815,R:T,3,FALSE)","v":97}]
[null,null,null,null,null,null,null,null,null,null,null,null,null,null,null,null,null,null,null,null,null,null,"B_432F",null,"FOR"]
[null,null,null,null,null,null,null,null,null,null,null,null,null,null,null,null,null,null,null,null,null,null,"Assemblage de bois, dérivés de bois à plus de 50% avec d'autres matériaux ou bois composite (hors verre)",{"$f":"VLOOKUP(W1817,R:T,3,FALSE)","v":"01"}]
[null,null,null,null,null,null,null,null,null,null,null,null,null,null,null,null,null,null,null,null,null,null,"Dérivés de bois >90%",{"$f":"VLOOKUP(W1818,R:T,3,FALSE)","v":62}]
[null,null,null,null,null,null,null,null,null,null,null,null,null,null,null,null,null,null,null,null,null,null,"Massif et assimilés >90%",{"$f":"VLOOKUP(W1819,R:T,3,FALSE)","v":53}]
[null,null,null,null,null,null,null,null,null,null,null,null,null,null,null,null,null,null,null,null,null,null,"Matériaux bio sourcés ou textiles non synthétiques >90%",{"$f":"VLOOKUP(W1820,R:T,3,FALSE)","v":55}]
[null,null,null,null,null,null,null,null,null,null,null,null,null,null,null,null,null,null,null,null,null,null,"B_433F",null,"FOR"]
[null,null,null,null,null,null,null,null,null,null,null,null,null,null,null,null,null,null,null,null,null,null,"Assemblage de 3 matériaux ou plus sans un matériau à plus de 50%",{"$f":"VLOOKUP(W1822,R:T,3,FALSE)","v":82}]
[null,null,null,null,null,null,null,null,null,null,null,null,null,null,null,null,null,null,null,null,null,null,"Assemblage de bois, dérivés de bois à plus de 50% avec d'autres matériaux ou bois composite (hors verre)",{"$f":"VLOOKUP(W1823,R:T,3,FALSE)","v":"01"}]
[null,null,null,null,null,null,null,null,null,null,null,null,null,null,null,null,null,null,null,null,null,null,"Assemblage matériaux ou fibres synthétiques >50% avec d'autres matériaux",{"$f":"VLOOKUP(W1824,R:T,3,FALSE)","v":67}]
[null,null,null,null,null,null,null,null,null,null,null,null,null,null,null,null,null,null,null,null,null,null,"Dérivés de bois >90%",{"$f":"VLOOKUP(W1825,R:T,3,FALSE)","v":62}]
[null,null,null,null,null,null,null,null,null,null,null,null,null,null,null,null,null,null,null,null,null,null,"Massif et assimilés >90%",{"$f":"VLOOKUP(W1826,R:T,3,FALSE)","v":53}]
[null,null,null,null,null,null,null,null,null,null,null,null,null,null,null,null,null,null,null,null,null,null,"PVC >90%",{"$f":"VLOOKUP(W1827,R:T,3,FALSE)","v":48}]
[null,null,null,null,null,null,null,null,null,null,null,null,null,null,null,null,null,null,null,null,null,null,"Non connu ou non spécifié par l'entreprise",{"$f":"VLOOKUP(W1828,R:T,3,FALSE)","v":"00"}]
[null,null,null,null,null,null,null,null,null,null,null,null,null,null,null,null,null,null,null,null,null,null,"B_434F",null,"FOR"]
[null,null,null,null,null,null,null,null,null,null,null,null,null,null,null,null,null,null,null,null,null,null,"ABS >90%",{"$f":"VLOOKUP(W1830,R:T,3,FALSE)","v":46}]
[null,null,null,null,null,null,null,null,null,null,null,null,null,null,null,null,null,null,null,null,null,null,"Assemblage de bois, dérivés de bois à plus de 50% avec d'autres matériaux ou bois composite (hors verre)",{"$f":"VLOOKUP(W1831,R:T,3,FALSE)","v":"01"}]
[null,null,null,null,null,null,null,null,null,null,null,null,null,null,null,null,null,null,null,null,null,null,"Dérivés de bois >90%",{"$f":"VLOOKUP(W1832,R:T,3,FALSE)","v":62}]
[null,null,null,null,null,null,null,null,null,null,null,null,null,null,null,null,null,null,null,null,null,null,"Massif et assimilés >90%",{"$f":"VLOOKUP(W1833,R:T,3,FALSE)","v":53}]
[null,null,null,null,null,null,null,null,null,null,null,null,null,null,null,null,null,null,null,null,null,null,"Panneaux de particules ou OSB >90%",{"$f":"VLOOKUP(W1834,R:T,3,FALSE)","v":61}]
[null,null,null,null,null,null,null,null,null,null,null,null,null,null,null,null,null,null,null,null,null,null,"PE ou PP ou mélange PP/PE >90%",{"$f":"VLOOKUP(W1835,R:T,3,FALSE)","v":45}]
[null,null,null,null,null,null,null,null,null,null,null,null,null,null,null,null,null,null,null,null,null,null,"Plastiques (mono résine) >90%",{"$f":"VLOOKUP(W1836,R:T,3,FALSE)","v":41}]
[null,null,null,null,null,null,null,null,null,null,null,null,null,null,null,null,null,null,null,null,null,null,"Polystyrène >90%",{"$f":"VLOOKUP(W1837,R:T,3,FALSE)","v":47}]
[null,null,null,null,null,null,null,null,null,null,null,null,null,null,null,null,null,null,null,null,null,null,"Polyterephtalate d'Ethylène (PET) >90%",{"$f":"VLOOKUP(W1838,R:T,3,FALSE)","v":42}]
[null,null,null,null,null,null,null,null,null,null,null,null,null,null,null,null,null,null,null,null,null,null,"PVC >90%",{"$f":"VLOOKUP(W1839,R:T,3,FALSE)","v":48}]
[]
[]
[null,null,null,null,null,null,null,null,null,null,null,null,null,null,null,null,null,null,null,null,null,null,"B_436F",null,"FOR"]
[null,null,null,null,null,null,null,null,null,null,null,null,null,null,null,null,null,null,null,null,null,null,"ABS >90%",{"$f":"VLOOKUP(W1843,R:T,3,FALSE)","v":46}]
[null,null,null,null,null,null,null,null,null,null,null,null,null,null,null,null,null,null,null,null,null,null,"Assemblage matériaux ou fibres synthétiques >50% avec d'autres matériaux",{"$f":"VLOOKUP(W1844,R:T,3,FALSE)","v":67}]
[null,null,null,null,null,null,null,null,null,null,null,null,null,null,null,null,null,null,null,null,null,null,"Caoutchouc naturel >50%",{"$f":"VLOOKUP(W1845,R:T,3,FALSE)","v":64}]
[null,null,null,null,null,null,null,null,null,null,null,null,null,null,null,null,null,null,null,null,null,null,"Caoutchouc naturel >90%",{"$f":"VLOOKUP(W1846,R:T,3,FALSE)","v":63}]
[null,null,null,null,null,null,null,null,null,null,null,null,null,null,null,null,null,null,null,null,null,null,"Caoutchouc synthétique >90%",{"$f":"VLOOKUP(W1847,R:T,3,FALSE)","v":49}]
[null,null,null,null,null,null,null,null,null,null,null,null,null,null,null,null,null,null,null,null,null,null,"PE ou PP ou mélange PP/PE >90%",{"$f":"VLOOKUP(W1848,R:T,3,FALSE)","v":45}]
[null,null,null,null,null,null,null,null,null,null,null,null,null,null,null,null,null,null,null,null,null,null,"Plastiques (mono résine) >90%",{"$f":"VLOOKUP(W1849,R:T,3,FALSE)","v":41}]
[null,null,null,null,null,null,null,null,null,null,null,null,null,null,null,null,null,null,null,null,null,null,"Polystyrène >90%",{"$f":"VLOOKUP(W1850,R:T,3,FALSE)","v":47}]
[null,null,null,null,null,null,null,null,null,null,null,null,null,null,null,null,null,null,null,null,null,null,"Polyterephtalate d'Ethylène (PET) >90%",{"$f":"VLOOKUP(W1851,R:T,3,FALSE)","v":42}]
[null,null,null,null,null,null,null,null,null,null,null,null,null,null,null,null,null,null,null,null,null,null,"PVC >90%",{"$f":"VLOOKUP(W1852,R:T,3,FALSE)","v":48}]
[null,null,null,null,null,null,null,null,null,null,null,null,null,null,null,null,null,null,null,null,null,null,"B_438F",null,"FOR"]
[null,null,null,null,null,null,null,null,null,null,null,null,null,null,null,null,null,null,null,null,null,null,"Papier carton >50% avec d'autres matériaux (hors verre)",{"$f":"VLOOKUP(W1854,R:T,3,FALSE)","v":"19"}]
[null,null,null,null,null,null,null,null,null,null,null,null,null,null,null,null,null,null,null,null,null,null,"B_455F",null,"FOR"]
[null,null,null,null,null,null,null,null,null,null,null,null,null,null,null,null,null,null,null,null,null,null,"Assemblage de bois, dérivés de bois à plus de 50% avec d'autres matériaux ou bois composite (hors verre)",{"$f":"VLOOKUP(W1856,R:T,3,FALSE)","v":"01"}]
[null,null,null,null,null,null,null,null,null,null,null,null,null,null,null,null,null,null,null,null,null,null,"Métal >90%",{"$f":"VLOOKUP(W1857,R:T,3,FALSE)","v":28}]
[null,null,null,null,null,null,null,null,null,null,null,null,null,null,null,null,null,null,null,null,null,null,"Plastiques (mono résine) >90%",{"$f":"VLOOKUP(W1858,R:T,3,FALSE)","v":41}]
[null,null,null,null,null,null,null,null,null,null,null,null,null,null,null,null,null,null,null,null,null,null,"Assemblage de 3 matériaux ou plus sans un matériau à plus de 50%",{"$f":"VLOOKUP(W1859,R:T,3,FALSE)","v":82}]
[null,null,null,null,null,null,null,null,null,null,null,null,null,null,null,null,null,null,null,null,null,null,"Non connu ou non spécifié par l'entreprise",{"$f":"VLOOKUP(W1860,R:T,3,FALSE)","v":"00"}]
[null,null,null,null,null,null,null,null,null,null,null,null,null,null,null,null,null,null,null,null,null,null,"B_495F",null,"FOR"]
[null,null,null,null,null,null,null,null,null,null,null,null,null,null,null,null,null,null,null,null,null,null,"Métal >90%",{"$f":"VLOOKUP(W1862,R:T,3,FALSE)","v":28}]
[null,null,null,null,null,null,null,null,null,null,null,null,null,null,null,null,null,null,null,null,null,null,"Céramique >90%",{"$f":"VLOOKUP(W1863,R:T,3,FALSE)","v":97}]
[null,null,null,null,null,null,null,null,null,null,null,null,null,null,null,null,null,null,null,null,null,null,"Granit >90%",91]
[null,null,null,null,null,null,null,null,null,null,null,null,null,null,null,null,null,null,null,null,null,null,"Grès >90%",94]
[null,null,null,null,null,null,null,null,null,null,null,null,null,null,null,null,null,null,null,null,null,null,"Lave >90%",87]
[null,null,null,null,null,null,null,null,null,null,null,null,null,null,null,null,null,null,null,null,null,null,"Pierre calcaire >90%",86]
[null,null,null,null,null,null,null,null,null,null,null,null,null,null,null,null,null,null,null,null,null,null,"Plastiques (mono résine) >90%",{"$f":"VLOOKUP(W1868,R:T,3,FALSE)","v":41}]
[null,null,null,null,null,null,null,null,null,null,null,null,null,null,null,null,null,null,null,null,null,null,"Polyterephtalate d'Ethylène (PET) >90%",{"$f":"VLOOKUP(W1869,R:T,3,FALSE)","v":42}]
[null,null,null,null,null,null,null,null,null,null,null,null,null,null,null,null,null,null,null,null,null,null,"PE ou PP ou mélange PP/PE >90%",{"$f":"VLOOKUP(W1870,R:T,3,FALSE)","v":45}]
[null,null,null,null,null,null,null,null,null,null,null,null,null,null,null,null,null,null,null,null,null,null,"ABS >90%",{"$f":"VLOOKUP(W1871,R:T,3,FALSE)","v":46}]
[null,null,null,null,null,null,null,null,null,null,null,null,null,null,null,null,null,null,null,null,null,null,"Polystyrène >90%",{"$f":"VLOOKUP(W1872,R:T,3,FALSE)","v":47}]
[null,null,null,null,null,null,null,null,null,null,null,null,null,null,null,null,null,null,null,null,null,null,"PVC >90%",{"$f":"VLOOKUP(W1873,R:T,3,FALSE)","v":48}]
[null,null,null,null,null,null,null,null,null,null,null,null,null,null,null,null,null,null,null,null,null,null,"Dérivés de bois >90%",{"$f":"VLOOKUP(W1874,R:T,3,FALSE)","v":62}]
[null,null,null,null,null,null,null,null,null,null,null,null,null,null,null,null,null,null,null,null,null,null,"Assemblage matériaux ou fibres synthétiques >50% avec d'autres matériaux",{"$f":"VLOOKUP(W1875,R:T,3,FALSE)","v":67}]
[null,null,null,null,null,null,null,null,null,null,null,null,null,null,null,null,null,null,null,null,null,null,"Verre >90%",{"$f":"VLOOKUP(W1876,R:T,3,FALSE)","v":68}]
[null,null,null,null,null,null,null,null,null,null,null,null,null,null,null,null,null,null,null,null,null,null,"B_497F",null,"FOR"]
[null,null,null,null,null,null,null,null,null,null,null,null,null,null,null,null,null,null,null,null,null,null,"Métal >90%",{"$f":"VLOOKUP(W1878,R:T,3,FALSE)","v":28}]
[null,null,null,null,null,null,null,null,null,null,null,null,null,null,null,null,null,null,null,null,null,null,"Céramique >90%",{"$f":"VLOOKUP(W1879,R:T,3,FALSE)","v":97}]
[null,null,null,null,null,null,null,null,null,null,null,null,null,null,null,null,null,null,null,null,null,null,"Assemblage matériaux ou fibres synthétiques >50% avec d'autres matériaux",{"$f":"VLOOKUP(W1880,R:T,3,FALSE)","v":67}]
[null,null,null,null,null,null,null,null,null,null,null,null,null,null,null,null,null,null,null,null,null,null,"B_528F",null,"FOR"]
[null,null,null,null,null,null,null,null,null,null,null,null,null,null,null,null,null,null,null,null,null,null,"Assemblage avec métal >50% et autres matériaux",{"$f":"VLOOKUP(W1882,R:T,3,FALSE)","v":"02"}]
[null,null,null,null,null,null,null,null,null,null,null,null,null,null,null,null,null,null,null,null,null,null,"Assemblage de 3 matériaux ou plus sans un matériau à plus de 50%",{"$f":"VLOOKUP(W1883,R:T,3,FALSE)","v":82}]
[null,null,null,null,null,null,null,null,null,null,null,null,null,null,null,null,null,null,null,null,null,null,"B_370G",null,"FOR"]
[null,null,null,null,null,null,null,null,null,null,null,null,null,null,null,null,null,null,null,null,null,null,"Laine de verre à plus de 90 %",{"$f":"VLOOKUP(W1885,R:T,3,FALSE)","v":78}]
[null,null,null,null,null,null,null,null,null,null,null,null,null,null,null,null,null,null,null,null,null,null,"Laines de roche à plus de 90 %",{"$f":"VLOOKUP(W1886,R:T,3,FALSE)","v":77}]
[null,null,null,null,null,null,null,null,null,null,null,null,null,null,null,null,null,null,null,null,null,null,"Matériaux bio sourcés ou textiles non synthétiques >90%",{"$f":"VLOOKUP(W1887,R:T,3,FALSE)","v":55}]
[]
[]
[]
[null,null,null,null,null,null,null,null,null,null,null,null,null,null,null,null,null,null,null,null,null,"Forfait de base","B_385"]
[null,null,null,null,null,null,null,null,null,null,null,null,null,null,null,null,null,null,null,null,null,null,"Assemblage verre à plus de 50% avec bois ou dérivés de bois",{"$f":"VLOOKUP(W1892,R:T,3,FALSE)","v":72}]
[null,null,null,null,null,null,null,null,null,null,null,null,null,null,null,null,null,null,null,null,null,null,"B_386"]
[null,null,null,null,null,null,null,null,null,null,null,null,null,null,null,null,null,null,null,null,null,null,"Assemblage verre à plus de 50% avec métal",{"$f":"VLOOKUP(W1894,R:T,3,FALSE)","v":70}]
[null,null,null,null,null,null,null,null,null,null,null,null,null,null,null,null,null,null,null,null,null,null,"B_387"]
[null,null,null,null,null,null,null,null,null,null,null,null,null,null,null,null,null,null,null,null,null,null,"Assemblage verre à plus de 50% avec plastique",{"$f":"VLOOKUP(W1896,R:T,3,FALSE)","v":73}]
[null,null,null,null,null,null,null,null,null,null,null,null,null,null,null,null,null,null,null,null,null,null,"B_389"]
[null,null,null,null,null,null,null,null,null,null,null,null,null,null,null,null,null,null,null,null,null,null,"ABS >90%",{"$f":"VLOOKUP(W1898,R:T,3,FALSE)","v":46}]
[null,null,null,null,null,null,null,null,null,null,null,null,null,null,null,null,null,null,null,null,null,null,"Assemblage de 3 matériaux ou plus sans un matériau à plus de 50%",{"$f":"VLOOKUP(W1899,R:T,3,FALSE)","v":82}]
[null,null,null,null,null,null,null,null,null,null,null,null,null,null,null,null,null,null,null,null,null,null,"Massif et assimilés >90%",{"$f":"VLOOKUP(W1900,R:T,3,FALSE)","v":53}]
[null,null,null,null,null,null,null,null,null,null,null,null,null,null,null,null,null,null,null,null,null,null,"Métal >90%",{"$f":"VLOOKUP(W1901,R:T,3,FALSE)","v":28}]
[null,null,null,null,null,null,null,null,null,null,null,null,null,null,null,null,null,null,null,null,null,null,"Panneaux de particules ou OSB >90%",{"$f":"VLOOKUP(W1902,R:T,3,FALSE)","v":61}]
[null,null,null,null,null,null,null,null,null,null,null,null,null,null,null,null,null,null,null,null,null,null,"PE ou PP ou mélange PP/PE >90%",{"$f":"VLOOKUP(W1903,R:T,3,FALSE)","v":45}]
[null,null,null,null,null,null,null,null,null,null,null,null,null,null,null,null,null,null,null,null,null,null,"Plastiques (mono résine) >90%",{"$f":"VLOOKUP(W1904,R:T,3,FALSE)","v":41}]
[null,null,null,null,null,null,null,null,null,null,null,null,null,null,null,null,null,null,null,null,null,null,"Polystyrène >90%",{"$f":"VLOOKUP(W1905,R:T,3,FALSE)","v":47}]
[null,null,null,null,null,null,null,null,null,null,null,null,null,null,null,null,null,null,null,null,null,null,"Polyterephtalate d'Ethylène (PET) >90%",{"$f":"VLOOKUP(W1906,R:T,3,FALSE)","v":42}]
[null,null,null,null,null,null,null,null,null,null,null,null,null,null,null,null,null,null,null,null,null,null,"PVC >90%",{"$f":"VLOOKUP(W1907,R:T,3,FALSE)","v":48}]
[null,null,null,null,null,null,null,null,null,null,null,null,null,null,null,null,null,null,null,null,null,null,"B_390"]
[null,null,null,null,null,null,null,null,null,null,null,null,null,null,null,null,null,null,null,null,null,null,"Assemblage de bois, dérivés de bois à plus de 50% avec d'autres matériaux ou bois composite (hors verre)",{"$f":"VLOOKUP(W1909,R:T,3,FALSE)","v":"01"}]
[null,null,null,null,null,null,null,null,null,null,null,null,null,null,null,null,null,null,null,null,null,null,"B_391"]
[null,null,null,null,null,null,null,null,null,null,null,null,null,null,null,null,null,null,null,null,null,null,"Assemblage avec métal >50% et autres matériaux",{"$f":"VLOOKUP(W1911,R:T,3,FALSE)","v":"02"}]
[null,null,null,null,null,null,null,null,null,null,null,null,null,null,null,null,null,null,null,null,null,null,"B_392"]
[null,null,null,null,null,null,null,null,null,null,null,null,null,null,null,null,null,null,null,null,null,null,"Assemblage matériaux ou fibres synthétiques >50% avec d'autres matériaux",{"$f":"VLOOKUP(W1913,R:T,3,FALSE)","v":67}]
[null,null,null,null,null,null,null,null,null,null,null,null,null,null,null,null,null,null,null,null,null,null,"B_393"]
[null,null,null,null,null,null,null,null,null,null,null,null,null,null,null,null,null,null,null,null,null,null,"Assemblage de bois, dérivés de bois à plus de 50% avec d'autres matériaux ou bois composite (hors verre)",{"$f":"VLOOKUP(W1915,R:T,3,FALSE)","v":"01"}]
[null,null,null,null,null,null,null,null,null,null,null,null,null,null,null,null,null,null,null,null,null,null,"B_394"]
[null,null,null,null,null,null,null,null,null,null,null,null,null,null,null,null,null,null,null,null,null,null,"Assemblage avec métal >50% et autres matériaux",{"$f":"VLOOKUP(W1917,R:T,3,FALSE)","v":"02"}]
[null,null,null,null,null,null,null,null,null,null,null,null,null,null,null,null,null,null,null,null,null,null,"B_395"]
[null,null,null,null,null,null,null,null,null,null,null,null,null,null,null,null,null,null,null,null,null,null,"Assemblage matériaux ou fibres synthétiques >50% avec d'autres matériaux",{"$f":"VLOOKUP(W1919,R:T,3,FALSE)","v":67}]
[null,null,null,null,null,null,null,null,null,null,null,null,null,null,null,null,null,null,null,null,null,null,"B_396"]
[null,null,null,null,null,null,null,null,null,null,null,null,null,null,null,null,null,null,null,null,null,null,"Dérivés de bois >90%",{"$f":"VLOOKUP(W1921,R:T,3,FALSE)","v":62}]
[null,null,null,null,null,null,null,null,null,null,null,null,null,null,null,null,null,null,null,null,null,null,"B_397"]
[null,null,null,null,null,null,null,null,null,null,null,null,null,null,null,null,null,null,null,null,null,null,"Assemblage de bois, dérivés de bois à plus de 50% avec d'autres matériaux ou bois composite (hors verre)",{"$f":"VLOOKUP(W1923,R:T,3,FALSE)","v":"01"}]
[null,null,null,null,null,null,null,null,null,null,null,null,null,null,null,null,null,null,null,null,null,null,"B_398"]
[null,null,null,null,null,null,null,null,null,null,null,null,null,null,null,null,null,null,null,null,null,null,"Assemblage avec métal >50% et autres matériaux",{"$f":"VLOOKUP(W1925,R:T,3,FALSE)","v":"02"}]
[null,null,null,null,null,null,null,null,null,null,null,null,null,null,null,null,null,null,null,null,null,null,"B_399"]
[null,null,null,null,null,null,null,null,null,null,null,null,null,null,null,null,null,null,null,null,null,null,"Assemblage matériaux ou fibres synthétiques >50% avec d'autres matériaux",{"$f":"VLOOKUP(W1927,R:T,3,FALSE)","v":67}]
[null,null,null,null,null,null,null,null,null,null,null,null,null,null,null,null,null,null,null,null,null,null,"B_400"]
[null,null,null,null,null,null,null,null,null,null,null,null,null,null,null,null,null,null,null,null,null,null,"Verre >90%",{"$f":"VLOOKUP(W1929,R:T,3,FALSE)","v":68}]
[null,null,null,null,null,null,null,null,null,null,null,null,null,null,null,null,null,null,null,null,null,null,"B_401"]
[null,null,null,null,null,null,null,null,null,null,null,null,null,null,null,null,null,null,null,null,null,null,"Assemblage verre à plus de 50% avec bois ou dérivés de bois",{"$f":"VLOOKUP(W1931,R:T,3,FALSE)","v":72}]
[null,null,null,null,null,null,null,null,null,null,null,null,null,null,null,null,null,null,null,null,null,null,"Assemblage verre à plus de 50% avec Inerte",{"$f":"VLOOKUP(W1932,R:T,3,FALSE)","v":71}]
[null,null,null,null,null,null,null,null,null,null,null,null,null,null,null,null,null,null,null,null,null,null,"Assemblage verre à plus de 50% avec métal",{"$f":"VLOOKUP(W1933,R:T,3,FALSE)","v":70}]
[null,null,null,null,null,null,null,null,null,null,null,null,null,null,null,null,null,null,null,null,null,null,"Assemblage verre à plus de 50% avec plastique",{"$f":"VLOOKUP(W1934,R:T,3,FALSE)","v":73}]
[null,null,null,null,null,null,null,null,null,null,null,null,null,null,null,null,null,null,null,null,null,null,"B_402"]
[null,null,null,null,null,null,null,null,null,null,null,null,null,null,null,null,null,null,null,null,null,null,"Assemblage de 3 matériaux ou plus sans un matériau à plus de 50%",{"$f":"VLOOKUP(W1936,R:T,3,FALSE)","v":82}]
[null,null,null,null,null,null,null,null,null,null,null,null,null,null,null,null,null,null,null,null,null,null,"B_403"]
[null,null,null,null,null,null,null,null,null,null,null,null,null,null,null,null,null,null,null,null,null,null,"Assemblage de 3 matériaux ou plus sans un matériau à plus de 50%",{"$f":"VLOOKUP(W1938,R:T,3,FALSE)","v":82}]
[null,null,null,null,null,null,null,null,null,null,null,null,null,null,null,null,null,null,null,null,null,null,"B_404"]
[null,null,null,null,null,null,null,null,null,null,null,null,null,null,null,null,null,null,null,null,null,null,"Dérivés de bois >90%",{"$f":"VLOOKUP(W1940,R:T,3,FALSE)","v":62}]
[null,null,null,null,null,null,null,null,null,null,null,null,null,null,null,null,null,null,null,null,null,null,"B_405"]
[null,null,null,null,null,null,null,null,null,null,null,null,null,null,null,null,null,null,null,null,null,null,"Métal >90%",{"$f":"VLOOKUP(W1942,R:T,3,FALSE)","v":28}]
[null,null,null,null,null,null,null,null,null,null,null,null,null,null,null,null,null,null,null,null,null,null,"B_406"]
[null,null,null,null,null,null,null,null,null,null,null,null,null,null,null,null,null,null,null,null,null,null,"ABS >90%",{"$f":"VLOOKUP(W1944,R:T,3,FALSE)","v":46}]
[null,null,null,null,null,null,null,null,null,null,null,null,null,null,null,null,null,null,null,null,null,null,"PE ou PP ou mélange PP/PE >90%",{"$f":"VLOOKUP(W1945,R:T,3,FALSE)","v":45}]
[null,null,null,null,null,null,null,null,null,null,null,null,null,null,null,null,null,null,null,null,null,null,"Plastiques (mono résine) >90%",{"$f":"VLOOKUP(W1946,R:T,3,FALSE)","v":41}]
[null,null,null,null,null,null,null,null,null,null,null,null,null,null,null,null,null,null,null,null,null,null,"Polystyrène >90%",{"$f":"VLOOKUP(W1947,R:T,3,FALSE)","v":47}]
[null,null,null,null,null,null,null,null,null,null,null,null,null,null,null,null,null,null,null,null,null,null,"Polyterephtalate d'Ethylène (PET) >90%",{"$f":"VLOOKUP(W1948,R:T,3,FALSE)","v":42}]
[null,null,null,null,null,null,null,null,null,null,null,null,null,null,null,null,null,null,null,null,null,null,"PVC >90%",{"$f":"VLOOKUP(W1949,R:T,3,FALSE)","v":48}]
[null,null,null,null,null,null,null,null,null,null,null,null,null,null,null,null,null,null,null,null,null,null,"B_407"]
[null,null,null,null,null,null,null,null,null,null,null,null,null,null,null,null,null,null,null,null,null,null,"Assemblage avec métal >50% et autres matériaux",{"$f":"VLOOKUP(W1951,R:T,3,FALSE)","v":"02"}]
[null,null,null,null,null,null,null,null,null,null,null,null,null,null,null,null,null,null,null,null,null,null,"Assemblage de 3 matériaux ou plus sans un matériau à plus de 50%",{"$f":"VLOOKUP(W1952,R:T,3,FALSE)","v":82}]
[null,null,null,null,null,null,null,null,null,null,null,null,null,null,null,null,null,null,null,null,null,null,"Assemblage matériaux ou fibres synthétiques >50% avec d'autres matériaux",{"$f":"VLOOKUP(W1953,R:T,3,FALSE)","v":67}]
[null,null,null,null,null,null,null,null,null,null,null,null,null,null,null,null,null,null,null,null,null,null,"B_411"]
[null,null,null,null,null,null,null,null,null,null,null,null,null,null,null,null,null,null,null,null,null,null,"Assemblage avec métal >50% et autres matériaux",{"$f":"VLOOKUP(W1955,R:T,3,FALSE)","v":"02"}]
[null,null,null,null,null,null,null,null,null,null,null,null,null,null,null,null,null,null,null,null,null,null,"Assemblage de 3 matériaux ou plus sans un matériau à plus de 50%",{"$f":"VLOOKUP(W1956,R:T,3,FALSE)","v":82}]
[null,null,null,null,null,null,null,null,null,null,null,null,null,null,null,null,null,null,null,null,null,null,"Assemblage de bois, dérivés de bois à plus de 50% avec d'autres matériaux ou bois composite (hors verre)",{"$f":"VLOOKUP(W1957,R:T,3,FALSE)","v":"01"}]
[null,null,null,null,null,null,null,null,null,null,null,null,null,null,null,null,null,null,null,null,null,null,"Assemblage matériaux ou fibres synthétiques >50% avec d'autres matériaux",{"$f":"VLOOKUP(W1958,R:T,3,FALSE)","v":67}]
[null,null,null,null,null,null,null,null,null,null,null,null,null,null,null,null,null,null,null,null,null,null,"Assemblage verre à plus de 50% avec métal",{"$f":"VLOOKUP(W1959,R:T,3,FALSE)","v":70}]
[null,null,null,null,null,null,null,null,null,null,null,null,null,null,null,null,null,null,null,null,null,null,"Assemblage verre à plus de 50% avec plastique",{"$f":"VLOOKUP(W1960,R:T,3,FALSE)","v":73}]
[null,null,null,null,null,null,null,null,null,null,null,null,null,null,null,null,null,null,null,null,null,null,"Dérivés de bois >90%",{"$f":"VLOOKUP(W1961,R:T,3,FALSE)","v":62}]
[null,null,null,null,null,null,null,null,null,null,null,null,null,null,null,null,null,null,null,null,null,null,"Verre >90%",{"$f":"VLOOKUP(W1962,R:T,3,FALSE)","v":68}]
[null,null,null,null,null,null,null,null,null,null,null,null,null,null,null,null,null,null,null,null,null,null,"B_412"]
[null,null,null,null,null,null,null,null,null,null,null,null,null,null,null,null,null,null,null,null,null,null,"Assemblage avec métal >50% et autres matériaux",{"$f":"VLOOKUP(W1964,R:T,3,FALSE)","v":"02"}]
[null,null,null,null,null,null,null,null,null,null,null,null,null,null,null,null,null,null,null,null,null,null,"Assemblage de 3 matériaux ou plus sans un matériau à plus de 50%",{"$f":"VLOOKUP(W1965,R:T,3,FALSE)","v":82}]
[null,null,null,null,null,null,null,null,null,null,null,null,null,null,null,null,null,null,null,null,null,null,"Assemblage de bois, dérivés de bois à plus de 50% avec d'autres matériaux ou bois composite (hors verre)",{"$f":"VLOOKUP(W1966,R:T,3,FALSE)","v":"01"}]
[null,null,null,null,null,null,null,null,null,null,null,null,null,null,null,null,null,null,null,null,null,null,"Assemblage matériaux ou fibres synthétiques >50% avec d'autres matériaux",{"$f":"VLOOKUP(W1967,R:T,3,FALSE)","v":67}]
[null,null,null,null,null,null,null,null,null,null,null,null,null,null,null,null,null,null,null,null,null,null,"Assemblage verre à plus de 50% avec bois ou dérivés de bois",{"$f":"VLOOKUP(W1968,R:T,3,FALSE)","v":72}]
[null,null,null,null,null,null,null,null,null,null,null,null,null,null,null,null,null,null,null,null,null,null,"Assemblage verre à plus de 50% avec plastique",{"$f":"VLOOKUP(W1969,R:T,3,FALSE)","v":73}]
[null,null,null,null,null,null,null,null,null,null,null,null,null,null,null,null,null,null,null,null,null,null,"Dérivés de bois >90%",{"$f":"VLOOKUP(W1970,R:T,3,FALSE)","v":62}]
[null,null,null,null,null,null,null,null,null,null,null,null,null,null,null,null,null,null,null,null,null,null,"Verre >90%",{"$f":"VLOOKUP(W1971,R:T,3,FALSE)","v":68}]
[null,null,null,null,null,null,null,null,null,null,null,null,null,null,null,null,null,null,null,null,null,null,"B_413"]
[null,null,null,null,null,null,null,null,null,null,null,null,null,null,null,null,null,null,null,null,null,null,"Assemblage matériaux ou fibres synthétiques >50% avec d'autres matériaux",{"$f":"VLOOKUP(W1973,R:T,3,FALSE)","v":67}]
[null,null,null,null,null,null,null,null,null,null,null,null,null,null,null,null,null,null,null,null,null,null,"Assemblage verre à plus de 50% avec plastique",{"$f":"VLOOKUP(W1974,R:T,3,FALSE)","v":73}]
[null,null,null,null,null,null,null,null,null,null,null,null,null,null,null,null,null,null,null,null,null,null,"B_439"]
[null,null,null,null,null,null,null,null,null,null,null,null,null,null,null,null,null,null,null,null,null,null,"Matériaux bio sourcés ou textiles non synthétiques >90%",{"$f":"VLOOKUP(W1976,R:T,3,FALSE)","v":55}]
[null,null,null,null,null,null,null,null,null,null,null,null,null,null,null,null,null,null,null,null,null,null,"B_440"]
[null,null,null,null,null,null,null,null,null,null,null,null,null,null,null,null,null,null,null,null,null,null,"Matériaux ou fibres synthétiques >90%",{"$f":"VLOOKUP(W1978,R:T,3,FALSE)","v":65}]
[null,null,null,null,null,null,null,null,null,null,null,null,null,null,null,null,null,null,null,null,null,null,"B_501"]
[null,null,null,null,null,null,null,null,null,null,null,null,null,null,null,null,null,null,null,null,null,null,"Métal >90%",{"$f":"VLOOKUP(W1980,R:T,3,FALSE)","v":28}]
[null,null,null,null,null,null,null,null,null,null,null,null,null,null,null,null,null,null,null,null,null,null,"Céramique >90%",{"$f":"VLOOKUP(W1981,R:T,3,FALSE)","v":97}]
[null,null,null,null,null,null,null,null,null,null,null,null,null,null,null,null,null,null,null,null,null,null,"Plastiques (mono résine) >90%",{"$f":"VLOOKUP(W1982,R:T,3,FALSE)","v":41}]
[null,null,null,null,null,null,null,null,null,null,null,null,null,null,null,null,null,null,null,null,null,null,"Polyterephtalate d'Ethylène (PET) >90%",{"$f":"VLOOKUP(W1983,R:T,3,FALSE)","v":42}]
[null,null,null,null,null,null,null,null,null,null,null,null,null,null,null,null,null,null,null,null,null,null,"PE ou PP ou mélange PP/PE >90%",{"$f":"VLOOKUP(W1984,R:T,3,FALSE)","v":45}]
[null,null,null,null,null,null,null,null,null,null,null,null,null,null,null,null,null,null,null,null,null,null,"ABS >90%",{"$f":"VLOOKUP(W1985,R:T,3,FALSE)","v":46}]
[null,null,null,null,null,null,null,null,null,null,null,null,null,null,null,null,null,null,null,null,null,null,"Polystyrène >90%",{"$f":"VLOOKUP(W1986,R:T,3,FALSE)","v":47}]
[null,null,null,null,null,null,null,null,null,null,null,null,null,null,null,null,null,null,null,null,null,null,"PVC >90%",{"$f":"VLOOKUP(W1987,R:T,3,FALSE)","v":48}]
[null,null,null,null,null,null,null,null,null,null,null,null,null,null,null,null,null,null,null,null,null,null,"B_502"]
[null,null,null,null,null,null,null,null,null,null,null,null,null,null,null,null,null,null,null,null,null,null,"Métal >90%",{"$f":"VLOOKUP(W1989,R:T,3,FALSE)","v":28}]
[null,null,null,null,null,null,null,null,null,null,null,null,null,null,null,null,null,null,null,null,null,null,"Plastiques (mono résine) >90%",{"$f":"VLOOKUP(W1990,R:T,3,FALSE)","v":41}]
[null,null,null,null,null,null,null,null,null,null,null,null,null,null,null,null,null,null,null,null,null,null,"Polyterephtalate d'Ethylène (PET) >90%",{"$f":"VLOOKUP(W1991,R:T,3,FALSE)","v":42}]
[null,null,null,null,null,null,null,null,null,null,null,null,null,null,null,null,null,null,null,null,null,null,"PE ou PP ou mélange PP/PE >90%",{"$f":"VLOOKUP(W1992,R:T,3,FALSE)","v":45}]
[null,null,null,null,null,null,null,null,null,null,null,null,null,null,null,null,null,null,null,null,null,null,"ABS >90%",{"$f":"VLOOKUP(W1993,R:T,3,FALSE)","v":46}]
[null,null,null,null,null,null,null,null,null,null,null,null,null,null,null,null,null,null,null,null,null,null,"Polystyrène >90%",{"$f":"VLOOKUP(W1994,R:T,3,FALSE)","v":47}]
[null,null,null,null,null,null,null,null,null,null,null,null,null,null,null,null,null,null,null,null,null,null,"PVC >90%",{"$f":"VLOOKUP(W1995,R:T,3,FALSE)","v":48}]
[null,null,null,null,null,null,null,null,null,null,null,null,null,null,null,null,null,null,null,null,null,null,"Céramique >90%",{"$f":"VLOOKUP(W1996,R:T,3,FALSE)","v":97}]
[null,null,null,null,null,null,null,null,null,null,null,null,null,null,null,null,null,null,null,null,null,null,"Dérivés de bois >90%",{"$f":"VLOOKUP(W1997,R:T,3,FALSE)","v":62}]
[null,null,null,null,null,null,null,null,null,null,null,null,null,null,null,null,null,null,null,null,null,null,"Assemblage matériaux ou fibres synthétiques >50% avec d'autres matériaux",{"$f":"VLOOKUP(W1998,R:T,3,FALSE)","v":67}]
[null,null,null,null,null,null,null,null,null,null,null,null,null,null,null,null,null,null,null,null,null,null,"B_545"]
[null,null,null,null,null,null,null,null,null,null,null,null,null,null,null,null,null,null,null,null,null,null,"Assemblage avec métal >50% et autres matériaux",{"$f":"VLOOKUP(W2000,R:T,3,FALSE)","v":"02"}]
[null,null,null,null,null,null,null,null,null,null,null,null,null,null,null,null,null,null,null,null,null,null,"Assemblage de 3 matériaux ou plus sans un matériau à plus de 50%",{"$f":"VLOOKUP(W2001,R:T,3,FALSE)","v":82}]
[null,null,null,null,null,null,null,null,null,null,null,null,null,null,null,null,null,null,null,null,null,null,"Assemblage de bois, dérivés de bois à plus de 50% avec d'autres matériaux ou bois composite (hors verre)",{"$f":"VLOOKUP(W2002,R:T,3,FALSE)","v":"01"}]
[null,null,null,null,null,null,null,null,null,null,null,null,null,null,null,null,null,null,null,null,null,null,"Assemblage matériaux ou fibres synthétiques >50% avec d'autres matériaux",{"$f":"VLOOKUP(W2003,R:T,3,FALSE)","v":67}]
[null,null,null,null,null,null,null,null,null,null,null,null,null,null,null,null,null,null,null,null,null,null,"Assemblage verre à plus de 50% avec métal",{"$f":"VLOOKUP(W2004,R:T,3,FALSE)","v":70}]
[null,null,null,null,null,null,null,null,null,null,null,null,null,null,null,null,null,null,null,null,null,null,"Assemblage verre à plus de 50% avec plastique",{"$f":"VLOOKUP(W2005,R:T,3,FALSE)","v":73}]
[null,null,null,null,null,null,null,null,null,null,null,null,null,null,null,null,null,null,null,null,null,null,"Dérivés de bois >90%",{"$f":"VLOOKUP(W2006,R:T,3,FALSE)","v":62}]
[null,null,null,null,null,null,null,null,null,null,null,null,null,null,null,null,null,null,null,null,null,null,"Verre >90%",{"$f":"VLOOKUP(W2007,R:T,3,FALSE)","v":68}]
[]
[null,null,null,null,null,null,null,null,null,null,null,null,null,null,null,null,null,null,null,null,null,null,"B_546"]
[null,null,null,null,null,null,null,null,null,null,null,null,null,null,null,null,null,null,null,null,null,null,"Assemblage avec métal >50% et autres matériaux",{"$f":"VLOOKUP(W2010,R:T,3,FALSE)","v":"02"}]
[null,null,null,null,null,null,null,null,null,null,null,null,null,null,null,null,null,null,null,null,null,null,"Assemblage de 3 matériaux ou plus sans un matériau à plus de 50%",{"$f":"VLOOKUP(W2011,R:T,3,FALSE)","v":82}]
[null,null,null,null,null,null,null,null,null,null,null,null,null,null,null,null,null,null,null,null,null,null,"Assemblage de bois, dérivés de bois à plus de 50% avec d'autres matériaux ou bois composite (hors verre)",{"$f":"VLOOKUP(W2012,R:T,3,FALSE)","v":"01"}]
[null,null,null,null,null,null,null,null,null,null,null,null,null,null,null,null,null,null,null,null,null,null,"Assemblage matériaux ou fibres synthétiques >50% avec d'autres matériaux",{"$f":"VLOOKUP(W2013,R:T,3,FALSE)","v":67}]
[null,null,null,null,null,null,null,null,null,null,null,null,null,null,null,null,null,null,null,null,null,null,"Assemblage verre à plus de 50% avec bois ou dérivés de bois",{"$f":"VLOOKUP(W2014,R:T,3,FALSE)","v":72}]
[null,null,null,null,null,null,null,null,null,null,null,null,null,null,null,null,null,null,null,null,null,null,"Assemblage verre à plus de 50% avec plastique",{"$f":"VLOOKUP(W2015,R:T,3,FALSE)","v":73}]
[null,null,null,null,null,null,null,null,null,null,null,null,null,null,null,null,null,null,null,null,null,null,"Dérivés de bois >90%",{"$f":"VLOOKUP(W2016,R:T,3,FALSE)","v":62}]
[null,null,null,null,null,null,null,null,null,null,null,null,null,null,null,null,null,null,null,null,null,null,"Verre >90%",{"$f":"VLOOKUP(W2017,R:T,3,FALSE)","v":68}]
[]
[null,null,null,null,null,null,null,null,null,null,null,null,null,null,null,null,null,null,null,null,null,null,"B_547"]
[null,null,null,null,null,null,null,null,null,null,null,null,null,null,null,null,null,null,null,null,null,null,"Assemblage matériaux ou fibres synthétiques >50% avec d'autres matériaux",{"$f":"VLOOKUP(W2020,R:T,3,FALSE)","v":67}]
[null,null,null,null,null,null,null,null,null,null,null,null,null,null,null,null,null,null,null,null,null,null,"Assemblage verre à plus de 50% avec plastique",{"$f":"VLOOKUP(W2021,R:T,3,FALSE)","v":73}]
[]
[null,null,null,null,null,null,null,null,null,null,null,null,null,null,null,null,null,null,null,null,null,null,"B_437F"]
[null,null,null,null,null,null,null,null,null,null,null,null,null,null,null,null,null,null,null,null,null,null,"Assemblage matériaux ou fibres synthétiques >50% avec d'autres matériaux",{"$f":"VLOOKUP(W2024,R:T,3,FALSE)","v":67}]
[null,null,null,null,null,null,null,null,null,null,null,null,null,null,null,null,null,null,null,null,null,null,"Matériaux bio sourcés ou textiles non synthétiques >90%",{"$f":"VLOOKUP(W2025,R:T,3,FALSE)","v":55}]

{"sheet":"Liste des tarifs","index":6,"n_rows":1926,"n_cols":12,"rows_kept":1926,"cut":false,"hidden":false,"merged":[]}
["REP","Cat. REP","Code Ecomaison","Code Ecominéro","Rayon","Catégorie de produits","Matériaux","Tranches de dimensions","Mesure","Tarifs","Eco-participation 2023","codes tarifs"]
["REP ABJ",3,"21100000000",null,"Articles de bricolage","Outillage à main et leurs accessoires","Non connu ou non spécifié par l'entreprise","Eléments de toutes dimensions et poids","€ / Tonne",215,"215 €/Tonne",{"$f":"VLOOKUP(J2,'Codes tarifs éco-part'!$C$3:$E$466,3,FALSE)","v":"498"}]
["REP ABJ",3,"21100010000",null,"Articles de bricolage","Outillage à main et leurs accessoires","Assemblage de bois, dérivés de bois à plus de 50% avec d'autres matériaux ou bois composite (hors verre)","Eléments de toutes dimensions et poids","€ / Tonne",45,"45 €/Tonne",{"$f":"VLOOKUP(J3,'Codes tarifs éco-part'!$C$3:$E$466,3,FALSE)","v":"169"}]
["REP ABJ",3,"21100020000",null,"Articles de bricolage","Outillage à main et leurs accessoires","Assemblage avec métal >50% et autres matériaux","Eléments de toutes dimensions et poids","€ / Tonne",10,"10 €/Tonne",{"$f":"VLOOKUP(J4,'Codes tarifs éco-part'!$C$3:$E$466,3,FALSE)","v":"138"}]
["REP ABJ",3,"21100040000",null,"Articles de bricolage","Outillage à main et leurs accessoires","Matériaux bio sourcés ou textiles non synthétiques >50%","Eléments de toutes dimensions et poids","€ / Tonne",215,"215 €/Tonne",{"$f":"VLOOKUP(J5,'Codes tarifs éco-part'!$C$3:$E$466,3,FALSE)","v":"498"}]
["REP ABJ",3,"21100050000",null,"Articles de bricolage","Outillage à main et leurs accessoires","Plastiques ou autres matériaux synthétiques >50%","Eléments de toutes dimensions et poids","€ / Tonne",215,"215 €/Tonne",{"$f":"VLOOKUP(J6,'Codes tarifs éco-part'!$C$3:$E$466,3,FALSE)","v":"498"}]
["REP ABJ",3,"21100060000",null,"Articles de bricolage","Outillage à main et leurs accessoires","Matériaux d'origine animale >50%","Eléments de toutes dimensions et poids","€ / Tonne",215,"215 €/Tonne",{"$f":"VLOOKUP(J7,'Codes tarifs éco-part'!$C$3:$E$466,3,FALSE)","v":"498"}]
["REP ABJ",3,"21100190000",null,"Articles de bricolage","Outillage à main et leurs accessoires","Papier carton >50% avec d'autres matériaux (hors verre)","Eléments de toutes dimensions et poids","€ / Tonne",215,"215 €/Tonne",{"$f":"VLOOKUP(J8,'Codes tarifs éco-part'!$C$3:$E$466,3,FALSE)","v":"498"}]
["REP ABJ",3,"21100200000",null,"Articles de bricolage","Outillage à main et leurs accessoires","Massif et assimilés certifiés >75%","Eléments de toutes dimensions et poids","€ / Tonne",45,"45 €/Tonne",{"$f":"VLOOKUP(J9,'Codes tarifs éco-part'!$C$3:$E$466,3,FALSE)","v":"169"}]
["REP ABJ",3,"21100210000",null,"Articles de bricolage","Outillage à main et leurs accessoires","Massif et assimilés >75%","Eléments de toutes dimensions et poids","€ / Tonne",45,"45 €/Tonne",{"$f":"VLOOKUP(J10,'Codes tarifs éco-part'!$C$3:$E$466,3,FALSE)","v":"169"}]
["REP ABJ",3,"21100250000",null,"Articles de bricolage","Outillage à main et leurs accessoires","Panneaux de particules ou OSB >75%","Eléments de toutes dimensions et poids","€ / Tonne",45,"45 €/Tonne",{"$f":"VLOOKUP(J11,'Codes tarifs éco-part'!$C$3:$E$466,3,FALSE)","v":"169"}]
["REP ABJ",3,"21100280000",null,"Articles de bricolage","Outillage à main et leurs accessoires","Métal >90%","Eléments de toutes dimensions et poids","€ / Tonne",10,"10 €/Tonne",{"$f":"VLOOKUP(J12,'Codes tarifs éco-part'!$C$3:$E$466,3,FALSE)","v":"138"}]
["REP ABJ",3,"21100400000",null,"Articles de bricolage","Outillage à main et leurs accessoires","Assemblage caoutchouc synthétique ou latex >50% avec d'autres matériaux","Eléments de toutes dimensions et poids","€ / Tonne",215,"215 €/Tonne",{"$f":"VLOOKUP(J13,'Codes tarifs éco-part'!$C$3:$E$466,3,FALSE)","v":"498"}]
["REP ABJ",3,"21100410000",null,"Articles de bricolage","Outillage à main et leurs accessoires","Plastiques (mono résine) >90%","Eléments de toutes dimensions et poids","€ / Tonne",165,"165 €/Tonne",{"$f":"VLOOKUP(J14,'Codes tarifs éco-part'!$C$3:$E$466,3,FALSE)","v":"496"}]
["REP ABJ",3,"21100420000",null,"Articles de bricolage","Outillage à main et leurs accessoires","Polyterephtalate d'Ethylène (PET) >90%","Eléments de toutes dimensions et poids","€ / Tonne",165,"165 €/Tonne",{"$f":"VLOOKUP(J15,'Codes tarifs éco-part'!$C$3:$E$466,3,FALSE)","v":"496"}]
["REP ABJ",3,"21100450000",null,"Articles de bricolage","Outillage à main et leurs accessoires","PE ou PP ou mélange PP/PE >90%","Eléments de toutes dimensions et poids","€ / Tonne",165,"165 €/Tonne",{"$f":"VLOOKUP(J16,'Codes tarifs éco-part'!$C$3:$E$466,3,FALSE)","v":"496"}]
["REP ABJ",3,"21100460000",null,"Articles de bricolage","Outillage à main et leurs accessoires","ABS >90%","Eléments de toutes dimensions et poids","€ / Tonne",165,"165 €/Tonne",{"$f":"VLOOKUP(J17,'Codes tarifs éco-part'!$C$3:$E$466,3,FALSE)","v":"496"}]
["REP ABJ",3,"21100470000",null,"Articles de bricolage","Outillage à main et leurs accessoires","Polystyrène >90%","Eléments de toutes dimensions et poids","€ / Tonne",165,"165 €/Tonne",{"$f":"VLOOKUP(J18,'Codes tarifs éco-part'!$C$3:$E$466,3,FALSE)","v":"496"}]
["REP ABJ",3,"21100480000",null,"Articles de bricolage","Outillage à main et leurs accessoires","PVC >90%","Eléments de toutes dimensions et poids","€ / Tonne",165,"165 €/Tonne",{"$f":"VLOOKUP(J19,'Codes tarifs éco-part'!$C$3:$E$466,3,FALSE)","v":"496"}]
["REP ABJ",3,"21100490000",null,"Articles de bricolage","Outillage à main et leurs accessoires","Caoutchouc synthétique >90%","Eléments de toutes dimensions et poids","€ / Tonne",165,"165 €/Tonne",{"$f":"VLOOKUP(J20,'Codes tarifs éco-part'!$C$3:$E$466,3,FALSE)","v":"496"}]
["REP ABJ",3,"21100520000",null,"Articles de bricolage","Outillage à main et leurs accessoires","Massif et assimilés certifiés >90%","Eléments de toutes dimensions et poids","€ / Tonne",45,"45 €/Tonne",{"$f":"VLOOKUP(J21,'Codes tarifs éco-part'!$C$3:$E$466,3,FALSE)","v":"169"}]
["REP ABJ",3,"21100530000",null,"Articles de bricolage","Outillage à main et leurs accessoires","Massif et assimilés >90%","Eléments de toutes dimensions et poids","€ / Tonne",45,"45 €/Tonne",{"$f":"VLOOKUP(J22,'Codes tarifs éco-part'!$C$3:$E$466,3,FALSE)","v":"169"}]
["REP ABJ",3,"21100550000",null,"Articles de bricolage","Outillage à main et leurs accessoires","Matériaux bio sourcés ou textiles non synthétiques >90%","Eléments de toutes dimensions et poids","€ / Tonne",50,"50 €/Tonne",{"$f":"VLOOKUP(J23,'Codes tarifs éco-part'!$C$3:$E$466,3,FALSE)","v":"173"}]
["REP ABJ",3,"21100590000",null,"Articles de bricolage","Outillage à main et leurs accessoires","Panneaux de particules ou OSB certifiés >90%","Eléments de toutes dimensions et poids","€ / Tonne",45,"45 €/Tonne",{"$f":"VLOOKUP(J24,'Codes tarifs éco-part'!$C$3:$E$466,3,FALSE)","v":"169"}]
["REP ABJ",3,"21100600000",null,"Articles de bricolage","Outillage à main et leurs accessoires","Panneaux de particules ou OSB certifiés >75%","Eléments de toutes dimensions et poids","€ / Tonne",45,"45 €/Tonne",{"$f":"VLOOKUP(J25,'Codes tarifs éco-part'!$C$3:$E$466,3,FALSE)","v":"169"}]
["REP ABJ",3,"21100610000",null,"Articles de bricolage","Outillage à main et leurs accessoires","Panneaux de particules ou OSB >90%","Eléments de toutes dimensions et poids","€ / Tonne",45,"45 €/Tonne",{"$f":"VLOOKUP(J26,'Codes tarifs éco-part'!$C$3:$E$466,3,FALSE)","v":"169"}]
["REP ABJ",3,"21100620000",null,"Articles de bricolage","Outillage à main et leurs accessoires","Dérivés de bois >90%","Eléments de toutes dimensions et poids","€ / Tonne",45,"45 €/Tonne",{"$f":"VLOOKUP(J27,'Codes tarifs éco-part'!$C$3:$E$466,3,FALSE)","v":"169"}]
["REP ABJ",3,"21100630000",null,"Articles de bricolage","Outillage à main et leurs accessoires","Caoutchouc naturel >90%","Eléments de toutes dimensions et poids","€ / Tonne",50,"50 €/Tonne",{"$f":"VLOOKUP(J28,'Codes tarifs éco-part'!$C$3:$E$466,3,FALSE)","v":"173"}]
["REP ABJ",3,"21100640000",null,"Articles de bricolage","Outillage à main et leurs accessoires","Caoutchouc naturel >50%","Eléments de toutes dimensions et poids","€ / Tonne",215,"215 €/Tonne",{"$f":"VLOOKUP(J29,'Codes tarifs éco-part'!$C$3:$E$466,3,FALSE)","v":"498"}]
["REP ABJ",3,"21100650000",null,"Articles de bricolage","Outillage à main et leurs accessoires","Matériaux ou fibres synthétiques >90%","Eléments de toutes dimensions et poids","€ / Tonne",165,"165 €/Tonne",{"$f":"VLOOKUP(J30,'Codes tarifs éco-part'!$C$3:$E$466,3,FALSE)","v":"496"}]
["REP ABJ",3,"21100670000",null,"Articles de bricolage","Outillage à main et leurs accessoires","Assemblage matériaux ou fibres synthétiques >50% avec d'autres matériaux","Eléments de toutes dimensions et poids","€ / Tonne",215,"215 €/Tonne",{"$f":"VLOOKUP(J31,'Codes tarifs éco-part'!$C$3:$E$466,3,FALSE)","v":"498"}]
["REP ABJ",3,"21100680000",null,"Articles de bricolage","Outillage à main et leurs accessoires","Verre >90%","Eléments de toutes dimensions et poids","€ / Tonne",5,"5 €/Tonne",{"$f":"VLOOKUP(J32,'Codes tarifs éco-part'!$C$3:$E$466,3,FALSE)","v":"042"}]
["REP ABJ",3,"21100700000",null,"Articles de bricolage","Outillage à main et leurs accessoires","Assemblage verre à plus de 50% avec métal","Eléments de toutes dimensions et poids","€ / Tonne",215,"215 €/Tonne",{"$f":"VLOOKUP(J33,'Codes tarifs éco-part'!$C$3:$E$466,3,FALSE)","v":"498"}]
["REP ABJ",3,"21100710000",null,"Articles de bricolage","Outillage à main et leurs accessoires","Assemblage verre à plus de 50% avec Inerte","Eléments de toutes dimensions et poids","€ / Tonne",215,"215 €/Tonne",{"$f":"VLOOKUP(J34,'Codes tarifs éco-part'!$C$3:$E$466,3,FALSE)","v":"498"}]
["REP ABJ",3,"21100720000",null,"Articles de bricolage","Outillage à main et leurs accessoires","Assemblage verre à plus de 50% avec bois ou dérivés de bois","Eléments de toutes dimensions et poids","€ / Tonne",215,"215 €/Tonne",{"$f":"VLOOKUP(J35,'Codes tarifs éco-part'!$C$3:$E$466,3,FALSE)","v":"498"}]
["REP ABJ",3,"21100730000",null,"Articles de bricolage","Outillage à main et leurs accessoires","Assemblage verre à plus de 50% avec plastique","Eléments de toutes dimensions et poids","€ / Tonne",215,"215 €/Tonne",{"$f":"VLOOKUP(J36,'Codes tarifs éco-part'!$C$3:$E$466,3,FALSE)","v":"498"}]
["REP ABJ",3,"21100810000",null,"Articles de bricolage","Outillage à main et leurs accessoires","Assemblage dont la composition conjointe en bois, dérivés de bois et en métal dépasse 90%","Eléments de toutes dimensions et poids","€ / Tonne",45,"45 €/Tonne",{"$f":"VLOOKUP(J37,'Codes tarifs éco-part'!$C$3:$E$466,3,FALSE)","v":"169"}]
["REP ABJ",3,"21100820000",null,"Articles de bricolage","Outillage à main et leurs accessoires","Assemblage de 3 matériaux ou plus sans un matériau à plus de 50%","Eléments de toutes dimensions et poids","€ / Tonne",215,"215 €/Tonne",{"$f":"VLOOKUP(J38,'Codes tarifs éco-part'!$C$3:$E$466,3,FALSE)","v":"498"}]
["REP ABJ",3,"21101000000",null,"Articles de bricolage","Gros objets et machines non électriques et non thermiques et leurs accessoires","Non connu ou non spécifié par l'entreprise","Eléments de toutes dimensions et poids","€ / Tonne",75,"75 €/Tonne",{"$f":"VLOOKUP(J39,'Codes tarifs éco-part'!$C$3:$E$466,3,FALSE)","v":"192"}]
["REP ABJ",3,"21101010000",null,"Articles de bricolage","Gros objets et machines non électriques et non thermiques et leurs accessoires","Assemblage de bois, dérivés de bois à plus de 50% avec d'autres matériaux ou bois composite (hors verre)","Eléments de toutes dimensions et poids","€ / Tonne",10,"10 €/Tonne",{"$f":"VLOOKUP(J40,'Codes tarifs éco-part'!$C$3:$E$466,3,FALSE)","v":"138"}]
["REP ABJ",3,"21101020000",null,"Articles de bricolage","Gros objets et machines non électriques et non thermiques et leurs accessoires","Assemblage avec métal >50% et autres matériaux","Eléments de toutes dimensions et poids","€ / Tonne",3,"3 €/Tonne",{"$f":"VLOOKUP(J41,'Codes tarifs éco-part'!$C$3:$E$466,3,FALSE)","v":"474"}]
["REP ABJ",3,"21101040000",null,"Articles de bricolage","Gros objets et machines non électriques et non thermiques et leurs accessoires","Matériaux bio sourcés ou textiles non synthétiques >50%","Eléments de toutes dimensions et poids","€ / Tonne",30,"30 €/Tonne",{"$f":"VLOOKUP(J42,'Codes tarifs éco-part'!$C$3:$E$466,3,FALSE)","v":"153"}]
["REP ABJ",3,"21101050000",null,"Articles de bricolage","Gros objets et machines non électriques et non thermiques et leurs accessoires","Plastiques ou autres matériaux synthétiques >50%","Eléments de toutes dimensions et poids","€ / Tonne",75,"75 €/Tonne",{"$f":"VLOOKUP(J43,'Codes tarifs éco-part'!$C$3:$E$466,3,FALSE)","v":"192"}]
["REP ABJ",3,"21101060000",null,"Articles de bricolage","Gros objets et machines non électriques et non thermiques et leurs accessoires","Matériaux d'origine animale >50%","Eléments de toutes dimensions et poids","€ / Tonne",30,"30 €/Tonne",{"$f":"VLOOKUP(J44,'Codes tarifs éco-part'!$C$3:$E$466,3,FALSE)","v":"153"}]
["REP ABJ",3,"21101080000",null,"Articles de bricolage","Gros objets et machines non électriques et non thermiques et leurs accessoires","Assemblage de matériaux avec de l'inerte >50%","Eléments de toutes dimensions et poids","€ / Tonne",75,"75 €/Tonne",{"$f":"VLOOKUP(J45,'Codes tarifs éco-part'!$C$3:$E$466,3,FALSE)","v":"192"}]
["REP ABJ",3,"21101150000",null,"Articles de bricolage","Gros objets et machines non électriques et non thermiques et leurs accessoires","Composites et autres matériaux minéraux reconstitués >50%","Eléments de toutes dimensions et poids","€ / Tonne",75,"75 €/Tonne",{"$f":"VLOOKUP(J46,'Codes tarifs éco-part'!$C$3:$E$466,3,FALSE)","v":"192"}]
["REP ABJ",3,"21101190000",null,"Articles de bricolage","Gros objets et machines non électriques et non thermiques et leurs accessoires","Papier carton >50% avec d'autres matériaux (hors verre)","Eléments de toutes dimensions et poids","€ / Tonne",30,"30 €/Tonne",{"$f":"VLOOKUP(J47,'Codes tarifs éco-part'!$C$3:$E$466,3,FALSE)","v":"153"}]
["REP ABJ",3,"21101200000",null,"Articles de bricolage","Gros objets et machines non électriques et non thermiques et leurs accessoires","Massif et assimilés certifiés >75%","Eléments de toutes dimensions et poids","€ / Tonne",10,"10 €/Tonne",{"$f":"VLOOKUP(J48,'Codes tarifs éco-part'!$C$3:$E$466,3,FALSE)","v":"138"}]
["REP ABJ",3,"21101210000",null,"Articles de bricolage","Gros objets et machines non électriques et non thermiques et leurs accessoires","Massif et assimilés >75%","Eléments de toutes dimensions et poids","€ / Tonne",10,"10 €/Tonne",{"$f":"VLOOKUP(J49,'Codes tarifs éco-part'!$C$3:$E$466,3,FALSE)","v":"138"}]
["REP ABJ",3,"21101250000",null,"Articles de bricolage","Gros objets et machines non électriques et non thermiques et leurs accessoires","Panneaux de particules ou OSB >75%","Eléments de toutes dimensions et poids","€ / Tonne",10,"10 €/Tonne",{"$f":"VLOOKUP(J50,'Codes tarifs éco-part'!$C$3:$E$466,3,FALSE)","v":"138"}]
["REP ABJ",3,"21101280000",null,"Articles de bricolage","Gros objets et machines non électriques et non thermiques et leurs accessoires","Métal >90%","Eléments de toutes dimensions et poids","€ / Tonne",3,"3 €/Tonne",{"$f":"VLOOKUP(J51,'Codes tarifs éco-part'!$C$3:$E$466,3,FALSE)","v":"474"}]
["REP ABJ",3,"21101400000",null,"Articles de bricolage","Gros objets et machines non électriques et non thermiques et leurs accessoires","Assemblage caoutchouc synthétique ou latex >50% avec d'autres matériaux","Eléments de toutes dimensions et poids","€ / Tonne",75,"75 €/Tonne",{"$f":"VLOOKUP(J52,'Codes tarifs éco-part'!$C$3:$E$466,3,FALSE)","v":"192"}]
["REP ABJ",3,"21101410000",null,"Articles de bricolage","Gros objets et machines non électriques et non thermiques et leurs accessoires","Plastiques (mono résine) >90%","Eléments de toutes dimensions et poids","€ / Tonne",50,"50 €/Tonne",{"$f":"VLOOKUP(J53,'Codes tarifs éco-part'!$C$3:$E$466,3,FALSE)","v":"173"}]
["REP ABJ",3,"21101420000",null,"Articles de bricolage","Gros objets et machines non électriques et non thermiques et leurs accessoires","Polyterephtalate d'Ethylène (PET) >90%","Eléments de toutes dimensions et poids","€ / Tonne",50,"50 €/Tonne",{"$f":"VLOOKUP(J54,'Codes tarifs éco-part'!$C$3:$E$466,3,FALSE)","v":"173"}]
["REP ABJ",3,"21101450000",null,"Articles de bricolage","Gros objets et machines non électriques et non thermiques et leurs accessoires","PE ou PP ou mélange PP/PE >90%","Eléments de toutes dimensions et poids","€ / Tonne",50,"50 €/Tonne",{"$f":"VLOOKUP(J55,'Codes tarifs éco-part'!$C$3:$E$466,3,FALSE)","v":"173"}]
["REP ABJ",3,"21101460000",null,"Articles de bricolage","Gros objets et machines non électriques et non thermiques et leurs accessoires","ABS >90%","Eléments de toutes dimensions et poids","€ / Tonne",50,"50 €/Tonne",{"$f":"VLOOKUP(J56,'Codes tarifs éco-part'!$C$3:$E$466,3,FALSE)","v":"173"}]
["REP ABJ",3,"21101470000",null,"Articles de bricolage","Gros objets et machines non électriques et non thermiques et leurs accessoires","Polystyrène >90%","Eléments de toutes dimensions et poids","€ / Tonne",50,"50 €/Tonne",{"$f":"VLOOKUP(J57,'Codes tarifs éco-part'!$C$3:$E$466,3,FALSE)","v":"173"}]
["REP ABJ",3,"21101480000",null,"Articles de bricolage","Gros objets et machines non électriques et non thermiques et leurs accessoires","PVC >90%","Eléments de toutes dimensions et poids","€ / Tonne",50,"50 €/Tonne",{"$f":"VLOOKUP(J58,'Codes tarifs éco-part'!$C$3:$E$466,3,FALSE)","v":"173"}]
["REP ABJ",3,"21101490000",null,"Articles de bricolage","Gros objets et machines non électriques et non thermiques et leurs accessoires","Caoutchouc synthétique >90%","Eléments de toutes dimensions et poids","€ / Tonne",50,"50 €/Tonne",{"$f":"VLOOKUP(J59,'Codes tarifs éco-part'!$C$3:$E$466,3,FALSE)","v":"173"}]
["REP ABJ",3,"21101520000",null,"Articles de bricolage","Gros objets et machines non électriques et non thermiques et leurs accessoires","Massif et assimilés certifiés >90%","Eléments de toutes dimensions et poids","€ / Tonne",10,"10 €/Tonne",{"$f":"VLOOKUP(J60,'Codes tarifs éco-part'!$C$3:$E$466,3,FALSE)","v":"138"}]
["REP ABJ",3,"21101530000",null,"Articles de bricolage","Gros objets et machines non électriques et non thermiques et leurs accessoires","Massif et assimilés >90%","Eléments de toutes dimensions et poids","€ / Tonne",10,"10 €/Tonne",{"$f":"VLOOKUP(J61,'Codes tarifs éco-part'!$C$3:$E$466,3,FALSE)","v":"138"}]
["REP ABJ",3,"21101550000",null,"Articles de bricolage","Gros objets et machines non électriques et non thermiques et leurs accessoires","Matériaux bio sourcés ou textiles non synthétiques >90%","Eléments de toutes dimensions et poids","€ / Tonne",30,"30 €/Tonne",{"$f":"VLOOKUP(J62,'Codes tarifs éco-part'!$C$3:$E$466,3,FALSE)","v":"153"}]
["REP ABJ",3,"21101590000",null,"Articles de bricolage","Gros objets et machines non électriques et non thermiques et leurs accessoires","Panneaux de particules ou OSB certifiés >90%","Eléments de toutes dimensions et poids","€ / Tonne",10,"10 €/Tonne",{"$f":"VLOOKUP(J63,'Codes tarifs éco-part'!$C$3:$E$466,3,FALSE)","v":"138"}]
["REP ABJ",3,"21101600000",null,"Articles de bricolage","Gros objets et machines non électriques et non thermiques et leurs accessoires","Panneaux de particules ou OSB certifiés >75%","Eléments de toutes dimensions et poids","€ / Tonne",10,"10 €/Tonne",{"$f":"VLOOKUP(J64,'Codes tarifs éco-part'!$C$3:$E$466,3,FALSE)","v":"138"}]
["REP ABJ",3,"21101610000",null,"Articles de bricolage","Gros objets et machines non électriques et non thermiques et leurs accessoires","Panneaux de particules ou OSB >90%","Eléments de toutes dimensions et poids","€ / Tonne",10,"10 €/Tonne",{"$f":"VLOOKUP(J65,'Codes tarifs éco-part'!$C$3:$E$466,3,FALSE)","v":"138"}]
["REP ABJ",3,"21101620000",null,"Articles de bricolage","Gros objets et machines non électriques et non thermiques et leurs accessoires","Dérivés de bois >90%","Eléments de toutes dimensions et poids","€ / Tonne",10,"10 €/Tonne",{"$f":"VLOOKUP(J66,'Codes tarifs éco-part'!$C$3:$E$466,3,FALSE)","v":"138"}]
["REP ABJ",3,"21101630000",null,"Articles de bricolage","Gros objets et machines non électriques et non thermiques et leurs accessoires","Caoutchouc naturel >90%","Eléments de toutes dimensions et poids","€ / Tonne",30,"30 €/Tonne",{"$f":"VLOOKUP(J67,'Codes tarifs éco-part'!$C$3:$E$466,3,FALSE)","v":"153"}]
["REP ABJ",3,"21101640000",null,"Articles de bricolage","Gros objets et machines non électriques et non thermiques et leurs accessoires","Caoutchouc naturel >50%","Eléments de toutes dimensions et poids","€ / Tonne",75,"75 €/Tonne",{"$f":"VLOOKUP(J68,'Codes tarifs éco-part'!$C$3:$E$466,3,FALSE)","v":"192"}]
["REP ABJ",3,"21101650000",null,"Articles de bricolage","Gros objets et machines non électriques et non thermiques et leurs accessoires","Matériaux ou fibres synthétiques >90%","Eléments de toutes dimensions et poids","€ / Tonne",50,"50 €/Tonne",{"$f":"VLOOKUP(J69,'Codes tarifs éco-part'!$C$3:$E$466,3,FALSE)","v":"173"}]
["REP ABJ",3,"21101670000",null,"Articles de bricolage","Gros objets et machines non électriques et non thermiques et leurs accessoires","Assemblage matériaux ou fibres synthétiques >50% avec d'autres matériaux","Eléments de toutes dimensions et poids","€ / Tonne",75,"75 €/Tonne",{"$f":"VLOOKUP(J70,'Codes tarifs éco-part'!$C$3:$E$466,3,FALSE)","v":"192"}]
["REP ABJ",3,"21101680000",null,"Articles de bricolage","Gros objets et machines non électriques et non thermiques et leurs accessoires","Verre >90%","Eléments de toutes dimensions et poids","€ / Tonne",5,"5 €/Tonne",{"$f":"VLOOKUP(J71,'Codes tarifs éco-part'!$C$3:$E$466,3,FALSE)","v":"042"}]
["REP ABJ",3,"21101700000",null,"Articles de bricolage","Gros objets et machines non électriques et non thermiques et leurs accessoires","Assemblage verre à plus de 50% avec métal","Eléments de toutes dimensions et poids","€ / Tonne",75,"75 €/Tonne",{"$f":"VLOOKUP(J72,'Codes tarifs éco-part'!$C$3:$E$466,3,FALSE)","v":"192"}]
["REP ABJ",3,"21101710000",null,"Articles de bricolage","Gros objets et machines non électriques et non thermiques et leurs accessoires","Assemblage verre à plus de 50% avec Inerte","Eléments de toutes dimensions et poids","€ / Tonne",75,"75 €/Tonne",{"$f":"VLOOKUP(J73,'Codes tarifs éco-part'!$C$3:$E$466,3,FALSE)","v":"192"}]
["REP ABJ",3,"21101720000",null,"Articles de bricolage","Gros objets et machines non électriques et non thermiques et leurs accessoires","Assemblage verre à plus de 50% avec bois ou dérivés de bois","Eléments de toutes dimensions et poids","€ / Tonne",75,"75 €/Tonne",{"$f":"VLOOKUP(J74,'Codes tarifs éco-part'!$C$3:$E$466,3,FALSE)","v":"192"}]
["REP ABJ",3,"21101730000",null,"Articles de bricolage","Gros objets et machines non électriques et non thermiques et leurs accessoires","Assemblage verre à plus de 50% avec plastique","Eléments de toutes dimensions et poids","€ / Tonne",75,"75 €/Tonne",{"$f":"VLOOKUP(J75,'Codes tarifs éco-part'!$C$3:$E$466,3,FALSE)","v":"192"}]
["REP ABJ",3,"21101740000",null,"Articles de bricolage","Gros objets et machines non électriques et non thermiques et leurs accessoires","Béton >90%","Eléments de toutes dimensions et poids","€ / Tonne",5,"5 €/Tonne",{"$f":"VLOOKUP(J76,'Codes tarifs éco-part'!$C$3:$E$466,3,FALSE)","v":"042"}]
["REP ABJ",3,"21101810000",null,"Articles de bricolage","Gros objets et machines non électriques et non thermiques et leurs accessoires","Assemblage dont la composition conjointe en bois, dérivés de bois et en métal dépasse 90%","Eléments de toutes dimensions et poids","€ / Tonne",10,"10 €/Tonne",{"$f":"VLOOKUP(J77,'Codes tarifs éco-part'!$C$3:$E$466,3,FALSE)","v":"138"}]
["REP ABJ",3,"21101820000",null,"Articles de bricolage","Gros objets et machines non électriques et non thermiques et leurs accessoires","Assemblage de 3 matériaux ou plus sans un matériau à plus de 50%","Eléments de toutes dimensions et poids","€ / Tonne",75,"75 €/Tonne",{"$f":"VLOOKUP(J78,'Codes tarifs éco-part'!$C$3:$E$466,3,FALSE)","v":"192"}]
["REP ABJ",3,"21101840000",null,"Articles de bricolage","Gros objets et machines non électriques et non thermiques et leurs accessoires","Ardoise >90%","Eléments de toutes dimensions et poids","€ / Tonne",5,"5 €/Tonne",{"$f":"VLOOKUP(J79,'Codes tarifs éco-part'!$C$3:$E$466,3,FALSE)","v":"042"}]
["REP ABJ",3,"21101860000",null,"Articles de bricolage","Gros objets et machines non électriques et non thermiques et leurs accessoires","Pierre calcaire >90%","Eléments de toutes dimensions et poids","€ / Tonne",5,"5 €/Tonne",{"$f":"VLOOKUP(J80,'Codes tarifs éco-part'!$C$3:$E$466,3,FALSE)","v":"042"}]
["REP ABJ",3,"21101870000",null,"Articles de bricolage","Gros objets et machines non électriques et non thermiques et leurs accessoires","Lave >90%","Eléments de toutes dimensions et poids","€ / Tonne",5,"5 €/Tonne",{"$f":"VLOOKUP(J81,'Codes tarifs éco-part'!$C$3:$E$466,3,FALSE)","v":"042"}]
["REP ABJ",3,"21101890000",null,"Articles de bricolage","Gros objets et machines non électriques et non thermiques et leurs accessoires","Terre cuite ou crue >90%","Eléments de toutes dimensions et poids","€ / Tonne",5,"5 €/Tonne",{"$f":"VLOOKUP(J82,'Codes tarifs éco-part'!$C$3:$E$466,3,FALSE)","v":"042"}]
["REP ABJ",3,"21101900000",null,"Articles de bricolage","Gros objets et machines non électriques et non thermiques et leurs accessoires","Ciment >90%","Eléments de toutes dimensions et poids","€ / Tonne",5,"5 €/Tonne",{"$f":"VLOOKUP(J83,'Codes tarifs éco-part'!$C$3:$E$466,3,FALSE)","v":"042"}]
["REP ABJ",3,"21101910000",null,"Articles de bricolage","Gros objets et machines non électriques et non thermiques et leurs accessoires","Granit >90%","Eléments de toutes dimensions et poids","€ / Tonne",5,"5 €/Tonne",{"$f":"VLOOKUP(J84,'Codes tarifs éco-part'!$C$3:$E$466,3,FALSE)","v":"042"}]
["REP ABJ",3,"21101940000",null,"Articles de bricolage","Gros objets et machines non électriques et non thermiques et leurs accessoires","Grès >90%","Eléments de toutes dimensions et poids","€ / Tonne",5,"5 €/Tonne",{"$f":"VLOOKUP(J85,'Codes tarifs éco-part'!$C$3:$E$466,3,FALSE)","v":"042"}]
["REP ABJ",3,"21101970000",null,"Articles de bricolage","Gros objets et machines non électriques et non thermiques et leurs accessoires","Céramique >90%","Eléments de toutes dimensions et poids","€ / Tonne",10,"10 €/Tonne",{"$f":"VLOOKUP(J86,'Codes tarifs éco-part'!$C$3:$E$466,3,FALSE)","v":"138"}]
["REP ABJ",3,"21101980000",null,"Articles de bricolage","Gros objets et machines non électriques et non thermiques et leurs accessoires","Pierre artificielle >90%","Eléments de toutes dimensions et poids","€ / Tonne",5,"5 €/Tonne",{"$f":"VLOOKUP(J87,'Codes tarifs éco-part'!$C$3:$E$466,3,FALSE)","v":"042"}]
["REP ABJ",3,"21102000000",null,"Articles de bricolage","Outils et supports de travail en hauteur","Non connu ou non spécifié par l'entreprise","Eléments de toutes dimensions et poids","€ / Tonne",75,"75 €/Tonne",{"$f":"VLOOKUP(J88,'Codes tarifs éco-part'!$C$3:$E$466,3,FALSE)","v":"192"}]
["REP ABJ",3,"21102010000",null,"Articles de bricolage","Outils et supports de travail en hauteur","Assemblage de bois, dérivés de bois à plus de 50% avec d'autres matériaux ou bois composite (hors verre)","Eléments de toutes dimensions et poids","€ / Tonne",10,"10 €/Tonne",{"$f":"VLOOKUP(J89,'Codes tarifs éco-part'!$C$3:$E$466,3,FALSE)","v":"138"}]
["REP ABJ",3,"21102020000",null,"Articles de bricolage","Outils et supports de travail en hauteur","Assemblage avec métal >50% et autres matériaux","Eléments de toutes dimensions et poids","€ / Tonne",3,"3 €/Tonne",{"$f":"VLOOKUP(J90,'Codes tarifs éco-part'!$C$3:$E$466,3,FALSE)","v":"474"}]
["REP ABJ",3,"21102040000",null,"Articles de bricolage","Outils et supports de travail en hauteur","Matériaux bio sourcés ou textiles non synthétiques >50%","Eléments de toutes dimensions et poids","€ / Tonne",30,"30 €/Tonne",{"$f":"VLOOKUP(J91,'Codes tarifs éco-part'!$C$3:$E$466,3,FALSE)","v":"153"}]
["REP ABJ",3,"21102050000",null,"Articles de bricolage","Outils et supports de travail en hauteur","Plastiques ou autres matériaux synthétiques >50%","Eléments de toutes dimensions et poids","€ / Tonne",75,"75 €/Tonne",{"$f":"VLOOKUP(J92,'Codes tarifs éco-part'!$C$3:$E$466,3,FALSE)","v":"192"}]
["REP ABJ",3,"21102060000",null,"Articles de bricolage","Outils et supports de travail en hauteur","Matériaux d'origine animale >50%","Eléments de toutes dimensions et poids","€ / Tonne",30,"30 €/Tonne",{"$f":"VLOOKUP(J93,'Codes tarifs éco-part'!$C$3:$E$466,3,FALSE)","v":"153"}]
["REP ABJ",3,"21102080000",null,"Articles de bricolage","Outils et supports de travail en hauteur","Assemblage de matériaux avec de l'inerte >50%","Eléments de toutes dimensions et poids","€ / Tonne",75,"75 €/Tonne",{"$f":"VLOOKUP(J94,'Codes tarifs éco-part'!$C$3:$E$466,3,FALSE)","v":"192"}]
["REP ABJ",3,"21102150000",null,"Articles de bricolage","Outils et supports de travail en hauteur","Composites et autres matériaux minéraux reconstitués >50%","Eléments de toutes dimensions et poids","€ / Tonne",75,"75 €/Tonne",{"$f":"VLOOKUP(J95,'Codes tarifs éco-part'!$C$3:$E$466,3,FALSE)","v":"192"}]
["REP ABJ",3,"21102190000",null,"Articles de bricolage","Outils et supports de travail en hauteur","Papier carton >50% avec d'autres matériaux (hors verre)","Eléments de toutes dimensions et poids","€ / Tonne",30,"30 €/Tonne",{"$f":"VLOOKUP(J96,'Codes tarifs éco-part'!$C$3:$E$466,3,FALSE)","v":"153"}]
["REP ABJ",3,"21102200000",null,"Articles de bricolage","Outils et supports de travail en hauteur","Massif et assimilés certifiés >75%","Eléments de toutes dimensions et poids","€ / Tonne",10,"10 €/Tonne",{"$f":"VLOOKUP(J97,'Codes tarifs éco-part'!$C$3:$E$466,3,FALSE)","v":"138"}]
["REP ABJ",3,"21102210000",null,"Articles de bricolage","Outils et supports de travail en hauteur","Massif et assimilés >75%","Eléments de toutes dimensions et poids","€ / Tonne",10,"10 €/Tonne",{"$f":"VLOOKUP(J98,'Codes tarifs éco-part'!$C$3:$E$466,3,FALSE)","v":"138"}]
["REP ABJ",3,"21102250000",null,"Articles de bricolage","Outils et supports de travail en hauteur","Panneaux de particules ou OSB >75%","Eléments de toutes dimensions et poids","€ / Tonne",10,"10 €/Tonne",{"$f":"VLOOKUP(J99,'Codes tarifs éco-part'!$C$3:$E$466,3,FALSE)","v":"138"}]
["REP ABJ",3,"21102280000",null,"Articles de bricolage","Outils et supports de travail en hauteur","Métal >90%","Eléments de toutes dimensions et poids","€ / Tonne",3,"3 €/Tonne",{"$f":"VLOOKUP(J100,'Codes tarifs éco-part'!$C$3:$E$466,3,FALSE)","v":"474"}]
["REP ABJ",3,"21102400000",null,"Articles de bricolage","Outils et supports de travail en hauteur","Assemblage caoutchouc synthétique ou latex >50% avec d'autres matériaux","Eléments de toutes dimensions et poids","€ / Tonne",75,"75 €/Tonne",{"$f":"VLOOKUP(J101,'Codes tarifs éco-part'!$C$3:$E$466,3,FALSE)","v":"192"}]
["REP ABJ",3,"21102410000",null,"Articles de bricolage","Outils et supports de travail en hauteur","Plastiques (mono résine) >90%","Eléments de toutes dimensions et poids","€ / Tonne",50,"50 €/Tonne",{"$f":"VLOOKUP(J102,'Codes tarifs éco-part'!$C$3:$E$466,3,FALSE)","v":"173"}]
["REP ABJ",3,"21102420000",null,"Articles de bricolage","Outils et supports de travail en hauteur","Polyterephtalate d'Ethylène (PET) >90%","Eléments de toutes dimensions et poids","€ / Tonne",50,"50 €/Tonne",{"$f":"VLOOKUP(J103,'Codes tarifs éco-part'!$C$3:$E$466,3,FALSE)","v":"173"}]
["REP ABJ",3,"21102450000",null,"Articles de bricolage","Outils et supports de travail en hauteur","PE ou PP ou mélange PP/PE >90%","Eléments de toutes dimensions et poids","€ / Tonne",50,"50 €/Tonne",{"$f":"VLOOKUP(J104,'Codes tarifs éco-part'!$C$3:$E$466,3,FALSE)","v":"173"}]
["REP ABJ",3,"21102460000",null,"Articles de bricolage","Outils et supports de travail en hauteur","ABS >90%","Eléments de toutes dimensions et poids","€ / Tonne",50,"50 €/Tonne",{"$f":"VLOOKUP(J105,'Codes tarifs éco-part'!$C$3:$E$466,3,FALSE)","v":"173"}]
["REP ABJ",3,"21102470000",null,"Articles de bricolage","Outils et supports de travail en hauteur","Polystyrène >90%","Eléments de toutes dimensions et poids","€ / Tonne",50,"50 €/Tonne",{"$f":"VLOOKUP(J106,'Codes tarifs éco-part'!$C$3:$E$466,3,FALSE)","v":"173"}]
["REP ABJ",3,"21102480000",null,"Articles de bricolage","Outils et supports de travail en hauteur","PVC >90%","Eléments de toutes dimensions et poids","€ / Tonne",50,"50 €/Tonne",{"$f":"VLOOKUP(J107,'Codes tarifs éco-part'!$C$3:$E$466,3,FALSE)","v":"173"}]
["REP ABJ",3,"21102490000",null,"Articles de bricolage","Outils et supports de travail en hauteur","Caoutchouc synthétique >90%","Eléments de toutes dimensions et poids","€ / Tonne",50,"50 €/Tonne",{"$f":"VLOOKUP(J108,'Codes tarifs éco-part'!$C$3:$E$466,3,FALSE)","v":"173"}]
["REP ABJ",3,"21102520000",null,"Articles de bricolage","Outils et supports de travail en hauteur","Massif et assimilés certifiés >90%","Eléments de toutes dimensions et poids","€ / Tonne",10,"10 €/Tonne",{"$f":"VLOOKUP(J109,'Codes tarifs éco-part'!$C$3:$E$466,3,FALSE)","v":"138"}]
["REP ABJ",3,"21102530000",null,"Articles de bricolage","Outils et supports de travail en hauteur","Massif et assimilés >90%","Eléments de toutes dimensions et poids","€ / Tonne",10,"10 €/Tonne",{"$f":"VLOOKUP(J110,'Codes tarifs éco-part'!$C$3:$E$466,3,FALSE)","v":"138"}]
["REP ABJ",3,"21102550000",null,"Articles de bricolage","Outils et supports de travail en hauteur","Matériaux bio sourcés ou textiles non synthétiques >90%","Eléments de toutes dimensions et poids","€ / Tonne",30,"30 €/Tonne",{"$f":"VLOOKUP(J111,'Codes tarifs éco-part'!$C$3:$E$466,3,FALSE)","v":"153"}]
["REP ABJ",3,"21102590000",null,"Articles de bricolage","Outils et supports de travail en hauteur","Panneaux de particules ou OSB certifiés >90%","Eléments de toutes dimensions et poids","€ / Tonne",10,"10 €/Tonne",{"$f":"VLOOKUP(J112,'Codes tarifs éco-part'!$C$3:$E$466,3,FALSE)","v":"138"}]
["REP ABJ",3,"21102600000",null,"Articles de bricolage","Outils et supports de travail en hauteur","Panneaux de particules ou OSB certifiés >75%","Eléments de toutes dimensions et poids","€ / Tonne",10,"10 €/Tonne",{"$f":"VLOOKUP(J113,'Codes tarifs éco-part'!$C$3:$E$466,3,FALSE)","v":"138"}]
["REP ABJ",3,"21102610000",null,"Articles de bricolage","Outils et supports de travail en hauteur","Panneaux de particules ou OSB >90%","Eléments de toutes dimensions et poids","€ / Tonne",10,"10 €/Tonne",{"$f":"VLOOKUP(J114,'Codes tarifs éco-part'!$C$3:$E$466,3,FALSE)","v":"138"}]
["REP ABJ",3,"21102620000",null,"Articles de bricolage","Outils et supports de travail en hauteur","Dérivés de bois >90%","Eléments de toutes dimensions et poids","€ / Tonne",10,"10 €/Tonne",{"$f":"VLOOKUP(J115,'Codes tarifs éco-part'!$C$3:$E$466,3,FALSE)","v":"138"}]
["REP ABJ",3,"21102630000",null,"Articles de bricolage","Outils et supports de travail en hauteur","Caoutchouc naturel >90%","Eléments de toutes dimensions et poids","€ / Tonne",30,"30 €/Tonne",{"$f":"VLOOKUP(J116,'Codes tarifs éco-part'!$C$3:$E$466,3,FALSE)","v":"153"}]
["REP ABJ",3,"21102640000",null,"Articles de bricolage","Outils et supports de travail en hauteur","Caoutchouc naturel >50%","Eléments de toutes dimensions et poids","€ / Tonne",75,"75 €/Tonne",{"$f":"VLOOKUP(J117,'Codes tarifs éco-part'!$C$3:$E$466,3,FALSE)","v":"192"}]
["REP ABJ",3,"21102650000",null,"Articles de bricolage","Outils et supports de travail en hauteur","Matériaux ou fibres synthétiques >90%","Eléments de toutes dimensions et poids","€ / Tonne",50,"50 €/Tonne",{"$f":"VLOOKUP(J118,'Codes tarifs éco-part'!$C$3:$E$466,3,FALSE)","v":"173"}]
["REP ABJ",3,"21102670000",null,"Articles de bricolage","Outils et supports de travail en hauteur","Assemblage matériaux ou fibres synthétiques >50% avec d'autres matériaux","Eléments de toutes dimensions et poids","€ / Tonne",75,"75 €/Tonne",{"$f":"VLOOKUP(J119,'Codes tarifs éco-part'!$C$3:$E$466,3,FALSE)","v":"192"}]
["REP ABJ",3,"21102680000",null,"Articles de bricolage","Outils et supports de travail en hauteur","Verre >90%","Eléments de toutes dimensions et poids","€ / Tonne",5,"5 €/Tonne",{"$f":"VLOOKUP(J120,'Codes tarifs éco-part'!$C$3:$E$466,3,FALSE)","v":"042"}]
["REP ABJ",3,"21102700000",null,"Articles de bricolage","Outils et supports de travail en hauteur","Assemblage verre à plus de 50% avec métal","Eléments de toutes dimensions et poids","€ / Tonne",75,"75 €/Tonne",{"$f":"VLOOKUP(J121,'Codes tarifs éco-part'!$C$3:$E$466,3,FALSE)","v":"192"}]
["REP ABJ",3,"21102710000",null,"Articles de bricolage","Outils et supports de travail en hauteur","Assemblage verre à plus de 50% avec Inerte","Eléments de toutes dimensions et poids","€ / Tonne",75,"75 €/Tonne",{"$f":"VLOOKUP(J122,'Codes tarifs éco-part'!$C$3:$E$466,3,FALSE)","v":"192"}]
["REP ABJ",3,"21102720000",null,"Articles de bricolage","Outils et supports de travail en hauteur","Assemblage verre à plus de 50% avec bois ou dérivés de bois","Eléments de toutes dimensions et poids","€ / Tonne",75,"75 €/Tonne",{"$f":"VLOOKUP(J123,'Codes tarifs éco-part'!$C$3:$E$466,3,FALSE)","v":"192"}]
["REP ABJ",3,"21102730000",null,"Articles de bricolage","Outils et supports de travail en hauteur","Assemblage verre à plus de 50% avec plastique","Eléments de toutes dimensions et poids","€ / Tonne",75,"75 €/Tonne",{"$f":"VLOOKUP(J124,'Codes tarifs éco-part'!$C$3:$E$466,3,FALSE)","v":"192"}]
["REP ABJ",3,"21102740000",null,"Articles de bricolage","Outils et supports de travail en hauteur","Béton >90%","Eléments de toutes dimensions et poids","€ / Tonne",5,"5 €/Tonne",{"$f":"VLOOKUP(J125,'Codes tarifs éco-part'!$C$3:$E$466,3,FALSE)","v":"042"}]
["REP ABJ",3,"21102810000",null,"Articles de bricolage","Outils et supports de travail en hauteur","Assemblage dont la composition conjointe en bois, dérivés de bois et en métal dépasse 90%","Eléments de toutes dimensions et poids","€ / Tonne",10,"10 €/Tonne",{"$f":"VLOOKUP(J126,'Codes tarifs éco-part'!$C$3:$E$466,3,FALSE)","v":"138"}]
["REP ABJ",3,"21102820000",null,"Articles de bricolage","Outils et supports de travail en hauteur","Assemblage de 3 matériaux ou plus sans un matériau à plus de 50%","Eléments de toutes dimensions et poids","€ / Tonne",75,"75 €/Tonne",{"$f":"VLOOKUP(J127,'Codes tarifs éco-part'!$C$3:$E$466,3,FALSE)","v":"192"}]
["REP ABJ",3,"21102840000",null,"Articles de bricolage","Outils et supports de travail en hauteur","Ardoise >90%","Eléments de toutes dimensions et poids","€ / Tonne",5,"5 €/Tonne",{"$f":"VLOOKUP(J128,'Codes tarifs éco-part'!$C$3:$E$466,3,FALSE)","v":"042"}]
["REP ABJ",3,"21102860000",null,"Articles de bricolage","Outils et supports de travail en hauteur","Pierre calcaire >90%","Eléments de toutes dimensions et poids","€ / Tonne",5,"5 €/Tonne",{"$f":"VLOOKUP(J129,'Codes tarifs éco-part'!$C$3:$E$466,3,FALSE)","v":"042"}]
["REP ABJ",3,"21102870000",null,"Articles de bricolage","Outils et supports de travail en hauteur","Lave >90%","Eléments de toutes dimensions et poids","€ / Tonne",5,"5 €/Tonne",{"$f":"VLOOKUP(J130,'Codes tarifs éco-part'!$C$3:$E$466,3,FALSE)","v":"042"}]
["REP ABJ",3,"21102890000",null,"Articles de bricolage","Outils et supports de travail en hauteur","Terre cuite ou crue >90%","Eléments de toutes dimensions et poids","€ / Tonne",5,"5 €/Tonne",{"$f":"VLOOKUP(J131,'Codes tarifs éco-part'!$C$3:$E$466,3,FALSE)","v":"042"}]
["REP ABJ",3,"21102900000",null,"Articles de bricolage","Outils et supports de travail en hauteur","Ciment >90%","Eléments de toutes dimensions et poids","€ / Tonne",5,"5 €/Tonne",{"$f":"VLOOKUP(J132,'Codes tarifs éco-part'!$C$3:$E$466,3,FALSE)","v":"042"}]
["REP ABJ",3,"21102910000",null,"Articles de bricolage","Outils et supports de travail en hauteur","Granit >90%","Eléments de toutes dimensions et poids","€ / Tonne",5,"5 €/Tonne",{"$f":"VLOOKUP(J133,'Codes tarifs éco-part'!$C$3:$E$466,3,FALSE)","v":"042"}]
["REP ABJ",3,"21102940000",null,"Articles de bricolage","Outils et supports de travail en hauteur","Grès >90%","Eléments de toutes dimensions et poids","€ / Tonne",5,"5 €/Tonne",{"$f":"VLOOKUP(J134,'Codes tarifs éco-part'!$C$3:$E$466,3,FALSE)","v":"042"}]
["REP ABJ",3,"21102970000",null,"Articles de bricolage","Outils et supports de travail en hauteur","Céramique >90%","Eléments de toutes dimensions et poids","€ / Tonne",10,"10 €/Tonne",{"$f":"VLOOKUP(J135,'Codes tarifs éco-part'!$C$3:$E$466,3,FALSE)","v":"138"}]
["REP ABJ",3,"21102980000",null,"Articles de bricolage","Outils et supports de travail en hauteur","Pierre artificielle >90%","Eléments de toutes dimensions et poids","€ / Tonne",5,"5 €/Tonne",{"$f":"VLOOKUP(J136,'Codes tarifs éco-part'!$C$3:$E$466,3,FALSE)","v":"042"}]
["REP ABJ",3,"21103000000",null,"Articles de bricolage","Equipement personnel et accessoires de protection de bricolage","Non connu ou non spécifié par l'entreprise","Eléments de toutes dimensions et poids","€ / Tonne",215,"215 €/Tonne",{"$f":"VLOOKUP(J137,'Codes tarifs éco-part'!$C$3:$E$466,3,FALSE)","v":"498"}]
["REP ABJ",3,"21103010000",null,"Articles de bricolage","Equipement personnel et accessoires de protection de bricolage","Assemblage de bois, dérivés de bois à plus de 50% avec d'autres matériaux ou bois composite (hors verre)","Eléments de toutes dimensions et poids","€ / Tonne",45,"45 €/Tonne",{"$f":"VLOOKUP(J138,'Codes tarifs éco-part'!$C$3:$E$466,3,FALSE)","v":"169"}]
["REP ABJ",3,"21103020000",null,"Articles de bricolage","Equipement personnel et accessoires de protection de bricolage","Assemblage avec métal >50% et autres matériaux","Eléments de toutes dimensions et poids","€ / Tonne",10,"10 €/Tonne",{"$f":"VLOOKUP(J139,'Codes tarifs éco-part'!$C$3:$E$466,3,FALSE)","v":"138"}]
["REP ABJ",3,"21103040000",null,"Articles de bricolage","Equipement personnel et accessoires de protection de bricolage","Matériaux bio sourcés ou textiles non synthétiques >50%","Eléments de toutes dimensions et poids","€ / Tonne",215,"215 €/Tonne",{"$f":"VLOOKUP(J140,'Codes tarifs éco-part'!$C$3:$E$466,3,FALSE)","v":"498"}]
["REP ABJ",3,"21103050000",null,"Articles de bricolage","Equipement personnel et accessoires de protection de bricolage","Plastiques ou autres matériaux synthétiques >50%","Eléments de toutes dimensions et poids","€ / Tonne",215,"215 €/Tonne",{"$f":"VLOOKUP(J141,'Codes tarifs éco-part'!$C$3:$E$466,3,FALSE)","v":"498"}]
["REP ABJ",3,"21103060000",null,"Articles de bricolage","Equipement personnel et accessoires de protection de bricolage","Matériaux d'origine animale >50%","Eléments de toutes dimensions et poids","€ / Tonne",215,"215 €/Tonne",{"$f":"VLOOKUP(J142,'Codes tarifs éco-part'!$C$3:$E$466,3,FALSE)","v":"498"}]
["REP ABJ",3,"21103190000",null,"Articles de bricolage","Equipement personnel et accessoires de protection de bricolage","Papier carton >50% avec d'autres matériaux (hors verre)","Eléments de toutes dimensions et poids","€ / Tonne",215,"215 €/Tonne",{"$f":"VLOOKUP(J143,'Codes tarifs éco-part'!$C$3:$E$466,3,FALSE)","v":"498"}]
["REP ABJ",3,"21103200000",null,"Articles de bricolage","Equipement personnel et accessoires de protection de bricolage","Massif et assimilés certifiés >75%","Eléments de toutes dimensions et poids","€ / Tonne",45,"45 €/Tonne",{"$f":"VLOOKUP(J144,'Codes tarifs éco-part'!$C$3:$E$466,3,FALSE)","v":"169"}]
["REP ABJ",3,"21103210000",null,"Articles de bricolage","Equipement personnel et accessoires de protection de bricolage","Massif et assimilés >75%","Eléments de toutes dimensions et poids","€ / Tonne",45,"45 €/Tonne",{"$f":"VLOOKUP(J145,'Codes tarifs éco-part'!$C$3:$E$466,3,FALSE)","v":"169"}]
["REP ABJ",3,"21103250000",null,"Articles de bricolage","Equipement personnel et accessoires de protection de bricolage","Panneaux de particules ou OSB >75%","Eléments de toutes dimensions et poids","€ / Tonne",45,"45 €/Tonne",{"$f":"VLOOKUP(J146,'Codes tarifs éco-part'!$C$3:$E$466,3,FALSE)","v":"169"}]
["REP ABJ",3,"21103280000",null,"Articles de bricolage","Equipement personnel et accessoires de protection de bricolage","Métal >90%","Eléments de toutes dimensions et poids","€ / Tonne",10,"10 €/Tonne",{"$f":"VLOOKUP(J147,'Codes tarifs éco-part'!$C$3:$E$466,3,FALSE)","v":"138"}]
["REP ABJ",3,"21103400000",null,"Articles de bricolage","Equipement personnel et accessoires de protection de bricolage","Assemblage caoutchouc synthétique ou latex >50% avec d'autres matériaux","Eléments de toutes dimensions et poids","€ / Tonne",215,"215 €/Tonne",{"$f":"VLOOKUP(J148,'Codes tarifs éco-part'!$C$3:$E$466,3,FALSE)","v":"498"}]
["REP ABJ",3,"21103410000",null,"Articles de bricolage","Equipement personnel et accessoires de protection de bricolage","Plastiques (mono résine) >90%","Eléments de toutes dimensions et poids","€ / Tonne",165,"165 €/Tonne",{"$f":"VLOOKUP(J149,'Codes tarifs éco-part'!$C$3:$E$466,3,FALSE)","v":"496"}]
["REP ABJ",3,"21103420000",null,"Articles de bricolage","Equipement personnel et accessoires de protection de bricolage","Polyterephtalate d'Ethylène (PET) >90%","Eléments de toutes dimensions et poids","€ / Tonne",165,"165 €/Tonne",{"$f":"VLOOKUP(J150,'Codes tarifs éco-part'!$C$3:$E$466,3,FALSE)","v":"496"}]
["REP ABJ",3,"21103450000",null,"Articles de bricolage","Equipement personnel et accessoires de protection de bricolage","PE ou PP ou mélange PP/PE >90%","Eléments de toutes dimensions et poids","€ / Tonne",165,"165 €/Tonne",{"$f":"VLOOKUP(J151,'Codes tarifs éco-part'!$C$3:$E$466,3,FALSE)","v":"496"}]
["REP ABJ",3,"21103460000",null,"Articles de bricolage","Equipement personnel et accessoires de protection de bricolage","ABS >90%","Eléments de toutes dimensions et poids","€ / Tonne",165,"165 €/Tonne",{"$f":"VLOOKUP(J152,'Codes tarifs éco-part'!$C$3:$E$466,3,FALSE)","v":"496"}]
["REP ABJ",3,"21103470000",null,"Articles de bricolage","Equipement personnel et accessoires de protection de bricolage","Polystyrène >90%","Eléments de toutes dimensions et poids","€ / Tonne",165,"165 €/Tonne",{"$f":"VLOOKUP(J153,'Codes tarifs éco-part'!$C$3:$E$466,3,FALSE)","v":"496"}]
["REP ABJ",3,"21103480000",null,"Articles de bricolage","Equipement personnel et accessoires de protection de bricolage","PVC >90%","Eléments de toutes dimensions et poids","€ / Tonne",165,"165 €/Tonne",{"$f":"VLOOKUP(J154,'Codes tarifs éco-part'!$C$3:$E$466,3,FALSE)","v":"496"}]
["REP ABJ",3,"21103490000",null,"Articles de bricolage","Equipement personnel et accessoires de protection de bricolage","Caoutchouc synthétique >90%","Eléments de toutes dimensions et poids","€ / Tonne",165,"165 €/Tonne",{"$f":"VLOOKUP(J155,'Codes tarifs éco-part'!$C$3:$E$466,3,FALSE)","v":"496"}]
["REP ABJ",3,"21103520000",null,"Articles de bricolage","Equipement personnel et accessoires de protection de bricolage","Massif et assimilés certifiés >90%","Eléments de toutes dimensions et poids","€ / Tonne",45,"45 €/Tonne",{"$f":"VLOOKUP(J156,'Codes tarifs éco-part'!$C$3:$E$466,3,FALSE)","v":"169"}]
["REP ABJ",3,"21103530000",null,"Articles de bricolage","Equipement personnel et accessoires de protection de bricolage","Massif et assimilés >90%","Eléments de toutes dimensions et poids","€ / Tonne",45,"45 €/Tonne",{"$f":"VLOOKUP(J157,'Codes tarifs éco-part'!$C$3:$E$466,3,FALSE)","v":"169"}]
["REP ABJ",3,"21103550000",null,"Articles de bricolage","Equipement personnel et accessoires de protection de bricolage","Matériaux bio sourcés ou textiles non synthétiques >90%","Eléments de toutes dimensions et poids","€ / Tonne",50,"50 €/Tonne",{"$f":"VLOOKUP(J158,'Codes tarifs éco-part'!$C$3:$E$466,3,FALSE)","v":"173"}]
["REP ABJ",3,"21103590000",null,"Articles de bricolage","Equipement personnel et accessoires de protection de bricolage","Panneaux de particules ou OSB certifiés >90%","Eléments de toutes dimensions et poids","€ / Tonne",45,"45 €/Tonne",{"$f":"VLOOKUP(J159,'Codes tarifs éco-part'!$C$3:$E$466,3,FALSE)","v":"169"}]
["REP ABJ",3,"21103600000",null,"Articles de bricolage","Equipement personnel et accessoires de protection de bricolage","Panneaux de particules ou OSB certifiés >75%","Eléments de toutes dimensions et poids","€ / Tonne",45,"45 €/Tonne",{"$f":"VLOOKUP(J160,'Codes tarifs éco-part'!$C$3:$E$466,3,FALSE)","v":"169"}]
["REP ABJ",3,"21103610000",null,"Articles de bricolage","Equipement personnel et accessoires de protection de bricolage","Panneaux de particules ou OSB >90%","Eléments de toutes dimensions et poids","€ / Tonne",45,"45 €/Tonne",{"$f":"VLOOKUP(J161,'Codes tarifs éco-part'!$C$3:$E$466,3,FALSE)","v":"169"}]
["REP ABJ",3,"21103620000",null,"Articles de bricolage","Equipement personnel et accessoires de protection de bricolage","Dérivés de bois >90%","Eléments de toutes dimensions et poids","€ / Tonne",45,"45 €/Tonne",{"$f":"VLOOKUP(J162,'Codes tarifs éco-part'!$C$3:$E$466,3,FALSE)","v":"169"}]
["REP ABJ",3,"21103630000",null,"Articles de bricolage","Equipement personnel et accessoires de protection de bricolage","Caoutchouc naturel >90%","Eléments de toutes dimensions et poids","€ / Tonne",50,"50 €/Tonne",{"$f":"VLOOKUP(J163,'Codes tarifs éco-part'!$C$3:$E$466,3,FALSE)","v":"173"}]
["REP ABJ",3,"21103640000",null,"Articles de bricolage","Equipement personnel et accessoires de protection de bricolage","Caoutchouc naturel >50%","Eléments de toutes dimensions et poids","€ / Tonne",215,"215 €/Tonne",{"$f":"VLOOKUP(J164,'Codes tarifs éco-part'!$C$3:$E$466,3,FALSE)","v":"498"}]
["REP ABJ",3,"21103650000",null,"Articles de bricolage","Equipement personnel et accessoires de protection de bricolage","Matériaux ou fibres synthétiques >90%","Eléments de toutes dimensions et poids","€ / Tonne",165,"165 €/Tonne",{"$f":"VLOOKUP(J165,'Codes tarifs éco-part'!$C$3:$E$466,3,FALSE)","v":"496"}]
["REP ABJ",3,"21103670000",null,"Articles de bricolage","Equipement personnel et accessoires de protection de bricolage","Assemblage matériaux ou fibres synthétiques >50% avec d'autres matériaux","Eléments de toutes dimensions et poids","€ / Tonne",215,"215 €/Tonne",{"$f":"VLOOKUP(J166,'Codes tarifs éco-part'!$C$3:$E$466,3,FALSE)","v":"498"}]
["REP ABJ",3,"21103680000",null,"Articles de bricolage","Equipement personnel et accessoires de protection de bricolage","Verre >90%","Eléments de toutes dimensions et poids","€ / Tonne",5,"5 €/Tonne",{"$f":"VLOOKUP(J167,'Codes tarifs éco-part'!$C$3:$E$466,3,FALSE)","v":"042"}]
["REP ABJ",3,"21103700000",null,"Articles de bricolage","Equipement personnel et accessoires de protection de bricolage","Assemblage verre à plus de 50% avec métal","Eléments de toutes dimensions et poids","€ / Tonne",215,"215 €/Tonne",{"$f":"VLOOKUP(J168,'Codes tarifs éco-part'!$C$3:$E$466,3,FALSE)","v":"498"}]
["REP ABJ",3,"21103710000",null,"Articles de bricolage","Equipement personnel et accessoires de protection de bricolage","Assemblage verre à plus de 50% avec Inerte","Eléments de toutes dimensions et poids","€ / Tonne",215,"215 €/Tonne",{"$f":"VLOOKUP(J169,'Codes tarifs éco-part'!$C$3:$E$466,3,FALSE)","v":"498"}]
["REP ABJ",3,"21103720000",null,"Articles de bricolage","Equipement personnel et accessoires de protection de bricolage","Assemblage verre à plus de 50% avec bois ou dérivés de bois","Eléments de toutes dimensions et poids","€ / Tonne",215,"215 €/Tonne",{"$f":"VLOOKUP(J170,'Codes tarifs éco-part'!$C$3:$E$466,3,FALSE)","v":"498"}]
["REP ABJ",3,"21103730000",null,"Articles de bricolage","Equipement personnel et accessoires de protection de bricolage","Assemblage verre à plus de 50% avec plastique","Eléments de toutes dimensions et poids","€ / Tonne",215,"215 €/Tonne",{"$f":"VLOOKUP(J171,'Codes tarifs éco-part'!$C$3:$E$466,3,FALSE)","v":"498"}]
["REP ABJ",3,"21103810000",null,"Articles de bricolage","Equipement personnel et accessoires de protection de bricolage","Assemblage dont la composition conjointe en bois, dérivés de bois et en métal dépasse 90%","Eléments de toutes dimensions et poids","€ / Tonne",45,"45 €/Tonne",{"$f":"VLOOKUP(J172,'Codes tarifs éco-part'!$C$3:$E$466,3,FALSE)","v":"169"}]
["REP ABJ",3,"21103820000",null,"Articles de bricolage","Equipement personnel et accessoires de protection de bricolage","Assemblage de 3 matériaux ou plus sans un matériau à plus de 50%","Eléments de toutes dimensions et poids","€ / Tonne",215,"215 €/Tonne",{"$f":"VLOOKUP(J173,'Codes tarifs éco-part'!$C$3:$E$466,3,FALSE)","v":"498"}]
["REP ABJ",3,"21104000000",null,"Articles de bricolage","Bâches, housses, filets et films de bricolage","Non connu ou non spécifié par l'entreprise","Eléments de toutes dimensions et poids","€ / Tonne",215,"215 €/Tonne",{"$f":"VLOOKUP(J174,'Codes tarifs éco-part'!$C$3:$E$466,3,FALSE)","v":"498"}]
["REP ABJ",3,"21104040000",null,"Articles de bricolage","Bâches, housses, filets et films de bricolage","Matériaux bio sourcés ou textiles non synthétiques >50%","Eléments de toutes dimensions et poids","€ / Tonne",215,"215 €/Tonne",{"$f":"VLOOKUP(J175,'Codes tarifs éco-part'!$C$3:$E$466,3,FALSE)","v":"498"}]
["REP ABJ",3,"21104050000",null,"Articles de bricolage","Bâches, housses, filets et films de bricolage","Plastiques ou autres matériaux synthétiques >50%","Eléments de toutes dimensions et poids","€ / Tonne",215,"215 €/Tonne",{"$f":"VLOOKUP(J176,'Codes tarifs éco-part'!$C$3:$E$466,3,FALSE)","v":"498"}]
["REP ABJ",3,"21104060000",null,"Articles de bricolage","Bâches, housses, filets et films de bricolage","Matériaux d'origine animale >50%","Eléments de toutes dimensions et poids","€ / Tonne",215,"215 €/Tonne",{"$f":"VLOOKUP(J177,'Codes tarifs éco-part'!$C$3:$E$466,3,FALSE)","v":"498"}]
["REP ABJ",3,"21104190000",null,"Articles de bricolage","Bâches, housses, filets et films de bricolage","Papier carton >50% avec d'autres matériaux (hors verre)","Eléments de toutes dimensions et poids","€ / Tonne",215,"215 €/Tonne",{"$f":"VLOOKUP(J178,'Codes tarifs éco-part'!$C$3:$E$466,3,FALSE)","v":"498"}]
["REP ABJ",3,"21104400000",null,"Articles de bricolage","Bâches, housses, filets et films de bricolage","Assemblage caoutchouc synthétique ou latex >50% avec d'autres matériaux","Eléments de toutes dimensions et poids","€ / Tonne",215,"215 €/Tonne",{"$f":"VLOOKUP(J179,'Codes tarifs éco-part'!$C$3:$E$466,3,FALSE)","v":"498"}]
["REP ABJ",3,"21104410000",null,"Articles de bricolage","Bâches, housses, filets et films de bricolage","Plastiques (mono résine) >90%","Eléments de toutes dimensions et poids","€ / Tonne",165,"165 €/Tonne",{"$f":"VLOOKUP(J180,'Codes tarifs éco-part'!$C$3:$E$466,3,FALSE)","v":"496"}]
["REP ABJ",3,"21104420000",null,"Articles de bricolage","Bâches, housses, filets et films de bricolage","Polyterephtalate d'Ethylène (PET) >90%","Eléments de toutes dimensions et poids","€ / Tonne",165,"165 €/Tonne",{"$f":"VLOOKUP(J181,'Codes tarifs éco-part'!$C$3:$E$466,3,FALSE)","v":"496"}]
["REP ABJ",3,"21104450000",null,"Articles de bricolage","Bâches, housses, filets et films de bricolage","PE ou PP ou mélange PP/PE >90%","Eléments de toutes dimensions et poids","€ / Tonne",165,"165 €/Tonne",{"$f":"VLOOKUP(J182,'Codes tarifs éco-part'!$C$3:$E$466,3,FALSE)","v":"496"}]
["REP ABJ",3,"21104460000",null,"Articles de bricolage","Bâches, housses, filets et films de bricolage","ABS >90%","Eléments de toutes dimensions et poids","€ / Tonne",165,"165 €/Tonne",{"$f":"VLOOKUP(J183,'Codes tarifs éco-part'!$C$3:$E$466,3,FALSE)","v":"496"}]
["REP ABJ",3,"21104470000",null,"Articles de bricolage","Bâches, housses, filets et films de bricolage","Polystyrène >90%","Eléments de toutes dimensions et poids","€ / Tonne",165,"165 €/Tonne",{"$f":"VLOOKUP(J184,'Codes tarifs éco-part'!$C$3:$E$466,3,FALSE)","v":"496"}]
["REP ABJ",3,"21104480000",null,"Articles de bricolage","Bâches, housses, filets et films de bricolage","PVC >90%","Eléments de toutes dimensions et poids","€ / Tonne",165,"165 €/Tonne",{"$f":"VLOOKUP(J185,'Codes tarifs éco-part'!$C$3:$E$466,3,FALSE)","v":"496"}]
["REP ABJ",3,"21104490000",null,"Articles de bricolage","Bâches, housses, filets et films de bricolage","Caoutchouc synthétique >90%","Eléments de toutes dimensions et poids","€ / Tonne",165,"165 €/Tonne",{"$f":"VLOOKUP(J186,'Codes tarifs éco-part'!$C$3:$E$466,3,FALSE)","v":"496"}]
["REP ABJ",3,"21104550000",null,"Articles de bricolage","Bâches, housses, filets et films de bricolage","Matériaux bio sourcés ou textiles non synthétiques >90%","Eléments de toutes dimensions et poids","€ / Tonne",50,"50 €/Tonne",{"$f":"VLOOKUP(J187,'Codes tarifs éco-part'!$C$3:$E$466,3,FALSE)","v":"173"}]
["REP ABJ",3,"21104630000",null,"Articles de bricolage","Bâches, housses, filets et films de bricolage","Caoutchouc naturel >90%","Eléments de toutes dimensions et poids","€ / Tonne",50,"50 €/Tonne",{"$f":"VLOOKUP(J188,'Codes tarifs éco-part'!$C$3:$E$466,3,FALSE)","v":"173"}]
["REP ABJ",3,"21104640000",null,"Articles de bricolage","Bâches, housses, filets et films de bricolage","Caoutchouc naturel >50%","Eléments de toutes dimensions et poids","€ / Tonne",215,"215 €/Tonne",{"$f":"VLOOKUP(J189,'Codes tarifs éco-part'!$C$3:$E$466,3,FALSE)","v":"498"}]
["REP ABJ",3,"21104650000",null,"Articles de bricolage","Bâches, housses, filets et films de bricolage","Matériaux ou fibres synthétiques >90%","Eléments de toutes dimensions et poids","€ / Tonne",165,"165 €/Tonne",{"$f":"VLOOKUP(J190,'Codes tarifs éco-part'!$C$3:$E$466,3,FALSE)","v":"496"}]
["REP ABJ",3,"21104670000",null,"Articles de bricolage","Bâches, housses, filets et films de bricolage","Assemblage matériaux ou fibres synthétiques >50% avec d'autres matériaux","Eléments de toutes dimensions et poids","€ / Tonne",215,"215 €/Tonne",{"$f":"VLOOKUP(J191,'Codes tarifs éco-part'!$C$3:$E$466,3,FALSE)","v":"498"}]
["REP ABJ",3,"21104820000",null,"Articles de bricolage","Bâches, housses, filets et films de bricolage","Assemblage de 3 matériaux ou plus sans un matériau à plus de 50%","Eléments de toutes dimensions et poids","€ / Tonne",215,"215 €/Tonne",{"$f":"VLOOKUP(J192,'Codes tarifs éco-part'!$C$3:$E$466,3,FALSE)","v":"498"}]
["REP ABJ",4,"22150000000",null,"Entretien et aménagement du jardin","Outils à main d’entretien du jardin et petits accessoires","Non connu ou non spécifié par l'entreprise","Eléments de toutes dimensions et poids","€ / Tonne",215,"215 €/Tonne",{"$f":"VLOOKUP(J193,'Codes tarifs éco-part'!$C$3:$E$466,3,FALSE)","v":"498"}]
["REP ABJ",4,"22150010000",null,"Entretien et aménagement du jardin","Outils à main d’entretien du jardin et petits accessoires","Assemblage de bois, dérivés de bois à plus de 50% avec d'autres matériaux ou bois composite (hors verre)","Eléments de toutes dimensions et poids","€ / Tonne",45,"45 €/Tonne",{"$f":"VLOOKUP(J194,'Codes tarifs éco-part'!$C$3:$E$466,3,FALSE)","v":"169"}]
["REP ABJ",4,"22150020000",null,"Entretien et aménagement du jardin","Outils à main d’entretien du jardin et petits accessoires","Assemblage avec métal >50% et autres matériaux","Eléments de toutes dimensions et poids","€ / Tonne",10,"10 €/Tonne",{"$f":"VLOOKUP(J195,'Codes tarifs éco-part'!$C$3:$E$466,3,FALSE)","v":"138"}]
["REP ABJ",4,"22150040000",null,"Entretien et aménagement du jardin","Outils à main d’entretien du jardin et petits accessoires","Matériaux bio sourcés ou textiles non synthétiques >50%","Eléments de toutes dimensions et poids","€ / Tonne",215,"215 €/Tonne",{"$f":"VLOOKUP(J196,'Codes tarifs éco-part'!$C$3:$E$466,3,FALSE)","v":"498"}]
["REP ABJ",4,"22150050000",null,"Entretien et aménagement du jardin","Outils à main d’entretien du jardin et petits accessoires","Plastiques ou autres matériaux synthétiques >50%","Eléments de toutes dimensions et poids","€ / Tonne",215,"215 €/Tonne",{"$f":"VLOOKUP(J197,'Codes tarifs éco-part'!$C$3:$E$466,3,FALSE)","v":"498"}]
["REP ABJ",4,"22150060000",null,"Entretien et aménagement du jardin","Outils à main d’entretien du jardin et petits accessoires","Matériaux d'origine animale >50%","Eléments de toutes dimensions et poids","€ / Tonne",215,"215 €/Tonne",{"$f":"VLOOKUP(J198,'Codes tarifs éco-part'!$C$3:$E$466,3,FALSE)","v":"498"}]
["REP ABJ",4,"22150190000",null,"Entretien et aménagement du jardin","Outils à main d’entretien du jardin et petits accessoires","Papier carton >50% avec d'autres matériaux (hors verre)","Eléments de toutes dimensions et poids","€ / Tonne",215,"215 €/Tonne",{"$f":"VLOOKUP(J199,'Codes tarifs éco-part'!$C$3:$E$466,3,FALSE)","v":"498"}]
["REP ABJ",4,"22150200000",null,"Entretien et aménagement du jardin","Outils à main d’entretien du jardin et petits accessoires","Massif et assimilés certifiés >75%","Eléments de toutes dimensions et poids","€ / Tonne",45,"45 €/Tonne",{"$f":"VLOOKUP(J200,'Codes tarifs éco-part'!$C$3:$E$466,3,FALSE)","v":"169"}]
["REP ABJ",4,"22150210000",null,"Entretien et aménagement du jardin","Outils à main d’entretien du jardin et petits accessoires","Massif et assimilés >75%","Eléments de toutes dimensions et poids","€ / Tonne",45,"45 €/Tonne",{"$f":"VLOOKUP(J201,'Codes tarifs éco-part'!$C$3:$E$466,3,FALSE)","v":"169"}]
["REP ABJ",4,"22150250000",null,"Entretien et aménagement du jardin","Outils à main d’entretien du jardin et petits accessoires","Panneaux de particules ou OSB >75%","Eléments de toutes dimensions et poids","€ / Tonne",45,"45 €/Tonne",{"$f":"VLOOKUP(J202,'Codes tarifs éco-part'!$C$3:$E$466,3,FALSE)","v":"169"}]
["REP ABJ",4,"22150280000",null,"Entretien et aménagement du jardin","Outils à main d’entretien du jardin et petits accessoires","Métal >90%","Eléments de toutes dimensions et poids","€ / Tonne",10,"10 €/Tonne",{"$f":"VLOOKUP(J203,'Codes tarifs éco-part'!$C$3:$E$466,3,FALSE)","v":"138"}]
["REP ABJ",4,"22150400000",null,"Entretien et aménagement du jardin","Outils à main d’entretien du jardin et petits accessoires","Assemblage caoutchouc synthétique ou latex >50% avec d'autres matériaux","Eléments de toutes dimensions et poids","€ / Tonne",215,"215 €/Tonne",{"$f":"VLOOKUP(J204,'Codes tarifs éco-part'!$C$3:$E$466,3,FALSE)","v":"498"}]
["REP ABJ",4,"22150410000",null,"Entretien et aménagement du jardin","Outils à main d’entretien du jardin et petits accessoires","Plastiques (mono résine) >90%","Eléments de toutes dimensions et poids","€ / Tonne",165,"165 €/Tonne",{"$f":"VLOOKUP(J205,'Codes tarifs éco-part'!$C$3:$E$466,3,FALSE)","v":"496"}]
["REP ABJ",4,"22150420000",null,"Entretien et aménagement du jardin","Outils à main d’entretien du jardin et petits accessoires","Polyterephtalate d'Ethylène (PET) >90%","Eléments de toutes dimensions et poids","€ / Tonne",165,"165 €/Tonne",{"$f":"VLOOKUP(J206,'Codes tarifs éco-part'!$C$3:$E$466,3,FALSE)","v":"496"}]
["REP ABJ",4,"22150450000",null,"Entretien et aménagement du jardin","Outils à main d’entretien du jardin et petits accessoires","PE ou PP ou mélange PP/PE >90%","Eléments de toutes dimensions et poids","€ / Tonne",165,"165 €/Tonne",{"$f":"VLOOKUP(J207,'Codes tarifs éco-part'!$C$3:$E$466,3,FALSE)","v":"496"}]
["REP ABJ",4,"22150460000",null,"Entretien et aménagement du jardin","Outils à main d’entretien du jardin et petits accessoires","ABS >90%","Eléments de toutes dimensions et poids","€ / Tonne",165,"165 €/Tonne",{"$f":"VLOOKUP(J208,'Codes tarifs éco-part'!$C$3:$E$466,3,FALSE)","v":"496"}]
["REP ABJ",4,"22150470000",null,"Entretien et aménagement du jardin","Outils à main d’entretien du jardin et petits accessoires","Polystyrène >90%","Eléments de toutes dimensions et poids","€ / Tonne",165,"165 €/Tonne",{"$f":"VLOOKUP(J209,'Codes tarifs éco-part'!$C$3:$E$466,3,FALSE)","v":"496"}]
["REP ABJ",4,"22150480000",null,"Entretien et aménagement du jardin","Outils à main d’entretien du jardin et petits accessoires","PVC >90%","Eléments de toutes dimensions et poids","€ / Tonne",165,"165 €/Tonne",{"$f":"VLOOKUP(J210,'Codes tarifs éco-part'!$C$3:$E$466,3,FALSE)","v":"496"}]
["REP ABJ",4,"22150490000",null,"Entretien et aménagement du jardin","Outils à main d’entretien du jardin et petits accessoires","Caoutchouc synthétique >90%","Eléments de toutes dimensions et poids","€ / Tonne",165,"165 €/Tonne",{"$f":"VLOOKUP(J211,'Codes tarifs éco-part'!$C$3:$E$466,3,FALSE)","v":"496"}]
["REP ABJ",4,"22150520000",null,"Entretien et aménagement du jardin","Outils à main d’entretien du jardin et petits accessoires","Massif et assimilés certifiés >90%","Eléments de toutes dimensions et poids","€ / Tonne",45,"45 €/Tonne",{"$f":"VLOOKUP(J212,'Codes tarifs éco-part'!$C$3:$E$466,3,FALSE)","v":"169"}]
["REP ABJ",4,"22150530000",null,"Entretien et aménagement du jardin","Outils à main d’entretien du jardin et petits accessoires","Massif et assimilés >90%","Eléments de toutes dimensions et poids","€ / Tonne",45,"45 €/Tonne",{"$f":"VLOOKUP(J213,'Codes tarifs éco-part'!$C$3:$E$466,3,FALSE)","v":"169"}]
["REP ABJ",4,"22150550000",null,"Entretien et aménagement du jardin","Outils à main d’entretien du jardin et petits accessoires","Matériaux bio sourcés ou textiles non synthétiques >90%","Eléments de toutes dimensions et poids","€ / Tonne",50,"50 €/Tonne",{"$f":"VLOOKUP(J214,'Codes tarifs éco-part'!$C$3:$E$466,3,FALSE)","v":"173"}]
["REP ABJ",4,"22150590000",null,"Entretien et aménagement du jardin","Outils à main d’entretien du jardin et petits accessoires","Panneaux de particules ou OSB certifiés >90%","Eléments de toutes dimensions et poids","€ / Tonne",45,"45 €/Tonne",{"$f":"VLOOKUP(J215,'Codes tarifs éco-part'!$C$3:$E$466,3,FALSE)","v":"169"}]
["REP ABJ",4,"22150600000",null,"Entretien et aménagement du jardin","Outils à main d’entretien du jardin et petits accessoires","Panneaux de particules ou OSB certifiés >75%","Eléments de toutes dimensions et poids","€ / Tonne",45,"45 €/Tonne",{"$f":"VLOOKUP(J216,'Codes tarifs éco-part'!$C$3:$E$466,3,FALSE)","v":"169"}]
["REP ABJ",4,"22150610000",null,"Entretien et aménagement du jardin","Outils à main d’entretien du jardin et petits accessoires","Panneaux de particules ou OSB >90%","Eléments de toutes dimensions et poids","€ / Tonne",45,"45 €/Tonne",{"$f":"VLOOKUP(J217,'Codes tarifs éco-part'!$C$3:$E$466,3,FALSE)","v":"169"}]
["REP ABJ",4,"22150620000",null,"Entretien et aménagement du jardin","Outils à main d’entretien du jardin et petits accessoires","Dérivés de bois >90%","Eléments de toutes dimensions et poids","€ / Tonne",45,"45 €/Tonne",{"$f":"VLOOKUP(J218,'Codes tarifs éco-part'!$C$3:$E$466,3,FALSE)","v":"169"}]
["REP ABJ",4,"22150630000",null,"Entretien et aménagement du jardin","Outils à main d’entretien du jardin et petits accessoires","Caoutchouc naturel >90%","Eléments de toutes dimensions et poids","€ / Tonne",50,"50 €/Tonne",{"$f":"VLOOKUP(J219,'Codes tarifs éco-part'!$C$3:$E$466,3,FALSE)","v":"173"}]
["REP ABJ",4,"22150640000",null,"Entretien et aménagement du jardin","Outils à main d’entretien du jardin et petits accessoires","Caoutchouc naturel >50%","Eléments de toutes dimensions et poids","€ / Tonne",215,"215 €/Tonne",{"$f":"VLOOKUP(J220,'Codes tarifs éco-part'!$C$3:$E$466,3,FALSE)","v":"498"}]
["REP ABJ",4,"22150650000",null,"Entretien et aménagement du jardin","Outils à main d’entretien du jardin et petits accessoires","Matériaux ou fibres synthétiques >90%","Eléments de toutes dimensions et poids","€ / Tonne",165,"165 €/Tonne",{"$f":"VLOOKUP(J221,'Codes tarifs éco-part'!$C$3:$E$466,3,FALSE)","v":"496"}]
["REP ABJ",4,"22150670000",null,"Entretien et aménagement du jardin","Outils à main d’entretien du jardin et petits accessoires","Assemblage matériaux ou fibres synthétiques >50% avec d'autres matériaux","Eléments de toutes dimensions et poids","€ / Tonne",215,"215 €/Tonne",{"$f":"VLOOKUP(J222,'Codes tarifs éco-part'!$C$3:$E$466,3,FALSE)","v":"498"}]
["REP ABJ",4,"22150680000",null,"Entretien et aménagement du jardin","Outils à main d’entretien du jardin et petits accessoires","Verre >90%","Eléments de toutes dimensions et poids","€ / Tonne",5,"5 €/Tonne",{"$f":"VLOOKUP(J223,'Codes tarifs éco-part'!$C$3:$E$466,3,FALSE)","v":"042"}]
["REP ABJ",4,"22150700000",null,"Entretien et aménagement du jardin","Outils à main d’entretien du jardin et petits accessoires","Assemblage verre à plus de 50% avec métal","Eléments de toutes dimensions et poids","€ / Tonne",215,"215 €/Tonne",{"$f":"VLOOKUP(J224,'Codes tarifs éco-part'!$C$3:$E$466,3,FALSE)","v":"498"}]
["REP ABJ",4,"22150710000",null,"Entretien et aménagement du jardin","Outils à main d’entretien du jardin et petits accessoires","Assemblage verre à plus de 50% avec Inerte","Eléments de toutes dimensions et poids","€ / Tonne",215,"215 €/Tonne",{"$f":"VLOOKUP(J225,'Codes tarifs éco-part'!$C$3:$E$466,3,FALSE)","v":"498"}]
["REP ABJ",4,"22150720000",null,"Entretien et aménagement du jardin","Outils à main d’entretien du jardin et petits accessoires","Assemblage verre à plus de 50% avec bois ou dérivés de bois","Eléments de toutes dimensions et poids","€ / Tonne",215,"215 €/Tonne",{"$f":"VLOOKUP(J226,'Codes tarifs éco-part'!$C$3:$E$466,3,FALSE)","v":"498"}]
["REP ABJ",4,"22150730000",null,"Entretien et aménagement du jardin","Outils à main d’entretien du jardin et petits accessoires","Assemblage verre à plus de 50% avec plastique","Eléments de toutes dimensions et poids","€ / Tonne",215,"215 €/Tonne",{"$f":"VLOOKUP(J227,'Codes tarifs éco-part'!$C$3:$E$466,3,FALSE)","v":"498"}]
["REP ABJ",4,"22150810000",null,"Entretien et aménagement du jardin","Outils à main d’entretien du jardin et petits accessoires","Assemblage dont la composition conjointe en bois, dérivés de bois et en métal dépasse 90%","Eléments de toutes dimensions et poids","€ / Tonne",45,"45 €/Tonne",{"$f":"VLOOKUP(J228,'Codes tarifs éco-part'!$C$3:$E$466,3,FALSE)","v":"169"}]
["REP ABJ",4,"22150820000",null,"Entretien et aménagement du jardin","Outils à main d’entretien du jardin et petits accessoires","Assemblage de 3 matériaux ou plus sans un matériau à plus de 50%","Eléments de toutes dimensions et poids","€ / Tonne",215,"215 €/Tonne",{"$f":"VLOOKUP(J229,'Codes tarifs éco-part'!$C$3:$E$466,3,FALSE)","v":"498"}]
["REP ABJ",4,"22151000000",null,"Entretien et aménagement du jardin","Equipement personnel et accessoires de protection de jardinage","Non connu ou non spécifié par l'entreprise","Eléments de toutes dimensions et poids","€ / Tonne",215,"215 €/Tonne",{"$f":"VLOOKUP(J230,'Codes tarifs éco-part'!$C$3:$E$466,3,FALSE)","v":"498"}]
["REP ABJ",4,"22151010000",null,"Entretien et aménagement du jardin","Equipement personnel et accessoires de protection de jardinage","Assemblage de bois, dérivés de bois à plus de 50% avec d'autres matériaux ou bois composite (hors verre)","Eléments de toutes dimensions et poids","€ / Tonne",45,"45 €/Tonne",{"$f":"VLOOKUP(J231,'Codes tarifs éco-part'!$C$3:$E$466,3,FALSE)","v":"169"}]
["REP ABJ",4,"22151020000",null,"Entretien et aménagement du jardin","Equipement personnel et accessoires de protection de jardinage","Assemblage avec métal >50% et autres matériaux","Eléments de toutes dimensions et poids","€ / Tonne",10,"10 €/Tonne",{"$f":"VLOOKUP(J232,'Codes tarifs éco-part'!$C$3:$E$466,3,FALSE)","v":"138"}]
["REP ABJ",4,"22151040000",null,"Entretien et aménagement du jardin","Equipement personnel et accessoires de protection de jardinage","Matériaux bio sourcés ou textiles non synthétiques >50%","Eléments de toutes dimensions et poids","€ / Tonne",215,"215 €/Tonne",{"$f":"VLOOKUP(J233,'Codes tarifs éco-part'!$C$3:$E$466,3,FALSE)","v":"498"}]
["REP ABJ",4,"22151050000",null,"Entretien et aménagement du jardin","Equipement personnel et accessoires de protection de jardinage","Plastiques ou autres matériaux synthétiques >50%","Eléments de toutes dimensions et poids","€ / Tonne",215,"215 €/Tonne",{"$f":"VLOOKUP(J234,'Codes tarifs éco-part'!$C$3:$E$466,3,FALSE)","v":"498"}]
["REP ABJ",4,"22151060000",null,"Entretien et aménagement du jardin","Equipement personnel et accessoires de protection de jardinage","Matériaux d'origine animale >50%","Eléments de toutes dimensions et poids","€ / Tonne",215,"215 €/Tonne",{"$f":"VLOOKUP(J235,'Codes tarifs éco-part'!$C$3:$E$466,3,FALSE)","v":"498"}]
["REP ABJ",4,"22151190000",null,"Entretien et aménagement du jardin","Equipement personnel et accessoires de protection de jardinage","Papier carton >50% avec d'autres matériaux (hors verre)","Eléments de toutes dimensions et poids","€ / Tonne",215,"215 €/Tonne",{"$f":"VLOOKUP(J236,'Codes tarifs éco-part'!$C$3:$E$466,3,FALSE)","v":"498"}]
["REP ABJ",4,"22151200000",null,"Entretien et aménagement du jardin","Equipement personnel et accessoires de protection de jardinage","Massif et assimilés certifiés >75%","Eléments de toutes dimensions et poids","€ / Tonne",45,"45 €/Tonne",{"$f":"VLOOKUP(J237,'Codes tarifs éco-part'!$C$3:$E$466,3,FALSE)","v":"169"}]
["REP ABJ",4,"22151210000",null,"Entretien et aménagement du jardin","Equipement personnel et accessoires de protection de jardinage","Massif et assimilés >75%","Eléments de toutes dimensions et poids","€ / Tonne",45,"45 €/Tonne",{"$f":"VLOOKUP(J238,'Codes tarifs éco-part'!$C$3:$E$466,3,FALSE)","v":"169"}]
["REP ABJ",4,"22151250000",null,"Entretien et aménagement du jardin","Equipement personnel et accessoires de protection de jardinage","Panneaux de particules ou OSB >75%","Eléments de toutes dimensions et poids","€ / Tonne",45,"45 €/Tonne",{"$f":"VLOOKUP(J239,'Codes tarifs éco-part'!$C$3:$E$466,3,FALSE)","v":"169"}]
["REP ABJ",4,"22151280000",null,"Entretien et aménagement du jardin","Equipement personnel et accessoires de protection de jardinage","Métal >90%","Eléments de toutes dimensions et poids","€ / Tonne",10,"10 €/Tonne",{"$f":"VLOOKUP(J240,'Codes tarifs éco-part'!$C$3:$E$466,3,FALSE)","v":"138"}]
["REP ABJ",4,"22151400000",null,"Entretien et aménagement du jardin","Equipement personnel et accessoires de protection de jardinage","Assemblage caoutchouc synthétique ou latex >50% avec d'autres matériaux","Eléments de toutes dimensions et poids","€ / Tonne",215,"215 €/Tonne",{"$f":"VLOOKUP(J241,'Codes tarifs éco-part'!$C$3:$E$466,3,FALSE)","v":"498"}]
["REP ABJ",4,"22151410000",null,"Entretien et aménagement du jardin","Equipement personnel et accessoires de protection de jardinage","Plastiques (mono résine) >90%","Eléments de toutes dimensions et poids","€ / Tonne",165,"165 €/Tonne",{"$f":"VLOOKUP(J242,'Codes tarifs éco-part'!$C$3:$E$466,3,FALSE)","v":"496"}]
["REP ABJ",4,"22151420000",null,"Entretien et aménagement du jardin","Equipement personnel et accessoires de protection de jardinage","Polyterephtalate d'Ethylène (PET) >90%","Eléments de toutes dimensions et poids","€ / Tonne",165,"165 €/Tonne",{"$f":"VLOOKUP(J243,'Codes tarifs éco-part'!$C$3:$E$466,3,FALSE)","v":"496"}]
["REP ABJ",4,"22151450000",null,"Entretien et aménagement du jardin","Equipement personnel et accessoires de protection de jardinage","PE ou PP ou mélange PP/PE >90%","Eléments de toutes dimensions et poids","€ / Tonne",165,"165 €/Tonne",{"$f":"VLOOKUP(J244,'Codes tarifs éco-part'!$C$3:$E$466,3,FALSE)","v":"496"}]
["REP ABJ",4,"22151460000",null,"Entretien et aménagement du jardin","Equipement personnel et accessoires de protection de jardinage","ABS >90%","Eléments de toutes dimensions et poids","€ / Tonne",165,"165 €/Tonne",{"$f":"VLOOKUP(J245,'Codes tarifs éco-part'!$C$3:$E$466,3,FALSE)","v":"496"}]
["REP ABJ",4,"22151470000",null,"Entretien et aménagement du jardin","Equipement personnel et accessoires de protection de jardinage","Polystyrène >90%","Eléments de toutes dimensions et poids","€ / Tonne",165,"165 €/Tonne",{"$f":"VLOOKUP(J246,'Codes tarifs éco-part'!$C$3:$E$466,3,FALSE)","v":"496"}]
["REP ABJ",4,"22151480000",null,"Entretien et aménagement du jardin","Equipement personnel et accessoires de protection de jardinage","PVC >90%","Eléments de toutes dimensions et poids","€ / Tonne",165,"165 €/Tonne",{"$f":"VLOOKUP(J247,'Codes tarifs éco-part'!$C$3:$E$466,3,FALSE)","v":"496"}]
["REP ABJ",4,"22151490000",null,"Entretien et aménagement du jardin","Equipement personnel et accessoires de protection de jardinage","Caoutchouc synthétique >90%","Eléments de toutes dimensions et poids","€ / Tonne",165,"165 €/Tonne",{"$f":"VLOOKUP(J248,'Codes tarifs éco-part'!$C$3:$E$466,3,FALSE)","v":"496"}]
["REP ABJ",4,"22151520000",null,"Entretien et aménagement du jardin","Equipement personnel et accessoires de protection de jardinage","Massif et assimilés certifiés >90%","Eléments de toutes dimensions et poids","€ / Tonne",45,"45 €/Tonne",{"$f":"VLOOKUP(J249,'Codes tarifs éco-part'!$C$3:$E$466,3,FALSE)","v":"169"}]
["REP ABJ",4,"22151530000",null,"Entretien et aménagement du jardin","Equipement personnel et accessoires de protection de jardinage","Massif et assimilés >90%","Eléments de toutes dimensions et poids","€ / Tonne",45,"45 €/Tonne",{"$f":"VLOOKUP(J250,'Codes tarifs éco-part'!$C$3:$E$466,3,FALSE)","v":"169"}]
["REP ABJ",4,"22151550000",null,"Entretien et aménagement du jardin","Equipement personnel et accessoires de protection de jardinage","Matériaux bio sourcés ou textiles non synthétiques >90%","Eléments de toutes dimensions et poids","€ / Tonne",50,"50 €/Tonne",{"$f":"VLOOKUP(J251,'Codes tarifs éco-part'!$C$3:$E$466,3,FALSE)","v":"173"}]
["REP ABJ",4,"22151590000",null,"Entretien et aménagement du jardin","Equipement personnel et accessoires de protection de jardinage","Panneaux de particules ou OSB certifiés >90%","Eléments de toutes dimensions et poids","€ / Tonne",45,"45 €/Tonne",{"$f":"VLOOKUP(J252,'Codes tarifs éco-part'!$C$3:$E$466,3,FALSE)","v":"169"}]
["REP ABJ",4,"22151600000",null,"Entretien et aménagement du jardin","Equipement personnel et accessoires de protection de jardinage","Panneaux de particules ou OSB certifiés >75%","Eléments de toutes dimensions et poids","€ / Tonne",45,"45 €/Tonne",{"$f":"VLOOKUP(J253,'Codes tarifs éco-part'!$C$3:$E$466,3,FALSE)","v":"169"}]
["REP ABJ",4,"22151610000",null,"Entretien et aménagement du jardin","Equipement personnel et accessoires de protection de jardinage","Panneaux de particules ou OSB >90%","Eléments de toutes dimensions et poids","€ / Tonne",45,"45 €/Tonne",{"$f":"VLOOKUP(J254,'Codes tarifs éco-part'!$C$3:$E$466,3,FALSE)","v":"169"}]
["REP ABJ",4,"22151620000",null,"Entretien et aménagement du jardin","Equipement personnel et accessoires de protection de jardinage","Dérivés de bois >90%","Eléments de toutes dimensions et poids","€ / Tonne",45,"45 €/Tonne",{"$f":"VLOOKUP(J255,'Codes tarifs éco-part'!$C$3:$E$466,3,FALSE)","v":"169"}]
["REP ABJ",4,"22151630000",null,"Entretien et aménagement du jardin","Equipement personnel et accessoires de protection de jardinage","Caoutchouc naturel >90%","Eléments de toutes dimensions et poids","€ / Tonne",50,"50 €/Tonne",{"$f":"VLOOKUP(J256,'Codes tarifs éco-part'!$C$3:$E$466,3,FALSE)","v":"173"}]
["REP ABJ",4,"22151640000",null,"Entretien et aménagement du jardin","Equipement personnel et accessoires de protection de jardinage","Caoutchouc naturel >50%","Eléments de toutes dimensions et poids","€ / Tonne",215,"215 €/Tonne",{"$f":"VLOOKUP(J257,'Codes tarifs éco-part'!$C$3:$E$466,3,FALSE)","v":"498"}]
["REP ABJ",4,"22151650000",null,"Entretien et aménagement du jardin","Equipement personnel et accessoires de protection de jardinage","Matériaux ou fibres synthétiques >90%","Eléments de toutes dimensions et poids","€ / Tonne",165,"165 €/Tonne",{"$f":"VLOOKUP(J258,'Codes tarifs éco-part'!$C$3:$E$466,3,FALSE)","v":"496"}]
["REP ABJ",4,"22151670000",null,"Entretien et aménagement du jardin","Equipement personnel et accessoires de protection de jardinage","Assemblage matériaux ou fibres synthétiques >50% avec d'autres matériaux","Eléments de toutes dimensions et poids","€ / Tonne",215,"215 €/Tonne",{"$f":"VLOOKUP(J259,'Codes tarifs éco-part'!$C$3:$E$466,3,FALSE)","v":"498"}]
["REP ABJ",4,"22151680000",null,"Entretien et aménagement du jardin","Equipement personnel et accessoires de protection de jardinage","Verre >90%","Eléments de toutes dimensions et poids","€ / Tonne",5,"5 €/Tonne",{"$f":"VLOOKUP(J260,'Codes tarifs éco-part'!$C$3:$E$466,3,FALSE)","v":"042"}]
["REP ABJ",4,"22151700000",null,"Entretien et aménagement du jardin","Equipement personnel et accessoires de protection de jardinage","Assemblage verre à plus de 50% avec métal","Eléments de toutes dimensions et poids","€ / Tonne",215,"215 €/Tonne",{"$f":"VLOOKUP(J261,'Codes tarifs éco-part'!$C$3:$E$466,3,FALSE)","v":"498"}]
["REP ABJ",4,"22151710000",null,"Entretien et aménagement du jardin","Equipement personnel et accessoires de protection de jardinage","Assemblage verre à plus de 50% avec Inerte","Eléments de toutes dimensions et poids","€ / Tonne",215,"215 €/Tonne",{"$f":"VLOOKUP(J262,'Codes tarifs éco-part'!$C$3:$E$466,3,FALSE)","v":"498"}]
["REP ABJ",4,"22151720000",null,"Entretien et aménagement du jardin","Equipement personnel et accessoires de protection de jardinage","Assemblage verre à plus de 50% avec bois ou dérivés de bois","Eléments de toutes dimensions et poids","€ / Tonne",215,"215 €/Tonne",{"$f":"VLOOKUP(J263,'Codes tarifs éco-part'!$C$3:$E$466,3,FALSE)","v":"498"}]
["REP ABJ",4,"22151730000",null,"Entretien et aménagement du jardin","Equipement personnel et accessoires de protection de jardinage","Assemblage verre à plus de 50% avec plastique","Eléments de toutes dimensions et poids","€ / Tonne",215,"215 €/Tonne",{"$f":"VLOOKUP(J264,'Codes tarifs éco-part'!$C$3:$E$466,3,FALSE)","v":"498"}]
["REP ABJ",4,"22151810000",null,"Entretien et aménagement du jardin","Equipement personnel et accessoires de protection de jardinage","Assemblage dont la composition conjointe en bois, dérivés de bois et en métal dépasse 90%","Eléments de toutes dimensions et poids","€ / Tonne",45,"45 €/Tonne",{"$f":"VLOOKUP(J265,'Codes tarifs éco-part'!$C$3:$E$466,3,FALSE)","v":"169"}]
["REP ABJ",4,"22151820000",null,"Entretien et aménagement du jardin","Equipement personnel et accessoires de protection de jardinage","Assemblage de 3 matériaux ou plus sans un matériau à plus de 50%","Eléments de toutes dimensions et poids","€ / Tonne",215,"215 €/Tonne",{"$f":"VLOOKUP(J266,'Codes tarifs éco-part'!$C$3:$E$466,3,FALSE)","v":"498"}]
["REP ABJ",4,"22152000000",null,"Entretien et aménagement du jardin","Pots de fleur et contenants","Non connu ou non spécifié par l'entreprise","Eléments de toutes dimensions et poids","€ / Tonne",170,"170 €/Tonne",{"$f":"VLOOKUP(J267,'Codes tarifs éco-part'!$C$3:$E$466,3,FALSE)","v":"497"}]
["REP ABJ",4,"22152010000",null,"Entretien et aménagement du jardin","Pots de fleur et contenants","Assemblage de bois, dérivés de bois à plus de 50% avec d'autres matériaux ou bois composite (hors verre)","Eléments de toutes dimensions et poids","€ / Tonne",20,"20 €/Tonne",{"$f":"VLOOKUP(J268,'Codes tarifs éco-part'!$C$3:$E$466,3,FALSE)","v":"148"}]
["REP ABJ",4,"22152020000",null,"Entretien et aménagement du jardin","Pots de fleur et contenants","Assemblage avec métal >50% et autres matériaux","Eléments de toutes dimensions et poids","€ / Tonne",10,"10 €/Tonne",{"$f":"VLOOKUP(J269,'Codes tarifs éco-part'!$C$3:$E$466,3,FALSE)","v":"138"}]
["REP ABJ",4,"22152040000",null,"Entretien et aménagement du jardin","Pots de fleur et contenants","Matériaux bio sourcés ou textiles non synthétiques >50%","Eléments de toutes dimensions et poids","€ / Tonne",170,"170 €/Tonne",{"$f":"VLOOKUP(J270,'Codes tarifs éco-part'!$C$3:$E$466,3,FALSE)","v":"497"}]
["REP ABJ",4,"22152050000",null,"Entretien et aménagement du jardin","Pots de fleur et contenants","Plastiques ou autres matériaux synthétiques >50%","Eléments de toutes dimensions et poids","€ / Tonne",170,"170 €/Tonne",{"$f":"VLOOKUP(J271,'Codes tarifs éco-part'!$C$3:$E$466,3,FALSE)","v":"497"}]
["REP ABJ",4,"22152060000",null,"Entretien et aménagement du jardin","Pots de fleur et contenants","Matériaux d'origine animale >50%","Eléments de toutes dimensions et poids","€ / Tonne",170,"170 €/Tonne",{"$f":"VLOOKUP(J272,'Codes tarifs éco-part'!$C$3:$E$466,3,FALSE)","v":"497"}]
["REP ABJ",4,"22152080000",null,"Entretien et aménagement du jardin","Pots de fleur et contenants","Assemblage de matériaux avec de l'inerte >50%","Eléments de toutes dimensions et poids","€ / Tonne",170,"170 €/Tonne",{"$f":"VLOOKUP(J273,'Codes tarifs éco-part'!$C$3:$E$466,3,FALSE)","v":"497"}]
["REP ABJ",4,"22152150000",null,"Entretien et aménagement du jardin","Pots de fleur et contenants","Composites et autres matériaux minéraux reconstitués >50%","Eléments de toutes dimensions et poids","€ / Tonne",170,"170 €/Tonne",{"$f":"VLOOKUP(J274,'Codes tarifs éco-part'!$C$3:$E$466,3,FALSE)","v":"497"}]
["REP ABJ",4,"22152190000",null,"Entretien et aménagement du jardin","Pots de fleur et contenants","Papier carton >50% avec d'autres matériaux (hors verre)","Eléments de toutes dimensions et poids","€ / Tonne",170,"170 €/Tonne",{"$f":"VLOOKUP(J275,'Codes tarifs éco-part'!$C$3:$E$466,3,FALSE)","v":"497"}]
["REP ABJ",4,"22152200000",null,"Entretien et aménagement du jardin","Pots de fleur et contenants","Massif et assimilés certifiés >75%","Eléments de toutes dimensions et poids","€ / Tonne",20,"20 €/Tonne",{"$f":"VLOOKUP(J276,'Codes tarifs éco-part'!$C$3:$E$466,3,FALSE)","v":"148"}]
["REP ABJ",4,"22152210000",null,"Entretien et aménagement du jardin","Pots de fleur et contenants","Massif et assimilés >75%","Eléments de toutes dimensions et poids","€ / Tonne",20,"20 €/Tonne",{"$f":"VLOOKUP(J277,'Codes tarifs éco-part'!$C$3:$E$466,3,FALSE)","v":"148"}]
["REP ABJ",4,"22152250000",null,"Entretien et aménagement du jardin","Pots de fleur et contenants","Panneaux de particules ou OSB >75%","Eléments de toutes dimensions et poids","€ / Tonne",20,"20 €/Tonne",{"$f":"VLOOKUP(J278,'Codes tarifs éco-part'!$C$3:$E$466,3,FALSE)","v":"148"}]
["REP ABJ",4,"22152280000",null,"Entretien et aménagement du jardin","Pots de fleur et contenants","Métal >90%","Eléments de toutes dimensions et poids","€ / Tonne",10,"10 €/Tonne",{"$f":"VLOOKUP(J279,'Codes tarifs éco-part'!$C$3:$E$466,3,FALSE)","v":"138"}]
["REP ABJ",4,"22152400000",null,"Entretien et aménagement du jardin","Pots de fleur et contenants","Assemblage caoutchouc synthétique ou latex >50% avec d'autres matériaux","Eléments de toutes dimensions et poids","€ / Tonne",170,"170 €/Tonne",{"$f":"VLOOKUP(J280,'Codes tarifs éco-part'!$C$3:$E$466,3,FALSE)","v":"497"}]
["REP ABJ",4,"22152410000",null,"Entretien et aménagement du jardin","Pots de fleur et contenants","Plastiques (mono résine) >90%","Eléments de toutes dimensions et poids","€ / Tonne",130,"130 €/Tonne",{"$f":"VLOOKUP(J281,'Codes tarifs éco-part'!$C$3:$E$466,3,FALSE)","v":"495"}]
["REP ABJ",4,"22152420000",null,"Entretien et aménagement du jardin","Pots de fleur et contenants","Polyterephtalate d'Ethylène (PET) >90%","Eléments de toutes dimensions et poids","€ / Tonne",130,"130 €/Tonne",{"$f":"VLOOKUP(J282,'Codes tarifs éco-part'!$C$3:$E$466,3,FALSE)","v":"495"}]
["REP ABJ",4,"22152450000",null,"Entretien et aménagement du jardin","Pots de fleur et contenants","PE ou PP ou mélange PP/PE >90%","Eléments de toutes dimensions et poids","€ / Tonne",130,"130 €/Tonne",{"$f":"VLOOKUP(J283,'Codes tarifs éco-part'!$C$3:$E$466,3,FALSE)","v":"495"}]
["REP ABJ",4,"22152460000",null,"Entretien et aménagement du jardin","Pots de fleur et contenants","ABS >90%","Eléments de toutes dimensions et poids","€ / Tonne",130,"130 €/Tonne",{"$f":"VLOOKUP(J284,'Codes tarifs éco-part'!$C$3:$E$466,3,FALSE)","v":"495"}]
["REP ABJ",4,"22152470000",null,"Entretien et aménagement du jardin","Pots de fleur et contenants","Polystyrène >90%","Eléments de toutes dimensions et poids","€ / Tonne",130,"130 €/Tonne",{"$f":"VLOOKUP(J285,'Codes tarifs éco-part'!$C$3:$E$466,3,FALSE)","v":"495"}]
["REP ABJ",4,"22152480000",null,"Entretien et aménagement du jardin","Pots de fleur et contenants","PVC >90%","Eléments de toutes dimensions et poids","€ / Tonne",130,"130 €/Tonne",{"$f":"VLOOKUP(J286,'Codes tarifs éco-part'!$C$3:$E$466,3,FALSE)","v":"495"}]
["REP ABJ",4,"22152490000",null,"Entretien et aménagement du jardin","Pots de fleur et contenants","Caoutchouc synthétique >90%","Eléments de toutes dimensions et poids","€ / Tonne",130,"130 €/Tonne",{"$f":"VLOOKUP(J287,'Codes tarifs éco-part'!$C$3:$E$466,3,FALSE)","v":"495"}]
["REP ABJ",4,"22152520000",null,"Entretien et aménagement du jardin","Pots de fleur et contenants","Massif et assimilés certifiés >90%","Eléments de toutes dimensions et poids","€ / Tonne",20,"20 €/Tonne",{"$f":"VLOOKUP(J288,'Codes tarifs éco-part'!$C$3:$E$466,3,FALSE)","v":"148"}]
["REP ABJ",4,"22152530000",null,"Entretien et aménagement du jardin","Pots de fleur et contenants","Massif et assimilés >90%","Eléments de toutes dimensions et poids","€ / Tonne",20,"20 €/Tonne",{"$f":"VLOOKUP(J289,'Codes tarifs éco-part'!$C$3:$E$466,3,FALSE)","v":"148"}]
["REP ABJ",4,"22152550000",null,"Entretien et aménagement du jardin","Pots de fleur et contenants","Matériaux bio sourcés ou textiles non synthétiques >90%","Eléments de toutes dimensions et poids","€ / Tonne",50,"50 €/Tonne",{"$f":"VLOOKUP(J290,'Codes tarifs éco-part'!$C$3:$E$466,3,FALSE)","v":"173"}]
["REP ABJ",4,"22152590000",null,"Entretien et aménagement du jardin","Pots de fleur et contenants","Panneaux de particules ou OSB certifiés >90%","Eléments de toutes dimensions et poids","€ / Tonne",20,"20 €/Tonne",{"$f":"VLOOKUP(J291,'Codes tarifs éco-part'!$C$3:$E$466,3,FALSE)","v":"148"}]
["REP ABJ",4,"22152600000",null,"Entretien et aménagement du jardin","Pots de fleur et contenants","Panneaux de particules ou OSB certifiés >75%","Eléments de toutes dimensions et poids","€ / Tonne",20,"20 €/Tonne",{"$f":"VLOOKUP(J292,'Codes tarifs éco-part'!$C$3:$E$466,3,FALSE)","v":"148"}]
["REP ABJ",4,"22152610000",null,"Entretien et aménagement du jardin","Pots de fleur et contenants","Panneaux de particules ou OSB >90%","Eléments de toutes dimensions et poids","€ / Tonne",20,"20 €/Tonne",{"$f":"VLOOKUP(J293,'Codes tarifs éco-part'!$C$3:$E$466,3,FALSE)","v":"148"}]
["REP ABJ",4,"22152620000",null,"Entretien et aménagement du jardin","Pots de fleur et contenants","Dérivés de bois >90%","Eléments de toutes dimensions et poids","€ / Tonne",20,"20 €/Tonne",{"$f":"VLOOKUP(J294,'Codes tarifs éco-part'!$C$3:$E$466,3,FALSE)","v":"148"}]
["REP ABJ",4,"22152630000",null,"Entretien et aménagement du jardin","Pots de fleur et contenants","Caoutchouc naturel >90%","Eléments de toutes dimensions et poids","€ / Tonne",50,"50 €/Tonne",{"$f":"VLOOKUP(J295,'Codes tarifs éco-part'!$C$3:$E$466,3,FALSE)","v":"173"}]
["REP ABJ",4,"22152640000",null,"Entretien et aménagement du jardin","Pots de fleur et contenants","Caoutchouc naturel >50%","Eléments de toutes dimensions et poids","€ / Tonne",170,"170 €/Tonne",{"$f":"VLOOKUP(J296,'Codes tarifs éco-part'!$C$3:$E$466,3,FALSE)","v":"497"}]
["REP ABJ",4,"22152650000",null,"Entretien et aménagement du jardin","Pots de fleur et contenants","Matériaux ou fibres synthétiques >90%","Eléments de toutes dimensions et poids","€ / Tonne",130,"130 €/Tonne",{"$f":"VLOOKUP(J297,'Codes tarifs éco-part'!$C$3:$E$466,3,FALSE)","v":"495"}]
["REP ABJ",4,"22152670000",null,"Entretien et aménagement du jardin","Pots de fleur et contenants","Assemblage matériaux ou fibres synthétiques >50% avec d'autres matériaux","Eléments de toutes dimensions et poids","€ / Tonne",170,"170 €/Tonne",{"$f":"VLOOKUP(J298,'Codes tarifs éco-part'!$C$3:$E$466,3,FALSE)","v":"497"}]
["REP ABJ",4,"22152680000",null,"Entretien et aménagement du jardin","Pots de fleur et contenants","Verre >90%","Eléments de toutes dimensions et poids","€ / Tonne",5,"5 €/Tonne",{"$f":"VLOOKUP(J299,'Codes tarifs éco-part'!$C$3:$E$466,3,FALSE)","v":"042"}]
["REP ABJ",4,"22152700000",null,"Entretien et aménagement du jardin","Pots de fleur et contenants","Assemblage verre à plus de 50% avec métal","Eléments de toutes dimensions et poids","€ / Tonne",170,"170 €/Tonne",{"$f":"VLOOKUP(J300,'Codes tarifs éco-part'!$C$3:$E$466,3,FALSE)","v":"497"}]
["REP ABJ",4,"22152710000",null,"Entretien et aménagement du jardin","Pots de fleur et contenants","Assemblage verre à plus de 50% avec Inerte","Eléments de toutes dimensions et poids","€ / Tonne",170,"170 €/Tonne",{"$f":"VLOOKUP(J301,'Codes tarifs éco-part'!$C$3:$E$466,3,FALSE)","v":"497"}]
["REP ABJ",4,"22152720000",null,"Entretien et aménagement du jardin","Pots de fleur et contenants","Assemblage verre à plus de 50% avec bois ou dérivés de bois","Eléments de toutes dimensions et poids","€ / Tonne",170,"170 €/Tonne",{"$f":"VLOOKUP(J302,'Codes tarifs éco-part'!$C$3:$E$466,3,FALSE)","v":"497"}]
["REP ABJ",4,"22152730000",null,"Entretien et aménagement du jardin","Pots de fleur et contenants","Assemblage verre à plus de 50% avec plastique","Eléments de toutes dimensions et poids","€ / Tonne",170,"170 €/Tonne",{"$f":"VLOOKUP(J303,'Codes tarifs éco-part'!$C$3:$E$466,3,FALSE)","v":"497"}]
["REP ABJ",4,"22152740000",null,"Entretien et aménagement du jardin","Pots de fleur et contenants","Béton >90%","Eléments de toutes dimensions et poids","€ / Tonne",5,"5 €/Tonne",{"$f":"VLOOKUP(J304,'Codes tarifs éco-part'!$C$3:$E$466,3,FALSE)","v":"042"}]
["REP ABJ",4,"22152810000",null,"Entretien et aménagement du jardin","Pots de fleur et contenants","Assemblage dont la composition conjointe en bois, dérivés de bois et en métal dépasse 90%","Eléments de toutes dimensions et poids","€ / Tonne",20,"20 €/Tonne",{"$f":"VLOOKUP(J305,'Codes tarifs éco-part'!$C$3:$E$466,3,FALSE)","v":"148"}]
["REP ABJ",4,"22152820000",null,"Entretien et aménagement du jardin","Pots de fleur et contenants","Assemblage de 3 matériaux ou plus sans un matériau à plus de 50%","Eléments de toutes dimensions et poids","€ / Tonne",170,"170 €/Tonne",{"$f":"VLOOKUP(J306,'Codes tarifs éco-part'!$C$3:$E$466,3,FALSE)","v":"497"}]
["REP ABJ",4,"22152840000",null,"Entretien et aménagement du jardin","Pots de fleur et contenants","Ardoise >90%","Eléments de toutes dimensions et poids","€ / Tonne",5,"5 €/Tonne",{"$f":"VLOOKUP(J307,'Codes tarifs éco-part'!$C$3:$E$466,3,FALSE)","v":"042"}]
["REP ABJ",4,"22152860000",null,"Entretien et aménagement du jardin","Pots de fleur et contenants","Pierre calcaire >90%","Eléments de toutes dimensions et poids","€ / Tonne",5,"5 €/Tonne",{"$f":"VLOOKUP(J308,'Codes tarifs éco-part'!$C$3:$E$466,3,FALSE)","v":"042"}]
["REP ABJ",4,"22152870000",null,"Entretien et aménagement du jardin","Pots de fleur et contenants","Lave >90%","Eléments de toutes dimensions et poids","€ / Tonne",5,"5 €/Tonne",{"$f":"VLOOKUP(J309,'Codes tarifs éco-part'!$C$3:$E$466,3,FALSE)","v":"042"}]
["REP ABJ",4,"22152890000",null,"Entretien et aménagement du jardin","Pots de fleur et contenants","Terre cuite ou crue >90%","Eléments de toutes dimensions et poids","€ / Tonne",5,"5 €/Tonne",{"$f":"VLOOKUP(J310,'Codes tarifs éco-part'!$C$3:$E$466,3,FALSE)","v":"042"}]
["REP ABJ",4,"22152900000",null,"Entretien et aménagement du jardin","Pots de fleur et contenants","Ciment >90%","Eléments de toutes dimensions et poids","€ / Tonne",5,"5 €/Tonne",{"$f":"VLOOKUP(J311,'Codes tarifs éco-part'!$C$3:$E$466,3,FALSE)","v":"042"}]
["REP ABJ",4,"22152910000",null,"Entretien et aménagement du jardin","Pots de fleur et contenants","Granit >90%","Eléments de toutes dimensions et poids","€ / Tonne",5,"5 €/Tonne",{"$f":"VLOOKUP(J312,'Codes tarifs éco-part'!$C$3:$E$466,3,FALSE)","v":"042"}]
["REP ABJ",4,"22152940000",null,"Entretien et aménagement du jardin","Pots de fleur et contenants","Grès >90%","Eléments de toutes dimensions et poids","€ / Tonne",5,"5 €/Tonne",{"$f":"VLOOKUP(J313,'Codes tarifs éco-part'!$C$3:$E$466,3,FALSE)","v":"042"}]
["REP ABJ",4,"22152970000",null,"Entretien et aménagement du jardin","Pots de fleur et contenants","Céramique >90%","Eléments de toutes dimensions et poids","€ / Tonne",10,"10 €/Tonne",{"$f":"VLOOKUP(J314,'Codes tarifs éco-part'!$C$3:$E$466,3,FALSE)","v":"138"}]
["REP ABJ",4,"22152980000",null,"Entretien et aménagement du jardin","Pots de fleur et contenants","Pierre artificielle >90%","Eléments de toutes dimensions et poids","€ / Tonne",5,"5 €/Tonne",{"$f":"VLOOKUP(J315,'Codes tarifs éco-part'!$C$3:$E$466,3,FALSE)","v":"042"}]
["REP ABJ",4,"22153000000",null,"Entretien et aménagement du jardin","Bâches, housses, filets et films de jardinage","Non connu ou non spécifié par l'entreprise","Eléments de toutes dimensions et poids","€ / Tonne",215,"215 €/Tonne",{"$f":"VLOOKUP(J316,'Codes tarifs éco-part'!$C$3:$E$466,3,FALSE)","v":"498"}]
["REP ABJ",4,"22153040000",null,"Entretien et aménagement du jardin","Bâches, housses, filets et films de jardinage","Matériaux bio sourcés ou textiles non synthétiques >50%","Eléments de toutes dimensions et poids","€ / Tonne",215,"215 €/Tonne",{"$f":"VLOOKUP(J317,'Codes tarifs éco-part'!$C$3:$E$466,3,FALSE)","v":"498"}]
["REP ABJ",4,"22153050000",null,"Entretien et aménagement du jardin","Bâches, housses, filets et films de jardinage","Plastiques ou autres matériaux synthétiques >50%","Eléments de toutes dimensions et poids","€ / Tonne",215,"215 €/Tonne",{"$f":"VLOOKUP(J318,'Codes tarifs éco-part'!$C$3:$E$466,3,FALSE)","v":"498"}]
["REP ABJ",4,"22153060000",null,"Entretien et aménagement du jardin","Bâches, housses, filets et films de jardinage","Matériaux d'origine animale >50%","Eléments de toutes dimensions et poids","€ / Tonne",215,"215 €/Tonne",{"$f":"VLOOKUP(J319,'Codes tarifs éco-part'!$C$3:$E$466,3,FALSE)","v":"498"}]
["REP ABJ",4,"22153190000",null,"Entretien et aménagement du jardin","Bâches, housses, filets et films de jardinage","Papier carton >50% avec d'autres matériaux (hors verre)","Eléments de toutes dimensions et poids","€ / Tonne",215,"215 €/Tonne",{"$f":"VLOOKUP(J320,'Codes tarifs éco-part'!$C$3:$E$466,3,FALSE)","v":"498"}]
["REP ABJ",4,"22153400000",null,"Entretien et aménagement du jardin","Bâches, housses, filets et films de jardinage","Assemblage caoutchouc synthétique ou latex >50% avec d'autres matériaux","Eléments de toutes dimensions et poids","€ / Tonne",215,"215 €/Tonne",{"$f":"VLOOKUP(J321,'Codes tarifs éco-part'!$C$3:$E$466,3,FALSE)","v":"498"}]
["REP ABJ",4,"22153410000",null,"Entretien et aménagement du jardin","Bâches, housses, filets et films de jardinage","Plastiques (mono résine) >90%","Eléments de toutes dimensions et poids","€ / Tonne",165,"165 €/Tonne",{"$f":"VLOOKUP(J322,'Codes tarifs éco-part'!$C$3:$E$466,3,FALSE)","v":"496"}]
["REP ABJ",4,"22153420000",null,"Entretien et aménagement du jardin","Bâches, housses, filets et films de jardinage","Polyterephtalate d'Ethylène (PET) >90%","Eléments de toutes dimensions et poids","€ / Tonne",165,"165 €/Tonne",{"$f":"VLOOKUP(J323,'Codes tarifs éco-part'!$C$3:$E$466,3,FALSE)","v":"496"}]
["REP ABJ",4,"22153450000",null,"Entretien et aménagement du jardin","Bâches, housses, filets et films de jardinage","PE ou PP ou mélange PP/PE >90%","Eléments de toutes dimensions et poids","€ / Tonne",165,"165 €/Tonne",{"$f":"VLOOKUP(J324,'Codes tarifs éco-part'!$C$3:$E$466,3,FALSE)","v":"496"}]
["REP ABJ",4,"22153460000",null,"Entretien et aménagement du jardin","Bâches, housses, filets et films de jardinage","ABS >90%","Eléments de toutes dimensions et poids","€ / Tonne",165,"165 €/Tonne",{"$f":"VLOOKUP(J325,'Codes tarifs éco-part'!$C$3:$E$466,3,FALSE)","v":"496"}]
["REP ABJ",4,"22153470000",null,"Entretien et aménagement du jardin","Bâches, housses, filets et films de jardinage","Polystyrène >90%","Eléments de toutes dimensions et poids","€ / Tonne",165,"165 €/Tonne",{"$f":"VLOOKUP(J326,'Codes tarifs éco-part'!$C$3:$E$466,3,FALSE)","v":"496"}]
["REP ABJ",4,"22153480000",null,"Entretien et aménagement du jardin","Bâches, housses, filets et films de jardinage","PVC >90%","Eléments de toutes dimensions et poids","€ / Tonne",165,"165 €/Tonne",{"$f":"VLOOKUP(J327,'Codes tarifs éco-part'!$C$3:$E$466,3,FALSE)","v":"496"}]
["REP ABJ",4,"22153490000",null,"Entretien et aménagement du jardin","Bâches, housses, filets et films de jardinage","Caoutchouc synthétique >90%","Eléments de toutes dimensions et poids","€ / Tonne",165,"165 €/Tonne",{"$f":"VLOOKUP(J328,'Codes tarifs éco-part'!$C$3:$E$466,3,FALSE)","v":"496"}]
["REP ABJ",4,"22153550000",null,"Entretien et aménagement du jardin","Bâches, housses, filets et films de jardinage","Matériaux bio sourcés ou textiles non synthétiques >90%","Eléments de toutes dimensions et poids","€ / Tonne",50,"50 €/Tonne",{"$f":"VLOOKUP(J329,'Codes tarifs éco-part'!$C$3:$E$466,3,FALSE)","v":"173"}]
["REP ABJ",4,"22153630000",null,"Entretien et aménagement du jardin","Bâches, housses, filets et films de jardinage","Caoutchouc naturel >90%","Eléments de toutes dimensions et poids","€ / Tonne",50,"50 €/Tonne",{"$f":"VLOOKUP(J330,'Codes tarifs éco-part'!$C$3:$E$466,3,FALSE)","v":"173"}]
["REP ABJ",4,"22153640000",null,"Entretien et aménagement du jardin","Bâches, housses, filets et films de jardinage","Caoutchouc naturel >50%","Eléments de toutes dimensions et poids","€ / Tonne",215,"215 €/Tonne",{"$f":"VLOOKUP(J331,'Codes tarifs éco-part'!$C$3:$E$466,3,FALSE)","v":"498"}]
["REP ABJ",4,"22153650000",null,"Entretien et aménagement du jardin","Bâches, housses, filets et films de jardinage","Matériaux ou fibres synthétiques >90%","Eléments de toutes dimensions et poids","€ / Tonne",165,"165 €/Tonne",{"$f":"VLOOKUP(J332,'Codes tarifs éco-part'!$C$3:$E$466,3,FALSE)","v":"496"}]
["REP ABJ",4,"22153670000",null,"Entretien et aménagement du jardin","Bâches, housses, filets et films de jardinage","Assemblage matériaux ou fibres synthétiques >50% avec d'autres matériaux","Eléments de toutes dimensions et poids","€ / Tonne",215,"215 €/Tonne",{"$f":"VLOOKUP(J333,'Codes tarifs éco-part'!$C$3:$E$466,3,FALSE)","v":"498"}]
["REP ABJ",4,"22153820000",null,"Entretien et aménagement du jardin","Bâches, housses, filets et films de jardinage","Assemblage de 3 matériaux ou plus sans un matériau à plus de 50%","Eléments de toutes dimensions et poids","€ / Tonne",215,"215 €/Tonne",{"$f":"VLOOKUP(J334,'Codes tarifs éco-part'!$C$3:$E$466,3,FALSE)","v":"498"}]
["REP ABJ",4,"22154000000",null,"Entretien et aménagement du jardin","Equipements de plein air et leurs accessoires (hors bâches, filets, housses)","Non connu ou non spécifié par l'entreprise","Eléments de toutes dimensions et poids","€ / Tonne",75,"75 €/Tonne",{"$f":"VLOOKUP(J335,'Codes tarifs éco-part'!$C$3:$E$466,3,FALSE)","v":"192"}]
["REP ABJ",4,"22154010000",null,"Entretien et aménagement du jardin","Equipements de plein air et leurs accessoires (hors bâches, filets, housses)","Assemblage de bois, dérivés de bois à plus de 50% avec d'autres matériaux ou bois composite (hors verre)","Eléments de toutes dimensions et poids","€ / Tonne",10,"10 €/Tonne",{"$f":"VLOOKUP(J336,'Codes tarifs éco-part'!$C$3:$E$466,3,FALSE)","v":"138"}]
["REP ABJ",4,"22154020000",null,"Entretien et aménagement du jardin","Equipements de plein air et leurs accessoires (hors bâches, filets, housses)","Assemblage avec métal >50% et autres matériaux","Eléments de toutes dimensions et poids","€ / Tonne",3,"3 €/Tonne",{"$f":"VLOOKUP(J337,'Codes tarifs éco-part'!$C$3:$E$466,3,FALSE)","v":"474"}]
["REP ABJ",4,"22154040000",null,"Entretien et aménagement du jardin","Equipements de plein air et leurs accessoires (hors bâches, filets, housses)","Matériaux bio sourcés ou textiles non synthétiques >50%","Eléments de toutes dimensions et poids","€ / Tonne",30,"30 €/Tonne",{"$f":"VLOOKUP(J338,'Codes tarifs éco-part'!$C$3:$E$466,3,FALSE)","v":"153"}]
["REP ABJ",4,"22154050000",null,"Entretien et aménagement du jardin","Equipements de plein air et leurs accessoires (hors bâches, filets, housses)","Plastiques ou autres matériaux synthétiques >50%","Eléments de toutes dimensions et poids","€ / Tonne",75,"75 €/Tonne",{"$f":"VLOOKUP(J339,'Codes tarifs éco-part'!$C$3:$E$466,3,FALSE)","v":"192"}]
["REP ABJ",4,"22154060000",null,"Entretien et aménagement du jardin","Equipements de plein air et leurs accessoires (hors bâches, filets, housses)","Matériaux d'origine animale >50%","Eléments de toutes dimensions et poids","€ / Tonne",30,"30 €/Tonne",{"$f":"VLOOKUP(J340,'Codes tarifs éco-part'!$C$3:$E$466,3,FALSE)","v":"153"}]
["REP ABJ",4,"22154080000",null,"Entretien et aménagement du jardin","Equipements de plein air et leurs accessoires (hors bâches, filets, housses)","Assemblage de matériaux avec de l'inerte >50%","Eléments de toutes dimensions et poids","€ / Tonne",75,"75 €/Tonne",{"$f":"VLOOKUP(J341,'Codes tarifs éco-part'!$C$3:$E$466,3,FALSE)","v":"192"}]
["REP ABJ",4,"22154150000",null,"Entretien et aménagement du jardin","Equipements de plein air et leurs accessoires (hors bâches, filets, housses)","Composites et autres matériaux minéraux reconstitués >50%","Eléments de toutes dimensions et poids","€ / Tonne",75,"75 €/Tonne",{"$f":"VLOOKUP(J342,'Codes tarifs éco-part'!$C$3:$E$466,3,FALSE)","v":"192"}]
["REP ABJ",4,"22154190000",null,"Entretien et aménagement du jardin","Equipements de plein air et leurs accessoires (hors bâches, filets, housses)","Papier carton >50% avec d'autres matériaux (hors verre)","Eléments de toutes dimensions et poids","€ / Tonne",30,"30 €/Tonne",{"$f":"VLOOKUP(J343,'Codes tarifs éco-part'!$C$3:$E$466,3,FALSE)","v":"153"}]
["REP ABJ",4,"22154200000",null,"Entretien et aménagement du jardin","Equipements de plein air et leurs accessoires (hors bâches, filets, housses)","Massif et assimilés certifiés >75%","Eléments de toutes dimensions et poids","€ / Tonne",10,"10 €/Tonne",{"$f":"VLOOKUP(J344,'Codes tarifs éco-part'!$C$3:$E$466,3,FALSE)","v":"138"}]
["REP ABJ",4,"22154210000",null,"Entretien et aménagement du jardin","Equipements de plein air et leurs accessoires (hors bâches, filets, housses)","Massif et assimilés >75%","Eléments de toutes dimensions et poids","€ / Tonne",10,"10 €/Tonne",{"$f":"VLOOKUP(J345,'Codes tarifs éco-part'!$C$3:$E$466,3,FALSE)","v":"138"}]
["REP ABJ",4,"22154250000",null,"Entretien et aménagement du jardin","Equipements de plein air et leurs accessoires (hors bâches, filets, housses)","Panneaux de particules ou OSB >75%","Eléments de toutes dimensions et poids","€ / Tonne",10,"10 €/Tonne",{"$f":"VLOOKUP(J346,'Codes tarifs éco-part'!$C$3:$E$466,3,FALSE)","v":"138"}]
["REP ABJ",4,"22154280000",null,"Entretien et aménagement du jardin","Equipements de plein air et leurs accessoires (hors bâches, filets, housses)","Métal >90%","Eléments de toutes dimensions et poids","€ / Tonne",3,"3 €/Tonne",{"$f":"VLOOKUP(J347,'Codes tarifs éco-part'!$C$3:$E$466,3,FALSE)","v":"474"}]
["REP ABJ",4,"22154400000",null,"Entretien et aménagement du jardin","Equipements de plein air et leurs accessoires (hors bâches, filets, housses)","Assemblage caoutchouc synthétique ou latex >50% avec d'autres matériaux","Eléments de toutes dimensions et poids","€ / Tonne",75,"75 €/Tonne",{"$f":"VLOOKUP(J348,'Codes tarifs éco-part'!$C$3:$E$466,3,FALSE)","v":"192"}]
["REP ABJ",4,"22154410000",null,"Entretien et aménagement du jardin","Equipements de plein air et leurs accessoires (hors bâches, filets, housses)","Plastiques (mono résine) >90%","Eléments de toutes dimensions et poids","€ / Tonne",50,"50 €/Tonne",{"$f":"VLOOKUP(J349,'Codes tarifs éco-part'!$C$3:$E$466,3,FALSE)","v":"173"}]
["REP ABJ",4,"22154420000",null,"Entretien et aménagement du jardin","Equipements de plein air et leurs accessoires (hors bâches, filets, housses)","Polyterephtalate d'Ethylène (PET) >90%","Eléments de toutes dimensions et poids","€ / Tonne",50,"50 €/Tonne",{"$f":"VLOOKUP(J350,'Codes tarifs éco-part'!$C$3:$E$466,3,FALSE)","v":"173"}]
["REP ABJ",4,"22154450000",null,"Entretien et aménagement du jardin","Equipements de plein air et leurs accessoires (hors bâches, filets, housses)","PE ou PP ou mélange PP/PE >90%","Eléments de toutes dimensions et poids","€ / Tonne",50,"50 €/Tonne",{"$f":"VLOOKUP(J351,'Codes tarifs éco-part'!$C$3:$E$466,3,FALSE)","v":"173"}]
["REP ABJ",4,"22154460000",null,"Entretien et aménagement du jardin","Equipements de plein air et leurs accessoires (hors bâches, filets, housses)","ABS >90%","Eléments de toutes dimensions et poids","€ / Tonne",50,"50 €/Tonne",{"$f":"VLOOKUP(J352,'Codes tarifs éco-part'!$C$3:$E$466,3,FALSE)","v":"173"}]
["REP ABJ",4,"22154470000",null,"Entretien et aménagement du jardin","Equipements de plein air et leurs accessoires (hors bâches, filets, housses)","Polystyrène >90%","Eléments de toutes dimensions et poids","€ / Tonne",50,"50 €/Tonne",{"$f":"VLOOKUP(J353,'Codes tarifs éco-part'!$C$3:$E$466,3,FALSE)","v":"173"}]
["REP ABJ",4,"22154480000",null,"Entretien et aménagement du jardin","Equipements de plein air et leurs accessoires (hors bâches, filets, housses)","PVC >90%","Eléments de toutes dimensions et poids","€ / Tonne",50,"50 €/Tonne",{"$f":"VLOOKUP(J354,'Codes tarifs éco-part'!$C$3:$E$466,3,FALSE)","v":"173"}]
["REP ABJ",4,"22154490000",null,"Entretien et aménagement du jardin","Equipements de plein air et leurs accessoires (hors bâches, filets, housses)","Caoutchouc synthétique >90%","Eléments de toutes dimensions et poids","€ / Tonne",50,"50 €/Tonne",{"$f":"VLOOKUP(J355,'Codes tarifs éco-part'!$C$3:$E$466,3,FALSE)","v":"173"}]
["REP ABJ",4,"22154520000",null,"Entretien et aménagement du jardin","Equipements de plein air et leurs accessoires (hors bâches, filets, housses)","Massif et assimilés certifiés >90%","Eléments de toutes dimensions et poids","€ / Tonne",10,"10 €/Tonne",{"$f":"VLOOKUP(J356,'Codes tarifs éco-part'!$C$3:$E$466,3,FALSE)","v":"138"}]
["REP ABJ",4,"22154530000",null,"Entretien et aménagement du jardin","Equipements de plein air et leurs accessoires (hors bâches, filets, housses)","Massif et assimilés >90%","Eléments de toutes dimensions et poids","€ / Tonne",10,"10 €/Tonne",{"$f":"VLOOKUP(J357,'Codes tarifs éco-part'!$C$3:$E$466,3,FALSE)","v":"138"}]
["REP ABJ",4,"22154550000",null,"Entretien et aménagement du jardin","Equipements de plein air et leurs accessoires (hors bâches, filets, housses)","Matériaux bio sourcés ou textiles non synthétiques >90%","Eléments de toutes dimensions et poids","€ / Tonne",30,"30 €/Tonne",{"$f":"VLOOKUP(J358,'Codes tarifs éco-part'!$C$3:$E$466,3,FALSE)","v":"153"}]
["REP ABJ",4,"22154590000",null,"Entretien et aménagement du jardin","Equipements de plein air et leurs accessoires (hors bâches, filets, housses)","Panneaux de particules ou OSB certifiés >90%","Eléments de toutes dimensions et poids","€ / Tonne",10,"10 €/Tonne",{"$f":"VLOOKUP(J359,'Codes tarifs éco-part'!$C$3:$E$466,3,FALSE)","v":"138"}]
["REP ABJ",4,"22154600000",null,"Entretien et aménagement du jardin","Equipements de plein air et leurs accessoires (hors bâches, filets, housses)","Panneaux de particules ou OSB certifiés >75%","Eléments de toutes dimensions et poids","€ / Tonne",10,"10 €/Tonne",{"$f":"VLOOKUP(J360,'Codes tarifs éco-part'!$C$3:$E$466,3,FALSE)","v":"138"}]
["REP ABJ",4,"22154610000",null,"Entretien et aménagement du jardin","Equipements de plein air et leurs accessoires (hors bâches, filets, housses)","Panneaux de particules ou OSB >90%","Eléments de toutes dimensions et poids","€ / Tonne",10,"10 €/Tonne",{"$f":"VLOOKUP(J361,'Codes tarifs éco-part'!$C$3:$E$466,3,FALSE)","v":"138"}]
["REP ABJ",4,"22154620000",null,"Entretien et aménagement du jardin","Equipements de plein air et leurs accessoires (hors bâches, filets, housses)","Dérivés de bois >90%","Eléments de toutes dimensions et poids","€ / Tonne",10,"10 €/Tonne",{"$f":"VLOOKUP(J362,'Codes tarifs éco-part'!$C$3:$E$466,3,FALSE)","v":"138"}]
["REP ABJ",4,"22154630000",null,"Entretien et aménagement du jardin","Equipements de plein air et leurs accessoires (hors bâches, filets, housses)","Caoutchouc naturel >90%","Eléments de toutes dimensions et poids","€ / Tonne",30,"30 €/Tonne",{"$f":"VLOOKUP(J363,'Codes tarifs éco-part'!$C$3:$E$466,3,FALSE)","v":"153"}]
["REP ABJ",4,"22154640000",null,"Entretien et aménagement du jardin","Equipements de plein air et leurs accessoires (hors bâches, filets, housses)","Caoutchouc naturel >50%","Eléments de toutes dimensions et poids","€ / Tonne",75,"75 €/Tonne",{"$f":"VLOOKUP(J364,'Codes tarifs éco-part'!$C$3:$E$466,3,FALSE)","v":"192"}]
["REP ABJ",4,"22154650000",null,"Entretien et aménagement du jardin","Equipements de plein air et leurs accessoires (hors bâches, filets, housses)","Matériaux ou fibres synthétiques >90%","Eléments de toutes dimensions et poids","€ / Tonne",50,"50 €/Tonne",{"$f":"VLOOKUP(J365,'Codes tarifs éco-part'!$C$3:$E$466,3,FALSE)","v":"173"}]
["REP ABJ",4,"22154670000",null,"Entretien et aménagement du jardin","Equipements de plein air et leurs accessoires (hors bâches, filets, housses)","Assemblage matériaux ou fibres synthétiques >50% avec d'autres matériaux","Eléments de toutes dimensions et poids","€ / Tonne",75,"75 €/Tonne",{"$f":"VLOOKUP(J366,'Codes tarifs éco-part'!$C$3:$E$466,3,FALSE)","v":"192"}]
["REP ABJ",4,"22154680000",null,"Entretien et aménagement du jardin","Equipements de plein air et leurs accessoires (hors bâches, filets, housses)","Verre >90%","Eléments de toutes dimensions et poids","€ / Tonne",5,"5 €/Tonne",{"$f":"VLOOKUP(J367,'Codes tarifs éco-part'!$C$3:$E$466,3,FALSE)","v":"042"}]
["REP ABJ",4,"22154700000",null,"Entretien et aménagement du jardin","Equipements de plein air et leurs accessoires (hors bâches, filets, housses)","Assemblage verre à plus de 50% avec métal","Eléments de toutes dimensions et poids","€ / Tonne",75,"75 €/Tonne",{"$f":"VLOOKUP(J368,'Codes tarifs éco-part'!$C$3:$E$466,3,FALSE)","v":"192"}]
["REP ABJ",4,"22154710000",null,"Entretien et aménagement du jardin","Equipements de plein air et leurs accessoires (hors bâches, filets, housses)","Assemblage verre à plus de 50% avec Inerte","Eléments de toutes dimensions et poids","€ / Tonne",75,"75 €/Tonne",{"$f":"VLOOKUP(J369,'Codes tarifs éco-part'!$C$3:$E$466,3,FALSE)","v":"192"}]
["REP ABJ",4,"22154720000",null,"Entretien et aménagement du jardin","Equipements de plein air et leurs accessoires (hors bâches, filets, housses)","Assemblage verre à plus de 50% avec bois ou dérivés de bois","Eléments de toutes dimensions et poids","€ / Tonne",75,"75 €/Tonne",{"$f":"VLOOKUP(J370,'Codes tarifs éco-part'!$C$3:$E$466,3,FALSE)","v":"192"}]
["REP ABJ",4,"22154730000",null,"Entretien et aménagement du jardin","Equipements de plein air et leurs accessoires (hors bâches, filets, housses)","Assemblage verre à plus de 50% avec plastique","Eléments de toutes dimensions et poids","€ / Tonne",75,"75 €/Tonne",{"$f":"VLOOKUP(J371,'Codes tarifs éco-part'!$C$3:$E$466,3,FALSE)","v":"192"}]
["REP ABJ",4,"22154740000",null,"Entretien et aménagement du jardin","Equipements de plein air et leurs accessoires (hors bâches, filets, housses)","Béton >90%","Eléments de toutes dimensions et poids","€ / Tonne",5,"5 €/Tonne",{"$f":"VLOOKUP(J372,'Codes tarifs éco-part'!$C$3:$E$466,3,FALSE)","v":"042"}]
["REP ABJ",4,"22154810000",null,"Entretien et aménagement du jardin","Equipements de plein air et leurs accessoires (hors bâches, filets, housses)","Assemblage dont la composition conjointe en bois, dérivés de bois et en métal dépasse 90%","Eléments de toutes dimensions et poids","€ / Tonne",10,"10 €/Tonne",{"$f":"VLOOKUP(J373,'Codes tarifs éco-part'!$C$3:$E$466,3,FALSE)","v":"138"}]
["REP ABJ",4,"22154820000",null,"Entretien et aménagement du jardin","Equipements de plein air et leurs accessoires (hors bâches, filets, housses)","Assemblage de 3 matériaux ou plus sans un matériau à plus de 50%","Eléments de toutes dimensions et poids","€ / Tonne",75,"75 €/Tonne",{"$f":"VLOOKUP(J374,'Codes tarifs éco-part'!$C$3:$E$466,3,FALSE)","v":"192"}]
["REP ABJ",4,"22154840000",null,"Entretien et aménagement du jardin","Equipements de plein air et leurs accessoires (hors bâches, filets, housses)","Ardoise >90%","Eléments de toutes dimensions et poids","€ / Tonne",5,"5 €/Tonne",{"$f":"VLOOKUP(J375,'Codes tarifs éco-part'!$C$3:$E$466,3,FALSE)","v":"042"}]
["REP ABJ",4,"22154860000",null,"Entretien et aménagement du jardin","Equipements de plein air et leurs accessoires (hors bâches, filets, housses)","Pierre calcaire >90%","Eléments de toutes dimensions et poids","€ / Tonne",5,"5 €/Tonne",{"$f":"VLOOKUP(J376,'Codes tarifs éco-part'!$C$3:$E$466,3,FALSE)","v":"042"}]
["REP ABJ",4,"22154870000",null,"Entretien et aménagement du jardin","Equipements de plein air et leurs accessoires (hors bâches, filets, housses)","Lave >90%","Eléments de toutes dimensions et poids","€ / Tonne",5,"5 €/Tonne",{"$f":"VLOOKUP(J377,'Codes tarifs éco-part'!$C$3:$E$466,3,FALSE)","v":"042"}]
["REP ABJ",4,"22154890000",null,"Entretien et aménagement du jardin","Equipements de plein air et leurs accessoires (hors bâches, filets, housses)","Terre cuite ou crue >90%","Eléments de toutes dimensions et poids","€ / Tonne",5,"5 €/Tonne",{"$f":"VLOOKUP(J378,'Codes tarifs éco-part'!$C$3:$E$466,3,FALSE)","v":"042"}]
["REP ABJ",4,"22154900000",null,"Entretien et aménagement du jardin","Equipements de plein air et leurs accessoires (hors bâches, filets, housses)","Ciment >90%","Eléments de toutes dimensions et poids","€ / Tonne",5,"5 €/Tonne",{"$f":"VLOOKUP(J379,'Codes tarifs éco-part'!$C$3:$E$466,3,FALSE)","v":"042"}]
["REP ABJ",4,"22154910000",null,"Entretien et aménagement du jardin","Equipements de plein air et leurs accessoires (hors bâches, filets, housses)","Granit >90%","Eléments de toutes dimensions et poids","€ / Tonne",5,"5 €/Tonne",{"$f":"VLOOKUP(J380,'Codes tarifs éco-part'!$C$3:$E$466,3,FALSE)","v":"042"}]
["REP ABJ",4,"22154940000",null,"Entretien et aménagement du jardin","Equipements de plein air et leurs accessoires (hors bâches, filets, housses)","Grès >90%","Eléments de toutes dimensions et poids","€ / Tonne",5,"5 €/Tonne",{"$f":"VLOOKUP(J381,'Codes tarifs éco-part'!$C$3:$E$466,3,FALSE)","v":"042"}]
["REP ABJ",4,"22154970000",null,"Entretien et aménagement du jardin","Equipements de plein air et leurs accessoires (hors bâches, filets, housses)","Céramique >90%","Eléments de toutes dimensions et poids","€ / Tonne",10,"10 €/Tonne",{"$f":"VLOOKUP(J382,'Codes tarifs éco-part'!$C$3:$E$466,3,FALSE)","v":"138"}]
["REP ABJ",4,"22154980000",null,"Entretien et aménagement du jardin","Equipements de plein air et leurs accessoires (hors bâches, filets, housses)","Pierre artificielle >90%","Eléments de toutes dimensions et poids","€ / Tonne",5,"5 €/Tonne",{"$f":"VLOOKUP(J383,'Codes tarifs éco-part'!$C$3:$E$466,3,FALSE)","v":"042"}]
["REP ABJ",4,"22155000000",null,"Entretien et aménagement du jardin","Structures extérieures non-maçonnées","Non connu ou non spécifié par l'entreprise","Eléments de toutes dimensions et poids","€ / Tonne",75,"75 €/Tonne",{"$f":"VLOOKUP(J384,'Codes tarifs éco-part'!$C$3:$E$466,3,FALSE)","v":"192"}]
["REP ABJ",4,"22155010000",null,"Entretien et aménagement du jardin","Structures extérieures non-maçonnées","Assemblage de bois, dérivés de bois à plus de 50% avec d'autres matériaux ou bois composite (hors verre)","Eléments de toutes dimensions et poids","€ / Tonne",10,"10 €/Tonne",{"$f":"VLOOKUP(J385,'Codes tarifs éco-part'!$C$3:$E$466,3,FALSE)","v":"138"}]
["REP ABJ",4,"22155020000",null,"Entretien et aménagement du jardin","Structures extérieures non-maçonnées","Assemblage avec métal >50% et autres matériaux","Eléments de toutes dimensions et poids","€ / Tonne",3,"3 €/Tonne",{"$f":"VLOOKUP(J386,'Codes tarifs éco-part'!$C$3:$E$466,3,FALSE)","v":"474"}]
["REP ABJ",4,"22155040000",null,"Entretien et aménagement du jardin","Structures extérieures non-maçonnées","Matériaux bio sourcés ou textiles non synthétiques >50%","Eléments de toutes dimensions et poids","€ / Tonne",30,"30 €/Tonne",{"$f":"VLOOKUP(J387,'Codes tarifs éco-part'!$C$3:$E$466,3,FALSE)","v":"153"}]
["REP ABJ",4,"22155050000",null,"Entretien et aménagement du jardin","Structures extérieures non-maçonnées","Plastiques ou autres matériaux synthétiques >50%","Eléments de toutes dimensions et poids","€ / Tonne",75,"75 €/Tonne",{"$f":"VLOOKUP(J388,'Codes tarifs éco-part'!$C$3:$E$466,3,FALSE)","v":"192"}]
["REP ABJ",4,"22155060000",null,"Entretien et aménagement du jardin","Structures extérieures non-maçonnées","Matériaux d'origine animale >50%","Eléments de toutes dimensions et poids","€ / Tonne",30,"30 €/Tonne",{"$f":"VLOOKUP(J389,'Codes tarifs éco-part'!$C$3:$E$466,3,FALSE)","v":"153"}]
["REP ABJ",4,"22155080000",null,"Entretien et aménagement du jardin","Structures extérieures non-maçonnées","Assemblage de matériaux avec de l'inerte >50%","Eléments de toutes dimensions et poids","€ / Tonne",75,"75 €/Tonne",{"$f":"VLOOKUP(J390,'Codes tarifs éco-part'!$C$3:$E$466,3,FALSE)","v":"192"}]
["REP ABJ",4,"22155150000",null,"Entretien et aménagement du jardin","Structures extérieures non-maçonnées","Composites et autres matériaux minéraux reconstitués >50%","Eléments de toutes dimensions et poids","€ / Tonne",75,"75 €/Tonne",{"$f":"VLOOKUP(J391,'Codes tarifs éco-part'!$C$3:$E$466,3,FALSE)","v":"192"}]
["REP ABJ",4,"22155190000",null,"Entretien et aménagement du jardin","Structures extérieures non-maçonnées","Papier carton >50% avec d'autres matériaux (hors verre)","Eléments de toutes dimensions et poids","€ / Tonne",30,"30 €/Tonne",{"$f":"VLOOKUP(J392,'Codes tarifs éco-part'!$C$3:$E$466,3,FALSE)","v":"153"}]
["REP ABJ",4,"22155200000",null,"Entretien et aménagement du jardin","Structures extérieures non-maçonnées","Massif et assimilés certifiés >75%","Eléments de toutes dimensions et poids","€ / Tonne",10,"10 €/Tonne",{"$f":"VLOOKUP(J393,'Codes tarifs éco-part'!$C$3:$E$466,3,FALSE)","v":"138"}]
["REP ABJ",4,"22155210000",null,"Entretien et aménagement du jardin","Structures extérieures non-maçonnées","Massif et assimilés >75%","Eléments de toutes dimensions et poids","€ / Tonne",10,"10 €/Tonne",{"$f":"VLOOKUP(J394,'Codes tarifs éco-part'!$C$3:$E$466,3,FALSE)","v":"138"}]
["REP ABJ",4,"22155250000",null,"Entretien et aménagement du jardin","Structures extérieures non-maçonnées","Panneaux de particules ou OSB >75%","Eléments de toutes dimensions et poids","€ / Tonne",10,"10 €/Tonne",{"$f":"VLOOKUP(J395,'Codes tarifs éco-part'!$C$3:$E$466,3,FALSE)","v":"138"}]
["REP ABJ",4,"22155280000",null,"Entretien et aménagement du jardin","Structures extérieures non-maçonnées","Métal >90%","Eléments de toutes dimensions et poids","€ / Tonne",3,"3 €/Tonne",{"$f":"VLOOKUP(J396,'Codes tarifs éco-part'!$C$3:$E$466,3,FALSE)","v":"474"}]
["REP ABJ",4,"22155400000",null,"Entretien et aménagement du jardin","Structures extérieures non-maçonnées","Assemblage caoutchouc synthétique ou latex >50% avec d'autres matériaux","Eléments de toutes dimensions et poids","€ / Tonne",75,"75 €/Tonne",{"$f":"VLOOKUP(J397,'Codes tarifs éco-part'!$C$3:$E$466,3,FALSE)","v":"192"}]
["REP ABJ",4,"22155410000",null,"Entretien et aménagement du jardin","Structures extérieures non-maçonnées","Plastiques (mono résine) >90%","Eléments de toutes dimensions et poids","€ / Tonne",50,"50 €/Tonne",{"$f":"VLOOKUP(J398,'Codes tarifs éco-part'!$C$3:$E$466,3,FALSE)","v":"173"}]
["REP ABJ",4,"22155420000",null,"Entretien et aménagement du jardin","Structures extérieures non-maçonnées","Polyterephtalate d'Ethylène (PET) >90%","Eléments de toutes dimensions et poids","€ / Tonne",50,"50 €/Tonne",{"$f":"VLOOKUP(J399,'Codes tarifs éco-part'!$C$3:$E$466,3,FALSE)","v":"173"}]
["REP ABJ",4,"22155450000",null,"Entretien et aménagement du jardin","Structures extérieures non-maçonnées","PE ou PP ou mélange PP/PE >90%","Eléments de toutes dimensions et poids","€ / Tonne",50,"50 €/Tonne",{"$f":"VLOOKUP(J400,'Codes tarifs éco-part'!$C$3:$E$466,3,FALSE)","v":"173"}]
["REP ABJ",4,"22155460000",null,"Entretien et aménagement du jardin","Structures extérieures non-maçonnées","ABS >90%","Eléments de toutes dimensions et poids","€ / Tonne",50,"50 €/Tonne",{"$f":"VLOOKUP(J401,'Codes tarifs éco-part'!$C$3:$E$466,3,FALSE)","v":"173"}]
["REP ABJ",4,"22155470000",null,"Entretien et aménagement du jardin","Structures extérieures non-maçonnées","Polystyrène >90%","Eléments de toutes dimensions et poids","€ / Tonne",50,"50 €/Tonne",{"$f":"VLOOKUP(J402,'Codes tarifs éco-part'!$C$3:$E$466,3,FALSE)","v":"173"}]
["REP ABJ",4,"22155480000",null,"Entretien et aménagement du jardin","Structures extérieures non-maçonnées","PVC >90%","Eléments de toutes dimensions et poids","€ / Tonne",50,"50 €/Tonne",{"$f":"VLOOKUP(J403,'Codes tarifs éco-part'!$C$3:$E$466,3,FALSE)","v":"173"}]
["REP ABJ",4,"22155490000",null,"Entretien et aménagement du jardin","Structures extérieures non-maçonnées","Caoutchouc synthétique >90%","Eléments de toutes dimensions et poids","€ / Tonne",50,"50 €/Tonne",{"$f":"VLOOKUP(J404,'Codes tarifs éco-part'!$C$3:$E$466,3,FALSE)","v":"173"}]
["REP ABJ",4,"22155520000",null,"Entretien et aménagement du jardin","Structures extérieures non-maçonnées","Massif et assimilés certifiés >90%","Eléments de toutes dimensions et poids","€ / Tonne",10,"10 €/Tonne",{"$f":"VLOOKUP(J405,'Codes tarifs éco-part'!$C$3:$E$466,3,FALSE)","v":"138"}]
["REP ABJ",4,"22155530000",null,"Entretien et aménagement du jardin","Structures extérieures non-maçonnées","Massif et assimilés >90%","Eléments de toutes dimensions et poids","€ / Tonne",10,"10 €/Tonne",{"$f":"VLOOKUP(J406,'Codes tarifs éco-part'!$C$3:$E$466,3,FALSE)","v":"138"}]
["REP ABJ",4,"22155550000",null,"Entretien et aménagement du jardin","Structures extérieures non-maçonnées","Matériaux bio sourcés ou textiles non synthétiques >90%","Eléments de toutes dimensions et poids","€ / Tonne",30,"30 €/Tonne",{"$f":"VLOOKUP(J407,'Codes tarifs éco-part'!$C$3:$E$466,3,FALSE)","v":"153"}]
["REP ABJ",4,"22155590000",null,"Entretien et aménagement du jardin","Structures extérieures non-maçonnées","Panneaux de particules ou OSB certifiés >90%","Eléments de toutes dimensions et poids","€ / Tonne",10,"10 €/Tonne",{"$f":"VLOOKUP(J408,'Codes tarifs éco-part'!$C$3:$E$466,3,FALSE)","v":"138"}]
["REP ABJ",4,"22155600000",null,"Entretien et aménagement du jardin","Structures extérieures non-maçonnées","Panneaux de particules ou OSB certifiés >75%","Eléments de toutes dimensions et poids","€ / Tonne",10,"10 €/Tonne",{"$f":"VLOOKUP(J409,'Codes tarifs éco-part'!$C$3:$E$466,3,FALSE)","v":"138"}]
["REP ABJ",4,"22155610000",null,"Entretien et aménagement du jardin","Structures extérieures non-maçonnées","Panneaux de particules ou OSB >90%","Eléments de toutes dimensions et poids","€ / Tonne",10,"10 €/Tonne",{"$f":"VLOOKUP(J410,'Codes tarifs éco-part'!$C$3:$E$466,3,FALSE)","v":"138"}]
["REP ABJ",4,"22155620000",null,"Entretien et aménagement du jardin","Structures extérieures non-maçonnées","Dérivés de bois >90%","Eléments de toutes dimensions et poids","€ / Tonne",10,"10 €/Tonne",{"$f":"VLOOKUP(J411,'Codes tarifs éco-part'!$C$3:$E$466,3,FALSE)","v":"138"}]
["REP ABJ",4,"22155630000",null,"Entretien et aménagement du jardin","Structures extérieures non-maçonnées","Caoutchouc naturel >90%","Eléments de toutes dimensions et poids","€ / Tonne",30,"30 €/Tonne",{"$f":"VLOOKUP(J412,'Codes tarifs éco-part'!$C$3:$E$466,3,FALSE)","v":"153"}]
["REP ABJ",4,"22155640000",null,"Entretien et aménagement du jardin","Structures extérieures non-maçonnées","Caoutchouc naturel >50%","Eléments de toutes dimensions et poids","€ / Tonne",75,"75 €/Tonne",{"$f":"VLOOKUP(J413,'Codes tarifs éco-part'!$C$3:$E$466,3,FALSE)","v":"192"}]
["REP ABJ",4,"22155650000",null,"Entretien et aménagement du jardin","Structures extérieures non-maçonnées","Matériaux ou fibres synthétiques >90%","Eléments de toutes dimensions et poids","€ / Tonne",50,"50 €/Tonne",{"$f":"VLOOKUP(J414,'Codes tarifs éco-part'!$C$3:$E$466,3,FALSE)","v":"173"}]
["REP ABJ",4,"22155670000",null,"Entretien et aménagement du jardin","Structures extérieures non-maçonnées","Assemblage matériaux ou fibres synthétiques >50% avec d'autres matériaux","Eléments de toutes dimensions et poids","€ / Tonne",75,"75 €/Tonne",{"$f":"VLOOKUP(J415,'Codes tarifs éco-part'!$C$3:$E$466,3,FALSE)","v":"192"}]
["REP ABJ",4,"22155680000",null,"Entretien et aménagement du jardin","Structures extérieures non-maçonnées","Verre >90%","Eléments de toutes dimensions et poids","€ / Tonne",5,"5 €/Tonne",{"$f":"VLOOKUP(J416,'Codes tarifs éco-part'!$C$3:$E$466,3,FALSE)","v":"042"}]
["REP ABJ",4,"22155700000",null,"Entretien et aménagement du jardin","Structures extérieures non-maçonnées","Assemblage verre à plus de 50% avec métal","Eléments de toutes dimensions et poids","€ / Tonne",75,"75 €/Tonne",{"$f":"VLOOKUP(J417,'Codes tarifs éco-part'!$C$3:$E$466,3,FALSE)","v":"192"}]
["REP ABJ",4,"22155710000",null,"Entretien et aménagement du jardin","Structures extérieures non-maçonnées","Assemblage verre à plus de 50% avec Inerte","Eléments de toutes dimensions et poids","€ / Tonne",75,"75 €/Tonne",{"$f":"VLOOKUP(J418,'Codes tarifs éco-part'!$C$3:$E$466,3,FALSE)","v":"192"}]
["REP ABJ",4,"22155720000",null,"Entretien et aménagement du jardin","Structures extérieures non-maçonnées","Assemblage verre à plus de 50% avec bois ou dérivés de bois","Eléments de toutes dimensions et poids","€ / Tonne",75,"75 €/Tonne",{"$f":"VLOOKUP(J419,'Codes tarifs éco-part'!$C$3:$E$466,3,FALSE)","v":"192"}]
["REP ABJ",4,"22155730000",null,"Entretien et aménagement du jardin","Structures extérieures non-maçonnées","Assemblage verre à plus de 50% avec plastique","Eléments de toutes dimensions et poids","€ / Tonne",75,"75 €/Tonne",{"$f":"VLOOKUP(J420,'Codes tarifs éco-part'!$C$3:$E$466,3,FALSE)","v":"192"}]
["REP ABJ",4,"22155740000",null,"Entretien et aménagement du jardin","Structures extérieures non-maçonnées","Béton >90%","Eléments de toutes dimensions et poids","€ / Tonne",5,"5 €/Tonne",{"$f":"VLOOKUP(J421,'Codes tarifs éco-part'!$C$3:$E$466,3,FALSE)","v":"042"}]
["REP ABJ",4,"22155810000",null,"Entretien et aménagement du jardin","Structures extérieures non-maçonnées","Assemblage dont la composition conjointe en bois, dérivés de bois et en métal dépasse 90%","Eléments de toutes dimensions et poids","€ / Tonne",10,"10 €/Tonne",{"$f":"VLOOKUP(J422,'Codes tarifs éco-part'!$C$3:$E$466,3,FALSE)","v":"138"}]
["REP ABJ",4,"22155820000",null,"Entretien et aménagement du jardin","Structures extérieures non-maçonnées","Assemblage de 3 matériaux ou plus sans un matériau à plus de 50%","Eléments de toutes dimensions et poids","€ / Tonne",75,"75 €/Tonne",{"$f":"VLOOKUP(J423,'Codes tarifs éco-part'!$C$3:$E$466,3,FALSE)","v":"192"}]
["REP ABJ",4,"22155840000",null,"Entretien et aménagement du jardin","Structures extérieures non-maçonnées","Ardoise >90%","Eléments de toutes dimensions et poids","€ / Tonne",5,"5 €/Tonne",{"$f":"VLOOKUP(J424,'Codes tarifs éco-part'!$C$3:$E$466,3,FALSE)","v":"042"}]
["REP ABJ",4,"22155860000",null,"Entretien et aménagement du jardin","Structures extérieures non-maçonnées","Pierre calcaire >90%","Eléments de toutes dimensions et poids","€ / Tonne",5,"5 €/Tonne",{"$f":"VLOOKUP(J425,'Codes tarifs éco-part'!$C$3:$E$466,3,FALSE)","v":"042"}]
["REP ABJ",4,"22155870000",null,"Entretien et aménagement du jardin","Structures extérieures non-maçonnées","Lave >90%","Eléments de toutes dimensions et poids","€ / Tonne",5,"5 €/Tonne",{"$f":"VLOOKUP(J426,'Codes tarifs éco-part'!$C$3:$E$466,3,FALSE)","v":"042"}]
["REP ABJ",4,"22155890000",null,"Entretien et aménagement du jardin","Structures extérieures non-maçonnées","Terre cuite ou crue >90%","Eléments de toutes dimensions et poids","€ / Tonne",5,"5 €/Tonne",{"$f":"VLOOKUP(J427,'Codes tarifs éco-part'!$C$3:$E$466,3,FALSE)","v":"042"}]
["REP ABJ",4,"22155900000",null,"Entretien et aménagement du jardin","Structures extérieures non-maçonnées","Ciment >90%","Eléments de toutes dimensions et poids","€ / Tonne",5,"5 €/Tonne",{"$f":"VLOOKUP(J428,'Codes tarifs éco-part'!$C$3:$E$466,3,FALSE)","v":"042"}]
["REP ABJ",4,"22155910000",null,"Entretien et aménagement du jardin","Structures extérieures non-maçonnées","Granit >90%","Eléments de toutes dimensions et poids","€ / Tonne",5,"5 €/Tonne",{"$f":"VLOOKUP(J429,'Codes tarifs éco-part'!$C$3:$E$466,3,FALSE)","v":"042"}]
["REP ABJ",4,"22155940000",null,"Entretien et aménagement du jardin","Structures extérieures non-maçonnées","Grès >90%","Eléments de toutes dimensions et poids","€ / Tonne",5,"5 €/Tonne",{"$f":"VLOOKUP(J430,'Codes tarifs éco-part'!$C$3:$E$466,3,FALSE)","v":"042"}]
["REP ABJ",4,"22155970000",null,"Entretien et aménagement du jardin","Structures extérieures non-maçonnées","Céramique >90%","Eléments de toutes dimensions et poids","€ / Tonne",10,"10 €/Tonne",{"$f":"VLOOKUP(J431,'Codes tarifs éco-part'!$C$3:$E$466,3,FALSE)","v":"138"}]
["REP ABJ",4,"22155980000",null,"Entretien et aménagement du jardin","Structures extérieures non-maçonnées","Pierre artificielle >90%","Eléments de toutes dimensions et poids","€ / Tonne",5,"5 €/Tonne",{"$f":"VLOOKUP(J432,'Codes tarifs éco-part'!$C$3:$E$466,3,FALSE)","v":"042"}]
["REP PMCB",1,"40300850000","16 10 00 00","Matériaux primaires de construction","Granulats","Granulats hors pierre >90%","Eléments de toutes dimensions et poids","€ / Tonne",0.22,"0,22 €/Tonne",{"$f":"VLOOKUP(J433,'Codes tarifs éco-part'!$C$3:$E$466,3,FALSE)","v":"263"}]
["REP PMCB",1,"40301860000","13 01 00 00","Matériaux primaires de construction","Pierre de construction, granit, grès et lave","Pierre calcaire >90%","Eléments de toutes dimensions et poids","€ / Tonne",0.7,"0,7 €/Tonne",{"$f":"VLOOKUP(J434,'Codes tarifs éco-part'!$C$3:$E$466,3,FALSE)","v":"282"}]
["REP PMCB",1,"40302890000","18 04 00 00 | 18 03 00 00 | 18 02 00 00 | 18 01 00 00","Matériaux primaires de construction","Terre crue et éléments en terre cuite","Terre cuite ou crue >90%","Eléments de toutes dimensions et poids","€ / Tonne",0.75,"0,75 €/Tonne",{"$f":"VLOOKUP(J435,'Codes tarifs éco-part'!$C$3:$E$466,3,FALSE)","v":"328"}]
["REP PMCB",1,"40303900000","12 03 00 00","Matériaux primaires de construction","Ciments et chaux","Ciment >90%","Eléments de toutes dimensions et poids","€ / Tonne",5.7,"5,7 €/Tonne",{"$f":"VLOOKUP(J436,'Codes tarifs éco-part'!$C$3:$E$466,3,FALSE)","v":"480"}]
["REP PMCB",1,"40303950000","14 10 00 00","Matériaux primaires de construction","Ciments et chaux","Chaux >90%","Eléments de toutes dimensions et poids","€ / Tonne",5.14,"5,14 €/Tonne",{"$f":"VLOOKUP(J437,'Codes tarifs éco-part'!$C$3:$E$466,3,FALSE)","v":"479"}]
["REP PMCB",2,"40304000000","-","Matériaux primaires de construction","Mortier, béton, éléments en béton, y.c. biosourcés","Non connu ou non spécifié par l'entreprise","Eléments de toutes dimensions et poids","€ / Tonne",30,"30 €/Tonne",{"$f":"VLOOKUP(J438,'Codes tarifs éco-part'!$C$3:$E$466,3,FALSE)","v":"153"}]
["REP PMCB",2,"40304550000","-","Matériaux primaires de construction","Mortier, béton, éléments en béton, y.c. biosourcés","Matériaux bio sourcés ou textiles non synthétiques >90%","Eléments de toutes dimensions et poids","€ / Tonne",4,"4 €/Tonne",{"$f":"VLOOKUP(J439,'Codes tarifs éco-part'!$C$3:$E$466,3,FALSE)","v":"274"}]
["REP PMCB",1,"40304740000","12 22 00 00 | 12 11 20 00","Matériaux primaires de construction","Mortier, béton, éléments en béton, y.c. biosourcés","Béton >90%","Eléments de toutes dimensions et poids","€ / Tonne",0.66,"0,66 €/Tonne",{"$f":"VLOOKUP(J440,'Codes tarifs éco-part'!$C$3:$E$466,3,FALSE)","v":"453"}]
["REP PMCB",1,"40304746010","12 01 10 00","Matériaux primaires de construction","Mortier, béton, éléments en béton, y.c. biosourcés","Béton >90%","Béton prêt à l'emploi >90%","€ / m3",1.68,"1,68 €/m3",{"$f":"VLOOKUP(J441,'Codes tarifs éco-part'!$C$3:$E$466,3,FALSE)","v":"465"}]
["REP PMCB",1,"40304746030","12 01 20 00","Matériaux primaires de construction","Mortier, béton, éléments en béton, y.c. biosourcés","Béton >90%","Premix","€ / Tonne",1.4,"1,4 €/Tonne",{"$f":"VLOOKUP(J442,'Codes tarifs éco-part'!$C$3:$E$466,3,FALSE)","v":"463"}]
["REP PMCB",1,"40304920000","12 15 10 00","Matériaux primaires de construction","Mortier, béton, éléments en béton, y.c. biosourcés","Mortier >90%","Eléments de toutes dimensions et poids","€ / Tonne",5.14,"5,14 €/Tonne",{"$f":"VLOOKUP(J443,'Codes tarifs éco-part'!$C$3:$E$466,3,FALSE)","v":"479"}]
["REP PMCB",1,"40304960000","12 80 60 00 | 12 80 10 00","Matériaux primaires de construction","Mortier, béton, éléments en béton, y.c. biosourcés","Béton cellulaire >90%","Eléments de toutes dimensions et poids","€ / Tonne",0.66,"0,66 €/Tonne",{"$f":"VLOOKUP(J444,'Codes tarifs éco-part'!$C$3:$E$466,3,FALSE)","v":"453"}]
["REP PMCB",2,"40305000000","-","Matériaux primaires de construction","Plâtre et éléments en plâtre","Non connu ou non spécifié par l'entreprise","Eléments de toutes dimensions et poids","€ / Tonne",30,"30 €/Tonne",{"$f":"VLOOKUP(J445,'Codes tarifs éco-part'!$C$3:$E$466,3,FALSE)","v":"153"}]
["REP PMCB",2,"40305750000","-","Matériaux primaires de construction","Plâtre et éléments en plâtre","Plâtre >90%","Eléments de toutes dimensions et poids","€ / Tonne",3,"3 €/Tonne",{"$f":"VLOOKUP(J446,'Codes tarifs éco-part'!$C$3:$E$466,3,FALSE)","v":"474"}]
["REP PMCB",2,"40305760000","-","Matériaux primaires de construction","Plâtre et éléments en plâtre","Plâtre >50%","Eléments de toutes dimensions et poids","€ / Tonne",4,"4 €/Tonne",{"$f":"VLOOKUP(J447,'Codes tarifs éco-part'!$C$3:$E$466,3,FALSE)","v":"274"}]
["REP PMCB",2,"40306000000","-","Matériaux primaires de construction","Bois de charpente, panneaux, planches, tablettes, tasseaux","Non connu ou non spécifié par l'entreprise","Eléments de toutes dimensions et poids","€ / Tonne",30,"30 €/Tonne",{"$f":"VLOOKUP(J448,'Codes tarifs éco-part'!$C$3:$E$466,3,FALSE)","v":"153"}]
["REP PMCB",2,"40306010000","-","Matériaux primaires de construction","Bois de charpente, panneaux, planches, tablettes, tasseaux","Assemblage de bois, dérivés de bois à plus de 50% avec d'autres matériaux ou bois composite (hors verre)","Eléments de toutes dimensions et poids","€ / Tonne",9,"9 €/Tonne",{"$f":"VLOOKUP(J449,'Codes tarifs éco-part'!$C$3:$E$466,3,FALSE)","v":"484"}]
["REP PMCB",2,"40306120000","-","Matériaux primaires de construction","Bois de charpente, panneaux, planches, tablettes, tasseaux","Autres","Eléments de toutes dimensions et poids","€ / Tonne",30,"30 €/Tonne",{"$f":"VLOOKUP(J450,'Codes tarifs éco-part'!$C$3:$E$466,3,FALSE)","v":"153"}]
["REP PMCB",2,"40306530000","-","Matériaux primaires de construction","Bois de charpente, panneaux, planches, tablettes, tasseaux","Massif et assimilés >90%","Eléments de toutes dimensions et poids","€ / Tonne",8,"8 €/Tonne",{"$f":"VLOOKUP(J451,'Codes tarifs éco-part'!$C$3:$E$466,3,FALSE)","v":"483"}]
["REP PMCB",2,"40306531020","-","Matériaux primaires de construction","Bois de charpente, panneaux, planches, tablettes, tasseaux","Massif et assimilés >90%","Eléments de toutes dimensions et poids","€ / m3",4,"4 €/m3",{"$f":"VLOOKUP(J452,'Codes tarifs éco-part'!$C$3:$E$466,3,FALSE)","v":"274"}]
["REP PMCB",2,"40306531120",null,"Matériaux primaires de construction","Bois de charpente, panneaux, planches, tablettes, tasseaux","Massif et assimilés >90%","épaisseur du panneau <= 10mm","€ / m2",0.04,"0,04 €/m2",{"$f":"VLOOKUP(J453,'Codes tarifs éco-part'!$C$3:$E$466,3,FALSE)","v":"002"}]
["REP PMCB",2,"40306531130",null,"Matériaux primaires de construction","Bois de charpente, panneaux, planches, tablettes, tasseaux","Massif et assimilés >90%","10mm < épaisseur du panneau <= 15mm","€ / m2",0.06,"0,06 €/m2",{"$f":"VLOOKUP(J454,'Codes tarifs éco-part'!$C$3:$E$466,3,FALSE)","v":"096"}]
["REP PMCB",2,"40306531140",null,"Matériaux primaires de construction","Bois de charpente, panneaux, planches, tablettes, tasseaux","Massif et assimilés >90%","15mm < épaisseur du panneau <= 22mm","€ / m2",0.09,"0,09 €/m2",{"$f":"VLOOKUP(J455,'Codes tarifs éco-part'!$C$3:$E$466,3,FALSE)","v":"049"}]
["REP PMCB",2,"40306531150",null,"Matériaux primaires de construction","Bois de charpente, panneaux, planches, tablettes, tasseaux","Massif et assimilés >90%","épaisseur du panneau > 22mm","€ / m2",0.11,"0,11 €/m2",{"$f":"VLOOKUP(J456,'Codes tarifs éco-part'!$C$3:$E$466,3,FALSE)","v":"262"}]
["REP PMCB",2,"40306550000","-","Matériaux primaires de construction","Bois de charpente, panneaux, planches, tablettes, tasseaux","Matériaux bio sourcés ou textiles non synthétiques >90%","Eléments de toutes dimensions et poids","€ / Tonne",4,"4 €/Tonne",{"$f":"VLOOKUP(J457,'Codes tarifs éco-part'!$C$3:$E$466,3,FALSE)","v":"274"}]
["REP PMCB",2,"40306610000","-","Matériaux primaires de construction","Bois de charpente, panneaux, planches, tablettes, tasseaux","Panneaux de particules ou OSB >90%","Eléments de toutes dimensions et poids","€ / Tonne",8,"8 €/Tonne",{"$f":"VLOOKUP(J458,'Codes tarifs éco-part'!$C$3:$E$466,3,FALSE)","v":"483"}]
["REP PMCB",2,"40306611020","-","Matériaux primaires de construction","Bois de charpente, panneaux, planches, tablettes, tasseaux","Panneaux de particules ou OSB >90%","Eléments de toutes dimensions et poids","€ / m3",5,"5 €/m3",{"$f":"VLOOKUP(J459,'Codes tarifs éco-part'!$C$3:$E$466,3,FALSE)","v":"042"}]
["REP PMCB",2,"40306611120",null,"Matériaux primaires de construction","Bois de charpente, panneaux, planches, tablettes, tasseaux","Panneaux de particules ou OSB >90%","épaisseur du panneau <= 10mm","€ / m2",0.05,"0,05 €/m2",{"$f":"VLOOKUP(J460,'Codes tarifs éco-part'!$C$3:$E$466,3,FALSE)","v":"048"}]
["REP PMCB",2,"40306611130",null,"Matériaux primaires de construction","Bois de charpente, panneaux, planches, tablettes, tasseaux","Panneaux de particules ou OSB >90%","10mm < épaisseur du panneau <= 15mm","€ / m2",0.08,"0,08 €/m2",{"$f":"VLOOKUP(J461,'Codes tarifs éco-part'!$C$3:$E$466,3,FALSE)","v":"003"}]
["REP PMCB",2,"40306611140",null,"Matériaux primaires de construction","Bois de charpente, panneaux, planches, tablettes, tasseaux","Panneaux de particules ou OSB >90%","15mm < épaisseur du panneau <= 22mm","€ / m2",0.1,"0,1 €/m2",{"$f":"VLOOKUP(J462,'Codes tarifs éco-part'!$C$3:$E$466,3,FALSE)","v":"094"}]
["REP PMCB",2,"40306611150",null,"Matériaux primaires de construction","Bois de charpente, panneaux, planches, tablettes, tasseaux","Panneaux de particules ou OSB >90%","épaisseur du panneau > 22mm","€ / m2",0.14000000000000001,"0,14 €/m2",{"$f":"VLOOKUP(J463,'Codes tarifs éco-part'!$C$3:$E$466,3,FALSE)","v":"098"}]
["REP PMCB",2,"40306620000","-","Matériaux primaires de construction","Bois de charpente, panneaux, planches, tablettes, tasseaux","Dérivés de bois >90%","Eléments de toutes dimensions et poids","€ / Tonne",8,"8 €/Tonne",{"$f":"VLOOKUP(J464,'Codes tarifs éco-part'!$C$3:$E$466,3,FALSE)","v":"483"}]
["REP PMCB",2,"40306621020","-","Matériaux primaires de construction","Bois de charpente, panneaux, planches, tablettes, tasseaux","Dérivés de bois >90%","Eléments de toutes dimensions et poids","€ / m3",5.84,"5,84 €/m3",{"$f":"VLOOKUP(J465,'Codes tarifs éco-part'!$C$3:$E$466,3,FALSE)","v":"481"}]
["REP PMCB",2,"40306621120",null,"Matériaux primaires de construction","Bois de charpente, panneaux, planches, tablettes, tasseaux","Dérivés de bois >90%","épaisseur du panneau <= 10mm","€ / m2",0.06,"0,06 €/m2",{"$f":"VLOOKUP(J466,'Codes tarifs éco-part'!$C$3:$E$466,3,FALSE)","v":"096"}]
["REP PMCB",2,"40306621130",null,"Matériaux primaires de construction","Bois de charpente, panneaux, planches, tablettes, tasseaux","Dérivés de bois >90%","10mm < épaisseur du panneau <= 15mm","€ / m2",0.09,"0,09 €/m2",{"$f":"VLOOKUP(J467,'Codes tarifs éco-part'!$C$3:$E$466,3,FALSE)","v":"049"}]
["REP PMCB",2,"40306621140",null,"Matériaux primaires de construction","Bois de charpente, panneaux, planches, tablettes, tasseaux","Dérivés de bois >90%","15mm < épaisseur du panneau <= 22mm","€ / m2",0.13,"0,13 €/m2",{"$f":"VLOOKUP(J468,'Codes tarifs éco-part'!$C$3:$E$466,3,FALSE)","v":"004"}]
["REP PMCB",2,"40306621150",null,"Matériaux primaires de construction","Bois de charpente, panneaux, planches, tablettes, tasseaux","Dérivés de bois >90%","épaisseur du panneau > 22mm","€ / m2",0.16,"0,16 €/m2",{"$f":"VLOOKUP(J469,'Codes tarifs éco-part'!$C$3:$E$466,3,FALSE)","v":"099"}]
["REP PMCB",2,"40306820000","-","Matériaux primaires de construction","Bois de charpente, panneaux, planches, tablettes, tasseaux","Assemblage de 3 matériaux ou plus sans un matériau à plus de 50%","Eléments de toutes dimensions et poids","€ / Tonne",30,"30 €/Tonne",{"$f":"VLOOKUP(J470,'Codes tarifs éco-part'!$C$3:$E$466,3,FALSE)","v":"153"}]
["REP PMCB",2,"40307000000","-","Matériaux primaires de construction","Verre et assimilés pour assemblage","Non connu ou non spécifié par l'entreprise","Eléments de toutes dimensions et poids","€ / Tonne",30,"30 €/Tonne",{"$f":"VLOOKUP(J471,'Codes tarifs éco-part'!$C$3:$E$466,3,FALSE)","v":"153"}]
["REP PMCB",2,"40307120000","-","Matériaux primaires de construction","Verre et assimilés pour assemblage","Autres","Eléments de toutes dimensions et poids","€ / Tonne",30,"30 €/Tonne",{"$f":"VLOOKUP(J472,'Codes tarifs éco-part'!$C$3:$E$466,3,FALSE)","v":"153"}]
["REP PMCB",2,"40307680000","-","Matériaux primaires de construction","Verre et assimilés pour assemblage","Verre >90%","Eléments de toutes dimensions et poids","€ / Tonne",9,"9 €/Tonne",{"$f":"VLOOKUP(J473,'Codes tarifs éco-part'!$C$3:$E$466,3,FALSE)","v":"484"}]
["REP PMCB",2,"40307700000","-","Matériaux primaires de construction","Verre et assimilés pour assemblage","Assemblage verre à plus de 50% avec métal","Eléments de toutes dimensions et poids","€ / Tonne",9,"9 €/Tonne",{"$f":"VLOOKUP(J474,'Codes tarifs éco-part'!$C$3:$E$466,3,FALSE)","v":"484"}]
["REP PMCB",2,"40307710000","-","Matériaux primaires de construction","Verre et assimilés pour assemblage","Assemblage verre à plus de 50% avec Inerte","Eléments de toutes dimensions et poids","€ / Tonne",9,"9 €/Tonne",{"$f":"VLOOKUP(J475,'Codes tarifs éco-part'!$C$3:$E$466,3,FALSE)","v":"484"}]
["REP PMCB",2,"40307720000","-","Matériaux primaires de construction","Verre et assimilés pour assemblage","Assemblage verre à plus de 50% avec bois ou dérivés de bois","Eléments de toutes dimensions et poids","€ / Tonne",9,"9 €/Tonne",{"$f":"VLOOKUP(J476,'Codes tarifs éco-part'!$C$3:$E$466,3,FALSE)","v":"484"}]
["REP PMCB",2,"40307730000","-","Matériaux primaires de construction","Verre et assimilés pour assemblage","Assemblage verre à plus de 50% avec plastique","Eléments de toutes dimensions et poids","€ / Tonne",9,"9 €/Tonne",{"$f":"VLOOKUP(J477,'Codes tarifs éco-part'!$C$3:$E$466,3,FALSE)","v":"484"}]
["REP PMCB",2,"40307820000","-","Matériaux primaires de construction","Verre et assimilés pour assemblage","Assemblage de 3 matériaux ou plus sans un matériau à plus de 50%","Eléments de toutes dimensions et poids","€ / Tonne",30,"30 €/Tonne",{"$f":"VLOOKUP(J478,'Codes tarifs éco-part'!$C$3:$E$466,3,FALSE)","v":"153"}]
["REP PMCB",2,"40310000000","-","Matériaux primaires de construction","Divers produits et matériaux primaires de construction","Non connu ou non spécifié par l'entreprise","Eléments de toutes dimensions et poids","€ / Tonne",30,"30 €/Tonne",{"$f":"VLOOKUP(J479,'Codes tarifs éco-part'!$C$3:$E$466,3,FALSE)","v":"153"}]
["REP PMCB",2,"40310010000","-","Matériaux primaires de construction","Divers produits et matériaux primaires de construction","Assemblage de bois, dérivés de bois à plus de 50% avec d'autres matériaux ou bois composite (hors verre)","Eléments de toutes dimensions et poids","€ / Tonne",9,"9 €/Tonne",{"$f":"VLOOKUP(J480,'Codes tarifs éco-part'!$C$3:$E$466,3,FALSE)","v":"484"}]
["REP PMCB",2,"40310020000","-","Matériaux primaires de construction","Divers produits et matériaux primaires de construction","Assemblage avec métal >50% et autres matériaux","Eléments de toutes dimensions et poids","€ / Tonne",3,"3 €/Tonne",{"$f":"VLOOKUP(J481,'Codes tarifs éco-part'!$C$3:$E$466,3,FALSE)","v":"474"}]
["REP PMCB",2,"40310040000",null,"Matériaux primaires de construction","Divers produits et matériaux primaires de construction","Matériaux bio sourcés ou textiles non synthétiques >50%","Eléments de toutes dimensions et poids","€ / Tonne",4,"4 €/Tonne",{"$f":"VLOOKUP(J482,'Codes tarifs éco-part'!$C$3:$E$466,3,FALSE)","v":"274"}]
["REP PMCB",2,"40310050000","-","Matériaux primaires de construction","Divers produits et matériaux primaires de construction","Plastiques ou autres matériaux synthétiques >50%","Eléments de toutes dimensions et poids","€ / Tonne",30,"30 €/Tonne",{"$f":"VLOOKUP(J483,'Codes tarifs éco-part'!$C$3:$E$466,3,FALSE)","v":"153"}]
["REP PMCB",2,"40310120000","-","Matériaux primaires de construction","Divers produits et matériaux primaires de construction","Autres","Eléments de toutes dimensions et poids","€ / Tonne",30,"30 €/Tonne",{"$f":"VLOOKUP(J484,'Codes tarifs éco-part'!$C$3:$E$466,3,FALSE)","v":"153"}]
["REP PMCB",2,"40310190000",null,"Matériaux primaires de construction","Divers produits et matériaux primaires de construction","Papier carton >50% avec d'autres matériaux (hors verre)","Eléments de toutes dimensions et poids","€ / Tonne",17,"17 €/Tonne",{"$f":"VLOOKUP(J485,'Codes tarifs éco-part'!$C$3:$E$466,3,FALSE)","v":"487"}]
["REP PMCB",2,"40310280000","-","Matériaux primaires de construction","Divers produits et matériaux primaires de construction","Métal >90%","Eléments de toutes dimensions et poids","€ / Tonne",0.5,"0,5 €/Tonne",{"$f":"VLOOKUP(J486,'Codes tarifs éco-part'!$C$3:$E$466,3,FALSE)","v":"053"}]
["REP PMCB",2,"40310400000",null,"Matériaux primaires de construction","Divers produits et matériaux primaires de construction","Assemblage caoutchouc synthétique ou latex >50% avec d'autres matériaux","Eléments de toutes dimensions et poids","€ / Tonne",30,"30 €/Tonne",{"$f":"VLOOKUP(J487,'Codes tarifs éco-part'!$C$3:$E$466,3,FALSE)","v":"153"}]
["REP PMCB",2,"40310410000","-","Matériaux primaires de construction","Divers produits et matériaux primaires de construction","Plastiques (mono résine) >90%","Eléments de toutes dimensions et poids","€ / Tonne",9,"9 €/Tonne",{"$f":"VLOOKUP(J488,'Codes tarifs éco-part'!$C$3:$E$466,3,FALSE)","v":"484"}]
["REP PMCB",2,"40310420000","-","Matériaux primaires de construction","Divers produits et matériaux primaires de construction","Polyterephtalate d'Ethylène (PET) >90%","Eléments de toutes dimensions et poids","€ / Tonne",9,"9 €/Tonne",{"$f":"VLOOKUP(J489,'Codes tarifs éco-part'!$C$3:$E$466,3,FALSE)","v":"484"}]
["REP PMCB",2,"40310450000","-","Matériaux primaires de construction","Divers produits et matériaux primaires de construction","PE ou PP ou mélange PP/PE >90%","Eléments de toutes dimensions et poids","€ / Tonne",9,"9 €/Tonne",{"$f":"VLOOKUP(J490,'Codes tarifs éco-part'!$C$3:$E$466,3,FALSE)","v":"484"}]
["REP PMCB",2,"40310460000","-","Matériaux primaires de construction","Divers produits et matériaux primaires de construction","ABS >90%","Eléments de toutes dimensions et poids","€ / Tonne",9,"9 €/Tonne",{"$f":"VLOOKUP(J491,'Codes tarifs éco-part'!$C$3:$E$466,3,FALSE)","v":"484"}]
["REP PMCB",2,"40310470000","-","Matériaux primaires de construction","Divers produits et matériaux primaires de construction","Polystyrène >90%","Eléments de toutes dimensions et poids","€ / Tonne",9,"9 €/Tonne",{"$f":"VLOOKUP(J492,'Codes tarifs éco-part'!$C$3:$E$466,3,FALSE)","v":"484"}]
["REP PMCB",2,"40310480000","-","Matériaux primaires de construction","Divers produits et matériaux primaires de construction","PVC >90%","Eléments de toutes dimensions et poids","€ / Tonne",9,"9 €/Tonne",{"$f":"VLOOKUP(J493,'Codes tarifs éco-part'!$C$3:$E$466,3,FALSE)","v":"484"}]
["REP PMCB",2,"40310490000","-","Matériaux primaires de construction","Divers produits et matériaux primaires de construction","Caoutchouc synthétique >90%","Eléments de toutes dimensions et poids","€ / Tonne",9,"9 €/Tonne",{"$f":"VLOOKUP(J494,'Codes tarifs éco-part'!$C$3:$E$466,3,FALSE)","v":"484"}]
["REP PMCB",2,"40310530000","-","Matériaux primaires de construction","Divers produits et matériaux primaires de construction","Massif et assimilés >90%","Eléments de toutes dimensions et poids","€ / Tonne",8,"8 €/Tonne",{"$f":"VLOOKUP(J495,'Codes tarifs éco-part'!$C$3:$E$466,3,FALSE)","v":"483"}]
["REP PMCB",2,"40310550000","-","Matériaux primaires de construction","Divers produits et matériaux primaires de construction","Matériaux bio sourcés ou textiles non synthétiques >90%","Eléments de toutes dimensions et poids","€ / Tonne",4,"4 €/Tonne",{"$f":"VLOOKUP(J496,'Codes tarifs éco-part'!$C$3:$E$466,3,FALSE)","v":"274"}]
["REP PMCB",2,"40310610000","-","Matériaux primaires de construction","Divers produits et matériaux primaires de construction","Panneaux de particules ou OSB >90%","Eléments de toutes dimensions et poids","€ / Tonne",8,"8 €/Tonne",{"$f":"VLOOKUP(J497,'Codes tarifs éco-part'!$C$3:$E$466,3,FALSE)","v":"483"}]
["REP PMCB",2,"40310620000","-","Matériaux primaires de construction","Divers produits et matériaux primaires de construction","Dérivés de bois >90%","Eléments de toutes dimensions et poids","€ / Tonne",8,"8 €/Tonne",{"$f":"VLOOKUP(J498,'Codes tarifs éco-part'!$C$3:$E$466,3,FALSE)","v":"483"}]
["REP PMCB",2,"40310630000",null,"Matériaux primaires de construction","Divers produits et matériaux primaires de construction","Caoutchouc naturel >90%","Eléments de toutes dimensions et poids","€ / Tonne",9,"9 €/Tonne",{"$f":"VLOOKUP(J499,'Codes tarifs éco-part'!$C$3:$E$466,3,FALSE)","v":"484"}]
["REP PMCB",2,"40310640000","-","Matériaux primaires de construction","Divers produits et matériaux primaires de construction","Caoutchouc naturel >50%","Eléments de toutes dimensions et poids","€ / Tonne",9,"9 €/Tonne",{"$f":"VLOOKUP(J500,'Codes tarifs éco-part'!$C$3:$E$466,3,FALSE)","v":"484"}]
["REP PMCB",2,"40310650000","-","Matériaux primaires de construction","Divers produits et matériaux primaires de construction","Matériaux ou fibres synthétiques >90%","Eléments de toutes dimensions et poids","€ / Tonne",30,"30 €/Tonne",{"$f":"VLOOKUP(J501,'Codes tarifs éco-part'!$C$3:$E$466,3,FALSE)","v":"153"}]
["REP PMCB",2,"40310670000","-","Matériaux primaires de construction","Divers produits et matériaux primaires de construction","Assemblage matériaux ou fibres synthétiques >50% avec d'autres matériaux","Eléments de toutes dimensions et poids","€ / Tonne",30,"30 €/Tonne",{"$f":"VLOOKUP(J502,'Codes tarifs éco-part'!$C$3:$E$466,3,FALSE)","v":"153"}]
["REP PMCB",2,"40310680000","-","Matériaux primaires de construction","Divers produits et matériaux primaires de construction","Verre >90%","Eléments de toutes dimensions et poids","€ / Tonne",9,"9 €/Tonne",{"$f":"VLOOKUP(J503,'Codes tarifs éco-part'!$C$3:$E$466,3,FALSE)","v":"484"}]
["REP PMCB",2,"40310690000","-","Matériaux primaires de construction","Divers produits et matériaux primaires de construction","Miroir >90%","Eléments de toutes dimensions et poids","€ / Tonne",30,"30 €/Tonne",{"$f":"VLOOKUP(J504,'Codes tarifs éco-part'!$C$3:$E$466,3,FALSE)","v":"153"}]
["REP PMCB",2,"40310700000","-","Matériaux primaires de construction","Divers produits et matériaux primaires de construction","Assemblage verre à plus de 50% avec métal","Eléments de toutes dimensions et poids","€ / Tonne",9,"9 €/Tonne",{"$f":"VLOOKUP(J505,'Codes tarifs éco-part'!$C$3:$E$466,3,FALSE)","v":"484"}]
["REP PMCB",2,"40310710000","-","Matériaux primaires de construction","Divers produits et matériaux primaires de construction","Assemblage verre à plus de 50% avec Inerte","Eléments de toutes dimensions et poids","€ / Tonne",9,"9 €/Tonne",{"$f":"VLOOKUP(J506,'Codes tarifs éco-part'!$C$3:$E$466,3,FALSE)","v":"484"}]
["REP PMCB",2,"40310720000","-","Matériaux primaires de construction","Divers produits et matériaux primaires de construction","Assemblage verre à plus de 50% avec bois ou dérivés de bois","Eléments de toutes dimensions et poids","€ / Tonne",9,"9 €/Tonne",{"$f":"VLOOKUP(J507,'Codes tarifs éco-part'!$C$3:$E$466,3,FALSE)","v":"484"}]
["REP PMCB",2,"40310730000","-","Matériaux primaires de construction","Divers produits et matériaux primaires de construction","Assemblage verre à plus de 50% avec plastique","Eléments de toutes dimensions et poids","€ / Tonne",9,"9 €/Tonne",{"$f":"VLOOKUP(J508,'Codes tarifs éco-part'!$C$3:$E$466,3,FALSE)","v":"484"}]
["REP PMCB",1,"40310740000","12 93 32 00","Matériaux primaires de construction","Divers produits et matériaux primaires de construction","Béton >90%","Eléments de toutes dimensions et poids","€ / Tonne",1.81,"1,81 €/Tonne",{"$f":"VLOOKUP(J509,'Codes tarifs éco-part'!$C$3:$E$466,3,FALSE)","v":"467"}]
["REP PMCB",2,"40310750000","-","Matériaux primaires de construction","Divers produits et matériaux primaires de construction","Plâtre >90%","Eléments de toutes dimensions et poids","€ / Tonne",3,"3 €/Tonne",{"$f":"VLOOKUP(J510,'Codes tarifs éco-part'!$C$3:$E$466,3,FALSE)","v":"474"}]
["REP PMCB",2,"40310760000","-","Matériaux primaires de construction","Divers produits et matériaux primaires de construction","Plâtre >50%","Eléments de toutes dimensions et poids","€ / Tonne",4,"4 €/Tonne",{"$f":"VLOOKUP(J511,'Codes tarifs éco-part'!$C$3:$E$466,3,FALSE)","v":"274"}]
["REP PMCB",2,"40310770000",null,"Matériaux primaires de construction","Divers produits et matériaux primaires de construction","Laines de roche à plus de 90 %","Eléments de toutes dimensions et poids","€ / Tonne",5,"5 €/Tonne",{"$f":"VLOOKUP(J512,'Codes tarifs éco-part'!$C$3:$E$466,3,FALSE)","v":"042"}]
["REP PMCB",2,"40310780000",null,"Matériaux primaires de construction","Divers produits et matériaux primaires de construction","Laine de verre à plus de 90 %","Eléments de toutes dimensions et poids","€ / Tonne",5,"5 €/Tonne",{"$f":"VLOOKUP(J513,'Codes tarifs éco-part'!$C$3:$E$466,3,FALSE)","v":"042"}]
["REP PMCB",2,"40310790000",null,"Matériaux primaires de construction","Divers produits et matériaux primaires de construction","Assemblage de laines de verre ou laines de roches à plus de 50% et d'autres matériaux","Eléments de toutes dimensions et poids","€ / Tonne",30,"30 €/Tonne",{"$f":"VLOOKUP(J514,'Codes tarifs éco-part'!$C$3:$E$466,3,FALSE)","v":"153"}]
["REP PMCB",2,"40310800000","-","Matériaux primaires de construction","Divers produits et matériaux primaires de construction","Membranes bitumineuses à plus de 90 %","Eléments de toutes dimensions et poids","€ / Tonne",30,"30 €/Tonne",{"$f":"VLOOKUP(J515,'Codes tarifs éco-part'!$C$3:$E$466,3,FALSE)","v":"153"}]
["REP PMCB",2,"40310820000","-","Matériaux primaires de construction","Divers produits et matériaux primaires de construction","Assemblage de 3 matériaux ou plus sans un matériau à plus de 50%","Eléments de toutes dimensions et poids","€ / Tonne",30,"30 €/Tonne",{"$f":"VLOOKUP(J516,'Codes tarifs éco-part'!$C$3:$E$466,3,FALSE)","v":"153"}]
["REP PMCB",1,"40310930000","12 08 10 00 | 12 08 20 00","Matériaux primaires de construction","Divers produits et matériaux primaires de construction","Adjuvants >90%","Eléments de toutes dimensions et poids","€ / Tonne",5.7,"5,7 €/Tonne",{"$f":"VLOOKUP(J517,'Codes tarifs éco-part'!$C$3:$E$466,3,FALSE)","v":"480"}]
["REP PMCB",2,"41315120000","-","Voirie, réseaux intérieurs et extérieurs","Enrobé de voirie, bordure et caniveau","Autres","Eléments de toutes dimensions et poids","€ / Tonne",30,"30 €/Tonne",{"$f":"VLOOKUP(J518,'Codes tarifs éco-part'!$C$3:$E$466,3,FALSE)","v":"153"}]
["REP PMCB",1,"41315740000","12 62 00 00","Voirie, réseaux intérieurs et extérieurs","Enrobé de voirie, bordure et caniveau","Béton >90%","Eléments de toutes dimensions et poids","€ / Tonne",0.8,"0,8 €/Tonne",{"$f":"VLOOKUP(J519,'Codes tarifs éco-part'!$C$3:$E$466,3,FALSE)","v":"456"}]
["REP PMCB",1,"41315880000","17 10 00 00","Voirie, réseaux intérieurs et extérieurs","Enrobé de voirie, bordure et caniveau","Mélange bitumineux >90%","Eléments de toutes dimensions et poids","€ / Tonne",0.38,"0,38 €/Tonne",{"$f":"VLOOKUP(J520,'Codes tarifs éco-part'!$C$3:$E$466,3,FALSE)","v":"292"}]
["REP PMCB",2,"41316000000","-","Voirie, réseaux intérieurs et extérieurs","Réseaux d'adduction d'eau et de gaz (tuyaux et éléments intérieurs et extérieurs)","Non connu ou non spécifié par l'entreprise","Eléments de toutes dimensions et poids","€ / Tonne",30,"30 €/Tonne",{"$f":"VLOOKUP(J521,'Codes tarifs éco-part'!$C$3:$E$466,3,FALSE)","v":"153"}]
["REP PMCB",2,"41316020000","-","Voirie, réseaux intérieurs et extérieurs","Réseaux d'adduction d'eau et de gaz (tuyaux et éléments intérieurs et extérieurs)","Assemblage avec métal >50% et autres matériaux","Eléments de toutes dimensions et poids","€ / Tonne",3,"3 €/Tonne",{"$f":"VLOOKUP(J522,'Codes tarifs éco-part'!$C$3:$E$466,3,FALSE)","v":"474"}]
["REP PMCB",2,"41316050000","-","Voirie, réseaux intérieurs et extérieurs","Réseaux d'adduction d'eau et de gaz (tuyaux et éléments intérieurs et extérieurs)","Plastiques ou autres matériaux synthétiques >50%","Eléments de toutes dimensions et poids","€ / Tonne",30,"30 €/Tonne",{"$f":"VLOOKUP(J523,'Codes tarifs éco-part'!$C$3:$E$466,3,FALSE)","v":"153"}]
["REP PMCB",2,"41316120000","-","Voirie, réseaux intérieurs et extérieurs","Réseaux d'adduction d'eau et de gaz (tuyaux et éléments intérieurs et extérieurs)","Autres","Eléments de toutes dimensions et poids","€ / Tonne",30,"30 €/Tonne",{"$f":"VLOOKUP(J524,'Codes tarifs éco-part'!$C$3:$E$466,3,FALSE)","v":"153"}]
["REP PMCB",2,"41316280000","-","Voirie, réseaux intérieurs et extérieurs","Réseaux d'adduction d'eau et de gaz (tuyaux et éléments intérieurs et extérieurs)","Métal >90%","Eléments de toutes dimensions et poids","€ / Tonne",0.5,"0,5 €/Tonne",{"$f":"VLOOKUP(J525,'Codes tarifs éco-part'!$C$3:$E$466,3,FALSE)","v":"053"}]
["REP PMCB",2,"41316410000","-","Voirie, réseaux intérieurs et extérieurs","Réseaux d'adduction d'eau et de gaz (tuyaux et éléments intérieurs et extérieurs)","Plastiques (mono résine) >90%","Eléments de toutes dimensions et poids","€ / Tonne",9,"9 €/Tonne",{"$f":"VLOOKUP(J526,'Codes tarifs éco-part'!$C$3:$E$466,3,FALSE)","v":"484"}]
["REP PMCB",2,"41316420000","-","Voirie, réseaux intérieurs et extérieurs","Réseaux d'adduction d'eau et de gaz (tuyaux et éléments intérieurs et extérieurs)","Polyterephtalate d'Ethylène (PET) >90%","Eléments de toutes dimensions et poids","€ / Tonne",9,"9 €/Tonne",{"$f":"VLOOKUP(J527,'Codes tarifs éco-part'!$C$3:$E$466,3,FALSE)","v":"484"}]
["REP PMCB",2,"41316450000","-","Voirie, réseaux intérieurs et extérieurs","Réseaux d'adduction d'eau et de gaz (tuyaux et éléments intérieurs et extérieurs)","PE ou PP ou mélange PP/PE >90%","Eléments de toutes dimensions et poids","€ / Tonne",9,"9 €/Tonne",{"$f":"VLOOKUP(J528,'Codes tarifs éco-part'!$C$3:$E$466,3,FALSE)","v":"484"}]
["REP PMCB",2,"41316460000","-","Voirie, réseaux intérieurs et extérieurs","Réseaux d'adduction d'eau et de gaz (tuyaux et éléments intérieurs et extérieurs)","ABS >90%","Eléments de toutes dimensions et poids","€ / Tonne",9,"9 €/Tonne",{"$f":"VLOOKUP(J529,'Codes tarifs éco-part'!$C$3:$E$466,3,FALSE)","v":"484"}]
["REP PMCB",2,"41316470000","-","Voirie, réseaux intérieurs et extérieurs","Réseaux d'adduction d'eau et de gaz (tuyaux et éléments intérieurs et extérieurs)","Polystyrène >90%","Eléments de toutes dimensions et poids","€ / Tonne",9,"9 €/Tonne",{"$f":"VLOOKUP(J530,'Codes tarifs éco-part'!$C$3:$E$466,3,FALSE)","v":"484"}]
["REP PMCB",2,"41316480000","-","Voirie, réseaux intérieurs et extérieurs","Réseaux d'adduction d'eau et de gaz (tuyaux et éléments intérieurs et extérieurs)","PVC >90%","Eléments de toutes dimensions et poids","€ / Tonne",9,"9 €/Tonne",{"$f":"VLOOKUP(J531,'Codes tarifs éco-part'!$C$3:$E$466,3,FALSE)","v":"484"}]
["REP PMCB",2,"41316670000","-","Voirie, réseaux intérieurs et extérieurs","Réseaux d'adduction d'eau et de gaz (tuyaux et éléments intérieurs et extérieurs)","Assemblage matériaux ou fibres synthétiques >50% avec d'autres matériaux","Eléments de toutes dimensions et poids","€ / Tonne",30,"30 €/Tonne",{"$f":"VLOOKUP(J532,'Codes tarifs éco-part'!$C$3:$E$466,3,FALSE)","v":"153"}]
["REP PMCB",1,"41316740000","12 51 00 00","Voirie, réseaux intérieurs et extérieurs","Réseaux d'adduction d'eau et de gaz (tuyaux et éléments intérieurs et extérieurs)","Béton >90%","Eléments de toutes dimensions et poids","€ / Tonne",1.77,"1,77 €/Tonne",{"$f":"VLOOKUP(J533,'Codes tarifs éco-part'!$C$3:$E$466,3,FALSE)","v":"466"}]
["REP PMCB",2,"41316820000","-","Voirie, réseaux intérieurs et extérieurs","Réseaux d'adduction d'eau et de gaz (tuyaux et éléments intérieurs et extérieurs)","Assemblage de 3 matériaux ou plus sans un matériau à plus de 50%","Eléments de toutes dimensions et poids","€ / Tonne",30,"30 €/Tonne",{"$f":"VLOOKUP(J534,'Codes tarifs éco-part'!$C$3:$E$466,3,FALSE)","v":"153"}]
["REP PMCB",2,"41317000000","-","Voirie, réseaux intérieurs et extérieurs","Evacuation et assainissement des eaux pluviales et usées (goutières, raccords, traitement, drainage, évacuation)","Non connu ou non spécifié par l'entreprise","Eléments de toutes dimensions et poids","€ / Tonne",30,"30 €/Tonne",{"$f":"VLOOKUP(J535,'Codes tarifs éco-part'!$C$3:$E$466,3,FALSE)","v":"153"}]
["REP PMCB",2,"41317020000","-","Voirie, réseaux intérieurs et extérieurs","Evacuation et assainissement des eaux pluviales et usées (goutières, raccords, traitement, drainage, évacuation)","Assemblage avec métal >50% et autres matériaux","Eléments de toutes dimensions et poids","€ / Tonne",3,"3 €/Tonne",{"$f":"VLOOKUP(J536,'Codes tarifs éco-part'!$C$3:$E$466,3,FALSE)","v":"474"}]
["REP PMCB",2,"41317050000","-","Voirie, réseaux intérieurs et extérieurs","Evacuation et assainissement des eaux pluviales et usées (goutières, raccords, traitement, drainage, évacuation)","Plastiques ou autres matériaux synthétiques >50%","Eléments de toutes dimensions et poids","€ / Tonne",30,"30 €/Tonne",{"$f":"VLOOKUP(J537,'Codes tarifs éco-part'!$C$3:$E$466,3,FALSE)","v":"153"}]
["REP PMCB",2,"41317120000","-","Voirie, réseaux intérieurs et extérieurs","Evacuation et assainissement des eaux pluviales et usées (goutières, raccords, traitement, drainage, évacuation)","Autres","Eléments de toutes dimensions et poids","€ / Tonne",30,"30 €/Tonne",{"$f":"VLOOKUP(J538,'Codes tarifs éco-part'!$C$3:$E$466,3,FALSE)","v":"153"}]
["REP PMCB",2,"41317280000","-","Voirie, réseaux intérieurs et extérieurs","Evacuation et assainissement des eaux pluviales et usées (goutières, raccords, traitement, drainage, évacuation)","Métal >90%","Eléments de toutes dimensions et poids","€ / Tonne",0.5,"0,5 €/Tonne",{"$f":"VLOOKUP(J539,'Codes tarifs éco-part'!$C$3:$E$466,3,FALSE)","v":"053"}]
["REP PMCB",2,"41317410000","-","Voirie, réseaux intérieurs et extérieurs","Evacuation et assainissement des eaux pluviales et usées (goutières, raccords, traitement, drainage, évacuation)","Plastiques (mono résine) >90%","Eléments de toutes dimensions et poids","€ / Tonne",9,"9 €/Tonne",{"$f":"VLOOKUP(J540,'Codes tarifs éco-part'!$C$3:$E$466,3,FALSE)","v":"484"}]
["REP PMCB",2,"41317420000","-","Voirie, réseaux intérieurs et extérieurs","Evacuation et assainissement des eaux pluviales et usées (goutières, raccords, traitement, drainage, évacuation)","Polyterephtalate d'Ethylène (PET) >90%","Eléments de toutes dimensions et poids","€ / Tonne",9,"9 €/Tonne",{"$f":"VLOOKUP(J541,'Codes tarifs éco-part'!$C$3:$E$466,3,FALSE)","v":"484"}]
["REP PMCB",2,"41317450000","-","Voirie, réseaux intérieurs et extérieurs","Evacuation et assainissement des eaux pluviales et usées (goutières, raccords, traitement, drainage, évacuation)","PE ou PP ou mélange PP/PE >90%","Eléments de toutes dimensions et poids","€ / Tonne",9,"9 €/Tonne",{"$f":"VLOOKUP(J542,'Codes tarifs éco-part'!$C$3:$E$466,3,FALSE)","v":"484"}]
["REP PMCB",2,"41317460000","-","Voirie, réseaux intérieurs et extérieurs","Evacuation et assainissement des eaux pluviales et usées (goutières, raccords, traitement, drainage, évacuation)","ABS >90%","Eléments de toutes dimensions et poids","€ / Tonne",9,"9 €/Tonne",{"$f":"VLOOKUP(J543,'Codes tarifs éco-part'!$C$3:$E$466,3,FALSE)","v":"484"}]
["REP PMCB",2,"41317470000","-","Voirie, réseaux intérieurs et extérieurs","Evacuation et assainissement des eaux pluviales et usées (goutières, raccords, traitement, drainage, évacuation)","Polystyrène >90%","Eléments de toutes dimensions et poids","€ / Tonne",9,"9 €/Tonne",{"$f":"VLOOKUP(J544,'Codes tarifs éco-part'!$C$3:$E$466,3,FALSE)","v":"484"}]
["REP PMCB",2,"41317480000","-","Voirie, réseaux intérieurs et extérieurs","Evacuation et assainissement des eaux pluviales et usées (goutières, raccords, traitement, drainage, évacuation)","PVC >90%","Eléments de toutes dimensions et poids","€ / Tonne",9,"9 €/Tonne",{"$f":"VLOOKUP(J545,'Codes tarifs éco-part'!$C$3:$E$466,3,FALSE)","v":"484"}]
["REP PMCB",2,"41317490000","-","Voirie, réseaux intérieurs et extérieurs","Evacuation et assainissement des eaux pluviales et usées (goutières, raccords, traitement, drainage, évacuation)","Caoutchouc synthétique >90%","Eléments de toutes dimensions et poids","€ / Tonne",9,"9 €/Tonne",{"$f":"VLOOKUP(J546,'Codes tarifs éco-part'!$C$3:$E$466,3,FALSE)","v":"484"}]
["REP PMCB",2,"41317650000","-","Voirie, réseaux intérieurs et extérieurs","Evacuation et assainissement des eaux pluviales et usées (goutières, raccords, traitement, drainage, évacuation)","Matériaux ou fibres synthétiques >90%","Eléments de toutes dimensions et poids","€ / Tonne",30,"30 €/Tonne",{"$f":"VLOOKUP(J547,'Codes tarifs éco-part'!$C$3:$E$466,3,FALSE)","v":"153"}]
["REP PMCB",2,"41317670000","-","Voirie, réseaux intérieurs et extérieurs","Evacuation et assainissement des eaux pluviales et usées (goutières, raccords, traitement, drainage, évacuation)","Assemblage matériaux ou fibres synthétiques >50% avec d'autres matériaux","Eléments de toutes dimensions et poids","€ / Tonne",30,"30 €/Tonne",{"$f":"VLOOKUP(J548,'Codes tarifs éco-part'!$C$3:$E$466,3,FALSE)","v":"153"}]
["REP PMCB",1,"41317740000","12 55 00 00","Voirie, réseaux intérieurs et extérieurs","Evacuation et assainissement des eaux pluviales et usées (goutières, raccords, traitement, drainage, évacuation)","Béton >90%","Eléments de toutes dimensions et poids","€ / Tonne",2.21,"2,21 €/Tonne",{"$f":"VLOOKUP(J549,'Codes tarifs éco-part'!$C$3:$E$466,3,FALSE)","v":"469"}]
["REP PMCB",2,"41317820000","-","Voirie, réseaux intérieurs et extérieurs","Evacuation et assainissement des eaux pluviales et usées (goutières, raccords, traitement, drainage, évacuation)","Assemblage de 3 matériaux ou plus sans un matériau à plus de 50%","Eléments de toutes dimensions et poids","€ / Tonne",30,"30 €/Tonne",{"$f":"VLOOKUP(J550,'Codes tarifs éco-part'!$C$3:$E$466,3,FALSE)","v":"153"}]
["REP PMCB",2,"41318000000","-","Voirie, réseaux intérieurs et extérieurs","Cuves et réservoirs","Non connu ou non spécifié par l'entreprise","Eléments de toutes dimensions et poids","€ / Tonne",30,"30 €/Tonne",{"$f":"VLOOKUP(J551,'Codes tarifs éco-part'!$C$3:$E$466,3,FALSE)","v":"153"}]
["REP PMCB",2,"41318020000","-","Voirie, réseaux intérieurs et extérieurs","Cuves et réservoirs","Assemblage avec métal >50% et autres matériaux","Eléments de toutes dimensions et poids","€ / Tonne",3,"3 €/Tonne",{"$f":"VLOOKUP(J552,'Codes tarifs éco-part'!$C$3:$E$466,3,FALSE)","v":"474"}]
["REP PMCB",2,"41318050000","-","Voirie, réseaux intérieurs et extérieurs","Cuves et réservoirs","Plastiques ou autres matériaux synthétiques >50%","Eléments de toutes dimensions et poids","€ / Tonne",30,"30 €/Tonne",{"$f":"VLOOKUP(J553,'Codes tarifs éco-part'!$C$3:$E$466,3,FALSE)","v":"153"}]
["REP PMCB",2,"41318120000","-","Voirie, réseaux intérieurs et extérieurs","Cuves et réservoirs","Autres","Eléments de toutes dimensions et poids","€ / Tonne",30,"30 €/Tonne",{"$f":"VLOOKUP(J554,'Codes tarifs éco-part'!$C$3:$E$466,3,FALSE)","v":"153"}]
["REP PMCB",2,"41318280000","-","Voirie, réseaux intérieurs et extérieurs","Cuves et réservoirs","Métal >90%","Eléments de toutes dimensions et poids","€ / Tonne",0.5,"0,5 €/Tonne",{"$f":"VLOOKUP(J555,'Codes tarifs éco-part'!$C$3:$E$466,3,FALSE)","v":"053"}]
["REP PMCB",2,"41318410000","-","Voirie, réseaux intérieurs et extérieurs","Cuves et réservoirs","Plastiques (mono résine) >90%","Eléments de toutes dimensions et poids","€ / Tonne",9,"9 €/Tonne",{"$f":"VLOOKUP(J556,'Codes tarifs éco-part'!$C$3:$E$466,3,FALSE)","v":"484"}]
["REP PMCB",2,"41318420000","-","Voirie, réseaux intérieurs et extérieurs","Cuves et réservoirs","Polyterephtalate d'Ethylène (PET) >90%","Eléments de toutes dimensions et poids","€ / Tonne",9,"9 €/Tonne",{"$f":"VLOOKUP(J557,'Codes tarifs éco-part'!$C$3:$E$466,3,FALSE)","v":"484"}]
["REP PMCB",2,"41318450000","-","Voirie, réseaux intérieurs et extérieurs","Cuves et réservoirs","PE ou PP ou mélange PP/PE >90%","Eléments de toutes dimensions et poids","€ / Tonne",9,"9 €/Tonne",{"$f":"VLOOKUP(J558,'Codes tarifs éco-part'!$C$3:$E$466,3,FALSE)","v":"484"}]
["REP PMCB",2,"41318460000","-","Voirie, réseaux intérieurs et extérieurs","Cuves et réservoirs","ABS >90%","Eléments de toutes dimensions et poids","€ / Tonne",9,"9 €/Tonne",{"$f":"VLOOKUP(J559,'Codes tarifs éco-part'!$C$3:$E$466,3,FALSE)","v":"484"}]
["REP PMCB",2,"41318470000","-","Voirie, réseaux intérieurs et extérieurs","Cuves et réservoirs","Polystyrène >90%","Eléments de toutes dimensions et poids","€ / Tonne",9,"9 €/Tonne",{"$f":"VLOOKUP(J560,'Codes tarifs éco-part'!$C$3:$E$466,3,FALSE)","v":"484"}]
["REP PMCB",2,"41318480000","-","Voirie, réseaux intérieurs et extérieurs","Cuves et réservoirs","PVC >90%","Eléments de toutes dimensions et poids","€ / Tonne",9,"9 €/Tonne",{"$f":"VLOOKUP(J561,'Codes tarifs éco-part'!$C$3:$E$466,3,FALSE)","v":"484"}]
["REP PMCB",2,"41318670000","-","Voirie, réseaux intérieurs et extérieurs","Cuves et réservoirs","Assemblage matériaux ou fibres synthétiques >50% avec d'autres matériaux","Eléments de toutes dimensions et poids","€ / Tonne",30,"30 €/Tonne",{"$f":"VLOOKUP(J562,'Codes tarifs éco-part'!$C$3:$E$466,3,FALSE)","v":"153"}]
["REP PMCB",1,"41318740000","12 71 00 00","Voirie, réseaux intérieurs et extérieurs","Cuves et réservoirs","Béton >90%","Eléments de toutes dimensions et poids","€ / Tonne",2.74,"2,74 €/Tonne",{"$f":"VLOOKUP(J563,'Codes tarifs éco-part'!$C$3:$E$466,3,FALSE)","v":"472"}]
["REP PMCB",2,"41318820000","-","Voirie, réseaux intérieurs et extérieurs","Cuves et réservoirs","Assemblage de 3 matériaux ou plus sans un matériau à plus de 50%","Eléments de toutes dimensions et poids","€ / Tonne",30,"30 €/Tonne",{"$f":"VLOOKUP(J564,'Codes tarifs éco-part'!$C$3:$E$466,3,FALSE)","v":"153"}]
["REP PMCB",2,"41321000000","-","Voirie, réseaux intérieurs et extérieurs","Eléments de voirie spéciaux et divers produits et matériaux de voirie et réseaux","Non connu ou non spécifié par l'entreprise","Eléments de toutes dimensions et poids","€ / Tonne",30,"30 €/Tonne",{"$f":"VLOOKUP(J565,'Codes tarifs éco-part'!$C$3:$E$466,3,FALSE)","v":"153"}]
["REP PMCB",2,"41321010000","-","Voirie, réseaux intérieurs et extérieurs","Eléments de voirie spéciaux et divers produits et matériaux de voirie et réseaux","Assemblage de bois, dérivés de bois à plus de 50% avec d'autres matériaux ou bois composite (hors verre)","Eléments de toutes dimensions et poids","€ / Tonne",9,"9 €/Tonne",{"$f":"VLOOKUP(J566,'Codes tarifs éco-part'!$C$3:$E$466,3,FALSE)","v":"484"}]
["REP PMCB",2,"41321020000","-","Voirie, réseaux intérieurs et extérieurs","Eléments de voirie spéciaux et divers produits et matériaux de voirie et réseaux","Assemblage avec métal >50% et autres matériaux","Eléments de toutes dimensions et poids","€ / Tonne",3,"3 €/Tonne",{"$f":"VLOOKUP(J567,'Codes tarifs éco-part'!$C$3:$E$466,3,FALSE)","v":"474"}]
["REP PMCB",2,"41321050000","-","Voirie, réseaux intérieurs et extérieurs","Eléments de voirie spéciaux et divers produits et matériaux de voirie et réseaux","Plastiques ou autres matériaux synthétiques >50%","Eléments de toutes dimensions et poids","€ / Tonne",30,"30 €/Tonne",{"$f":"VLOOKUP(J568,'Codes tarifs éco-part'!$C$3:$E$466,3,FALSE)","v":"153"}]
["REP PMCB",2,"41321120000","-","Voirie, réseaux intérieurs et extérieurs","Eléments de voirie spéciaux et divers produits et matériaux de voirie et réseaux","Autres","Eléments de toutes dimensions et poids","€ / Tonne",30,"30 €/Tonne",{"$f":"VLOOKUP(J569,'Codes tarifs éco-part'!$C$3:$E$466,3,FALSE)","v":"153"}]
["REP PMCB",2,"41321280000","-","Voirie, réseaux intérieurs et extérieurs","Eléments de voirie spéciaux et divers produits et matériaux de voirie et réseaux","Métal >90%","Eléments de toutes dimensions et poids","€ / Tonne",0.5,"0,5 €/Tonne",{"$f":"VLOOKUP(J570,'Codes tarifs éco-part'!$C$3:$E$466,3,FALSE)","v":"053"}]
["REP PMCB",2,"41321410000","-","Voirie, réseaux intérieurs et extérieurs","Eléments de voirie spéciaux et divers produits et matériaux de voirie et réseaux","Plastiques (mono résine) >90%","Eléments de toutes dimensions et poids","€ / Tonne",9,"9 €/Tonne",{"$f":"VLOOKUP(J571,'Codes tarifs éco-part'!$C$3:$E$466,3,FALSE)","v":"484"}]
["REP PMCB",2,"41321420000","-","Voirie, réseaux intérieurs et extérieurs","Eléments de voirie spéciaux et divers produits et matériaux de voirie et réseaux","Polyterephtalate d'Ethylène (PET) >90%","Eléments de toutes dimensions et poids","€ / Tonne",9,"9 €/Tonne",{"$f":"VLOOKUP(J572,'Codes tarifs éco-part'!$C$3:$E$466,3,FALSE)","v":"484"}]
["REP PMCB",2,"41321450000","-","Voirie, réseaux intérieurs et extérieurs","Eléments de voirie spéciaux et divers produits et matériaux de voirie et réseaux","PE ou PP ou mélange PP/PE >90%","Eléments de toutes dimensions et poids","€ / Tonne",9,"9 €/Tonne",{"$f":"VLOOKUP(J573,'Codes tarifs éco-part'!$C$3:$E$466,3,FALSE)","v":"484"}]
["REP PMCB",2,"41321460000","-","Voirie, réseaux intérieurs et extérieurs","Eléments de voirie spéciaux et divers produits et matériaux de voirie et réseaux","ABS >90%","Eléments de toutes dimensions et poids","€ / Tonne",9,"9 €/Tonne",{"$f":"VLOOKUP(J574,'Codes tarifs éco-part'!$C$3:$E$466,3,FALSE)","v":"484"}]
["REP PMCB",2,"41321470000","-","Voirie, réseaux intérieurs et extérieurs","Eléments de voirie spéciaux et divers produits et matériaux de voirie et réseaux","Polystyrène >90%","Eléments de toutes dimensions et poids","€ / Tonne",9,"9 €/Tonne",{"$f":"VLOOKUP(J575,'Codes tarifs éco-part'!$C$3:$E$466,3,FALSE)","v":"484"}]
["REP PMCB",2,"41321480000","-","Voirie, réseaux intérieurs et extérieurs","Eléments de voirie spéciaux et divers produits et matériaux de voirie et réseaux","PVC >90%","Eléments de toutes dimensions et poids","€ / Tonne",9,"9 €/Tonne",{"$f":"VLOOKUP(J576,'Codes tarifs éco-part'!$C$3:$E$466,3,FALSE)","v":"484"}]
["REP PMCB",2,"41321490000","-","Voirie, réseaux intérieurs et extérieurs","Eléments de voirie spéciaux et divers produits et matériaux de voirie et réseaux","Caoutchouc synthétique >90%","Eléments de toutes dimensions et poids","€ / Tonne",9,"9 €/Tonne",{"$f":"VLOOKUP(J577,'Codes tarifs éco-part'!$C$3:$E$466,3,FALSE)","v":"484"}]
["REP PMCB",2,"41321530000","-","Voirie, réseaux intérieurs et extérieurs","Eléments de voirie spéciaux et divers produits et matériaux de voirie et réseaux","Massif et assimilés >90%","Eléments de toutes dimensions et poids","€ / Tonne",8,"8 €/Tonne",{"$f":"VLOOKUP(J578,'Codes tarifs éco-part'!$C$3:$E$466,3,FALSE)","v":"483"}]
["REP PMCB",2,"41321550000","-","Voirie, réseaux intérieurs et extérieurs","Eléments de voirie spéciaux et divers produits et matériaux de voirie et réseaux","Matériaux bio sourcés ou textiles non synthétiques >90%","Eléments de toutes dimensions et poids","€ / Tonne",4,"4 €/Tonne",{"$f":"VLOOKUP(J579,'Codes tarifs éco-part'!$C$3:$E$466,3,FALSE)","v":"274"}]
["REP PMCB",2,"41321610000","-","Voirie, réseaux intérieurs et extérieurs","Eléments de voirie spéciaux et divers produits et matériaux de voirie et réseaux","Panneaux de particules ou OSB >90%","Eléments de toutes dimensions et poids","€ / Tonne",8,"8 €/Tonne",{"$f":"VLOOKUP(J580,'Codes tarifs éco-part'!$C$3:$E$466,3,FALSE)","v":"483"}]
["REP PMCB",2,"41321620000","-","Voirie, réseaux intérieurs et extérieurs","Eléments de voirie spéciaux et divers produits et matériaux de voirie et réseaux","Dérivés de bois >90%","Eléments de toutes dimensions et poids","€ / Tonne",8,"8 €/Tonne",{"$f":"VLOOKUP(J581,'Codes tarifs éco-part'!$C$3:$E$466,3,FALSE)","v":"483"}]
["REP PMCB",2,"41321640000","-","Voirie, réseaux intérieurs et extérieurs","Eléments de voirie spéciaux et divers produits et matériaux de voirie et réseaux","Caoutchouc naturel >50%","Eléments de toutes dimensions et poids","€ / Tonne",9,"9 €/Tonne",{"$f":"VLOOKUP(J582,'Codes tarifs éco-part'!$C$3:$E$466,3,FALSE)","v":"484"}]
["REP PMCB",2,"41321650000","-","Voirie, réseaux intérieurs et extérieurs","Eléments de voirie spéciaux et divers produits et matériaux de voirie et réseaux","Matériaux ou fibres synthétiques >90%","Eléments de toutes dimensions et poids","€ / Tonne",30,"30 €/Tonne",{"$f":"VLOOKUP(J583,'Codes tarifs éco-part'!$C$3:$E$466,3,FALSE)","v":"153"}]
["REP PMCB",2,"41321670000","-","Voirie, réseaux intérieurs et extérieurs","Eléments de voirie spéciaux et divers produits et matériaux de voirie et réseaux","Assemblage matériaux ou fibres synthétiques >50% avec d'autres matériaux","Eléments de toutes dimensions et poids","€ / Tonne",30,"30 €/Tonne",{"$f":"VLOOKUP(J584,'Codes tarifs éco-part'!$C$3:$E$466,3,FALSE)","v":"153"}]
["REP PMCB",2,"41321690000","-","Voirie, réseaux intérieurs et extérieurs","Eléments de voirie spéciaux et divers produits et matériaux de voirie et réseaux","Miroir >90%","Eléments de toutes dimensions et poids","€ / Tonne",30,"30 €/Tonne",{"$f":"VLOOKUP(J585,'Codes tarifs éco-part'!$C$3:$E$466,3,FALSE)","v":"153"}]
["REP PMCB",2,"41321700000","-","Voirie, réseaux intérieurs et extérieurs","Eléments de voirie spéciaux et divers produits et matériaux de voirie et réseaux","Assemblage verre à plus de 50% avec métal","Eléments de toutes dimensions et poids","€ / Tonne",9,"9 €/Tonne",{"$f":"VLOOKUP(J586,'Codes tarifs éco-part'!$C$3:$E$466,3,FALSE)","v":"484"}]
["REP PMCB",2,"41321710000","-","Voirie, réseaux intérieurs et extérieurs","Eléments de voirie spéciaux et divers produits et matériaux de voirie et réseaux","Assemblage verre à plus de 50% avec Inerte","Eléments de toutes dimensions et poids","€ / Tonne",9,"9 €/Tonne",{"$f":"VLOOKUP(J587,'Codes tarifs éco-part'!$C$3:$E$466,3,FALSE)","v":"484"}]
["REP PMCB",2,"41321720000","-","Voirie, réseaux intérieurs et extérieurs","Eléments de voirie spéciaux et divers produits et matériaux de voirie et réseaux","Assemblage verre à plus de 50% avec bois ou dérivés de bois","Eléments de toutes dimensions et poids","€ / Tonne",9,"9 €/Tonne",{"$f":"VLOOKUP(J588,'Codes tarifs éco-part'!$C$3:$E$466,3,FALSE)","v":"484"}]
["REP PMCB",2,"41321730000","-","Voirie, réseaux intérieurs et extérieurs","Eléments de voirie spéciaux et divers produits et matériaux de voirie et réseaux","Assemblage verre à plus de 50% avec plastique","Eléments de toutes dimensions et poids","€ / Tonne",9,"9 €/Tonne",{"$f":"VLOOKUP(J589,'Codes tarifs éco-part'!$C$3:$E$466,3,FALSE)","v":"484"}]
["REP PMCB",1,"41321740000","12 64 00 00 | 12 48 50 00","Voirie, réseaux intérieurs et extérieurs","Eléments de voirie spéciaux et divers produits et matériaux de voirie et réseaux","Béton >90%","Eléments de toutes dimensions et poids","€ / Tonne",2.4300000000000002,"2,43 €/Tonne",{"$f":"VLOOKUP(J590,'Codes tarifs éco-part'!$C$3:$E$466,3,FALSE)","v":"471"}]
["REP PMCB",2,"41321820000","-","Voirie, réseaux intérieurs et extérieurs","Eléments de voirie spéciaux et divers produits et matériaux de voirie et réseaux","Assemblage de 3 matériaux ou plus sans un matériau à plus de 50%","Eléments de toutes dimensions et poids","€ / Tonne",30,"30 €/Tonne",{"$f":"VLOOKUP(J591,'Codes tarifs éco-part'!$C$3:$E$466,3,FALSE)","v":"153"}]
["REP PMCB",2,"42330000000","-","Structure, maçonnerie, gros oeuvre, charpente","Eléments de charpente et contreventements","Non connu ou non spécifié par l'entreprise","Eléments de toutes dimensions et poids","€ / Tonne",30,"30 €/Tonne",{"$f":"VLOOKUP(J592,'Codes tarifs éco-part'!$C$3:$E$466,3,FALSE)","v":"153"}]
["REP PMCB",2,"42330010000","-","Structure, maçonnerie, gros oeuvre, charpente","Eléments de charpente et contreventements","Assemblage de bois, dérivés de bois à plus de 50% avec d'autres matériaux ou bois composite (hors verre)","Eléments de toutes dimensions et poids","€ / Tonne",9,"9 €/Tonne",{"$f":"VLOOKUP(J593,'Codes tarifs éco-part'!$C$3:$E$466,3,FALSE)","v":"484"}]
["REP PMCB",2,"42330020000","-","Structure, maçonnerie, gros oeuvre, charpente","Eléments de charpente et contreventements","Assemblage avec métal >50% et autres matériaux","Eléments de toutes dimensions et poids","€ / Tonne",3,"3 €/Tonne",{"$f":"VLOOKUP(J594,'Codes tarifs éco-part'!$C$3:$E$466,3,FALSE)","v":"474"}]
["REP PMCB",2,"42330120000","-","Structure, maçonnerie, gros oeuvre, charpente","Eléments de charpente et contreventements","Autres","Eléments de toutes dimensions et poids","€ / Tonne",30,"30 €/Tonne",{"$f":"VLOOKUP(J595,'Codes tarifs éco-part'!$C$3:$E$466,3,FALSE)","v":"153"}]
["REP PMCB",2,"42330280000","-","Structure, maçonnerie, gros oeuvre, charpente","Eléments de charpente et contreventements","Métal >90%","Eléments de toutes dimensions et poids","€ / Tonne",0.5,"0,5 €/Tonne",{"$f":"VLOOKUP(J596,'Codes tarifs éco-part'!$C$3:$E$466,3,FALSE)","v":"053"}]
["REP PMCB",2,"42330530000","-","Structure, maçonnerie, gros oeuvre, charpente","Eléments de charpente et contreventements","Massif et assimilés >90%","Eléments de toutes dimensions et poids","€ / Tonne",8,"8 €/Tonne",{"$f":"VLOOKUP(J597,'Codes tarifs éco-part'!$C$3:$E$466,3,FALSE)","v":"483"}]
["REP PMCB",2,"42330550000","-","Structure, maçonnerie, gros oeuvre, charpente","Eléments de charpente et contreventements","Matériaux bio sourcés ou textiles non synthétiques >90%","Eléments de toutes dimensions et poids","€ / Tonne",4,"4 €/Tonne",{"$f":"VLOOKUP(J598,'Codes tarifs éco-part'!$C$3:$E$466,3,FALSE)","v":"274"}]
["REP PMCB",2,"42330610000","-","Structure, maçonnerie, gros oeuvre, charpente","Eléments de charpente et contreventements","Panneaux de particules ou OSB >90%","Eléments de toutes dimensions et poids","€ / Tonne",8,"8 €/Tonne",{"$f":"VLOOKUP(J599,'Codes tarifs éco-part'!$C$3:$E$466,3,FALSE)","v":"483"}]
["REP PMCB",2,"42330620000","-","Structure, maçonnerie, gros oeuvre, charpente","Eléments de charpente et contreventements","Dérivés de bois >90%","Eléments de toutes dimensions et poids","€ / Tonne",8,"8 €/Tonne",{"$f":"VLOOKUP(J600,'Codes tarifs éco-part'!$C$3:$E$466,3,FALSE)","v":"483"}]
["REP PMCB",1,"42330740000","12 21 10 |12 23 30 00 | 12 23 10 00 |","Structure, maçonnerie, gros oeuvre, charpente","Eléments de charpente et contreventements","Béton >90%","Eléments de toutes dimensions et poids","€ / Tonne",1.38,"1,38 €/Tonne",{"$f":"VLOOKUP(J601,'Codes tarifs éco-part'!$C$3:$E$466,3,FALSE)","v":"462"}]
["REP PMCB",2,"42330820000","-","Structure, maçonnerie, gros oeuvre, charpente","Eléments de charpente et contreventements","Assemblage de 3 matériaux ou plus sans un matériau à plus de 50%","Eléments de toutes dimensions et poids","€ / Tonne",30,"30 €/Tonne",{"$f":"VLOOKUP(J602,'Codes tarifs éco-part'!$C$3:$E$466,3,FALSE)","v":"153"}]
["REP PMCB",2,"42331000000","-","Structure, maçonnerie, gros oeuvre, charpente","Construction métallique, armatures et ferraillages","Non connu ou non spécifié par l'entreprise","Eléments de toutes dimensions et poids","€ / Tonne",30,"30 €/Tonne",{"$f":"VLOOKUP(J603,'Codes tarifs éco-part'!$C$3:$E$466,3,FALSE)","v":"153"}]
["REP PMCB",2,"42331020000","-","Structure, maçonnerie, gros oeuvre, charpente","Construction métallique, armatures et ferraillages","Assemblage avec métal >50% et autres matériaux","Eléments de toutes dimensions et poids","€ / Tonne",3,"3 €/Tonne",{"$f":"VLOOKUP(J604,'Codes tarifs éco-part'!$C$3:$E$466,3,FALSE)","v":"474"}]
["REP PMCB",2,"42331120000","-","Structure, maçonnerie, gros oeuvre, charpente","Construction métallique, armatures et ferraillages","Autres","Eléments de toutes dimensions et poids","€ / Tonne",30,"30 €/Tonne",{"$f":"VLOOKUP(J605,'Codes tarifs éco-part'!$C$3:$E$466,3,FALSE)","v":"153"}]
["REP PMCB",2,"42331280000","-","Structure, maçonnerie, gros oeuvre, charpente","Construction métallique, armatures et ferraillages","Métal >90%","Eléments de toutes dimensions et poids","€ / Tonne",0.5,"0,5 €/Tonne",{"$f":"VLOOKUP(J606,'Codes tarifs éco-part'!$C$3:$E$466,3,FALSE)","v":"053"}]
["REP PMCB",2,"42331820000","-","Structure, maçonnerie, gros oeuvre, charpente","Construction métallique, armatures et ferraillages","Assemblage de 3 matériaux ou plus sans un matériau à plus de 50%","Eléments de toutes dimensions et poids","€ / Tonne",30,"30 €/Tonne",{"$f":"VLOOKUP(J607,'Codes tarifs éco-part'!$C$3:$E$466,3,FALSE)","v":"153"}]
["REP PMCB",2,"42332000000","-","Structure, maçonnerie, gros oeuvre, charpente","Eléments préfabriqués hors blocs de béton","Non connu ou non spécifié par l'entreprise","Eléments de toutes dimensions et poids","€ / Tonne",30,"30 €/Tonne",{"$f":"VLOOKUP(J608,'Codes tarifs éco-part'!$C$3:$E$466,3,FALSE)","v":"153"}]
["REP PMCB",2,"42332010000","-","Structure, maçonnerie, gros oeuvre, charpente","Eléments préfabriqués hors blocs de béton","Assemblage de bois, dérivés de bois à plus de 50% avec d'autres matériaux ou bois composite (hors verre)","Eléments de toutes dimensions et poids","€ / Tonne",9,"9 €/Tonne",{"$f":"VLOOKUP(J609,'Codes tarifs éco-part'!$C$3:$E$466,3,FALSE)","v":"484"}]
["REP PMCB",2,"42332020000","-","Structure, maçonnerie, gros oeuvre, charpente","Eléments préfabriqués hors blocs de béton","Assemblage avec métal >50% et autres matériaux","Eléments de toutes dimensions et poids","€ / Tonne",3,"3 €/Tonne",{"$f":"VLOOKUP(J610,'Codes tarifs éco-part'!$C$3:$E$466,3,FALSE)","v":"474"}]
["REP PMCB",2,"42332120000","-","Structure, maçonnerie, gros oeuvre, charpente","Eléments préfabriqués hors blocs de béton","Autres","Eléments de toutes dimensions et poids","€ / Tonne",30,"30 €/Tonne",{"$f":"VLOOKUP(J611,'Codes tarifs éco-part'!$C$3:$E$466,3,FALSE)","v":"153"}]
["REP PMCB",2,"42332190000","-","Structure, maçonnerie, gros oeuvre, charpente","Eléments préfabriqués hors blocs de béton","Papier carton >50% avec d'autres matériaux (hors verre)","Eléments de toutes dimensions et poids","€ / Tonne",17,"17 €/Tonne",{"$f":"VLOOKUP(J612,'Codes tarifs éco-part'!$C$3:$E$466,3,FALSE)","v":"487"}]
["REP PMCB",2,"42332280000","-","Structure, maçonnerie, gros oeuvre, charpente","Eléments préfabriqués hors blocs de béton","Métal >90%","Eléments de toutes dimensions et poids","€ / Tonne",0.5,"0,5 €/Tonne",{"$f":"VLOOKUP(J613,'Codes tarifs éco-part'!$C$3:$E$466,3,FALSE)","v":"053"}]
["REP PMCB",2,"42332530000","-","Structure, maçonnerie, gros oeuvre, charpente","Eléments préfabriqués hors blocs de béton","Massif et assimilés >90%","Eléments de toutes dimensions et poids","€ / Tonne",8,"8 €/Tonne",{"$f":"VLOOKUP(J614,'Codes tarifs éco-part'!$C$3:$E$466,3,FALSE)","v":"483"}]
["REP PMCB",2,"42332550000","-","Structure, maçonnerie, gros oeuvre, charpente","Eléments préfabriqués hors blocs de béton","Matériaux bio sourcés ou textiles non synthétiques >90%","Eléments de toutes dimensions et poids","€ / Tonne",4,"4 €/Tonne",{"$f":"VLOOKUP(J615,'Codes tarifs éco-part'!$C$3:$E$466,3,FALSE)","v":"274"}]
["REP PMCB",2,"42332610000","-","Structure, maçonnerie, gros oeuvre, charpente","Eléments préfabriqués hors blocs de béton","Panneaux de particules ou OSB >90%","Eléments de toutes dimensions et poids","€ / Tonne",8,"8 €/Tonne",{"$f":"VLOOKUP(J616,'Codes tarifs éco-part'!$C$3:$E$466,3,FALSE)","v":"483"}]
["REP PMCB",2,"42332620000","-","Structure, maçonnerie, gros oeuvre, charpente","Eléments préfabriqués hors blocs de béton","Dérivés de bois >90%","Eléments de toutes dimensions et poids","€ / Tonne",8,"8 €/Tonne",{"$f":"VLOOKUP(J617,'Codes tarifs éco-part'!$C$3:$E$466,3,FALSE)","v":"483"}]
["REP PMCB",2,"42332820000","-","Structure, maçonnerie, gros oeuvre, charpente","Eléments préfabriqués hors blocs de béton","Assemblage de 3 matériaux ou plus sans un matériau à plus de 50%","Eléments de toutes dimensions et poids","€ / Tonne",30,"30 €/Tonne",{"$f":"VLOOKUP(J618,'Codes tarifs éco-part'!$C$3:$E$466,3,FALSE)","v":"153"}]
["REP PMCB",1,"42332860000","13 08 00 00","Structure, maçonnerie, gros oeuvre, charpente","Eléments préfabriqués hors blocs de béton","Pierre calcaire >90%","Eléments de toutes dimensions et poids","€ / Tonne",0.7,"0,7 €/Tonne",{"$f":"VLOOKUP(J619,'Codes tarifs éco-part'!$C$3:$E$466,3,FALSE)","v":"282"}]
["REP PMCB",1,"42332960000","12 80 40 00","Structure, maçonnerie, gros oeuvre, charpente","Eléments préfabriqués hors blocs de béton","Béton cellulaire >90%","Eléments de toutes dimensions et poids","€ / Tonne",2.09,"2,09 €/Tonne",{"$f":"VLOOKUP(J620,'Codes tarifs éco-part'!$C$3:$E$466,3,FALSE)","v":"468"}]
["REP PMCB",2,"42333000000","-","Structure, maçonnerie, gros oeuvre, charpente","Elements de ventilation de vide sanitaire","Non connu ou non spécifié par l'entreprise","Eléments de toutes dimensions et poids","€ / Tonne",30,"30 €/Tonne",{"$f":"VLOOKUP(J621,'Codes tarifs éco-part'!$C$3:$E$466,3,FALSE)","v":"153"}]
["REP PMCB",2,"42333020000","-","Structure, maçonnerie, gros oeuvre, charpente","Elements de ventilation de vide sanitaire","Assemblage avec métal >50% et autres matériaux","Eléments de toutes dimensions et poids","€ / Tonne",3,"3 €/Tonne",{"$f":"VLOOKUP(J622,'Codes tarifs éco-part'!$C$3:$E$466,3,FALSE)","v":"474"}]
["REP PMCB",2,"42333050000","-","Structure, maçonnerie, gros oeuvre, charpente","Elements de ventilation de vide sanitaire","Plastiques ou autres matériaux synthétiques >50%","Eléments de toutes dimensions et poids","€ / Tonne",30,"30 €/Tonne",{"$f":"VLOOKUP(J623,'Codes tarifs éco-part'!$C$3:$E$466,3,FALSE)","v":"153"}]
["REP PMCB",2,"42333120000","-","Structure, maçonnerie, gros oeuvre, charpente","Elements de ventilation de vide sanitaire","Autres","Eléments de toutes dimensions et poids","€ / Tonne",30,"30 €/Tonne",{"$f":"VLOOKUP(J624,'Codes tarifs éco-part'!$C$3:$E$466,3,FALSE)","v":"153"}]
["REP PMCB",2,"42333280000","-","Structure, maçonnerie, gros oeuvre, charpente","Elements de ventilation de vide sanitaire","Métal >90%","Eléments de toutes dimensions et poids","€ / Tonne",0.5,"0,5 €/Tonne",{"$f":"VLOOKUP(J625,'Codes tarifs éco-part'!$C$3:$E$466,3,FALSE)","v":"053"}]
["REP PMCB",2,"42333410000","-","Structure, maçonnerie, gros oeuvre, charpente","Elements de ventilation de vide sanitaire","Plastiques (mono résine) >90%","Eléments de toutes dimensions et poids","€ / Tonne",9,"9 €/Tonne",{"$f":"VLOOKUP(J626,'Codes tarifs éco-part'!$C$3:$E$466,3,FALSE)","v":"484"}]
["REP PMCB",2,"42333420000","-","Structure, maçonnerie, gros oeuvre, charpente","Elements de ventilation de vide sanitaire","Polyterephtalate d'Ethylène (PET) >90%","Eléments de toutes dimensions et poids","€ / Tonne",9,"9 €/Tonne",{"$f":"VLOOKUP(J627,'Codes tarifs éco-part'!$C$3:$E$466,3,FALSE)","v":"484"}]
["REP PMCB",2,"42333450000","-","Structure, maçonnerie, gros oeuvre, charpente","Elements de ventilation de vide sanitaire","PE ou PP ou mélange PP/PE >90%","Eléments de toutes dimensions et poids","€ / Tonne",9,"9 €/Tonne",{"$f":"VLOOKUP(J628,'Codes tarifs éco-part'!$C$3:$E$466,3,FALSE)","v":"484"}]
["REP PMCB",2,"42333460000","-","Structure, maçonnerie, gros oeuvre, charpente","Elements de ventilation de vide sanitaire","ABS >90%","Eléments de toutes dimensions et poids","€ / Tonne",9,"9 €/Tonne",{"$f":"VLOOKUP(J629,'Codes tarifs éco-part'!$C$3:$E$466,3,FALSE)","v":"484"}]
["REP PMCB",2,"42333470000","-","Structure, maçonnerie, gros oeuvre, charpente","Elements de ventilation de vide sanitaire","Polystyrène >90%","Eléments de toutes dimensions et poids","€ / Tonne",9,"9 €/Tonne",{"$f":"VLOOKUP(J630,'Codes tarifs éco-part'!$C$3:$E$466,3,FALSE)","v":"484"}]
["REP PMCB",2,"42333480000","-","Structure, maçonnerie, gros oeuvre, charpente","Elements de ventilation de vide sanitaire","PVC >90%","Eléments de toutes dimensions et poids","€ / Tonne",9,"9 €/Tonne",{"$f":"VLOOKUP(J631,'Codes tarifs éco-part'!$C$3:$E$466,3,FALSE)","v":"484"}]
["REP PMCB",2,"42333490000","-","Structure, maçonnerie, gros oeuvre, charpente","Elements de ventilation de vide sanitaire","Caoutchouc synthétique >90%","Eléments de toutes dimensions et poids","€ / Tonne",9,"9 €/Tonne",{"$f":"VLOOKUP(J632,'Codes tarifs éco-part'!$C$3:$E$466,3,FALSE)","v":"484"}]
["REP PMCB",2,"42333640000","-","Structure, maçonnerie, gros oeuvre, charpente","Elements de ventilation de vide sanitaire","Caoutchouc naturel >50%","Eléments de toutes dimensions et poids","€ / Tonne",9,"9 €/Tonne",{"$f":"VLOOKUP(J633,'Codes tarifs éco-part'!$C$3:$E$466,3,FALSE)","v":"484"}]
["REP PMCB",2,"42333650000","-","Structure, maçonnerie, gros oeuvre, charpente","Elements de ventilation de vide sanitaire","Matériaux ou fibres synthétiques >90%","Eléments de toutes dimensions et poids","€ / Tonne",30,"30 €/Tonne",{"$f":"VLOOKUP(J634,'Codes tarifs éco-part'!$C$3:$E$466,3,FALSE)","v":"153"}]
["REP PMCB",2,"42333670000","-","Structure, maçonnerie, gros oeuvre, charpente","Elements de ventilation de vide sanitaire","Assemblage matériaux ou fibres synthétiques >50% avec d'autres matériaux","Eléments de toutes dimensions et poids","€ / Tonne",30,"30 €/Tonne",{"$f":"VLOOKUP(J635,'Codes tarifs éco-part'!$C$3:$E$466,3,FALSE)","v":"153"}]
["REP PMCB",2,"42333700000","-","Structure, maçonnerie, gros oeuvre, charpente","Elements de ventilation de vide sanitaire","Assemblage verre à plus de 50% avec métal","Eléments de toutes dimensions et poids","€ / Tonne",9,"9 €/Tonne",{"$f":"VLOOKUP(J636,'Codes tarifs éco-part'!$C$3:$E$466,3,FALSE)","v":"484"}]
["REP PMCB",2,"42333710000","-","Structure, maçonnerie, gros oeuvre, charpente","Elements de ventilation de vide sanitaire","Assemblage verre à plus de 50% avec Inerte","Eléments de toutes dimensions et poids","€ / Tonne",9,"9 €/Tonne",{"$f":"VLOOKUP(J637,'Codes tarifs éco-part'!$C$3:$E$466,3,FALSE)","v":"484"}]
["REP PMCB",2,"42333720000","-","Structure, maçonnerie, gros oeuvre, charpente","Elements de ventilation de vide sanitaire","Assemblage verre à plus de 50% avec bois ou dérivés de bois","Eléments de toutes dimensions et poids","€ / Tonne",9,"9 €/Tonne",{"$f":"VLOOKUP(J638,'Codes tarifs éco-part'!$C$3:$E$466,3,FALSE)","v":"484"}]
["REP PMCB",2,"42333730000","-","Structure, maçonnerie, gros oeuvre, charpente","Elements de ventilation de vide sanitaire","Assemblage verre à plus de 50% avec plastique","Eléments de toutes dimensions et poids","€ / Tonne",9,"9 €/Tonne",{"$f":"VLOOKUP(J639,'Codes tarifs éco-part'!$C$3:$E$466,3,FALSE)","v":"484"}]
["REP PMCB",1,"42333740000","12 69 00 00","Structure, maçonnerie, gros oeuvre, charpente","Elements de ventilation de vide sanitaire","Béton >90%","Eléments de toutes dimensions et poids","€ / Tonne",3.2,"3,2 €/Tonne",{"$f":"VLOOKUP(J640,'Codes tarifs éco-part'!$C$3:$E$466,3,FALSE)","v":"476"}]
["REP PMCB",2,"42333820000","-","Structure, maçonnerie, gros oeuvre, charpente","Elements de ventilation de vide sanitaire","Assemblage de 3 matériaux ou plus sans un matériau à plus de 50%","Eléments de toutes dimensions et poids","€ / Tonne",30,"30 €/Tonne",{"$f":"VLOOKUP(J641,'Codes tarifs éco-part'!$C$3:$E$466,3,FALSE)","v":"153"}]
["REP PMCB",2,"42336000000","-","Structure, maçonnerie, gros oeuvre, charpente","Divers produits et matériaux de structure et charpente","Non connu ou non spécifié par l'entreprise","Eléments de toutes dimensions et poids","€ / Tonne",30,"30 €/Tonne",{"$f":"VLOOKUP(J642,'Codes tarifs éco-part'!$C$3:$E$466,3,FALSE)","v":"153"}]
["REP PMCB",2,"42336010000","-","Structure, maçonnerie, gros oeuvre, charpente","Divers produits et matériaux de structure et charpente","Assemblage de bois, dérivés de bois à plus de 50% avec d'autres matériaux ou bois composite (hors verre)","Eléments de toutes dimensions et poids","€ / Tonne",9,"9 €/Tonne",{"$f":"VLOOKUP(J643,'Codes tarifs éco-part'!$C$3:$E$466,3,FALSE)","v":"484"}]
["REP PMCB",2,"42336020000","-","Structure, maçonnerie, gros oeuvre, charpente","Divers produits et matériaux de structure et charpente","Assemblage avec métal >50% et autres matériaux","Eléments de toutes dimensions et poids","€ / Tonne",3,"3 €/Tonne",{"$f":"VLOOKUP(J644,'Codes tarifs éco-part'!$C$3:$E$466,3,FALSE)","v":"474"}]
["REP PMCB",2,"42336050000","-","Structure, maçonnerie, gros oeuvre, charpente","Divers produits et matériaux de structure et charpente","Plastiques ou autres matériaux synthétiques >50%","Eléments de toutes dimensions et poids","€ / Tonne",30,"30 €/Tonne",{"$f":"VLOOKUP(J645,'Codes tarifs éco-part'!$C$3:$E$466,3,FALSE)","v":"153"}]
["REP PMCB",2,"42336120000","-","Structure, maçonnerie, gros oeuvre, charpente","Divers produits et matériaux de structure et charpente","Autres","Eléments de toutes dimensions et poids","€ / Tonne",30,"30 €/Tonne",{"$f":"VLOOKUP(J646,'Codes tarifs éco-part'!$C$3:$E$466,3,FALSE)","v":"153"}]
["REP PMCB",2,"42336190000","-","Structure, maçonnerie, gros oeuvre, charpente","Divers produits et matériaux de structure et charpente","Papier carton >50% avec d'autres matériaux (hors verre)","Eléments de toutes dimensions et poids","€ / Tonne",17,"17 €/Tonne",{"$f":"VLOOKUP(J647,'Codes tarifs éco-part'!$C$3:$E$466,3,FALSE)","v":"487"}]
["REP PMCB",2,"42336280000","-","Structure, maçonnerie, gros oeuvre, charpente","Divers produits et matériaux de structure et charpente","Métal >90%","Eléments de toutes dimensions et poids","€ / Tonne",0.5,"0,5 €/Tonne",{"$f":"VLOOKUP(J648,'Codes tarifs éco-part'!$C$3:$E$466,3,FALSE)","v":"053"}]
["REP PMCB",2,"42336410000","-","Structure, maçonnerie, gros oeuvre, charpente","Divers produits et matériaux de structure et charpente","Plastiques (mono résine) >90%","Eléments de toutes dimensions et poids","€ / Tonne",9,"9 €/Tonne",{"$f":"VLOOKUP(J649,'Codes tarifs éco-part'!$C$3:$E$466,3,FALSE)","v":"484"}]
["REP PMCB",2,"42336420000","-","Structure, maçonnerie, gros oeuvre, charpente","Divers produits et matériaux de structure et charpente","Polyterephtalate d'Ethylène (PET) >90%","Eléments de toutes dimensions et poids","€ / Tonne",9,"9 €/Tonne",{"$f":"VLOOKUP(J650,'Codes tarifs éco-part'!$C$3:$E$466,3,FALSE)","v":"484"}]
["REP PMCB",2,"42336450000","-","Structure, maçonnerie, gros oeuvre, charpente","Divers produits et matériaux de structure et charpente","PE ou PP ou mélange PP/PE >90%","Eléments de toutes dimensions et poids","€ / Tonne",9,"9 €/Tonne",{"$f":"VLOOKUP(J651,'Codes tarifs éco-part'!$C$3:$E$466,3,FALSE)","v":"484"}]
["REP PMCB",2,"42336460000","-","Structure, maçonnerie, gros oeuvre, charpente","Divers produits et matériaux de structure et charpente","ABS >90%","Eléments de toutes dimensions et poids","€ / Tonne",9,"9 €/Tonne",{"$f":"VLOOKUP(J652,'Codes tarifs éco-part'!$C$3:$E$466,3,FALSE)","v":"484"}]
["REP PMCB",2,"42336470000","-","Structure, maçonnerie, gros oeuvre, charpente","Divers produits et matériaux de structure et charpente","Polystyrène >90%","Eléments de toutes dimensions et poids","€ / Tonne",9,"9 €/Tonne",{"$f":"VLOOKUP(J653,'Codes tarifs éco-part'!$C$3:$E$466,3,FALSE)","v":"484"}]
["REP PMCB",2,"42336480000","-","Structure, maçonnerie, gros oeuvre, charpente","Divers produits et matériaux de structure et charpente","PVC >90%","Eléments de toutes dimensions et poids","€ / Tonne",9,"9 €/Tonne",{"$f":"VLOOKUP(J654,'Codes tarifs éco-part'!$C$3:$E$466,3,FALSE)","v":"484"}]
["REP PMCB",2,"42336490000","-","Structure, maçonnerie, gros oeuvre, charpente","Divers produits et matériaux de structure et charpente","Caoutchouc synthétique >90%","Eléments de toutes dimensions et poids","€ / Tonne",9,"9 €/Tonne",{"$f":"VLOOKUP(J655,'Codes tarifs éco-part'!$C$3:$E$466,3,FALSE)","v":"484"}]
["REP PMCB",2,"42336530000","-","Structure, maçonnerie, gros oeuvre, charpente","Divers produits et matériaux de structure et charpente","Massif et assimilés >90%","Eléments de toutes dimensions et poids","€ / Tonne",8,"8 €/Tonne",{"$f":"VLOOKUP(J656,'Codes tarifs éco-part'!$C$3:$E$466,3,FALSE)","v":"483"}]
["REP PMCB",2,"42336550000","-","Structure, maçonnerie, gros oeuvre, charpente","Divers produits et matériaux de structure et charpente","Matériaux bio sourcés ou textiles non synthétiques >90%","Eléments de toutes dimensions et poids","€ / Tonne",4,"4 €/Tonne",{"$f":"VLOOKUP(J657,'Codes tarifs éco-part'!$C$3:$E$466,3,FALSE)","v":"274"}]
["REP PMCB",2,"42336610000","-","Structure, maçonnerie, gros oeuvre, charpente","Divers produits et matériaux de structure et charpente","Panneaux de particules ou OSB >90%","Eléments de toutes dimensions et poids","€ / Tonne",8,"8 €/Tonne",{"$f":"VLOOKUP(J658,'Codes tarifs éco-part'!$C$3:$E$466,3,FALSE)","v":"483"}]
["REP PMCB",2,"42336620000","-","Structure, maçonnerie, gros oeuvre, charpente","Divers produits et matériaux de structure et charpente","Dérivés de bois >90%","Eléments de toutes dimensions et poids","€ / Tonne",8,"8 €/Tonne",{"$f":"VLOOKUP(J659,'Codes tarifs éco-part'!$C$3:$E$466,3,FALSE)","v":"483"}]
["REP PMCB",2,"42336640000","-","Structure, maçonnerie, gros oeuvre, charpente","Divers produits et matériaux de structure et charpente","Caoutchouc naturel >50%","Eléments de toutes dimensions et poids","€ / Tonne",9,"9 €/Tonne",{"$f":"VLOOKUP(J660,'Codes tarifs éco-part'!$C$3:$E$466,3,FALSE)","v":"484"}]
["REP PMCB",2,"42336650000","-","Structure, maçonnerie, gros oeuvre, charpente","Divers produits et matériaux de structure et charpente","Matériaux ou fibres synthétiques >90%","Eléments de toutes dimensions et poids","€ / Tonne",30,"30 €/Tonne",{"$f":"VLOOKUP(J661,'Codes tarifs éco-part'!$C$3:$E$466,3,FALSE)","v":"153"}]
["REP PMCB",2,"42336670000","-","Structure, maçonnerie, gros oeuvre, charpente","Divers produits et matériaux de structure et charpente","Assemblage matériaux ou fibres synthétiques >50% avec d'autres matériaux","Eléments de toutes dimensions et poids","€ / Tonne",30,"30 €/Tonne",{"$f":"VLOOKUP(J662,'Codes tarifs éco-part'!$C$3:$E$466,3,FALSE)","v":"153"}]
["REP PMCB",2,"42336690000","-","Structure, maçonnerie, gros oeuvre, charpente","Divers produits et matériaux de structure et charpente","Miroir >90%","Eléments de toutes dimensions et poids","€ / Tonne",30,"30 €/Tonne",{"$f":"VLOOKUP(J663,'Codes tarifs éco-part'!$C$3:$E$466,3,FALSE)","v":"153"}]
["REP PMCB",2,"42336700000","-","Structure, maçonnerie, gros oeuvre, charpente","Divers produits et matériaux de structure et charpente","Assemblage verre à plus de 50% avec métal","Eléments de toutes dimensions et poids","€ / Tonne",9,"9 €/Tonne",{"$f":"VLOOKUP(J664,'Codes tarifs éco-part'!$C$3:$E$466,3,FALSE)","v":"484"}]
["REP PMCB",2,"42336710000","-","Structure, maçonnerie, gros oeuvre, charpente","Divers produits et matériaux de structure et charpente","Assemblage verre à plus de 50% avec Inerte","Eléments de toutes dimensions et poids","€ / Tonne",9,"9 €/Tonne",{"$f":"VLOOKUP(J665,'Codes tarifs éco-part'!$C$3:$E$466,3,FALSE)","v":"484"}]
["REP PMCB",2,"42336720000","-","Structure, maçonnerie, gros oeuvre, charpente","Divers produits et matériaux de structure et charpente","Assemblage verre à plus de 50% avec bois ou dérivés de bois","Eléments de toutes dimensions et poids","€ / Tonne",9,"9 €/Tonne",{"$f":"VLOOKUP(J666,'Codes tarifs éco-part'!$C$3:$E$466,3,FALSE)","v":"484"}]
["REP PMCB",2,"42336730000","-","Structure, maçonnerie, gros oeuvre, charpente","Divers produits et matériaux de structure et charpente","Assemblage verre à plus de 50% avec plastique","Eléments de toutes dimensions et poids","€ / Tonne",9,"9 €/Tonne",{"$f":"VLOOKUP(J667,'Codes tarifs éco-part'!$C$3:$E$466,3,FALSE)","v":"484"}]
["REP PMCB",1,"42336740000","12 32 00 00 | 12 31 00 00","Structure, maçonnerie, gros oeuvre, charpente","Divers produits et matériaux de structure et charpente","Béton >90%","Eléments de toutes dimensions et poids","€ / Tonne",2.78,"2,78 €/Tonne",{"$f":"VLOOKUP(J668,'Codes tarifs éco-part'!$C$3:$E$466,3,FALSE)","v":"473"}]
["REP PMCB",2,"42336800000","-","Structure, maçonnerie, gros oeuvre, charpente","Divers produits et matériaux de structure et charpente","Membranes bitumineuses à plus de 90 %","Eléments de toutes dimensions et poids","€ / Tonne",30,"30 €/Tonne",{"$f":"VLOOKUP(J669,'Codes tarifs éco-part'!$C$3:$E$466,3,FALSE)","v":"153"}]
["REP PMCB",2,"42336820000","-","Structure, maçonnerie, gros oeuvre, charpente","Divers produits et matériaux de structure et charpente","Assemblage de 3 matériaux ou plus sans un matériau à plus de 50%","Eléments de toutes dimensions et poids","€ / Tonne",30,"30 €/Tonne",{"$f":"VLOOKUP(J670,'Codes tarifs éco-part'!$C$3:$E$466,3,FALSE)","v":"153"}]
["REP PMCB",2,"43345000000","-","Couverture et étanchéité","Eléments de couverture","Non connu ou non spécifié par l'entreprise","Eléments de toutes dimensions et poids","€ / Tonne",30,"30 €/Tonne",{"$f":"VLOOKUP(J671,'Codes tarifs éco-part'!$C$3:$E$466,3,FALSE)","v":"153"}]
["REP PMCB",2,"43345010000","-","Couverture et étanchéité","Eléments de couverture","Assemblage de bois, dérivés de bois à plus de 50% avec d'autres matériaux ou bois composite (hors verre)","Eléments de toutes dimensions et poids","€ / Tonne",9,"9 €/Tonne",{"$f":"VLOOKUP(J672,'Codes tarifs éco-part'!$C$3:$E$466,3,FALSE)","v":"484"}]
["REP PMCB",2,"43345020000","-","Couverture et étanchéité","Eléments de couverture","Assemblage avec métal >50% et autres matériaux","Eléments de toutes dimensions et poids","€ / Tonne",3,"3 €/Tonne",{"$f":"VLOOKUP(J673,'Codes tarifs éco-part'!$C$3:$E$466,3,FALSE)","v":"474"}]
["REP PMCB",2,"43345050000","-","Couverture et étanchéité","Eléments de couverture","Plastiques ou autres matériaux synthétiques >50%","Eléments de toutes dimensions et poids","€ / Tonne",30,"30 €/Tonne",{"$f":"VLOOKUP(J674,'Codes tarifs éco-part'!$C$3:$E$466,3,FALSE)","v":"153"}]
["REP PMCB",2,"43345120000","-","Couverture et étanchéité","Eléments de couverture","Autres","Eléments de toutes dimensions et poids","€ / Tonne",30,"30 €/Tonne",{"$f":"VLOOKUP(J675,'Codes tarifs éco-part'!$C$3:$E$466,3,FALSE)","v":"153"}]
["REP PMCB",2,"43345280000","-","Couverture et étanchéité","Eléments de couverture","Métal >90%","Eléments de toutes dimensions et poids","€ / Tonne",0.5,"0,5 €/Tonne",{"$f":"VLOOKUP(J676,'Codes tarifs éco-part'!$C$3:$E$466,3,FALSE)","v":"053"}]
["REP PMCB",2,"43345410000","-","Couverture et étanchéité","Eléments de couverture","Plastiques (mono résine) >90%","Eléments de toutes dimensions et poids","€ / Tonne",9,"9 €/Tonne",{"$f":"VLOOKUP(J677,'Codes tarifs éco-part'!$C$3:$E$466,3,FALSE)","v":"484"}]
["REP PMCB",2,"43345420000","-","Couverture et étanchéité","Eléments de couverture","Polyterephtalate d'Ethylène (PET) >90%","Eléments de toutes dimensions et poids","€ / Tonne",9,"9 €/Tonne",{"$f":"VLOOKUP(J678,'Codes tarifs éco-part'!$C$3:$E$466,3,FALSE)","v":"484"}]
["REP PMCB",2,"43345450000","-","Couverture et étanchéité","Eléments de couverture","PE ou PP ou mélange PP/PE >90%","Eléments de toutes dimensions et poids","€ / Tonne",9,"9 €/Tonne",{"$f":"VLOOKUP(J679,'Codes tarifs éco-part'!$C$3:$E$466,3,FALSE)","v":"484"}]
["REP PMCB",2,"43345460000","-","Couverture et étanchéité","Eléments de couverture","ABS >90%","Eléments de toutes dimensions et poids","€ / Tonne",9,"9 €/Tonne",{"$f":"VLOOKUP(J680,'Codes tarifs éco-part'!$C$3:$E$466,3,FALSE)","v":"484"}]
["REP PMCB",2,"43345470000","-","Couverture et étanchéité","Eléments de couverture","Polystyrène >90%","Eléments de toutes dimensions et poids","€ / Tonne",9,"9 €/Tonne",{"$f":"VLOOKUP(J681,'Codes tarifs éco-part'!$C$3:$E$466,3,FALSE)","v":"484"}]
["REP PMCB",2,"43345480000","-","Couverture et étanchéité","Eléments de couverture","PVC >90%","Eléments de toutes dimensions et poids","€ / Tonne",9,"9 €/Tonne",{"$f":"VLOOKUP(J682,'Codes tarifs éco-part'!$C$3:$E$466,3,FALSE)","v":"484"}]
["REP PMCB",2,"43345490000","-","Couverture et étanchéité","Eléments de couverture","Caoutchouc synthétique >90%","Eléments de toutes dimensions et poids","€ / Tonne",9,"9 €/Tonne",{"$f":"VLOOKUP(J683,'Codes tarifs éco-part'!$C$3:$E$466,3,FALSE)","v":"484"}]
["REP PMCB",2,"43345530000","-","Couverture et étanchéité","Eléments de couverture","Massif et assimilés >90%","Eléments de toutes dimensions et poids","€ / Tonne",8,"8 €/Tonne",{"$f":"VLOOKUP(J684,'Codes tarifs éco-part'!$C$3:$E$466,3,FALSE)","v":"483"}]
["REP PMCB",2,"43345550000","-","Couverture et étanchéité","Eléments de couverture","Matériaux bio sourcés ou textiles non synthétiques >90%","Eléments de toutes dimensions et poids","€ / Tonne",4,"4 €/Tonne",{"$f":"VLOOKUP(J685,'Codes tarifs éco-part'!$C$3:$E$466,3,FALSE)","v":"274"}]
["REP PMCB",2,"43345610000","-","Couverture et étanchéité","Eléments de couverture","Panneaux de particules ou OSB >90%","Eléments de toutes dimensions et poids","€ / Tonne",8,"8 €/Tonne",{"$f":"VLOOKUP(J686,'Codes tarifs éco-part'!$C$3:$E$466,3,FALSE)","v":"483"}]
["REP PMCB",2,"43345620000","-","Couverture et étanchéité","Eléments de couverture","Dérivés de bois >90%","Eléments de toutes dimensions et poids","€ / Tonne",8,"8 €/Tonne",{"$f":"VLOOKUP(J687,'Codes tarifs éco-part'!$C$3:$E$466,3,FALSE)","v":"483"}]
["REP PMCB",2,"43345640000","-","Couverture et étanchéité","Eléments de couverture","Caoutchouc naturel >50%","Eléments de toutes dimensions et poids","€ / Tonne",9,"9 €/Tonne",{"$f":"VLOOKUP(J688,'Codes tarifs éco-part'!$C$3:$E$466,3,FALSE)","v":"484"}]
["REP PMCB",2,"43345650000","-","Couverture et étanchéité","Eléments de couverture","Matériaux ou fibres synthétiques >90%","Eléments de toutes dimensions et poids","€ / Tonne",30,"30 €/Tonne",{"$f":"VLOOKUP(J689,'Codes tarifs éco-part'!$C$3:$E$466,3,FALSE)","v":"153"}]
["REP PMCB",2,"43345670000","-","Couverture et étanchéité","Eléments de couverture","Assemblage matériaux ou fibres synthétiques >50% avec d'autres matériaux","Eléments de toutes dimensions et poids","€ / Tonne",30,"30 €/Tonne",{"$f":"VLOOKUP(J690,'Codes tarifs éco-part'!$C$3:$E$466,3,FALSE)","v":"153"}]
["REP PMCB",1,"43345740000","12 46 20 00","Couverture et étanchéité","Eléments de couverture","Béton >90%","Eléments de toutes dimensions et poids","€ / Tonne",1.77,"1,77 €/Tonne",{"$f":"VLOOKUP(J691,'Codes tarifs éco-part'!$C$3:$E$466,3,FALSE)","v":"466"}]
["REP PMCB",2,"43345800000","-","Couverture et étanchéité","Eléments de couverture","Membranes bitumineuses à plus de 90 %","Eléments de toutes dimensions et poids","€ / Tonne",30,"30 €/Tonne",{"$f":"VLOOKUP(J692,'Codes tarifs éco-part'!$C$3:$E$466,3,FALSE)","v":"153"}]
["REP PMCB",2,"43345801010",null,"Couverture et étanchéité","Eléments de couverture","Membranes bitumineuses à plus de 90 %","Eléments de toutes dimensions et poids","€ / m2",0.17,"0,17 €/m2",{"$f":"VLOOKUP(J693,'Codes tarifs éco-part'!$C$3:$E$466,3,FALSE)","v":"005"}]
["REP PMCB",2,"43345820000","-","Couverture et étanchéité","Eléments de couverture","Assemblage de 3 matériaux ou plus sans un matériau à plus de 50%","Eléments de toutes dimensions et poids","€ / Tonne",30,"30 €/Tonne",{"$f":"VLOOKUP(J694,'Codes tarifs éco-part'!$C$3:$E$466,3,FALSE)","v":"153"}]
["REP PMCB",1,"43345840000","11 00 00 00","Couverture et étanchéité","Eléments de couverture","Ardoise >90%","Eléments de toutes dimensions et poids","€ / Tonne",0.7,"0,7 €/Tonne",{"$f":"VLOOKUP(J695,'Codes tarifs éco-part'!$C$3:$E$466,3,FALSE)","v":"282"}]
["REP PMCB",1,"43345890000","18 10 00 00 | 18 08 00 00 | 18 09 00 00 | 18 06 00 00 | 18 07 00 00 | 18 05 00 00","Couverture et étanchéité","Eléments de couverture","Terre cuite ou crue >90%","Eléments de toutes dimensions et poids","€ / Tonne",0.75,"0,75 €/Tonne",{"$f":"VLOOKUP(J696,'Codes tarifs éco-part'!$C$3:$E$466,3,FALSE)","v":"328"}]
["REP PMCB",2,"43346000000","-","Couverture et étanchéité","Produits d'étanchéité et d'imperméabilisation","Non connu ou non spécifié par l'entreprise","Eléments de toutes dimensions et poids","€ / Tonne",30,"30 €/Tonne",{"$f":"VLOOKUP(J697,'Codes tarifs éco-part'!$C$3:$E$466,3,FALSE)","v":"153"}]
["REP PMCB",2,"43346020000","-","Couverture et étanchéité","Produits d'étanchéité et d'imperméabilisation","Assemblage avec métal >50% et autres matériaux","Eléments de toutes dimensions et poids","€ / Tonne",3,"3 €/Tonne",{"$f":"VLOOKUP(J698,'Codes tarifs éco-part'!$C$3:$E$466,3,FALSE)","v":"474"}]
["REP PMCB",2,"43346050000","-","Couverture et étanchéité","Produits d'étanchéité et d'imperméabilisation","Plastiques ou autres matériaux synthétiques >50%","Eléments de toutes dimensions et poids","€ / Tonne",30,"30 €/Tonne",{"$f":"VLOOKUP(J699,'Codes tarifs éco-part'!$C$3:$E$466,3,FALSE)","v":"153"}]
["REP PMCB",2,"43346120000","-","Couverture et étanchéité","Produits d'étanchéité et d'imperméabilisation","Autres","Eléments de toutes dimensions et poids","€ / Tonne",30,"30 €/Tonne",{"$f":"VLOOKUP(J700,'Codes tarifs éco-part'!$C$3:$E$466,3,FALSE)","v":"153"}]
["REP PMCB",2,"43346280000","-","Couverture et étanchéité","Produits d'étanchéité et d'imperméabilisation","Métal >90%","Eléments de toutes dimensions et poids","€ / Tonne",0.5,"0,5 €/Tonne",{"$f":"VLOOKUP(J701,'Codes tarifs éco-part'!$C$3:$E$466,3,FALSE)","v":"053"}]
["REP PMCB",2,"43346410000","-","Couverture et étanchéité","Produits d'étanchéité et d'imperméabilisation","Plastiques (mono résine) >90%","Eléments de toutes dimensions et poids","€ / Tonne",9,"9 €/Tonne",{"$f":"VLOOKUP(J702,'Codes tarifs éco-part'!$C$3:$E$466,3,FALSE)","v":"484"}]
["REP PMCB",2,"43346420000","-","Couverture et étanchéité","Produits d'étanchéité et d'imperméabilisation","Polyterephtalate d'Ethylène (PET) >90%","Eléments de toutes dimensions et poids","€ / Tonne",9,"9 €/Tonne",{"$f":"VLOOKUP(J703,'Codes tarifs éco-part'!$C$3:$E$466,3,FALSE)","v":"484"}]
["REP PMCB",2,"43346450000","-","Couverture et étanchéité","Produits d'étanchéité et d'imperméabilisation","PE ou PP ou mélange PP/PE >90%","Eléments de toutes dimensions et poids","€ / Tonne",9,"9 €/Tonne",{"$f":"VLOOKUP(J704,'Codes tarifs éco-part'!$C$3:$E$466,3,FALSE)","v":"484"}]
["REP PMCB",2,"43346460000","-","Couverture et étanchéité","Produits d'étanchéité et d'imperméabilisation","ABS >90%","Eléments de toutes dimensions et poids","€ / Tonne",9,"9 €/Tonne",{"$f":"VLOOKUP(J705,'Codes tarifs éco-part'!$C$3:$E$466,3,FALSE)","v":"484"}]
["REP PMCB",2,"43346470000","-","Couverture et étanchéité","Produits d'étanchéité et d'imperméabilisation","Polystyrène >90%","Eléments de toutes dimensions et poids","€ / Tonne",9,"9 €/Tonne",{"$f":"VLOOKUP(J706,'Codes tarifs éco-part'!$C$3:$E$466,3,FALSE)","v":"484"}]
["REP PMCB",2,"43346480000","-","Couverture et étanchéité","Produits d'étanchéité et d'imperméabilisation","PVC >90%","Eléments de toutes dimensions et poids","€ / Tonne",9,"9 €/Tonne",{"$f":"VLOOKUP(J707,'Codes tarifs éco-part'!$C$3:$E$466,3,FALSE)","v":"484"}]
["REP PMCB",2,"43346490000","-","Couverture et étanchéité","Produits d'étanchéité et d'imperméabilisation","Caoutchouc synthétique >90%","Eléments de toutes dimensions et poids","€ / Tonne",9,"9 €/Tonne",{"$f":"VLOOKUP(J708,'Codes tarifs éco-part'!$C$3:$E$466,3,FALSE)","v":"484"}]
["REP PMCB",2,"43346640000","-","Couverture et étanchéité","Produits d'étanchéité et d'imperméabilisation","Caoutchouc naturel >50%","Eléments de toutes dimensions et poids","€ / Tonne",9,"9 €/Tonne",{"$f":"VLOOKUP(J709,'Codes tarifs éco-part'!$C$3:$E$466,3,FALSE)","v":"484"}]
["REP PMCB",2,"43346650000","-","Couverture et étanchéité","Produits d'étanchéité et d'imperméabilisation","Matériaux ou fibres synthétiques >90%","Eléments de toutes dimensions et poids","€ / Tonne",30,"30 €/Tonne",{"$f":"VLOOKUP(J710,'Codes tarifs éco-part'!$C$3:$E$466,3,FALSE)","v":"153"}]
["REP PMCB",2,"43346670000","-","Couverture et étanchéité","Produits d'étanchéité et d'imperméabilisation","Assemblage matériaux ou fibres synthétiques >50% avec d'autres matériaux","Eléments de toutes dimensions et poids","€ / Tonne",30,"30 €/Tonne",{"$f":"VLOOKUP(J711,'Codes tarifs éco-part'!$C$3:$E$466,3,FALSE)","v":"153"}]
["REP PMCB",2,"43346800000","-","Couverture et étanchéité","Produits d'étanchéité et d'imperméabilisation","Membranes bitumineuses à plus de 90 %","Eléments de toutes dimensions et poids","€ / Tonne",30,"30 €/Tonne",{"$f":"VLOOKUP(J712,'Codes tarifs éco-part'!$C$3:$E$466,3,FALSE)","v":"153"}]
["REP PMCB",2,"43346801010",null,"Couverture et étanchéité","Produits d'étanchéité et d'imperméabilisation","Membranes bitumineuses à plus de 90 %","Eléments de toutes dimensions et poids","€ / m2",0.17,"0,17 €/m2",{"$f":"VLOOKUP(J713,'Codes tarifs éco-part'!$C$3:$E$466,3,FALSE)","v":"005"}]
["REP PMCB",2,"43346820000","-","Couverture et étanchéité","Produits d'étanchéité et d'imperméabilisation","Assemblage de 3 matériaux ou plus sans un matériau à plus de 50%","Eléments de toutes dimensions et poids","€ / Tonne",30,"30 €/Tonne",{"$f":"VLOOKUP(J714,'Codes tarifs éco-part'!$C$3:$E$466,3,FALSE)","v":"153"}]
["REP PMCB",2,"43349000000","-","Couverture et étanchéité","Divers élements de couverture et étanchéité (hors droguerie)","Non connu ou non spécifié par l'entreprise","Eléments de toutes dimensions et poids","€ / Tonne",30,"30 €/Tonne",{"$f":"VLOOKUP(J715,'Codes tarifs éco-part'!$C$3:$E$466,3,FALSE)","v":"153"}]
["REP PMCB",2,"43349010000","-","Couverture et étanchéité","Divers élements de couverture et étanchéité (hors droguerie)","Assemblage de bois, dérivés de bois à plus de 50% avec d'autres matériaux ou bois composite (hors verre)","Eléments de toutes dimensions et poids","€ / Tonne",9,"9 €/Tonne",{"$f":"VLOOKUP(J716,'Codes tarifs éco-part'!$C$3:$E$466,3,FALSE)","v":"484"}]
["REP PMCB",2,"43349020000","-","Couverture et étanchéité","Divers élements de couverture et étanchéité (hors droguerie)","Assemblage avec métal >50% et autres matériaux","Eléments de toutes dimensions et poids","€ / Tonne",3,"3 €/Tonne",{"$f":"VLOOKUP(J717,'Codes tarifs éco-part'!$C$3:$E$466,3,FALSE)","v":"474"}]
["REP PMCB",2,"43349050000","-","Couverture et étanchéité","Divers élements de couverture et étanchéité (hors droguerie)","Plastiques ou autres matériaux synthétiques >50%","Eléments de toutes dimensions et poids","€ / Tonne",30,"30 €/Tonne",{"$f":"VLOOKUP(J718,'Codes tarifs éco-part'!$C$3:$E$466,3,FALSE)","v":"153"}]
["REP PMCB",2,"43349120000","-","Couverture et étanchéité","Divers élements de couverture et étanchéité (hors droguerie)","Autres","Eléments de toutes dimensions et poids","€ / Tonne",30,"30 €/Tonne",{"$f":"VLOOKUP(J719,'Codes tarifs éco-part'!$C$3:$E$466,3,FALSE)","v":"153"}]
["REP PMCB",2,"43349190000","-","Couverture et étanchéité","Divers élements de couverture et étanchéité (hors droguerie)","Papier carton >50% avec d'autres matériaux (hors verre)","Eléments de toutes dimensions et poids","€ / Tonne",17,"17 €/Tonne",{"$f":"VLOOKUP(J720,'Codes tarifs éco-part'!$C$3:$E$466,3,FALSE)","v":"487"}]
["REP PMCB",2,"43349280000","-","Couverture et étanchéité","Divers élements de couverture et étanchéité (hors droguerie)","Métal >90%","Eléments de toutes dimensions et poids","€ / Tonne",0.5,"0,5 €/Tonne",{"$f":"VLOOKUP(J721,'Codes tarifs éco-part'!$C$3:$E$466,3,FALSE)","v":"053"}]
["REP PMCB",2,"43349410000","-","Couverture et étanchéité","Divers élements de couverture et étanchéité (hors droguerie)","Plastiques (mono résine) >90%","Eléments de toutes dimensions et poids","€ / Tonne",9,"9 €/Tonne",{"$f":"VLOOKUP(J722,'Codes tarifs éco-part'!$C$3:$E$466,3,FALSE)","v":"484"}]
["REP PMCB",2,"43349420000","-","Couverture et étanchéité","Divers élements de couverture et étanchéité (hors droguerie)","Polyterephtalate d'Ethylène (PET) >90%","Eléments de toutes dimensions et poids","€ / Tonne",9,"9 €/Tonne",{"$f":"VLOOKUP(J723,'Codes tarifs éco-part'!$C$3:$E$466,3,FALSE)","v":"484"}]
["REP PMCB",2,"43349450000","-","Couverture et étanchéité","Divers élements de couverture et étanchéité (hors droguerie)","PE ou PP ou mélange PP/PE >90%","Eléments de toutes dimensions et poids","€ / Tonne",9,"9 €/Tonne",{"$f":"VLOOKUP(J724,'Codes tarifs éco-part'!$C$3:$E$466,3,FALSE)","v":"484"}]
["REP PMCB",2,"43349460000","-","Couverture et étanchéité","Divers élements de couverture et étanchéité (hors droguerie)","ABS >90%","Eléments de toutes dimensions et poids","€ / Tonne",9,"9 €/Tonne",{"$f":"VLOOKUP(J725,'Codes tarifs éco-part'!$C$3:$E$466,3,FALSE)","v":"484"}]
["REP PMCB",2,"43349470000","-","Couverture et étanchéité","Divers élements de couverture et étanchéité (hors droguerie)","Polystyrène >90%","Eléments de toutes dimensions et poids","€ / Tonne",9,"9 €/Tonne",{"$f":"VLOOKUP(J726,'Codes tarifs éco-part'!$C$3:$E$466,3,FALSE)","v":"484"}]
["REP PMCB",2,"43349480000","-","Couverture et étanchéité","Divers élements de couverture et étanchéité (hors droguerie)","PVC >90%","Eléments de toutes dimensions et poids","€ / Tonne",9,"9 €/Tonne",{"$f":"VLOOKUP(J727,'Codes tarifs éco-part'!$C$3:$E$466,3,FALSE)","v":"484"}]
["REP PMCB",2,"43349490000","-","Couverture et étanchéité","Divers élements de couverture et étanchéité (hors droguerie)","Caoutchouc synthétique >90%","Eléments de toutes dimensions et poids","€ / Tonne",9,"9 €/Tonne",{"$f":"VLOOKUP(J728,'Codes tarifs éco-part'!$C$3:$E$466,3,FALSE)","v":"484"}]
["REP PMCB",2,"43349530000","-","Couverture et étanchéité","Divers élements de couverture et étanchéité (hors droguerie)","Massif et assimilés >90%","Eléments de toutes dimensions et poids","€ / Tonne",8,"8 €/Tonne",{"$f":"VLOOKUP(J729,'Codes tarifs éco-part'!$C$3:$E$466,3,FALSE)","v":"483"}]
["REP PMCB",2,"43349550000","-","Couverture et étanchéité","Divers élements de couverture et étanchéité (hors droguerie)","Matériaux bio sourcés ou textiles non synthétiques >90%","Eléments de toutes dimensions et poids","€ / Tonne",4,"4 €/Tonne",{"$f":"VLOOKUP(J730,'Codes tarifs éco-part'!$C$3:$E$466,3,FALSE)","v":"274"}]
["REP PMCB",2,"43349610000","-","Couverture et étanchéité","Divers élements de couverture et étanchéité (hors droguerie)","Panneaux de particules ou OSB >90%","Eléments de toutes dimensions et poids","€ / Tonne",8,"8 €/Tonne",{"$f":"VLOOKUP(J731,'Codes tarifs éco-part'!$C$3:$E$466,3,FALSE)","v":"483"}]
["REP PMCB",2,"43349620000","-","Couverture et étanchéité","Divers élements de couverture et étanchéité (hors droguerie)","Dérivés de bois >90%","Eléments de toutes dimensions et poids","€ / Tonne",8,"8 €/Tonne",{"$f":"VLOOKUP(J732,'Codes tarifs éco-part'!$C$3:$E$466,3,FALSE)","v":"483"}]
["REP PMCB",2,"43349640000","-","Couverture et étanchéité","Divers élements de couverture et étanchéité (hors droguerie)","Caoutchouc naturel >50%","Eléments de toutes dimensions et poids","€ / Tonne",9,"9 €/Tonne",{"$f":"VLOOKUP(J733,'Codes tarifs éco-part'!$C$3:$E$466,3,FALSE)","v":"484"}]
["REP PMCB",2,"43349650000","-","Couverture et étanchéité","Divers élements de couverture et étanchéité (hors droguerie)","Matériaux ou fibres synthétiques >90%","Eléments de toutes dimensions et poids","€ / Tonne",30,"30 €/Tonne",{"$f":"VLOOKUP(J734,'Codes tarifs éco-part'!$C$3:$E$466,3,FALSE)","v":"153"}]
["REP PMCB",2,"43349670000","-","Couverture et étanchéité","Divers élements de couverture et étanchéité (hors droguerie)","Assemblage matériaux ou fibres synthétiques >50% avec d'autres matériaux","Eléments de toutes dimensions et poids","€ / Tonne",30,"30 €/Tonne",{"$f":"VLOOKUP(J735,'Codes tarifs éco-part'!$C$3:$E$466,3,FALSE)","v":"153"}]
["REP PMCB",2,"43349690000","-","Couverture et étanchéité","Divers élements de couverture et étanchéité (hors droguerie)","Miroir >90%","Eléments de toutes dimensions et poids","€ / Tonne",30,"30 €/Tonne",{"$f":"VLOOKUP(J736,'Codes tarifs éco-part'!$C$3:$E$466,3,FALSE)","v":"153"}]
["REP PMCB",2,"43349700000","-","Couverture et étanchéité","Divers élements de couverture et étanchéité (hors droguerie)","Assemblage verre à plus de 50% avec métal","Eléments de toutes dimensions et poids","€ / Tonne",9,"9 €/Tonne",{"$f":"VLOOKUP(J737,'Codes tarifs éco-part'!$C$3:$E$466,3,FALSE)","v":"484"}]
["REP PMCB",2,"43349710000","-","Couverture et étanchéité","Divers élements de couverture et étanchéité (hors droguerie)","Assemblage verre à plus de 50% avec Inerte","Eléments de toutes dimensions et poids","€ / Tonne",9,"9 €/Tonne",{"$f":"VLOOKUP(J738,'Codes tarifs éco-part'!$C$3:$E$466,3,FALSE)","v":"484"}]
["REP PMCB",2,"43349720000","-","Couverture et étanchéité","Divers élements de couverture et étanchéité (hors droguerie)","Assemblage verre à plus de 50% avec bois ou dérivés de bois","Eléments de toutes dimensions et poids","€ / Tonne",9,"9 €/Tonne",{"$f":"VLOOKUP(J739,'Codes tarifs éco-part'!$C$3:$E$466,3,FALSE)","v":"484"}]
["REP PMCB",2,"43349730000","-","Couverture et étanchéité","Divers élements de couverture et étanchéité (hors droguerie)","Assemblage verre à plus de 50% avec plastique","Eléments de toutes dimensions et poids","€ / Tonne",9,"9 €/Tonne",{"$f":"VLOOKUP(J740,'Codes tarifs éco-part'!$C$3:$E$466,3,FALSE)","v":"484"}]
["REP PMCB",2,"43349760000","-","Couverture et étanchéité","Divers élements de couverture et étanchéité (hors droguerie)","Plâtre >50%","Eléments de toutes dimensions et poids","€ / Tonne",4,"4 €/Tonne",{"$f":"VLOOKUP(J741,'Codes tarifs éco-part'!$C$3:$E$466,3,FALSE)","v":"274"}]
["REP PMCB",2,"43349800000","-","Couverture et étanchéité","Divers élements de couverture et étanchéité (hors droguerie)","Membranes bitumineuses à plus de 90 %","Eléments de toutes dimensions et poids","€ / Tonne",30,"30 €/Tonne",{"$f":"VLOOKUP(J742,'Codes tarifs éco-part'!$C$3:$E$466,3,FALSE)","v":"153"}]
["REP PMCB",2,"43349801010",null,"Couverture et étanchéité","Divers élements de couverture et étanchéité (hors droguerie)","Membranes bitumineuses à plus de 90 %","Eléments de toutes dimensions et poids","€ / m2",0.17,"0,17 €/m2",{"$f":"VLOOKUP(J743,'Codes tarifs éco-part'!$C$3:$E$466,3,FALSE)","v":"005"}]
["REP PMCB",2,"43349820000","-","Couverture et étanchéité","Divers élements de couverture et étanchéité (hors droguerie)","Assemblage de 3 matériaux ou plus sans un matériau à plus de 50%","Eléments de toutes dimensions et poids","€ / Tonne",30,"30 €/Tonne",{"$f":"VLOOKUP(J744,'Codes tarifs éco-part'!$C$3:$E$466,3,FALSE)","v":"153"}]
["REP PMCB",2,"44355000000","-","Cloisonnement, plafonds","Cloisons (hors plâtre et isolation)","Non connu ou non spécifié par l'entreprise","Eléments de toutes dimensions et poids","€ / Tonne",30,"30 €/Tonne",{"$f":"VLOOKUP(J745,'Codes tarifs éco-part'!$C$3:$E$466,3,FALSE)","v":"153"}]
["REP PMCB",2,"44355010000","-","Cloisonnement, plafonds","Cloisons (hors plâtre et isolation)","Assemblage de bois, dérivés de bois à plus de 50% avec d'autres matériaux ou bois composite (hors verre)","Eléments de toutes dimensions et poids","€ / Tonne",9,"9 €/Tonne",{"$f":"VLOOKUP(J746,'Codes tarifs éco-part'!$C$3:$E$466,3,FALSE)","v":"484"}]
["REP PMCB",2,"44355020000","-","Cloisonnement, plafonds","Cloisons (hors plâtre et isolation)","Assemblage avec métal >50% et autres matériaux","Eléments de toutes dimensions et poids","€ / Tonne",3,"3 €/Tonne",{"$f":"VLOOKUP(J747,'Codes tarifs éco-part'!$C$3:$E$466,3,FALSE)","v":"474"}]
["REP PMCB",2,"44355050000","-","Cloisonnement, plafonds","Cloisons (hors plâtre et isolation)","Plastiques ou autres matériaux synthétiques >50%","Eléments de toutes dimensions et poids","€ / Tonne",30,"30 €/Tonne",{"$f":"VLOOKUP(J748,'Codes tarifs éco-part'!$C$3:$E$466,3,FALSE)","v":"153"}]
["REP PMCB",2,"44355120000","-","Cloisonnement, plafonds","Cloisons (hors plâtre et isolation)","Autres","Eléments de toutes dimensions et poids","€ / Tonne",30,"30 €/Tonne",{"$f":"VLOOKUP(J749,'Codes tarifs éco-part'!$C$3:$E$466,3,FALSE)","v":"153"}]
["REP PMCB",2,"44355190000","-","Cloisonnement, plafonds","Cloisons (hors plâtre et isolation)","Papier carton >50% avec d'autres matériaux (hors verre)","Eléments de toutes dimensions et poids","€ / Tonne",17,"17 €/Tonne",{"$f":"VLOOKUP(J750,'Codes tarifs éco-part'!$C$3:$E$466,3,FALSE)","v":"487"}]
["REP PMCB",2,"44355280000","-","Cloisonnement, plafonds","Cloisons (hors plâtre et isolation)","Métal >90%","Eléments de toutes dimensions et poids","€ / Tonne",0.5,"0,5 €/Tonne",{"$f":"VLOOKUP(J751,'Codes tarifs éco-part'!$C$3:$E$466,3,FALSE)","v":"053"}]
["REP PMCB",2,"44355410000","-","Cloisonnement, plafonds","Cloisons (hors plâtre et isolation)","Plastiques (mono résine) >90%","Eléments de toutes dimensions et poids","€ / Tonne",9,"9 €/Tonne",{"$f":"VLOOKUP(J752,'Codes tarifs éco-part'!$C$3:$E$466,3,FALSE)","v":"484"}]
["REP PMCB",2,"44355420000","-","Cloisonnement, plafonds","Cloisons (hors plâtre et isolation)","Polyterephtalate d'Ethylène (PET) >90%","Eléments de toutes dimensions et poids","€ / Tonne",9,"9 €/Tonne",{"$f":"VLOOKUP(J753,'Codes tarifs éco-part'!$C$3:$E$466,3,FALSE)","v":"484"}]
["REP PMCB",2,"44355450000","-","Cloisonnement, plafonds","Cloisons (hors plâtre et isolation)","PE ou PP ou mélange PP/PE >90%","Eléments de toutes dimensions et poids","€ / Tonne",9,"9 €/Tonne",{"$f":"VLOOKUP(J754,'Codes tarifs éco-part'!$C$3:$E$466,3,FALSE)","v":"484"}]
["REP PMCB",2,"44355460000","-","Cloisonnement, plafonds","Cloisons (hors plâtre et isolation)","ABS >90%","Eléments de toutes dimensions et poids","€ / Tonne",9,"9 €/Tonne",{"$f":"VLOOKUP(J755,'Codes tarifs éco-part'!$C$3:$E$466,3,FALSE)","v":"484"}]
["REP PMCB",2,"44355470000","-","Cloisonnement, plafonds","Cloisons (hors plâtre et isolation)","Polystyrène >90%","Eléments de toutes dimensions et poids","€ / Tonne",9,"9 €/Tonne",{"$f":"VLOOKUP(J756,'Codes tarifs éco-part'!$C$3:$E$466,3,FALSE)","v":"484"}]
["REP PMCB",2,"44355480000","-","Cloisonnement, plafonds","Cloisons (hors plâtre et isolation)","PVC >90%","Eléments de toutes dimensions et poids","€ / Tonne",9,"9 €/Tonne",{"$f":"VLOOKUP(J757,'Codes tarifs éco-part'!$C$3:$E$466,3,FALSE)","v":"484"}]
["REP PMCB",2,"44355530000","-","Cloisonnement, plafonds","Cloisons (hors plâtre et isolation)","Massif et assimilés >90%","Eléments de toutes dimensions et poids","€ / Tonne",8,"8 €/Tonne",{"$f":"VLOOKUP(J758,'Codes tarifs éco-part'!$C$3:$E$466,3,FALSE)","v":"483"}]
["REP PMCB",2,"44355550000","-","Cloisonnement, plafonds","Cloisons (hors plâtre et isolation)","Matériaux bio sourcés ou textiles non synthétiques >90%","Eléments de toutes dimensions et poids","€ / Tonne",4,"4 €/Tonne",{"$f":"VLOOKUP(J759,'Codes tarifs éco-part'!$C$3:$E$466,3,FALSE)","v":"274"}]
["REP PMCB",2,"44355610000","-","Cloisonnement, plafonds","Cloisons (hors plâtre et isolation)","Panneaux de particules ou OSB >90%","Eléments de toutes dimensions et poids","€ / Tonne",8,"8 €/Tonne",{"$f":"VLOOKUP(J760,'Codes tarifs éco-part'!$C$3:$E$466,3,FALSE)","v":"483"}]
["REP PMCB",2,"44355620000","-","Cloisonnement, plafonds","Cloisons (hors plâtre et isolation)","Dérivés de bois >90%","Eléments de toutes dimensions et poids","€ / Tonne",8,"8 €/Tonne",{"$f":"VLOOKUP(J761,'Codes tarifs éco-part'!$C$3:$E$466,3,FALSE)","v":"483"}]
["REP PMCB",2,"44355670000","-","Cloisonnement, plafonds","Cloisons (hors plâtre et isolation)","Assemblage matériaux ou fibres synthétiques >50% avec d'autres matériaux","Eléments de toutes dimensions et poids","€ / Tonne",30,"30 €/Tonne",{"$f":"VLOOKUP(J762,'Codes tarifs éco-part'!$C$3:$E$466,3,FALSE)","v":"153"}]
["REP PMCB",2,"44355690000","-","Cloisonnement, plafonds","Cloisons (hors plâtre et isolation)","Miroir >90%","Eléments de toutes dimensions et poids","€ / Tonne",30,"30 €/Tonne",{"$f":"VLOOKUP(J763,'Codes tarifs éco-part'!$C$3:$E$466,3,FALSE)","v":"153"}]
["REP PMCB",2,"44355700000","-","Cloisonnement, plafonds","Cloisons (hors plâtre et isolation)","Assemblage verre à plus de 50% avec métal","Eléments de toutes dimensions et poids","€ / Tonne",9,"9 €/Tonne",{"$f":"VLOOKUP(J764,'Codes tarifs éco-part'!$C$3:$E$466,3,FALSE)","v":"484"}]
["REP PMCB",2,"44355710000","-","Cloisonnement, plafonds","Cloisons (hors plâtre et isolation)","Assemblage verre à plus de 50% avec Inerte","Eléments de toutes dimensions et poids","€ / Tonne",9,"9 €/Tonne",{"$f":"VLOOKUP(J765,'Codes tarifs éco-part'!$C$3:$E$466,3,FALSE)","v":"484"}]
["REP PMCB",2,"44355720000","-","Cloisonnement, plafonds","Cloisons (hors plâtre et isolation)","Assemblage verre à plus de 50% avec bois ou dérivés de bois","Eléments de toutes dimensions et poids","€ / Tonne",9,"9 €/Tonne",{"$f":"VLOOKUP(J766,'Codes tarifs éco-part'!$C$3:$E$466,3,FALSE)","v":"484"}]
["REP PMCB",2,"44355730000","-","Cloisonnement, plafonds","Cloisons (hors plâtre et isolation)","Assemblage verre à plus de 50% avec plastique","Eléments de toutes dimensions et poids","€ / Tonne",9,"9 €/Tonne",{"$f":"VLOOKUP(J767,'Codes tarifs éco-part'!$C$3:$E$466,3,FALSE)","v":"484"}]
["REP PMCB",1,"44355740000","12 41 10 00","Cloisonnement, plafonds","Cloisons (hors plâtre et isolation)","Béton >90%","Eléments de toutes dimensions et poids","€ / Tonne",2.88,"2,88 €/Tonne",{"$f":"VLOOKUP(J768,'Codes tarifs éco-part'!$C$3:$E$466,3,FALSE)","v":"400"}]
["REP PMCB",2,"44355820000","-","Cloisonnement, plafonds","Cloisons (hors plâtre et isolation)","Assemblage de 3 matériaux ou plus sans un matériau à plus de 50%","Eléments de toutes dimensions et poids","€ / Tonne",30,"30 €/Tonne",{"$f":"VLOOKUP(J769,'Codes tarifs éco-part'!$C$3:$E$466,3,FALSE)","v":"153"}]
["REP PMCB",1,"44355960000","12 80 20 00","Cloisonnement, plafonds","Cloisons (hors plâtre et isolation)","Béton cellulaire >90%","Eléments de toutes dimensions et poids","€ / Tonne",1.57,"1,57 €/Tonne",{"$f":"VLOOKUP(J770,'Codes tarifs éco-part'!$C$3:$E$466,3,FALSE)","v":"464"}]
["REP PMCB",2,"44356000000","-","Cloisonnement, plafonds","Ossatures métalliques","Non connu ou non spécifié par l'entreprise","Eléments de toutes dimensions et poids","€ / Tonne",30,"30 €/Tonne",{"$f":"VLOOKUP(J771,'Codes tarifs éco-part'!$C$3:$E$466,3,FALSE)","v":"153"}]
["REP PMCB",2,"44356020000","-","Cloisonnement, plafonds","Ossatures métalliques","Assemblage avec métal >50% et autres matériaux","Eléments de toutes dimensions et poids","€ / Tonne",3,"3 €/Tonne",{"$f":"VLOOKUP(J772,'Codes tarifs éco-part'!$C$3:$E$466,3,FALSE)","v":"474"}]
["REP PMCB",2,"44356120000","-","Cloisonnement, plafonds","Ossatures métalliques","Autres","Eléments de toutes dimensions et poids","€ / Tonne",30,"30 €/Tonne",{"$f":"VLOOKUP(J773,'Codes tarifs éco-part'!$C$3:$E$466,3,FALSE)","v":"153"}]
["REP PMCB",2,"44356280000","-","Cloisonnement, plafonds","Ossatures métalliques","Métal >90%","Eléments de toutes dimensions et poids","€ / Tonne",0.5,"0,5 €/Tonne",{"$f":"VLOOKUP(J774,'Codes tarifs éco-part'!$C$3:$E$466,3,FALSE)","v":"053"}]
["REP PMCB",2,"44356820000","-","Cloisonnement, plafonds","Ossatures métalliques","Assemblage de 3 matériaux ou plus sans un matériau à plus de 50%","Eléments de toutes dimensions et poids","€ / Tonne",30,"30 €/Tonne",{"$f":"VLOOKUP(J775,'Codes tarifs éco-part'!$C$3:$E$466,3,FALSE)","v":"153"}]
["REP PMCB",2,"44357000000","-","Cloisonnement, plafonds","Plafonds suspendus, plafonds tendus","Non connu ou non spécifié par l'entreprise","Eléments de toutes dimensions et poids","€ / Tonne",30,"30 €/Tonne",{"$f":"VLOOKUP(J776,'Codes tarifs éco-part'!$C$3:$E$466,3,FALSE)","v":"153"}]
["REP PMCB",2,"44357010000","-","Cloisonnement, plafonds","Plafonds suspendus, plafonds tendus","Assemblage de bois, dérivés de bois à plus de 50% avec d'autres matériaux ou bois composite (hors verre)","Eléments de toutes dimensions et poids","€ / Tonne",9,"9 €/Tonne",{"$f":"VLOOKUP(J777,'Codes tarifs éco-part'!$C$3:$E$466,3,FALSE)","v":"484"}]
["REP PMCB",2,"44357020000","-","Cloisonnement, plafonds","Plafonds suspendus, plafonds tendus","Assemblage avec métal >50% et autres matériaux","Eléments de toutes dimensions et poids","€ / Tonne",3,"3 €/Tonne",{"$f":"VLOOKUP(J778,'Codes tarifs éco-part'!$C$3:$E$466,3,FALSE)","v":"474"}]
["REP PMCB",2,"44357050000","-","Cloisonnement, plafonds","Plafonds suspendus, plafonds tendus","Plastiques ou autres matériaux synthétiques >50%","Eléments de toutes dimensions et poids","€ / Tonne",30,"30 €/Tonne",{"$f":"VLOOKUP(J779,'Codes tarifs éco-part'!$C$3:$E$466,3,FALSE)","v":"153"}]
["REP PMCB",2,"44357120000","-","Cloisonnement, plafonds","Plafonds suspendus, plafonds tendus","Autres","Eléments de toutes dimensions et poids","€ / Tonne",30,"30 €/Tonne",{"$f":"VLOOKUP(J780,'Codes tarifs éco-part'!$C$3:$E$466,3,FALSE)","v":"153"}]
["REP PMCB",2,"44357190000","-","Cloisonnement, plafonds","Plafonds suspendus, plafonds tendus","Papier carton >50% avec d'autres matériaux (hors verre)","Eléments de toutes dimensions et poids","€ / Tonne",17,"17 €/Tonne",{"$f":"VLOOKUP(J781,'Codes tarifs éco-part'!$C$3:$E$466,3,FALSE)","v":"487"}]
["REP PMCB",2,"44357280000","-","Cloisonnement, plafonds","Plafonds suspendus, plafonds tendus","Métal >90%","Eléments de toutes dimensions et poids","€ / Tonne",0.5,"0,5 €/Tonne",{"$f":"VLOOKUP(J782,'Codes tarifs éco-part'!$C$3:$E$466,3,FALSE)","v":"053"}]
["REP PMCB",2,"44357410000","-","Cloisonnement, plafonds","Plafonds suspendus, plafonds tendus","Plastiques (mono résine) >90%","Eléments de toutes dimensions et poids","€ / Tonne",9,"9 €/Tonne",{"$f":"VLOOKUP(J783,'Codes tarifs éco-part'!$C$3:$E$466,3,FALSE)","v":"484"}]
["REP PMCB",2,"44357420000","-","Cloisonnement, plafonds","Plafonds suspendus, plafonds tendus","Polyterephtalate d'Ethylène (PET) >90%","Eléments de toutes dimensions et poids","€ / Tonne",9,"9 €/Tonne",{"$f":"VLOOKUP(J784,'Codes tarifs éco-part'!$C$3:$E$466,3,FALSE)","v":"484"}]
["REP PMCB",2,"44357450000","-","Cloisonnement, plafonds","Plafonds suspendus, plafonds tendus","PE ou PP ou mélange PP/PE >90%","Eléments de toutes dimensions et poids","€ / Tonne",9,"9 €/Tonne",{"$f":"VLOOKUP(J785,'Codes tarifs éco-part'!$C$3:$E$466,3,FALSE)","v":"484"}]
["REP PMCB",2,"44357460000","-","Cloisonnement, plafonds","Plafonds suspendus, plafonds tendus","ABS >90%","Eléments de toutes dimensions et poids","€ / Tonne",9,"9 €/Tonne",{"$f":"VLOOKUP(J786,'Codes tarifs éco-part'!$C$3:$E$466,3,FALSE)","v":"484"}]
["REP PMCB",2,"44357470000","-","Cloisonnement, plafonds","Plafonds suspendus, plafonds tendus","Polystyrène >90%","Eléments de toutes dimensions et poids","€ / Tonne",9,"9 €/Tonne",{"$f":"VLOOKUP(J787,'Codes tarifs éco-part'!$C$3:$E$466,3,FALSE)","v":"484"}]
["REP PMCB",2,"44357480000","-","Cloisonnement, plafonds","Plafonds suspendus, plafonds tendus","PVC >90%","Eléments de toutes dimensions et poids","€ / Tonne",9,"9 €/Tonne",{"$f":"VLOOKUP(J788,'Codes tarifs éco-part'!$C$3:$E$466,3,FALSE)","v":"484"}]
["REP PMCB",2,"44357490000","-","Cloisonnement, plafonds","Plafonds suspendus, plafonds tendus","Caoutchouc synthétique >90%","Eléments de toutes dimensions et poids","€ / Tonne",9,"9 €/Tonne",{"$f":"VLOOKUP(J789,'Codes tarifs éco-part'!$C$3:$E$466,3,FALSE)","v":"484"}]
["REP PMCB",2,"44357530000","-","Cloisonnement, plafonds","Plafonds suspendus, plafonds tendus","Massif et assimilés >90%","Eléments de toutes dimensions et poids","€ / Tonne",8,"8 €/Tonne",{"$f":"VLOOKUP(J790,'Codes tarifs éco-part'!$C$3:$E$466,3,FALSE)","v":"483"}]
["REP PMCB",2,"44357550000","-","Cloisonnement, plafonds","Plafonds suspendus, plafonds tendus","Matériaux bio sourcés ou textiles non synthétiques >90%","Eléments de toutes dimensions et poids","€ / Tonne",4,"4 €/Tonne",{"$f":"VLOOKUP(J791,'Codes tarifs éco-part'!$C$3:$E$466,3,FALSE)","v":"274"}]
["REP PMCB",2,"44357610000","-","Cloisonnement, plafonds","Plafonds suspendus, plafonds tendus","Panneaux de particules ou OSB >90%","Eléments de toutes dimensions et poids","€ / Tonne",8,"8 €/Tonne",{"$f":"VLOOKUP(J792,'Codes tarifs éco-part'!$C$3:$E$466,3,FALSE)","v":"483"}]
["REP PMCB",2,"44357620000","-","Cloisonnement, plafonds","Plafonds suspendus, plafonds tendus","Dérivés de bois >90%","Eléments de toutes dimensions et poids","€ / Tonne",8,"8 €/Tonne",{"$f":"VLOOKUP(J793,'Codes tarifs éco-part'!$C$3:$E$466,3,FALSE)","v":"483"}]
["REP PMCB",2,"44357640000","-","Cloisonnement, plafonds","Plafonds suspendus, plafonds tendus","Caoutchouc naturel >50%","Eléments de toutes dimensions et poids","€ / Tonne",9,"9 €/Tonne",{"$f":"VLOOKUP(J794,'Codes tarifs éco-part'!$C$3:$E$466,3,FALSE)","v":"484"}]
["REP PMCB",2,"44357670000","-","Cloisonnement, plafonds","Plafonds suspendus, plafonds tendus","Assemblage matériaux ou fibres synthétiques >50% avec d'autres matériaux","Eléments de toutes dimensions et poids","€ / Tonne",30,"30 €/Tonne",{"$f":"VLOOKUP(J795,'Codes tarifs éco-part'!$C$3:$E$466,3,FALSE)","v":"153"}]
["REP PMCB",2,"44357820000","-","Cloisonnement, plafonds","Plafonds suspendus, plafonds tendus","Assemblage de 3 matériaux ou plus sans un matériau à plus de 50%","Eléments de toutes dimensions et poids","€ / Tonne",30,"30 €/Tonne",{"$f":"VLOOKUP(J796,'Codes tarifs éco-part'!$C$3:$E$466,3,FALSE)","v":"153"}]
["REP PMCB",2,"44360000000","-","Cloisonnement, plafonds","Divers produits de cloisonnement et plafonds","Non connu ou non spécifié par l'entreprise","Eléments de toutes dimensions et poids","€ / Tonne",30,"30 €/Tonne",{"$f":"VLOOKUP(J797,'Codes tarifs éco-part'!$C$3:$E$466,3,FALSE)","v":"153"}]
["REP PMCB",2,"44360010000","-","Cloisonnement, plafonds","Divers produits de cloisonnement et plafonds","Assemblage de bois, dérivés de bois à plus de 50% avec d'autres matériaux ou bois composite (hors verre)","Eléments de toutes dimensions et poids","€ / Tonne",9,"9 €/Tonne",{"$f":"VLOOKUP(J798,'Codes tarifs éco-part'!$C$3:$E$466,3,FALSE)","v":"484"}]
["REP PMCB",2,"44360020000","-","Cloisonnement, plafonds","Divers produits de cloisonnement et plafonds","Assemblage avec métal >50% et autres matériaux","Eléments de toutes dimensions et poids","€ / Tonne",3,"3 €/Tonne",{"$f":"VLOOKUP(J799,'Codes tarifs éco-part'!$C$3:$E$466,3,FALSE)","v":"474"}]
["REP PMCB",2,"44360050000","-","Cloisonnement, plafonds","Divers produits de cloisonnement et plafonds","Plastiques ou autres matériaux synthétiques >50%","Eléments de toutes dimensions et poids","€ / Tonne",30,"30 €/Tonne",{"$f":"VLOOKUP(J800,'Codes tarifs éco-part'!$C$3:$E$466,3,FALSE)","v":"153"}]
["REP PMCB",2,"44360120000","-","Cloisonnement, plafonds","Divers produits de cloisonnement et plafonds","Autres","Eléments de toutes dimensions et poids","€ / Tonne",30,"30 €/Tonne",{"$f":"VLOOKUP(J801,'Codes tarifs éco-part'!$C$3:$E$466,3,FALSE)","v":"153"}]
["REP PMCB",2,"44360190000","-","Cloisonnement, plafonds","Divers produits de cloisonnement et plafonds","Papier carton >50% avec d'autres matériaux (hors verre)","Eléments de toutes dimensions et poids","€ / Tonne",17,"17 €/Tonne",{"$f":"VLOOKUP(J802,'Codes tarifs éco-part'!$C$3:$E$466,3,FALSE)","v":"487"}]
["REP PMCB",2,"44360280000","-","Cloisonnement, plafonds","Divers produits de cloisonnement et plafonds","Métal >90%","Eléments de toutes dimensions et poids","€ / Tonne",0.5,"0,5 €/Tonne",{"$f":"VLOOKUP(J803,'Codes tarifs éco-part'!$C$3:$E$466,3,FALSE)","v":"053"}]
["REP PMCB",2,"44360410000","-","Cloisonnement, plafonds","Divers produits de cloisonnement et plafonds","Plastiques (mono résine) >90%","Eléments de toutes dimensions et poids","€ / Tonne",9,"9 €/Tonne",{"$f":"VLOOKUP(J804,'Codes tarifs éco-part'!$C$3:$E$466,3,FALSE)","v":"484"}]
["REP PMCB",2,"44360420000","-","Cloisonnement, plafonds","Divers produits de cloisonnement et plafonds","Polyterephtalate d'Ethylène (PET) >90%","Eléments de toutes dimensions et poids","€ / Tonne",9,"9 €/Tonne",{"$f":"VLOOKUP(J805,'Codes tarifs éco-part'!$C$3:$E$466,3,FALSE)","v":"484"}]
["REP PMCB",2,"44360450000","-","Cloisonnement, plafonds","Divers produits de cloisonnement et plafonds","PE ou PP ou mélange PP/PE >90%","Eléments de toutes dimensions et poids","€ / Tonne",9,"9 €/Tonne",{"$f":"VLOOKUP(J806,'Codes tarifs éco-part'!$C$3:$E$466,3,FALSE)","v":"484"}]
["REP PMCB",2,"44360460000","-","Cloisonnement, plafonds","Divers produits de cloisonnement et plafonds","ABS >90%","Eléments de toutes dimensions et poids","€ / Tonne",9,"9 €/Tonne",{"$f":"VLOOKUP(J807,'Codes tarifs éco-part'!$C$3:$E$466,3,FALSE)","v":"484"}]
["REP PMCB",2,"44360470000","-","Cloisonnement, plafonds","Divers produits de cloisonnement et plafonds","Polystyrène >90%","Eléments de toutes dimensions et poids","€ / Tonne",9,"9 €/Tonne",{"$f":"VLOOKUP(J808,'Codes tarifs éco-part'!$C$3:$E$466,3,FALSE)","v":"484"}]
["REP PMCB",2,"44360480000","-","Cloisonnement, plafonds","Divers produits de cloisonnement et plafonds","PVC >90%","Eléments de toutes dimensions et poids","€ / Tonne",9,"9 €/Tonne",{"$f":"VLOOKUP(J809,'Codes tarifs éco-part'!$C$3:$E$466,3,FALSE)","v":"484"}]
["REP PMCB",2,"44360490000","-","Cloisonnement, plafonds","Divers produits de cloisonnement et plafonds","Caoutchouc synthétique >90%","Eléments de toutes dimensions et poids","€ / Tonne",9,"9 €/Tonne",{"$f":"VLOOKUP(J810,'Codes tarifs éco-part'!$C$3:$E$466,3,FALSE)","v":"484"}]
["REP PMCB",2,"44360530000","-","Cloisonnement, plafonds","Divers produits de cloisonnement et plafonds","Massif et assimilés >90%","Eléments de toutes dimensions et poids","€ / Tonne",8,"8 €/Tonne",{"$f":"VLOOKUP(J811,'Codes tarifs éco-part'!$C$3:$E$466,3,FALSE)","v":"483"}]
["REP PMCB",2,"44360550000","-","Cloisonnement, plafonds","Divers produits de cloisonnement et plafonds","Matériaux bio sourcés ou textiles non synthétiques >90%","Eléments de toutes dimensions et poids","€ / Tonne",4,"4 €/Tonne",{"$f":"VLOOKUP(J812,'Codes tarifs éco-part'!$C$3:$E$466,3,FALSE)","v":"274"}]
["REP PMCB",2,"44360610000","-","Cloisonnement, plafonds","Divers produits de cloisonnement et plafonds","Panneaux de particules ou OSB >90%","Eléments de toutes dimensions et poids","€ / Tonne",8,"8 €/Tonne",{"$f":"VLOOKUP(J813,'Codes tarifs éco-part'!$C$3:$E$466,3,FALSE)","v":"483"}]
["REP PMCB",2,"44360620000","-","Cloisonnement, plafonds","Divers produits de cloisonnement et plafonds","Dérivés de bois >90%","Eléments de toutes dimensions et poids","€ / Tonne",8,"8 €/Tonne",{"$f":"VLOOKUP(J814,'Codes tarifs éco-part'!$C$3:$E$466,3,FALSE)","v":"483"}]
["REP PMCB",2,"44360640000","-","Cloisonnement, plafonds","Divers produits de cloisonnement et plafonds","Caoutchouc naturel >50%","Eléments de toutes dimensions et poids","€ / Tonne",9,"9 €/Tonne",{"$f":"VLOOKUP(J815,'Codes tarifs éco-part'!$C$3:$E$466,3,FALSE)","v":"484"}]
["REP PMCB",2,"44360650000","-","Cloisonnement, plafonds","Divers produits de cloisonnement et plafonds","Matériaux ou fibres synthétiques >90%","Eléments de toutes dimensions et poids","€ / Tonne",30,"30 €/Tonne",{"$f":"VLOOKUP(J816,'Codes tarifs éco-part'!$C$3:$E$466,3,FALSE)","v":"153"}]
["REP PMCB",2,"44360670000","-","Cloisonnement, plafonds","Divers produits de cloisonnement et plafonds","Assemblage matériaux ou fibres synthétiques >50% avec d'autres matériaux","Eléments de toutes dimensions et poids","€ / Tonne",30,"30 €/Tonne",{"$f":"VLOOKUP(J817,'Codes tarifs éco-part'!$C$3:$E$466,3,FALSE)","v":"153"}]
["REP PMCB",2,"44360690000","-","Cloisonnement, plafonds","Divers produits de cloisonnement et plafonds","Miroir >90%","Eléments de toutes dimensions et poids","€ / Tonne",30,"30 €/Tonne",{"$f":"VLOOKUP(J818,'Codes tarifs éco-part'!$C$3:$E$466,3,FALSE)","v":"153"}]
["REP PMCB",2,"44360700000","-","Cloisonnement, plafonds","Divers produits de cloisonnement et plafonds","Assemblage verre à plus de 50% avec métal","Eléments de toutes dimensions et poids","€ / Tonne",9,"9 €/Tonne",{"$f":"VLOOKUP(J819,'Codes tarifs éco-part'!$C$3:$E$466,3,FALSE)","v":"484"}]
["REP PMCB",2,"44360710000","-","Cloisonnement, plafonds","Divers produits de cloisonnement et plafonds","Assemblage verre à plus de 50% avec Inerte","Eléments de toutes dimensions et poids","€ / Tonne",9,"9 €/Tonne",{"$f":"VLOOKUP(J820,'Codes tarifs éco-part'!$C$3:$E$466,3,FALSE)","v":"484"}]
["REP PMCB",2,"44360720000","-","Cloisonnement, plafonds","Divers produits de cloisonnement et plafonds","Assemblage verre à plus de 50% avec bois ou dérivés de bois","Eléments de toutes dimensions et poids","€ / Tonne",9,"9 €/Tonne",{"$f":"VLOOKUP(J821,'Codes tarifs éco-part'!$C$3:$E$466,3,FALSE)","v":"484"}]
["REP PMCB",2,"44360730000","-","Cloisonnement, plafonds","Divers produits de cloisonnement et plafonds","Assemblage verre à plus de 50% avec plastique","Eléments de toutes dimensions et poids","€ / Tonne",9,"9 €/Tonne",{"$f":"VLOOKUP(J822,'Codes tarifs éco-part'!$C$3:$E$466,3,FALSE)","v":"484"}]
["REP PMCB",2,"44360750000","-","Cloisonnement, plafonds","Divers produits de cloisonnement et plafonds","Plâtre >90%","Eléments de toutes dimensions et poids","€ / Tonne",3,"3 €/Tonne",{"$f":"VLOOKUP(J823,'Codes tarifs éco-part'!$C$3:$E$466,3,FALSE)","v":"474"}]
["REP PMCB",2,"44360760000","-","Cloisonnement, plafonds","Divers produits de cloisonnement et plafonds","Plâtre >50%","Eléments de toutes dimensions et poids","€ / Tonne",4,"4 €/Tonne",{"$f":"VLOOKUP(J824,'Codes tarifs éco-part'!$C$3:$E$466,3,FALSE)","v":"274"}]
["REP PMCB",2,"44360800000","-","Cloisonnement, plafonds","Divers produits de cloisonnement et plafonds","Membranes bitumineuses à plus de 90 %","Eléments de toutes dimensions et poids","€ / Tonne",30,"30 €/Tonne",{"$f":"VLOOKUP(J825,'Codes tarifs éco-part'!$C$3:$E$466,3,FALSE)","v":"153"}]
["REP PMCB",2,"44360820000","-","Cloisonnement, plafonds","Divers produits de cloisonnement et plafonds","Assemblage de 3 matériaux ou plus sans un matériau à plus de 50%","Eléments de toutes dimensions et poids","€ / Tonne",30,"30 €/Tonne",{"$f":"VLOOKUP(J826,'Codes tarifs éco-part'!$C$3:$E$466,3,FALSE)","v":"153"}]
["REP PMCB",2,"44361120000","-","Cloisonnement, plafonds","Eléments en plâtre pour cloisons, plafonds","Autres","Eléments de toutes dimensions et poids","€ / Tonne",30,"30 €/Tonne",{"$f":"VLOOKUP(J827,'Codes tarifs éco-part'!$C$3:$E$466,3,FALSE)","v":"153"}]
["REP PMCB",2,"44361750000","-","Cloisonnement, plafonds","Eléments en plâtre pour cloisons, plafonds","Plâtre >90%","Eléments de toutes dimensions et poids","€ / Tonne",3,"3 €/Tonne",{"$f":"VLOOKUP(J828,'Codes tarifs éco-part'!$C$3:$E$466,3,FALSE)","v":"474"}]
["REP PMCB",2,"44361751050","-","Cloisonnement, plafonds","Eléments en plâtre pour cloisons, plafonds","Plâtre >90%",">= 13mm","€ / m2",0.06,"0,06 €/m2",{"$f":"VLOOKUP(J829,'Codes tarifs éco-part'!$C$3:$E$466,3,FALSE)","v":"096"}]
["REP PMCB",2,"44361751060","-","Cloisonnement, plafonds","Eléments en plâtre pour cloisons, plafonds","Plâtre >90%","<13mm","€ / m2",0.03,"0,03 €/m2",{"$f":"VLOOKUP(J830,'Codes tarifs éco-part'!$C$3:$E$466,3,FALSE)","v":"092"}]
["REP PMCB",2,"44361760000","-","Cloisonnement, plafonds","Eléments en plâtre pour cloisons, plafonds","Plâtre >50%","Eléments de toutes dimensions et poids","€ / Tonne",4,"4 €/Tonne",{"$f":"VLOOKUP(J831,'Codes tarifs éco-part'!$C$3:$E$466,3,FALSE)","v":"274"}]
["REP PMCB",2,"44361761050","-","Cloisonnement, plafonds","Eléments en plâtre pour cloisons, plafonds","Plâtre >50%",">= 13mm","€ / m2",0.12,"0,12 €/m2",{"$f":"VLOOKUP(J832,'Codes tarifs éco-part'!$C$3:$E$466,3,FALSE)","v":"097"}]
["REP PMCB",2,"44361761060","-","Cloisonnement, plafonds","Eléments en plâtre pour cloisons, plafonds","Plâtre >50%","<13mm","€ / m2",0.06,"0,06 €/m2",{"$f":"VLOOKUP(J833,'Codes tarifs éco-part'!$C$3:$E$466,3,FALSE)","v":"096"}]
["REP PMCB",2,"45370000000","-","Isolation thermique et acoustique","Laines, mousse, fibres isolantes","Non connu ou non spécifié par l'entreprise","Eléments de toutes dimensions et poids","€ / Tonne",30,"30 €/Tonne",{"$f":"VLOOKUP(J834,'Codes tarifs éco-part'!$C$3:$E$466,3,FALSE)","v":"153"}]
["REP PMCB",2,"45370020000","-","Isolation thermique et acoustique","Laines, mousse, fibres isolantes","Assemblage avec métal >50% et autres matériaux","Eléments de toutes dimensions et poids","€ / Tonne",3,"3 €/Tonne",{"$f":"VLOOKUP(J835,'Codes tarifs éco-part'!$C$3:$E$466,3,FALSE)","v":"474"}]
["REP PMCB",2,"45370120000","-","Isolation thermique et acoustique","Laines, mousse, fibres isolantes","Autres","Eléments de toutes dimensions et poids","€ / Tonne",30,"30 €/Tonne",{"$f":"VLOOKUP(J836,'Codes tarifs éco-part'!$C$3:$E$466,3,FALSE)","v":"153"}]
["REP PMCB",2,"45370280000","-","Isolation thermique et acoustique","Laines, mousse, fibres isolantes","Métal >90%","Eléments de toutes dimensions et poids","€ / Tonne",0.5,"0,5 €/Tonne",{"$f":"VLOOKUP(J837,'Codes tarifs éco-part'!$C$3:$E$466,3,FALSE)","v":"053"}]
["REP PMCB",2,"45370550000","-","Isolation thermique et acoustique","Laines, mousse, fibres isolantes","Matériaux bio sourcés ou textiles non synthétiques >90%","Eléments de toutes dimensions et poids","€ / Tonne",4,"4 €/Tonne",{"$f":"VLOOKUP(J838,'Codes tarifs éco-part'!$C$3:$E$466,3,FALSE)","v":"274"}]
["REP PMCB",2,"45370551020",null,"Isolation thermique et acoustique","Laines, mousse, fibres isolantes","Matériaux bio sourcés ou textiles non synthétiques >90%","Eléments de toutes dimensions et poids","€ / m3",0.16,"0,16 €/m3",{"$f":"VLOOKUP(J839,'Codes tarifs éco-part'!$C$3:$E$466,3,FALSE)","v":"099"}]
["REP PMCB",2,"45370551160",null,"Isolation thermique et acoustique","Laines, mousse, fibres isolantes","Matériaux bio sourcés ou textiles non synthétiques >90%","épaisseur <= 100mm","€ / m2",0.02,"0,02 €/m2",{"$f":"VLOOKUP(J840,'Codes tarifs éco-part'!$C$3:$E$466,3,FALSE)","v":"047"}]
["REP PMCB",2,"45370551170",null,"Isolation thermique et acoustique","Laines, mousse, fibres isolantes","Matériaux bio sourcés ou textiles non synthétiques >90%","épaisseur > 100mm","€ / m2",0.04,"0,04 €/m2",{"$f":"VLOOKUP(J841,'Codes tarifs éco-part'!$C$3:$E$466,3,FALSE)","v":"002"}]
["REP PMCB",2,"45370650000","-","Isolation thermique et acoustique","Laines, mousse, fibres isolantes","Matériaux ou fibres synthétiques >90%","Eléments de toutes dimensions et poids","€ / Tonne",30,"30 €/Tonne",{"$f":"VLOOKUP(J842,'Codes tarifs éco-part'!$C$3:$E$466,3,FALSE)","v":"153"}]
["REP PMCB",2,"45370770000","-","Isolation thermique et acoustique","Laines, mousse, fibres isolantes","Laines de roche à plus de 90 %","Eléments de toutes dimensions et poids","€ / Tonne",5,"5 €/Tonne",{"$f":"VLOOKUP(J843,'Codes tarifs éco-part'!$C$3:$E$466,3,FALSE)","v":"042"}]
["REP PMCB",2,"45370771020",null,"Isolation thermique et acoustique","Laines, mousse, fibres isolantes","Laines de roche à plus de 90 %","Eléments de toutes dimensions et poids","€ / m3",0.18,"0,18 €/m3",{"$f":"VLOOKUP(J844,'Codes tarifs éco-part'!$C$3:$E$466,3,FALSE)","v":"100"}]
["REP PMCB",2,"45370771160",null,"Isolation thermique et acoustique","Laines, mousse, fibres isolantes","Laines de roche à plus de 90 %","épaisseur <= 100mm","€ / m2",0.02,"0,02 €/m2",{"$f":"VLOOKUP(J845,'Codes tarifs éco-part'!$C$3:$E$466,3,FALSE)","v":"047"}]
["REP PMCB",2,"45370771170",null,"Isolation thermique et acoustique","Laines, mousse, fibres isolantes","Laines de roche à plus de 90 %","épaisseur > 100mm","€ / m2",0.03,"0,03 €/m2",{"$f":"VLOOKUP(J846,'Codes tarifs éco-part'!$C$3:$E$466,3,FALSE)","v":"092"}]
["REP PMCB",2,"45370780000","-","Isolation thermique et acoustique","Laines, mousse, fibres isolantes","Laine de verre à plus de 90 %","Eléments de toutes dimensions et poids","€ / Tonne",5,"5 €/Tonne",{"$f":"VLOOKUP(J847,'Codes tarifs éco-part'!$C$3:$E$466,3,FALSE)","v":"042"}]
["REP PMCB",2,"45370781020",null,"Isolation thermique et acoustique","Laines, mousse, fibres isolantes","Laine de verre à plus de 90 %","Eléments de toutes dimensions et poids","€ / m3",0.14000000000000001,"0,14 €/m3",{"$f":"VLOOKUP(J848,'Codes tarifs éco-part'!$C$3:$E$466,3,FALSE)","v":"098"}]
["REP PMCB",2,"45370781160",null,"Isolation thermique et acoustique","Laines, mousse, fibres isolantes","Laine de verre à plus de 90 %","épaisseur <= 100mm","€ / m2",0.02,"0,02 €/m2",{"$f":"VLOOKUP(J849,'Codes tarifs éco-part'!$C$3:$E$466,3,FALSE)","v":"047"}]
["REP PMCB",2,"45370781170",null,"Isolation thermique et acoustique","Laines, mousse, fibres isolantes","Laine de verre à plus de 90 %","épaisseur > 100mm","€ / m2",0.03,"0,03 €/m2",{"$f":"VLOOKUP(J850,'Codes tarifs éco-part'!$C$3:$E$466,3,FALSE)","v":"092"}]
["REP PMCB",2,"45370790000","-","Isolation thermique et acoustique","Laines, mousse, fibres isolantes","Assemblage de laines de verre ou laines de roches à plus de 50% et d'autres matériaux","Eléments de toutes dimensions et poids","€ / Tonne",30,"30 €/Tonne",{"$f":"VLOOKUP(J851,'Codes tarifs éco-part'!$C$3:$E$466,3,FALSE)","v":"153"}]
["REP PMCB",2,"45370820000","-","Isolation thermique et acoustique","Laines, mousse, fibres isolantes","Assemblage de 3 matériaux ou plus sans un matériau à plus de 50%","Eléments de toutes dimensions et poids","€ / Tonne",30,"30 €/Tonne",{"$f":"VLOOKUP(J852,'Codes tarifs éco-part'!$C$3:$E$466,3,FALSE)","v":"153"}]
["REP PMCB",2,"45370821160",null,"Isolation thermique et acoustique","Laines, mousse, fibres isolantes","Assemblage de 3 matériaux ou plus sans un matériau à plus de 50%","épaisseur <= 100mm","€ / m2",0.04,"0,04 €/m2",{"$f":"VLOOKUP(J853,'Codes tarifs éco-part'!$C$3:$E$466,3,FALSE)","v":"002"}]
["REP PMCB",2,"45370821170",null,"Isolation thermique et acoustique","Laines, mousse, fibres isolantes","Assemblage de 3 matériaux ou plus sans un matériau à plus de 50%","épaisseur > 100mm","€ / m2",0.08,"0,08 €/m2",{"$f":"VLOOKUP(J854,'Codes tarifs éco-part'!$C$3:$E$466,3,FALSE)","v":"003"}]
["REP PMCB",2,"45371000000","-","Isolation thermique et acoustique","Eléments spéciaux d'isolation","Non connu ou non spécifié par l'entreprise","Eléments de toutes dimensions et poids","€ / Tonne",30,"30 €/Tonne",{"$f":"VLOOKUP(J855,'Codes tarifs éco-part'!$C$3:$E$466,3,FALSE)","v":"153"}]
["REP PMCB",2,"45371010000","-","Isolation thermique et acoustique","Eléments spéciaux d'isolation","Assemblage de bois, dérivés de bois à plus de 50% avec d'autres matériaux ou bois composite (hors verre)","Eléments de toutes dimensions et poids","€ / Tonne",9,"9 €/Tonne",{"$f":"VLOOKUP(J856,'Codes tarifs éco-part'!$C$3:$E$466,3,FALSE)","v":"484"}]
["REP PMCB",2,"45371020000","-","Isolation thermique et acoustique","Eléments spéciaux d'isolation","Assemblage avec métal >50% et autres matériaux","Eléments de toutes dimensions et poids","€ / Tonne",3,"3 €/Tonne",{"$f":"VLOOKUP(J857,'Codes tarifs éco-part'!$C$3:$E$466,3,FALSE)","v":"474"}]
["REP PMCB",2,"45371050000","-","Isolation thermique et acoustique","Eléments spéciaux d'isolation","Plastiques ou autres matériaux synthétiques >50%","Eléments de toutes dimensions et poids","€ / Tonne",30,"30 €/Tonne",{"$f":"VLOOKUP(J858,'Codes tarifs éco-part'!$C$3:$E$466,3,FALSE)","v":"153"}]
["REP PMCB",2,"45371120000","-","Isolation thermique et acoustique","Eléments spéciaux d'isolation","Autres","Eléments de toutes dimensions et poids","€ / Tonne",30,"30 €/Tonne",{"$f":"VLOOKUP(J859,'Codes tarifs éco-part'!$C$3:$E$466,3,FALSE)","v":"153"}]
["REP PMCB",2,"45371190000","-","Isolation thermique et acoustique","Eléments spéciaux d'isolation","Papier carton >50% avec d'autres matériaux (hors verre)","Eléments de toutes dimensions et poids","€ / Tonne",17,"17 €/Tonne",{"$f":"VLOOKUP(J860,'Codes tarifs éco-part'!$C$3:$E$466,3,FALSE)","v":"487"}]
["REP PMCB",2,"45371280000","-","Isolation thermique et acoustique","Eléments spéciaux d'isolation","Métal >90%","Eléments de toutes dimensions et poids","€ / Tonne",0.5,"0,5 €/Tonne",{"$f":"VLOOKUP(J861,'Codes tarifs éco-part'!$C$3:$E$466,3,FALSE)","v":"053"}]
["REP PMCB",2,"45371410000","-","Isolation thermique et acoustique","Eléments spéciaux d'isolation","Plastiques (mono résine) >90%","Eléments de toutes dimensions et poids","€ / Tonne",9,"9 €/Tonne",{"$f":"VLOOKUP(J862,'Codes tarifs éco-part'!$C$3:$E$466,3,FALSE)","v":"484"}]
["REP PMCB",2,"45371420000","-","Isolation thermique et acoustique","Eléments spéciaux d'isolation","Polyterephtalate d'Ethylène (PET) >90%","Eléments de toutes dimensions et poids","€ / Tonne",9,"9 €/Tonne",{"$f":"VLOOKUP(J863,'Codes tarifs éco-part'!$C$3:$E$466,3,FALSE)","v":"484"}]
["REP PMCB",2,"45371450000","-","Isolation thermique et acoustique","Eléments spéciaux d'isolation","PE ou PP ou mélange PP/PE >90%","Eléments de toutes dimensions et poids","€ / Tonne",9,"9 €/Tonne",{"$f":"VLOOKUP(J864,'Codes tarifs éco-part'!$C$3:$E$466,3,FALSE)","v":"484"}]
["REP PMCB",2,"45371460000","-","Isolation thermique et acoustique","Eléments spéciaux d'isolation","ABS >90%","Eléments de toutes dimensions et poids","€ / Tonne",9,"9 €/Tonne",{"$f":"VLOOKUP(J865,'Codes tarifs éco-part'!$C$3:$E$466,3,FALSE)","v":"484"}]
["REP PMCB",2,"45371470000","-","Isolation thermique et acoustique","Eléments spéciaux d'isolation","Polystyrène >90%","Eléments de toutes dimensions et poids","€ / Tonne",9,"9 €/Tonne",{"$f":"VLOOKUP(J866,'Codes tarifs éco-part'!$C$3:$E$466,3,FALSE)","v":"484"}]
["REP PMCB",2,"45371480000","-","Isolation thermique et acoustique","Eléments spéciaux d'isolation","PVC >90%","Eléments de toutes dimensions et poids","€ / Tonne",9,"9 €/Tonne",{"$f":"VLOOKUP(J867,'Codes tarifs éco-part'!$C$3:$E$466,3,FALSE)","v":"484"}]
["REP PMCB",2,"45371490000","-","Isolation thermique et acoustique","Eléments spéciaux d'isolation","Caoutchouc synthétique >90%","Eléments de toutes dimensions et poids","€ / Tonne",9,"9 €/Tonne",{"$f":"VLOOKUP(J868,'Codes tarifs éco-part'!$C$3:$E$466,3,FALSE)","v":"484"}]
["REP PMCB",2,"45371530000","-","Isolation thermique et acoustique","Eléments spéciaux d'isolation","Massif et assimilés >90%","Eléments de toutes dimensions et poids","€ / Tonne",8,"8 €/Tonne",{"$f":"VLOOKUP(J869,'Codes tarifs éco-part'!$C$3:$E$466,3,FALSE)","v":"483"}]
["REP PMCB",2,"45371550000","-","Isolation thermique et acoustique","Eléments spéciaux d'isolation","Matériaux bio sourcés ou textiles non synthétiques >90%","Eléments de toutes dimensions et poids","€ / Tonne",4,"4 €/Tonne",{"$f":"VLOOKUP(J870,'Codes tarifs éco-part'!$C$3:$E$466,3,FALSE)","v":"274"}]
["REP PMCB",2,"45371610000","-","Isolation thermique et acoustique","Eléments spéciaux d'isolation","Panneaux de particules ou OSB >90%","Eléments de toutes dimensions et poids","€ / Tonne",8,"8 €/Tonne",{"$f":"VLOOKUP(J871,'Codes tarifs éco-part'!$C$3:$E$466,3,FALSE)","v":"483"}]
["REP PMCB",2,"45371620000","-","Isolation thermique et acoustique","Eléments spéciaux d'isolation","Dérivés de bois >90%","Eléments de toutes dimensions et poids","€ / Tonne",8,"8 €/Tonne",{"$f":"VLOOKUP(J872,'Codes tarifs éco-part'!$C$3:$E$466,3,FALSE)","v":"483"}]
["REP PMCB",2,"45371640000","-","Isolation thermique et acoustique","Eléments spéciaux d'isolation","Caoutchouc naturel >50%","Eléments de toutes dimensions et poids","€ / Tonne",9,"9 €/Tonne",{"$f":"VLOOKUP(J873,'Codes tarifs éco-part'!$C$3:$E$466,3,FALSE)","v":"484"}]
["REP PMCB",2,"45371650000","-","Isolation thermique et acoustique","Eléments spéciaux d'isolation","Matériaux ou fibres synthétiques >90%","Eléments de toutes dimensions et poids","€ / Tonne",30,"30 €/Tonne",{"$f":"VLOOKUP(J874,'Codes tarifs éco-part'!$C$3:$E$466,3,FALSE)","v":"153"}]
["REP PMCB",2,"45371670000","-","Isolation thermique et acoustique","Eléments spéciaux d'isolation","Assemblage matériaux ou fibres synthétiques >50% avec d'autres matériaux","Eléments de toutes dimensions et poids","€ / Tonne",30,"30 €/Tonne",{"$f":"VLOOKUP(J875,'Codes tarifs éco-part'!$C$3:$E$466,3,FALSE)","v":"153"}]
["REP PMCB",2,"45371760000","-","Isolation thermique et acoustique","Eléments spéciaux d'isolation","Plâtre >50%","Eléments de toutes dimensions et poids","€ / Tonne",4,"4 €/Tonne",{"$f":"VLOOKUP(J876,'Codes tarifs éco-part'!$C$3:$E$466,3,FALSE)","v":"274"}]
["REP PMCB",2,"45371770000","-","Isolation thermique et acoustique","Eléments spéciaux d'isolation","Laines de roche à plus de 90 %","Eléments de toutes dimensions et poids","€ / Tonne",5,"5 €/Tonne",{"$f":"VLOOKUP(J877,'Codes tarifs éco-part'!$C$3:$E$466,3,FALSE)","v":"042"}]
["REP PMCB",2,"45371790000","-","Isolation thermique et acoustique","Eléments spéciaux d'isolation","Assemblage de laines de verre ou laines de roches à plus de 50% et d'autres matériaux","Eléments de toutes dimensions et poids","€ / Tonne",30,"30 €/Tonne",{"$f":"VLOOKUP(J878,'Codes tarifs éco-part'!$C$3:$E$466,3,FALSE)","v":"153"}]
["REP PMCB",2,"45371820000","-","Isolation thermique et acoustique","Eléments spéciaux d'isolation","Assemblage de 3 matériaux ou plus sans un matériau à plus de 50%","Eléments de toutes dimensions et poids","€ / Tonne",30,"30 €/Tonne",{"$f":"VLOOKUP(J879,'Codes tarifs éco-part'!$C$3:$E$466,3,FALSE)","v":"153"}]
["REP PMCB",2,"46380000000","-","Menuiseries intérieures et extérieures, fermetures","Portes (intérieures, coulissantes, entrée, garage, de service, technique,...)","Non connu ou non spécifié par l'entreprise","Eléments de toutes dimensions et poids","€ / Tonne",30,"30 €/Tonne",{"$f":"VLOOKUP(J880,'Codes tarifs éco-part'!$C$3:$E$466,3,FALSE)","v":"153"}]
["REP PMCB",2,"46380009070","-","Menuiseries intérieures et extérieures, fermetures","Portes (intérieures, coulissantes, entrée, garage, de service, technique,...)","Non connu ou non spécifié par l'entreprise","Eléments de toutes dimensions et poids","€ / unité",0.49,"0,49 €/unité",{"$f":"VLOOKUP(J881,'Codes tarifs éco-part'!$C$3:$E$466,3,FALSE)","v":"108"}]
["REP PMCB",2,"46380010000","-","Menuiseries intérieures et extérieures, fermetures","Portes (intérieures, coulissantes, entrée, garage, de service, technique,...)","Assemblage de bois, dérivés de bois à plus de 50% avec d'autres matériaux ou bois composite (hors verre)","Eléments de toutes dimensions et poids","€ / Tonne",9,"9 €/Tonne",{"$f":"VLOOKUP(J882,'Codes tarifs éco-part'!$C$3:$E$466,3,FALSE)","v":"484"}]
["REP PMCB",2,"46380020000","-","Menuiseries intérieures et extérieures, fermetures","Portes (intérieures, coulissantes, entrée, garage, de service, technique,...)","Assemblage avec métal >50% et autres matériaux","Eléments de toutes dimensions et poids","€ / Tonne",3,"3 €/Tonne",{"$f":"VLOOKUP(J883,'Codes tarifs éco-part'!$C$3:$E$466,3,FALSE)","v":"474"}]
["REP PMCB",2,"46380029070","-","Menuiseries intérieures et extérieures, fermetures","Portes (intérieures, coulissantes, entrée, garage, de service, technique,...)","Assemblage avec métal >50% et autres matériaux","Eléments de toutes dimensions et poids","€ / unité",0.49,"0,49 €/unité",{"$f":"VLOOKUP(J884,'Codes tarifs éco-part'!$C$3:$E$466,3,FALSE)","v":"108"}]
["REP PMCB",2,"46380050000","-","Menuiseries intérieures et extérieures, fermetures","Portes (intérieures, coulissantes, entrée, garage, de service, technique,...)","Plastiques ou autres matériaux synthétiques >50%","Eléments de toutes dimensions et poids","€ / Tonne",30,"30 €/Tonne",{"$f":"VLOOKUP(J885,'Codes tarifs éco-part'!$C$3:$E$466,3,FALSE)","v":"153"}]
["REP PMCB",2,"46380120000","-","Menuiseries intérieures et extérieures, fermetures","Portes (intérieures, coulissantes, entrée, garage, de service, technique,...)","Autres","Eléments de toutes dimensions et poids","€ / Tonne",30,"30 €/Tonne",{"$f":"VLOOKUP(J886,'Codes tarifs éco-part'!$C$3:$E$466,3,FALSE)","v":"153"}]
["REP PMCB",2,"46380280000","-","Menuiseries intérieures et extérieures, fermetures","Portes (intérieures, coulissantes, entrée, garage, de service, technique,...)","Métal >90%","Eléments de toutes dimensions et poids","€ / Tonne",0.5,"0,5 €/Tonne",{"$f":"VLOOKUP(J887,'Codes tarifs éco-part'!$C$3:$E$466,3,FALSE)","v":"053"}]
["REP PMCB",2,"46380410000","-","Menuiseries intérieures et extérieures, fermetures","Portes (intérieures, coulissantes, entrée, garage, de service, technique,...)","Plastiques (mono résine) >90%","Eléments de toutes dimensions et poids","€ / Tonne",9,"9 €/Tonne",{"$f":"VLOOKUP(J888,'Codes tarifs éco-part'!$C$3:$E$466,3,FALSE)","v":"484"}]
["REP PMCB",2,"46380420000","-","Menuiseries intérieures et extérieures, fermetures","Portes (intérieures, coulissantes, entrée, garage, de service, technique,...)","Polyterephtalate d'Ethylène (PET) >90%","Eléments de toutes dimensions et poids","€ / Tonne",9,"9 €/Tonne",{"$f":"VLOOKUP(J889,'Codes tarifs éco-part'!$C$3:$E$466,3,FALSE)","v":"484"}]
["REP PMCB",2,"46380450000","-","Menuiseries intérieures et extérieures, fermetures","Portes (intérieures, coulissantes, entrée, garage, de service, technique,...)","PE ou PP ou mélange PP/PE >90%","Eléments de toutes dimensions et poids","€ / Tonne",9,"9 €/Tonne",{"$f":"VLOOKUP(J890,'Codes tarifs éco-part'!$C$3:$E$466,3,FALSE)","v":"484"}]
["REP PMCB",2,"46380460000","-","Menuiseries intérieures et extérieures, fermetures","Portes (intérieures, coulissantes, entrée, garage, de service, technique,...)","ABS >90%","Eléments de toutes dimensions et poids","€ / Tonne",9,"9 €/Tonne",{"$f":"VLOOKUP(J891,'Codes tarifs éco-part'!$C$3:$E$466,3,FALSE)","v":"484"}]
["REP PMCB",2,"46380470000","-","Menuiseries intérieures et extérieures, fermetures","Portes (intérieures, coulissantes, entrée, garage, de service, technique,...)","Polystyrène >90%","Eléments de toutes dimensions et poids","€ / Tonne",9,"9 €/Tonne",{"$f":"VLOOKUP(J892,'Codes tarifs éco-part'!$C$3:$E$466,3,FALSE)","v":"484"}]
["REP PMCB",2,"46380480000","-","Menuiseries intérieures et extérieures, fermetures","Portes (intérieures, coulissantes, entrée, garage, de service, technique,...)","PVC >90%","Eléments de toutes dimensions et poids","€ / Tonne",9,"9 €/Tonne",{"$f":"VLOOKUP(J893,'Codes tarifs éco-part'!$C$3:$E$466,3,FALSE)","v":"484"}]
["REP PMCB",2,"46380530000","-","Menuiseries intérieures et extérieures, fermetures","Portes (intérieures, coulissantes, entrée, garage, de service, technique,...)","Massif et assimilés >90%","Eléments de toutes dimensions et poids","€ / Tonne",8,"8 €/Tonne",{"$f":"VLOOKUP(J894,'Codes tarifs éco-part'!$C$3:$E$466,3,FALSE)","v":"483"}]
["REP PMCB",2,"46380550000","-","Menuiseries intérieures et extérieures, fermetures","Portes (intérieures, coulissantes, entrée, garage, de service, technique,...)","Matériaux bio sourcés ou textiles non synthétiques >90%","Eléments de toutes dimensions et poids","€ / Tonne",4,"4 €/Tonne",{"$f":"VLOOKUP(J895,'Codes tarifs éco-part'!$C$3:$E$466,3,FALSE)","v":"274"}]
["REP PMCB",2,"46380610000","-","Menuiseries intérieures et extérieures, fermetures","Portes (intérieures, coulissantes, entrée, garage, de service, technique,...)","Panneaux de particules ou OSB >90%","Eléments de toutes dimensions et poids","€ / Tonne",8,"8 €/Tonne",{"$f":"VLOOKUP(J896,'Codes tarifs éco-part'!$C$3:$E$466,3,FALSE)","v":"483"}]
["REP PMCB",2,"46380620000","-","Menuiseries intérieures et extérieures, fermetures","Portes (intérieures, coulissantes, entrée, garage, de service, technique,...)","Dérivés de bois >90%","Eléments de toutes dimensions et poids","€ / Tonne",8,"8 €/Tonne",{"$f":"VLOOKUP(J897,'Codes tarifs éco-part'!$C$3:$E$466,3,FALSE)","v":"483"}]
["REP PMCB",2,"46380670000","-","Menuiseries intérieures et extérieures, fermetures","Portes (intérieures, coulissantes, entrée, garage, de service, technique,...)","Assemblage matériaux ou fibres synthétiques >50% avec d'autres matériaux","Eléments de toutes dimensions et poids","€ / Tonne",30,"30 €/Tonne",{"$f":"VLOOKUP(J898,'Codes tarifs éco-part'!$C$3:$E$466,3,FALSE)","v":"153"}]
["REP PMCB",2,"46380680000","-","Menuiseries intérieures et extérieures, fermetures","Portes (intérieures, coulissantes, entrée, garage, de service, technique,...)","Verre >90%","Eléments de toutes dimensions et poids","€ / Tonne",9,"9 €/Tonne",{"$f":"VLOOKUP(J899,'Codes tarifs éco-part'!$C$3:$E$466,3,FALSE)","v":"484"}]
["REP PMCB",2,"46380700000","-","Menuiseries intérieures et extérieures, fermetures","Portes (intérieures, coulissantes, entrée, garage, de service, technique,...)","Assemblage verre à plus de 50% avec métal","Eléments de toutes dimensions et poids","€ / Tonne",9,"9 €/Tonne",{"$f":"VLOOKUP(J900,'Codes tarifs éco-part'!$C$3:$E$466,3,FALSE)","v":"484"}]
["REP PMCB",2,"46380710000","-","Menuiseries intérieures et extérieures, fermetures","Portes (intérieures, coulissantes, entrée, garage, de service, technique,...)","Assemblage verre à plus de 50% avec Inerte","Eléments de toutes dimensions et poids","€ / Tonne",9,"9 €/Tonne",{"$f":"VLOOKUP(J901,'Codes tarifs éco-part'!$C$3:$E$466,3,FALSE)","v":"484"}]
["REP PMCB",2,"46380720000","-","Menuiseries intérieures et extérieures, fermetures","Portes (intérieures, coulissantes, entrée, garage, de service, technique,...)","Assemblage verre à plus de 50% avec bois ou dérivés de bois","Eléments de toutes dimensions et poids","€ / Tonne",9,"9 €/Tonne",{"$f":"VLOOKUP(J902,'Codes tarifs éco-part'!$C$3:$E$466,3,FALSE)","v":"484"}]
["REP PMCB",2,"46380730000","-","Menuiseries intérieures et extérieures, fermetures","Portes (intérieures, coulissantes, entrée, garage, de service, technique,...)","Assemblage verre à plus de 50% avec plastique","Eléments de toutes dimensions et poids","€ / Tonne",9,"9 €/Tonne",{"$f":"VLOOKUP(J903,'Codes tarifs éco-part'!$C$3:$E$466,3,FALSE)","v":"484"}]
["REP PMCB",2,"46380820000","-","Menuiseries intérieures et extérieures, fermetures","Portes (intérieures, coulissantes, entrée, garage, de service, technique,...)","Assemblage de 3 matériaux ou plus sans un matériau à plus de 50%","Eléments de toutes dimensions et poids","€ / Tonne",30,"30 €/Tonne",{"$f":"VLOOKUP(J904,'Codes tarifs éco-part'!$C$3:$E$466,3,FALSE)","v":"153"}]
["REP PMCB",2,"46380829070","-","Menuiseries intérieures et extérieures, fermetures","Portes (intérieures, coulissantes, entrée, garage, de service, technique,...)","Assemblage de 3 matériaux ou plus sans un matériau à plus de 50%","Eléments de toutes dimensions et poids","€ / unité",0.49,"0,49 €/unité",{"$f":"VLOOKUP(J905,'Codes tarifs éco-part'!$C$3:$E$466,3,FALSE)","v":"108"}]
["REP PMCB",2,"46381000000","-","Menuiseries intérieures et extérieures, fermetures","Fenêtres, portes fenêtres, fenêtres de toit et leurs accessoires hors fermetures","Non connu ou non spécifié par l'entreprise","Eléments de toutes dimensions et poids","€ / Tonne",30,"30 €/Tonne",{"$f":"VLOOKUP(J906,'Codes tarifs éco-part'!$C$3:$E$466,3,FALSE)","v":"153"}]
["REP PMCB",2,"46381010000","-","Menuiseries intérieures et extérieures, fermetures","Fenêtres, portes fenêtres, fenêtres de toit et leurs accessoires hors fermetures","Assemblage de bois, dérivés de bois à plus de 50% avec d'autres matériaux ou bois composite (hors verre)","Eléments de toutes dimensions et poids","€ / Tonne",9,"9 €/Tonne",{"$f":"VLOOKUP(J907,'Codes tarifs éco-part'!$C$3:$E$466,3,FALSE)","v":"484"}]
["REP PMCB",2,"46381120000","-","Menuiseries intérieures et extérieures, fermetures","Fenêtres, portes fenêtres, fenêtres de toit et leurs accessoires hors fermetures","Autres","Eléments de toutes dimensions et poids","€ / Tonne",30,"30 €/Tonne",{"$f":"VLOOKUP(J908,'Codes tarifs éco-part'!$C$3:$E$466,3,FALSE)","v":"153"}]
["REP PMCB",2,"46381530000","-","Menuiseries intérieures et extérieures, fermetures","Fenêtres, portes fenêtres, fenêtres de toit et leurs accessoires hors fermetures","Massif et assimilés >90%","Eléments de toutes dimensions et poids","€ / Tonne",8,"8 €/Tonne",{"$f":"VLOOKUP(J909,'Codes tarifs éco-part'!$C$3:$E$466,3,FALSE)","v":"483"}]
["REP PMCB",2,"46381550000","-","Menuiseries intérieures et extérieures, fermetures","Fenêtres, portes fenêtres, fenêtres de toit et leurs accessoires hors fermetures","Matériaux bio sourcés ou textiles non synthétiques >90%","Eléments de toutes dimensions et poids","€ / Tonne",4,"4 €/Tonne",{"$f":"VLOOKUP(J910,'Codes tarifs éco-part'!$C$3:$E$466,3,FALSE)","v":"274"}]
["REP PMCB",2,"46381610000","-","Menuiseries intérieures et extérieures, fermetures","Fenêtres, portes fenêtres, fenêtres de toit et leurs accessoires hors fermetures","Panneaux de particules ou OSB >90%","Eléments de toutes dimensions et poids","€ / Tonne",8,"8 €/Tonne",{"$f":"VLOOKUP(J911,'Codes tarifs éco-part'!$C$3:$E$466,3,FALSE)","v":"483"}]
["REP PMCB",2,"46381620000","-","Menuiseries intérieures et extérieures, fermetures","Fenêtres, portes fenêtres, fenêtres de toit et leurs accessoires hors fermetures","Dérivés de bois >90%","Eléments de toutes dimensions et poids","€ / Tonne",8,"8 €/Tonne",{"$f":"VLOOKUP(J912,'Codes tarifs éco-part'!$C$3:$E$466,3,FALSE)","v":"483"}]
["REP PMCB",2,"46381680000","-","Menuiseries intérieures et extérieures, fermetures","Fenêtres, portes fenêtres, fenêtres de toit et leurs accessoires hors fermetures","Verre >90%","Eléments de toutes dimensions et poids","€ / Tonne",9,"9 €/Tonne",{"$f":"VLOOKUP(J913,'Codes tarifs éco-part'!$C$3:$E$466,3,FALSE)","v":"484"}]
["REP PMCB",1,"46381740000","12 41 20 00","Menuiseries intérieures et extérieures, fermetures","Fenêtres, portes fenêtres, fenêtres de toit et leurs accessoires hors fermetures","Béton >90%","Eléments de toutes dimensions et poids","€ / Tonne",3.82,"3,82 €/Tonne",{"$f":"VLOOKUP(J914,'Codes tarifs éco-part'!$C$3:$E$466,3,FALSE)","v":"477"}]
["REP PMCB",2,"46381820000","-","Menuiseries intérieures et extérieures, fermetures","Fenêtres, portes fenêtres, fenêtres de toit et leurs accessoires hors fermetures","Assemblage de 3 matériaux ou plus sans un matériau à plus de 50%","Eléments de toutes dimensions et poids","€ / Tonne",30,"30 €/Tonne",{"$f":"VLOOKUP(J915,'Codes tarifs éco-part'!$C$3:$E$466,3,FALSE)","v":"153"}]
["REP PMCB",2,"46381825000","-","Menuiseries intérieures et extérieures, fermetures","Fenêtres, portes fenêtres, fenêtres de toit et leurs accessoires hors fermetures","Assemblage de 3 matériaux ou plus sans un matériau à plus de 50%","Fenêtre <= 1,5 m²","€ / Unité",0.2,"0,2 €/Unité",{"$f":"VLOOKUP(J916,'Codes tarifs éco-part'!$C$3:$E$466,3,FALSE)","v":"101"}]
["REP PMCB",2,"46381825010","-","Menuiseries intérieures et extérieures, fermetures","Fenêtres, portes fenêtres, fenêtres de toit et leurs accessoires hors fermetures","Assemblage de 3 matériaux ou plus sans un matériau à plus de 50%","1,5m² < Fenêtre < 3,5 m²","€ / Unité",0.5,"0,5 €/Unité",{"$f":"VLOOKUP(J917,'Codes tarifs éco-part'!$C$3:$E$466,3,FALSE)","v":"053"}]
["REP PMCB",2,"46381825020","-","Menuiseries intérieures et extérieures, fermetures","Fenêtres, portes fenêtres, fenêtres de toit et leurs accessoires hors fermetures","Assemblage de 3 matériaux ou plus sans un matériau à plus de 50%","Fenêtre >= 3,5 m²","€ / Unité",0.6,"0,6 €/Unité",{"$f":"VLOOKUP(J918,'Codes tarifs éco-part'!$C$3:$E$466,3,FALSE)","v":"327"}]
["REP PMCB",2,"46382000000","-","Menuiseries intérieures et extérieures, fermetures","Volets, volets roulants, persiennes, stores, brise-soleil","Non connu ou non spécifié par l'entreprise","Eléments de toutes dimensions et poids","€ / Tonne",30,"30 €/Tonne",{"$f":"VLOOKUP(J919,'Codes tarifs éco-part'!$C$3:$E$466,3,FALSE)","v":"153"}]
["REP PMCB",2,"46382010000","-","Menuiseries intérieures et extérieures, fermetures","Volets, volets roulants, persiennes, stores, brise-soleil","Assemblage de bois, dérivés de bois à plus de 50% avec d'autres matériaux ou bois composite (hors verre)","Eléments de toutes dimensions et poids","€ / Tonne",9,"9 €/Tonne",{"$f":"VLOOKUP(J920,'Codes tarifs éco-part'!$C$3:$E$466,3,FALSE)","v":"484"}]
["REP PMCB",2,"46382020000","-","Menuiseries intérieures et extérieures, fermetures","Volets, volets roulants, persiennes, stores, brise-soleil","Assemblage avec métal >50% et autres matériaux","Eléments de toutes dimensions et poids","€ / Tonne",3,"3 €/Tonne",{"$f":"VLOOKUP(J921,'Codes tarifs éco-part'!$C$3:$E$466,3,FALSE)","v":"474"}]
["REP PMCB",2,"46382050000","-","Menuiseries intérieures et extérieures, fermetures","Volets, volets roulants, persiennes, stores, brise-soleil","Plastiques ou autres matériaux synthétiques >50%","Eléments de toutes dimensions et poids","€ / Tonne",30,"30 €/Tonne",{"$f":"VLOOKUP(J922,'Codes tarifs éco-part'!$C$3:$E$466,3,FALSE)","v":"153"}]
["REP PMCB",2,"46382120000","-","Menuiseries intérieures et extérieures, fermetures","Volets, volets roulants, persiennes, stores, brise-soleil","Autres","Eléments de toutes dimensions et poids","€ / Tonne",30,"30 €/Tonne",{"$f":"VLOOKUP(J923,'Codes tarifs éco-part'!$C$3:$E$466,3,FALSE)","v":"153"}]
["REP PMCB",2,"46382280000","-","Menuiseries intérieures et extérieures, fermetures","Volets, volets roulants, persiennes, stores, brise-soleil","Métal >90%","Eléments de toutes dimensions et poids","€ / Tonne",0.5,"0,5 €/Tonne",{"$f":"VLOOKUP(J924,'Codes tarifs éco-part'!$C$3:$E$466,3,FALSE)","v":"053"}]
["REP PMCB",2,"46382410000","-","Menuiseries intérieures et extérieures, fermetures","Volets, volets roulants, persiennes, stores, brise-soleil","Plastiques (mono résine) >90%","Eléments de toutes dimensions et poids","€ / Tonne",9,"9 €/Tonne",{"$f":"VLOOKUP(J925,'Codes tarifs éco-part'!$C$3:$E$466,3,FALSE)","v":"484"}]
["REP PMCB",2,"46382420000","-","Menuiseries intérieures et extérieures, fermetures","Volets, volets roulants, persiennes, stores, brise-soleil","Polyterephtalate d'Ethylène (PET) >90%","Eléments de toutes dimensions et poids","€ / Tonne",9,"9 €/Tonne",{"$f":"VLOOKUP(J926,'Codes tarifs éco-part'!$C$3:$E$466,3,FALSE)","v":"484"}]
["REP PMCB",2,"46382450000","-","Menuiseries intérieures et extérieures, fermetures","Volets, volets roulants, persiennes, stores, brise-soleil","PE ou PP ou mélange PP/PE >90%","Eléments de toutes dimensions et poids","€ / Tonne",9,"9 €/Tonne",{"$f":"VLOOKUP(J927,'Codes tarifs éco-part'!$C$3:$E$466,3,FALSE)","v":"484"}]
["REP PMCB",2,"46382460000","-","Menuiseries intérieures et extérieures, fermetures","Volets, volets roulants, persiennes, stores, brise-soleil","ABS >90%","Eléments de toutes dimensions et poids","€ / Tonne",9,"9 €/Tonne",{"$f":"VLOOKUP(J928,'Codes tarifs éco-part'!$C$3:$E$466,3,FALSE)","v":"484"}]
["REP PMCB",2,"46382470000","-","Menuiseries intérieures et extérieures, fermetures","Volets, volets roulants, persiennes, stores, brise-soleil","Polystyrène >90%","Eléments de toutes dimensions et poids","€ / Tonne",9,"9 €/Tonne",{"$f":"VLOOKUP(J929,'Codes tarifs éco-part'!$C$3:$E$466,3,FALSE)","v":"484"}]
["REP PMCB",2,"46382480000","-","Menuiseries intérieures et extérieures, fermetures","Volets, volets roulants, persiennes, stores, brise-soleil","PVC >90%","Eléments de toutes dimensions et poids","€ / Tonne",9,"9 €/Tonne",{"$f":"VLOOKUP(J930,'Codes tarifs éco-part'!$C$3:$E$466,3,FALSE)","v":"484"}]
["REP PMCB",2,"46382530000","-","Menuiseries intérieures et extérieures, fermetures","Volets, volets roulants, persiennes, stores, brise-soleil","Massif et assimilés >90%","Eléments de toutes dimensions et poids","€ / Tonne",8,"8 €/Tonne",{"$f":"VLOOKUP(J931,'Codes tarifs éco-part'!$C$3:$E$466,3,FALSE)","v":"483"}]
["REP PMCB",2,"46382550000","-","Menuiseries intérieures et extérieures, fermetures","Volets, volets roulants, persiennes, stores, brise-soleil","Matériaux bio sourcés ou textiles non synthétiques >90%","Eléments de toutes dimensions et poids","€ / Tonne",4,"4 €/Tonne",{"$f":"VLOOKUP(J932,'Codes tarifs éco-part'!$C$3:$E$466,3,FALSE)","v":"274"}]
["REP PMCB",2,"46382610000","-","Menuiseries intérieures et extérieures, fermetures","Volets, volets roulants, persiennes, stores, brise-soleil","Panneaux de particules ou OSB >90%","Eléments de toutes dimensions et poids","€ / Tonne",8,"8 €/Tonne",{"$f":"VLOOKUP(J933,'Codes tarifs éco-part'!$C$3:$E$466,3,FALSE)","v":"483"}]
["REP PMCB",2,"46382620000","-","Menuiseries intérieures et extérieures, fermetures","Volets, volets roulants, persiennes, stores, brise-soleil","Dérivés de bois >90%","Eléments de toutes dimensions et poids","€ / Tonne",8,"8 €/Tonne",{"$f":"VLOOKUP(J934,'Codes tarifs éco-part'!$C$3:$E$466,3,FALSE)","v":"483"}]
["REP PMCB",2,"46382670000","-","Menuiseries intérieures et extérieures, fermetures","Volets, volets roulants, persiennes, stores, brise-soleil","Assemblage matériaux ou fibres synthétiques >50% avec d'autres matériaux","Eléments de toutes dimensions et poids","€ / Tonne",30,"30 €/Tonne",{"$f":"VLOOKUP(J935,'Codes tarifs éco-part'!$C$3:$E$466,3,FALSE)","v":"153"}]
["REP PMCB",2,"46382820000","-","Menuiseries intérieures et extérieures, fermetures","Volets, volets roulants, persiennes, stores, brise-soleil","Assemblage de 3 matériaux ou plus sans un matériau à plus de 50%","Eléments de toutes dimensions et poids","€ / Tonne",30,"30 €/Tonne",{"$f":"VLOOKUP(J936,'Codes tarifs éco-part'!$C$3:$E$466,3,FALSE)","v":"153"}]
["REP PMCB",2,"46382825000","-","Menuiseries intérieures et extérieures, fermetures","Volets, volets roulants, persiennes, stores, brise-soleil","Assemblage de 3 matériaux ou plus sans un matériau à plus de 50%","Fenêtre <= 1,5 m²","€ / Unité",0.27,"0,27 €/Unité",{"$f":"VLOOKUP(J937,'Codes tarifs éco-part'!$C$3:$E$466,3,FALSE)","v":"103"}]
["REP PMCB",2,"46382825010","-","Menuiseries intérieures et extérieures, fermetures","Volets, volets roulants, persiennes, stores, brise-soleil","Assemblage de 3 matériaux ou plus sans un matériau à plus de 50%","1,5m² < Fenêtre < 3,5 m²","€ / Unité",0.35,"0,35 €/Unité",{"$f":"VLOOKUP(J938,'Codes tarifs éco-part'!$C$3:$E$466,3,FALSE)","v":"448"}]
["REP PMCB",2,"46382825020","-","Menuiseries intérieures et extérieures, fermetures","Volets, volets roulants, persiennes, stores, brise-soleil","Assemblage de 3 matériaux ou plus sans un matériau à plus de 50%","Fenêtre >= 3,5 m²","€ / Unité",0.6,"0,6 €/Unité",{"$f":"VLOOKUP(J939,'Codes tarifs éco-part'!$C$3:$E$466,3,FALSE)","v":"327"}]
["REP PMCB",2,"46383000000","-","Menuiseries intérieures et extérieures, fermetures","Escaliers intérieurs et extérieurs","Non connu ou non spécifié par l'entreprise","Eléments de toutes dimensions et poids","€ / Tonne",30,"30 €/Tonne",{"$f":"VLOOKUP(J940,'Codes tarifs éco-part'!$C$3:$E$466,3,FALSE)","v":"153"}]
["REP PMCB",2,"46383009070","-","Menuiseries intérieures et extérieures, fermetures","Escaliers intérieurs et extérieurs","Non connu ou non spécifié par l'entreprise","Eléments de toutes dimensions et poids","€ / Unité",0.8,"0,8 €/Unité",{"$f":"VLOOKUP(J941,'Codes tarifs éco-part'!$C$3:$E$466,3,FALSE)","v":"456"}]
["REP PMCB",2,"46383010000","-","Menuiseries intérieures et extérieures, fermetures","Escaliers intérieurs et extérieurs","Assemblage de bois, dérivés de bois à plus de 50% avec d'autres matériaux ou bois composite (hors verre)","Eléments de toutes dimensions et poids","€ / Tonne",9,"9 €/Tonne",{"$f":"VLOOKUP(J942,'Codes tarifs éco-part'!$C$3:$E$466,3,FALSE)","v":"484"}]
["REP PMCB",2,"46383019070","-","Menuiseries intérieures et extérieures, fermetures","Escaliers intérieurs et extérieurs","Assemblage de bois, dérivés de bois à plus de 50% avec d'autres matériaux ou bois composite (hors verre)","Eléments de toutes dimensions et poids","€ / Unité",0.8,"0,8 €/Unité",{"$f":"VLOOKUP(J943,'Codes tarifs éco-part'!$C$3:$E$466,3,FALSE)","v":"456"}]
["REP PMCB",2,"46383020000","-","Menuiseries intérieures et extérieures, fermetures","Escaliers intérieurs et extérieurs","Assemblage avec métal >50% et autres matériaux","Eléments de toutes dimensions et poids","€ / Tonne",3,"3 €/Tonne",{"$f":"VLOOKUP(J944,'Codes tarifs éco-part'!$C$3:$E$466,3,FALSE)","v":"474"}]
["REP PMCB",2,"46383029070","-","Menuiseries intérieures et extérieures, fermetures","Escaliers intérieurs et extérieurs","Assemblage avec métal >50% et autres matériaux","Eléments de toutes dimensions et poids","€ / Unité",0.8,"0,8 €/Unité",{"$f":"VLOOKUP(J945,'Codes tarifs éco-part'!$C$3:$E$466,3,FALSE)","v":"456"}]
["REP PMCB",2,"46383050000","-","Menuiseries intérieures et extérieures, fermetures","Escaliers intérieurs et extérieurs","Plastiques ou autres matériaux synthétiques >50%","Eléments de toutes dimensions et poids","€ / Tonne",30,"30 €/Tonne",{"$f":"VLOOKUP(J946,'Codes tarifs éco-part'!$C$3:$E$466,3,FALSE)","v":"153"}]
["REP PMCB",2,"46383120000","-","Menuiseries intérieures et extérieures, fermetures","Escaliers intérieurs et extérieurs","Autres","Eléments de toutes dimensions et poids","€ / Tonne",30,"30 €/Tonne",{"$f":"VLOOKUP(J947,'Codes tarifs éco-part'!$C$3:$E$466,3,FALSE)","v":"153"}]
["REP PMCB",2,"46383280000","-","Menuiseries intérieures et extérieures, fermetures","Escaliers intérieurs et extérieurs","Métal >90%","Eléments de toutes dimensions et poids","€ / Tonne",0.5,"0,5 €/Tonne",{"$f":"VLOOKUP(J948,'Codes tarifs éco-part'!$C$3:$E$466,3,FALSE)","v":"053"}]
["REP PMCB",2,"46383289070","-","Menuiseries intérieures et extérieures, fermetures","Escaliers intérieurs et extérieurs","Métal >90%","Eléments de toutes dimensions et poids","€ / Unité",0.8,"0,8 €/Unité",{"$f":"VLOOKUP(J949,'Codes tarifs éco-part'!$C$3:$E$466,3,FALSE)","v":"456"}]
["REP PMCB",2,"46383410000","-","Menuiseries intérieures et extérieures, fermetures","Escaliers intérieurs et extérieurs","Plastiques (mono résine) >90%","Eléments de toutes dimensions et poids","€ / Tonne",9,"9 €/Tonne",{"$f":"VLOOKUP(J950,'Codes tarifs éco-part'!$C$3:$E$466,3,FALSE)","v":"484"}]
["REP PMCB",2,"46383420000","-","Menuiseries intérieures et extérieures, fermetures","Escaliers intérieurs et extérieurs","Polyterephtalate d'Ethylène (PET) >90%","Eléments de toutes dimensions et poids","€ / Tonne",9,"9 €/Tonne",{"$f":"VLOOKUP(J951,'Codes tarifs éco-part'!$C$3:$E$466,3,FALSE)","v":"484"}]
["REP PMCB",2,"46383450000","-","Menuiseries intérieures et extérieures, fermetures","Escaliers intérieurs et extérieurs","PE ou PP ou mélange PP/PE >90%","Eléments de toutes dimensions et poids","€ / Tonne",9,"9 €/Tonne",{"$f":"VLOOKUP(J952,'Codes tarifs éco-part'!$C$3:$E$466,3,FALSE)","v":"484"}]
["REP PMCB",2,"46383460000","-","Menuiseries intérieures et extérieures, fermetures","Escaliers intérieurs et extérieurs","ABS >90%","Eléments de toutes dimensions et poids","€ / Tonne",9,"9 €/Tonne",{"$f":"VLOOKUP(J953,'Codes tarifs éco-part'!$C$3:$E$466,3,FALSE)","v":"484"}]
["REP PMCB",2,"46383470000","-","Menuiseries intérieures et extérieures, fermetures","Escaliers intérieurs et extérieurs","Polystyrène >90%","Eléments de toutes dimensions et poids","€ / Tonne",9,"9 €/Tonne",{"$f":"VLOOKUP(J954,'Codes tarifs éco-part'!$C$3:$E$466,3,FALSE)","v":"484"}]
["REP PMCB",2,"46383480000","-","Menuiseries intérieures et extérieures, fermetures","Escaliers intérieurs et extérieurs","PVC >90%","Eléments de toutes dimensions et poids","€ / Tonne",9,"9 €/Tonne",{"$f":"VLOOKUP(J955,'Codes tarifs éco-part'!$C$3:$E$466,3,FALSE)","v":"484"}]
["REP PMCB",2,"46383530000","-","Menuiseries intérieures et extérieures, fermetures","Escaliers intérieurs et extérieurs","Massif et assimilés >90%","Eléments de toutes dimensions et poids","€ / Tonne",8,"8 €/Tonne",{"$f":"VLOOKUP(J956,'Codes tarifs éco-part'!$C$3:$E$466,3,FALSE)","v":"483"}]
["REP PMCB",2,"46383539070","-","Menuiseries intérieures et extérieures, fermetures","Escaliers intérieurs et extérieurs","Massif et assimilés >90%","Eléments de toutes dimensions et poids","€ / Unité",0.8,"0,8 €/Unité",{"$f":"VLOOKUP(J957,'Codes tarifs éco-part'!$C$3:$E$466,3,FALSE)","v":"456"}]
["REP PMCB",2,"46383550000","-","Menuiseries intérieures et extérieures, fermetures","Escaliers intérieurs et extérieurs","Matériaux bio sourcés ou textiles non synthétiques >90%","Eléments de toutes dimensions et poids","€ / Tonne",4,"4 €/Tonne",{"$f":"VLOOKUP(J958,'Codes tarifs éco-part'!$C$3:$E$466,3,FALSE)","v":"274"}]
["REP PMCB",2,"46383610000","-","Menuiseries intérieures et extérieures, fermetures","Escaliers intérieurs et extérieurs","Panneaux de particules ou OSB >90%","Eléments de toutes dimensions et poids","€ / Tonne",8,"8 €/Tonne",{"$f":"VLOOKUP(J959,'Codes tarifs éco-part'!$C$3:$E$466,3,FALSE)","v":"483"}]
["REP PMCB",2,"46383620000","-","Menuiseries intérieures et extérieures, fermetures","Escaliers intérieurs et extérieurs","Dérivés de bois >90%","Eléments de toutes dimensions et poids","€ / Tonne",8,"8 €/Tonne",{"$f":"VLOOKUP(J960,'Codes tarifs éco-part'!$C$3:$E$466,3,FALSE)","v":"483"}]
["REP PMCB",2,"46383670000","-","Menuiseries intérieures et extérieures, fermetures","Escaliers intérieurs et extérieurs","Assemblage matériaux ou fibres synthétiques >50% avec d'autres matériaux","Eléments de toutes dimensions et poids","€ / Tonne",30,"30 €/Tonne",{"$f":"VLOOKUP(J961,'Codes tarifs éco-part'!$C$3:$E$466,3,FALSE)","v":"153"}]
["REP PMCB",2,"46383700000","-","Menuiseries intérieures et extérieures, fermetures","Escaliers intérieurs et extérieurs","Assemblage verre à plus de 50% avec métal","Eléments de toutes dimensions et poids","€ / Tonne",9,"9 €/Tonne",{"$f":"VLOOKUP(J962,'Codes tarifs éco-part'!$C$3:$E$466,3,FALSE)","v":"484"}]
["REP PMCB",2,"46383710000","-","Menuiseries intérieures et extérieures, fermetures","Escaliers intérieurs et extérieurs","Assemblage verre à plus de 50% avec Inerte","Eléments de toutes dimensions et poids","€ / Tonne",9,"9 €/Tonne",{"$f":"VLOOKUP(J963,'Codes tarifs éco-part'!$C$3:$E$466,3,FALSE)","v":"484"}]
["REP PMCB",2,"46383720000","-","Menuiseries intérieures et extérieures, fermetures","Escaliers intérieurs et extérieurs","Assemblage verre à plus de 50% avec bois ou dérivés de bois","Eléments de toutes dimensions et poids","€ / Tonne",9,"9 €/Tonne",{"$f":"VLOOKUP(J964,'Codes tarifs éco-part'!$C$3:$E$466,3,FALSE)","v":"484"}]
["REP PMCB",2,"46383730000","-","Menuiseries intérieures et extérieures, fermetures","Escaliers intérieurs et extérieurs","Assemblage verre à plus de 50% avec plastique","Eléments de toutes dimensions et poids","€ / Tonne",9,"9 €/Tonne",{"$f":"VLOOKUP(J965,'Codes tarifs éco-part'!$C$3:$E$466,3,FALSE)","v":"484"}]
["REP PMCB",1,"46383740000","12 44 10 00 | 12 44 30 00 | 12 44 20 00","Menuiseries intérieures et extérieures, fermetures","Escaliers intérieurs et extérieurs","Béton >90%","Eléments de toutes dimensions et poids","€ / Tonne",4.83,"4,83 €/Tonne",{"$f":"VLOOKUP(J966,'Codes tarifs éco-part'!$C$3:$E$466,3,FALSE)","v":"130"}]
["REP PMCB",2,"46383820000","-","Menuiseries intérieures et extérieures, fermetures","Escaliers intérieurs et extérieurs","Assemblage de 3 matériaux ou plus sans un matériau à plus de 50%","Eléments de toutes dimensions et poids","€ / Tonne",30,"30 €/Tonne",{"$f":"VLOOKUP(J967,'Codes tarifs éco-part'!$C$3:$E$466,3,FALSE)","v":"153"}]
["REP PMCB",2,"46384000000","-","Menuiseries intérieures et extérieures, fermetures","Garde-corps, balustres et accessoires d'escaliers","Non connu ou non spécifié par l'entreprise","Eléments de toutes dimensions et poids","€ / Tonne",30,"30 €/Tonne",{"$f":"VLOOKUP(J968,'Codes tarifs éco-part'!$C$3:$E$466,3,FALSE)","v":"153"}]
["REP PMCB",2,"46384010000","-","Menuiseries intérieures et extérieures, fermetures","Garde-corps, balustres et accessoires d'escaliers","Assemblage de bois, dérivés de bois à plus de 50% avec d'autres matériaux ou bois composite (hors verre)","Eléments de toutes dimensions et poids","€ / Tonne",9,"9 €/Tonne",{"$f":"VLOOKUP(J969,'Codes tarifs éco-part'!$C$3:$E$466,3,FALSE)","v":"484"}]
["REP PMCB",2,"46384020000","-","Menuiseries intérieures et extérieures, fermetures","Garde-corps, balustres et accessoires d'escaliers","Assemblage avec métal >50% et autres matériaux","Eléments de toutes dimensions et poids","€ / Tonne",3,"3 €/Tonne",{"$f":"VLOOKUP(J970,'Codes tarifs éco-part'!$C$3:$E$466,3,FALSE)","v":"474"}]
["REP PMCB",2,"46384050000","-","Menuiseries intérieures et extérieures, fermetures","Garde-corps, balustres et accessoires d'escaliers","Plastiques ou autres matériaux synthétiques >50%","Eléments de toutes dimensions et poids","€ / Tonne",30,"30 €/Tonne",{"$f":"VLOOKUP(J971,'Codes tarifs éco-part'!$C$3:$E$466,3,FALSE)","v":"153"}]
["REP PMCB",2,"46384120000","-","Menuiseries intérieures et extérieures, fermetures","Garde-corps, balustres et accessoires d'escaliers","Autres","Eléments de toutes dimensions et poids","€ / Tonne",30,"30 €/Tonne",{"$f":"VLOOKUP(J972,'Codes tarifs éco-part'!$C$3:$E$466,3,FALSE)","v":"153"}]
["REP PMCB",2,"46384280000","-","Menuiseries intérieures et extérieures, fermetures","Garde-corps, balustres et accessoires d'escaliers","Métal >90%","Eléments de toutes dimensions et poids","€ / Tonne",0.5,"0,5 €/Tonne",{"$f":"VLOOKUP(J973,'Codes tarifs éco-part'!$C$3:$E$466,3,FALSE)","v":"053"}]
["REP PMCB",2,"46384410000","-","Menuiseries intérieures et extérieures, fermetures","Garde-corps, balustres et accessoires d'escaliers","Plastiques (mono résine) >90%","Eléments de toutes dimensions et poids","€ / Tonne",9,"9 €/Tonne",{"$f":"VLOOKUP(J974,'Codes tarifs éco-part'!$C$3:$E$466,3,FALSE)","v":"484"}]
["REP PMCB",2,"46384420000","-","Menuiseries intérieures et extérieures, fermetures","Garde-corps, balustres et accessoires d'escaliers","Polyterephtalate d'Ethylène (PET) >90%","Eléments de toutes dimensions et poids","€ / Tonne",9,"9 €/Tonne",{"$f":"VLOOKUP(J975,'Codes tarifs éco-part'!$C$3:$E$466,3,FALSE)","v":"484"}]
["REP PMCB",2,"46384450000","-","Menuiseries intérieures et extérieures, fermetures","Garde-corps, balustres et accessoires d'escaliers","PE ou PP ou mélange PP/PE >90%","Eléments de toutes dimensions et poids","€ / Tonne",9,"9 €/Tonne",{"$f":"VLOOKUP(J976,'Codes tarifs éco-part'!$C$3:$E$466,3,FALSE)","v":"484"}]
["REP PMCB",2,"46384460000","-","Menuiseries intérieures et extérieures, fermetures","Garde-corps, balustres et accessoires d'escaliers","ABS >90%","Eléments de toutes dimensions et poids","€ / Tonne",9,"9 €/Tonne",{"$f":"VLOOKUP(J977,'Codes tarifs éco-part'!$C$3:$E$466,3,FALSE)","v":"484"}]
["REP PMCB",2,"46384470000","-","Menuiseries intérieures et extérieures, fermetures","Garde-corps, balustres et accessoires d'escaliers","Polystyrène >90%","Eléments de toutes dimensions et poids","€ / Tonne",9,"9 €/Tonne",{"$f":"VLOOKUP(J978,'Codes tarifs éco-part'!$C$3:$E$466,3,FALSE)","v":"484"}]
["REP PMCB",2,"46384480000","-","Menuiseries intérieures et extérieures, fermetures","Garde-corps, balustres et accessoires d'escaliers","PVC >90%","Eléments de toutes dimensions et poids","€ / Tonne",9,"9 €/Tonne",{"$f":"VLOOKUP(J979,'Codes tarifs éco-part'!$C$3:$E$466,3,FALSE)","v":"484"}]
["REP PMCB",2,"46384530000","-","Menuiseries intérieures et extérieures, fermetures","Garde-corps, balustres et accessoires d'escaliers","Massif et assimilés >90%","Eléments de toutes dimensions et poids","€ / Tonne",8,"8 €/Tonne",{"$f":"VLOOKUP(J980,'Codes tarifs éco-part'!$C$3:$E$466,3,FALSE)","v":"483"}]
["REP PMCB",2,"46384550000","-","Menuiseries intérieures et extérieures, fermetures","Garde-corps, balustres et accessoires d'escaliers","Matériaux bio sourcés ou textiles non synthétiques >90%","Eléments de toutes dimensions et poids","€ / Tonne",4,"4 €/Tonne",{"$f":"VLOOKUP(J981,'Codes tarifs éco-part'!$C$3:$E$466,3,FALSE)","v":"274"}]
["REP PMCB",2,"46384610000","-","Menuiseries intérieures et extérieures, fermetures","Garde-corps, balustres et accessoires d'escaliers","Panneaux de particules ou OSB >90%","Eléments de toutes dimensions et poids","€ / Tonne",8,"8 €/Tonne",{"$f":"VLOOKUP(J982,'Codes tarifs éco-part'!$C$3:$E$466,3,FALSE)","v":"483"}]
["REP PMCB",2,"46384620000","-","Menuiseries intérieures et extérieures, fermetures","Garde-corps, balustres et accessoires d'escaliers","Dérivés de bois >90%","Eléments de toutes dimensions et poids","€ / Tonne",8,"8 €/Tonne",{"$f":"VLOOKUP(J983,'Codes tarifs éco-part'!$C$3:$E$466,3,FALSE)","v":"483"}]
["REP PMCB",2,"46384670000","-","Menuiseries intérieures et extérieures, fermetures","Garde-corps, balustres et accessoires d'escaliers","Assemblage matériaux ou fibres synthétiques >50% avec d'autres matériaux","Eléments de toutes dimensions et poids","€ / Tonne",30,"30 €/Tonne",{"$f":"VLOOKUP(J984,'Codes tarifs éco-part'!$C$3:$E$466,3,FALSE)","v":"153"}]
["REP PMCB",2,"46384700000","-","Menuiseries intérieures et extérieures, fermetures","Garde-corps, balustres et accessoires d'escaliers","Assemblage verre à plus de 50% avec métal","Eléments de toutes dimensions et poids","€ / Tonne",9,"9 €/Tonne",{"$f":"VLOOKUP(J985,'Codes tarifs éco-part'!$C$3:$E$466,3,FALSE)","v":"484"}]
["REP PMCB",2,"46384710000","-","Menuiseries intérieures et extérieures, fermetures","Garde-corps, balustres et accessoires d'escaliers","Assemblage verre à plus de 50% avec Inerte","Eléments de toutes dimensions et poids","€ / Tonne",9,"9 €/Tonne",{"$f":"VLOOKUP(J986,'Codes tarifs éco-part'!$C$3:$E$466,3,FALSE)","v":"484"}]
["REP PMCB",2,"46384720000","-","Menuiseries intérieures et extérieures, fermetures","Garde-corps, balustres et accessoires d'escaliers","Assemblage verre à plus de 50% avec bois ou dérivés de bois","Eléments de toutes dimensions et poids","€ / Tonne",9,"9 €/Tonne",{"$f":"VLOOKUP(J987,'Codes tarifs éco-part'!$C$3:$E$466,3,FALSE)","v":"484"}]
["REP PMCB",2,"46384730000","-","Menuiseries intérieures et extérieures, fermetures","Garde-corps, balustres et accessoires d'escaliers","Assemblage verre à plus de 50% avec plastique","Eléments de toutes dimensions et poids","€ / Tonne",9,"9 €/Tonne",{"$f":"VLOOKUP(J988,'Codes tarifs éco-part'!$C$3:$E$466,3,FALSE)","v":"484"}]
["REP PMCB",1,"46384740000","12 41 20 00","Menuiseries intérieures et extérieures, fermetures","Garde-corps, balustres et accessoires d'escaliers","Béton >90%","Eléments de toutes dimensions et poids","€ / Tonne",3.82,"3,82 €/Tonne",{"$f":"VLOOKUP(J989,'Codes tarifs éco-part'!$C$3:$E$466,3,FALSE)","v":"477"}]
["REP PMCB",2,"46384820000","-","Menuiseries intérieures et extérieures, fermetures","Garde-corps, balustres et accessoires d'escaliers","Assemblage de 3 matériaux ou plus sans un matériau à plus de 50%","Eléments de toutes dimensions et poids","€ / Tonne",30,"30 €/Tonne",{"$f":"VLOOKUP(J990,'Codes tarifs éco-part'!$C$3:$E$466,3,FALSE)","v":"153"}]
["REP PMCB",2,"46385725000","-","Menuiseries intérieures et extérieures, fermetures","Fenêtre et porte fenêtre (cadre en bois)","Assemblage verre à plus de 50% avec bois ou dérivés de bois","Fenêtre <= 1,5 m²","€ / Unité",0.2,"0,2 €/Unité",{"$f":"VLOOKUP(J991,'Codes tarifs éco-part'!$C$3:$E$466,3,FALSE)","v":"101"}]
["REP PMCB",2,"46385725010","-","Menuiseries intérieures et extérieures, fermetures","Fenêtre et porte fenêtre (cadre en bois)","Assemblage verre à plus de 50% avec bois ou dérivés de bois","1,5m² < Fenêtre < 3,5 m²","€ / Unité",0.35,"0,35 €/Unité",{"$f":"VLOOKUP(J992,'Codes tarifs éco-part'!$C$3:$E$466,3,FALSE)","v":"448"}]
["REP PMCB",2,"46385725020","-","Menuiseries intérieures et extérieures, fermetures","Fenêtre et porte fenêtre (cadre en bois)","Assemblage verre à plus de 50% avec bois ou dérivés de bois","Fenêtre >= 3,5 m²","€ / Unité",0.6,"0,6 €/Unité",{"$f":"VLOOKUP(J993,'Codes tarifs éco-part'!$C$3:$E$466,3,FALSE)","v":"327"}]
["REP PMCB",2,"46386705000","-","Menuiseries intérieures et extérieures, fermetures","Fenêtre et porte fenêtre (cadre en métal)","Assemblage verre à plus de 50% avec métal","Fenêtre <= 1,5 m²","€ / Unité",0.2,"0,2 €/Unité",{"$f":"VLOOKUP(J994,'Codes tarifs éco-part'!$C$3:$E$466,3,FALSE)","v":"101"}]
["REP PMCB",2,"46386705010","-","Menuiseries intérieures et extérieures, fermetures","Fenêtre et porte fenêtre (cadre en métal)","Assemblage verre à plus de 50% avec métal","1,5m² < Fenêtre < 3,5 m²","€ / Unité",0.35,"0,35 €/Unité",{"$f":"VLOOKUP(J995,'Codes tarifs éco-part'!$C$3:$E$466,3,FALSE)","v":"448"}]
["REP PMCB",2,"46386705020","-","Menuiseries intérieures et extérieures, fermetures","Fenêtre et porte fenêtre (cadre en métal)","Assemblage verre à plus de 50% avec métal","Fenêtre >= 3,5 m²","€ / Unité",0.6,"0,6 €/Unité",{"$f":"VLOOKUP(J996,'Codes tarifs éco-part'!$C$3:$E$466,3,FALSE)","v":"327"}]
["REP PMCB",2,"46387735000","-","Menuiseries intérieures et extérieures, fermetures","Fenêtre et porte fenêtre (cadre en PVC)","Assemblage verre à plus de 50% avec plastique","Fenêtre <= 1,5 m²","€ / Unité",0.2,"0,2 €/Unité",{"$f":"VLOOKUP(J997,'Codes tarifs éco-part'!$C$3:$E$466,3,FALSE)","v":"101"}]
["REP PMCB",2,"46387735010","-","Menuiseries intérieures et extérieures, fermetures","Fenêtre et porte fenêtre (cadre en PVC)","Assemblage verre à plus de 50% avec plastique","1,5m² < Fenêtre < 3,5 m²","€ / Unité",0.35,"0,35 €/Unité",{"$f":"VLOOKUP(J998,'Codes tarifs éco-part'!$C$3:$E$466,3,FALSE)","v":"448"}]
["REP PMCB",2,"46387735020","-","Menuiseries intérieures et extérieures, fermetures","Fenêtre et porte fenêtre (cadre en PVC)","Assemblage verre à plus de 50% avec plastique","Fenêtre >= 3,5 m²","€ / Unité",0.6,"0,6 €/Unité",{"$f":"VLOOKUP(J999,'Codes tarifs éco-part'!$C$3:$E$466,3,FALSE)","v":"327"}]
["REP PMCB",2,"46388000000","-","Menuiseries intérieures et extérieures, fermetures","Fenêtres, portes fenêtres, fenêtres de toit et leurs accessoires hors quincailleries","Non connu ou non spécifié par l'entreprise","Eléments de toutes dimensions et poids","€ / Tonne",30,"30 €/Tonne",{"$f":"VLOOKUP(J1000,'Codes tarifs éco-part'!$C$3:$E$466,3,FALSE)","v":"153"}]
["REP PMCB",2,"46388050000","-","Menuiseries intérieures et extérieures, fermetures","Fenêtres, portes fenêtres, fenêtres de toit et leurs accessoires hors quincailleries","Plastiques ou autres matériaux synthétiques >50%","Eléments de toutes dimensions et poids","€ / Tonne",30,"30 €/Tonne",{"$f":"VLOOKUP(J1001,'Codes tarifs éco-part'!$C$3:$E$466,3,FALSE)","v":"153"}]
["REP PMCB",2,"46388120000","-","Menuiseries intérieures et extérieures, fermetures","Fenêtres, portes fenêtres, fenêtres de toit et leurs accessoires hors quincailleries","Autres","Eléments de toutes dimensions et poids","€ / Tonne",30,"30 €/Tonne",{"$f":"VLOOKUP(J1002,'Codes tarifs éco-part'!$C$3:$E$466,3,FALSE)","v":"153"}]
["REP PMCB",2,"46388410000","-","Menuiseries intérieures et extérieures, fermetures","Fenêtres, portes fenêtres, fenêtres de toit et leurs accessoires hors quincailleries","Plastiques (mono résine) >90%","Eléments de toutes dimensions et poids","€ / Tonne",9,"9 €/Tonne",{"$f":"VLOOKUP(J1003,'Codes tarifs éco-part'!$C$3:$E$466,3,FALSE)","v":"484"}]
["REP PMCB",2,"46388420000","-","Menuiseries intérieures et extérieures, fermetures","Fenêtres, portes fenêtres, fenêtres de toit et leurs accessoires hors quincailleries","Polyterephtalate d'Ethylène (PET) >90%","Eléments de toutes dimensions et poids","€ / Tonne",9,"9 €/Tonne",{"$f":"VLOOKUP(J1004,'Codes tarifs éco-part'!$C$3:$E$466,3,FALSE)","v":"484"}]
["REP PMCB",2,"46388450000","-","Menuiseries intérieures et extérieures, fermetures","Fenêtres, portes fenêtres, fenêtres de toit et leurs accessoires hors quincailleries","PE ou PP ou mélange PP/PE >90%","Eléments de toutes dimensions et poids","€ / Tonne",9,"9 €/Tonne",{"$f":"VLOOKUP(J1005,'Codes tarifs éco-part'!$C$3:$E$466,3,FALSE)","v":"484"}]
["REP PMCB",2,"46388460000","-","Menuiseries intérieures et extérieures, fermetures","Fenêtres, portes fenêtres, fenêtres de toit et leurs accessoires hors quincailleries","ABS >90%","Eléments de toutes dimensions et poids","€ / Tonne",9,"9 €/Tonne",{"$f":"VLOOKUP(J1006,'Codes tarifs éco-part'!$C$3:$E$466,3,FALSE)","v":"484"}]
["REP PMCB",2,"46388470000","-","Menuiseries intérieures et extérieures, fermetures","Fenêtres, portes fenêtres, fenêtres de toit et leurs accessoires hors quincailleries","Polystyrène >90%","Eléments de toutes dimensions et poids","€ / Tonne",9,"9 €/Tonne",{"$f":"VLOOKUP(J1007,'Codes tarifs éco-part'!$C$3:$E$466,3,FALSE)","v":"484"}]
["REP PMCB",2,"46388480000","-","Menuiseries intérieures et extérieures, fermetures","Fenêtres, portes fenêtres, fenêtres de toit et leurs accessoires hors quincailleries","PVC >90%","Eléments de toutes dimensions et poids","€ / Tonne",9,"9 €/Tonne",{"$f":"VLOOKUP(J1008,'Codes tarifs éco-part'!$C$3:$E$466,3,FALSE)","v":"484"}]
["REP PMCB",2,"46388670000","-","Menuiseries intérieures et extérieures, fermetures","Fenêtres, portes fenêtres, fenêtres de toit et leurs accessoires hors quincailleries","Assemblage matériaux ou fibres synthétiques >50% avec d'autres matériaux","Eléments de toutes dimensions et poids","€ / Tonne",30,"30 €/Tonne",{"$f":"VLOOKUP(J1009,'Codes tarifs éco-part'!$C$3:$E$466,3,FALSE)","v":"153"}]
["REP PMCB",2,"46388700000","-","Menuiseries intérieures et extérieures, fermetures","Fenêtres, portes fenêtres, fenêtres de toit et leurs accessoires hors quincailleries","Assemblage verre à plus de 50% avec métal","Eléments de toutes dimensions et poids","€ / Tonne",9,"9 €/Tonne",{"$f":"VLOOKUP(J1010,'Codes tarifs éco-part'!$C$3:$E$466,3,FALSE)","v":"484"}]
["REP PMCB",2,"46388710000","-","Menuiseries intérieures et extérieures, fermetures","Fenêtres, portes fenêtres, fenêtres de toit et leurs accessoires hors quincailleries","Assemblage verre à plus de 50% avec Inerte","Eléments de toutes dimensions et poids","€ / Tonne",9,"9 €/Tonne",{"$f":"VLOOKUP(J1011,'Codes tarifs éco-part'!$C$3:$E$466,3,FALSE)","v":"484"}]
["REP PMCB",2,"46388720000","-","Menuiseries intérieures et extérieures, fermetures","Fenêtres, portes fenêtres, fenêtres de toit et leurs accessoires hors quincailleries","Assemblage verre à plus de 50% avec bois ou dérivés de bois","Eléments de toutes dimensions et poids","€ / Tonne",9,"9 €/Tonne",{"$f":"VLOOKUP(J1012,'Codes tarifs éco-part'!$C$3:$E$466,3,FALSE)","v":"484"}]
["REP PMCB",2,"46388730000","-","Menuiseries intérieures et extérieures, fermetures","Fenêtres, portes fenêtres, fenêtres de toit et leurs accessoires hors quincailleries","Assemblage verre à plus de 50% avec plastique","Eléments de toutes dimensions et poids","€ / Tonne",9,"9 €/Tonne",{"$f":"VLOOKUP(J1013,'Codes tarifs éco-part'!$C$3:$E$466,3,FALSE)","v":"484"}]
["REP PMCB",2,"46389120000","-","Menuiseries intérieures et extérieures, fermetures","Portail","Autres","Eléments de toutes dimensions et poids","€ / Tonne",30,"30 €/Tonne",{"$f":"VLOOKUP(J1014,'Codes tarifs éco-part'!$C$3:$E$466,3,FALSE)","v":"153"}]
["REP PMCB",2,"46389289080","-","Menuiseries intérieures et extérieures, fermetures","Portail","Métal >90%","Eléments de toutes dimensions et poids","€ / ml",0.01,"0,01 €/ml",{"$f":"VLOOKUP(J1015,'Codes tarifs éco-part'!$C$3:$E$466,3,FALSE)","v":"260"}]
["REP PMCB",2,"46389419080","-","Menuiseries intérieures et extérieures, fermetures","Portail","Plastiques (mono résine) >90%","Eléments de toutes dimensions et poids","€ / ml",0.11,"0,11 €/ml",{"$f":"VLOOKUP(J1016,'Codes tarifs éco-part'!$C$3:$E$466,3,FALSE)","v":"262"}]
["REP PMCB",2,"46389429080","-","Menuiseries intérieures et extérieures, fermetures","Portail","Polyterephtalate d'Ethylène (PET) >90%","Eléments de toutes dimensions et poids","€ / ml",0.11,"0,11 €/ml",{"$f":"VLOOKUP(J1017,'Codes tarifs éco-part'!$C$3:$E$466,3,FALSE)","v":"262"}]
["REP PMCB",2,"46389459080","-","Menuiseries intérieures et extérieures, fermetures","Portail","PE ou PP ou mélange PP/PE >90%","Eléments de toutes dimensions et poids","€ / ml",0.11,"0,11 €/ml",{"$f":"VLOOKUP(J1018,'Codes tarifs éco-part'!$C$3:$E$466,3,FALSE)","v":"262"}]
["REP PMCB",2,"46389469080","-","Menuiseries intérieures et extérieures, fermetures","Portail","ABS >90%","Eléments de toutes dimensions et poids","€ / ml",0.11,"0,11 €/ml",{"$f":"VLOOKUP(J1019,'Codes tarifs éco-part'!$C$3:$E$466,3,FALSE)","v":"262"}]
["REP PMCB",2,"46389479080","-","Menuiseries intérieures et extérieures, fermetures","Portail","Polystyrène >90%","Eléments de toutes dimensions et poids","€ / ml",0.11,"0,11 €/ml",{"$f":"VLOOKUP(J1020,'Codes tarifs éco-part'!$C$3:$E$466,3,FALSE)","v":"262"}]
["REP PMCB",2,"46389489080","-","Menuiseries intérieures et extérieures, fermetures","Portail","PVC >90%","Eléments de toutes dimensions et poids","€ / ml",0.11,"0,11 €/ml",{"$f":"VLOOKUP(J1021,'Codes tarifs éco-part'!$C$3:$E$466,3,FALSE)","v":"262"}]
["REP PMCB",2,"46389539080","-","Menuiseries intérieures et extérieures, fermetures","Portail","Massif et assimilés >90%","Eléments de toutes dimensions et poids","€ / ml",0.09,"0,09 €/ml",{"$f":"VLOOKUP(J1022,'Codes tarifs éco-part'!$C$3:$E$466,3,FALSE)","v":"049"}]
["REP PMCB",2,"46389619080","-","Menuiseries intérieures et extérieures, fermetures","Portail","Panneaux de particules ou OSB >90%","Eléments de toutes dimensions et poids","€ / ml",0.09,"0,09 €/ml",{"$f":"VLOOKUP(J1023,'Codes tarifs éco-part'!$C$3:$E$466,3,FALSE)","v":"049"}]
["REP PMCB",2,"46389829080","-","Menuiseries intérieures et extérieures, fermetures","Portail","Assemblage de 3 matériaux ou plus sans un matériau à plus de 50%","Eléments de toutes dimensions et poids","€ / ml",0.33,"0,33 €/ml",{"$f":"VLOOKUP(J1024,'Codes tarifs éco-part'!$C$3:$E$466,3,FALSE)","v":"006"}]
["REP PMCB",2,"46390019070","-","Menuiseries intérieures et extérieures, fermetures","Portes : Huisserie bois","Assemblage de bois, dérivés de bois à plus de 50% avec d'autres matériaux ou bois composite (hors verre)","Eléments de toutes dimensions et poids","€ / Unité",0.08,"0,08 €/Unité",{"$f":"VLOOKUP(J1025,'Codes tarifs éco-part'!$C$3:$E$466,3,FALSE)","v":"003"}]
["REP PMCB",2,"46391029070","-","Menuiseries intérieures et extérieures, fermetures","Portes : Huisserie métallique","Assemblage avec métal >50% et autres matériaux","Eléments de toutes dimensions et poids","€ / Unité",0.04,"0,04 €/Unité",{"$f":"VLOOKUP(J1026,'Codes tarifs éco-part'!$C$3:$E$466,3,FALSE)","v":"002"}]
["REP PMCB",2,"46392679070","-","Menuiseries intérieures et extérieures, fermetures","Portes : Huisserie PVC","Assemblage matériaux ou fibres synthétiques >50% avec d'autres matériaux","Eléments de toutes dimensions et poids","€ / Unité",0.08,"0,08 €/Unité",{"$f":"VLOOKUP(J1027,'Codes tarifs éco-part'!$C$3:$E$466,3,FALSE)","v":"003"}]
["REP PMCB",2,"46393019070","-","Menuiseries intérieures et extérieures, fermetures","Portes : Trappes en bois","Assemblage de bois, dérivés de bois à plus de 50% avec d'autres matériaux ou bois composite (hors verre)","Eléments de toutes dimensions et poids","€ / Unité",0.05,"0,05 €/Unité",{"$f":"VLOOKUP(J1028,'Codes tarifs éco-part'!$C$3:$E$466,3,FALSE)","v":"048"}]
["REP PMCB",2,"46394029070","-","Menuiseries intérieures et extérieures, fermetures","Portes : Trappes en métal","Assemblage avec métal >50% et autres matériaux","Eléments de toutes dimensions et poids","€ / Unité",0.01,"0,01 €/Unité",{"$f":"VLOOKUP(J1029,'Codes tarifs éco-part'!$C$3:$E$466,3,FALSE)","v":"260"}]
["REP PMCB",2,"46395679070","-","Menuiseries intérieures et extérieures, fermetures","Portes : Trappes en PVC","Assemblage matériaux ou fibres synthétiques >50% avec d'autres matériaux","Eléments de toutes dimensions et poids","€ / Unité",0.01,"0,01 €/Unité",{"$f":"VLOOKUP(J1030,'Codes tarifs éco-part'!$C$3:$E$466,3,FALSE)","v":"260"}]
["REP PMCB",2,"46396621100","-","Menuiseries intérieures et extérieures, fermetures","Portes : vantail porte alvéolaire","Dérivés de bois >90%","Par lot de 2","€ / Unité",0.26,"0,26 €/Unité",{"$f":"VLOOKUP(J1031,'Codes tarifs éco-part'!$C$3:$E$466,3,FALSE)","v":"445"}]
["REP PMCB",2,"46396629070","-","Menuiseries intérieures et extérieures, fermetures","Portes : vantail porte alvéolaire","Dérivés de bois >90%","Eléments de toutes dimensions et poids","€ / Unité",0.13,"0,13 €/Unité",{"$f":"VLOOKUP(J1032,'Codes tarifs éco-part'!$C$3:$E$466,3,FALSE)","v":"004"}]
["REP PMCB",2,"46397011100","-","Menuiseries intérieures et extérieures, fermetures","Portes : vantail porte en bois ","Assemblage de bois, dérivés de bois à plus de 50% avec d'autres matériaux ou bois composite (hors verre)","Par lot de 2","€ / Unité",0.72,"0,72 €/Unité",{"$f":"VLOOKUP(J1033,'Codes tarifs éco-part'!$C$3:$E$466,3,FALSE)","v":"454"}]
["REP PMCB",2,"46397019070","-","Menuiseries intérieures et extérieures, fermetures","Portes : vantail porte en bois ","Assemblage de bois, dérivés de bois à plus de 50% avec d'autres matériaux ou bois composite (hors verre)","Eléments de toutes dimensions et poids","€ / Unité",0.36,"0,36 €/Unité",{"$f":"VLOOKUP(J1034,'Codes tarifs éco-part'!$C$3:$E$466,3,FALSE)","v":"449"}]
["REP PMCB",2,"46398021100","-","Menuiseries intérieures et extérieures, fermetures","Portes : vantail porte en métal","Assemblage avec métal >50% et autres matériaux","Par lot de 2","€ / Unité",0.26,"0,26 €/Unité",{"$f":"VLOOKUP(J1035,'Codes tarifs éco-part'!$C$3:$E$466,3,FALSE)","v":"445"}]
["REP PMCB",2,"46398029070","-","Menuiseries intérieures et extérieures, fermetures","Portes : vantail porte en métal","Assemblage avec métal >50% et autres matériaux","Eléments de toutes dimensions et poids","€ / Unité",0.13,"0,13 €/Unité",{"$f":"VLOOKUP(J1036,'Codes tarifs éco-part'!$C$3:$E$466,3,FALSE)","v":"004"}]
["REP PMCB",2,"46399671100","-","Menuiseries intérieures et extérieures, fermetures","Portes : vantail porte en PVC","Assemblage matériaux ou fibres synthétiques >50% avec d'autres matériaux","Par lot de 2","€ / Unité",0.76,"0,76 €/Unité",{"$f":"VLOOKUP(J1037,'Codes tarifs éco-part'!$C$3:$E$466,3,FALSE)","v":"455"}]
["REP PMCB",2,"46399679070","-","Menuiseries intérieures et extérieures, fermetures","Portes : vantail porte en PVC","Assemblage matériaux ou fibres synthétiques >50% avec d'autres matériaux","Eléments de toutes dimensions et poids","€ / Unité",0.38,"0,38 €/Unité",{"$f":"VLOOKUP(J1038,'Codes tarifs éco-part'!$C$3:$E$466,3,FALSE)","v":"292"}]
["REP PMCB",2,"46400681100","-","Menuiseries intérieures et extérieures, fermetures","Portes : vantail porte en verre (>90%)","Verre >90%","Par lot de 2","€ / Unité",0.64,"0,64 €/Unité",{"$f":"VLOOKUP(J1039,'Codes tarifs éco-part'!$C$3:$E$466,3,FALSE)","v":"452"}]
["REP PMCB",2,"46400689070","-","Menuiseries intérieures et extérieures, fermetures","Portes : vantail porte en verre (>90%)","Verre >90%","Eléments de toutes dimensions et poids","€ / Unité",0.32,"0,32 €/Unité",{"$f":"VLOOKUP(J1040,'Codes tarifs éco-part'!$C$3:$E$466,3,FALSE)","v":"447"}]
["REP PMCB",2,"46401701100","-","Menuiseries intérieures et extérieures, fermetures","Portes : vantail porte vitrée","Assemblage verre à plus de 50% avec métal","Par lot de 2","€ / Unité",0.76,"0,76 €/Unité",{"$f":"VLOOKUP(J1041,'Codes tarifs éco-part'!$C$3:$E$466,3,FALSE)","v":"455"}]
["REP PMCB",2,"46401709070","-","Menuiseries intérieures et extérieures, fermetures","Portes : vantail porte vitrée","Assemblage verre à plus de 50% avec métal","Eléments de toutes dimensions et poids","€ / Unité",0.38,"0,38 €/Unité",{"$f":"VLOOKUP(J1042,'Codes tarifs éco-part'!$C$3:$E$466,3,FALSE)","v":"292"}]
["REP PMCB",2,"46401711100","-","Menuiseries intérieures et extérieures, fermetures","Portes : vantail porte vitrée","Assemblage verre à plus de 50% avec inerte","Par lot de 2","€ / Unité",0.76,"0,76 €/Unité",{"$f":"VLOOKUP(J1043,'Codes tarifs éco-part'!$C$3:$E$466,3,FALSE)","v":"455"}]
["REP PMCB",2,"46401719070","-","Menuiseries intérieures et extérieures, fermetures","Portes : vantail porte vitrée","Assemblage verre à plus de 50% avec inerte","Eléments de toutes dimensions et poids","€ / Unité",0.38,"0,38 €/Unité",{"$f":"VLOOKUP(J1044,'Codes tarifs éco-part'!$C$3:$E$466,3,FALSE)","v":"292"}]
["REP PMCB",2,"46401721100","-","Menuiseries intérieures et extérieures, fermetures","Portes : vantail porte vitrée","Assemblage verre à plus de 50% avec bois ou dérivés de bois","Par lot de 2","€ / Unité",0.76,"0,76 €/Unité",{"$f":"VLOOKUP(J1045,'Codes tarifs éco-part'!$C$3:$E$466,3,FALSE)","v":"455"}]
["REP PMCB",2,"46401729070","-","Menuiseries intérieures et extérieures, fermetures","Portes : vantail porte vitrée","Assemblage verre à plus de 50% avec bois ou dérivés de bois","Eléments de toutes dimensions et poids","€ / Unité",0.38,"0,38 €/Unité",{"$f":"VLOOKUP(J1046,'Codes tarifs éco-part'!$C$3:$E$466,3,FALSE)","v":"292"}]
["REP PMCB",2,"46401731100","-","Menuiseries intérieures et extérieures, fermetures","Portes : vantail porte vitrée","Assemblage verre à plus de 50% avec plastique","Par lot de 2","€ / Unité",0.76,"0,76 €/Unité",{"$f":"VLOOKUP(J1047,'Codes tarifs éco-part'!$C$3:$E$466,3,FALSE)","v":"455"}]
["REP PMCB",2,"46401739070","-","Menuiseries intérieures et extérieures, fermetures","Portes : vantail porte vitrée","Assemblage verre à plus de 50% avec plastique","Eléments de toutes dimensions et poids","€ / Unité",0.38,"0,38 €/Unité",{"$f":"VLOOKUP(J1048,'Codes tarifs éco-part'!$C$3:$E$466,3,FALSE)","v":"292"}]
["REP PMCB",2,"46402829070","-","Menuiseries intérieures et extérieures, fermetures","Portes : Trappes autres","Assemblage de 3 matériaux ou plus sans un matériau à plus de 50%","Eléments de toutes dimensions et poids","€ / Unité",0.09,"0,09 €/Unité",{"$f":"VLOOKUP(J1049,'Codes tarifs éco-part'!$C$3:$E$466,3,FALSE)","v":"049"}]
["REP PMCB",2,"46403821100","-","Menuiseries intérieures et extérieures, fermetures","Portes : vantail autres","Assemblage de 3 matériaux ou plus sans un matériau à plus de 50%","Par lot de 2","€ / Unité",0.9,"0,9 €/Unité",{"$f":"VLOOKUP(J1050,'Codes tarifs éco-part'!$C$3:$E$466,3,FALSE)","v":"330"}]
["REP PMCB",2,"46403829070","-","Menuiseries intérieures et extérieures, fermetures","Portes : vantail autres","Assemblage de 3 matériaux ou plus sans un matériau à plus de 50%","Eléments de toutes dimensions et poids","€ / Unité",0.45,"0,45 €/Unité",{"$f":"VLOOKUP(J1051,'Codes tarifs éco-part'!$C$3:$E$466,3,FALSE)","v":"325"}]
["REP PMCB",2,"46404625000","-","Menuiseries intérieures et extérieures, fermetures","Volet battant (bois à plus de 90 %)","Dérivés de bois >90%","Fenêtre <= 1,5 m²","€ / Unité",0.1,"0,1 €/Unité",{"$f":"VLOOKUP(J1052,'Codes tarifs éco-part'!$C$3:$E$466,3,FALSE)","v":"094"}]
["REP PMCB",2,"46404625010","-","Menuiseries intérieures et extérieures, fermetures","Volet battant (bois à plus de 90 %)","Dérivés de bois >90%","1,5m² < Fenêtre < 3,5 m²","€ / Unité",0.15,"0,15 €/Unité",{"$f":"VLOOKUP(J1053,'Codes tarifs éco-part'!$C$3:$E$466,3,FALSE)","v":"050"}]
["REP PMCB",2,"46404625020","-","Menuiseries intérieures et extérieures, fermetures","Volet battant (bois à plus de 90 %)","Dérivés de bois >90%","Fenêtre >= 3,5 m²","€ / Unité",0.2,"0,2 €/Unité",{"$f":"VLOOKUP(J1054,'Codes tarifs éco-part'!$C$3:$E$466,3,FALSE)","v":"101"}]
["REP PMCB",2,"46405285000","-","Menuiseries intérieures et extérieures, fermetures","Volet battant (métal à plus de 90 %)","Métal >90%","Fenêtre <= 1,5 m²","€ / Unité",5.0000000000000001E-3,"0,005 €/Unité",{"$f":"VLOOKUP(J1055,'Codes tarifs éco-part'!$C$3:$E$466,3,FALSE)","v":"499"}]
["REP PMCB",2,"46405285010","-","Menuiseries intérieures et extérieures, fermetures","Volet battant (métal à plus de 90 %)","Métal >90%","1,5m² < Fenêtre < 3,5 m²","€ / Unité",1.7999999999999999E-2,"0,018 €/Unité",{"$f":"VLOOKUP(J1056,'Codes tarifs éco-part'!$C$3:$E$466,3,FALSE)","v":"441"}]
["REP PMCB",2,"46405285020","-","Menuiseries intérieures et extérieures, fermetures","Volet battant (métal à plus de 90 %)","Métal >90%","Fenêtre >= 3,5 m²","€ / Unité",0.03,"0,03 €/Unité",{"$f":"VLOOKUP(J1057,'Codes tarifs éco-part'!$C$3:$E$466,3,FALSE)","v":"092"}]
["REP PMCB",2,"46406415000","-","Menuiseries intérieures et extérieures, fermetures","Volet battant (PVC à plus de 90 %)","Plastiques (mono résine) >90%","Fenêtre <= 1,5 m²","€ / Unité",8.5999999999999993E-2,"0,086 €/Unité",{"$f":"VLOOKUP(J1058,'Codes tarifs éco-part'!$C$3:$E$466,3,FALSE)","v":"442"}]
["REP PMCB",2,"46406415010","-","Menuiseries intérieures et extérieures, fermetures","Volet battant (PVC à plus de 90 %)","Plastiques (mono résine) >90%","1,5m² < Fenêtre < 3,5 m²","€ / Unité",0.14299999999999999,"0,143 €/Unité",{"$f":"VLOOKUP(J1059,'Codes tarifs éco-part'!$C$3:$E$466,3,FALSE)","v":"444"}]
["REP PMCB",2,"46406415020","-","Menuiseries intérieures et extérieures, fermetures","Volet battant (PVC à plus de 90 %)","Plastiques (mono résine) >90%","Fenêtre >= 3,5 m²","€ / Unité",0.18,"0,18 €/Unité",{"$f":"VLOOKUP(J1060,'Codes tarifs éco-part'!$C$3:$E$466,3,FALSE)","v":"100"}]
["REP PMCB",2,"46406425000","-","Menuiseries intérieures et extérieures, fermetures","Volet battant (PVC à plus de 90 %)","Polyterephtalate d'Ethylène (PET) >90%","Fenêtre <= 1,5 m²","€ / Unité",8.5999999999999993E-2,"0,086 €/Unité",{"$f":"VLOOKUP(J1061,'Codes tarifs éco-part'!$C$3:$E$466,3,FALSE)","v":"442"}]
["REP PMCB",2,"46406425010","-","Menuiseries intérieures et extérieures, fermetures","Volet battant (PVC à plus de 90 %)","Polyterephtalate d'Ethylène (PET) >90%","1,5m² < Fenêtre < 3,5 m²","€ / Unité",0.14299999999999999,"0,143 €/Unité",{"$f":"VLOOKUP(J1062,'Codes tarifs éco-part'!$C$3:$E$466,3,FALSE)","v":"444"}]
["REP PMCB",2,"46406425020","-","Menuiseries intérieures et extérieures, fermetures","Volet battant (PVC à plus de 90 %)","Polyterephtalate d'Ethylène (PET) >90%","Fenêtre >= 3,5 m²","€ / Unité",0.18,"0,18 €/Unité",{"$f":"VLOOKUP(J1063,'Codes tarifs éco-part'!$C$3:$E$466,3,FALSE)","v":"100"}]
["REP PMCB",2,"46406455000","-","Menuiseries intérieures et extérieures, fermetures","Volet battant (PVC à plus de 90 %)","PE ou PP ou mélange PP/PE >90%","Fenêtre <= 1,5 m²","€ / Unité",8.5999999999999993E-2,"0,086 €/Unité",{"$f":"VLOOKUP(J1064,'Codes tarifs éco-part'!$C$3:$E$466,3,FALSE)","v":"442"}]
["REP PMCB",2,"46406455010","-","Menuiseries intérieures et extérieures, fermetures","Volet battant (PVC à plus de 90 %)","PE ou PP ou mélange PP/PE >90%","1,5m² < Fenêtre < 3,5 m²","€ / Unité",0.14299999999999999,"0,143 €/Unité",{"$f":"VLOOKUP(J1065,'Codes tarifs éco-part'!$C$3:$E$466,3,FALSE)","v":"444"}]
["REP PMCB",2,"46406455020","-","Menuiseries intérieures et extérieures, fermetures","Volet battant (PVC à plus de 90 %)","PE ou PP ou mélange PP/PE >90%","Fenêtre >= 3,5 m²","€ / Unité",0.18,"0,18 €/Unité",{"$f":"VLOOKUP(J1066,'Codes tarifs éco-part'!$C$3:$E$466,3,FALSE)","v":"100"}]
["REP PMCB",2,"46406465000","-","Menuiseries intérieures et extérieures, fermetures","Volet battant (PVC à plus de 90 %)","ABS >90%","Fenêtre <= 1,5 m²","€ / Unité",8.5999999999999993E-2,"0,086 €/Unité",{"$f":"VLOOKUP(J1067,'Codes tarifs éco-part'!$C$3:$E$466,3,FALSE)","v":"442"}]
["REP PMCB",2,"46406465010","-","Menuiseries intérieures et extérieures, fermetures","Volet battant (PVC à plus de 90 %)","ABS >90%","1,5m² < Fenêtre < 3,5 m²","€ / Unité",0.14299999999999999,"0,143 €/Unité",{"$f":"VLOOKUP(J1068,'Codes tarifs éco-part'!$C$3:$E$466,3,FALSE)","v":"444"}]
["REP PMCB",2,"46406465020","-","Menuiseries intérieures et extérieures, fermetures","Volet battant (PVC à plus de 90 %)","ABS >90%","Fenêtre >= 3,5 m²","€ / Unité",0.18,"0,18 €/Unité",{"$f":"VLOOKUP(J1069,'Codes tarifs éco-part'!$C$3:$E$466,3,FALSE)","v":"100"}]
["REP PMCB",2,"46406475000","-","Menuiseries intérieures et extérieures, fermetures","Volet battant (PVC à plus de 90 %)","Polystyrène >90%","Fenêtre <= 1,5 m²","€ / Unité",8.5999999999999993E-2,"0,086 €/Unité",{"$f":"VLOOKUP(J1070,'Codes tarifs éco-part'!$C$3:$E$466,3,FALSE)","v":"442"}]
["REP PMCB",2,"46406475010","-","Menuiseries intérieures et extérieures, fermetures","Volet battant (PVC à plus de 90 %)","Polystyrène >90%","1,5m² < Fenêtre < 3,5 m²","€ / Unité",0.14299999999999999,"0,143 €/Unité",{"$f":"VLOOKUP(J1071,'Codes tarifs éco-part'!$C$3:$E$466,3,FALSE)","v":"444"}]
["REP PMCB",2,"46406475020","-","Menuiseries intérieures et extérieures, fermetures","Volet battant (PVC à plus de 90 %)","Polystyrène >90%","Fenêtre >= 3,5 m²","€ / Unité",0.18,"0,18 €/Unité",{"$f":"VLOOKUP(J1072,'Codes tarifs éco-part'!$C$3:$E$466,3,FALSE)","v":"100"}]
["REP PMCB",2,"46406485000","-","Menuiseries intérieures et extérieures, fermetures","Volet battant (PVC à plus de 90 %)","PVC >90%","Fenêtre <= 1,5 m²","€ / Unité",8.5999999999999993E-2,"0,086 €/Unité",{"$f":"VLOOKUP(J1073,'Codes tarifs éco-part'!$C$3:$E$466,3,FALSE)","v":"442"}]
["REP PMCB",2,"46406485010","-","Menuiseries intérieures et extérieures, fermetures","Volet battant (PVC à plus de 90 %)","PVC >90%","1,5m² < Fenêtre < 3,5 m²","€ / Unité",0.14299999999999999,"0,143 €/Unité",{"$f":"VLOOKUP(J1074,'Codes tarifs éco-part'!$C$3:$E$466,3,FALSE)","v":"444"}]
["REP PMCB",2,"46406485020","-","Menuiseries intérieures et extérieures, fermetures","Volet battant (PVC à plus de 90 %)","PVC >90%","Fenêtre >= 3,5 m²","€ / Unité",0.18,"0,18 €/Unité",{"$f":"VLOOKUP(J1075,'Codes tarifs éco-part'!$C$3:$E$466,3,FALSE)","v":"100"}]
["REP PMCB",2,"46407025000","-","Menuiseries intérieures et extérieures, fermetures","Volet roulant","Assemblage avec métal >50% et autres matériaux","Fenêtre <= 1,5 m²","€ / Unité",0.03,"0,03 €/Unité",{"$f":"VLOOKUP(J1076,'Codes tarifs éco-part'!$C$3:$E$466,3,FALSE)","v":"092"}]
["REP PMCB",2,"46407025010","-","Menuiseries intérieures et extérieures, fermetures","Volet roulant","Assemblage avec métal >50% et autres matériaux","1,5m² < Fenêtre < 3,5 m²","€ / Unité",0.05,"0,05 €/Unité",{"$f":"VLOOKUP(J1077,'Codes tarifs éco-part'!$C$3:$E$466,3,FALSE)","v":"048"}]
["REP PMCB",2,"46407025020","-","Menuiseries intérieures et extérieures, fermetures","Volet roulant","Assemblage avec métal >50% et autres matériaux","Fenêtre >= 3,5 m²","€ / Unité",0.06,"0,06 €/Unité",{"$f":"VLOOKUP(J1078,'Codes tarifs éco-part'!$C$3:$E$466,3,FALSE)","v":"096"}]
["REP PMCB",2,"46407675000","-","Menuiseries intérieures et extérieures, fermetures","Volet roulant","Assemblage matériaux ou fibres synthétiques >50% avec d'autres matériaux","Fenêtre <= 1,5 m²","€ / Unité",0.03,"0,03 €/Unité",{"$f":"VLOOKUP(J1079,'Codes tarifs éco-part'!$C$3:$E$466,3,FALSE)","v":"092"}]
["REP PMCB",2,"46407675010","-","Menuiseries intérieures et extérieures, fermetures","Volet roulant","Assemblage matériaux ou fibres synthétiques >50% avec d'autres matériaux","1,5m² < Fenêtre < 3,5 m²","€ / Unité",0.05,"0,05 €/Unité",{"$f":"VLOOKUP(J1080,'Codes tarifs éco-part'!$C$3:$E$466,3,FALSE)","v":"048"}]
["REP PMCB",2,"46407675020","-","Menuiseries intérieures et extérieures, fermetures","Volet roulant","Assemblage matériaux ou fibres synthétiques >50% avec d'autres matériaux","Fenêtre >= 3,5 m²","€ / Unité",0.06,"0,06 €/Unité",{"$f":"VLOOKUP(J1081,'Codes tarifs éco-part'!$C$3:$E$466,3,FALSE)","v":"096"}]
["REP PMCB",2,"46407825000","-","Menuiseries intérieures et extérieures, fermetures","Volet roulant","Assemblage de 3 matériaux ou plus sans un matériau à plus de 50%","Fenêtre <= 1,5 m²","€ / Unité",0.03,"0,03 €/Unité",{"$f":"VLOOKUP(J1082,'Codes tarifs éco-part'!$C$3:$E$466,3,FALSE)","v":"092"}]
["REP PMCB",2,"46407825010","-","Menuiseries intérieures et extérieures, fermetures","Volet roulant","Assemblage de 3 matériaux ou plus sans un matériau à plus de 50%","1,5m² < Fenêtre < 3,5 m²","€ / Unité",0.05,"0,05 €/Unité",{"$f":"VLOOKUP(J1083,'Codes tarifs éco-part'!$C$3:$E$466,3,FALSE)","v":"048"}]
["REP PMCB",2,"46407825020","-","Menuiseries intérieures et extérieures, fermetures","Volet roulant","Assemblage de 3 matériaux ou plus sans un matériau à plus de 50%","Fenêtre >= 3,5 m²","€ / Unité",0.06,"0,06 €/Unité",{"$f":"VLOOKUP(J1084,'Codes tarifs éco-part'!$C$3:$E$466,3,FALSE)","v":"096"}]
["REP PMCB",2,"46410000000","-","Menuiseries intérieures et extérieures, fermetures","Divers élements de menuiserie","Non connu ou non spécifié par l'entreprise","Eléments de toutes dimensions et poids","€ / Tonne",30,"30 €/Tonne",{"$f":"VLOOKUP(J1085,'Codes tarifs éco-part'!$C$3:$E$466,3,FALSE)","v":"153"}]
["REP PMCB",2,"46410010000","-","Menuiseries intérieures et extérieures, fermetures","Divers élements de menuiserie","Assemblage de bois, dérivés de bois à plus de 50% avec d'autres matériaux ou bois composite (hors verre)","Eléments de toutes dimensions et poids","€ / Tonne",9,"9 €/Tonne",{"$f":"VLOOKUP(J1086,'Codes tarifs éco-part'!$C$3:$E$466,3,FALSE)","v":"484"}]
["REP PMCB",2,"46410020000","-","Menuiseries intérieures et extérieures, fermetures","Divers élements de menuiserie","Assemblage avec métal >50% et autres matériaux","Eléments de toutes dimensions et poids","€ / Tonne",3,"3 €/Tonne",{"$f":"VLOOKUP(J1087,'Codes tarifs éco-part'!$C$3:$E$466,3,FALSE)","v":"474"}]
["REP PMCB",2,"46410050000","-","Menuiseries intérieures et extérieures, fermetures","Divers élements de menuiserie","Plastiques ou autres matériaux synthétiques >50%","Eléments de toutes dimensions et poids","€ / Tonne",30,"30 €/Tonne",{"$f":"VLOOKUP(J1088,'Codes tarifs éco-part'!$C$3:$E$466,3,FALSE)","v":"153"}]
["REP PMCB",2,"46410120000","-","Menuiseries intérieures et extérieures, fermetures","Divers élements de menuiserie","Autres","Eléments de toutes dimensions et poids","€ / Tonne",30,"30 €/Tonne",{"$f":"VLOOKUP(J1089,'Codes tarifs éco-part'!$C$3:$E$466,3,FALSE)","v":"153"}]
["REP PMCB",2,"46410280000","-","Menuiseries intérieures et extérieures, fermetures","Divers élements de menuiserie","Métal >90%","Eléments de toutes dimensions et poids","€ / Tonne",0.5,"0,5 €/Tonne",{"$f":"VLOOKUP(J1090,'Codes tarifs éco-part'!$C$3:$E$466,3,FALSE)","v":"053"}]
["REP PMCB",2,"46410410000","-","Menuiseries intérieures et extérieures, fermetures","Divers élements de menuiserie","Plastiques (mono résine) >90%","Eléments de toutes dimensions et poids","€ / Tonne",9,"9 €/Tonne",{"$f":"VLOOKUP(J1091,'Codes tarifs éco-part'!$C$3:$E$466,3,FALSE)","v":"484"}]
["REP PMCB",2,"46410420000","-","Menuiseries intérieures et extérieures, fermetures","Divers élements de menuiserie","Polyterephtalate d'Ethylène (PET) >90%","Eléments de toutes dimensions et poids","€ / Tonne",9,"9 €/Tonne",{"$f":"VLOOKUP(J1092,'Codes tarifs éco-part'!$C$3:$E$466,3,FALSE)","v":"484"}]
["REP PMCB",2,"46410450000","-","Menuiseries intérieures et extérieures, fermetures","Divers élements de menuiserie","PE ou PP ou mélange PP/PE >90%","Eléments de toutes dimensions et poids","€ / Tonne",9,"9 €/Tonne",{"$f":"VLOOKUP(J1093,'Codes tarifs éco-part'!$C$3:$E$466,3,FALSE)","v":"484"}]
["REP PMCB",2,"46410460000","-","Menuiseries intérieures et extérieures, fermetures","Divers élements de menuiserie","ABS >90%","Eléments de toutes dimensions et poids","€ / Tonne",9,"9 €/Tonne",{"$f":"VLOOKUP(J1094,'Codes tarifs éco-part'!$C$3:$E$466,3,FALSE)","v":"484"}]
["REP PMCB",2,"46410470000","-","Menuiseries intérieures et extérieures, fermetures","Divers élements de menuiserie","Polystyrène >90%","Eléments de toutes dimensions et poids","€ / Tonne",9,"9 €/Tonne",{"$f":"VLOOKUP(J1095,'Codes tarifs éco-part'!$C$3:$E$466,3,FALSE)","v":"484"}]
["REP PMCB",2,"46410480000","-","Menuiseries intérieures et extérieures, fermetures","Divers élements de menuiserie","PVC >90%","Eléments de toutes dimensions et poids","€ / Tonne",9,"9 €/Tonne",{"$f":"VLOOKUP(J1096,'Codes tarifs éco-part'!$C$3:$E$466,3,FALSE)","v":"484"}]
["REP PMCB",2,"46410530000","-","Menuiseries intérieures et extérieures, fermetures","Divers élements de menuiserie","Massif et assimilés >90%","Eléments de toutes dimensions et poids","€ / Tonne",8,"8 €/Tonne",{"$f":"VLOOKUP(J1097,'Codes tarifs éco-part'!$C$3:$E$466,3,FALSE)","v":"483"}]
["REP PMCB",2,"46410550000","-","Menuiseries intérieures et extérieures, fermetures","Divers élements de menuiserie","Matériaux bio sourcés ou textiles non synthétiques >90%","Eléments de toutes dimensions et poids","€ / Tonne",4,"4 €/Tonne",{"$f":"VLOOKUP(J1098,'Codes tarifs éco-part'!$C$3:$E$466,3,FALSE)","v":"274"}]
["REP PMCB",2,"46410610000","-","Menuiseries intérieures et extérieures, fermetures","Divers élements de menuiserie","Panneaux de particules ou OSB >90%","Eléments de toutes dimensions et poids","€ / Tonne",8,"8 €/Tonne",{"$f":"VLOOKUP(J1099,'Codes tarifs éco-part'!$C$3:$E$466,3,FALSE)","v":"483"}]
["REP PMCB",2,"46410620000","-","Menuiseries intérieures et extérieures, fermetures","Divers élements de menuiserie","Dérivés de bois >90%","Eléments de toutes dimensions et poids","€ / Tonne",8,"8 €/Tonne",{"$f":"VLOOKUP(J1100,'Codes tarifs éco-part'!$C$3:$E$466,3,FALSE)","v":"483"}]
["REP PMCB",2,"46410670000","-","Menuiseries intérieures et extérieures, fermetures","Divers élements de menuiserie","Assemblage matériaux ou fibres synthétiques >50% avec d'autres matériaux","Eléments de toutes dimensions et poids","€ / Tonne",30,"30 €/Tonne",{"$f":"VLOOKUP(J1101,'Codes tarifs éco-part'!$C$3:$E$466,3,FALSE)","v":"153"}]
["REP PMCB",2,"46410690000","-","Menuiseries intérieures et extérieures, fermetures","Divers élements de menuiserie","Miroir >90%","Eléments de toutes dimensions et poids","€ / Tonne",30,"30 €/Tonne",{"$f":"VLOOKUP(J1102,'Codes tarifs éco-part'!$C$3:$E$466,3,FALSE)","v":"153"}]
["REP PMCB",2,"46410700000","-","Menuiseries intérieures et extérieures, fermetures","Divers élements de menuiserie","Assemblage verre à plus de 50% avec métal","Eléments de toutes dimensions et poids","€ / Tonne",9,"9 €/Tonne",{"$f":"VLOOKUP(J1103,'Codes tarifs éco-part'!$C$3:$E$466,3,FALSE)","v":"484"}]
["REP PMCB",2,"46410710000","-","Menuiseries intérieures et extérieures, fermetures","Divers élements de menuiserie","Assemblage verre à plus de 50% avec Inerte","Eléments de toutes dimensions et poids","€ / Tonne",9,"9 €/Tonne",{"$f":"VLOOKUP(J1104,'Codes tarifs éco-part'!$C$3:$E$466,3,FALSE)","v":"484"}]
["REP PMCB",2,"46410720000","-","Menuiseries intérieures et extérieures, fermetures","Divers élements de menuiserie","Assemblage verre à plus de 50% avec bois ou dérivés de bois","Eléments de toutes dimensions et poids","€ / Tonne",9,"9 €/Tonne",{"$f":"VLOOKUP(J1105,'Codes tarifs éco-part'!$C$3:$E$466,3,FALSE)","v":"484"}]
["REP PMCB",2,"46410730000","-","Menuiseries intérieures et extérieures, fermetures","Divers élements de menuiserie","Assemblage verre à plus de 50% avec plastique","Eléments de toutes dimensions et poids","€ / Tonne",9,"9 €/Tonne",{"$f":"VLOOKUP(J1106,'Codes tarifs éco-part'!$C$3:$E$466,3,FALSE)","v":"484"}]
["REP PMCB",2,"46410820000","-","Menuiseries intérieures et extérieures, fermetures","Divers élements de menuiserie","Assemblage de 3 matériaux ou plus sans un matériau à plus de 50%","Eléments de toutes dimensions et poids","€ / Tonne",30,"30 €/Tonne",{"$f":"VLOOKUP(J1107,'Codes tarifs éco-part'!$C$3:$E$466,3,FALSE)","v":"153"}]
["REP PMCB",2,"46411019070","-","Menuiseries intérieures et extérieures, fermetures","Bloc - Porte (huisserie métal)","Assemblage de bois, dérivés de bois à plus de 50% avec d'autres matériaux ou bois composite (hors verre)","Eléments de toutes dimensions et poids","€ / unité",0.39999999999999997,"0,4 €/unité",{"$f":"VLOOKUP(J1108,'Codes tarifs éco-part'!$C$3:$E$466,3,FALSE)","v":{"$error":"#N/A"}}]
["REP PMCB",2,"46411029070","-","Menuiseries intérieures et extérieures, fermetures","Bloc - Porte (huisserie métal)","Assemblage avec métal >50% et autres matériaux","Eléments de toutes dimensions et poids","€ / unité",0.17,"0,17 €/unité",{"$f":"VLOOKUP(J1109,'Codes tarifs éco-part'!$C$3:$E$466,3,FALSE)","v":"005"}]
["REP PMCB",2,"46411629070","-","Menuiseries intérieures et extérieures, fermetures","Bloc - Porte (huisserie métal)","Dérivés de bois >90%","Eléments de toutes dimensions et poids","€ / unité",0.17,"0,17 €/unité",{"$f":"VLOOKUP(J1110,'Codes tarifs éco-part'!$C$3:$E$466,3,FALSE)","v":"005"}]
["REP PMCB",2,"46411679070","-","Menuiseries intérieures et extérieures, fermetures","Bloc - Porte (huisserie métal)","Assemblage matériaux ou fibres synthétiques >50% avec d'autres matériaux","Eléments de toutes dimensions et poids","€ / unité",0.42,"0,42 €/unité",{"$f":"VLOOKUP(J1111,'Codes tarifs éco-part'!$C$3:$E$466,3,FALSE)","v":"450"}]
["REP PMCB",2,"46411689070","-","Menuiseries intérieures et extérieures, fermetures","Bloc - Porte (huisserie métal)","Verre >90%","Eléments de toutes dimensions et poids","€ / Unité",0.36,"0,36 €/Unité",{"$f":"VLOOKUP(J1112,'Codes tarifs éco-part'!$C$3:$E$466,3,FALSE)","v":"449"}]
["REP PMCB",2,"46411709070","-","Menuiseries intérieures et extérieures, fermetures","Bloc - Porte (huisserie métal)","Assemblage verre à plus de 50% avec métal","Eléments de toutes dimensions et poids","€ / Unité",0.42,"0,42 €/Unité",{"$f":"VLOOKUP(J1113,'Codes tarifs éco-part'!$C$3:$E$466,3,FALSE)","v":"450"}]
["REP PMCB",2,"46411739070",null,"Menuiseries intérieures et extérieures, fermetures","Bloc - Porte (huisserie métal)","Assemblage verre à plus de 50% avec plastique","Eléments de toutes dimensions et poids","€ / Unité",0.42,"0,42 €/Unité",{"$f":"VLOOKUP(J1114,'Codes tarifs éco-part'!$C$3:$E$466,3,FALSE)","v":"450"}]
["REP PMCB",2,"46411829070","-","Menuiseries intérieures et extérieures, fermetures","Bloc - Porte (huisserie métal)","Assemblage de 3 matériaux ou plus sans un matériau à plus de 50%","Eléments de toutes dimensions et poids","€ / unité",0.49,"0,49 €/unité",{"$f":"VLOOKUP(J1115,'Codes tarifs éco-part'!$C$3:$E$466,3,FALSE)","v":"108"}]
["REP PMCB",2,"46412019070","-","Menuiseries intérieures et extérieures, fermetures","Bloc - Porte (huisserie bois)","Assemblage de bois, dérivés de bois à plus de 50% avec d'autres matériaux ou bois composite (hors verre)","Eléments de toutes dimensions et poids","€ / unité",0.44,"0,44 €/unité",{"$f":"VLOOKUP(J1116,'Codes tarifs éco-part'!$C$3:$E$466,3,FALSE)","v":"281"}]
["REP PMCB",2,"46412029070","-","Menuiseries intérieures et extérieures, fermetures","Bloc - Porte (huisserie bois)","Assemblage avec métal >50% et autres matériaux","Eléments de toutes dimensions et poids","€ / unité",0.21000000000000002,"0,21 €/unité",{"$f":"VLOOKUP(J1117,'Codes tarifs éco-part'!$C$3:$E$466,3,FALSE)","v":"051"}]
["REP PMCB",2,"46412629070","-","Menuiseries intérieures et extérieures, fermetures","Bloc - Porte (huisserie bois)","Dérivés de bois >90%","Eléments de toutes dimensions et poids","€ / unité",0.21000000000000002,"0,21 €/unité",{"$f":"VLOOKUP(J1118,'Codes tarifs éco-part'!$C$3:$E$466,3,FALSE)","v":"051"}]
["REP PMCB",2,"46412679070","-","Menuiseries intérieures et extérieures, fermetures","Bloc - Porte (huisserie bois)","Assemblage matériaux ou fibres synthétiques >50% avec d'autres matériaux","Eléments de toutes dimensions et poids","€ / unité",0.46,"0,46 €/unité",{"$f":"VLOOKUP(J1119,'Codes tarifs éco-part'!$C$3:$E$466,3,FALSE)","v":"106"}]
["REP PMCB",2,"46412689070","-","Menuiseries intérieures et extérieures, fermetures","Bloc - Porte (huisserie bois)","Verre >90%","Eléments de toutes dimensions et poids","€ / Unité",0.4,"0,4 €/Unité",{"$f":"VLOOKUP(J1120,'Codes tarifs éco-part'!$C$3:$E$466,3,FALSE)","v":"105"}]
["REP PMCB",2,"46412729070","-","Menuiseries intérieures et extérieures, fermetures","Bloc - Porte (huisserie bois)","Assemblage verre à plus de 50% avec bois ou dérivés de bois","Eléments de toutes dimensions et poids","€ / Unité",0.46,"0,46 €/Unité",{"$f":"VLOOKUP(J1121,'Codes tarifs éco-part'!$C$3:$E$466,3,FALSE)","v":"106"}]
["REP PMCB",2,"46412739070",null,"Menuiseries intérieures et extérieures, fermetures","Bloc - Porte (huisserie bois)","Assemblage verre à plus de 50% avec plastique","Eléments de toutes dimensions et poids","€ / Unité",0.46,"0,46 €/Unité",{"$f":"VLOOKUP(J1122,'Codes tarifs éco-part'!$C$3:$E$466,3,FALSE)","v":"106"}]
["REP PMCB",2,"46412829070","-","Menuiseries intérieures et extérieures, fermetures","Bloc - Porte (huisserie bois)","Assemblage de 3 matériaux ou plus sans un matériau à plus de 50%","Eléments de toutes dimensions et poids","€ / unité",0.53,"0,53 €/unité",{"$f":"VLOOKUP(J1123,'Codes tarifs éco-part'!$C$3:$E$466,3,FALSE)","v":"451"}]
["REP PMCB",2,"46413679070","-","Menuiseries intérieures et extérieures, fermetures","Bloc - Porte (huisserie plastique)","Assemblage matériaux ou fibres synthétiques >50% avec d'autres matériaux","Eléments de toutes dimensions et poids","€ / unité",0.46,"0,46 €/unité",{"$f":"VLOOKUP(J1124,'Codes tarifs éco-part'!$C$3:$E$466,3,FALSE)","v":"106"}]
["REP PMCB",2,"46413739070","-","Menuiseries intérieures et extérieures, fermetures","Bloc - Porte (huisserie plastique)","Assemblage verre à plus de 50% avec plastique","Eléments de toutes dimensions et poids","€ / Unité",0.46,"0,46 €/Unité",{"$f":"VLOOKUP(J1125,'Codes tarifs éco-part'!$C$3:$E$466,3,FALSE)","v":"106"}]
["REP PMCB",2,"46545019070","-","Menuiseries intérieures et extérieures, fermetures","Bloc - Porte double vantail (huisserie métal)","Assemblage de bois, dérivés de bois à plus de 50% avec d'autres matériaux ou bois composite (hors verre)","Eléments de toutes dimensions et poids","€ / unité",0.76,"0,76 €/unité",{"$f":"VLOOKUP(J1126,'Codes tarifs éco-part'!$C$3:$E$466,3,FALSE)","v":"455"}]
["REP PMCB",2,"46545029070","-","Menuiseries intérieures et extérieures, fermetures","Bloc - Porte double vantail (huisserie métal)","Assemblage avec métal >50% et autres matériaux","Eléments de toutes dimensions et poids","€ / unité",0.3,"0,3 €/unité",{"$f":"VLOOKUP(J1127,'Codes tarifs éco-part'!$C$3:$E$466,3,FALSE)","v":"446"}]
["REP PMCB",2,"46545629070","-","Menuiseries intérieures et extérieures, fermetures","Bloc - Porte double vantail (huisserie métal)","Dérivés de bois >90%","Eléments de toutes dimensions et poids","€ / unité",0.3,"0,3 €/unité",{"$f":"VLOOKUP(J1128,'Codes tarifs éco-part'!$C$3:$E$466,3,FALSE)","v":"446"}]
["REP PMCB",2,"46545679070","-","Menuiseries intérieures et extérieures, fermetures","Bloc - Porte double vantail (huisserie métal)","Assemblage matériaux ou fibres synthétiques >50% avec d'autres matériaux","Eléments de toutes dimensions et poids","€ / unité",0.8,"0,8 €/unité",{"$f":"VLOOKUP(J1129,'Codes tarifs éco-part'!$C$3:$E$466,3,FALSE)","v":"456"}]
["REP PMCB",2,"46545689070","-","Menuiseries intérieures et extérieures, fermetures","Bloc - Porte double vantail (huisserie métal)","Verre >90%","Eléments de toutes dimensions et poids","€ / Unité",0.68,"0,68 €/Unité",{"$f":"VLOOKUP(J1130,'Codes tarifs éco-part'!$C$3:$E$466,3,FALSE)","v":"044"}]
["REP PMCB",2,"46545709070","-","Menuiseries intérieures et extérieures, fermetures","Bloc - Porte double vantail (huisserie métal)","Assemblage verre à plus de 50% avec métal","Eléments de toutes dimensions et poids","€ / Unité",0.8,"0,8 €/Unité",{"$f":"VLOOKUP(J1131,'Codes tarifs éco-part'!$C$3:$E$466,3,FALSE)","v":"456"}]
["REP PMCB",2,"46545739070",null,"Menuiseries intérieures et extérieures, fermetures","Bloc - Porte double vantail (huisserie métal)","Assemblage verre à plus de 50% avec plastique","Eléments de toutes dimensions et poids","€ / Unité",0.8,"0,8 €/Unité",{"$f":"VLOOKUP(J1132,'Codes tarifs éco-part'!$C$3:$E$466,3,FALSE)","v":"456"}]
["REP PMCB",2,"46545829070","-","Menuiseries intérieures et extérieures, fermetures","Bloc - Porte double vantail (huisserie métal)","Assemblage de 3 matériaux ou plus sans un matériau à plus de 50%","Eléments de toutes dimensions et poids","€ / unité",0.94,"0,94 €/unité",{"$f":"VLOOKUP(J1133,'Codes tarifs éco-part'!$C$3:$E$466,3,FALSE)","v":"458"}]
["REP PMCB",2,"46546019070","-","Menuiseries intérieures et extérieures, fermetures","Bloc - Porte double vantail (huisserie bois)","Assemblage de bois, dérivés de bois à plus de 50% avec d'autres matériaux ou bois composite (hors verre)","Eléments de toutes dimensions et poids","€ / unité",0.8,"0,8 €/unité",{"$f":"VLOOKUP(J1134,'Codes tarifs éco-part'!$C$3:$E$466,3,FALSE)","v":"456"}]
["REP PMCB",2,"46546029070","-","Menuiseries intérieures et extérieures, fermetures","Bloc - Porte double vantail (huisserie bois)","Assemblage avec métal >50% et autres matériaux","Eléments de toutes dimensions et poids","€ / unité",0.34,"0,34 €/unité",{"$f":"VLOOKUP(J1135,'Codes tarifs éco-part'!$C$3:$E$466,3,FALSE)","v":"043"}]
["REP PMCB",2,"46546629070","-","Menuiseries intérieures et extérieures, fermetures","Bloc - Porte double vantail (huisserie bois)","Dérivés de bois >90%","Eléments de toutes dimensions et poids","€ / unité",0.34,"0,34 €/unité",{"$f":"VLOOKUP(J1136,'Codes tarifs éco-part'!$C$3:$E$466,3,FALSE)","v":"043"}]
["REP PMCB",2,"46546679070","-","Menuiseries intérieures et extérieures, fermetures","Bloc - Porte double vantail (huisserie bois)","Assemblage matériaux ou fibres synthétiques >50% avec d'autres matériaux","Eléments de toutes dimensions et poids","€ / unité",0.84,"0,84 €/unité",{"$f":"VLOOKUP(J1137,'Codes tarifs éco-part'!$C$3:$E$466,3,FALSE)","v":"457"}]
["REP PMCB",2,"46546689070","-","Menuiseries intérieures et extérieures, fermetures","Bloc - Porte double vantail (huisserie bois)","Verre >90%","Eléments de toutes dimensions et poids","€ / Unité",0.72,"0,72 €/Unité",{"$f":"VLOOKUP(J1138,'Codes tarifs éco-part'!$C$3:$E$466,3,FALSE)","v":"454"}]
["REP PMCB",2,"46546729070","-","Menuiseries intérieures et extérieures, fermetures","Bloc - Porte double vantail (huisserie bois)","Assemblage verre à plus de 50% avec bois ou dérivés de bois","Eléments de toutes dimensions et poids","€ / Unité",0.84,"0,84 €/Unité",{"$f":"VLOOKUP(J1139,'Codes tarifs éco-part'!$C$3:$E$466,3,FALSE)","v":"457"}]
["REP PMCB",2,"46546739070",null,"Menuiseries intérieures et extérieures, fermetures","Bloc - Porte double vantail (huisserie bois)","Assemblage verre à plus de 50% avec plastique","Eléments de toutes dimensions et poids","€ / Unité",0.84,"0,84 €/Unité",{"$f":"VLOOKUP(J1140,'Codes tarifs éco-part'!$C$3:$E$466,3,FALSE)","v":"457"}]
["REP PMCB",2,"46546829070","-","Menuiseries intérieures et extérieures, fermetures","Bloc - Porte double vantail (huisserie bois)","Assemblage de 3 matériaux ou plus sans un matériau à plus de 50%","Eléments de toutes dimensions et poids","€ / unité",0.98,"0,98 €/unité",{"$f":"VLOOKUP(J1141,'Codes tarifs éco-part'!$C$3:$E$466,3,FALSE)","v":"459"}]
["REP PMCB",2,"46547679070","-","Menuiseries intérieures et extérieures, fermetures","Bloc - Porte double vantail (huisserie plastique)","Assemblage matériaux ou fibres synthétiques >50% avec d'autres matériaux","Eléments de toutes dimensions et poids","€ / unité",0.84,"0,84 €/unité",{"$f":"VLOOKUP(J1142,'Codes tarifs éco-part'!$C$3:$E$466,3,FALSE)","v":"457"}]
["REP PMCB",2,"46547739070","-","Menuiseries intérieures et extérieures, fermetures","Bloc - Porte double vantail (huisserie plastique)","Assemblage verre à plus de 50% avec plastique","Eléments de toutes dimensions et poids","€ / Unité",0.84,"0,84 €/Unité",{"$f":"VLOOKUP(J1143,'Codes tarifs éco-part'!$C$3:$E$466,3,FALSE)","v":"457"}]
["REP PMCB",2,"47415000000","-","Façades","Mur-rideau","Non connu ou non spécifié par l'entreprise","Eléments de toutes dimensions et poids","€ / Tonne",30,"30 €/Tonne",{"$f":"VLOOKUP(J1144,'Codes tarifs éco-part'!$C$3:$E$466,3,FALSE)","v":"153"}]
["REP PMCB",2,"47415010000","-","Façades","Mur-rideau","Assemblage de bois, dérivés de bois à plus de 50% avec d'autres matériaux ou bois composite (hors verre)","Eléments de toutes dimensions et poids","€ / Tonne",9,"9 €/Tonne",{"$f":"VLOOKUP(J1145,'Codes tarifs éco-part'!$C$3:$E$466,3,FALSE)","v":"484"}]
["REP PMCB",2,"47415020000","-","Façades","Mur-rideau","Assemblage avec métal >50% et autres matériaux","Eléments de toutes dimensions et poids","€ / Tonne",3,"3 €/Tonne",{"$f":"VLOOKUP(J1146,'Codes tarifs éco-part'!$C$3:$E$466,3,FALSE)","v":"474"}]
["REP PMCB",2,"47415120000","-","Façades","Mur-rideau","Autres","Eléments de toutes dimensions et poids","€ / Tonne",30,"30 €/Tonne",{"$f":"VLOOKUP(J1147,'Codes tarifs éco-part'!$C$3:$E$466,3,FALSE)","v":"153"}]
["REP PMCB",2,"47415280000","-","Façades","Mur-rideau","Métal >90%","Eléments de toutes dimensions et poids","€ / Tonne",0.5,"0,5 €/Tonne",{"$f":"VLOOKUP(J1148,'Codes tarifs éco-part'!$C$3:$E$466,3,FALSE)","v":"053"}]
["REP PMCB",2,"47415530000","-","Façades","Mur-rideau","Massif et assimilés >90%","Eléments de toutes dimensions et poids","€ / Tonne",8,"8 €/Tonne",{"$f":"VLOOKUP(J1149,'Codes tarifs éco-part'!$C$3:$E$466,3,FALSE)","v":"483"}]
["REP PMCB",2,"47415550000","-","Façades","Mur-rideau","Matériaux bio sourcés ou textiles non synthétiques >90%","Eléments de toutes dimensions et poids","€ / Tonne",4,"4 €/Tonne",{"$f":"VLOOKUP(J1150,'Codes tarifs éco-part'!$C$3:$E$466,3,FALSE)","v":"274"}]
["REP PMCB",2,"47415610000","-","Façades","Mur-rideau","Panneaux de particules ou OSB >90%","Eléments de toutes dimensions et poids","€ / Tonne",8,"8 €/Tonne",{"$f":"VLOOKUP(J1151,'Codes tarifs éco-part'!$C$3:$E$466,3,FALSE)","v":"483"}]
["REP PMCB",2,"47415620000","-","Façades","Mur-rideau","Dérivés de bois >90%","Eléments de toutes dimensions et poids","€ / Tonne",8,"8 €/Tonne",{"$f":"VLOOKUP(J1152,'Codes tarifs éco-part'!$C$3:$E$466,3,FALSE)","v":"483"}]
["REP PMCB",2,"47415700000","-","Façades","Mur-rideau","Assemblage verre à plus de 50% avec métal","Eléments de toutes dimensions et poids","€ / Tonne",9,"9 €/Tonne",{"$f":"VLOOKUP(J1153,'Codes tarifs éco-part'!$C$3:$E$466,3,FALSE)","v":"484"}]
["REP PMCB",2,"47415710000","-","Façades","Mur-rideau","Assemblage verre à plus de 50% avec Inerte","Eléments de toutes dimensions et poids","€ / Tonne",9,"9 €/Tonne",{"$f":"VLOOKUP(J1154,'Codes tarifs éco-part'!$C$3:$E$466,3,FALSE)","v":"484"}]
["REP PMCB",2,"47415720000","-","Façades","Mur-rideau","Assemblage verre à plus de 50% avec bois ou dérivés de bois","Eléments de toutes dimensions et poids","€ / Tonne",9,"9 €/Tonne",{"$f":"VLOOKUP(J1155,'Codes tarifs éco-part'!$C$3:$E$466,3,FALSE)","v":"484"}]
["REP PMCB",2,"47415730000","-","Façades","Mur-rideau","Assemblage verre à plus de 50% avec plastique","Eléments de toutes dimensions et poids","€ / Tonne",9,"9 €/Tonne",{"$f":"VLOOKUP(J1156,'Codes tarifs éco-part'!$C$3:$E$466,3,FALSE)","v":"484"}]
["REP PMCB",2,"47415820000","-","Façades","Mur-rideau","Assemblage de 3 matériaux ou plus sans un matériau à plus de 50%","Eléments de toutes dimensions et poids","€ / Tonne",30,"30 €/Tonne",{"$f":"VLOOKUP(J1157,'Codes tarifs éco-part'!$C$3:$E$466,3,FALSE)","v":"153"}]
["REP PMCB",2,"47416000000","-","Façades","Bardage et clins","Non connu ou non spécifié par l'entreprise","Eléments de toutes dimensions et poids","€ / Tonne",30,"30 €/Tonne",{"$f":"VLOOKUP(J1158,'Codes tarifs éco-part'!$C$3:$E$466,3,FALSE)","v":"153"}]
["REP PMCB",2,"47416010000","-","Façades","Bardage et clins","Assemblage de bois, dérivés de bois à plus de 50% avec d'autres matériaux ou bois composite (hors verre)","Eléments de toutes dimensions et poids","€ / Tonne",9,"9 €/Tonne",{"$f":"VLOOKUP(J1159,'Codes tarifs éco-part'!$C$3:$E$466,3,FALSE)","v":"484"}]
["REP PMCB",2,"47416020000","-","Façades","Bardage et clins","Assemblage avec métal >50% et autres matériaux","Eléments de toutes dimensions et poids","€ / Tonne",3,"3 €/Tonne",{"$f":"VLOOKUP(J1160,'Codes tarifs éco-part'!$C$3:$E$466,3,FALSE)","v":"474"}]
["REP PMCB",2,"47416120000","-","Façades","Bardage et clins","Autres","Eléments de toutes dimensions et poids","€ / Tonne",30,"30 €/Tonne",{"$f":"VLOOKUP(J1161,'Codes tarifs éco-part'!$C$3:$E$466,3,FALSE)","v":"153"}]
["REP PMCB",2,"47416280000","-","Façades","Bardage et clins","Métal >90%","Eléments de toutes dimensions et poids","€ / Tonne",0.5,"0,5 €/Tonne",{"$f":"VLOOKUP(J1162,'Codes tarifs éco-part'!$C$3:$E$466,3,FALSE)","v":"053"}]
["REP PMCB",2,"47416530000","-","Façades","Bardage et clins","Massif et assimilés >90%","Eléments de toutes dimensions et poids","€ / Tonne",8,"8 €/Tonne",{"$f":"VLOOKUP(J1163,'Codes tarifs éco-part'!$C$3:$E$466,3,FALSE)","v":"483"}]
["REP PMCB",2,"47416550000","-","Façades","Bardage et clins","Matériaux bio sourcés ou textiles non synthétiques >90%","Eléments de toutes dimensions et poids","€ / Tonne",4,"4 €/Tonne",{"$f":"VLOOKUP(J1164,'Codes tarifs éco-part'!$C$3:$E$466,3,FALSE)","v":"274"}]
["REP PMCB",2,"47416610000","-","Façades","Bardage et clins","Panneaux de particules ou OSB >90%","Eléments de toutes dimensions et poids","€ / Tonne",8,"8 €/Tonne",{"$f":"VLOOKUP(J1165,'Codes tarifs éco-part'!$C$3:$E$466,3,FALSE)","v":"483"}]
["REP PMCB",2,"47416620000","-","Façades","Bardage et clins","Dérivés de bois >90%","Eléments de toutes dimensions et poids","€ / Tonne",8,"8 €/Tonne",{"$f":"VLOOKUP(J1166,'Codes tarifs éco-part'!$C$3:$E$466,3,FALSE)","v":"483"}]
["REP PMCB",2,"47416820000","-","Façades","Bardage et clins","Assemblage de 3 matériaux ou plus sans un matériau à plus de 50%","Eléments de toutes dimensions et poids","€ / Tonne",30,"30 €/Tonne",{"$f":"VLOOKUP(J1167,'Codes tarifs éco-part'!$C$3:$E$466,3,FALSE)","v":"153"}]
["REP PMCB",2,"47417000000","-","Façades","Vêtures","Non connu ou non spécifié par l'entreprise","Eléments de toutes dimensions et poids","€ / Tonne",30,"30 €/Tonne",{"$f":"VLOOKUP(J1168,'Codes tarifs éco-part'!$C$3:$E$466,3,FALSE)","v":"153"}]
["REP PMCB",2,"47417010000","-","Façades","Vêtures","Assemblage de bois, dérivés de bois à plus de 50% avec d'autres matériaux ou bois composite (hors verre)","Eléments de toutes dimensions et poids","€ / Tonne",9,"9 €/Tonne",{"$f":"VLOOKUP(J1169,'Codes tarifs éco-part'!$C$3:$E$466,3,FALSE)","v":"484"}]
["REP PMCB",2,"47417020000","-","Façades","Vêtures","Assemblage avec métal >50% et autres matériaux","Eléments de toutes dimensions et poids","€ / Tonne",3,"3 €/Tonne",{"$f":"VLOOKUP(J1170,'Codes tarifs éco-part'!$C$3:$E$466,3,FALSE)","v":"474"}]
["REP PMCB",2,"47417120000","-","Façades","Vêtures","Autres","Eléments de toutes dimensions et poids","€ / Tonne",30,"30 €/Tonne",{"$f":"VLOOKUP(J1171,'Codes tarifs éco-part'!$C$3:$E$466,3,FALSE)","v":"153"}]
["REP PMCB",2,"47417280000","-","Façades","Vêtures","Métal >90%","Eléments de toutes dimensions et poids","€ / Tonne",0.5,"0,5 €/Tonne",{"$f":"VLOOKUP(J1172,'Codes tarifs éco-part'!$C$3:$E$466,3,FALSE)","v":"053"}]
["REP PMCB",2,"47417530000","-","Façades","Vêtures","Massif et assimilés >90%","Eléments de toutes dimensions et poids","€ / Tonne",8,"8 €/Tonne",{"$f":"VLOOKUP(J1173,'Codes tarifs éco-part'!$C$3:$E$466,3,FALSE)","v":"483"}]
["REP PMCB",2,"47417550000","-","Façades","Vêtures","Matériaux bio sourcés ou textiles non synthétiques >90%","Eléments de toutes dimensions et poids","€ / Tonne",4,"4 €/Tonne",{"$f":"VLOOKUP(J1174,'Codes tarifs éco-part'!$C$3:$E$466,3,FALSE)","v":"274"}]
["REP PMCB",2,"47417610000","-","Façades","Vêtures","Panneaux de particules ou OSB >90%","Eléments de toutes dimensions et poids","€ / Tonne",8,"8 €/Tonne",{"$f":"VLOOKUP(J1175,'Codes tarifs éco-part'!$C$3:$E$466,3,FALSE)","v":"483"}]
["REP PMCB",2,"47417620000","-","Façades","Vêtures","Dérivés de bois >90%","Eléments de toutes dimensions et poids","€ / Tonne",8,"8 €/Tonne",{"$f":"VLOOKUP(J1176,'Codes tarifs éco-part'!$C$3:$E$466,3,FALSE)","v":"483"}]
["REP PMCB",2,"47417820000","-","Façades","Vêtures","Assemblage de 3 matériaux ou plus sans un matériau à plus de 50%","Eléments de toutes dimensions et poids","€ / Tonne",30,"30 €/Tonne",{"$f":"VLOOKUP(J1177,'Codes tarifs éco-part'!$C$3:$E$466,3,FALSE)","v":"153"}]
["REP PMCB",2,"47418000000","-","Façades","Panneaux sandwich de façade","Non connu ou non spécifié par l'entreprise","Eléments de toutes dimensions et poids","€ / Tonne",30,"30 €/Tonne",{"$f":"VLOOKUP(J1178,'Codes tarifs éco-part'!$C$3:$E$466,3,FALSE)","v":"153"}]
["REP PMCB",2,"47418010000","-","Façades","Panneaux sandwich de façade","Assemblage de bois, dérivés de bois à plus de 50% avec d'autres matériaux ou bois composite (hors verre)","Eléments de toutes dimensions et poids","€ / Tonne",9,"9 €/Tonne",{"$f":"VLOOKUP(J1179,'Codes tarifs éco-part'!$C$3:$E$466,3,FALSE)","v":"484"}]
["REP PMCB",2,"47418020000","-","Façades","Panneaux sandwich de façade","Assemblage avec métal >50% et autres matériaux","Eléments de toutes dimensions et poids","€ / Tonne",3,"3 €/Tonne",{"$f":"VLOOKUP(J1180,'Codes tarifs éco-part'!$C$3:$E$466,3,FALSE)","v":"474"}]
["REP PMCB",2,"47418120000","-","Façades","Panneaux sandwich de façade","Autres","Eléments de toutes dimensions et poids","€ / Tonne",30,"30 €/Tonne",{"$f":"VLOOKUP(J1181,'Codes tarifs éco-part'!$C$3:$E$466,3,FALSE)","v":"153"}]
["REP PMCB",2,"47418280000","-","Façades","Panneaux sandwich de façade","Métal >90%","Eléments de toutes dimensions et poids","€ / Tonne",0.5,"0,5 €/Tonne",{"$f":"VLOOKUP(J1182,'Codes tarifs éco-part'!$C$3:$E$466,3,FALSE)","v":"053"}]
["REP PMCB",2,"47418530000","-","Façades","Panneaux sandwich de façade","Massif et assimilés >90%","Eléments de toutes dimensions et poids","€ / Tonne",8,"8 €/Tonne",{"$f":"VLOOKUP(J1183,'Codes tarifs éco-part'!$C$3:$E$466,3,FALSE)","v":"483"}]
["REP PMCB",2,"47418550000","-","Façades","Panneaux sandwich de façade","Matériaux bio sourcés ou textiles non synthétiques >90%","Eléments de toutes dimensions et poids","€ / Tonne",4,"4 €/Tonne",{"$f":"VLOOKUP(J1184,'Codes tarifs éco-part'!$C$3:$E$466,3,FALSE)","v":"274"}]
["REP PMCB",2,"47418610000","-","Façades","Panneaux sandwich de façade","Panneaux de particules ou OSB >90%","Eléments de toutes dimensions et poids","€ / Tonne",8,"8 €/Tonne",{"$f":"VLOOKUP(J1185,'Codes tarifs éco-part'!$C$3:$E$466,3,FALSE)","v":"483"}]
["REP PMCB",2,"47418620000","-","Façades","Panneaux sandwich de façade","Dérivés de bois >90%","Eléments de toutes dimensions et poids","€ / Tonne",8,"8 €/Tonne",{"$f":"VLOOKUP(J1186,'Codes tarifs éco-part'!$C$3:$E$466,3,FALSE)","v":"483"}]
["REP PMCB",2,"47418820000","-","Façades","Panneaux sandwich de façade","Assemblage de 3 matériaux ou plus sans un matériau à plus de 50%","Eléments de toutes dimensions et poids","€ / Tonne",30,"30 €/Tonne",{"$f":"VLOOKUP(J1187,'Codes tarifs éco-part'!$C$3:$E$466,3,FALSE)","v":"153"}]
["REP PMCB",2,"47421000000","-","Façades","Divers éléments de façade","Non connu ou non spécifié par l'entreprise","Eléments de toutes dimensions et poids","€ / Tonne",30,"30 €/Tonne",{"$f":"VLOOKUP(J1188,'Codes tarifs éco-part'!$C$3:$E$466,3,FALSE)","v":"153"}]
["REP PMCB",2,"47421010000","-","Façades","Divers éléments de façade","Assemblage de bois, dérivés de bois à plus de 50% avec d'autres matériaux ou bois composite (hors verre)","Eléments de toutes dimensions et poids","€ / Tonne",9,"9 €/Tonne",{"$f":"VLOOKUP(J1189,'Codes tarifs éco-part'!$C$3:$E$466,3,FALSE)","v":"484"}]
["REP PMCB",2,"47421020000","-","Façades","Divers éléments de façade","Assemblage avec métal >50% et autres matériaux","Eléments de toutes dimensions et poids","€ / Tonne",3,"3 €/Tonne",{"$f":"VLOOKUP(J1190,'Codes tarifs éco-part'!$C$3:$E$466,3,FALSE)","v":"474"}]
["REP PMCB",2,"47421050000","-","Façades","Divers éléments de façade","Plastiques ou autres matériaux synthétiques >50%","Eléments de toutes dimensions et poids","€ / Tonne",30,"30 €/Tonne",{"$f":"VLOOKUP(J1191,'Codes tarifs éco-part'!$C$3:$E$466,3,FALSE)","v":"153"}]
["REP PMCB",2,"47421120000","-","Façades","Divers éléments de façade","Autres","Eléments de toutes dimensions et poids","€ / Tonne",30,"30 €/Tonne",{"$f":"VLOOKUP(J1192,'Codes tarifs éco-part'!$C$3:$E$466,3,FALSE)","v":"153"}]
["REP PMCB",2,"47421280000","-","Façades","Divers éléments de façade","Métal >90%","Eléments de toutes dimensions et poids","€ / Tonne",0.5,"0,5 €/Tonne",{"$f":"VLOOKUP(J1193,'Codes tarifs éco-part'!$C$3:$E$466,3,FALSE)","v":"053"}]
["REP PMCB",2,"47421410000","-","Façades","Divers éléments de façade","Plastiques (mono résine) >90%","Eléments de toutes dimensions et poids","€ / Tonne",9,"9 €/Tonne",{"$f":"VLOOKUP(J1194,'Codes tarifs éco-part'!$C$3:$E$466,3,FALSE)","v":"484"}]
["REP PMCB",2,"47421420000","-","Façades","Divers éléments de façade","Polyterephtalate d'Ethylène (PET) >90%","Eléments de toutes dimensions et poids","€ / Tonne",9,"9 €/Tonne",{"$f":"VLOOKUP(J1195,'Codes tarifs éco-part'!$C$3:$E$466,3,FALSE)","v":"484"}]
["REP PMCB",2,"47421450000","-","Façades","Divers éléments de façade","PE ou PP ou mélange PP/PE >90%","Eléments de toutes dimensions et poids","€ / Tonne",9,"9 €/Tonne",{"$f":"VLOOKUP(J1196,'Codes tarifs éco-part'!$C$3:$E$466,3,FALSE)","v":"484"}]
["REP PMCB",2,"47421460000","-","Façades","Divers éléments de façade","ABS >90%","Eléments de toutes dimensions et poids","€ / Tonne",9,"9 €/Tonne",{"$f":"VLOOKUP(J1197,'Codes tarifs éco-part'!$C$3:$E$466,3,FALSE)","v":"484"}]
["REP PMCB",2,"47421470000","-","Façades","Divers éléments de façade","Polystyrène >90%","Eléments de toutes dimensions et poids","€ / Tonne",9,"9 €/Tonne",{"$f":"VLOOKUP(J1198,'Codes tarifs éco-part'!$C$3:$E$466,3,FALSE)","v":"484"}]
["REP PMCB",2,"47421480000","-","Façades","Divers éléments de façade","PVC >90%","Eléments de toutes dimensions et poids","€ / Tonne",9,"9 €/Tonne",{"$f":"VLOOKUP(J1199,'Codes tarifs éco-part'!$C$3:$E$466,3,FALSE)","v":"484"}]
["REP PMCB",2,"47421530000","-","Façades","Divers éléments de façade","Massif et assimilés >90%","Eléments de toutes dimensions et poids","€ / Tonne",8,"8 €/Tonne",{"$f":"VLOOKUP(J1200,'Codes tarifs éco-part'!$C$3:$E$466,3,FALSE)","v":"483"}]
["REP PMCB",2,"47421550000","-","Façades","Divers éléments de façade","Matériaux bio sourcés ou textiles non synthétiques >90%","Eléments de toutes dimensions et poids","€ / Tonne",4,"4 €/Tonne",{"$f":"VLOOKUP(J1201,'Codes tarifs éco-part'!$C$3:$E$466,3,FALSE)","v":"274"}]
["REP PMCB",2,"47421610000","-","Façades","Divers éléments de façade","Panneaux de particules ou OSB >90%","Eléments de toutes dimensions et poids","€ / Tonne",8,"8 €/Tonne",{"$f":"VLOOKUP(J1202,'Codes tarifs éco-part'!$C$3:$E$466,3,FALSE)","v":"483"}]
["REP PMCB",2,"47421620000","-","Façades","Divers éléments de façade","Dérivés de bois >90%","Eléments de toutes dimensions et poids","€ / Tonne",8,"8 €/Tonne",{"$f":"VLOOKUP(J1203,'Codes tarifs éco-part'!$C$3:$E$466,3,FALSE)","v":"483"}]
["REP PMCB",2,"47421670000","-","Façades","Divers éléments de façade","Assemblage matériaux ou fibres synthétiques >50% avec d'autres matériaux","Eléments de toutes dimensions et poids","€ / Tonne",30,"30 €/Tonne",{"$f":"VLOOKUP(J1204,'Codes tarifs éco-part'!$C$3:$E$466,3,FALSE)","v":"153"}]
["REP PMCB",2,"47421700000","-","Façades","Divers éléments de façade","Assemblage verre à plus de 50% avec métal","Eléments de toutes dimensions et poids","€ / Tonne",9,"9 €/Tonne",{"$f":"VLOOKUP(J1205,'Codes tarifs éco-part'!$C$3:$E$466,3,FALSE)","v":"484"}]
["REP PMCB",2,"47421710000","-","Façades","Divers éléments de façade","Assemblage verre à plus de 50% avec Inerte","Eléments de toutes dimensions et poids","€ / Tonne",9,"9 €/Tonne",{"$f":"VLOOKUP(J1206,'Codes tarifs éco-part'!$C$3:$E$466,3,FALSE)","v":"484"}]
["REP PMCB",2,"47421720000","-","Façades","Divers éléments de façade","Assemblage verre à plus de 50% avec bois ou dérivés de bois","Eléments de toutes dimensions et poids","€ / Tonne",9,"9 €/Tonne",{"$f":"VLOOKUP(J1207,'Codes tarifs éco-part'!$C$3:$E$466,3,FALSE)","v":"484"}]
["REP PMCB",2,"47421730000","-","Façades","Divers éléments de façade","Assemblage verre à plus de 50% avec plastique","Eléments de toutes dimensions et poids","€ / Tonne",9,"9 €/Tonne",{"$f":"VLOOKUP(J1208,'Codes tarifs éco-part'!$C$3:$E$466,3,FALSE)","v":"484"}]
["REP PMCB",2,"47421820000","-","Façades","Divers éléments de façade","Assemblage de 3 matériaux ou plus sans un matériau à plus de 50%","Eléments de toutes dimensions et poids","€ / Tonne",30,"30 €/Tonne",{"$f":"VLOOKUP(J1209,'Codes tarifs éco-part'!$C$3:$E$466,3,FALSE)","v":"153"}]
["REP PMCB",1,"47421960000","12 80 30 00","Façades","Divers éléments de façade","Béton cellulaire >90%","Eléments de toutes dimensions et poids","€ / Tonne",1.57,"1,57 €/Tonne",{"$f":"VLOOKUP(J1210,'Codes tarifs éco-part'!$C$3:$E$466,3,FALSE)","v":"464"}]
["REP PMCB",2,"48430120000","-","Revêtements des sols, murs et plafonds","Pavés, dalles, plaquettes de parement en pierre","Autres","Eléments de toutes dimensions et poids","€ / Tonne",30,"30 €/Tonne",{"$f":"VLOOKUP(J1211,'Codes tarifs éco-part'!$C$3:$E$466,3,FALSE)","v":"153"}]
["REP PMCB",1,"48430740000","12 65 30 00 | 12 66 00 00","Revêtements des sols, murs et plafonds","Pavés, dalles, plaquettes de parement en pierre","Béton >90%","Eléments de toutes dimensions et poids","€ / Tonne",1.1499999999999999,"1,15 €/Tonne",{"$f":"VLOOKUP(J1212,'Codes tarifs éco-part'!$C$3:$E$466,3,FALSE)","v":"460"}]
["REP PMCB",1,"48430860000","13 06 00 00 | 13 04 00 00 | 13 02 00 00 | 13 03 00 00 | 13 05 00 00 | 13 07 00 00","Revêtements des sols, murs et plafonds","Pavés, dalles, plaquettes de parement en pierre","Pierre calcaire >90%","Eléments de toutes dimensions et poids","€ / Tonne",0.7,"0,7 €/Tonne",{"$f":"VLOOKUP(J1213,'Codes tarifs éco-part'!$C$3:$E$466,3,FALSE)","v":"282"}]
["REP PMCB",1,"48430960000","12 80 50 00","Revêtements des sols, murs et plafonds","Pavés, dalles, plaquettes de parement en pierre","Béton cellulaire >90%","Eléments de toutes dimensions et poids","€ / Tonne",1.18,"1,18 €/Tonne",{"$f":"VLOOKUP(J1214,'Codes tarifs éco-part'!$C$3:$E$466,3,FALSE)","v":"461"}]
["REP PMCB",2,"48431120000","-","Revêtements des sols, murs et plafonds","Carrelage sol & Faïence murale","Autres","Eléments de toutes dimensions et poids","€ / Tonne",30,"30 €/Tonne",{"$f":"VLOOKUP(J1215,'Codes tarifs éco-part'!$C$3:$E$466,3,FALSE)","v":"153"}]
["REP PMCB",1,"48431970000","15 86 00 00","Revêtements des sols, murs et plafonds","Carrelage sol & Faïence murale","Céramique >90%","Eléments de toutes dimensions et poids","€ / Tonne",0.7,"0,7 €/Tonne",{"$f":"VLOOKUP(J1216,'Codes tarifs éco-part'!$C$3:$E$466,3,FALSE)","v":"282"}]
["REP PMCB",1,"48431971010","15 86 00 00","Revêtements des sols, murs et plafonds","Carrelage sol & Faïence murale","Céramique >90%","Eléments de toutes dimensions et poids","€ / m2",0.02,"0,02 €/m2",{"$f":"VLOOKUP(J1217,'Codes tarifs éco-part'!$C$3:$E$466,3,FALSE)","v":"047"}]
["REP PMCB",2,"48432000000","-","Revêtements des sols, murs et plafonds","Parquets, terrasses et lames en bois","Non connu ou non spécifié par l'entreprise","Eléments de toutes dimensions et poids","€ / Tonne",30,"30 €/Tonne",{"$f":"VLOOKUP(J1218,'Codes tarifs éco-part'!$C$3:$E$466,3,FALSE)","v":"153"}]
["REP PMCB",2,"48432010000","-","Revêtements des sols, murs et plafonds","Parquets, terrasses et lames en bois","Assemblage de bois, dérivés de bois à plus de 50% avec d'autres matériaux ou bois composite (hors verre)","Eléments de toutes dimensions et poids","€ / Tonne",9,"9 €/Tonne",{"$f":"VLOOKUP(J1219,'Codes tarifs éco-part'!$C$3:$E$466,3,FALSE)","v":"484"}]
["REP PMCB",2,"48432011010","-","Revêtements des sols, murs et plafonds","Parquets, terrasses et lames en bois","Assemblage de bois, dérivés de bois à plus de 50% avec d'autres matériaux ou bois composite (hors verre)","Eléments de toutes dimensions et poids","€ / m2",0.08,"0,08 €/m2",{"$f":"VLOOKUP(J1220,'Codes tarifs éco-part'!$C$3:$E$466,3,FALSE)","v":"003"}]
["REP PMCB",2,"48432120000","-","Revêtements des sols, murs et plafonds","Parquets, terrasses et lames en bois","Autres","Eléments de toutes dimensions et poids","€ / Tonne",30,"30 €/Tonne",{"$f":"VLOOKUP(J1221,'Codes tarifs éco-part'!$C$3:$E$466,3,FALSE)","v":"153"}]
["REP PMCB",2,"48432530000","-","Revêtements des sols, murs et plafonds","Parquets, terrasses et lames en bois","Massif et assimilés >90%","Eléments de toutes dimensions et poids","€ / Tonne",8,"8 €/Tonne",{"$f":"VLOOKUP(J1222,'Codes tarifs éco-part'!$C$3:$E$466,3,FALSE)","v":"483"}]
["REP PMCB",2,"48432531010","-","Revêtements des sols, murs et plafonds","Parquets, terrasses et lames en bois","Massif et assimilés >90%","Eléments de toutes dimensions et poids","€ / m2",0.1,"0,1 €/m2",{"$f":"VLOOKUP(J1223,'Codes tarifs éco-part'!$C$3:$E$466,3,FALSE)","v":"094"}]
["REP PMCB",2,"48432550000","-","Revêtements des sols, murs et plafonds","Parquets, terrasses et lames en bois","Matériaux bio sourcés ou textiles non synthétiques >90%","Eléments de toutes dimensions et poids","€ / Tonne",4,"4 €/Tonne",{"$f":"VLOOKUP(J1224,'Codes tarifs éco-part'!$C$3:$E$466,3,FALSE)","v":"274"}]
["REP PMCB",2,"48432551010","-","Revêtements des sols, murs et plafonds","Parquets, terrasses et lames en bois","Matériaux bio sourcés ou textiles non synthétiques >90%","Eléments de toutes dimensions et poids","€ / m2",0.01,"0,01 €/m2",{"$f":"VLOOKUP(J1225,'Codes tarifs éco-part'!$C$3:$E$466,3,FALSE)","v":"260"}]
["REP PMCB",2,"48432610000","-","Revêtements des sols, murs et plafonds","Parquets, terrasses et lames en bois","Panneaux de particules ou OSB >90%","Eléments de toutes dimensions et poids","€ / Tonne",8,"8 €/Tonne",{"$f":"VLOOKUP(J1226,'Codes tarifs éco-part'!$C$3:$E$466,3,FALSE)","v":"483"}]
["REP PMCB",2,"48432620000","-","Revêtements des sols, murs et plafonds","Parquets, terrasses et lames en bois","Dérivés de bois >90%","Eléments de toutes dimensions et poids","€ / Tonne",8,"8 €/Tonne",{"$f":"VLOOKUP(J1227,'Codes tarifs éco-part'!$C$3:$E$466,3,FALSE)","v":"483"}]
["REP PMCB",2,"48432621010","-","Revêtements des sols, murs et plafonds","Parquets, terrasses et lames en bois","Dérivés de bois >90%","Eléments de toutes dimensions et poids","€ / m2",0.08,"0,08 €/m2",{"$f":"VLOOKUP(J1228,'Codes tarifs éco-part'!$C$3:$E$466,3,FALSE)","v":"003"}]
["REP PMCB",2,"48432820000","-","Revêtements des sols, murs et plafonds","Parquets, terrasses et lames en bois","Assemblage de 3 matériaux ou plus sans un matériau à plus de 50%","Eléments de toutes dimensions et poids","€ / Tonne",30,"30 €/Tonne",{"$f":"VLOOKUP(J1229,'Codes tarifs éco-part'!$C$3:$E$466,3,FALSE)","v":"153"}]
["REP PMCB",2,"48433000000",null,"Revêtements des sols, murs et plafonds","Lambris","Non connu ou non spécifié par l'entreprise","Eléments de toutes dimensions et poids","€ / Tonne",30,"30 €/Tonne",{"$f":"VLOOKUP(J1230,'Codes tarifs éco-part'!$C$3:$E$466,3,FALSE)","v":"153"}]
["REP PMCB",2,"48433001010",null,"Revêtements des sols, murs et plafonds","Lambris","Non connu ou non spécifié par l'entreprise","Eléments de toutes dimensions et poids","€ / m2",0.06,"0,06 €/m2",{"$f":"VLOOKUP(J1231,'Codes tarifs éco-part'!$C$3:$E$466,3,FALSE)","v":"096"}]
["REP PMCB",2,"48433010000",null,"Revêtements des sols, murs et plafonds","Lambris","Assemblage de bois, dérivés de bois à plus de 50% avec d'autres matériaux ou bois composite (hors verre)","Eléments de toutes dimensions et poids","€ / Tonne",9,"9 €/Tonne",{"$f":"VLOOKUP(J1232,'Codes tarifs éco-part'!$C$3:$E$466,3,FALSE)","v":"484"}]
["REP PMCB",2,"48433011010","-","Revêtements des sols, murs et plafonds","Lambris","Assemblage de bois, dérivés de bois à plus de 50% avec d'autres matériaux ou bois composite (hors verre)","Eléments de toutes dimensions et poids","€ / m2",0.04,"0,04 €/m2",{"$f":"VLOOKUP(J1233,'Codes tarifs éco-part'!$C$3:$E$466,3,FALSE)","v":"002"}]
["REP PMCB",2,"48433120000","-","Revêtements des sols, murs et plafonds","Lambris","Autres","Eléments de toutes dimensions et poids","€ / Tonne",30,"30 €/Tonne",{"$f":"VLOOKUP(J1234,'Codes tarifs éco-part'!$C$3:$E$466,3,FALSE)","v":"153"}]
["REP PMCB",2,"48433480000",null,"Revêtements des sols, murs et plafonds","Lambris","PVC >90%","Eléments de toutes dimensions et poids","€ / Tonne",9,"9 €/Tonne",{"$f":"VLOOKUP(J1235,'Codes tarifs éco-part'!$C$3:$E$466,3,FALSE)","v":"484"}]
["REP PMCB",2,"48433481010",null,"Revêtements des sols, murs et plafonds","Lambris","PVC >90%","Eléments de toutes dimensions et poids","€ / m2",0.02,"0,02 €/m2",{"$f":"VLOOKUP(J1236,'Codes tarifs éco-part'!$C$3:$E$466,3,FALSE)","v":"047"}]
["REP PMCB",2,"48433530000",null,"Revêtements des sols, murs et plafonds","Lambris","Massif et assimilés >90%","Eléments de toutes dimensions et poids","€ / Tonne",8,"8 €/Tonne",{"$f":"VLOOKUP(J1237,'Codes tarifs éco-part'!$C$3:$E$466,3,FALSE)","v":"483"}]
["REP PMCB",2,"48433531010",null,"Revêtements des sols, murs et plafonds","Lambris","Massif et assimilés >90%","Eléments de toutes dimensions et poids","€ / m2",0.04,"0,04 €/m2",{"$f":"VLOOKUP(J1238,'Codes tarifs éco-part'!$C$3:$E$466,3,FALSE)","v":"002"}]
["REP PMCB",2,"48433550000",null,"Revêtements des sols, murs et plafonds","Lambris","Matériaux bio sourcés ou textiles non synthétiques >90%","Eléments de toutes dimensions et poids","€ / Tonne",4,"4 €/Tonne",{"$f":"VLOOKUP(J1239,'Codes tarifs éco-part'!$C$3:$E$466,3,FALSE)","v":"274"}]
["REP PMCB",2,"48433610000",null,"Revêtements des sols, murs et plafonds","Lambris","Panneaux de particules ou OSB >90%","Eléments de toutes dimensions et poids","€ / Tonne",8,"8 €/Tonne",{"$f":"VLOOKUP(J1240,'Codes tarifs éco-part'!$C$3:$E$466,3,FALSE)","v":"483"}]
["REP PMCB",2,"48433620000",null,"Revêtements des sols, murs et plafonds","Lambris","Dérivés de bois >90%","Eléments de toutes dimensions et poids","€ / Tonne",8,"8 €/Tonne",{"$f":"VLOOKUP(J1241,'Codes tarifs éco-part'!$C$3:$E$466,3,FALSE)","v":"483"}]
["REP PMCB",2,"48433621010",null,"Revêtements des sols, murs et plafonds","Lambris","Dérivés de bois >90%","Eléments de toutes dimensions et poids","€ / m2",0.04,"0,04 €/m2",{"$f":"VLOOKUP(J1242,'Codes tarifs éco-part'!$C$3:$E$466,3,FALSE)","v":"002"}]
["REP PMCB",2,"48433670000",null,"Revêtements des sols, murs et plafonds","Lambris","Assemblage matériaux ou fibres synthétiques >50% avec d'autres matériaux","Eléments de toutes dimensions et poids","€ / Tonne",30,"30 €/Tonne",{"$f":"VLOOKUP(J1243,'Codes tarifs éco-part'!$C$3:$E$466,3,FALSE)","v":"153"}]
["REP PMCB",2,"48433671010","-","Revêtements des sols, murs et plafonds","Lambris","Assemblage matériaux ou fibres synthétiques >50% avec d'autres matériaux","Eléments de toutes dimensions et poids","€ / m2",0.02,"0,02 €/m2",{"$f":"VLOOKUP(J1244,'Codes tarifs éco-part'!$C$3:$E$466,3,FALSE)","v":"047"}]
["REP PMCB",2,"48433820000",null,"Revêtements des sols, murs et plafonds","Lambris","Assemblage de 3 matériaux ou plus sans un matériau à plus de 50%","Eléments de toutes dimensions et poids","€ / Tonne",30,"30 €/Tonne",{"$f":"VLOOKUP(J1245,'Codes tarifs éco-part'!$C$3:$E$466,3,FALSE)","v":"153"}]
["REP PMCB",2,"48433821010",null,"Revêtements des sols, murs et plafonds","Lambris","Assemblage de 3 matériaux ou plus sans un matériau à plus de 50%","Eléments de toutes dimensions et poids","€ / m2",0.06,"0,06 €/m2",{"$f":"VLOOKUP(J1246,'Codes tarifs éco-part'!$C$3:$E$466,3,FALSE)","v":"096"}]
["REP PMCB",2,"48434000000","-","Revêtements des sols, murs et plafonds","Plinthes","Non connu ou non spécifié par l'entreprise","Eléments de toutes dimensions et poids","€ / Tonne",30,"30 €/Tonne",{"$f":"VLOOKUP(J1247,'Codes tarifs éco-part'!$C$3:$E$466,3,FALSE)","v":"153"}]
["REP PMCB",2,"48434010000","-","Revêtements des sols, murs et plafonds","Plinthes","Assemblage de bois, dérivés de bois à plus de 50% avec d'autres matériaux ou bois composite (hors verre)","Eléments de toutes dimensions et poids","€ / Tonne",9,"9 €/Tonne",{"$f":"VLOOKUP(J1248,'Codes tarifs éco-part'!$C$3:$E$466,3,FALSE)","v":"484"}]
["REP PMCB",2,"48434019080","-","Revêtements des sols, murs et plafonds","Plinthes","Assemblage de bois, dérivés de bois à plus de 50% avec d'autres matériaux ou bois composite (hors verre)","Eléments de toutes dimensions et poids","€ / ml",0.01,"0,01 €/ml",{"$f":"VLOOKUP(J1249,'Codes tarifs éco-part'!$C$3:$E$466,3,FALSE)","v":"260"}]
["REP PMCB",2,"48434120000","-","Revêtements des sols, murs et plafonds","Plinthes","Autres","Eléments de toutes dimensions et poids","€ / Tonne",30,"30 €/Tonne",{"$f":"VLOOKUP(J1250,'Codes tarifs éco-part'!$C$3:$E$466,3,FALSE)","v":"153"}]
["REP PMCB",2,"48434410000","-","Revêtements des sols, murs et plafonds","Plinthes","Plastiques (mono résine) >90%","Eléments de toutes dimensions et poids","€ / Tonne",9,"9 €/Tonne",{"$f":"VLOOKUP(J1251,'Codes tarifs éco-part'!$C$3:$E$466,3,FALSE)","v":"484"}]
["REP PMCB",2,"48434420000","-","Revêtements des sols, murs et plafonds","Plinthes","Polyterephtalate d'Ethylène (PET) >90%","Eléments de toutes dimensions et poids","€ / Tonne",9,"9 €/Tonne",{"$f":"VLOOKUP(J1252,'Codes tarifs éco-part'!$C$3:$E$466,3,FALSE)","v":"484"}]
["REP PMCB",2,"48434450000","-","Revêtements des sols, murs et plafonds","Plinthes","PE ou PP ou mélange PP/PE >90%","Eléments de toutes dimensions et poids","€ / Tonne",9,"9 €/Tonne",{"$f":"VLOOKUP(J1253,'Codes tarifs éco-part'!$C$3:$E$466,3,FALSE)","v":"484"}]
["REP PMCB",2,"48434460000","-","Revêtements des sols, murs et plafonds","Plinthes","ABS >90%","Eléments de toutes dimensions et poids","€ / Tonne",9,"9 €/Tonne",{"$f":"VLOOKUP(J1254,'Codes tarifs éco-part'!$C$3:$E$466,3,FALSE)","v":"484"}]
["REP PMCB",2,"48434470000","-","Revêtements des sols, murs et plafonds","Plinthes","Polystyrène >90%","Eléments de toutes dimensions et poids","€ / Tonne",9,"9 €/Tonne",{"$f":"VLOOKUP(J1255,'Codes tarifs éco-part'!$C$3:$E$466,3,FALSE)","v":"484"}]
["REP PMCB",2,48434480000,"-","Revêtements des sols, murs et plafonds","Plinthes","PVC >90%","Eléments de toutes dimensions et poids","€ / Tonne",9,"9 €/Tonne",{"$f":"VLOOKUP(J1256,'Codes tarifs éco-part'!$C$3:$E$466,3,FALSE)","v":"484"}]
["REP PMCB",2,"48434419080","-","Revêtements des sols, murs et plafonds","Plinthes","Plastiques (mono résine) >90%","Eléments de toutes dimensions et poids","€ / ml",0.01,"0,01 €/ml",{"$f":"VLOOKUP(J1257,'Codes tarifs éco-part'!$C$3:$E$466,3,FALSE)","v":"260"}]
["REP PMCB",2,"48434429080","-","Revêtements des sols, murs et plafonds","Plinthes","Polyterephtalate d'Ethylène (PET) >90%","Eléments de toutes dimensions et poids","€ / ml",0.01,"0,01 €/ml",{"$f":"VLOOKUP(J1258,'Codes tarifs éco-part'!$C$3:$E$466,3,FALSE)","v":"260"}]
["REP PMCB",2,"48434459080","-","Revêtements des sols, murs et plafonds","Plinthes","PE ou PP ou mélange PP/PE >90%","Eléments de toutes dimensions et poids","€ / ml",0.01,"0,01 €/ml",{"$f":"VLOOKUP(J1259,'Codes tarifs éco-part'!$C$3:$E$466,3,FALSE)","v":"260"}]
["REP PMCB",2,"48434469080","-","Revêtements des sols, murs et plafonds","Plinthes","ABS >90%","Eléments de toutes dimensions et poids","€ / ml",0.01,"0,01 €/ml",{"$f":"VLOOKUP(J1260,'Codes tarifs éco-part'!$C$3:$E$466,3,FALSE)","v":"260"}]
["REP PMCB",2,"48434479080","-","Revêtements des sols, murs et plafonds","Plinthes","Polystyrène >90%","Eléments de toutes dimensions et poids","€ / ml",0.01,"0,01 €/ml",{"$f":"VLOOKUP(J1261,'Codes tarifs éco-part'!$C$3:$E$466,3,FALSE)","v":"260"}]
["REP PMCB",2,"48434489080","-","Revêtements des sols, murs et plafonds","Plinthes","PVC >90%","Eléments de toutes dimensions et poids","€ / ml",0.01,"0,01 €/ml",{"$f":"VLOOKUP(J1262,'Codes tarifs éco-part'!$C$3:$E$466,3,FALSE)","v":"260"}]
["REP PMCB",2,"48434530000","-","Revêtements des sols, murs et plafonds","Plinthes","Massif et assimilés >90%","Eléments de toutes dimensions et poids","€ / Tonne",8,"8 €/Tonne",{"$f":"VLOOKUP(J1263,'Codes tarifs éco-part'!$C$3:$E$466,3,FALSE)","v":"483"}]
["REP PMCB",2,"48434539080","-","Revêtements des sols, murs et plafonds","Plinthes","Massif et assimilés >90%","Eléments de toutes dimensions et poids","€ / ml",0.01,"0,01 €/ml",{"$f":"VLOOKUP(J1264,'Codes tarifs éco-part'!$C$3:$E$466,3,FALSE)","v":"260"}]
["REP PMCB",2,"48434550000","-","Revêtements des sols, murs et plafonds","Plinthes","Matériaux bio sourcés ou textiles non synthétiques >90%","Eléments de toutes dimensions et poids","€ / Tonne",4,"4 €/Tonne",{"$f":"VLOOKUP(J1265,'Codes tarifs éco-part'!$C$3:$E$466,3,FALSE)","v":"274"}]
["REP PMCB",2,"48434610000","-","Revêtements des sols, murs et plafonds","Plinthes","Panneaux de particules ou OSB >90%","Eléments de toutes dimensions et poids","€ / Tonne",8,"8 €/Tonne",{"$f":"VLOOKUP(J1266,'Codes tarifs éco-part'!$C$3:$E$466,3,FALSE)","v":"483"}]
["REP PMCB",2,"48434619080","-","Revêtements des sols, murs et plafonds","Plinthes","Panneaux de particules ou OSB >90%","Eléments de toutes dimensions et poids","€ / ml",0.01,"0,01 €/ml",{"$f":"VLOOKUP(J1267,'Codes tarifs éco-part'!$C$3:$E$466,3,FALSE)","v":"260"}]
["REP PMCB",2,"48434620000","-","Revêtements des sols, murs et plafonds","Plinthes","Dérivés de bois >90%","Eléments de toutes dimensions et poids","€ / Tonne",8,"8 €/Tonne",{"$f":"VLOOKUP(J1268,'Codes tarifs éco-part'!$C$3:$E$466,3,FALSE)","v":"483"}]
["REP PMCB",2,"48434629080","-","Revêtements des sols, murs et plafonds","Plinthes","Dérivés de bois >90%","Eléments de toutes dimensions et poids","€ / ml",0.01,"0,01 €/ml",{"$f":"VLOOKUP(J1269,'Codes tarifs éco-part'!$C$3:$E$466,3,FALSE)","v":"260"}]
["REP PMCB",2,"48434820000","-","Revêtements des sols, murs et plafonds","Plinthes","Assemblage de 3 matériaux ou plus sans un matériau à plus de 50%","Eléments de toutes dimensions et poids","€ / Tonne",30,"30 €/Tonne",{"$f":"VLOOKUP(J1270,'Codes tarifs éco-part'!$C$3:$E$466,3,FALSE)","v":"153"}]
["REP PMCB",2,"48435000000","-","Revêtements des sols, murs et plafonds","Lames d'intérieur hors bois","Non connu ou non spécifié par l'entreprise","Eléments de toutes dimensions et poids","€ / Tonne",30,"30 €/Tonne",{"$f":"VLOOKUP(J1271,'Codes tarifs éco-part'!$C$3:$E$466,3,FALSE)","v":"153"}]
["REP PMCB",2,"48435020000","-","Revêtements des sols, murs et plafonds","Lames d'intérieur hors bois","Assemblage avec métal >50% et autres matériaux","Eléments de toutes dimensions et poids","€ / Tonne",3,"3 €/Tonne",{"$f":"VLOOKUP(J1272,'Codes tarifs éco-part'!$C$3:$E$466,3,FALSE)","v":"474"}]
["REP PMCB",2,"48435050000","-","Revêtements des sols, murs et plafonds","Lames d'intérieur hors bois","Plastiques ou autres matériaux synthétiques >50%","Eléments de toutes dimensions et poids","€ / Tonne",30,"30 €/Tonne",{"$f":"VLOOKUP(J1273,'Codes tarifs éco-part'!$C$3:$E$466,3,FALSE)","v":"153"}]
["REP PMCB",2,"48435120000","-","Revêtements des sols, murs et plafonds","Lames d'intérieur hors bois","Autres","Eléments de toutes dimensions et poids","€ / Tonne",30,"30 €/Tonne",{"$f":"VLOOKUP(J1274,'Codes tarifs éco-part'!$C$3:$E$466,3,FALSE)","v":"153"}]
["REP PMCB",2,"48435280000","-","Revêtements des sols, murs et plafonds","Lames d'intérieur hors bois","Métal >90%","Eléments de toutes dimensions et poids","€ / Tonne",0.5,"0,5 €/Tonne",{"$f":"VLOOKUP(J1275,'Codes tarifs éco-part'!$C$3:$E$466,3,FALSE)","v":"053"}]
["REP PMCB",2,"48435820000","-","Revêtements des sols, murs et plafonds","Lames d'intérieur hors bois","Assemblage de 3 matériaux ou plus sans un matériau à plus de 50%","Eléments de toutes dimensions et poids","€ / Tonne",30,"30 €/Tonne",{"$f":"VLOOKUP(J1276,'Codes tarifs éco-part'!$C$3:$E$466,3,FALSE)","v":"153"}]
["REP PMCB",2,"48436000000","-","Revêtements des sols, murs et plafonds","Sols plastiques","Non connu ou non spécifié par l'entreprise","Eléments de toutes dimensions et poids","€ / Tonne",30,"30 €/Tonne",{"$f":"VLOOKUP(J1277,'Codes tarifs éco-part'!$C$3:$E$466,3,FALSE)","v":"153"}]
["REP PMCB",2,"48436050000","-","Revêtements des sols, murs et plafonds","Sols plastiques","Plastiques ou autres matériaux synthétiques >50%","Eléments de toutes dimensions et poids","€ / Tonne",30,"30 €/Tonne",{"$f":"VLOOKUP(J1278,'Codes tarifs éco-part'!$C$3:$E$466,3,FALSE)","v":"153"}]
["REP PMCB",2,"48436120000","-","Revêtements des sols, murs et plafonds","Sols plastiques","Autres","Eléments de toutes dimensions et poids","€ / Tonne",30,"30 €/Tonne",{"$f":"VLOOKUP(J1279,'Codes tarifs éco-part'!$C$3:$E$466,3,FALSE)","v":"153"}]
["REP PMCB",2,"48436410000","-","Revêtements des sols, murs et plafonds","Sols plastiques","Plastiques (mono résine) >90%","Eléments de toutes dimensions et poids","€ / Tonne",9,"9 €/Tonne",{"$f":"VLOOKUP(J1280,'Codes tarifs éco-part'!$C$3:$E$466,3,FALSE)","v":"484"}]
["REP PMCB",2,"48436411010","-","Revêtements des sols, murs et plafonds","Sols plastiques","Plastiques (mono résine) >90%","Eléments de toutes dimensions et poids","€ / m2",0.03,"0,03 €/m2",{"$f":"VLOOKUP(J1281,'Codes tarifs éco-part'!$C$3:$E$466,3,FALSE)","v":"092"}]
["REP PMCB",2,"48436420000","-","Revêtements des sols, murs et plafonds","Sols plastiques","Polyterephtalate d'Ethylène (PET) >90%","Eléments de toutes dimensions et poids","€ / Tonne",9,"9 €/Tonne",{"$f":"VLOOKUP(J1282,'Codes tarifs éco-part'!$C$3:$E$466,3,FALSE)","v":"484"}]
["REP PMCB",2,"48436421010","-","Revêtements des sols, murs et plafonds","Sols plastiques","Polyterephtalate d'Ethylène (PET) >90%","Eléments de toutes dimensions et poids","€ / m2",0.03,"0,03 €/m2",{"$f":"VLOOKUP(J1283,'Codes tarifs éco-part'!$C$3:$E$466,3,FALSE)","v":"092"}]
["REP PMCB",2,"48436450000","-","Revêtements des sols, murs et plafonds","Sols plastiques","PE ou PP ou mélange PP/PE >90%","Eléments de toutes dimensions et poids","€ / Tonne",9,"9 €/Tonne",{"$f":"VLOOKUP(J1284,'Codes tarifs éco-part'!$C$3:$E$466,3,FALSE)","v":"484"}]
["REP PMCB",2,"48436451010","-","Revêtements des sols, murs et plafonds","Sols plastiques","PE ou PP ou mélange PP/PE >90%","Eléments de toutes dimensions et poids","€ / m2",0.03,"0,03 €/m2",{"$f":"VLOOKUP(J1285,'Codes tarifs éco-part'!$C$3:$E$466,3,FALSE)","v":"092"}]
["REP PMCB",2,"48436460000","-","Revêtements des sols, murs et plafonds","Sols plastiques","ABS >90%","Eléments de toutes dimensions et poids","€ / Tonne",9,"9 €/Tonne",{"$f":"VLOOKUP(J1286,'Codes tarifs éco-part'!$C$3:$E$466,3,FALSE)","v":"484"}]
["REP PMCB",2,"48436461010","-","Revêtements des sols, murs et plafonds","Sols plastiques","ABS >90%","Eléments de toutes dimensions et poids","€ / m2",0.03,"0,03 €/m2",{"$f":"VLOOKUP(J1287,'Codes tarifs éco-part'!$C$3:$E$466,3,FALSE)","v":"092"}]
["REP PMCB",2,"48436470000","-","Revêtements des sols, murs et plafonds","Sols plastiques","Polystyrène >90%","Eléments de toutes dimensions et poids","€ / Tonne",9,"9 €/Tonne",{"$f":"VLOOKUP(J1288,'Codes tarifs éco-part'!$C$3:$E$466,3,FALSE)","v":"484"}]
["REP PMCB",2,"48436471010","-","Revêtements des sols, murs et plafonds","Sols plastiques","Polystyrène >90%","Eléments de toutes dimensions et poids","€ / m2",0.03,"0,03 €/m2",{"$f":"VLOOKUP(J1289,'Codes tarifs éco-part'!$C$3:$E$466,3,FALSE)","v":"092"}]
["REP PMCB",2,"48436480000","-","Revêtements des sols, murs et plafonds","Sols plastiques","PVC >90%","Eléments de toutes dimensions et poids","€ / Tonne",9,"9 €/Tonne",{"$f":"VLOOKUP(J1290,'Codes tarifs éco-part'!$C$3:$E$466,3,FALSE)","v":"484"}]
["REP PMCB",2,"48436481010","-","Revêtements des sols, murs et plafonds","Sols plastiques","PVC >90%","Eléments de toutes dimensions et poids","€ / m2",0.03,"0,03 €/m2",{"$f":"VLOOKUP(J1291,'Codes tarifs éco-part'!$C$3:$E$466,3,FALSE)","v":"092"}]
["REP PMCB",2,"48436490000","-","Revêtements des sols, murs et plafonds","Sols plastiques","Caoutchouc synthétique >90%","Eléments de toutes dimensions et poids","€ / Tonne",9,"9 €/Tonne",{"$f":"VLOOKUP(J1292,'Codes tarifs éco-part'!$C$3:$E$466,3,FALSE)","v":"484"}]
["REP PMCB",2,"48436491010","-","Revêtements des sols, murs et plafonds","Sols plastiques","Caoutchouc synthétique >90%","Eléments de toutes dimensions et poids","€ / m2",0.15,"0,15 €/m2",{"$f":"VLOOKUP(J1293,'Codes tarifs éco-part'!$C$3:$E$466,3,FALSE)","v":"050"}]
["REP PMCB",2,"48436631010","-","Revêtements des sols, murs et plafonds","Sols plastiques","Caoutchouc naturel >90%","Eléments de toutes dimensions et poids","€ / m2",0.15,"0,15 €/m2",{"$f":"VLOOKUP(J1294,'Codes tarifs éco-part'!$C$3:$E$466,3,FALSE)","v":"050"}]
["REP PMCB",2,"48436640000","-","Revêtements des sols, murs et plafonds","Sols plastiques","Caoutchouc naturel >50%","Eléments de toutes dimensions et poids","€ / Tonne",9,"9 €/Tonne",{"$f":"VLOOKUP(J1295,'Codes tarifs éco-part'!$C$3:$E$466,3,FALSE)","v":"484"}]
["REP PMCB",2,"48436641010",null,"Revêtements des sols, murs et plafonds","Sols plastiques","Caoutchouc naturel >50%","Eléments de toutes dimensions et poids","€ / m2",0.15,"0,15 €/m2",{"$f":"VLOOKUP(J1296,'Codes tarifs éco-part'!$C$3:$E$466,3,FALSE)","v":"050"}]
["REP PMCB",2,"48436670000","-","Revêtements des sols, murs et plafonds","Sols plastiques","Assemblage matériaux ou fibres synthétiques >50% avec d'autres matériaux","Eléments de toutes dimensions et poids","€ / Tonne",30,"30 €/Tonne",{"$f":"VLOOKUP(J1297,'Codes tarifs éco-part'!$C$3:$E$466,3,FALSE)","v":"153"}]
["REP PMCB",2,"48436671010","-","Revêtements des sols, murs et plafonds","Sols plastiques","Assemblage matériaux ou fibres synthétiques >50% avec d'autres matériaux","Eléments de toutes dimensions et poids","€ / m2",0.15,"0,15 €/m2",{"$f":"VLOOKUP(J1298,'Codes tarifs éco-part'!$C$3:$E$466,3,FALSE)","v":"050"}]
["REP PMCB",2,"48436820000","-","Revêtements des sols, murs et plafonds","Sols plastiques","Assemblage de 3 matériaux ou plus sans un matériau à plus de 50%","Eléments de toutes dimensions et poids","€ / Tonne",30,"30 €/Tonne",{"$f":"VLOOKUP(J1299,'Codes tarifs éco-part'!$C$3:$E$466,3,FALSE)","v":"153"}]
["REP PMCB",2,"48437000000","-","Revêtements des sols, murs et plafonds","Moquette de sol et murale fixe","Non connu ou non spécifié par l'entreprise","Eléments de toutes dimensions et poids","€ / Tonne",30,"30 €/Tonne",{"$f":"VLOOKUP(J1300,'Codes tarifs éco-part'!$C$3:$E$466,3,FALSE)","v":"153"}]
["REP PMCB",2,"48437050000","-","Revêtements des sols, murs et plafonds","Moquette de sol et murale fixe","Plastiques ou autres matériaux synthétiques >50%","Eléments de toutes dimensions et poids","€ / Tonne",30,"30 €/Tonne",{"$f":"VLOOKUP(J1301,'Codes tarifs éco-part'!$C$3:$E$466,3,FALSE)","v":"153"}]
["REP PMCB",2,"48437120000","-","Revêtements des sols, murs et plafonds","Moquette de sol et murale fixe","Autres","Eléments de toutes dimensions et poids","€ / Tonne",30,"30 €/Tonne",{"$f":"VLOOKUP(J1302,'Codes tarifs éco-part'!$C$3:$E$466,3,FALSE)","v":"153"}]
["REP PMCB",2,"48437410000","-","Revêtements des sols, murs et plafonds","Moquette de sol et murale fixe","Plastiques (mono résine) >90%","Eléments de toutes dimensions et poids","€ / Tonne",9,"9 €/Tonne",{"$f":"VLOOKUP(J1303,'Codes tarifs éco-part'!$C$3:$E$466,3,FALSE)","v":"484"}]
["REP PMCB",2,"48437420000","-","Revêtements des sols, murs et plafonds","Moquette de sol et murale fixe","Polyterephtalate d'Ethylène (PET) >90%","Eléments de toutes dimensions et poids","€ / Tonne",9,"9 €/Tonne",{"$f":"VLOOKUP(J1304,'Codes tarifs éco-part'!$C$3:$E$466,3,FALSE)","v":"484"}]
["REP PMCB",2,"48437450000","-","Revêtements des sols, murs et plafonds","Moquette de sol et murale fixe","PE ou PP ou mélange PP/PE >90%","Eléments de toutes dimensions et poids","€ / Tonne",9,"9 €/Tonne",{"$f":"VLOOKUP(J1305,'Codes tarifs éco-part'!$C$3:$E$466,3,FALSE)","v":"484"}]
["REP PMCB",2,"48437460000","-","Revêtements des sols, murs et plafonds","Moquette de sol et murale fixe","ABS >90%","Eléments de toutes dimensions et poids","€ / Tonne",9,"9 €/Tonne",{"$f":"VLOOKUP(J1306,'Codes tarifs éco-part'!$C$3:$E$466,3,FALSE)","v":"484"}]
["REP PMCB",2,"48437470000","-","Revêtements des sols, murs et plafonds","Moquette de sol et murale fixe","Polystyrène >90%","Eléments de toutes dimensions et poids","€ / Tonne",9,"9 €/Tonne",{"$f":"VLOOKUP(J1307,'Codes tarifs éco-part'!$C$3:$E$466,3,FALSE)","v":"484"}]
["REP PMCB",2,"48437480000","-","Revêtements des sols, murs et plafonds","Moquette de sol et murale fixe","PVC >90%","Eléments de toutes dimensions et poids","€ / Tonne",9,"9 €/Tonne",{"$f":"VLOOKUP(J1308,'Codes tarifs éco-part'!$C$3:$E$466,3,FALSE)","v":"484"}]
["REP PMCB",2,"48437550000","-","Revêtements des sols, murs et plafonds","Moquette de sol et murale fixe","Matériaux bio sourcés ou textiles non synthétiques >90%","Eléments de toutes dimensions et poids","€ / Tonne",4,"4 €/Tonne",{"$f":"VLOOKUP(J1309,'Codes tarifs éco-part'!$C$3:$E$466,3,FALSE)","v":"274"}]
["REP PMCB",2,"48437551010","-","Revêtements des sols, murs et plafonds","Moquette de sol et murale fixe","Matériaux bio sourcés ou textiles non synthétiques >90%","Eléments de toutes dimensions et poids","€ / m2",0.01,"0,01 €/m2",{"$f":"VLOOKUP(J1310,'Codes tarifs éco-part'!$C$3:$E$466,3,FALSE)","v":"260"}]
["REP PMCB",2,"48437650000","-","Revêtements des sols, murs et plafonds","Moquette de sol et murale fixe","Matériaux ou fibres synthétiques >90%","Eléments de toutes dimensions et poids","€ / Tonne",30,"30 €/Tonne",{"$f":"VLOOKUP(J1311,'Codes tarifs éco-part'!$C$3:$E$466,3,FALSE)","v":"153"}]
["REP PMCB",2,"48437670000","-","Revêtements des sols, murs et plafonds","Moquette de sol et murale fixe","Assemblage matériaux ou fibres synthétiques >50% avec d'autres matériaux","Eléments de toutes dimensions et poids","€ / Tonne",30,"30 €/Tonne",{"$f":"VLOOKUP(J1312,'Codes tarifs éco-part'!$C$3:$E$466,3,FALSE)","v":"153"}]
["REP PMCB",2,"48437671010","-","Revêtements des sols, murs et plafonds","Moquette de sol et murale fixe","Assemblage matériaux ou fibres synthétiques >50% avec d'autres matériaux","Eléments de toutes dimensions et poids","€ / m2",0.15,"0,15 €/m2",{"$f":"VLOOKUP(J1313,'Codes tarifs éco-part'!$C$3:$E$466,3,FALSE)","v":"050"}]
["REP PMCB",2,"48437820000","-","Revêtements des sols, murs et plafonds","Moquette de sol et murale fixe","Assemblage de 3 matériaux ou plus sans un matériau à plus de 50%","Eléments de toutes dimensions et poids","€ / Tonne",30,"30 €/Tonne",{"$f":"VLOOKUP(J1314,'Codes tarifs éco-part'!$C$3:$E$466,3,FALSE)","v":"153"}]
["REP PMCB",2,"48438000000","-","Revêtements des sols, murs et plafonds","Papier peint et toile de verre","Non connu ou non spécifié par l'entreprise","Eléments de toutes dimensions et poids","€ / Tonne",30,"30 €/Tonne",{"$f":"VLOOKUP(J1315,'Codes tarifs éco-part'!$C$3:$E$466,3,FALSE)","v":"153"}]
["REP PMCB",2,"48438050000","-","Revêtements des sols, murs et plafonds","Papier peint et toile de verre","Plastiques ou autres matériaux synthétiques >50%","Eléments de toutes dimensions et poids","€ / Tonne",30,"30 €/Tonne",{"$f":"VLOOKUP(J1316,'Codes tarifs éco-part'!$C$3:$E$466,3,FALSE)","v":"153"}]
["REP PMCB",2,"48438120000","-","Revêtements des sols, murs et plafonds","Papier peint et toile de verre","Autres","Eléments de toutes dimensions et poids","€ / Tonne",30,"30 €/Tonne",{"$f":"VLOOKUP(J1317,'Codes tarifs éco-part'!$C$3:$E$466,3,FALSE)","v":"153"}]
["REP PMCB",2,"48438190000","-","Revêtements des sols, murs et plafonds","Papier peint et toile de verre","Papier carton >50% avec d'autres matériaux (hors verre)","Eléments de toutes dimensions et poids","€ / Tonne",17,"17 €/Tonne",{"$f":"VLOOKUP(J1318,'Codes tarifs éco-part'!$C$3:$E$466,3,FALSE)","v":"487"}]
["REP PMCB",2,"48438191010","-","Revêtements des sols, murs et plafonds","Papier peint et toile de verre","Papier carton >50% avec d'autres matériaux (hors verre)","Eléments de toutes dimensions et poids","€ / m2",0.01,"0,01 €/m2",{"$f":"VLOOKUP(J1319,'Codes tarifs éco-part'!$C$3:$E$466,3,FALSE)","v":"260"}]
["REP PMCB",2,"48438410000","-","Revêtements des sols, murs et plafonds","Papier peint et toile de verre","Plastiques (mono résine) >90%","Eléments de toutes dimensions et poids","€ / Tonne",9,"9 €/Tonne",{"$f":"VLOOKUP(J1320,'Codes tarifs éco-part'!$C$3:$E$466,3,FALSE)","v":"484"}]
["REP PMCB",2,"48438420000","-","Revêtements des sols, murs et plafonds","Papier peint et toile de verre","Polyterephtalate d'Ethylène (PET) >90%","Eléments de toutes dimensions et poids","€ / Tonne",9,"9 €/Tonne",{"$f":"VLOOKUP(J1321,'Codes tarifs éco-part'!$C$3:$E$466,3,FALSE)","v":"484"}]
["REP PMCB",2,"48438450000","-","Revêtements des sols, murs et plafonds","Papier peint et toile de verre","PE ou PP ou mélange PP/PE >90%","Eléments de toutes dimensions et poids","€ / Tonne",9,"9 €/Tonne",{"$f":"VLOOKUP(J1322,'Codes tarifs éco-part'!$C$3:$E$466,3,FALSE)","v":"484"}]
["REP PMCB",2,"48438460000","-","Revêtements des sols, murs et plafonds","Papier peint et toile de verre","ABS >90%","Eléments de toutes dimensions et poids","€ / Tonne",9,"9 €/Tonne",{"$f":"VLOOKUP(J1323,'Codes tarifs éco-part'!$C$3:$E$466,3,FALSE)","v":"484"}]
["REP PMCB",2,"48438470000","-","Revêtements des sols, murs et plafonds","Papier peint et toile de verre","Polystyrène >90%","Eléments de toutes dimensions et poids","€ / Tonne",9,"9 €/Tonne",{"$f":"VLOOKUP(J1324,'Codes tarifs éco-part'!$C$3:$E$466,3,FALSE)","v":"484"}]
["REP PMCB",2,"48438480000","-","Revêtements des sols, murs et plafonds","Papier peint et toile de verre","PVC >90%","Eléments de toutes dimensions et poids","€ / Tonne",9,"9 €/Tonne",{"$f":"VLOOKUP(J1325,'Codes tarifs éco-part'!$C$3:$E$466,3,FALSE)","v":"484"}]
["REP PMCB",2,"48438550000","-","Revêtements des sols, murs et plafonds","Papier peint et toile de verre","Matériaux bio sourcés ou textiles non synthétiques >90%","Eléments de toutes dimensions et poids","€ / Tonne",4,"4 €/Tonne",{"$f":"VLOOKUP(J1326,'Codes tarifs éco-part'!$C$3:$E$466,3,FALSE)","v":"274"}]
["REP PMCB",2,"48438670000","-","Revêtements des sols, murs et plafonds","Papier peint et toile de verre","Assemblage matériaux ou fibres synthétiques >50% avec d'autres matériaux","Eléments de toutes dimensions et poids","€ / Tonne",30,"30 €/Tonne",{"$f":"VLOOKUP(J1327,'Codes tarifs éco-part'!$C$3:$E$466,3,FALSE)","v":"153"}]
["REP PMCB",2,"48438820000","-","Revêtements des sols, murs et plafonds","Papier peint et toile de verre","Assemblage de 3 matériaux ou plus sans un matériau à plus de 50%","Eléments de toutes dimensions et poids","€ / Tonne",30,"30 €/Tonne",{"$f":"VLOOKUP(J1328,'Codes tarifs éco-part'!$C$3:$E$466,3,FALSE)","v":"153"}]
["REP PMCB",2,"48439120000","-","Revêtements des sols, murs et plafonds","Revêtement mural en fibre naturelle","Autres","Eléments de toutes dimensions et poids","€ / Tonne",30,"30 €/Tonne",{"$f":"VLOOKUP(J1329,'Codes tarifs éco-part'!$C$3:$E$466,3,FALSE)","v":"153"}]
["REP PMCB",2,"48439551010","-","Revêtements des sols, murs et plafonds","Revêtement mural en fibre naturelle","Matériaux bio sourcés ou textiles non synthétiques >90%","Eléments de toutes dimensions et poids","€ / m2",0.05,"0,05 €/m2",{"$f":"VLOOKUP(J1330,'Codes tarifs éco-part'!$C$3:$E$466,3,FALSE)","v":"048"}]
["REP PMCB",2,"48440120000","-","Revêtements des sols, murs et plafonds","Revêtement mural avec fibre de verre","Autres","Eléments de toutes dimensions et poids","€ / Tonne",30,"30 €/Tonne",{"$f":"VLOOKUP(J1331,'Codes tarifs éco-part'!$C$3:$E$466,3,FALSE)","v":"153"}]
["REP PMCB",2,"48440651010","-","Revêtements des sols, murs et plafonds","Revêtement mural avec fibre de verre","Matériaux ou fibres synthétiques >90%","Eléments de toutes dimensions et poids","€ / m2",0.01,"0,01 €/m2",{"$f":"VLOOKUP(J1332,'Codes tarifs éco-part'!$C$3:$E$466,3,FALSE)","v":"260"}]
["REP PMCB",2,"48443000000","-","Revêtements des sols, murs et plafonds","Divers dont moulures","Non connu ou non spécifié par l'entreprise","Eléments de toutes dimensions et poids","€ / Tonne",30,"30 €/Tonne",{"$f":"VLOOKUP(J1333,'Codes tarifs éco-part'!$C$3:$E$466,3,FALSE)","v":"153"}]
["REP PMCB",2,"48443010000","-","Revêtements des sols, murs et plafonds","Divers dont moulures","Assemblage de bois, dérivés de bois à plus de 50% avec d'autres matériaux ou bois composite (hors verre)","Eléments de toutes dimensions et poids","€ / Tonne",9,"9 €/Tonne",{"$f":"VLOOKUP(J1334,'Codes tarifs éco-part'!$C$3:$E$466,3,FALSE)","v":"484"}]
["REP PMCB",2,"48443020000","-","Revêtements des sols, murs et plafonds","Divers dont moulures","Assemblage avec métal >50% et autres matériaux","Eléments de toutes dimensions et poids","€ / Tonne",3,"3 €/Tonne",{"$f":"VLOOKUP(J1335,'Codes tarifs éco-part'!$C$3:$E$466,3,FALSE)","v":"474"}]
["REP PMCB",2,"48443050000","-","Revêtements des sols, murs et plafonds","Divers dont moulures","Plastiques ou autres matériaux synthétiques >50%","Eléments de toutes dimensions et poids","€ / Tonne",30,"30 €/Tonne",{"$f":"VLOOKUP(J1336,'Codes tarifs éco-part'!$C$3:$E$466,3,FALSE)","v":"153"}]
["REP PMCB",2,"48443120000","-","Revêtements des sols, murs et plafonds","Divers dont moulures","Autres","Eléments de toutes dimensions et poids","€ / Tonne",30,"30 €/Tonne",{"$f":"VLOOKUP(J1337,'Codes tarifs éco-part'!$C$3:$E$466,3,FALSE)","v":"153"}]
["REP PMCB",2,"48443190000","-","Revêtements des sols, murs et plafonds","Divers dont moulures","Papier carton >50% avec d'autres matériaux (hors verre)","Eléments de toutes dimensions et poids","€ / Tonne",17,"17 €/Tonne",{"$f":"VLOOKUP(J1338,'Codes tarifs éco-part'!$C$3:$E$466,3,FALSE)","v":"487"}]
["REP PMCB",2,"48443280000","-","Revêtements des sols, murs et plafonds","Divers dont moulures","Métal >90%","Eléments de toutes dimensions et poids","€ / Tonne",0.5,"0,5 €/Tonne",{"$f":"VLOOKUP(J1339,'Codes tarifs éco-part'!$C$3:$E$466,3,FALSE)","v":"053"}]
["REP PMCB",2,"48443410000","-","Revêtements des sols, murs et plafonds","Divers dont moulures","Plastiques (mono résine) >90%","Eléments de toutes dimensions et poids","€ / Tonne",9,"9 €/Tonne",{"$f":"VLOOKUP(J1340,'Codes tarifs éco-part'!$C$3:$E$466,3,FALSE)","v":"484"}]
["REP PMCB",2,"48443420000","-","Revêtements des sols, murs et plafonds","Divers dont moulures","Polyterephtalate d'Ethylène (PET) >90%","Eléments de toutes dimensions et poids","€ / Tonne",9,"9 €/Tonne",{"$f":"VLOOKUP(J1341,'Codes tarifs éco-part'!$C$3:$E$466,3,FALSE)","v":"484"}]
["REP PMCB",2,"48443450000","-","Revêtements des sols, murs et plafonds","Divers dont moulures","PE ou PP ou mélange PP/PE >90%","Eléments de toutes dimensions et poids","€ / Tonne",9,"9 €/Tonne",{"$f":"VLOOKUP(J1342,'Codes tarifs éco-part'!$C$3:$E$466,3,FALSE)","v":"484"}]
["REP PMCB",2,"48443460000","-","Revêtements des sols, murs et plafonds","Divers dont moulures","ABS >90%","Eléments de toutes dimensions et poids","€ / Tonne",9,"9 €/Tonne",{"$f":"VLOOKUP(J1343,'Codes tarifs éco-part'!$C$3:$E$466,3,FALSE)","v":"484"}]
["REP PMCB",2,"48443470000","-","Revêtements des sols, murs et plafonds","Divers dont moulures","Polystyrène >90%","Eléments de toutes dimensions et poids","€ / Tonne",9,"9 €/Tonne",{"$f":"VLOOKUP(J1344,'Codes tarifs éco-part'!$C$3:$E$466,3,FALSE)","v":"484"}]
["REP PMCB",2,"48443480000","-","Revêtements des sols, murs et plafonds","Divers dont moulures","PVC >90%","Eléments de toutes dimensions et poids","€ / Tonne",9,"9 €/Tonne",{"$f":"VLOOKUP(J1345,'Codes tarifs éco-part'!$C$3:$E$466,3,FALSE)","v":"484"}]
["REP PMCB",2,"48443490000","-","Revêtements des sols, murs et plafonds","Divers dont moulures","Caoutchouc synthétique >90%","Eléments de toutes dimensions et poids","€ / Tonne",9,"9 €/Tonne",{"$f":"VLOOKUP(J1346,'Codes tarifs éco-part'!$C$3:$E$466,3,FALSE)","v":"484"}]
["REP PMCB",2,"48443530000","-","Revêtements des sols, murs et plafonds","Divers dont moulures","Massif et assimilés >90%","Eléments de toutes dimensions et poids","€ / Tonne",8,"8 €/Tonne",{"$f":"VLOOKUP(J1347,'Codes tarifs éco-part'!$C$3:$E$466,3,FALSE)","v":"483"}]
["REP PMCB",2,"48443550000","-","Revêtements des sols, murs et plafonds","Divers dont moulures","Matériaux bio sourcés ou textiles non synthétiques >90%","Eléments de toutes dimensions et poids","€ / Tonne",4,"4 €/Tonne",{"$f":"VLOOKUP(J1348,'Codes tarifs éco-part'!$C$3:$E$466,3,FALSE)","v":"274"}]
["REP PMCB",2,"48443610000","-","Revêtements des sols, murs et plafonds","Divers dont moulures","Panneaux de particules ou OSB >90%","Eléments de toutes dimensions et poids","€ / Tonne",8,"8 €/Tonne",{"$f":"VLOOKUP(J1349,'Codes tarifs éco-part'!$C$3:$E$466,3,FALSE)","v":"483"}]
["REP PMCB",2,"48443620000","-","Revêtements des sols, murs et plafonds","Divers dont moulures","Dérivés de bois >90%","Eléments de toutes dimensions et poids","€ / Tonne",8,"8 €/Tonne",{"$f":"VLOOKUP(J1350,'Codes tarifs éco-part'!$C$3:$E$466,3,FALSE)","v":"483"}]
["REP PMCB",2,"48443640000","-","Revêtements des sols, murs et plafonds","Divers dont moulures","Caoutchouc naturel >50%","Eléments de toutes dimensions et poids","€ / Tonne",9,"9 €/Tonne",{"$f":"VLOOKUP(J1351,'Codes tarifs éco-part'!$C$3:$E$466,3,FALSE)","v":"484"}]
["REP PMCB",2,"48443650000","-","Revêtements des sols, murs et plafonds","Divers dont moulures","Matériaux ou fibres synthétiques >90%","Eléments de toutes dimensions et poids","€ / Tonne",30,"30 €/Tonne",{"$f":"VLOOKUP(J1352,'Codes tarifs éco-part'!$C$3:$E$466,3,FALSE)","v":"153"}]
["REP PMCB",2,"48443670000","-","Revêtements des sols, murs et plafonds","Divers dont moulures","Assemblage matériaux ou fibres synthétiques >50% avec d'autres matériaux","Eléments de toutes dimensions et poids","€ / Tonne",30,"30 €/Tonne",{"$f":"VLOOKUP(J1353,'Codes tarifs éco-part'!$C$3:$E$466,3,FALSE)","v":"153"}]
["REP PMCB",2,"48443690000","-","Revêtements des sols, murs et plafonds","Divers dont moulures","Miroir >90%","Eléments de toutes dimensions et poids","€ / Tonne",30,"30 €/Tonne",{"$f":"VLOOKUP(J1354,'Codes tarifs éco-part'!$C$3:$E$466,3,FALSE)","v":"153"}]
["REP PMCB",1,"48443740000","12 41 20 00","Revêtements des sols, murs et plafonds","Divers dont moulures","Béton >90%","Eléments de toutes dimensions et poids","€ / Tonne",3.82,"3,82 €/Tonne",{"$f":"VLOOKUP(J1355,'Codes tarifs éco-part'!$C$3:$E$466,3,FALSE)","v":"477"}]
["REP PMCB",2,"48443760000","-","Revêtements des sols, murs et plafonds","Divers dont moulures","Plâtre >50%","Eléments de toutes dimensions et poids","€ / Tonne",4,"4 €/Tonne",{"$f":"VLOOKUP(J1356,'Codes tarifs éco-part'!$C$3:$E$466,3,FALSE)","v":"274"}]
["REP PMCB",2,"48443820000","-","Revêtements des sols, murs et plafonds","Divers dont moulures","Assemblage de 3 matériaux ou plus sans un matériau à plus de 50%","Eléments de toutes dimensions et poids","€ / Tonne",30,"30 €/Tonne",{"$f":"VLOOKUP(J1357,'Codes tarifs éco-part'!$C$3:$E$466,3,FALSE)","v":"153"}]
["REP PMCB",2,"49450000000","-","Quincaillerie du bâtiment","Eléments de fermeture de portes et fenêtres, gonds et pentures","Non connu ou non spécifié par l'entreprise","Eléments de toutes dimensions et poids","€ / Tonne",30,"30 €/Tonne",{"$f":"VLOOKUP(J1358,'Codes tarifs éco-part'!$C$3:$E$466,3,FALSE)","v":"153"}]
["REP PMCB",2,"49450010000","-","Quincaillerie du bâtiment","Eléments de fermeture de portes et fenêtres, gonds et pentures","Assemblage de bois, dérivés de bois à plus de 50% avec d'autres matériaux ou bois composite (hors verre)","Eléments de toutes dimensions et poids","€ / Tonne",9,"9 €/Tonne",{"$f":"VLOOKUP(J1359,'Codes tarifs éco-part'!$C$3:$E$466,3,FALSE)","v":"484"}]
["REP PMCB",2,"49450020000","-","Quincaillerie du bâtiment","Eléments de fermeture de portes et fenêtres, gonds et pentures","Assemblage avec métal >50% et autres matériaux","Eléments de toutes dimensions et poids","€ / Tonne",3,"3 €/Tonne",{"$f":"VLOOKUP(J1360,'Codes tarifs éco-part'!$C$3:$E$466,3,FALSE)","v":"474"}]
["REP PMCB",2,"49450050000","-","Quincaillerie du bâtiment","Eléments de fermeture de portes et fenêtres, gonds et pentures","Plastiques ou autres matériaux synthétiques >50%","Eléments de toutes dimensions et poids","€ / Tonne",30,"30 €/Tonne",{"$f":"VLOOKUP(J1361,'Codes tarifs éco-part'!$C$3:$E$466,3,FALSE)","v":"153"}]
["REP PMCB",2,"49450120000","-","Quincaillerie du bâtiment","Eléments de fermeture de portes et fenêtres, gonds et pentures","Autres","Eléments de toutes dimensions et poids","€ / Tonne",30,"30 €/Tonne",{"$f":"VLOOKUP(J1362,'Codes tarifs éco-part'!$C$3:$E$466,3,FALSE)","v":"153"}]
["REP PMCB",2,"49450280000","-","Quincaillerie du bâtiment","Eléments de fermeture de portes et fenêtres, gonds et pentures","Métal >90%","Eléments de toutes dimensions et poids","€ / Tonne",0.5,"0,5 €/Tonne",{"$f":"VLOOKUP(J1363,'Codes tarifs éco-part'!$C$3:$E$466,3,FALSE)","v":"053"}]
["REP PMCB",2,"49450410000","-","Quincaillerie du bâtiment","Eléments de fermeture de portes et fenêtres, gonds et pentures","Plastiques (mono résine) >90%","Eléments de toutes dimensions et poids","€ / Tonne",9,"9 €/Tonne",{"$f":"VLOOKUP(J1364,'Codes tarifs éco-part'!$C$3:$E$466,3,FALSE)","v":"484"}]
["REP PMCB",2,"49450420000","-","Quincaillerie du bâtiment","Eléments de fermeture de portes et fenêtres, gonds et pentures","Polyterephtalate d'Ethylène (PET) >90%","Eléments de toutes dimensions et poids","€ / Tonne",9,"9 €/Tonne",{"$f":"VLOOKUP(J1365,'Codes tarifs éco-part'!$C$3:$E$466,3,FALSE)","v":"484"}]
["REP PMCB",2,"49450450000","-","Quincaillerie du bâtiment","Eléments de fermeture de portes et fenêtres, gonds et pentures","PE ou PP ou mélange PP/PE >90%","Eléments de toutes dimensions et poids","€ / Tonne",9,"9 €/Tonne",{"$f":"VLOOKUP(J1366,'Codes tarifs éco-part'!$C$3:$E$466,3,FALSE)","v":"484"}]
["REP PMCB",2,"49450460000","-","Quincaillerie du bâtiment","Eléments de fermeture de portes et fenêtres, gonds et pentures","ABS >90%","Eléments de toutes dimensions et poids","€ / Tonne",9,"9 €/Tonne",{"$f":"VLOOKUP(J1367,'Codes tarifs éco-part'!$C$3:$E$466,3,FALSE)","v":"484"}]
["REP PMCB",2,"49450470000","-","Quincaillerie du bâtiment","Eléments de fermeture de portes et fenêtres, gonds et pentures","Polystyrène >90%","Eléments de toutes dimensions et poids","€ / Tonne",9,"9 €/Tonne",{"$f":"VLOOKUP(J1368,'Codes tarifs éco-part'!$C$3:$E$466,3,FALSE)","v":"484"}]
["REP PMCB",2,"49450480000","-","Quincaillerie du bâtiment","Eléments de fermeture de portes et fenêtres, gonds et pentures","PVC >90%","Eléments de toutes dimensions et poids","€ / Tonne",9,"9 €/Tonne",{"$f":"VLOOKUP(J1369,'Codes tarifs éco-part'!$C$3:$E$466,3,FALSE)","v":"484"}]
["REP PMCB",2,"49450530000","-","Quincaillerie du bâtiment","Eléments de fermeture de portes et fenêtres, gonds et pentures","Massif et assimilés >90%","Eléments de toutes dimensions et poids","€ / Tonne",8,"8 €/Tonne",{"$f":"VLOOKUP(J1370,'Codes tarifs éco-part'!$C$3:$E$466,3,FALSE)","v":"483"}]
["REP PMCB",2,"49450550000","-","Quincaillerie du bâtiment","Eléments de fermeture de portes et fenêtres, gonds et pentures","Matériaux bio sourcés ou textiles non synthétiques >90%","Eléments de toutes dimensions et poids","€ / Tonne",4,"4 €/Tonne",{"$f":"VLOOKUP(J1371,'Codes tarifs éco-part'!$C$3:$E$466,3,FALSE)","v":"274"}]
["REP PMCB",2,"49450610000","-","Quincaillerie du bâtiment","Eléments de fermeture de portes et fenêtres, gonds et pentures","Panneaux de particules ou OSB >90%","Eléments de toutes dimensions et poids","€ / Tonne",8,"8 €/Tonne",{"$f":"VLOOKUP(J1372,'Codes tarifs éco-part'!$C$3:$E$466,3,FALSE)","v":"483"}]
["REP PMCB",2,"49450620000","-","Quincaillerie du bâtiment","Eléments de fermeture de portes et fenêtres, gonds et pentures","Dérivés de bois >90%","Eléments de toutes dimensions et poids","€ / Tonne",8,"8 €/Tonne",{"$f":"VLOOKUP(J1373,'Codes tarifs éco-part'!$C$3:$E$466,3,FALSE)","v":"483"}]
["REP PMCB",2,"49450670000","-","Quincaillerie du bâtiment","Eléments de fermeture de portes et fenêtres, gonds et pentures","Assemblage matériaux ou fibres synthétiques >50% avec d'autres matériaux","Eléments de toutes dimensions et poids","€ / Tonne",30,"30 €/Tonne",{"$f":"VLOOKUP(J1374,'Codes tarifs éco-part'!$C$3:$E$466,3,FALSE)","v":"153"}]
["REP PMCB",2,"49450820000","-","Quincaillerie du bâtiment","Eléments de fermeture de portes et fenêtres, gonds et pentures","Assemblage de 3 matériaux ou plus sans un matériau à plus de 50%","Eléments de toutes dimensions et poids","€ / Tonne",30,"30 €/Tonne",{"$f":"VLOOKUP(J1375,'Codes tarifs éco-part'!$C$3:$E$466,3,FALSE)","v":"153"}]
["REP PMCB",2,"49451000000","-","Quincaillerie du bâtiment","Bas de portes","Non connu ou non spécifié par l'entreprise","Eléments de toutes dimensions et poids","€ / Tonne",30,"30 €/Tonne",{"$f":"VLOOKUP(J1376,'Codes tarifs éco-part'!$C$3:$E$466,3,FALSE)","v":"153"}]
["REP PMCB",2,"49451010000","-","Quincaillerie du bâtiment","Bas de portes","Assemblage de bois, dérivés de bois à plus de 50% avec d'autres matériaux ou bois composite (hors verre)","Eléments de toutes dimensions et poids","€ / Tonne",9,"9 €/Tonne",{"$f":"VLOOKUP(J1377,'Codes tarifs éco-part'!$C$3:$E$466,3,FALSE)","v":"484"}]
["REP PMCB",2,"49451020000","-","Quincaillerie du bâtiment","Bas de portes","Assemblage avec métal >50% et autres matériaux","Eléments de toutes dimensions et poids","€ / Tonne",3,"3 €/Tonne",{"$f":"VLOOKUP(J1378,'Codes tarifs éco-part'!$C$3:$E$466,3,FALSE)","v":"474"}]
["REP PMCB",2,"49451050000","-","Quincaillerie du bâtiment","Bas de portes","Plastiques ou autres matériaux synthétiques >50%","Eléments de toutes dimensions et poids","€ / Tonne",30,"30 €/Tonne",{"$f":"VLOOKUP(J1379,'Codes tarifs éco-part'!$C$3:$E$466,3,FALSE)","v":"153"}]
["REP PMCB",2,"49451120000","-","Quincaillerie du bâtiment","Bas de portes","Autres","Eléments de toutes dimensions et poids","€ / Tonne",30,"30 €/Tonne",{"$f":"VLOOKUP(J1380,'Codes tarifs éco-part'!$C$3:$E$466,3,FALSE)","v":"153"}]
["REP PMCB",2,"49451280000","-","Quincaillerie du bâtiment","Bas de portes","Métal >90%","Eléments de toutes dimensions et poids","€ / Tonne",0.5,"0,5 €/Tonne",{"$f":"VLOOKUP(J1381,'Codes tarifs éco-part'!$C$3:$E$466,3,FALSE)","v":"053"}]
["REP PMCB",2,"49451410000","-","Quincaillerie du bâtiment","Bas de portes","Plastiques (mono résine) >90%","Eléments de toutes dimensions et poids","€ / Tonne",9,"9 €/Tonne",{"$f":"VLOOKUP(J1382,'Codes tarifs éco-part'!$C$3:$E$466,3,FALSE)","v":"484"}]
["REP PMCB",2,"49451420000","-","Quincaillerie du bâtiment","Bas de portes","Polyterephtalate d'Ethylène (PET) >90%","Eléments de toutes dimensions et poids","€ / Tonne",9,"9 €/Tonne",{"$f":"VLOOKUP(J1383,'Codes tarifs éco-part'!$C$3:$E$466,3,FALSE)","v":"484"}]
["REP PMCB",2,"49451450000","-","Quincaillerie du bâtiment","Bas de portes","PE ou PP ou mélange PP/PE >90%","Eléments de toutes dimensions et poids","€ / Tonne",9,"9 €/Tonne",{"$f":"VLOOKUP(J1384,'Codes tarifs éco-part'!$C$3:$E$466,3,FALSE)","v":"484"}]
["REP PMCB",2,"49451460000","-","Quincaillerie du bâtiment","Bas de portes","ABS >90%","Eléments de toutes dimensions et poids","€ / Tonne",9,"9 €/Tonne",{"$f":"VLOOKUP(J1385,'Codes tarifs éco-part'!$C$3:$E$466,3,FALSE)","v":"484"}]
["REP PMCB",2,"49451470000","-","Quincaillerie du bâtiment","Bas de portes","Polystyrène >90%","Eléments de toutes dimensions et poids","€ / Tonne",9,"9 €/Tonne",{"$f":"VLOOKUP(J1386,'Codes tarifs éco-part'!$C$3:$E$466,3,FALSE)","v":"484"}]
["REP PMCB",2,"49451480000","-","Quincaillerie du bâtiment","Bas de portes","PVC >90%","Eléments de toutes dimensions et poids","€ / Tonne",9,"9 €/Tonne",{"$f":"VLOOKUP(J1387,'Codes tarifs éco-part'!$C$3:$E$466,3,FALSE)","v":"484"}]
["REP PMCB",2,"49451490000","-","Quincaillerie du bâtiment","Bas de portes","Caoutchouc synthétique >90%","Eléments de toutes dimensions et poids","€ / Tonne",9,"9 €/Tonne",{"$f":"VLOOKUP(J1388,'Codes tarifs éco-part'!$C$3:$E$466,3,FALSE)","v":"484"}]
["REP PMCB",2,"49451530000","-","Quincaillerie du bâtiment","Bas de portes","Massif et assimilés >90%","Eléments de toutes dimensions et poids","€ / Tonne",8,"8 €/Tonne",{"$f":"VLOOKUP(J1389,'Codes tarifs éco-part'!$C$3:$E$466,3,FALSE)","v":"483"}]
["REP PMCB",2,"49451550000","-","Quincaillerie du bâtiment","Bas de portes","Matériaux bio sourcés ou textiles non synthétiques >90%","Eléments de toutes dimensions et poids","€ / Tonne",4,"4 €/Tonne",{"$f":"VLOOKUP(J1390,'Codes tarifs éco-part'!$C$3:$E$466,3,FALSE)","v":"274"}]
["REP PMCB",2,"49451610000","-","Quincaillerie du bâtiment","Bas de portes","Panneaux de particules ou OSB >90%","Eléments de toutes dimensions et poids","€ / Tonne",8,"8 €/Tonne",{"$f":"VLOOKUP(J1391,'Codes tarifs éco-part'!$C$3:$E$466,3,FALSE)","v":"483"}]
["REP PMCB",2,"49451620000","-","Quincaillerie du bâtiment","Bas de portes","Dérivés de bois >90%","Eléments de toutes dimensions et poids","€ / Tonne",8,"8 €/Tonne",{"$f":"VLOOKUP(J1392,'Codes tarifs éco-part'!$C$3:$E$466,3,FALSE)","v":"483"}]
["REP PMCB",2,"49451640000","-","Quincaillerie du bâtiment","Bas de portes","Caoutchouc naturel >50%","Eléments de toutes dimensions et poids","€ / Tonne",9,"9 €/Tonne",{"$f":"VLOOKUP(J1393,'Codes tarifs éco-part'!$C$3:$E$466,3,FALSE)","v":"484"}]
["REP PMCB",2,"49451670000","-","Quincaillerie du bâtiment","Bas de portes","Assemblage matériaux ou fibres synthétiques >50% avec d'autres matériaux","Eléments de toutes dimensions et poids","€ / Tonne",30,"30 €/Tonne",{"$f":"VLOOKUP(J1394,'Codes tarifs éco-part'!$C$3:$E$466,3,FALSE)","v":"153"}]
["REP PMCB",1,"49451740000","12 41 20 00","Quincaillerie du bâtiment","Bas de portes","Béton >90%","Eléments de toutes dimensions et poids","€ / Tonne",3.82,"3,82 €/Tonne",{"$f":"VLOOKUP(J1395,'Codes tarifs éco-part'!$C$3:$E$466,3,FALSE)","v":"477"}]
["REP PMCB",2,"49451820000","-","Quincaillerie du bâtiment","Bas de portes","Assemblage de 3 matériaux ou plus sans un matériau à plus de 50%","Eléments de toutes dimensions et poids","€ / Tonne",30,"30 €/Tonne",{"$f":"VLOOKUP(J1396,'Codes tarifs éco-part'!$C$3:$E$466,3,FALSE)","v":"153"}]
["REP PMCB",2,"49452000000","-","Quincaillerie du bâtiment","Accessoires de pose","Non connu ou non spécifié par l'entreprise","Eléments de toutes dimensions et poids","€ / Tonne",30,"30 €/Tonne",{"$f":"VLOOKUP(J1397,'Codes tarifs éco-part'!$C$3:$E$466,3,FALSE)","v":"153"}]
["REP PMCB",2,"49452020000","-","Quincaillerie du bâtiment","Accessoires de pose","Assemblage avec métal >50% et autres matériaux","Eléments de toutes dimensions et poids","€ / Tonne",3,"3 €/Tonne",{"$f":"VLOOKUP(J1398,'Codes tarifs éco-part'!$C$3:$E$466,3,FALSE)","v":"474"}]
["REP PMCB",2,"49452050000","-","Quincaillerie du bâtiment","Accessoires de pose","Plastiques ou autres matériaux synthétiques >50%","Eléments de toutes dimensions et poids","€ / Tonne",30,"30 €/Tonne",{"$f":"VLOOKUP(J1399,'Codes tarifs éco-part'!$C$3:$E$466,3,FALSE)","v":"153"}]
["REP PMCB",2,"49452120000","-","Quincaillerie du bâtiment","Accessoires de pose","Autres","Eléments de toutes dimensions et poids","€ / Tonne",30,"30 €/Tonne",{"$f":"VLOOKUP(J1400,'Codes tarifs éco-part'!$C$3:$E$466,3,FALSE)","v":"153"}]
["REP PMCB",2,"49452190000","-","Quincaillerie du bâtiment","Accessoires de pose","Papier carton >50% avec d'autres matériaux (hors verre)","Eléments de toutes dimensions et poids","€ / Tonne",17,"17 €/Tonne",{"$f":"VLOOKUP(J1401,'Codes tarifs éco-part'!$C$3:$E$466,3,FALSE)","v":"487"}]
["REP PMCB",2,"49452280000","-","Quincaillerie du bâtiment","Accessoires de pose","Métal >90%","Eléments de toutes dimensions et poids","€ / Tonne",0.5,"0,5 €/Tonne",{"$f":"VLOOKUP(J1402,'Codes tarifs éco-part'!$C$3:$E$466,3,FALSE)","v":"053"}]
["REP PMCB",2,"49452410000","-","Quincaillerie du bâtiment","Accessoires de pose","Plastiques (mono résine) >90%","Eléments de toutes dimensions et poids","€ / Tonne",9,"9 €/Tonne",{"$f":"VLOOKUP(J1403,'Codes tarifs éco-part'!$C$3:$E$466,3,FALSE)","v":"484"}]
["REP PMCB",2,"49452420000","-","Quincaillerie du bâtiment","Accessoires de pose","Polyterephtalate d'Ethylène (PET) >90%","Eléments de toutes dimensions et poids","€ / Tonne",9,"9 €/Tonne",{"$f":"VLOOKUP(J1404,'Codes tarifs éco-part'!$C$3:$E$466,3,FALSE)","v":"484"}]
["REP PMCB",2,"49452450000","-","Quincaillerie du bâtiment","Accessoires de pose","PE ou PP ou mélange PP/PE >90%","Eléments de toutes dimensions et poids","€ / Tonne",9,"9 €/Tonne",{"$f":"VLOOKUP(J1405,'Codes tarifs éco-part'!$C$3:$E$466,3,FALSE)","v":"484"}]
["REP PMCB",2,"49452460000","-","Quincaillerie du bâtiment","Accessoires de pose","ABS >90%","Eléments de toutes dimensions et poids","€ / Tonne",9,"9 €/Tonne",{"$f":"VLOOKUP(J1406,'Codes tarifs éco-part'!$C$3:$E$466,3,FALSE)","v":"484"}]
["REP PMCB",2,"49452470000","-","Quincaillerie du bâtiment","Accessoires de pose","Polystyrène >90%","Eléments de toutes dimensions et poids","€ / Tonne",9,"9 €/Tonne",{"$f":"VLOOKUP(J1407,'Codes tarifs éco-part'!$C$3:$E$466,3,FALSE)","v":"484"}]
["REP PMCB",2,"49452480000","-","Quincaillerie du bâtiment","Accessoires de pose","PVC >90%","Eléments de toutes dimensions et poids","€ / Tonne",9,"9 €/Tonne",{"$f":"VLOOKUP(J1408,'Codes tarifs éco-part'!$C$3:$E$466,3,FALSE)","v":"484"}]
["REP PMCB",2,"49452490000","-","Quincaillerie du bâtiment","Accessoires de pose","Caoutchouc synthétique >90%","Eléments de toutes dimensions et poids","€ / Tonne",9,"9 €/Tonne",{"$f":"VLOOKUP(J1409,'Codes tarifs éco-part'!$C$3:$E$466,3,FALSE)","v":"484"}]
["REP PMCB",2,"49452640000","-","Quincaillerie du bâtiment","Accessoires de pose","Caoutchouc naturel >50%","Eléments de toutes dimensions et poids","€ / Tonne",9,"9 €/Tonne",{"$f":"VLOOKUP(J1410,'Codes tarifs éco-part'!$C$3:$E$466,3,FALSE)","v":"484"}]
["REP PMCB",2,"49452670000","-","Quincaillerie du bâtiment","Accessoires de pose","Assemblage matériaux ou fibres synthétiques >50% avec d'autres matériaux","Eléments de toutes dimensions et poids","€ / Tonne",30,"30 €/Tonne",{"$f":"VLOOKUP(J1411,'Codes tarifs éco-part'!$C$3:$E$466,3,FALSE)","v":"153"}]
["REP PMCB",2,"49452820000","-","Quincaillerie du bâtiment","Accessoires de pose","Assemblage de 3 matériaux ou plus sans un matériau à plus de 50%","Eléments de toutes dimensions et poids","€ / Tonne",30,"30 €/Tonne",{"$f":"VLOOKUP(J1412,'Codes tarifs éco-part'!$C$3:$E$466,3,FALSE)","v":"153"}]
["REP PMCB",2,"49455000000","-","Quincaillerie du bâtiment","Quincallerie et accessoire divers toute catégorie","Non connu ou non spécifié par l'entreprise","Eléments de toutes dimensions et poids","€ / Tonne",30,"30 €/Tonne",{"$f":"VLOOKUP(J1413,'Codes tarifs éco-part'!$C$3:$E$466,3,FALSE)","v":"153"}]
["REP PMCB",2,"49455001090","-","Quincaillerie du bâtiment","Quincallerie et accessoire divers toute catégorie","Non connu ou non spécifié par l'entreprise","Par lot ou par unité < 300 g ","€ / Unité",0.01,"0,01 €/Unité",{"$f":"VLOOKUP(J1414,'Codes tarifs éco-part'!$C$3:$E$466,3,FALSE)","v":"260"}]
["REP PMCB",2,"49455010000","-","Quincaillerie du bâtiment","Quincallerie et accessoire divers toute catégorie","Assemblage de bois, dérivés de bois à plus de 50% avec d'autres matériaux ou bois composite (hors verre)","Eléments de toutes dimensions et poids","€ / Tonne",9,"9 €/Tonne",{"$f":"VLOOKUP(J1415,'Codes tarifs éco-part'!$C$3:$E$466,3,FALSE)","v":"484"}]
["REP PMCB",2,"49455011080","-","Quincaillerie du bâtiment","Quincallerie et accessoire divers toute catégorie","Assemblage de bois, dérivés de bois à plus de 50% avec d'autres matériaux ou bois composite (hors verre)","Par lot ou par unité < 1 kg ","€ / Unité",0.01,"0,01 €/Unité",{"$f":"VLOOKUP(J1416,'Codes tarifs éco-part'!$C$3:$E$466,3,FALSE)","v":"260"}]
["REP PMCB",2,"49455020000","-","Quincaillerie du bâtiment","Quincallerie et accessoire divers toute catégorie","Assemblage avec métal >50% et autres matériaux","Eléments de toutes dimensions et poids","€ / Tonne",3,"3 €/Tonne",{"$f":"VLOOKUP(J1417,'Codes tarifs éco-part'!$C$3:$E$466,3,FALSE)","v":"474"}]
["REP PMCB",2,"49455050000","-","Quincaillerie du bâtiment","Quincallerie et accessoire divers toute catégorie","Plastiques ou autres matériaux synthétiques >50%","Eléments de toutes dimensions et poids","€ / Tonne",30,"30 €/Tonne",{"$f":"VLOOKUP(J1418,'Codes tarifs éco-part'!$C$3:$E$466,3,FALSE)","v":"153"}]
["REP PMCB",2,"49455120000","-","Quincaillerie du bâtiment","Quincallerie et accessoire divers toute catégorie","Autres","Eléments de toutes dimensions et poids","€ / Tonne",30,"30 €/Tonne",{"$f":"VLOOKUP(J1419,'Codes tarifs éco-part'!$C$3:$E$466,3,FALSE)","v":"153"}]
["REP PMCB",2,"49455190000","-","Quincaillerie du bâtiment","Quincallerie et accessoire divers toute catégorie","Papier carton >50% avec d'autres matériaux (hors verre)","Eléments de toutes dimensions et poids","€ / Tonne",17,"17 €/Tonne",{"$f":"VLOOKUP(J1420,'Codes tarifs éco-part'!$C$3:$E$466,3,FALSE)","v":"487"}]
["REP PMCB",2,"49455280000","-","Quincaillerie du bâtiment","Quincallerie et accessoire divers toute catégorie","Métal >90%","Eléments de toutes dimensions et poids","€ / Tonne",0.5,"0,5 €/Tonne",{"$f":"VLOOKUP(J1421,'Codes tarifs éco-part'!$C$3:$E$466,3,FALSE)","v":"053"}]
["REP PMCB",2,"49455281070","-","Quincaillerie du bâtiment","Quincallerie et accessoire divers toute catégorie","Métal >90%","Par lot ou par unité < 5 kg ","€ / Unité",0.01,"0,01 €/Unité",{"$f":"VLOOKUP(J1422,'Codes tarifs éco-part'!$C$3:$E$466,3,FALSE)","v":"260"}]
["REP PMCB",2,"49455410000","-","Quincaillerie du bâtiment","Quincallerie et accessoire divers toute catégorie","Plastiques (mono résine) >90%","Eléments de toutes dimensions et poids","€ / Tonne",9,"9 €/Tonne",{"$f":"VLOOKUP(J1423,'Codes tarifs éco-part'!$C$3:$E$466,3,FALSE)","v":"484"}]
["REP PMCB",2,"49455411090","-","Quincaillerie du bâtiment","Quincallerie et accessoire divers toute catégorie","Plastiques (mono résine) >90%","Par lot ou par unité < 300 g ","€ / Unité",0.01,"0,01 €/Unité",{"$f":"VLOOKUP(J1424,'Codes tarifs éco-part'!$C$3:$E$466,3,FALSE)","v":"260"}]
["REP PMCB",2,"49455420000","-","Quincaillerie du bâtiment","Quincallerie et accessoire divers toute catégorie","Polyterephtalate d'Ethylène (PET) >90%","Eléments de toutes dimensions et poids","€ / Tonne",9,"9 €/Tonne",{"$f":"VLOOKUP(J1425,'Codes tarifs éco-part'!$C$3:$E$466,3,FALSE)","v":"484"}]
["REP PMCB",2,"49455450000","-","Quincaillerie du bâtiment","Quincallerie et accessoire divers toute catégorie","PE ou PP ou mélange PP/PE >90%","Eléments de toutes dimensions et poids","€ / Tonne",9,"9 €/Tonne",{"$f":"VLOOKUP(J1426,'Codes tarifs éco-part'!$C$3:$E$466,3,FALSE)","v":"484"}]
["REP PMCB",2,"49455460000","-","Quincaillerie du bâtiment","Quincallerie et accessoire divers toute catégorie","ABS >90%","Eléments de toutes dimensions et poids","€ / Tonne",9,"9 €/Tonne",{"$f":"VLOOKUP(J1427,'Codes tarifs éco-part'!$C$3:$E$466,3,FALSE)","v":"484"}]
["REP PMCB",2,"49455470000","-","Quincaillerie du bâtiment","Quincallerie et accessoire divers toute catégorie","Polystyrène >90%","Eléments de toutes dimensions et poids","€ / Tonne",9,"9 €/Tonne",{"$f":"VLOOKUP(J1428,'Codes tarifs éco-part'!$C$3:$E$466,3,FALSE)","v":"484"}]
["REP PMCB",2,"49455480000","-","Quincaillerie du bâtiment","Quincallerie et accessoire divers toute catégorie","PVC >90%","Eléments de toutes dimensions et poids","€ / Tonne",9,"9 €/Tonne",{"$f":"VLOOKUP(J1429,'Codes tarifs éco-part'!$C$3:$E$466,3,FALSE)","v":"484"}]
["REP PMCB",2,"49455490000","-","Quincaillerie du bâtiment","Quincallerie et accessoire divers toute catégorie","Caoutchouc synthétique >90%","Eléments de toutes dimensions et poids","€ / Tonne",9,"9 €/Tonne",{"$f":"VLOOKUP(J1430,'Codes tarifs éco-part'!$C$3:$E$466,3,FALSE)","v":"484"}]
["REP PMCB",2,"49455530000","-","Quincaillerie du bâtiment","Quincallerie et accessoire divers toute catégorie","Massif et assimilés >90%","Eléments de toutes dimensions et poids","€ / Tonne",8,"8 €/Tonne",{"$f":"VLOOKUP(J1431,'Codes tarifs éco-part'!$C$3:$E$466,3,FALSE)","v":"483"}]
["REP PMCB",2,"49455550000","-","Quincaillerie du bâtiment","Quincallerie et accessoire divers toute catégorie","Matériaux bio sourcés ou textiles non synthétiques >90%","Eléments de toutes dimensions et poids","€ / Tonne",4,"4 €/Tonne",{"$f":"VLOOKUP(J1432,'Codes tarifs éco-part'!$C$3:$E$466,3,FALSE)","v":"274"}]
["REP PMCB",2,"49455610000","-","Quincaillerie du bâtiment","Quincallerie et accessoire divers toute catégorie","Panneaux de particules ou OSB >90%","Eléments de toutes dimensions et poids","€ / Tonne",8,"8 €/Tonne",{"$f":"VLOOKUP(J1433,'Codes tarifs éco-part'!$C$3:$E$466,3,FALSE)","v":"483"}]
["REP PMCB",2,"49455620000","-","Quincaillerie du bâtiment","Quincallerie et accessoire divers toute catégorie","Dérivés de bois >90%","Eléments de toutes dimensions et poids","€ / Tonne",8,"8 €/Tonne",{"$f":"VLOOKUP(J1434,'Codes tarifs éco-part'!$C$3:$E$466,3,FALSE)","v":"483"}]
["REP PMCB",2,"49455640000","-","Quincaillerie du bâtiment","Quincallerie et accessoire divers toute catégorie","Caoutchouc naturel >50%","Eléments de toutes dimensions et poids","€ / Tonne",9,"9 €/Tonne",{"$f":"VLOOKUP(J1435,'Codes tarifs éco-part'!$C$3:$E$466,3,FALSE)","v":"484"}]
["REP PMCB",2,"49455670000","-","Quincaillerie du bâtiment","Quincallerie et accessoire divers toute catégorie","Assemblage matériaux ou fibres synthétiques >50% avec d'autres matériaux","Eléments de toutes dimensions et poids","€ / Tonne",30,"30 €/Tonne",{"$f":"VLOOKUP(J1436,'Codes tarifs éco-part'!$C$3:$E$466,3,FALSE)","v":"153"}]
["REP PMCB",2,"49455700000","-","Quincaillerie du bâtiment","Quincallerie et accessoire divers toute catégorie","Assemblage verre à plus de 50% avec métal","Eléments de toutes dimensions et poids","€ / Tonne",9,"9 €/Tonne",{"$f":"VLOOKUP(J1437,'Codes tarifs éco-part'!$C$3:$E$466,3,FALSE)","v":"484"}]
["REP PMCB",2,"49455710000","-","Quincaillerie du bâtiment","Quincallerie et accessoire divers toute catégorie","Assemblage verre à plus de 50% avec Inerte","Eléments de toutes dimensions et poids","€ / Tonne",9,"9 €/Tonne",{"$f":"VLOOKUP(J1438,'Codes tarifs éco-part'!$C$3:$E$466,3,FALSE)","v":"484"}]
["REP PMCB",2,"49455720000","-","Quincaillerie du bâtiment","Quincallerie et accessoire divers toute catégorie","Assemblage verre à plus de 50% avec bois ou dérivés de bois","Eléments de toutes dimensions et poids","€ / Tonne",9,"9 €/Tonne",{"$f":"VLOOKUP(J1439,'Codes tarifs éco-part'!$C$3:$E$466,3,FALSE)","v":"484"}]
["REP PMCB",2,"49455730000","-","Quincaillerie du bâtiment","Quincallerie et accessoire divers toute catégorie","Assemblage verre à plus de 50% avec plastique","Eléments de toutes dimensions et poids","€ / Tonne",9,"9 €/Tonne",{"$f":"VLOOKUP(J1440,'Codes tarifs éco-part'!$C$3:$E$466,3,FALSE)","v":"484"}]
["REP PMCB",2,"49455820000","-","Quincaillerie du bâtiment","Quincallerie et accessoire divers toute catégorie","Assemblage de 3 matériaux ou plus sans un matériau à plus de 50%","Eléments de toutes dimensions et poids","€ / Tonne",30,"30 €/Tonne",{"$f":"VLOOKUP(J1441,'Codes tarifs éco-part'!$C$3:$E$466,3,FALSE)","v":"153"}]
["REP PMCB",2,"49455821090","-","Quincaillerie du bâtiment","Quincallerie et accessoire divers toute catégorie","Assemblage de 3 matériaux ou plus sans un matériau à plus de 50%","Par lot ou par unité < 300 g ","€ / Unité",0.01,"0,01 €/Unité",{"$f":"VLOOKUP(J1442,'Codes tarifs éco-part'!$C$3:$E$466,3,FALSE)","v":"260"}]
["REP PMCB",2,"50465000000","-","Peinture, lasures et vernis, droguerie, colles et traitement, adjuvants","Sous-couches, préparation des sols et étanchéité","Non connu ou non spécifié par l'entreprise","Eléments de toutes dimensions et poids","€ / Tonne",55,"55 €/Tonne",{"$f":"VLOOKUP(J1443,'Codes tarifs éco-part'!$C$3:$E$466,3,FALSE)","v":"490"}]
["REP PMCB",2,"50465120000","-","Peinture, lasures et vernis, droguerie, colles et traitement, adjuvants","Sous-couches, préparation des sols et étanchéité","Autres","Eléments de toutes dimensions et poids","€ / Tonne",30,"30 €/Tonne",{"$f":"VLOOKUP(J1444,'Codes tarifs éco-part'!$C$3:$E$466,3,FALSE)","v":"153"}]
["REP PMCB",2,"50465830000","-","Peinture, lasures et vernis, droguerie, colles et traitement, adjuvants","Sous-couches, préparation des sols et étanchéité","Produits liquides, y.c. dangereux >90%","Eléments de toutes dimensions et poids","€ / Tonne",55,"55 €/Tonne",{"$f":"VLOOKUP(J1445,'Codes tarifs éco-part'!$C$3:$E$466,3,FALSE)","v":"490"}]
["REP PMCB",2,"50467000000","-","Peinture, lasures et vernis, droguerie, colles et traitement, adjuvants","Traitements des murs et toitures","Non connu ou non spécifié par l'entreprise","Eléments de toutes dimensions et poids","€ / Tonne",12,"12 €/Tonne",{"$f":"VLOOKUP(J1446,'Codes tarifs éco-part'!$C$3:$E$466,3,FALSE)","v":"485"}]
["REP PMCB",2,"50467120000","-","Peinture, lasures et vernis, droguerie, colles et traitement, adjuvants","Traitements des murs et toitures","Autres","Eléments de toutes dimensions et poids","€ / Tonne",30,"30 €/Tonne",{"$f":"VLOOKUP(J1447,'Codes tarifs éco-part'!$C$3:$E$466,3,FALSE)","v":"153"}]
["REP PMCB",2,"50467830000","-","Peinture, lasures et vernis, droguerie, colles et traitement, adjuvants","Traitements des murs et toitures","Produits liquides, y.c. dangereux >90%","Eléments de toutes dimensions et poids","€ / Tonne",12,"12 €/Tonne",{"$f":"VLOOKUP(J1448,'Codes tarifs éco-part'!$C$3:$E$466,3,FALSE)","v":"485"}]
["REP PMCB",2,"50468000000","-","Peinture, lasures et vernis, droguerie, colles et traitement, adjuvants","Peintures intérieures","Non connu ou non spécifié par l'entreprise","Eléments de toutes dimensions et poids","€ / Tonne",71,"71 €/Tonne",{"$f":"VLOOKUP(J1449,'Codes tarifs éco-part'!$C$3:$E$466,3,FALSE)","v":"492"}]
["REP PMCB",2,"50468120000","-","Peinture, lasures et vernis, droguerie, colles et traitement, adjuvants","Peintures intérieures","Autres","Eléments de toutes dimensions et poids","€ / Tonne",30,"30 €/Tonne",{"$f":"VLOOKUP(J1450,'Codes tarifs éco-part'!$C$3:$E$466,3,FALSE)","v":"153"}]
["REP PMCB",2,"50468830000","-","Peinture, lasures et vernis, droguerie, colles et traitement, adjuvants","Peintures intérieures","Produits liquides, y.c. dangereux >90%","Eléments de toutes dimensions et poids","€ / Tonne",71,"71 €/Tonne",{"$f":"VLOOKUP(J1451,'Codes tarifs éco-part'!$C$3:$E$466,3,FALSE)","v":"492"}]
["REP PMCB",2,"50469000000","-","Peinture, lasures et vernis, droguerie, colles et traitement, adjuvants","Colles et adhésifs","Non connu ou non spécifié par l'entreprise","Eléments de toutes dimensions et poids","€ / Tonne",29,"29 €/Tonne",{"$f":"VLOOKUP(J1452,'Codes tarifs éco-part'!$C$3:$E$466,3,FALSE)","v":"488"}]
["REP PMCB",2,"50469120000","-","Peinture, lasures et vernis, droguerie, colles et traitement, adjuvants","Colles et adhésifs","Autres","Eléments de toutes dimensions et poids","€ / Tonne",30,"30 €/Tonne",{"$f":"VLOOKUP(J1453,'Codes tarifs éco-part'!$C$3:$E$466,3,FALSE)","v":"153"}]
["REP PMCB",2,"50469830000","-","Peinture, lasures et vernis, droguerie, colles et traitement, adjuvants","Colles et adhésifs","Produits liquides, y.c. dangereux >90%","Eléments de toutes dimensions et poids","€ / Tonne",29,"29 €/Tonne",{"$f":"VLOOKUP(J1454,'Codes tarifs éco-part'!$C$3:$E$466,3,FALSE)","v":"488"}]
["REP PMCB",2,"50470000000","-","Peinture, lasures et vernis, droguerie, colles et traitement, adjuvants","Mastic, joints et mousses polyuréthanes","Non connu ou non spécifié par l'entreprise","Eléments de toutes dimensions et poids","€ / Tonne",13,"13 €/Tonne",{"$f":"VLOOKUP(J1455,'Codes tarifs éco-part'!$C$3:$E$466,3,FALSE)","v":"486"}]
["REP PMCB",2,"50470120000","-","Peinture, lasures et vernis, droguerie, colles et traitement, adjuvants","Mastic, joints et mousses polyuréthanes","Autres","Eléments de toutes dimensions et poids","€ / Tonne",30,"30 €/Tonne",{"$f":"VLOOKUP(J1456,'Codes tarifs éco-part'!$C$3:$E$466,3,FALSE)","v":"153"}]
["REP PMCB",2,"50470830000","-","Peinture, lasures et vernis, droguerie, colles et traitement, adjuvants","Mastic, joints et mousses polyuréthanes","Produits liquides, y.c. dangereux >90%","Eléments de toutes dimensions et poids","€ / Tonne",12,"12 €/Tonne",{"$f":"VLOOKUP(J1457,'Codes tarifs éco-part'!$C$3:$E$466,3,FALSE)","v":"485"}]
["REP PMCB",2,"50471000000","-","Peinture, lasures et vernis, droguerie, colles et traitement, adjuvants","Adjuvants","Non connu ou non spécifié par l'entreprise","Eléments de toutes dimensions et poids","€ / Tonne",29,"29 €/Tonne",{"$f":"VLOOKUP(J1458,'Codes tarifs éco-part'!$C$3:$E$466,3,FALSE)","v":"488"}]
["REP PMCB",2,"50471120000","-","Peinture, lasures et vernis, droguerie, colles et traitement, adjuvants","Adjuvants","Autres","Eléments de toutes dimensions et poids","€ / Tonne",30,"30 €/Tonne",{"$f":"VLOOKUP(J1459,'Codes tarifs éco-part'!$C$3:$E$466,3,FALSE)","v":"153"}]
["REP PMCB",2,"50471830000","-","Peinture, lasures et vernis, droguerie, colles et traitement, adjuvants","Adjuvants","Produits liquides, y.c. dangereux >90%","Eléments de toutes dimensions et poids","€ / Tonne",29,"29 €/Tonne",{"$f":"VLOOKUP(J1460,'Codes tarifs éco-part'!$C$3:$E$466,3,FALSE)","v":"488"}]
["REP PMCB",1,"50471930000","12 09 20 00 | 12 10 10 00  | 12 13 10 00","Peinture, lasures et vernis, droguerie, colles et traitement, adjuvants","Adjuvants","Adjuvants >90%","Eléments de toutes dimensions et poids","€ / Tonne",3.07,"3,07 €/Tonne",{"$f":"VLOOKUP(J1461,'Codes tarifs éco-part'!$C$3:$E$466,3,FALSE)","v":"475"}]
["REP PMCB",2,"50472000000","-","Peinture, lasures et vernis, droguerie, colles et traitement, adjuvants","Traitements bois","Non connu ou non spécifié par l'entreprise","Eléments de toutes dimensions et poids","€ / Tonne",76,"76 €/Tonne",{"$f":"VLOOKUP(J1462,'Codes tarifs éco-part'!$C$3:$E$466,3,FALSE)","v":"493"}]
["REP PMCB",2,"50472120000","-","Peinture, lasures et vernis, droguerie, colles et traitement, adjuvants","Traitements bois","Autres","Eléments de toutes dimensions et poids","€ / Tonne",30,"30 €/Tonne",{"$f":"VLOOKUP(J1463,'Codes tarifs éco-part'!$C$3:$E$466,3,FALSE)","v":"153"}]
["REP PMCB",2,"50472830000","-","Peinture, lasures et vernis, droguerie, colles et traitement, adjuvants","Traitements bois","Produits liquides, y.c. dangereux >90%","Eléments de toutes dimensions et poids","€ / Tonne",76,"76 €/Tonne",{"$f":"VLOOKUP(J1464,'Codes tarifs éco-part'!$C$3:$E$466,3,FALSE)","v":"493"}]
["REP PMCB",2,"50473000000","-","Peinture, lasures et vernis, droguerie, colles et traitement, adjuvants","Vernis et vitrificateurs","Non connu ou non spécifié par l'entreprise","Eléments de toutes dimensions et poids","€ / Tonne",70,"70 €/Tonne",{"$f":"VLOOKUP(J1465,'Codes tarifs éco-part'!$C$3:$E$466,3,FALSE)","v":"491"}]
["REP PMCB",2,"50473120000","-","Peinture, lasures et vernis, droguerie, colles et traitement, adjuvants","Vernis et vitrificateurs","Autres","Eléments de toutes dimensions et poids","€ / Tonne",30,"30 €/Tonne",{"$f":"VLOOKUP(J1466,'Codes tarifs éco-part'!$C$3:$E$466,3,FALSE)","v":"153"}]
["REP PMCB",2,"50473830000","-","Peinture, lasures et vernis, droguerie, colles et traitement, adjuvants","Vernis et vitrificateurs","Produits liquides, y.c. dangereux >90%","Eléments de toutes dimensions et poids","€ / Tonne",70,"70 €/Tonne",{"$f":"VLOOKUP(J1467,'Codes tarifs éco-part'!$C$3:$E$466,3,FALSE)","v":"491"}]
["REP PMCB",2,"50474000000","-","Peinture, lasures et vernis, droguerie, colles et traitement, adjuvants","Absorbeurs d'humidité","Non connu ou non spécifié par l'entreprise","Eléments de toutes dimensions et poids","€ / Tonne",60,"60 €/Tonne",{"$f":"VLOOKUP(J1468,'Codes tarifs éco-part'!$C$3:$E$466,3,FALSE)","v":"180"}]
["REP PMCB",2,"50474120000","-","Peinture, lasures et vernis, droguerie, colles et traitement, adjuvants","Absorbeurs d'humidité","Autres","Eléments de toutes dimensions et poids","€ / Tonne",30,"30 €/Tonne",{"$f":"VLOOKUP(J1469,'Codes tarifs éco-part'!$C$3:$E$466,3,FALSE)","v":"153"}]
["REP PMCB",2,"50474830000","-","Peinture, lasures et vernis, droguerie, colles et traitement, adjuvants","Absorbeurs d'humidité","Produits liquides, y.c. dangereux >90%","Eléments de toutes dimensions et poids","€ / Tonne",60,"60 €/Tonne",{"$f":"VLOOKUP(J1470,'Codes tarifs éco-part'!$C$3:$E$466,3,FALSE)","v":"180"}]
["REP PMCB",2,"50475000000","-","Peinture, lasures et vernis, droguerie, colles et traitement, adjuvants","Décapants","Non connu ou non spécifié par l'entreprise","Eléments de toutes dimensions et poids","€ / Tonne",86,"86 €/Tonne",{"$f":"VLOOKUP(J1471,'Codes tarifs éco-part'!$C$3:$E$466,3,FALSE)","v":"494"}]
["REP PMCB",2,"50475120000","-","Peinture, lasures et vernis, droguerie, colles et traitement, adjuvants","Décapants","Autres","Eléments de toutes dimensions et poids","€ / Tonne",30,"30 €/Tonne",{"$f":"VLOOKUP(J1472,'Codes tarifs éco-part'!$C$3:$E$466,3,FALSE)","v":"153"}]
["REP PMCB",2,"50475830000","-","Peinture, lasures et vernis, droguerie, colles et traitement, adjuvants","Décapants","Produits liquides, y.c. dangereux >90%","Eléments de toutes dimensions et poids","€ / Tonne",86,"86 €/Tonne",{"$f":"VLOOKUP(J1473,'Codes tarifs éco-part'!$C$3:$E$466,3,FALSE)","v":"494"}]
["REP PMCB",2,"50476000000","-","Peinture, lasures et vernis, droguerie, colles et traitement, adjuvants","Diluants, solvants","Non connu ou non spécifié par l'entreprise","Eléments de toutes dimensions et poids","€ / Tonne",76,"76 €/Tonne",{"$f":"VLOOKUP(J1474,'Codes tarifs éco-part'!$C$3:$E$466,3,FALSE)","v":"493"}]
["REP PMCB",2,"50476120000","-","Peinture, lasures et vernis, droguerie, colles et traitement, adjuvants","Diluants, solvants","Autres","Eléments de toutes dimensions et poids","€ / Tonne",30,"30 €/Tonne",{"$f":"VLOOKUP(J1475,'Codes tarifs éco-part'!$C$3:$E$466,3,FALSE)","v":"153"}]
["REP PMCB",2,"50476830000","-","Peinture, lasures et vernis, droguerie, colles et traitement, adjuvants","Diluants, solvants","Produits liquides, y.c. dangereux >90%","Eléments de toutes dimensions et poids","€ / Tonne",9,"9 €/Tonne",{"$f":"VLOOKUP(J1476,'Codes tarifs éco-part'!$C$3:$E$466,3,FALSE)","v":"484"}]
["REP PMCB",2,"50479000000","-","Peinture, lasures et vernis, droguerie, colles et traitement, adjuvants","Divers produits de droguerie du bâtiment","Non connu ou non spécifié par l'entreprise","Eléments de toutes dimensions et poids","€ / Tonne",50,"50 €/Tonne",{"$f":"VLOOKUP(J1477,'Codes tarifs éco-part'!$C$3:$E$466,3,FALSE)","v":"173"}]
["REP PMCB",2,"50479120000","-","Peinture, lasures et vernis, droguerie, colles et traitement, adjuvants","Divers produits de droguerie du bâtiment","Autres","Eléments de toutes dimensions et poids","€ / Tonne",30,"30 €/Tonne",{"$f":"VLOOKUP(J1478,'Codes tarifs éco-part'!$C$3:$E$466,3,FALSE)","v":"153"}]
["REP PMCB",2,"50479830000","-","Peinture, lasures et vernis, droguerie, colles et traitement, adjuvants","Divers produits de droguerie du bâtiment","Produits liquides, y.c. dangereux >90%","Eléments de toutes dimensions et poids","€ / Tonne",50,"50 €/Tonne",{"$f":"VLOOKUP(J1479,'Codes tarifs éco-part'!$C$3:$E$466,3,FALSE)","v":"173"}]
["REP PMCB",2,"50480000000","-","Peinture, lasures et vernis, droguerie, colles et traitement, adjuvants","Enduits pate","Non connu ou non spécifié par l'entreprise","Eléments de toutes dimensions et poids","€ / Tonne",5,"5 €/Tonne",{"$f":"VLOOKUP(J1480,'Codes tarifs éco-part'!$C$3:$E$466,3,FALSE)","v":"042"}]
["REP PMCB",2,"50480120000","-","Peinture, lasures et vernis, droguerie, colles et traitement, adjuvants","Enduits pate","Autres","Eléments de toutes dimensions et poids","€ / Tonne",30,"30 €/Tonne",{"$f":"VLOOKUP(J1481,'Codes tarifs éco-part'!$C$3:$E$466,3,FALSE)","v":"153"}]
["REP PMCB",2,"50480830000","-","Peinture, lasures et vernis, droguerie, colles et traitement, adjuvants","Enduits pate","Produits liquides, y.c. dangereux >90%","Eléments de toutes dimensions et poids","€ / Tonne",5,"5 €/Tonne",{"$f":"VLOOKUP(J1482,'Codes tarifs éco-part'!$C$3:$E$466,3,FALSE)","v":"042"}]
["REP PMCB",2,"50481000000","-","Peinture, lasures et vernis, droguerie, colles et traitement, adjuvants","Enduits poudre","Non connu ou non spécifié par l'entreprise","Eléments de toutes dimensions et poids","€ / Tonne",0.2,"0,2 €/Tonne",{"$f":"VLOOKUP(J1483,'Codes tarifs éco-part'!$C$3:$E$466,3,FALSE)","v":"101"}]
["REP PMCB",2,"50481120000","-","Peinture, lasures et vernis, droguerie, colles et traitement, adjuvants","Enduits poudre","Autres","Eléments de toutes dimensions et poids","€ / Tonne",30,"30 €/Tonne",{"$f":"VLOOKUP(J1484,'Codes tarifs éco-part'!$C$3:$E$466,3,FALSE)","v":"153"}]
["REP PMCB",2,"50481830000","-","Peinture, lasures et vernis, droguerie, colles et traitement, adjuvants","Enduits poudre","Produits liquides, y.c. dangereux >90%","Eléments de toutes dimensions et poids","€ / Tonne",0.2,"0,2 €/Tonne",{"$f":"VLOOKUP(J1485,'Codes tarifs éco-part'!$C$3:$E$466,3,FALSE)","v":"101"}]
["REP PMCB",2,"50482000000","-","Peinture, lasures et vernis, droguerie, colles et traitement, adjuvants","Peintures extérieures, yc enduits et peintures de façade","Non connu ou non spécifié par l'entreprise","Eléments de toutes dimensions et poids","€ / Tonne",71,"71 €/Tonne",{"$f":"VLOOKUP(J1486,'Codes tarifs éco-part'!$C$3:$E$466,3,FALSE)","v":"492"}]
["REP PMCB",2,"50482120000","-","Peinture, lasures et vernis, droguerie, colles et traitement, adjuvants","Peintures extérieures, yc enduits et peintures de façade","Autres","Eléments de toutes dimensions et poids","€ / Tonne",30,"30 €/Tonne",{"$f":"VLOOKUP(J1487,'Codes tarifs éco-part'!$C$3:$E$466,3,FALSE)","v":"153"}]
["REP PMCB",2,"50482830000","-","Peinture, lasures et vernis, droguerie, colles et traitement, adjuvants","Peintures extérieures, yc enduits et peintures de façade","Produits liquides, y.c. dangereux >90%","Eléments de toutes dimensions et poids","€ / Tonne",71,"71 €/Tonne",{"$f":"VLOOKUP(J1488,'Codes tarifs éco-part'!$C$3:$E$466,3,FALSE)","v":"492"}]
["REP PMCB",2,"50483000000","-","Peinture, lasures et vernis, droguerie, colles et traitement, adjuvants","Résines PU et expansive (aérosol)","Non connu ou non spécifié par l'entreprise","Eléments de toutes dimensions et poids","€ / Tonne",30,"30 €/Tonne",{"$f":"VLOOKUP(J1489,'Codes tarifs éco-part'!$C$3:$E$466,3,FALSE)","v":"153"}]
["REP PMCB",2,"50483120000","-","Peinture, lasures et vernis, droguerie, colles et traitement, adjuvants","Résines PU et expansive (aérosol)","Autres","Eléments de toutes dimensions et poids","€ / Tonne",30,"30 €/Tonne",{"$f":"VLOOKUP(J1490,'Codes tarifs éco-part'!$C$3:$E$466,3,FALSE)","v":"153"}]
["REP PMCB",2,"50483830000","-","Peinture, lasures et vernis, droguerie, colles et traitement, adjuvants","Résines PU et expansive (aérosol)","Produits liquides, y.c. dangereux >90%","Eléments de toutes dimensions et poids","€ / Tonne",30,"30 €/Tonne",{"$f":"VLOOKUP(J1491,'Codes tarifs éco-part'!$C$3:$E$466,3,FALSE)","v":"153"}]
["REP PMCB",2,"50484000000","-","Peinture, lasures et vernis, droguerie, colles et traitement, adjuvants","Traitement anti-termite","Non connu ou non spécifié par l'entreprise","Eléments de toutes dimensions et poids","€ / Tonne",70,"70 €/Tonne",{"$f":"VLOOKUP(J1492,'Codes tarifs éco-part'!$C$3:$E$466,3,FALSE)","v":"491"}]
["REP PMCB",2,"50484120000","-","Peinture, lasures et vernis, droguerie, colles et traitement, adjuvants","Traitement anti-termite","Autres","Eléments de toutes dimensions et poids","€ / Tonne",30,"30 €/Tonne",{"$f":"VLOOKUP(J1493,'Codes tarifs éco-part'!$C$3:$E$466,3,FALSE)","v":"153"}]
["REP PMCB",2,"50484830000","-","Peinture, lasures et vernis, droguerie, colles et traitement, adjuvants","Traitement anti-termite","Produits liquides, y.c. dangereux >90%","Eléments de toutes dimensions et poids","€ / Tonne",9,"9 €/Tonne",{"$f":"VLOOKUP(J1494,'Codes tarifs éco-part'!$C$3:$E$466,3,FALSE)","v":"484"}]
["REP PMCB",2,"50485000000","-","Peinture, lasures et vernis, droguerie, colles et traitement, adjuvants","Traitement des matériaux  (aérosol)","Non connu ou non spécifié par l'entreprise","Eléments de toutes dimensions et poids","€ / Tonne",41,"41 €/Tonne",{"$f":"VLOOKUP(J1495,'Codes tarifs éco-part'!$C$3:$E$466,3,FALSE)","v":"489"}]
["REP PMCB",2,"50485120000","-","Peinture, lasures et vernis, droguerie, colles et traitement, adjuvants","Traitement des matériaux  (aérosol)","Autres","Eléments de toutes dimensions et poids","€ / Tonne",30,"30 €/Tonne",{"$f":"VLOOKUP(J1496,'Codes tarifs éco-part'!$C$3:$E$466,3,FALSE)","v":"153"}]
["REP PMCB",2,"50485830000","-","Peinture, lasures et vernis, droguerie, colles et traitement, adjuvants","Traitement des matériaux  (aérosol)","Produits liquides, y.c. dangereux >90%","Eléments de toutes dimensions et poids","€ / Tonne",41,"41 €/Tonne",{"$f":"VLOOKUP(J1497,'Codes tarifs éco-part'!$C$3:$E$466,3,FALSE)","v":"489"}]
["REP PMCB",2,"50486000000","-","Peinture, lasures et vernis, droguerie, colles et traitement, adjuvants","Traitement des matériaux hors bois ","Non connu ou non spécifié par l'entreprise","Eléments de toutes dimensions et poids","€ / Tonne",9,"9 €/Tonne",{"$f":"VLOOKUP(J1498,'Codes tarifs éco-part'!$C$3:$E$466,3,FALSE)","v":"484"}]
["REP PMCB",2,"50486120000","-","Peinture, lasures et vernis, droguerie, colles et traitement, adjuvants","Traitement des matériaux hors bois","Autres","Eléments de toutes dimensions et poids","€ / Tonne",30,"30 €/Tonne",{"$f":"VLOOKUP(J1499,'Codes tarifs éco-part'!$C$3:$E$466,3,FALSE)","v":"153"}]
["REP PMCB",2,"50486830000","-","Peinture, lasures et vernis, droguerie, colles et traitement, adjuvants","Traitement des matériaux hors bois ","Produits liquides, y.c. dangereux >90%","Eléments de toutes dimensions et poids","€ / Tonne",9,"9 €/Tonne",{"$f":"VLOOKUP(J1500,'Codes tarifs éco-part'!$C$3:$E$466,3,FALSE)","v":"484"}]
["REP PMCB",2,"50487000000","-","Peinture, lasures et vernis, droguerie, colles et traitement, adjuvants","Vernis et vitrificateurs et dérivés (aérosols)","Non connu ou non spécifié par l'entreprise","Eléments de toutes dimensions et poids","€ / Tonne",41,"41 €/Tonne",{"$f":"VLOOKUP(J1501,'Codes tarifs éco-part'!$C$3:$E$466,3,FALSE)","v":"489"}]
["REP PMCB",2,"50487120000","-","Peinture, lasures et vernis, droguerie, colles et traitement, adjuvants","Vernis et vitrificateurs et dérivés (aérosols)","Autres","Eléments de toutes dimensions et poids","€ / Tonne",30,"30 €/Tonne",{"$f":"VLOOKUP(J1502,'Codes tarifs éco-part'!$C$3:$E$466,3,FALSE)","v":"153"}]
["REP PMCB",2,"50487830000","-","Peinture, lasures et vernis, droguerie, colles et traitement, adjuvants","Vernis et vitrificateurs et dérivés (aérosols)","Produits liquides, y.c. dangereux >90%","Eléments de toutes dimensions et poids","€ / Tonne",41,"41 €/Tonne",{"$f":"VLOOKUP(J1503,'Codes tarifs éco-part'!$C$3:$E$466,3,FALSE)","v":"489"}]
["REP PMCB",2,"51495000000","-","Equipements sanitaires pour salle de bain, cuisine et WC","Eviers, vasques et lavabo","Non connu ou non spécifié par l'entreprise","Eléments de toutes dimensions et poids","€ / Tonne",30,"30 €/Tonne",{"$f":"VLOOKUP(J1504,'Codes tarifs éco-part'!$C$3:$E$466,3,FALSE)","v":"153"}]
["REP PMCB",2,"51495010000","-","Equipements sanitaires pour salle de bain, cuisine et WC","Eviers, vasques et lavabo","Assemblage de bois, dérivés de bois à plus de 50% avec d'autres matériaux ou bois composite (hors verre)","Eléments de toutes dimensions et poids","€ / Tonne",9,"9 €/Tonne",{"$f":"VLOOKUP(J1505,'Codes tarifs éco-part'!$C$3:$E$466,3,FALSE)","v":"484"}]
["REP PMCB",2,"51495020000","-","Equipements sanitaires pour salle de bain, cuisine et WC","Eviers, vasques et lavabo","Assemblage avec métal >50% et autres matériaux","Eléments de toutes dimensions et poids","€ / Tonne",3,"3 €/Tonne",{"$f":"VLOOKUP(J1506,'Codes tarifs éco-part'!$C$3:$E$466,3,FALSE)","v":"474"}]
["REP PMCB",2,"51495050000","-","Equipements sanitaires pour salle de bain, cuisine et WC","Eviers, vasques et lavabo","Plastiques ou autres matériaux synthétiques >50%","Eléments de toutes dimensions et poids","€ / Tonne",30,"30 €/Tonne",{"$f":"VLOOKUP(J1507,'Codes tarifs éco-part'!$C$3:$E$466,3,FALSE)","v":"153"}]
["REP PMCB",2,"51495120000","-","Equipements sanitaires pour salle de bain, cuisine et WC","Eviers, vasques et lavabo","Autres","Eléments de toutes dimensions et poids","€ / Tonne",30,"30 €/Tonne",{"$f":"VLOOKUP(J1508,'Codes tarifs éco-part'!$C$3:$E$466,3,FALSE)","v":"153"}]
["REP PMCB",2,"51495280000","-","Equipements sanitaires pour salle de bain, cuisine et WC","Eviers, vasques et lavabo","Métal >90%","Eléments de toutes dimensions et poids","€ / Tonne",0.5,"0,5 €/Tonne",{"$f":"VLOOKUP(J1509,'Codes tarifs éco-part'!$C$3:$E$466,3,FALSE)","v":"053"}]
["REP PMCB",2,"51495281030","-","Equipements sanitaires pour salle de bain, cuisine et WC","Eviers, vasques et lavabo","Métal >90%","< 1m","€ / Unité",0.01,"0,01 €/Unité",{"$f":"VLOOKUP(J1510,'Codes tarifs éco-part'!$C$3:$E$466,3,FALSE)","v":"260"}]
["REP PMCB",2,"51495281040","-","Equipements sanitaires pour salle de bain, cuisine et WC","Eviers, vasques et lavabo","Métal >90%",">= 1m","€ / Unité",0.02,"0,02 €/Unité",{"$f":"VLOOKUP(J1511,'Codes tarifs éco-part'!$C$3:$E$466,3,FALSE)","v":"047"}]
["REP PMCB",2,"51495410000","-","Equipements sanitaires pour salle de bain, cuisine et WC","Eviers, vasques et lavabo","Plastiques (mono résine) >90%","Eléments de toutes dimensions et poids","€ / Tonne",9,"9 €/Tonne",{"$f":"VLOOKUP(J1512,'Codes tarifs éco-part'!$C$3:$E$466,3,FALSE)","v":"484"}]
["REP PMCB",2,"51495411030","-","Equipements sanitaires pour salle de bain, cuisine et WC","Eviers, vasques et lavabo","Plastiques (mono résine) >90%","< 1m","€ / Unité",0.105,"0,105 €/Unité",{"$f":"VLOOKUP(J1513,'Codes tarifs éco-part'!$C$3:$E$466,3,FALSE)","v":"443"}]
["REP PMCB",2,"51495411040","-","Equipements sanitaires pour salle de bain, cuisine et WC","Eviers, vasques et lavabo","Plastiques (mono résine) >90%",">= 1m","€ / Unité",0.18,"0,18 €/Unité",{"$f":"VLOOKUP(J1514,'Codes tarifs éco-part'!$C$3:$E$466,3,FALSE)","v":"100"}]
["REP PMCB",2,"51495420000","-","Equipements sanitaires pour salle de bain, cuisine et WC","Eviers, vasques et lavabo","Polyterephtalate d'Ethylène (PET) >90%","Eléments de toutes dimensions et poids","€ / Tonne",9,"9 €/Tonne",{"$f":"VLOOKUP(J1515,'Codes tarifs éco-part'!$C$3:$E$466,3,FALSE)","v":"484"}]
["REP PMCB",2,"51495421030","-","Equipements sanitaires pour salle de bain, cuisine et WC","Eviers, vasques et lavabo","Polyterephtalate d'Ethylène (PET) >90%","< 1m","€ / Unité",0.105,"0,105 €/Unité",{"$f":"VLOOKUP(J1516,'Codes tarifs éco-part'!$C$3:$E$466,3,FALSE)","v":"443"}]
["REP PMCB",2,"51495421040","-","Equipements sanitaires pour salle de bain, cuisine et WC","Eviers, vasques et lavabo","Polyterephtalate d'Ethylène (PET) >90%",">= 1m","€ / Unité",0.18,"0,18 €/Unité",{"$f":"VLOOKUP(J1517,'Codes tarifs éco-part'!$C$3:$E$466,3,FALSE)","v":"100"}]
["REP PMCB",2,"51495450000","-","Equipements sanitaires pour salle de bain, cuisine et WC","Eviers, vasques et lavabo","PE ou PP ou mélange PP/PE >90%","Eléments de toutes dimensions et poids","€ / Tonne",9,"9 €/Tonne",{"$f":"VLOOKUP(J1518,'Codes tarifs éco-part'!$C$3:$E$466,3,FALSE)","v":"484"}]
["REP PMCB",2,"51495451030","-","Equipements sanitaires pour salle de bain, cuisine et WC","Eviers, vasques et lavabo","PE ou PP ou mélange PP/PE >90%","< 1m","€ / Unité",0.105,"0,105 €/Unité",{"$f":"VLOOKUP(J1519,'Codes tarifs éco-part'!$C$3:$E$466,3,FALSE)","v":"443"}]
["REP PMCB",2,"51495451040","-","Equipements sanitaires pour salle de bain, cuisine et WC","Eviers, vasques et lavabo","PE ou PP ou mélange PP/PE >90%",">= 1m","€ / Unité",0.18,"0,18 €/Unité",{"$f":"VLOOKUP(J1520,'Codes tarifs éco-part'!$C$3:$E$466,3,FALSE)","v":"100"}]
["REP PMCB",2,"51495460000","-","Equipements sanitaires pour salle de bain, cuisine et WC","Eviers, vasques et lavabo","ABS >90%","Eléments de toutes dimensions et poids","€ / Tonne",9,"9 €/Tonne",{"$f":"VLOOKUP(J1521,'Codes tarifs éco-part'!$C$3:$E$466,3,FALSE)","v":"484"}]
["REP PMCB",2,"51495461030","-","Equipements sanitaires pour salle de bain, cuisine et WC","Eviers, vasques et lavabo","ABS >90%","< 1m","€ / Unité",0.105,"0,105 €/Unité",{"$f":"VLOOKUP(J1522,'Codes tarifs éco-part'!$C$3:$E$466,3,FALSE)","v":"443"}]
["REP PMCB",2,"51495461040","-","Equipements sanitaires pour salle de bain, cuisine et WC","Eviers, vasques et lavabo","ABS >90%",">= 1m","€ / Unité",0.18,"0,18 €/Unité",{"$f":"VLOOKUP(J1523,'Codes tarifs éco-part'!$C$3:$E$466,3,FALSE)","v":"100"}]
["REP PMCB",2,"51495470000","-","Equipements sanitaires pour salle de bain, cuisine et WC","Eviers, vasques et lavabo","Polystyrène >90%","Eléments de toutes dimensions et poids","€ / Tonne",9,"9 €/Tonne",{"$f":"VLOOKUP(J1524,'Codes tarifs éco-part'!$C$3:$E$466,3,FALSE)","v":"484"}]
["REP PMCB",2,"51495471030","-","Equipements sanitaires pour salle de bain, cuisine et WC","Eviers, vasques et lavabo","Polystyrène >90%","< 1m","€ / Unité",0.105,"0,105 €/Unité",{"$f":"VLOOKUP(J1525,'Codes tarifs éco-part'!$C$3:$E$466,3,FALSE)","v":"443"}]
["REP PMCB",2,"51495471040","-","Equipements sanitaires pour salle de bain, cuisine et WC","Eviers, vasques et lavabo","Polystyrène >90%",">= 1m","€ / Unité",0.18,"0,18 €/Unité",{"$f":"VLOOKUP(J1526,'Codes tarifs éco-part'!$C$3:$E$466,3,FALSE)","v":"100"}]
["REP PMCB",2,"51495480000","-","Equipements sanitaires pour salle de bain, cuisine et WC","Eviers, vasques et lavabo","PVC >90%","Eléments de toutes dimensions et poids","€ / Tonne",9,"9 €/Tonne",{"$f":"VLOOKUP(J1527,'Codes tarifs éco-part'!$C$3:$E$466,3,FALSE)","v":"484"}]
["REP PMCB",2,"51495481030","-","Equipements sanitaires pour salle de bain, cuisine et WC","Eviers, vasques et lavabo","PVC >90%","< 1m","€ / Unité",0.105,"0,105 €/Unité",{"$f":"VLOOKUP(J1528,'Codes tarifs éco-part'!$C$3:$E$466,3,FALSE)","v":"443"}]
["REP PMCB",2,"51495481040","-","Equipements sanitaires pour salle de bain, cuisine et WC","Eviers, vasques et lavabo","PVC >90%",">= 1m","€ / Unité",0.18,"0,18 €/Unité",{"$f":"VLOOKUP(J1529,'Codes tarifs éco-part'!$C$3:$E$466,3,FALSE)","v":"100"}]
["REP PMCB",2,"51495530000","-","Equipements sanitaires pour salle de bain, cuisine et WC","Eviers, vasques et lavabo","Massif et assimilés >90%","Eléments de toutes dimensions et poids","€ / Tonne",8,"8 €/Tonne",{"$f":"VLOOKUP(J1530,'Codes tarifs éco-part'!$C$3:$E$466,3,FALSE)","v":"483"}]
["REP PMCB",2,"51495550000","-","Equipements sanitaires pour salle de bain, cuisine et WC","Eviers, vasques et lavabo","Matériaux bio sourcés ou textiles non synthétiques >90%","Eléments de toutes dimensions et poids","€ / Tonne",4,"4 €/Tonne",{"$f":"VLOOKUP(J1531,'Codes tarifs éco-part'!$C$3:$E$466,3,FALSE)","v":"274"}]
["REP PMCB",2,"51495620000","-","Equipements sanitaires pour salle de bain, cuisine et WC","Eviers, vasques et lavabo","Dérivés de bois >90%","Eléments de toutes dimensions et poids","€ / Tonne",8,"8 €/Tonne",{"$f":"VLOOKUP(J1532,'Codes tarifs éco-part'!$C$3:$E$466,3,FALSE)","v":"483"}]
["REP PMCB",2,"51495621030","-","Equipements sanitaires pour salle de bain, cuisine et WC","Eviers, vasques et lavabo","Dérivés de bois >90%","< 1m","€ / Unité",0.02,"0,02 €/Unité",{"$f":"VLOOKUP(J1533,'Codes tarifs éco-part'!$C$3:$E$466,3,FALSE)","v":"047"}]
["REP PMCB",2,"51495621040","-","Equipements sanitaires pour salle de bain, cuisine et WC","Eviers, vasques et lavabo","Dérivés de bois >90%",">= 1m","€ / Unité",0.04,"0,04 €/Unité",{"$f":"VLOOKUP(J1534,'Codes tarifs éco-part'!$C$3:$E$466,3,FALSE)","v":"002"}]
["REP PMCB",2,"51495670000","-","Equipements sanitaires pour salle de bain, cuisine et WC","Eviers, vasques et lavabo","Assemblage matériaux ou fibres synthétiques >50% avec d'autres matériaux","Eléments de toutes dimensions et poids","€ / Tonne",30,"30 €/Tonne",{"$f":"VLOOKUP(J1535,'Codes tarifs éco-part'!$C$3:$E$466,3,FALSE)","v":"153"}]
["REP PMCB",2,"51495671030","-","Equipements sanitaires pour salle de bain, cuisine et WC","Eviers, vasques et lavabo","Assemblage matériaux ou fibres synthétiques >50% avec d'autres matériaux","< 1m","€ / Unité",0.17,"0,17 €/Unité",{"$f":"VLOOKUP(J1536,'Codes tarifs éco-part'!$C$3:$E$466,3,FALSE)","v":"005"}]
["REP PMCB",2,"51495671040","-","Equipements sanitaires pour salle de bain, cuisine et WC","Eviers, vasques et lavabo","Assemblage matériaux ou fibres synthétiques >50% avec d'autres matériaux",">= 1m","€ / Unité",0.3,"0,3 €/Unité",{"$f":"VLOOKUP(J1537,'Codes tarifs éco-part'!$C$3:$E$466,3,FALSE)","v":"446"}]
["REP PMCB",2,"51495681030","-","Equipements sanitaires pour salle de bain, cuisine et WC","Eviers, vasques et lavabo","Verre >90%","< 1m","€ / Unité",0.17,"0,17 €/Unité",{"$f":"VLOOKUP(J1538,'Codes tarifs éco-part'!$C$3:$E$466,3,FALSE)","v":"005"}]
["REP PMCB",2,"51495681040","-","Equipements sanitaires pour salle de bain, cuisine et WC","Eviers, vasques et lavabo","Verre >90%",">= 1m","€ / Unité",0.3,"0,3 €/Unité",{"$f":"VLOOKUP(J1539,'Codes tarifs éco-part'!$C$3:$E$466,3,FALSE)","v":"446"}]
["REP PMCB",2,"51495820000","-","Equipements sanitaires pour salle de bain, cuisine et WC","Eviers, vasques et lavabo","Assemblage de 3 matériaux ou plus sans un matériau à plus de 50%","Eléments de toutes dimensions et poids","€ / Tonne",30,"30 €/Tonne",{"$f":"VLOOKUP(J1540,'Codes tarifs éco-part'!$C$3:$E$466,3,FALSE)","v":"153"}]
["REP PMCB",1,"51495860000","13 09 00 00","Equipements sanitaires pour salle de bain, cuisine et WC","Eviers, vasques et lavabo","Pierre calcaire >90%","Eléments de toutes dimensions et poids","€ / Tonne",7.46,"7,46 €/Tonne",{"$f":"VLOOKUP(J1541,'Codes tarifs éco-part'!$C$3:$E$466,3,FALSE)","v":"482"}]
["REP PMCB",1,"51495861030","13 09 00 00","Equipements sanitaires pour salle de bain, cuisine et WC","Eviers, vasques et lavabo","Pierre calcaire >90%","< 1m","€ / Unité",0.09,"0,09 €/Unité",{"$f":"VLOOKUP(J1542,'Codes tarifs éco-part'!$C$3:$E$466,3,FALSE)","v":"049"}]
["REP PMCB",1,"51495861040","13 09 00 00","Equipements sanitaires pour salle de bain, cuisine et WC","Eviers, vasques et lavabo","Pierre calcaire >90%",">= 1m","€ / Unité",0.15,"0,15 €/Unité",{"$f":"VLOOKUP(J1543,'Codes tarifs éco-part'!$C$3:$E$466,3,FALSE)","v":"050"}]
["REP PMCB",1,"51495870000","13 09 00 00","Equipements sanitaires pour salle de bain, cuisine et WC","Eviers, vasques et lavabo","Lave >90%","Eléments de toutes dimensions et poids","€ / Tonne",7.46,"7,46 €/Tonne",{"$f":"VLOOKUP(J1544,'Codes tarifs éco-part'!$C$3:$E$466,3,FALSE)","v":"482"}]
["REP PMCB",1,"51495871030","13 09 00 00","Equipements sanitaires pour salle de bain, cuisine et WC","Eviers, vasques et lavabo","Lave >90%","< 1m","€ / Unité",0.09,"0,09 €/Unité",{"$f":"VLOOKUP(J1545,'Codes tarifs éco-part'!$C$3:$E$466,3,FALSE)","v":"049"}]
["REP PMCB",1,"51495871040","13 09 00 00","Equipements sanitaires pour salle de bain, cuisine et WC","Eviers, vasques et lavabo","Lave >90%",">= 1m","€ / Unité",0.15,"0,15 €/Unité",{"$f":"VLOOKUP(J1546,'Codes tarifs éco-part'!$C$3:$E$466,3,FALSE)","v":"050"}]
["REP PMCB",1,"51495910000","13 09 00 00","Equipements sanitaires pour salle de bain, cuisine et WC","Eviers, vasques et lavabo","Granit >90%","Eléments de toutes dimensions et poids","€ / Tonne",7.46,"7,46 €/Tonne",{"$f":"VLOOKUP(J1547,'Codes tarifs éco-part'!$C$3:$E$466,3,FALSE)","v":"482"}]
["REP PMCB",1,"51495911030","13 09 00 00","Equipements sanitaires pour salle de bain, cuisine et WC","Eviers, vasques et lavabo","Granit >90%","< 1m","€ / Unité",0.09,"0,09 €/Unité",{"$f":"VLOOKUP(J1548,'Codes tarifs éco-part'!$C$3:$E$466,3,FALSE)","v":"049"}]
["REP PMCB",1,"51495911040","13 09 00 00","Equipements sanitaires pour salle de bain, cuisine et WC","Eviers, vasques et lavabo","Granit >90%",">= 1m","€ / Unité",0.15,"0,15 €/Unité",{"$f":"VLOOKUP(J1549,'Codes tarifs éco-part'!$C$3:$E$466,3,FALSE)","v":"050"}]
["REP PMCB",1,"51495940000","13 09 00 00","Equipements sanitaires pour salle de bain, cuisine et WC","Eviers, vasques et lavabo","Grès >90%","Eléments de toutes dimensions et poids","€ / Tonne",7.46,"7,46 €/Tonne",{"$f":"VLOOKUP(J1550,'Codes tarifs éco-part'!$C$3:$E$466,3,FALSE)","v":"482"}]
["REP PMCB",1,"51495941030","13 09 00 00","Equipements sanitaires pour salle de bain, cuisine et WC","Eviers, vasques et lavabo","Grès >90%","< 1m","€ / Unité",0.09,"0,09 €/Unité",{"$f":"VLOOKUP(J1551,'Codes tarifs éco-part'!$C$3:$E$466,3,FALSE)","v":"049"}]
["REP PMCB",1,"51495941040","13 09 00 00","Equipements sanitaires pour salle de bain, cuisine et WC","Eviers, vasques et lavabo","Grès >90%",">= 1m","€ / Unité",0.15,"0,15 €/Unité",{"$f":"VLOOKUP(J1552,'Codes tarifs éco-part'!$C$3:$E$466,3,FALSE)","v":"050"}]
["REP PMCB",1,"51495970000","15 83 00 00","Equipements sanitaires pour salle de bain, cuisine et WC","Eviers, vasques et lavabo","Céramique >90%","Eléments de toutes dimensions et poids","€ / Tonne",7.46,"7,46 €/Tonne",{"$f":"VLOOKUP(J1553,'Codes tarifs éco-part'!$C$3:$E$466,3,FALSE)","v":"482"}]
["REP PMCB",1,"51495971030","15 83 00 00","Equipements sanitaires pour salle de bain, cuisine et WC","Eviers, vasques et lavabo","Céramique >90%","< 1m","€ / Unité",0.09,"0,09 €/Unité",{"$f":"VLOOKUP(J1554,'Codes tarifs éco-part'!$C$3:$E$466,3,FALSE)","v":"049"}]
["REP PMCB",1,"51495971040","15 83 00 00","Equipements sanitaires pour salle de bain, cuisine et WC","Eviers, vasques et lavabo","Céramique >90%",">= 1m","€ / Unité",0.15,"0,15 €/Unité",{"$f":"VLOOKUP(J1555,'Codes tarifs éco-part'!$C$3:$E$466,3,FALSE)","v":"050"}]
["REP PMCB",2,"51496000000","-","Equipements sanitaires pour salle de bain, cuisine et WC","Receveurs de douche et baignoires","Non connu ou non spécifié par l'entreprise","Eléments de toutes dimensions et poids","€ / Tonne",30,"30 €/Tonne",{"$f":"VLOOKUP(J1556,'Codes tarifs éco-part'!$C$3:$E$466,3,FALSE)","v":"153"}]
["REP PMCB",2,"51496020000","-","Equipements sanitaires pour salle de bain, cuisine et WC","Receveurs de douche et baignoires","Assemblage avec métal >50% et autres matériaux","Eléments de toutes dimensions et poids","€ / Tonne",3,"3 €/Tonne",{"$f":"VLOOKUP(J1557,'Codes tarifs éco-part'!$C$3:$E$466,3,FALSE)","v":"474"}]
["REP PMCB",2,"51496050000","-","Equipements sanitaires pour salle de bain, cuisine et WC","Receveurs de douche et baignoires","Plastiques ou autres matériaux synthétiques >50%","Eléments de toutes dimensions et poids","€ / Tonne",30,"30 €/Tonne",{"$f":"VLOOKUP(J1558,'Codes tarifs éco-part'!$C$3:$E$466,3,FALSE)","v":"153"}]
["REP PMCB",2,"51496120000","-","Equipements sanitaires pour salle de bain, cuisine et WC","Receveurs de douche et baignoires","Autres","Eléments de toutes dimensions et poids","€ / Tonne",30,"30 €/Tonne",{"$f":"VLOOKUP(J1559,'Codes tarifs éco-part'!$C$3:$E$466,3,FALSE)","v":"153"}]
["REP PMCB",2,"51496410000","-","Equipements sanitaires pour salle de bain, cuisine et WC","Receveurs de douche et baignoires","Plastiques (mono résine) >90%","Eléments de toutes dimensions et poids","€ / Tonne",9,"9 €/Tonne",{"$f":"VLOOKUP(J1560,'Codes tarifs éco-part'!$C$3:$E$466,3,FALSE)","v":"484"}]
["REP PMCB",2,"51496420000","-","Equipements sanitaires pour salle de bain, cuisine et WC","Receveurs de douche et baignoires","Polyterephtalate d'Ethylène (PET) >90%","Eléments de toutes dimensions et poids","€ / Tonne",9,"9 €/Tonne",{"$f":"VLOOKUP(J1561,'Codes tarifs éco-part'!$C$3:$E$466,3,FALSE)","v":"484"}]
["REP PMCB",2,"51496450000","-","Equipements sanitaires pour salle de bain, cuisine et WC","Receveurs de douche et baignoires","PE ou PP ou mélange PP/PE >90%","Eléments de toutes dimensions et poids","€ / Tonne",9,"9 €/Tonne",{"$f":"VLOOKUP(J1562,'Codes tarifs éco-part'!$C$3:$E$466,3,FALSE)","v":"484"}]
["REP PMCB",2,"51496460000","-","Equipements sanitaires pour salle de bain, cuisine et WC","Receveurs de douche et baignoires","ABS >90%","Eléments de toutes dimensions et poids","€ / Tonne",9,"9 €/Tonne",{"$f":"VLOOKUP(J1563,'Codes tarifs éco-part'!$C$3:$E$466,3,FALSE)","v":"484"}]
["REP PMCB",2,"51496470000","-","Equipements sanitaires pour salle de bain, cuisine et WC","Receveurs de douche et baignoires","Polystyrène >90%","Eléments de toutes dimensions et poids","€ / Tonne",9,"9 €/Tonne",{"$f":"VLOOKUP(J1564,'Codes tarifs éco-part'!$C$3:$E$466,3,FALSE)","v":"484"}]
["REP PMCB",2,"51496480000","-","Equipements sanitaires pour salle de bain, cuisine et WC","Receveurs de douche et baignoires","PVC >90%","Eléments de toutes dimensions et poids","€ / Tonne",9,"9 €/Tonne",{"$f":"VLOOKUP(J1565,'Codes tarifs éco-part'!$C$3:$E$466,3,FALSE)","v":"484"}]
["REP PMCB",2,"51496550000","-","Equipements sanitaires pour salle de bain, cuisine et WC","Receveurs de douche et baignoires","Matériaux bio sourcés ou textiles non synthétiques >90%","Eléments de toutes dimensions et poids","€ / Tonne",4,"4 €/Tonne",{"$f":"VLOOKUP(J1566,'Codes tarifs éco-part'!$C$3:$E$466,3,FALSE)","v":"274"}]
["REP PMCB",2,"51496620000","-","Equipements sanitaires pour salle de bain, cuisine et WC","Receveurs de douche et baignoires","Dérivés de bois >90%","Eléments de toutes dimensions et poids","€ / Tonne",8,"8 €/Tonne",{"$f":"VLOOKUP(J1567,'Codes tarifs éco-part'!$C$3:$E$466,3,FALSE)","v":"483"}]
["REP PMCB",2,"51496670000","-","Equipements sanitaires pour salle de bain, cuisine et WC","Receveurs de douche et baignoires","Assemblage matériaux ou fibres synthétiques >50% avec d'autres matériaux","Eléments de toutes dimensions et poids","€ / Tonne",30,"30 €/Tonne",{"$f":"VLOOKUP(J1568,'Codes tarifs éco-part'!$C$3:$E$466,3,FALSE)","v":"153"}]
["REP PMCB",2,"51496820000","-","Equipements sanitaires pour salle de bain, cuisine et WC","Receveurs de douche et baignoires","Assemblage de 3 matériaux ou plus sans un matériau à plus de 50%","Eléments de toutes dimensions et poids","€ / Tonne",30,"30 €/Tonne",{"$f":"VLOOKUP(J1569,'Codes tarifs éco-part'!$C$3:$E$466,3,FALSE)","v":"153"}]
["REP PMCB",1,"51496970000","15 84 00 00","Equipements sanitaires pour salle de bain, cuisine et WC","Receveurs de douche et baignoires","Céramique >90%","Eléments de toutes dimensions et poids","€ / Tonne",7.46,"7,46 €/Tonne",{"$f":"VLOOKUP(J1570,'Codes tarifs éco-part'!$C$3:$E$466,3,FALSE)","v":"482"}]
["REP PMCB",2,"51497000000","-","Equipements sanitaires pour salle de bain, cuisine et WC","WC","Non connu ou non spécifié par l'entreprise","Eléments de toutes dimensions et poids","€ / Tonne",30,"30 €/Tonne",{"$f":"VLOOKUP(J1571,'Codes tarifs éco-part'!$C$3:$E$466,3,FALSE)","v":"153"}]
["REP PMCB",2,"51497020000","-","Equipements sanitaires pour salle de bain, cuisine et WC","WC","Assemblage avec métal >50% et autres matériaux","Eléments de toutes dimensions et poids","€ / Tonne",3,"3 €/Tonne",{"$f":"VLOOKUP(J1572,'Codes tarifs éco-part'!$C$3:$E$466,3,FALSE)","v":"474"}]
["REP PMCB",2,"51497050000","-","Equipements sanitaires pour salle de bain, cuisine et WC","WC","Plastiques ou autres matériaux synthétiques >50%","Eléments de toutes dimensions et poids","€ / Tonne",30,"30 €/Tonne",{"$f":"VLOOKUP(J1573,'Codes tarifs éco-part'!$C$3:$E$466,3,FALSE)","v":"153"}]
["REP PMCB",2,"51497120000","-","Equipements sanitaires pour salle de bain, cuisine et WC","WC","Autres","Eléments de toutes dimensions et poids","€ / Tonne",30,"30 €/Tonne",{"$f":"VLOOKUP(J1574,'Codes tarifs éco-part'!$C$3:$E$466,3,FALSE)","v":"153"}]
["REP PMCB",2,"51497280000","-","Equipements sanitaires pour salle de bain, cuisine et WC","WC","Métal >90%","Eléments de toutes dimensions et poids","€ / Tonne",0.5,"0,5 €/Tonne",{"$f":"VLOOKUP(J1575,'Codes tarifs éco-part'!$C$3:$E$466,3,FALSE)","v":"053"}]
["REP PMCB",2,"51497289070","-","Equipements sanitaires pour salle de bain, cuisine et WC","WC","Métal >90%","Eléments de toutes dimensions et poids","€ / Unité",0.1,"0,1 €/Unité",{"$f":"VLOOKUP(J1576,'Codes tarifs éco-part'!$C$3:$E$466,3,FALSE)","v":"094"}]
["REP PMCB",2,"51497410000","-","Equipements sanitaires pour salle de bain, cuisine et WC","WC","Plastiques (mono résine) >90%","Eléments de toutes dimensions et poids","€ / Tonne",9,"9 €/Tonne",{"$f":"VLOOKUP(J1577,'Codes tarifs éco-part'!$C$3:$E$466,3,FALSE)","v":"484"}]
["REP PMCB",2,"51497420000","-","Equipements sanitaires pour salle de bain, cuisine et WC","WC","Polyterephtalate d'Ethylène (PET) >90%","Eléments de toutes dimensions et poids","€ / Tonne",9,"9 €/Tonne",{"$f":"VLOOKUP(J1578,'Codes tarifs éco-part'!$C$3:$E$466,3,FALSE)","v":"484"}]
["REP PMCB",2,"51497450000","-","Equipements sanitaires pour salle de bain, cuisine et WC","WC","PE ou PP ou mélange PP/PE >90%","Eléments de toutes dimensions et poids","€ / Tonne",9,"9 €/Tonne",{"$f":"VLOOKUP(J1579,'Codes tarifs éco-part'!$C$3:$E$466,3,FALSE)","v":"484"}]
["REP PMCB",2,"51497460000","-","Equipements sanitaires pour salle de bain, cuisine et WC","WC","ABS >90%","Eléments de toutes dimensions et poids","€ / Tonne",9,"9 €/Tonne",{"$f":"VLOOKUP(J1580,'Codes tarifs éco-part'!$C$3:$E$466,3,FALSE)","v":"484"}]
["REP PMCB",2,"51497470000","-","Equipements sanitaires pour salle de bain, cuisine et WC","WC","Polystyrène >90%","Eléments de toutes dimensions et poids","€ / Tonne",9,"9 €/Tonne",{"$f":"VLOOKUP(J1581,'Codes tarifs éco-part'!$C$3:$E$466,3,FALSE)","v":"484"}]
["REP PMCB",2,"51497480000","-","Equipements sanitaires pour salle de bain, cuisine et WC","WC","PVC >90%","Eléments de toutes dimensions et poids","€ / Tonne",9,"9 €/Tonne",{"$f":"VLOOKUP(J1582,'Codes tarifs éco-part'!$C$3:$E$466,3,FALSE)","v":"484"}]
["REP PMCB",2,"51497670000","-","Equipements sanitaires pour salle de bain, cuisine et WC","WC","Assemblage matériaux ou fibres synthétiques >50% avec d'autres matériaux","Eléments de toutes dimensions et poids","€ / Tonne",30,"30 €/Tonne",{"$f":"VLOOKUP(J1583,'Codes tarifs éco-part'!$C$3:$E$466,3,FALSE)","v":"153"}]
["REP PMCB",2,"51497679070","-","Equipements sanitaires pour salle de bain, cuisine et WC","WC","Assemblage matériaux ou fibres synthétiques >50% avec d'autres matériaux","Eléments de toutes dimensions et poids","€ / Unité",0.3,"0,3 €/Unité",{"$f":"VLOOKUP(J1584,'Codes tarifs éco-part'!$C$3:$E$466,3,FALSE)","v":"446"}]
["REP PMCB",2,"51497820000","-","Equipements sanitaires pour salle de bain, cuisine et WC","WC","Assemblage de 3 matériaux ou plus sans un matériau à plus de 50%","Eléments de toutes dimensions et poids","€ / Tonne",30,"30 €/Tonne",{"$f":"VLOOKUP(J1585,'Codes tarifs éco-part'!$C$3:$E$466,3,FALSE)","v":"153"}]
["REP PMCB",1,"51497970000","15 85 00 00 | 15 84 00 00","Equipements sanitaires pour salle de bain, cuisine et WC","WC","Céramique >90%","Eléments de toutes dimensions et poids","€ / Tonne",7.46,"7,46 €/Tonne",{"$f":"VLOOKUP(J1586,'Codes tarifs éco-part'!$C$3:$E$466,3,FALSE)","v":"482"}]
["REP PMCB",1,"51497979070","15 85 00 00 | 15 84 00 00","Equipements sanitaires pour salle de bain, cuisine et WC","WC","Céramique >90%","Eléments de toutes dimensions et poids","€ / Unité",0.25,"0,25 €/Unité",{"$f":"VLOOKUP(J1587,'Codes tarifs éco-part'!$C$3:$E$466,3,FALSE)","v":"095"}]
["REP PMCB",2,"51498000000","-","Equipements sanitaires pour salle de bain, cuisine et WC","Pare-baignoire, pare-douche et cabines intégrales de douche","Non connu ou non spécifié par l'entreprise","Eléments de toutes dimensions et poids","€ / Tonne",30,"30 €/Tonne",{"$f":"VLOOKUP(J1588,'Codes tarifs éco-part'!$C$3:$E$466,3,FALSE)","v":"153"}]
["REP PMCB",2,"51498010000","-","Equipements sanitaires pour salle de bain, cuisine et WC","Pare-baignoire, pare-douche et cabines intégrales de douche","Assemblage de bois, dérivés de bois à plus de 50% avec d'autres matériaux ou bois composite (hors verre)","Eléments de toutes dimensions et poids","€ / Tonne",9,"9 €/Tonne",{"$f":"VLOOKUP(J1589,'Codes tarifs éco-part'!$C$3:$E$466,3,FALSE)","v":"484"}]
["REP PMCB",2,"51498020000","-","Equipements sanitaires pour salle de bain, cuisine et WC","Pare-baignoire, pare-douche et cabines intégrales de douche","Assemblage avec métal >50% et autres matériaux","Eléments de toutes dimensions et poids","€ / Tonne",3,"3 €/Tonne",{"$f":"VLOOKUP(J1590,'Codes tarifs éco-part'!$C$3:$E$466,3,FALSE)","v":"474"}]
["REP PMCB",2,"51498050000","-","Equipements sanitaires pour salle de bain, cuisine et WC","Pare-baignoire, pare-douche et cabines intégrales de douche","Plastiques ou autres matériaux synthétiques >50%","Eléments de toutes dimensions et poids","€ / Tonne",30,"30 €/Tonne",{"$f":"VLOOKUP(J1591,'Codes tarifs éco-part'!$C$3:$E$466,3,FALSE)","v":"153"}]
["REP PMCB",2,"51498120000","-","Equipements sanitaires pour salle de bain, cuisine et WC","Pare-baignoire, pare-douche et cabines intégrales de douche","Autres","Eléments de toutes dimensions et poids","€ / Tonne",30,"30 €/Tonne",{"$f":"VLOOKUP(J1592,'Codes tarifs éco-part'!$C$3:$E$466,3,FALSE)","v":"153"}]
["REP PMCB",2,"51498410000","-","Equipements sanitaires pour salle de bain, cuisine et WC","Pare-baignoire, pare-douche et cabines intégrales de douche","Plastiques (mono résine) >90%","Eléments de toutes dimensions et poids","€ / Tonne",9,"9 €/Tonne",{"$f":"VLOOKUP(J1593,'Codes tarifs éco-part'!$C$3:$E$466,3,FALSE)","v":"484"}]
["REP PMCB",2,"51498420000","-","Equipements sanitaires pour salle de bain, cuisine et WC","Pare-baignoire, pare-douche et cabines intégrales de douche","Polyterephtalate d'Ethylène (PET) >90%","Eléments de toutes dimensions et poids","€ / Tonne",9,"9 €/Tonne",{"$f":"VLOOKUP(J1594,'Codes tarifs éco-part'!$C$3:$E$466,3,FALSE)","v":"484"}]
["REP PMCB",2,"51498450000","-","Equipements sanitaires pour salle de bain, cuisine et WC","Pare-baignoire, pare-douche et cabines intégrales de douche","PE ou PP ou mélange PP/PE >90%","Eléments de toutes dimensions et poids","€ / Tonne",9,"9 €/Tonne",{"$f":"VLOOKUP(J1595,'Codes tarifs éco-part'!$C$3:$E$466,3,FALSE)","v":"484"}]
["REP PMCB",2,"51498460000","-","Equipements sanitaires pour salle de bain, cuisine et WC","Pare-baignoire, pare-douche et cabines intégrales de douche","ABS >90%","Eléments de toutes dimensions et poids","€ / Tonne",9,"9 €/Tonne",{"$f":"VLOOKUP(J1596,'Codes tarifs éco-part'!$C$3:$E$466,3,FALSE)","v":"484"}]
["REP PMCB",2,"51498470000","-","Equipements sanitaires pour salle de bain, cuisine et WC","Pare-baignoire, pare-douche et cabines intégrales de douche","Polystyrène >90%","Eléments de toutes dimensions et poids","€ / Tonne",9,"9 €/Tonne",{"$f":"VLOOKUP(J1597,'Codes tarifs éco-part'!$C$3:$E$466,3,FALSE)","v":"484"}]
["REP PMCB",2,"51498480000","-","Equipements sanitaires pour salle de bain, cuisine et WC","Pare-baignoire, pare-douche et cabines intégrales de douche","PVC >90%","Eléments de toutes dimensions et poids","€ / Tonne",9,"9 €/Tonne",{"$f":"VLOOKUP(J1598,'Codes tarifs éco-part'!$C$3:$E$466,3,FALSE)","v":"484"}]
["REP PMCB",2,"51498530000","-","Equipements sanitaires pour salle de bain, cuisine et WC","Pare-baignoire, pare-douche et cabines intégrales de douche","Massif et assimilés >90%","Eléments de toutes dimensions et poids","€ / Tonne",8,"8 €/Tonne",{"$f":"VLOOKUP(J1599,'Codes tarifs éco-part'!$C$3:$E$466,3,FALSE)","v":"483"}]
["REP PMCB",2,"51498550000","-","Equipements sanitaires pour salle de bain, cuisine et WC","Pare-baignoire, pare-douche et cabines intégrales de douche","Matériaux bio sourcés ou textiles non synthétiques >90%","Eléments de toutes dimensions et poids","€ / Tonne",4,"4 €/Tonne",{"$f":"VLOOKUP(J1600,'Codes tarifs éco-part'!$C$3:$E$466,3,FALSE)","v":"274"}]
["REP PMCB",2,"51498610000","-","Equipements sanitaires pour salle de bain, cuisine et WC","Pare-baignoire, pare-douche et cabines intégrales de douche","Panneaux de particules ou OSB >90%","Eléments de toutes dimensions et poids","€ / Tonne",8,"8 €/Tonne",{"$f":"VLOOKUP(J1601,'Codes tarifs éco-part'!$C$3:$E$466,3,FALSE)","v":"483"}]
["REP PMCB",2,"51498620000","-","Equipements sanitaires pour salle de bain, cuisine et WC","Pare-baignoire, pare-douche et cabines intégrales de douche","Dérivés de bois >90%","Eléments de toutes dimensions et poids","€ / Tonne",8,"8 €/Tonne",{"$f":"VLOOKUP(J1602,'Codes tarifs éco-part'!$C$3:$E$466,3,FALSE)","v":"483"}]
["REP PMCB",2,"51498640000","-","Equipements sanitaires pour salle de bain, cuisine et WC","Pare-baignoire, pare-douche et cabines intégrales de douche","Caoutchouc naturel >50%","Eléments de toutes dimensions et poids","€ / Tonne",9,"9 €/Tonne",{"$f":"VLOOKUP(J1603,'Codes tarifs éco-part'!$C$3:$E$466,3,FALSE)","v":"484"}]
["REP PMCB",2,"51498670000","-","Equipements sanitaires pour salle de bain, cuisine et WC","Pare-baignoire, pare-douche et cabines intégrales de douche","Assemblage matériaux ou fibres synthétiques >50% avec d'autres matériaux","Eléments de toutes dimensions et poids","€ / Tonne",30,"30 €/Tonne",{"$f":"VLOOKUP(J1604,'Codes tarifs éco-part'!$C$3:$E$466,3,FALSE)","v":"153"}]
["REP PMCB",2,"51498680000","-","Equipements sanitaires pour salle de bain, cuisine et WC","Pare-baignoire, pare-douche et cabines intégrales de douche","Verre >90%","Eléments de toutes dimensions et poids","€ / Tonne",9,"9 €/Tonne",{"$f":"VLOOKUP(J1605,'Codes tarifs éco-part'!$C$3:$E$466,3,FALSE)","v":"484"}]
["REP PMCB",2,"51498820000","-","Equipements sanitaires pour salle de bain, cuisine et WC","Pare-baignoire, pare-douche et cabines intégrales de douche","Assemblage de 3 matériaux ou plus sans un matériau à plus de 50%","Eléments de toutes dimensions et poids","€ / Tonne",30,"30 €/Tonne",{"$f":"VLOOKUP(J1606,'Codes tarifs éco-part'!$C$3:$E$466,3,FALSE)","v":"153"}]
["REP PMCB",2,"51499000000","-","Equipements sanitaires pour salle de bain, cuisine et WC","Robinetterie et colonne de douche et bain","Non connu ou non spécifié par l'entreprise","Eléments de toutes dimensions et poids","€ / Tonne",30,"30 €/Tonne",{"$f":"VLOOKUP(J1607,'Codes tarifs éco-part'!$C$3:$E$466,3,FALSE)","v":"153"}]
["REP PMCB",2,"51499020000","-","Equipements sanitaires pour salle de bain, cuisine et WC","Robinetterie et colonne de douche et bain","Assemblage avec métal >50% et autres matériaux","Eléments de toutes dimensions et poids","€ / Tonne",3,"3 €/Tonne",{"$f":"VLOOKUP(J1608,'Codes tarifs éco-part'!$C$3:$E$466,3,FALSE)","v":"474"}]
["REP PMCB",2,"51499050000","-","Equipements sanitaires pour salle de bain, cuisine et WC","Robinetterie et colonne de douche et bain","Plastiques ou autres matériaux synthétiques >50%","Eléments de toutes dimensions et poids","€ / Tonne",30,"30 €/Tonne",{"$f":"VLOOKUP(J1609,'Codes tarifs éco-part'!$C$3:$E$466,3,FALSE)","v":"153"}]
["REP PMCB",2,"51499120000","-","Equipements sanitaires pour salle de bain, cuisine et WC","Robinetterie et colonne de douche et bain","Autres","Eléments de toutes dimensions et poids","€ / Tonne",30,"30 €/Tonne",{"$f":"VLOOKUP(J1610,'Codes tarifs éco-part'!$C$3:$E$466,3,FALSE)","v":"153"}]
["REP PMCB",2,"51499280000","-","Equipements sanitaires pour salle de bain, cuisine et WC","Robinetterie et colonne de douche et bain","Métal >90%","Eléments de toutes dimensions et poids","€ / Tonne",0.5,"0,5 €/Tonne",{"$f":"VLOOKUP(J1611,'Codes tarifs éco-part'!$C$3:$E$466,3,FALSE)","v":"053"}]
["REP PMCB",2,"51499410000","-","Equipements sanitaires pour salle de bain, cuisine et WC","Robinetterie et colonne de douche et bain","Plastiques (mono résine) >90%","Eléments de toutes dimensions et poids","€ / Tonne",9,"9 €/Tonne",{"$f":"VLOOKUP(J1612,'Codes tarifs éco-part'!$C$3:$E$466,3,FALSE)","v":"484"}]
["REP PMCB",2,"51499420000","-","Equipements sanitaires pour salle de bain, cuisine et WC","Robinetterie et colonne de douche et bain","Polyterephtalate d'Ethylène (PET) >90%","Eléments de toutes dimensions et poids","€ / Tonne",9,"9 €/Tonne",{"$f":"VLOOKUP(J1613,'Codes tarifs éco-part'!$C$3:$E$466,3,FALSE)","v":"484"}]
["REP PMCB",2,"51499450000","-","Equipements sanitaires pour salle de bain, cuisine et WC","Robinetterie et colonne de douche et bain","PE ou PP ou mélange PP/PE >90%","Eléments de toutes dimensions et poids","€ / Tonne",9,"9 €/Tonne",{"$f":"VLOOKUP(J1614,'Codes tarifs éco-part'!$C$3:$E$466,3,FALSE)","v":"484"}]
["REP PMCB",2,"51499460000","-","Equipements sanitaires pour salle de bain, cuisine et WC","Robinetterie et colonne de douche et bain","ABS >90%","Eléments de toutes dimensions et poids","€ / Tonne",9,"9 €/Tonne",{"$f":"VLOOKUP(J1615,'Codes tarifs éco-part'!$C$3:$E$466,3,FALSE)","v":"484"}]
["REP PMCB",2,"51499470000","-","Equipements sanitaires pour salle de bain, cuisine et WC","Robinetterie et colonne de douche et bain","Polystyrène >90%","Eléments de toutes dimensions et poids","€ / Tonne",9,"9 €/Tonne",{"$f":"VLOOKUP(J1616,'Codes tarifs éco-part'!$C$3:$E$466,3,FALSE)","v":"484"}]
["REP PMCB",2,"51499480000","-","Equipements sanitaires pour salle de bain, cuisine et WC","Robinetterie et colonne de douche et bain","PVC >90%","Eléments de toutes dimensions et poids","€ / Tonne",9,"9 €/Tonne",{"$f":"VLOOKUP(J1617,'Codes tarifs éco-part'!$C$3:$E$466,3,FALSE)","v":"484"}]
["REP PMCB",2,"51499670000","-","Equipements sanitaires pour salle de bain, cuisine et WC","Robinetterie et colonne de douche et bain","Assemblage matériaux ou fibres synthétiques >50% avec d'autres matériaux","Eléments de toutes dimensions et poids","€ / Tonne",30,"30 €/Tonne",{"$f":"VLOOKUP(J1618,'Codes tarifs éco-part'!$C$3:$E$466,3,FALSE)","v":"153"}]
["REP PMCB",2,"51499820000","-","Equipements sanitaires pour salle de bain, cuisine et WC","Robinetterie et colonne de douche et bain","Assemblage de 3 matériaux ou plus sans un matériau à plus de 50%","Eléments de toutes dimensions et poids","€ / Tonne",30,"30 €/Tonne",{"$f":"VLOOKUP(J1619,'Codes tarifs éco-part'!$C$3:$E$466,3,FALSE)","v":"153"}]
["REP PMCB",2,"51501120000","-","Equipements sanitaires pour salle de bain, cuisine et WC","Receveur de douche","Autres","Eléments de toutes dimensions et poids","€ / Tonne",30,"30 €/Tonne",{"$f":"VLOOKUP(J1620,'Codes tarifs éco-part'!$C$3:$E$466,3,FALSE)","v":"153"}]
["REP PMCB",2,"51501289070","-","Equipements sanitaires pour salle de bain, cuisine et WC","Receveur de douche","Métal >90%","Eléments de toutes dimensions et poids","€ / Unité",0.01,"0,01 €/Unité",{"$f":"VLOOKUP(J1621,'Codes tarifs éco-part'!$C$3:$E$466,3,FALSE)","v":"260"}]
["REP PMCB",2,"51501419070","-","Equipements sanitaires pour salle de bain, cuisine et WC","Receveur de douche","Plastiques (mono résine) >90%","Eléments de toutes dimensions et poids","€ / Unité",0.3,"0,3 €/Unité",{"$f":"VLOOKUP(J1622,'Codes tarifs éco-part'!$C$3:$E$466,3,FALSE)","v":"446"}]
["REP PMCB",2,"51501429070","-","Equipements sanitaires pour salle de bain, cuisine et WC","Receveur de douche","Polyterephtalate d'Ethylène (PET) >90%","Eléments de toutes dimensions et poids","€ / Unité",0.3,"0,3 €/Unité",{"$f":"VLOOKUP(J1623,'Codes tarifs éco-part'!$C$3:$E$466,3,FALSE)","v":"446"}]
["REP PMCB",2,"51501459070","-","Equipements sanitaires pour salle de bain, cuisine et WC","Receveur de douche","PE ou PP ou mélange PP/PE >90%","Eléments de toutes dimensions et poids","€ / Unité",0.3,"0,3 €/Unité",{"$f":"VLOOKUP(J1624,'Codes tarifs éco-part'!$C$3:$E$466,3,FALSE)","v":"446"}]
["REP PMCB",2,"51501469070","-","Equipements sanitaires pour salle de bain, cuisine et WC","Receveur de douche","ABS >90%","Eléments de toutes dimensions et poids","€ / Unité",0.3,"0,3 €/Unité",{"$f":"VLOOKUP(J1625,'Codes tarifs éco-part'!$C$3:$E$466,3,FALSE)","v":"446"}]
["REP PMCB",2,"51501479070","-","Equipements sanitaires pour salle de bain, cuisine et WC","Receveur de douche","Polystyrène >90%","Eléments de toutes dimensions et poids","€ / Unité",0.3,"0,3 €/Unité",{"$f":"VLOOKUP(J1626,'Codes tarifs éco-part'!$C$3:$E$466,3,FALSE)","v":"446"}]
["REP PMCB",2,"51501489070","-","Equipements sanitaires pour salle de bain, cuisine et WC","Receveur de douche","PVC >90%","Eléments de toutes dimensions et poids","€ / Unité",0.3,"0,3 €/Unité",{"$f":"VLOOKUP(J1627,'Codes tarifs éco-part'!$C$3:$E$466,3,FALSE)","v":"446"}]
["REP PMCB",1,"51501979070","15 82 00 00","Equipements sanitaires pour salle de bain, cuisine et WC","Receveur de douche","Céramique >90%","Eléments de toutes dimensions et poids","€ / Unité",0.25,"0,25 €/Unité",{"$f":"VLOOKUP(J1628,'Codes tarifs éco-part'!$C$3:$E$466,3,FALSE)","v":"095"}]
["REP PMCB",2,"51502120000","-","Equipements sanitaires pour salle de bain, cuisine et WC","Baignoire (hors balnéo)","Autres","Eléments de toutes dimensions et poids","€ / Tonne",30,"30 €/Tonne",{"$f":"VLOOKUP(J1629,'Codes tarifs éco-part'!$C$3:$E$466,3,FALSE)","v":"153"}]
["REP PMCB",2,"51502289070","-","Equipements sanitaires pour salle de bain, cuisine et WC","Baignoire (hors balnéo)","Métal >90%","Eléments de toutes dimensions et poids","€ / Unité",0.3,"0,3 €/Unité",{"$f":"VLOOKUP(J1630,'Codes tarifs éco-part'!$C$3:$E$466,3,FALSE)","v":"446"}]
["REP PMCB",2,"51502419070","-","Equipements sanitaires pour salle de bain, cuisine et WC","Baignoire (hors balnéo)","Plastiques (mono résine) >90%","Eléments de toutes dimensions et poids","€ / Unité",0.3,"0,3 €/Unité",{"$f":"VLOOKUP(J1631,'Codes tarifs éco-part'!$C$3:$E$466,3,FALSE)","v":"446"}]
["REP PMCB",2,"51502429070","-","Equipements sanitaires pour salle de bain, cuisine et WC","Baignoire (hors balnéo)","Polyterephtalate d'Ethylène (PET) >90%","Eléments de toutes dimensions et poids","€ / Unité",0.3,"0,3 €/Unité",{"$f":"VLOOKUP(J1632,'Codes tarifs éco-part'!$C$3:$E$466,3,FALSE)","v":"446"}]
["REP PMCB",2,"51502459070","-","Equipements sanitaires pour salle de bain, cuisine et WC","Baignoire (hors balnéo)","PE ou PP ou mélange PP/PE >90%","Eléments de toutes dimensions et poids","€ / Unité",0.3,"0,3 €/Unité",{"$f":"VLOOKUP(J1633,'Codes tarifs éco-part'!$C$3:$E$466,3,FALSE)","v":"446"}]
["REP PMCB",2,"51502469070","-","Equipements sanitaires pour salle de bain, cuisine et WC","Baignoire (hors balnéo)","ABS >90%","Eléments de toutes dimensions et poids","€ / Unité",0.3,"0,3 €/Unité",{"$f":"VLOOKUP(J1634,'Codes tarifs éco-part'!$C$3:$E$466,3,FALSE)","v":"446"}]
["REP PMCB",2,"51502479070","-","Equipements sanitaires pour salle de bain, cuisine et WC","Baignoire (hors balnéo)","Polystyrène >90%","Eléments de toutes dimensions et poids","€ / Unité",0.3,"0,3 €/Unité",{"$f":"VLOOKUP(J1635,'Codes tarifs éco-part'!$C$3:$E$466,3,FALSE)","v":"446"}]
["REP PMCB",2,"51502489070","-","Equipements sanitaires pour salle de bain, cuisine et WC","Baignoire (hors balnéo)","PVC >90%","Eléments de toutes dimensions et poids","€ / Unité",0.3,"0,3 €/Unité",{"$f":"VLOOKUP(J1636,'Codes tarifs éco-part'!$C$3:$E$466,3,FALSE)","v":"446"}]
["REP PMCB",2,"51502629070","-","Equipements sanitaires pour salle de bain, cuisine et WC","Baignoire (hors balnéo)","Dérivés de bois >90%","Eléments de toutes dimensions et poids","€ / Unité",0.45,"0,45 €/Unité",{"$f":"VLOOKUP(J1637,'Codes tarifs éco-part'!$C$3:$E$466,3,FALSE)","v":"325"}]
["REP PMCB",2,"51502679070","-","Equipements sanitaires pour salle de bain, cuisine et WC","Baignoire (hors balnéo)","Assemblage matériaux ou fibres synthétiques >50% avec d'autres matériaux","Eléments de toutes dimensions et poids","€ / Unité",0.45,"0,45 €/Unité",{"$f":"VLOOKUP(J1638,'Codes tarifs éco-part'!$C$3:$E$466,3,FALSE)","v":"325"}]
["REP PMCB",1,"51502979070","15 81 00 00","Equipements sanitaires pour salle de bain, cuisine et WC","Baignoire (hors balnéo)","Céramique >90%","Eléments de toutes dimensions et poids","€ / Unité",0.25,"0,25 €/Unité",{"$f":"VLOOKUP(J1639,'Codes tarifs éco-part'!$C$3:$E$466,3,FALSE)","v":"095"}]
["REP PMCB",2,"51505000000","-","Equipements sanitaires pour salle de bain, cuisine et WC","Divers équipements sanitaires et accessoires vendus séparément hors robinetterie","Non connu ou non spécifié par l'entreprise","Eléments de toutes dimensions et poids","€ / Tonne",30,"30 €/Tonne",{"$f":"VLOOKUP(J1640,'Codes tarifs éco-part'!$C$3:$E$466,3,FALSE)","v":"153"}]
["REP PMCB",2,"51505010000","-","Equipements sanitaires pour salle de bain, cuisine et WC","Divers équipements sanitaires et accessoires vendus séparément hors robinetterie","Assemblage de bois, dérivés de bois à plus de 50% avec d'autres matériaux ou bois composite (hors verre)","Eléments de toutes dimensions et poids","€ / Tonne",9,"9 €/Tonne",{"$f":"VLOOKUP(J1641,'Codes tarifs éco-part'!$C$3:$E$466,3,FALSE)","v":"484"}]
["REP PMCB",2,"51505020000","-","Equipements sanitaires pour salle de bain, cuisine et WC","Divers équipements sanitaires et accessoires vendus séparément hors robinetterie","Assemblage avec métal >50% et autres matériaux","Eléments de toutes dimensions et poids","€ / Tonne",3,"3 €/Tonne",{"$f":"VLOOKUP(J1642,'Codes tarifs éco-part'!$C$3:$E$466,3,FALSE)","v":"474"}]
["REP PMCB",2,"51505050000","-","Equipements sanitaires pour salle de bain, cuisine et WC","Divers équipements sanitaires et accessoires vendus séparément hors robinetterie","Plastiques ou autres matériaux synthétiques >50%","Eléments de toutes dimensions et poids","€ / Tonne",30,"30 €/Tonne",{"$f":"VLOOKUP(J1643,'Codes tarifs éco-part'!$C$3:$E$466,3,FALSE)","v":"153"}]
["REP PMCB",2,"51505120000","-","Equipements sanitaires pour salle de bain, cuisine et WC","Divers équipements sanitaires et accessoires vendus séparément hors robinetterie","Autres","Eléments de toutes dimensions et poids","€ / Tonne",30,"30 €/Tonne",{"$f":"VLOOKUP(J1644,'Codes tarifs éco-part'!$C$3:$E$466,3,FALSE)","v":"153"}]
["REP PMCB",2,"51505280000","-","Equipements sanitaires pour salle de bain, cuisine et WC","Divers équipements sanitaires et accessoires vendus séparément hors robinetterie","Métal >90%","Eléments de toutes dimensions et poids","€ / Tonne",0.5,"0,5 €/Tonne",{"$f":"VLOOKUP(J1645,'Codes tarifs éco-part'!$C$3:$E$466,3,FALSE)","v":"053"}]
["REP PMCB",2,"51505410000","-","Equipements sanitaires pour salle de bain, cuisine et WC","Divers équipements sanitaires et accessoires vendus séparément hors robinetterie","Plastiques (mono résine) >90%","Eléments de toutes dimensions et poids","€ / Tonne",9,"9 €/Tonne",{"$f":"VLOOKUP(J1646,'Codes tarifs éco-part'!$C$3:$E$466,3,FALSE)","v":"484"}]
["REP PMCB",2,"51505420000","-","Equipements sanitaires pour salle de bain, cuisine et WC","Divers équipements sanitaires et accessoires vendus séparément hors robinetterie","Polyterephtalate d'Ethylène (PET) >90%","Eléments de toutes dimensions et poids","€ / Tonne",9,"9 €/Tonne",{"$f":"VLOOKUP(J1647,'Codes tarifs éco-part'!$C$3:$E$466,3,FALSE)","v":"484"}]
["REP PMCB",2,"51505450000","-","Equipements sanitaires pour salle de bain, cuisine et WC","Divers équipements sanitaires et accessoires vendus séparément hors robinetterie","PE ou PP ou mélange PP/PE >90%","Eléments de toutes dimensions et poids","€ / Tonne",9,"9 €/Tonne",{"$f":"VLOOKUP(J1648,'Codes tarifs éco-part'!$C$3:$E$466,3,FALSE)","v":"484"}]
["REP PMCB",2,"51505460000","-","Equipements sanitaires pour salle de bain, cuisine et WC","Divers équipements sanitaires et accessoires vendus séparément hors robinetterie","ABS >90%","Eléments de toutes dimensions et poids","€ / Tonne",9,"9 €/Tonne",{"$f":"VLOOKUP(J1649,'Codes tarifs éco-part'!$C$3:$E$466,3,FALSE)","v":"484"}]
["REP PMCB",2,"51505470000","-","Equipements sanitaires pour salle de bain, cuisine et WC","Divers équipements sanitaires et accessoires vendus séparément hors robinetterie","Polystyrène >90%","Eléments de toutes dimensions et poids","€ / Tonne",9,"9 €/Tonne",{"$f":"VLOOKUP(J1650,'Codes tarifs éco-part'!$C$3:$E$466,3,FALSE)","v":"484"}]
["REP PMCB",2,"51505480000","-","Equipements sanitaires pour salle de bain, cuisine et WC","Divers équipements sanitaires et accessoires vendus séparément hors robinetterie","PVC >90%","Eléments de toutes dimensions et poids","€ / Tonne",9,"9 €/Tonne",{"$f":"VLOOKUP(J1651,'Codes tarifs éco-part'!$C$3:$E$466,3,FALSE)","v":"484"}]
["REP PMCB",2,"51505490000","-","Equipements sanitaires pour salle de bain, cuisine et WC","Divers équipements sanitaires et accessoires vendus séparément hors robinetterie","Caoutchouc synthétique >90%","Eléments de toutes dimensions et poids","€ / Tonne",9,"9 €/Tonne",{"$f":"VLOOKUP(J1652,'Codes tarifs éco-part'!$C$3:$E$466,3,FALSE)","v":"484"}]
["REP PMCB",2,"51505670000","-","Equipements sanitaires pour salle de bain, cuisine et WC","Divers équipements sanitaires et accessoires vendus séparément hors robinetterie","Assemblage matériaux ou fibres synthétiques >50% avec d'autres matériaux","Eléments de toutes dimensions et poids","€ / Tonne",30,"30 €/Tonne",{"$f":"VLOOKUP(J1653,'Codes tarifs éco-part'!$C$3:$E$466,3,FALSE)","v":"153"}]
["REP PMCB",2,"51505680000","-","Equipements sanitaires pour salle de bain, cuisine et WC","Divers équipements sanitaires et accessoires vendus séparément hors robinetterie","Verre >90%","Eléments de toutes dimensions et poids","€ / Tonne",9,"9 €/Tonne",{"$f":"VLOOKUP(J1654,'Codes tarifs éco-part'!$C$3:$E$466,3,FALSE)","v":"484"}]
["REP PMCB",2,"51505690000","-","Equipements sanitaires pour salle de bain, cuisine et WC","Divers équipements sanitaires et accessoires vendus séparément hors robinetterie","Miroir >90%","Eléments de toutes dimensions et poids","€ / Tonne",30,"30 €/Tonne",{"$f":"VLOOKUP(J1655,'Codes tarifs éco-part'!$C$3:$E$466,3,FALSE)","v":"153"}]
["REP PMCB",2,"51505700000","-","Equipements sanitaires pour salle de bain, cuisine et WC","Divers équipements sanitaires et accessoires vendus séparément hors robinetterie","Assemblage verre à plus de 50% avec métal","Eléments de toutes dimensions et poids","€ / Tonne",9,"9 €/Tonne",{"$f":"VLOOKUP(J1656,'Codes tarifs éco-part'!$C$3:$E$466,3,FALSE)","v":"484"}]
["REP PMCB",2,"51505710000","-","Equipements sanitaires pour salle de bain, cuisine et WC","Divers équipements sanitaires et accessoires vendus séparément hors robinetterie","Assemblage verre à plus de 50% avec Inerte","Eléments de toutes dimensions et poids","€ / Tonne",9,"9 €/Tonne",{"$f":"VLOOKUP(J1657,'Codes tarifs éco-part'!$C$3:$E$466,3,FALSE)","v":"484"}]
["REP PMCB",2,"51505720000","-","Equipements sanitaires pour salle de bain, cuisine et WC","Divers équipements sanitaires et accessoires vendus séparément hors robinetterie","Assemblage verre à plus de 50% avec bois ou dérivés de bois","Eléments de toutes dimensions et poids","€ / Tonne",9,"9 €/Tonne",{"$f":"VLOOKUP(J1658,'Codes tarifs éco-part'!$C$3:$E$466,3,FALSE)","v":"484"}]
["REP PMCB",2,"51505730000","-","Equipements sanitaires pour salle de bain, cuisine et WC","Divers équipements sanitaires et accessoires vendus séparément hors robinetterie","Assemblage verre à plus de 50% avec plastique","Eléments de toutes dimensions et poids","€ / Tonne",9,"9 €/Tonne",{"$f":"VLOOKUP(J1659,'Codes tarifs éco-part'!$C$3:$E$466,3,FALSE)","v":"484"}]
["REP PMCB",2,"51505820000","-","Equipements sanitaires pour salle de bain, cuisine et WC","Divers équipements sanitaires et accessoires vendus séparément hors robinetterie","Assemblage de 3 matériaux ou plus sans un matériau à plus de 50%","Eléments de toutes dimensions et poids","€ / Tonne",30,"30 €/Tonne",{"$f":"VLOOKUP(J1660,'Codes tarifs éco-part'!$C$3:$E$466,3,FALSE)","v":"153"}]
["REP PMCB",2,"52510000000","-","Electricité","Fils et câbles","Non connu ou non spécifié par l'entreprise","Eléments de toutes dimensions et poids","€ / Tonne",30,"30 €/Tonne",{"$f":"VLOOKUP(J1661,'Codes tarifs éco-part'!$C$3:$E$466,3,FALSE)","v":"153"}]
["REP PMCB",2,"52510020000","-","Electricité","Fils et câbles","Assemblage avec métal >50% et autres matériaux","Eléments de toutes dimensions et poids","€ / Tonne",3,"3 €/Tonne",{"$f":"VLOOKUP(J1662,'Codes tarifs éco-part'!$C$3:$E$466,3,FALSE)","v":"474"}]
["REP PMCB",2,"52510050000","-","Electricité","Fils et câbles","Plastiques ou autres matériaux synthétiques >50%","Eléments de toutes dimensions et poids","€ / Tonne",30,"30 €/Tonne",{"$f":"VLOOKUP(J1663,'Codes tarifs éco-part'!$C$3:$E$466,3,FALSE)","v":"153"}]
["REP PMCB",2,"52510120000","-","Electricité","Fils et câbles","Autres","Eléments de toutes dimensions et poids","€ / Tonne",30,"30 €/Tonne",{"$f":"VLOOKUP(J1664,'Codes tarifs éco-part'!$C$3:$E$466,3,FALSE)","v":"153"}]
["REP PMCB",2,"52510280000","-","Electricité","Fils et câbles","Métal >90%","Eléments de toutes dimensions et poids","€ / Tonne",0.5,"0,5 €/Tonne",{"$f":"VLOOKUP(J1665,'Codes tarifs éco-part'!$C$3:$E$466,3,FALSE)","v":"053"}]
["REP PMCB",2,"52510410000","-","Electricité","Fils et câbles","Plastiques (mono résine) >90%","Eléments de toutes dimensions et poids","€ / Tonne",9,"9 €/Tonne",{"$f":"VLOOKUP(J1666,'Codes tarifs éco-part'!$C$3:$E$466,3,FALSE)","v":"484"}]
["REP PMCB",2,"52510420000","-","Electricité","Fils et câbles","Polyterephtalate d'Ethylène (PET) >90%","Eléments de toutes dimensions et poids","€ / Tonne",9,"9 €/Tonne",{"$f":"VLOOKUP(J1667,'Codes tarifs éco-part'!$C$3:$E$466,3,FALSE)","v":"484"}]
["REP PMCB",2,"52510450000","-","Electricité","Fils et câbles","PE ou PP ou mélange PP/PE >90%","Eléments de toutes dimensions et poids","€ / Tonne",9,"9 €/Tonne",{"$f":"VLOOKUP(J1668,'Codes tarifs éco-part'!$C$3:$E$466,3,FALSE)","v":"484"}]
["REP PMCB",2,"52510460000","-","Electricité","Fils et câbles","ABS >90%","Eléments de toutes dimensions et poids","€ / Tonne",9,"9 €/Tonne",{"$f":"VLOOKUP(J1669,'Codes tarifs éco-part'!$C$3:$E$466,3,FALSE)","v":"484"}]
["REP PMCB",2,"52510470000","-","Electricité","Fils et câbles","Polystyrène >90%","Eléments de toutes dimensions et poids","€ / Tonne",9,"9 €/Tonne",{"$f":"VLOOKUP(J1670,'Codes tarifs éco-part'!$C$3:$E$466,3,FALSE)","v":"484"}]
["REP PMCB",2,"52510480000","-","Electricité","Fils et câbles","PVC >90%","Eléments de toutes dimensions et poids","€ / Tonne",9,"9 €/Tonne",{"$f":"VLOOKUP(J1671,'Codes tarifs éco-part'!$C$3:$E$466,3,FALSE)","v":"484"}]
["REP PMCB",2,"52510490000","-","Electricité","Fils et câbles","Caoutchouc synthétique >90%","Eléments de toutes dimensions et poids","€ / Tonne",9,"9 €/Tonne",{"$f":"VLOOKUP(J1672,'Codes tarifs éco-part'!$C$3:$E$466,3,FALSE)","v":"484"}]
["REP PMCB",2,"52510640000","-","Electricité","Fils et câbles","Caoutchouc naturel >50%","Eléments de toutes dimensions et poids","€ / Tonne",9,"9 €/Tonne",{"$f":"VLOOKUP(J1673,'Codes tarifs éco-part'!$C$3:$E$466,3,FALSE)","v":"484"}]
["REP PMCB",2,"52510670000","-","Electricité","Fils et câbles","Assemblage matériaux ou fibres synthétiques >50% avec d'autres matériaux","Eléments de toutes dimensions et poids","€ / Tonne",30,"30 €/Tonne",{"$f":"VLOOKUP(J1674,'Codes tarifs éco-part'!$C$3:$E$466,3,FALSE)","v":"153"}]
["REP PMCB",2,"52510820000","-","Electricité","Fils et câbles","Assemblage de 3 matériaux ou plus sans un matériau à plus de 50%","Eléments de toutes dimensions et poids","€ / Tonne",30,"30 €/Tonne",{"$f":"VLOOKUP(J1675,'Codes tarifs éco-part'!$C$3:$E$466,3,FALSE)","v":"153"}]
["REP PMCB",2,"52511000000","-","Electricité","Gaines et fixation","Non connu ou non spécifié par l'entreprise","Eléments de toutes dimensions et poids","€ / Tonne",30,"30 €/Tonne",{"$f":"VLOOKUP(J1676,'Codes tarifs éco-part'!$C$3:$E$466,3,FALSE)","v":"153"}]
["REP PMCB",2,"52511020000","-","Electricité","Gaines et fixation","Assemblage avec métal >50% et autres matériaux","Eléments de toutes dimensions et poids","€ / Tonne",3,"3 €/Tonne",{"$f":"VLOOKUP(J1677,'Codes tarifs éco-part'!$C$3:$E$466,3,FALSE)","v":"474"}]
["REP PMCB",2,"52511050000","-","Electricité","Gaines et fixation","Plastiques ou autres matériaux synthétiques >50%","Eléments de toutes dimensions et poids","€ / Tonne",30,"30 €/Tonne",{"$f":"VLOOKUP(J1678,'Codes tarifs éco-part'!$C$3:$E$466,3,FALSE)","v":"153"}]
["REP PMCB",2,"52511120000","-","Electricité","Gaines et fixation","Autres","Eléments de toutes dimensions et poids","€ / Tonne",30,"30 €/Tonne",{"$f":"VLOOKUP(J1679,'Codes tarifs éco-part'!$C$3:$E$466,3,FALSE)","v":"153"}]
["REP PMCB",2,"52511280000","-","Electricité","Gaines et fixation","Métal >90%","Eléments de toutes dimensions et poids","€ / Tonne",0.5,"0,5 €/Tonne",{"$f":"VLOOKUP(J1680,'Codes tarifs éco-part'!$C$3:$E$466,3,FALSE)","v":"053"}]
["REP PMCB",2,"52511410000","-","Electricité","Gaines et fixation","Plastiques (mono résine) >90%","Eléments de toutes dimensions et poids","€ / Tonne",9,"9 €/Tonne",{"$f":"VLOOKUP(J1681,'Codes tarifs éco-part'!$C$3:$E$466,3,FALSE)","v":"484"}]
["REP PMCB",2,"52511420000","-","Electricité","Gaines et fixation","Polyterephtalate d'Ethylène (PET) >90%","Eléments de toutes dimensions et poids","€ / Tonne",9,"9 €/Tonne",{"$f":"VLOOKUP(J1682,'Codes tarifs éco-part'!$C$3:$E$466,3,FALSE)","v":"484"}]
["REP PMCB",2,"52511450000","-","Electricité","Gaines et fixation","PE ou PP ou mélange PP/PE >90%","Eléments de toutes dimensions et poids","€ / Tonne",9,"9 €/Tonne",{"$f":"VLOOKUP(J1683,'Codes tarifs éco-part'!$C$3:$E$466,3,FALSE)","v":"484"}]
["REP PMCB",2,"52511460000","-","Electricité","Gaines et fixation","ABS >90%","Eléments de toutes dimensions et poids","€ / Tonne",9,"9 €/Tonne",{"$f":"VLOOKUP(J1684,'Codes tarifs éco-part'!$C$3:$E$466,3,FALSE)","v":"484"}]
["REP PMCB",2,"52511470000","-","Electricité","Gaines et fixation","Polystyrène >90%","Eléments de toutes dimensions et poids","€ / Tonne",9,"9 €/Tonne",{"$f":"VLOOKUP(J1685,'Codes tarifs éco-part'!$C$3:$E$466,3,FALSE)","v":"484"}]
["REP PMCB",2,"52511480000","-","Electricité","Gaines et fixation","PVC >90%","Eléments de toutes dimensions et poids","€ / Tonne",9,"9 €/Tonne",{"$f":"VLOOKUP(J1686,'Codes tarifs éco-part'!$C$3:$E$466,3,FALSE)","v":"484"}]
["REP PMCB",2,"52511490000","-","Electricité","Gaines et fixation","Caoutchouc synthétique >90%","Eléments de toutes dimensions et poids","€ / Tonne",9,"9 €/Tonne",{"$f":"VLOOKUP(J1687,'Codes tarifs éco-part'!$C$3:$E$466,3,FALSE)","v":"484"}]
["REP PMCB",2,"52511640000","-","Electricité","Gaines et fixation","Caoutchouc naturel >50%","Eléments de toutes dimensions et poids","€ / Tonne",9,"9 €/Tonne",{"$f":"VLOOKUP(J1688,'Codes tarifs éco-part'!$C$3:$E$466,3,FALSE)","v":"484"}]
["REP PMCB",2,"52511670000","-","Electricité","Gaines et fixation","Assemblage matériaux ou fibres synthétiques >50% avec d'autres matériaux","Eléments de toutes dimensions et poids","€ / Tonne",30,"30 €/Tonne",{"$f":"VLOOKUP(J1689,'Codes tarifs éco-part'!$C$3:$E$466,3,FALSE)","v":"153"}]
["REP PMCB",2,"52511820000","-","Electricité","Gaines et fixation","Assemblage de 3 matériaux ou plus sans un matériau à plus de 50%","Eléments de toutes dimensions et poids","€ / Tonne",30,"30 €/Tonne",{"$f":"VLOOKUP(J1690,'Codes tarifs éco-part'!$C$3:$E$466,3,FALSE)","v":"153"}]
["REP PMCB",2,"52512000000","-","Electricité","Ascenseurs (hors machinerie)","Non connu ou non spécifié par l'entreprise","Eléments de toutes dimensions et poids","€ / Tonne",30,"30 €/Tonne",{"$f":"VLOOKUP(J1691,'Codes tarifs éco-part'!$C$3:$E$466,3,FALSE)","v":"153"}]
["REP PMCB",2,"52512010000","-","Electricité","Ascenseurs (hors machinerie)","Assemblage de bois, dérivés de bois à plus de 50% avec d'autres matériaux ou bois composite (hors verre)","Eléments de toutes dimensions et poids","€ / Tonne",9,"9 €/Tonne",{"$f":"VLOOKUP(J1692,'Codes tarifs éco-part'!$C$3:$E$466,3,FALSE)","v":"484"}]
["REP PMCB",2,"52512020000","-","Electricité","Ascenseurs (hors machinerie)","Assemblage avec métal >50% et autres matériaux","Eléments de toutes dimensions et poids","€ / Tonne",3,"3 €/Tonne",{"$f":"VLOOKUP(J1693,'Codes tarifs éco-part'!$C$3:$E$466,3,FALSE)","v":"474"}]
["REP PMCB",2,"52512050000","-","Electricité","Ascenseurs (hors machinerie)","Plastiques ou autres matériaux synthétiques >50%","Eléments de toutes dimensions et poids","€ / Tonne",30,"30 €/Tonne",{"$f":"VLOOKUP(J1694,'Codes tarifs éco-part'!$C$3:$E$466,3,FALSE)","v":"153"}]
["REP PMCB",2,"52512120000","-","Electricité","Ascenseurs (hors machinerie)","Autres","Eléments de toutes dimensions et poids","€ / Tonne",30,"30 €/Tonne",{"$f":"VLOOKUP(J1695,'Codes tarifs éco-part'!$C$3:$E$466,3,FALSE)","v":"153"}]
["REP PMCB",2,"52512280000","-","Electricité","Ascenseurs (hors machinerie)","Métal >90%","Eléments de toutes dimensions et poids","€ / Tonne",0.5,"0,5 €/Tonne",{"$f":"VLOOKUP(J1696,'Codes tarifs éco-part'!$C$3:$E$466,3,FALSE)","v":"053"}]
["REP PMCB",2,"52512410000","-","Electricité","Ascenseurs (hors machinerie)","Plastiques (mono résine) >90%","Eléments de toutes dimensions et poids","€ / Tonne",9,"9 €/Tonne",{"$f":"VLOOKUP(J1697,'Codes tarifs éco-part'!$C$3:$E$466,3,FALSE)","v":"484"}]
["REP PMCB",2,"52512420000","-","Electricité","Ascenseurs (hors machinerie)","Polyterephtalate d'Ethylène (PET) >90%","Eléments de toutes dimensions et poids","€ / Tonne",9,"9 €/Tonne",{"$f":"VLOOKUP(J1698,'Codes tarifs éco-part'!$C$3:$E$466,3,FALSE)","v":"484"}]
["REP PMCB",2,"52512450000","-","Electricité","Ascenseurs (hors machinerie)","PE ou PP ou mélange PP/PE >90%","Eléments de toutes dimensions et poids","€ / Tonne",9,"9 €/Tonne",{"$f":"VLOOKUP(J1699,'Codes tarifs éco-part'!$C$3:$E$466,3,FALSE)","v":"484"}]
["REP PMCB",2,"52512460000","-","Electricité","Ascenseurs (hors machinerie)","ABS >90%","Eléments de toutes dimensions et poids","€ / Tonne",9,"9 €/Tonne",{"$f":"VLOOKUP(J1700,'Codes tarifs éco-part'!$C$3:$E$466,3,FALSE)","v":"484"}]
["REP PMCB",2,"52512470000","-","Electricité","Ascenseurs (hors machinerie)","Polystyrène >90%","Eléments de toutes dimensions et poids","€ / Tonne",9,"9 €/Tonne",{"$f":"VLOOKUP(J1701,'Codes tarifs éco-part'!$C$3:$E$466,3,FALSE)","v":"484"}]
["REP PMCB",2,"52512480000","-","Electricité","Ascenseurs (hors machinerie)","PVC >90%","Eléments de toutes dimensions et poids","€ / Tonne",9,"9 €/Tonne",{"$f":"VLOOKUP(J1702,'Codes tarifs éco-part'!$C$3:$E$466,3,FALSE)","v":"484"}]
["REP PMCB",2,"52512670000","-","Electricité","Ascenseurs (hors machinerie)","Assemblage matériaux ou fibres synthétiques >50% avec d'autres matériaux","Eléments de toutes dimensions et poids","€ / Tonne",30,"30 €/Tonne",{"$f":"VLOOKUP(J1703,'Codes tarifs éco-part'!$C$3:$E$466,3,FALSE)","v":"153"}]
["REP PMCB",2,"52512680000","-","Electricité","Ascenseurs (hors machinerie)","Verre >90%","Eléments de toutes dimensions et poids","€ / Tonne",9,"9 €/Tonne",{"$f":"VLOOKUP(J1704,'Codes tarifs éco-part'!$C$3:$E$466,3,FALSE)","v":"484"}]
["REP PMCB",2,"52512690000","-","Electricité","Ascenseurs (hors machinerie)","Miroir >90%","Eléments de toutes dimensions et poids","€ / Tonne",30,"30 €/Tonne",{"$f":"VLOOKUP(J1705,'Codes tarifs éco-part'!$C$3:$E$466,3,FALSE)","v":"153"}]
["REP PMCB",2,"52512700000","-","Electricité","Ascenseurs (hors machinerie)","Assemblage verre à plus de 50% avec métal","Eléments de toutes dimensions et poids","€ / Tonne",9,"9 €/Tonne",{"$f":"VLOOKUP(J1706,'Codes tarifs éco-part'!$C$3:$E$466,3,FALSE)","v":"484"}]
["REP PMCB",2,"52512710000","-","Electricité","Ascenseurs (hors machinerie)","Assemblage verre à plus de 50% avec Inerte","Eléments de toutes dimensions et poids","€ / Tonne",9,"9 €/Tonne",{"$f":"VLOOKUP(J1707,'Codes tarifs éco-part'!$C$3:$E$466,3,FALSE)","v":"484"}]
["REP PMCB",2,"52512720000","-","Electricité","Ascenseurs (hors machinerie)","Assemblage verre à plus de 50% avec bois ou dérivés de bois","Eléments de toutes dimensions et poids","€ / Tonne",9,"9 €/Tonne",{"$f":"VLOOKUP(J1708,'Codes tarifs éco-part'!$C$3:$E$466,3,FALSE)","v":"484"}]
["REP PMCB",2,"52512730000","-","Electricité","Ascenseurs (hors machinerie)","Assemblage verre à plus de 50% avec plastique","Eléments de toutes dimensions et poids","€ / Tonne",9,"9 €/Tonne",{"$f":"VLOOKUP(J1709,'Codes tarifs éco-part'!$C$3:$E$466,3,FALSE)","v":"484"}]
["REP PMCB",2,"52512820000","-","Electricité","Ascenseurs (hors machinerie)","Assemblage de 3 matériaux ou plus sans un matériau à plus de 50%","Eléments de toutes dimensions et poids","€ / Tonne",30,"30 €/Tonne",{"$f":"VLOOKUP(J1710,'Codes tarifs éco-part'!$C$3:$E$466,3,FALSE)","v":"153"}]
["REP PMCB",2,"52513000000","-","Electricité","Caissons de télécommunication","Non connu ou non spécifié par l'entreprise","Eléments de toutes dimensions et poids","€ / Tonne",30,"30 €/Tonne",{"$f":"VLOOKUP(J1711,'Codes tarifs éco-part'!$C$3:$E$466,3,FALSE)","v":"153"}]
["REP PMCB",2,"52513010000","-","Electricité","Caissons de télécommunication","Assemblage de bois, dérivés de bois à plus de 50% avec d'autres matériaux ou bois composite (hors verre)","Eléments de toutes dimensions et poids","€ / Tonne",9,"9 €/Tonne",{"$f":"VLOOKUP(J1712,'Codes tarifs éco-part'!$C$3:$E$466,3,FALSE)","v":"484"}]
["REP PMCB",2,"52513020000","-","Electricité","Caissons de télécommunication","Assemblage avec métal >50% et autres matériaux","Eléments de toutes dimensions et poids","€ / Tonne",3,"3 €/Tonne",{"$f":"VLOOKUP(J1713,'Codes tarifs éco-part'!$C$3:$E$466,3,FALSE)","v":"474"}]
["REP PMCB",2,"52513050000","-","Electricité","Caissons de télécommunication","Plastiques ou autres matériaux synthétiques >50%","Eléments de toutes dimensions et poids","€ / Tonne",30,"30 €/Tonne",{"$f":"VLOOKUP(J1714,'Codes tarifs éco-part'!$C$3:$E$466,3,FALSE)","v":"153"}]
["REP PMCB",2,"52513120000","-","Electricité","Caissons de télécommunication","Autres","Eléments de toutes dimensions et poids","€ / Tonne",30,"30 €/Tonne",{"$f":"VLOOKUP(J1715,'Codes tarifs éco-part'!$C$3:$E$466,3,FALSE)","v":"153"}]
["REP PMCB",2,"52513280000","-","Electricité","Caissons de télécommunication","Métal >90%","Eléments de toutes dimensions et poids","€ / Tonne",0.5,"0,5 €/Tonne",{"$f":"VLOOKUP(J1716,'Codes tarifs éco-part'!$C$3:$E$466,3,FALSE)","v":"053"}]
["REP PMCB",2,"52513410000","-","Electricité","Caissons de télécommunication","Plastiques (mono résine) >90%","Eléments de toutes dimensions et poids","€ / Tonne",9,"9 €/Tonne",{"$f":"VLOOKUP(J1717,'Codes tarifs éco-part'!$C$3:$E$466,3,FALSE)","v":"484"}]
["REP PMCB",2,"52513420000","-","Electricité","Caissons de télécommunication","Polyterephtalate d'Ethylène (PET) >90%","Eléments de toutes dimensions et poids","€ / Tonne",9,"9 €/Tonne",{"$f":"VLOOKUP(J1718,'Codes tarifs éco-part'!$C$3:$E$466,3,FALSE)","v":"484"}]
["REP PMCB",2,"52513450000","-","Electricité","Caissons de télécommunication","PE ou PP ou mélange PP/PE >90%","Eléments de toutes dimensions et poids","€ / Tonne",9,"9 €/Tonne",{"$f":"VLOOKUP(J1719,'Codes tarifs éco-part'!$C$3:$E$466,3,FALSE)","v":"484"}]
["REP PMCB",2,"52513460000","-","Electricité","Caissons de télécommunication","ABS >90%","Eléments de toutes dimensions et poids","€ / Tonne",9,"9 €/Tonne",{"$f":"VLOOKUP(J1720,'Codes tarifs éco-part'!$C$3:$E$466,3,FALSE)","v":"484"}]
["REP PMCB",2,"52513470000","-","Electricité","Caissons de télécommunication","Polystyrène >90%","Eléments de toutes dimensions et poids","€ / Tonne",9,"9 €/Tonne",{"$f":"VLOOKUP(J1721,'Codes tarifs éco-part'!$C$3:$E$466,3,FALSE)","v":"484"}]
["REP PMCB",2,"52513480000","-","Electricité","Caissons de télécommunication","PVC >90%","Eléments de toutes dimensions et poids","€ / Tonne",9,"9 €/Tonne",{"$f":"VLOOKUP(J1722,'Codes tarifs éco-part'!$C$3:$E$466,3,FALSE)","v":"484"}]
["REP PMCB",2,"52513670000","-","Electricité","Caissons de télécommunication","Assemblage matériaux ou fibres synthétiques >50% avec d'autres matériaux","Eléments de toutes dimensions et poids","€ / Tonne",30,"30 €/Tonne",{"$f":"VLOOKUP(J1723,'Codes tarifs éco-part'!$C$3:$E$466,3,FALSE)","v":"153"}]
["REP PMCB",1,"52513740000","12 93 40 00","Electricité","Caissons de télécommunication","Béton >90%","Eléments de toutes dimensions et poids","€ / Tonne",2.4300000000000002,"2,43 €/Tonne",{"$f":"VLOOKUP(J1724,'Codes tarifs éco-part'!$C$3:$E$466,3,FALSE)","v":"471"}]
["REP PMCB",2,"52513820000","-","Electricité","Caissons de télécommunication","Assemblage de 3 matériaux ou plus sans un matériau à plus de 50%","Eléments de toutes dimensions et poids","€ / Tonne",30,"30 €/Tonne",{"$f":"VLOOKUP(J1725,'Codes tarifs éco-part'!$C$3:$E$466,3,FALSE)","v":"153"}]
["REP PMCB",2,"52514120000","-","Electricité","Supports pour lignes aériennes","Autres","Eléments de toutes dimensions et poids","€ / Tonne",30,"30 €/Tonne",{"$f":"VLOOKUP(J1726,'Codes tarifs éco-part'!$C$3:$E$466,3,FALSE)","v":"153"}]
["REP PMCB",1,"52514740000","12 92 00 00","Electricité","Supports pour lignes aériennes","Béton >90%","Eléments de toutes dimensions et poids","€ / Tonne",2.4300000000000002,"2,43 €/Tonne",{"$f":"VLOOKUP(J1727,'Codes tarifs éco-part'!$C$3:$E$466,3,FALSE)","v":"471"}]
["REP PMCB",2,"52516000000","-","Electricité","Divers produits d'électricité hors prises","Non connu ou non spécifié par l'entreprise","Eléments de toutes dimensions et poids","€ / Tonne",30,"30 €/Tonne",{"$f":"VLOOKUP(J1728,'Codes tarifs éco-part'!$C$3:$E$466,3,FALSE)","v":"153"}]
["REP PMCB",2,"52516020000","-","Electricité","Divers produits d'électricité hors prises","Assemblage avec métal >50% et autres matériaux","Eléments de toutes dimensions et poids","€ / Tonne",3,"3 €/Tonne",{"$f":"VLOOKUP(J1729,'Codes tarifs éco-part'!$C$3:$E$466,3,FALSE)","v":"474"}]
["REP PMCB",2,"52516050000","-","Electricité","Divers produits d'électricité hors prises","Plastiques ou autres matériaux synthétiques >50%","Eléments de toutes dimensions et poids","€ / Tonne",30,"30 €/Tonne",{"$f":"VLOOKUP(J1730,'Codes tarifs éco-part'!$C$3:$E$466,3,FALSE)","v":"153"}]
["REP PMCB",2,"52516120000","-","Electricité","Divers produits d'électricité hors prises","Autres","Eléments de toutes dimensions et poids","€ / Tonne",30,"30 €/Tonne",{"$f":"VLOOKUP(J1731,'Codes tarifs éco-part'!$C$3:$E$466,3,FALSE)","v":"153"}]
["REP PMCB",2,"52516190000","-","Electricité","Divers produits d'électricité hors prises","Papier carton >50% avec d'autres matériaux (hors verre)","Eléments de toutes dimensions et poids","€ / Tonne",17,"17 €/Tonne",{"$f":"VLOOKUP(J1732,'Codes tarifs éco-part'!$C$3:$E$466,3,FALSE)","v":"487"}]
["REP PMCB",2,"52516280000","-","Electricité","Divers produits d'électricité hors prises","Métal >90%","Eléments de toutes dimensions et poids","€ / Tonne",0.5,"0,5 €/Tonne",{"$f":"VLOOKUP(J1733,'Codes tarifs éco-part'!$C$3:$E$466,3,FALSE)","v":"053"}]
["REP PMCB",2,"52516410000","-","Electricité","Divers produits d'électricité hors prises","Plastiques (mono résine) >90%","Eléments de toutes dimensions et poids","€ / Tonne",9,"9 €/Tonne",{"$f":"VLOOKUP(J1734,'Codes tarifs éco-part'!$C$3:$E$466,3,FALSE)","v":"484"}]
["REP PMCB",2,"52516420000","-","Electricité","Divers produits d'électricité hors prises","Polyterephtalate d'Ethylène (PET) >90%","Eléments de toutes dimensions et poids","€ / Tonne",9,"9 €/Tonne",{"$f":"VLOOKUP(J1735,'Codes tarifs éco-part'!$C$3:$E$466,3,FALSE)","v":"484"}]
["REP PMCB",2,"52516450000","-","Electricité","Divers produits d'électricité hors prises","PE ou PP ou mélange PP/PE >90%","Eléments de toutes dimensions et poids","€ / Tonne",9,"9 €/Tonne",{"$f":"VLOOKUP(J1736,'Codes tarifs éco-part'!$C$3:$E$466,3,FALSE)","v":"484"}]
["REP PMCB",2,"52516460000","-","Electricité","Divers produits d'électricité hors prises","ABS >90%","Eléments de toutes dimensions et poids","€ / Tonne",9,"9 €/Tonne",{"$f":"VLOOKUP(J1737,'Codes tarifs éco-part'!$C$3:$E$466,3,FALSE)","v":"484"}]
["REP PMCB",2,"52516470000","-","Electricité","Divers produits d'électricité hors prises","Polystyrène >90%","Eléments de toutes dimensions et poids","€ / Tonne",9,"9 €/Tonne",{"$f":"VLOOKUP(J1738,'Codes tarifs éco-part'!$C$3:$E$466,3,FALSE)","v":"484"}]
["REP PMCB",2,"52516480000","-","Electricité","Divers produits d'électricité hors prises","PVC >90%","Eléments de toutes dimensions et poids","€ / Tonne",9,"9 €/Tonne",{"$f":"VLOOKUP(J1739,'Codes tarifs éco-part'!$C$3:$E$466,3,FALSE)","v":"484"}]
["REP PMCB",2,"52516490000","-","Electricité","Divers produits d'électricité hors prises","Caoutchouc synthétique >90%","Eléments de toutes dimensions et poids","€ / Tonne",9,"9 €/Tonne",{"$f":"VLOOKUP(J1740,'Codes tarifs éco-part'!$C$3:$E$466,3,FALSE)","v":"484"}]
["REP PMCB",2,"52516550000","-","Electricité","Divers produits d'électricité hors prises","Matériaux bio sourcés ou textiles non synthétiques >90%","Eléments de toutes dimensions et poids","€ / Tonne",4,"4 €/Tonne",{"$f":"VLOOKUP(J1741,'Codes tarifs éco-part'!$C$3:$E$466,3,FALSE)","v":"274"}]
["REP PMCB",2,"52516640000","-","Electricité","Divers produits d'électricité hors prises","Caoutchouc naturel >50%","Eléments de toutes dimensions et poids","€ / Tonne",9,"9 €/Tonne",{"$f":"VLOOKUP(J1742,'Codes tarifs éco-part'!$C$3:$E$466,3,FALSE)","v":"484"}]
["REP PMCB",2,"52516670000","-","Electricité","Divers produits d'électricité hors prises","Assemblage matériaux ou fibres synthétiques >50% avec d'autres matériaux","Eléments de toutes dimensions et poids","€ / Tonne",30,"30 €/Tonne",{"$f":"VLOOKUP(J1743,'Codes tarifs éco-part'!$C$3:$E$466,3,FALSE)","v":"153"}]
["REP PMCB",2,"52516820000","-","Electricité","Divers produits d'électricité hors prises","Assemblage de 3 matériaux ou plus sans un matériau à plus de 50%","Eléments de toutes dimensions et poids","€ / Tonne",30,"30 €/Tonne",{"$f":"VLOOKUP(J1744,'Codes tarifs éco-part'!$C$3:$E$466,3,FALSE)","v":"153"}]
["REP PMCB",2,"53525000000","-","Chauffage et traitement de l'air","Cheminées et inserts","Non connu ou non spécifié par l'entreprise","Eléments de toutes dimensions et poids","€ / Tonne",30,"30 €/Tonne",{"$f":"VLOOKUP(J1745,'Codes tarifs éco-part'!$C$3:$E$466,3,FALSE)","v":"153"}]
["REP PMCB",2,"53525020000","-","Chauffage et traitement de l'air","Cheminées et inserts","Assemblage avec métal >50% et autres matériaux","Eléments de toutes dimensions et poids","€ / Tonne",3,"3 €/Tonne",{"$f":"VLOOKUP(J1746,'Codes tarifs éco-part'!$C$3:$E$466,3,FALSE)","v":"474"}]
["REP PMCB",2,"53525050000","-","Chauffage et traitement de l'air","Cheminées et inserts","Plastiques ou autres matériaux synthétiques >50%","Eléments de toutes dimensions et poids","€ / Tonne",30,"30 €/Tonne",{"$f":"VLOOKUP(J1747,'Codes tarifs éco-part'!$C$3:$E$466,3,FALSE)","v":"153"}]
["REP PMCB",2,"53525120000","-","Chauffage et traitement de l'air","Cheminées et inserts","Autres","Eléments de toutes dimensions et poids","€ / Tonne",30,"30 €/Tonne",{"$f":"VLOOKUP(J1748,'Codes tarifs éco-part'!$C$3:$E$466,3,FALSE)","v":"153"}]
["REP PMCB",2,"53525280000","-","Chauffage et traitement de l'air","Cheminées et inserts","Métal >90%","Eléments de toutes dimensions et poids","€ / Tonne",0.5,"0,5 €/Tonne",{"$f":"VLOOKUP(J1749,'Codes tarifs éco-part'!$C$3:$E$466,3,FALSE)","v":"053"}]
["REP PMCB",2,"53525410000","-","Chauffage et traitement de l'air","Cheminées et inserts","Plastiques (mono résine) >90%","Eléments de toutes dimensions et poids","€ / Tonne",9,"9 €/Tonne",{"$f":"VLOOKUP(J1750,'Codes tarifs éco-part'!$C$3:$E$466,3,FALSE)","v":"484"}]
["REP PMCB",2,"53525420000","-","Chauffage et traitement de l'air","Cheminées et inserts","Polyterephtalate d'Ethylène (PET) >90%","Eléments de toutes dimensions et poids","€ / Tonne",9,"9 €/Tonne",{"$f":"VLOOKUP(J1751,'Codes tarifs éco-part'!$C$3:$E$466,3,FALSE)","v":"484"}]
["REP PMCB",2,"53525450000","-","Chauffage et traitement de l'air","Cheminées et inserts","PE ou PP ou mélange PP/PE >90%","Eléments de toutes dimensions et poids","€ / Tonne",9,"9 €/Tonne",{"$f":"VLOOKUP(J1752,'Codes tarifs éco-part'!$C$3:$E$466,3,FALSE)","v":"484"}]
["REP PMCB",2,"53525460000","-","Chauffage et traitement de l'air","Cheminées et inserts","ABS >90%","Eléments de toutes dimensions et poids","€ / Tonne",9,"9 €/Tonne",{"$f":"VLOOKUP(J1753,'Codes tarifs éco-part'!$C$3:$E$466,3,FALSE)","v":"484"}]
["REP PMCB",2,"53525470000","-","Chauffage et traitement de l'air","Cheminées et inserts","Polystyrène >90%","Eléments de toutes dimensions et poids","€ / Tonne",9,"9 €/Tonne",{"$f":"VLOOKUP(J1754,'Codes tarifs éco-part'!$C$3:$E$466,3,FALSE)","v":"484"}]
["REP PMCB",2,"53525480000","-","Chauffage et traitement de l'air","Cheminées et inserts","PVC >90%","Eléments de toutes dimensions et poids","€ / Tonne",9,"9 €/Tonne",{"$f":"VLOOKUP(J1755,'Codes tarifs éco-part'!$C$3:$E$466,3,FALSE)","v":"484"}]
["REP PMCB",2,"53525670000","-","Chauffage et traitement de l'air","Cheminées et inserts","Assemblage matériaux ou fibres synthétiques >50% avec d'autres matériaux","Eléments de toutes dimensions et poids","€ / Tonne",30,"30 €/Tonne",{"$f":"VLOOKUP(J1756,'Codes tarifs éco-part'!$C$3:$E$466,3,FALSE)","v":"153"}]
["REP PMCB",2,"53525700000","-","Chauffage et traitement de l'air","Cheminées et inserts","Assemblage verre à plus de 50% avec métal","Eléments de toutes dimensions et poids","€ / Tonne",9,"9 €/Tonne",{"$f":"VLOOKUP(J1757,'Codes tarifs éco-part'!$C$3:$E$466,3,FALSE)","v":"484"}]
["REP PMCB",2,"53525710000","-","Chauffage et traitement de l'air","Cheminées et inserts","Assemblage verre à plus de 50% avec Inerte","Eléments de toutes dimensions et poids","€ / Tonne",9,"9 €/Tonne",{"$f":"VLOOKUP(J1758,'Codes tarifs éco-part'!$C$3:$E$466,3,FALSE)","v":"484"}]
["REP PMCB",2,"53525820000","-","Chauffage et traitement de l'air","Cheminées et inserts","Assemblage de 3 matériaux ou plus sans un matériau à plus de 50%","Eléments de toutes dimensions et poids","€ / Tonne",30,"30 €/Tonne",{"$f":"VLOOKUP(J1759,'Codes tarifs éco-part'!$C$3:$E$466,3,FALSE)","v":"153"}]
["REP PMCB",2,"53526000000","-","Chauffage et traitement de l'air","Fumisterie","Non connu ou non spécifié par l'entreprise","Eléments de toutes dimensions et poids","€ / Tonne",30,"30 €/Tonne",{"$f":"VLOOKUP(J1760,'Codes tarifs éco-part'!$C$3:$E$466,3,FALSE)","v":"153"}]
["REP PMCB",2,"53526020000","-","Chauffage et traitement de l'air","Fumisterie","Assemblage avec métal >50% et autres matériaux","Eléments de toutes dimensions et poids","€ / Tonne",3,"3 €/Tonne",{"$f":"VLOOKUP(J1761,'Codes tarifs éco-part'!$C$3:$E$466,3,FALSE)","v":"474"}]
["REP PMCB",2,"53526050000","-","Chauffage et traitement de l'air","Fumisterie","Plastiques ou autres matériaux synthétiques >50%","Eléments de toutes dimensions et poids","€ / Tonne",30,"30 €/Tonne",{"$f":"VLOOKUP(J1762,'Codes tarifs éco-part'!$C$3:$E$466,3,FALSE)","v":"153"}]
["REP PMCB",2,"53526120000","-","Chauffage et traitement de l'air","Fumisterie","Autres","Eléments de toutes dimensions et poids","€ / Tonne",30,"30 €/Tonne",{"$f":"VLOOKUP(J1763,'Codes tarifs éco-part'!$C$3:$E$466,3,FALSE)","v":"153"}]
["REP PMCB",2,"53526280000","-","Chauffage et traitement de l'air","Fumisterie","Métal >90%","Eléments de toutes dimensions et poids","€ / Tonne",0.5,"0,5 €/Tonne",{"$f":"VLOOKUP(J1764,'Codes tarifs éco-part'!$C$3:$E$466,3,FALSE)","v":"053"}]
["REP PMCB",2,"53526410000","-","Chauffage et traitement de l'air","Fumisterie","Plastiques (mono résine) >90%","Eléments de toutes dimensions et poids","€ / Tonne",9,"9 €/Tonne",{"$f":"VLOOKUP(J1765,'Codes tarifs éco-part'!$C$3:$E$466,3,FALSE)","v":"484"}]
["REP PMCB",2,"53526420000","-","Chauffage et traitement de l'air","Fumisterie","Polyterephtalate d'Ethylène (PET) >90%","Eléments de toutes dimensions et poids","€ / Tonne",9,"9 €/Tonne",{"$f":"VLOOKUP(J1766,'Codes tarifs éco-part'!$C$3:$E$466,3,FALSE)","v":"484"}]
["REP PMCB",2,"53526450000","-","Chauffage et traitement de l'air","Fumisterie","PE ou PP ou mélange PP/PE >90%","Eléments de toutes dimensions et poids","€ / Tonne",9,"9 €/Tonne",{"$f":"VLOOKUP(J1767,'Codes tarifs éco-part'!$C$3:$E$466,3,FALSE)","v":"484"}]
["REP PMCB",2,"53526460000","-","Chauffage et traitement de l'air","Fumisterie","ABS >90%","Eléments de toutes dimensions et poids","€ / Tonne",9,"9 €/Tonne",{"$f":"VLOOKUP(J1768,'Codes tarifs éco-part'!$C$3:$E$466,3,FALSE)","v":"484"}]
["REP PMCB",2,"53526470000","-","Chauffage et traitement de l'air","Fumisterie","Polystyrène >90%","Eléments de toutes dimensions et poids","€ / Tonne",9,"9 €/Tonne",{"$f":"VLOOKUP(J1769,'Codes tarifs éco-part'!$C$3:$E$466,3,FALSE)","v":"484"}]
["REP PMCB",2,"53526480000","-","Chauffage et traitement de l'air","Fumisterie","PVC >90%","Eléments de toutes dimensions et poids","€ / Tonne",9,"9 €/Tonne",{"$f":"VLOOKUP(J1770,'Codes tarifs éco-part'!$C$3:$E$466,3,FALSE)","v":"484"}]
["REP PMCB",2,"53526670000","-","Chauffage et traitement de l'air","Fumisterie","Assemblage matériaux ou fibres synthétiques >50% avec d'autres matériaux","Eléments de toutes dimensions et poids","€ / Tonne",30,"30 €/Tonne",{"$f":"VLOOKUP(J1771,'Codes tarifs éco-part'!$C$3:$E$466,3,FALSE)","v":"153"}]
["REP PMCB",2,"53526820000","-","Chauffage et traitement de l'air","Fumisterie","Assemblage de 3 matériaux ou plus sans un matériau à plus de 50%","Eléments de toutes dimensions et poids","€ / Tonne",30,"30 €/Tonne",{"$f":"VLOOKUP(J1772,'Codes tarifs éco-part'!$C$3:$E$466,3,FALSE)","v":"153"}]
["REP PMCB",2,"53527000000","-","Chauffage et traitement de l'air","Chauffage central","Non connu ou non spécifié par l'entreprise","Eléments de toutes dimensions et poids","€ / Tonne",30,"30 €/Tonne",{"$f":"VLOOKUP(J1773,'Codes tarifs éco-part'!$C$3:$E$466,3,FALSE)","v":"153"}]
["REP PMCB",2,"53527020000","-","Chauffage et traitement de l'air","Chauffage central","Assemblage avec métal >50% et autres matériaux","Eléments de toutes dimensions et poids","€ / Tonne",3,"3 €/Tonne",{"$f":"VLOOKUP(J1774,'Codes tarifs éco-part'!$C$3:$E$466,3,FALSE)","v":"474"}]
["REP PMCB",2,"53527050000","-","Chauffage et traitement de l'air","Chauffage central","Plastiques ou autres matériaux synthétiques >50%","Eléments de toutes dimensions et poids","€ / Tonne",30,"30 €/Tonne",{"$f":"VLOOKUP(J1775,'Codes tarifs éco-part'!$C$3:$E$466,3,FALSE)","v":"153"}]
["REP PMCB",2,"53527120000","-","Chauffage et traitement de l'air","Chauffage central","Autres","Eléments de toutes dimensions et poids","€ / Tonne",30,"30 €/Tonne",{"$f":"VLOOKUP(J1776,'Codes tarifs éco-part'!$C$3:$E$466,3,FALSE)","v":"153"}]
["REP PMCB",2,"53527280000","-","Chauffage et traitement de l'air","Chauffage central","Métal >90%","Eléments de toutes dimensions et poids","€ / Tonne",0.5,"0,5 €/Tonne",{"$f":"VLOOKUP(J1777,'Codes tarifs éco-part'!$C$3:$E$466,3,FALSE)","v":"053"}]
["REP PMCB",2,"53527410000","-","Chauffage et traitement de l'air","Chauffage central","Plastiques (mono résine) >90%","Eléments de toutes dimensions et poids","€ / Tonne",9,"9 €/Tonne",{"$f":"VLOOKUP(J1778,'Codes tarifs éco-part'!$C$3:$E$466,3,FALSE)","v":"484"}]
["REP PMCB",2,"53527420000","-","Chauffage et traitement de l'air","Chauffage central","Polyterephtalate d'Ethylène (PET) >90%","Eléments de toutes dimensions et poids","€ / Tonne",9,"9 €/Tonne",{"$f":"VLOOKUP(J1779,'Codes tarifs éco-part'!$C$3:$E$466,3,FALSE)","v":"484"}]
["REP PMCB",2,"53527450000","-","Chauffage et traitement de l'air","Chauffage central","PE ou PP ou mélange PP/PE >90%","Eléments de toutes dimensions et poids","€ / Tonne",9,"9 €/Tonne",{"$f":"VLOOKUP(J1780,'Codes tarifs éco-part'!$C$3:$E$466,3,FALSE)","v":"484"}]
["REP PMCB",2,"53527460000","-","Chauffage et traitement de l'air","Chauffage central","ABS >90%","Eléments de toutes dimensions et poids","€ / Tonne",9,"9 €/Tonne",{"$f":"VLOOKUP(J1781,'Codes tarifs éco-part'!$C$3:$E$466,3,FALSE)","v":"484"}]
["REP PMCB",2,"53527470000","-","Chauffage et traitement de l'air","Chauffage central","Polystyrène >90%","Eléments de toutes dimensions et poids","€ / Tonne",9,"9 €/Tonne",{"$f":"VLOOKUP(J1782,'Codes tarifs éco-part'!$C$3:$E$466,3,FALSE)","v":"484"}]
["REP PMCB",2,"53527480000","-","Chauffage et traitement de l'air","Chauffage central","PVC >90%","Eléments de toutes dimensions et poids","€ / Tonne",9,"9 €/Tonne",{"$f":"VLOOKUP(J1783,'Codes tarifs éco-part'!$C$3:$E$466,3,FALSE)","v":"484"}]
["REP PMCB",2,"53527670000","-","Chauffage et traitement de l'air","Chauffage central","Assemblage matériaux ou fibres synthétiques >50% avec d'autres matériaux","Eléments de toutes dimensions et poids","€ / Tonne",30,"30 €/Tonne",{"$f":"VLOOKUP(J1784,'Codes tarifs éco-part'!$C$3:$E$466,3,FALSE)","v":"153"}]
["REP PMCB",2,"53527820000","-","Chauffage et traitement de l'air","Chauffage central","Assemblage de 3 matériaux ou plus sans un matériau à plus de 50%","Eléments de toutes dimensions et poids","€ / Tonne",30,"30 €/Tonne",{"$f":"VLOOKUP(J1785,'Codes tarifs éco-part'!$C$3:$E$466,3,FALSE)","v":"153"}]
["REP PMCB",2,"53528000000","-","Chauffage et traitement de l'air","Radiateurs","Non connu ou non spécifié par l'entreprise","Eléments de toutes dimensions et poids","€ / Tonne",30,"30 €/Tonne",{"$f":"VLOOKUP(J1786,'Codes tarifs éco-part'!$C$3:$E$466,3,FALSE)","v":"153"}]
["REP PMCB",2,"53528020000","-","Chauffage et traitement de l'air","Radiateurs","Assemblage avec métal >50% et autres matériaux","Eléments de toutes dimensions et poids","€ / Tonne",3,"3 €/Tonne",{"$f":"VLOOKUP(J1787,'Codes tarifs éco-part'!$C$3:$E$466,3,FALSE)","v":"474"}]
["REP PMCB",2,"53528025100","-","Chauffage et traitement de l'air","Radiateurs","Assemblage avec métal >50% et autres matériaux","Radiateur < 1 mètre (plus grande largeur ou hauteur)","€ / Unité",0.01,"0,01 €/Unité",{"$f":"VLOOKUP(J1788,'Codes tarifs éco-part'!$C$3:$E$466,3,FALSE)","v":"260"}]
["REP PMCB",2,"53528025110","-","Chauffage et traitement de l'air","Radiateurs","Assemblage avec métal >50% et autres matériaux","Radiateur > 1 mètre (plus grande largeur ou hauteur)","€ / Unité",0.03,"0,03 €/Unité",{"$f":"VLOOKUP(J1789,'Codes tarifs éco-part'!$C$3:$E$466,3,FALSE)","v":"092"}]
["REP PMCB",2,"53528120000","-","Chauffage et traitement de l'air","Radiateurs","Autres","Eléments de toutes dimensions et poids","€ / Tonne",30,"30 €/Tonne",{"$f":"VLOOKUP(J1790,'Codes tarifs éco-part'!$C$3:$E$466,3,FALSE)","v":"153"}]
["REP PMCB",2,"53528280000","-","Chauffage et traitement de l'air","Radiateurs","Métal >90%","Eléments de toutes dimensions et poids","€ / Tonne",0.5,"0,5 €/Tonne",{"$f":"VLOOKUP(J1791,'Codes tarifs éco-part'!$C$3:$E$466,3,FALSE)","v":"053"}]
["REP PMCB",2,"53528820000","-","Chauffage et traitement de l'air","Radiateurs","Assemblage de 3 matériaux ou plus sans un matériau à plus de 50%","Eléments de toutes dimensions et poids","€ / Tonne",30,"30 €/Tonne",{"$f":"VLOOKUP(J1792,'Codes tarifs éco-part'!$C$3:$E$466,3,FALSE)","v":"153"}]
["REP PMCB",2,"53528825100","-","Chauffage et traitement de l'air","Radiateurs","Assemblage de 3 matériaux ou plus sans un matériau à plus de 50%","Radiateur < 1 mètre (plus grande largeur ou hauteur)","€ / Unité",0.01,"0,01 €/Unité",{"$f":"VLOOKUP(J1793,'Codes tarifs éco-part'!$C$3:$E$466,3,FALSE)","v":"260"}]
["REP PMCB",2,"53528825110","-","Chauffage et traitement de l'air","Radiateurs","Assemblage de 3 matériaux ou plus sans un matériau à plus de 50%","Radiateur > 1 mètre (plus grande largeur ou hauteur)","€ / Unité",0.03,"0,03 €/Unité",{"$f":"VLOOKUP(J1794,'Codes tarifs éco-part'!$C$3:$E$466,3,FALSE)","v":"092"}]
["REP PMCB",2,"53529000000","-","Chauffage et traitement de l'air","Poêles non-électriques","Non connu ou non spécifié par l'entreprise","Eléments de toutes dimensions et poids","€ / Tonne",30,"30 €/Tonne",{"$f":"VLOOKUP(J1795,'Codes tarifs éco-part'!$C$3:$E$466,3,FALSE)","v":"153"}]
["REP PMCB",2,"53529020000","-","Chauffage et traitement de l'air","Poêles non-électriques","Assemblage avec métal >50% et autres matériaux","Eléments de toutes dimensions et poids","€ / Tonne",3,"3 €/Tonne",{"$f":"VLOOKUP(J1796,'Codes tarifs éco-part'!$C$3:$E$466,3,FALSE)","v":"474"}]
["REP PMCB",2,"53529050000","-","Chauffage et traitement de l'air","Poêles non-électriques","Plastiques ou autres matériaux synthétiques >50%","Eléments de toutes dimensions et poids","€ / Tonne",30,"30 €/Tonne",{"$f":"VLOOKUP(J1797,'Codes tarifs éco-part'!$C$3:$E$466,3,FALSE)","v":"153"}]
["REP PMCB",2,"53529120000","-","Chauffage et traitement de l'air","Poêles non-électriques","Autres","Eléments de toutes dimensions et poids","€ / Tonne",30,"30 €/Tonne",{"$f":"VLOOKUP(J1798,'Codes tarifs éco-part'!$C$3:$E$466,3,FALSE)","v":"153"}]
["REP PMCB",2,"53529280000","-","Chauffage et traitement de l'air","Poêles non-électriques","Métal >90%","Eléments de toutes dimensions et poids","€ / Tonne",0.5,"0,5 €/Tonne",{"$f":"VLOOKUP(J1799,'Codes tarifs éco-part'!$C$3:$E$466,3,FALSE)","v":"053"}]
["REP PMCB",2,"53529410000","-","Chauffage et traitement de l'air","Poêles non-électriques","Plastiques (mono résine) >90%","Eléments de toutes dimensions et poids","€ / Tonne",9,"9 €/Tonne",{"$f":"VLOOKUP(J1800,'Codes tarifs éco-part'!$C$3:$E$466,3,FALSE)","v":"484"}]
["REP PMCB",2,"53529420000","-","Chauffage et traitement de l'air","Poêles non-électriques","Polyterephtalate d'Ethylène (PET) >90%","Eléments de toutes dimensions et poids","€ / Tonne",9,"9 €/Tonne",{"$f":"VLOOKUP(J1801,'Codes tarifs éco-part'!$C$3:$E$466,3,FALSE)","v":"484"}]
["REP PMCB",2,"53529450000","-","Chauffage et traitement de l'air","Poêles non-électriques","PE ou PP ou mélange PP/PE >90%","Eléments de toutes dimensions et poids","€ / Tonne",9,"9 €/Tonne",{"$f":"VLOOKUP(J1802,'Codes tarifs éco-part'!$C$3:$E$466,3,FALSE)","v":"484"}]
["REP PMCB",2,"53529460000","-","Chauffage et traitement de l'air","Poêles non-électriques","ABS >90%","Eléments de toutes dimensions et poids","€ / Tonne",9,"9 €/Tonne",{"$f":"VLOOKUP(J1803,'Codes tarifs éco-part'!$C$3:$E$466,3,FALSE)","v":"484"}]
["REP PMCB",2,"53529470000","-","Chauffage et traitement de l'air","Poêles non-électriques","Polystyrène >90%","Eléments de toutes dimensions et poids","€ / Tonne",9,"9 €/Tonne",{"$f":"VLOOKUP(J1804,'Codes tarifs éco-part'!$C$3:$E$466,3,FALSE)","v":"484"}]
["REP PMCB",2,"53529480000","-","Chauffage et traitement de l'air","Poêles non-électriques","PVC >90%","Eléments de toutes dimensions et poids","€ / Tonne",9,"9 €/Tonne",{"$f":"VLOOKUP(J1805,'Codes tarifs éco-part'!$C$3:$E$466,3,FALSE)","v":"484"}]
["REP PMCB",2,"53529670000","-","Chauffage et traitement de l'air","Poêles non-électriques","Assemblage matériaux ou fibres synthétiques >50% avec d'autres matériaux","Eléments de toutes dimensions et poids","€ / Tonne",30,"30 €/Tonne",{"$f":"VLOOKUP(J1806,'Codes tarifs éco-part'!$C$3:$E$466,3,FALSE)","v":"153"}]
["REP PMCB",2,"53529820000","-","Chauffage et traitement de l'air","Poêles non-électriques","Assemblage de 3 matériaux ou plus sans un matériau à plus de 50%","Eléments de toutes dimensions et poids","€ / Tonne",30,"30 €/Tonne",{"$f":"VLOOKUP(J1807,'Codes tarifs éco-part'!$C$3:$E$466,3,FALSE)","v":"153"}]
["REP PMCB",2,"53530000000","-","Chauffage et traitement de l'air","Traitement de l'air et ventilation","Non connu ou non spécifié par l'entreprise","Eléments de toutes dimensions et poids","€ / Tonne",30,"30 €/Tonne",{"$f":"VLOOKUP(J1808,'Codes tarifs éco-part'!$C$3:$E$466,3,FALSE)","v":"153"}]
["REP PMCB",2,"53530020000","-","Chauffage et traitement de l'air","Traitement de l'air et ventilation","Assemblage avec métal >50% et autres matériaux","Eléments de toutes dimensions et poids","€ / Tonne",3,"3 €/Tonne",{"$f":"VLOOKUP(J1809,'Codes tarifs éco-part'!$C$3:$E$466,3,FALSE)","v":"474"}]
["REP PMCB",2,"53530050000","-","Chauffage et traitement de l'air","Traitement de l'air et ventilation","Plastiques ou autres matériaux synthétiques >50%","Eléments de toutes dimensions et poids","€ / Tonne",30,"30 €/Tonne",{"$f":"VLOOKUP(J1810,'Codes tarifs éco-part'!$C$3:$E$466,3,FALSE)","v":"153"}]
["REP PMCB",2,"53530120000","-","Chauffage et traitement de l'air","Traitement de l'air et ventilation","Autres","Eléments de toutes dimensions et poids","€ / Tonne",30,"30 €/Tonne",{"$f":"VLOOKUP(J1811,'Codes tarifs éco-part'!$C$3:$E$466,3,FALSE)","v":"153"}]
["REP PMCB",2,"53530280000","-","Chauffage et traitement de l'air","Traitement de l'air et ventilation","Métal >90%","Eléments de toutes dimensions et poids","€ / Tonne",0.5,"0,5 €/Tonne",{"$f":"VLOOKUP(J1812,'Codes tarifs éco-part'!$C$3:$E$466,3,FALSE)","v":"053"}]
["REP PMCB",2,"53530410000","-","Chauffage et traitement de l'air","Traitement de l'air et ventilation","Plastiques (mono résine) >90%","Eléments de toutes dimensions et poids","€ / Tonne",9,"9 €/Tonne",{"$f":"VLOOKUP(J1813,'Codes tarifs éco-part'!$C$3:$E$466,3,FALSE)","v":"484"}]
["REP PMCB",2,"53530420000","-","Chauffage et traitement de l'air","Traitement de l'air et ventilation","Polyterephtalate d'Ethylène (PET) >90%","Eléments de toutes dimensions et poids","€ / Tonne",9,"9 €/Tonne",{"$f":"VLOOKUP(J1814,'Codes tarifs éco-part'!$C$3:$E$466,3,FALSE)","v":"484"}]
["REP PMCB",2,"53530450000","-","Chauffage et traitement de l'air","Traitement de l'air et ventilation","PE ou PP ou mélange PP/PE >90%","Eléments de toutes dimensions et poids","€ / Tonne",9,"9 €/Tonne",{"$f":"VLOOKUP(J1815,'Codes tarifs éco-part'!$C$3:$E$466,3,FALSE)","v":"484"}]
["REP PMCB",2,"53530460000","-","Chauffage et traitement de l'air","Traitement de l'air et ventilation","ABS >90%","Eléments de toutes dimensions et poids","€ / Tonne",9,"9 €/Tonne",{"$f":"VLOOKUP(J1816,'Codes tarifs éco-part'!$C$3:$E$466,3,FALSE)","v":"484"}]
["REP PMCB",2,"53530470000","-","Chauffage et traitement de l'air","Traitement de l'air et ventilation","Polystyrène >90%","Eléments de toutes dimensions et poids","€ / Tonne",9,"9 €/Tonne",{"$f":"VLOOKUP(J1817,'Codes tarifs éco-part'!$C$3:$E$466,3,FALSE)","v":"484"}]
["REP PMCB",2,"53530480000","-","Chauffage et traitement de l'air","Traitement de l'air et ventilation","PVC >90%","Eléments de toutes dimensions et poids","€ / Tonne",9,"9 €/Tonne",{"$f":"VLOOKUP(J1818,'Codes tarifs éco-part'!$C$3:$E$466,3,FALSE)","v":"484"}]
["REP PMCB",2,"53530670000","-","Chauffage et traitement de l'air","Traitement de l'air et ventilation","Assemblage matériaux ou fibres synthétiques >50% avec d'autres matériaux","Eléments de toutes dimensions et poids","€ / Tonne",30,"30 €/Tonne",{"$f":"VLOOKUP(J1819,'Codes tarifs éco-part'!$C$3:$E$466,3,FALSE)","v":"153"}]
["REP PMCB",2,"53530820000","-","Chauffage et traitement de l'air","Traitement de l'air et ventilation","Assemblage de 3 matériaux ou plus sans un matériau à plus de 50%","Eléments de toutes dimensions et poids","€ / Tonne",30,"30 €/Tonne",{"$f":"VLOOKUP(J1820,'Codes tarifs éco-part'!$C$3:$E$466,3,FALSE)","v":"153"}]
["REP PMCB",2,"54535000000","-","Eléments de jardin maçonnés et leurs pièces structurelles","Abris de jardins, serres maçonnées, pergolas et vérandas","Non connu ou non spécifié par l'entreprise","Eléments de toutes dimensions et poids","€ / Tonne",30,"30 €/Tonne",{"$f":"VLOOKUP(J1821,'Codes tarifs éco-part'!$C$3:$E$466,3,FALSE)","v":"153"}]
["REP PMCB",2,"54535010000","-","Eléments de jardin maçonnés et leurs pièces structurelles","Abris de jardins, serres maçonnées, pergolas et vérandas","Assemblage de bois, dérivés de bois à plus de 50% avec d'autres matériaux ou bois composite (hors verre)","Eléments de toutes dimensions et poids","€ / Tonne",9,"9 €/Tonne",{"$f":"VLOOKUP(J1822,'Codes tarifs éco-part'!$C$3:$E$466,3,FALSE)","v":"484"}]
["REP PMCB",2,"54535020000","-","Eléments de jardin maçonnés et leurs pièces structurelles","Abris de jardins, serres maçonnées, pergolas et vérandas","Assemblage avec métal >50% et autres matériaux","Eléments de toutes dimensions et poids","€ / Tonne",3,"3 €/Tonne",{"$f":"VLOOKUP(J1823,'Codes tarifs éco-part'!$C$3:$E$466,3,FALSE)","v":"474"}]
["REP PMCB",2,"54535050000","-","Eléments de jardin maçonnés et leurs pièces structurelles","Abris de jardins, serres maçonnées, pergolas et vérandas","Plastiques ou autres matériaux synthétiques >50%","Eléments de toutes dimensions et poids","€ / Tonne",30,"30 €/Tonne",{"$f":"VLOOKUP(J1824,'Codes tarifs éco-part'!$C$3:$E$466,3,FALSE)","v":"153"}]
["REP PMCB",2,"54535120000","-","Eléments de jardin maçonnés et leurs pièces structurelles","Abris de jardins, serres maçonnées, pergolas et vérandas","Autres","Eléments de toutes dimensions et poids","€ / Tonne",30,"30 €/Tonne",{"$f":"VLOOKUP(J1825,'Codes tarifs éco-part'!$C$3:$E$466,3,FALSE)","v":"153"}]
["REP PMCB",2,"54535190000","-","Eléments de jardin maçonnés et leurs pièces structurelles","Abris de jardins, serres maçonnées, pergolas et vérandas","Papier carton >50% avec d'autres matériaux (hors verre)","Eléments de toutes dimensions et poids","€ / Tonne",17,"17 €/Tonne",{"$f":"VLOOKUP(J1826,'Codes tarifs éco-part'!$C$3:$E$466,3,FALSE)","v":"487"}]
["REP PMCB",2,"54535280000","-","Eléments de jardin maçonnés et leurs pièces structurelles","Abris de jardins, serres maçonnées, pergolas et vérandas","Métal >90%","Eléments de toutes dimensions et poids","€ / Tonne",0.5,"0,5 €/Tonne",{"$f":"VLOOKUP(J1827,'Codes tarifs éco-part'!$C$3:$E$466,3,FALSE)","v":"053"}]
["REP PMCB",2,"54535410000","-","Eléments de jardin maçonnés et leurs pièces structurelles","Abris de jardins, serres maçonnées, pergolas et vérandas","Plastiques (mono résine) >90%","Eléments de toutes dimensions et poids","€ / Tonne",9,"9 €/Tonne",{"$f":"VLOOKUP(J1828,'Codes tarifs éco-part'!$C$3:$E$466,3,FALSE)","v":"484"}]
["REP PMCB",2,"54535420000","-","Eléments de jardin maçonnés et leurs pièces structurelles","Abris de jardins, serres maçonnées, pergolas et vérandas","Polyterephtalate d'Ethylène (PET) >90%","Eléments de toutes dimensions et poids","€ / Tonne",9,"9 €/Tonne",{"$f":"VLOOKUP(J1829,'Codes tarifs éco-part'!$C$3:$E$466,3,FALSE)","v":"484"}]
["REP PMCB",2,"54535450000","-","Eléments de jardin maçonnés et leurs pièces structurelles","Abris de jardins, serres maçonnées, pergolas et vérandas","PE ou PP ou mélange PP/PE >90%","Eléments de toutes dimensions et poids","€ / Tonne",9,"9 €/Tonne",{"$f":"VLOOKUP(J1830,'Codes tarifs éco-part'!$C$3:$E$466,3,FALSE)","v":"484"}]
["REP PMCB",2,"54535460000","-","Eléments de jardin maçonnés et leurs pièces structurelles","Abris de jardins, serres maçonnées, pergolas et vérandas","ABS >90%","Eléments de toutes dimensions et poids","€ / Tonne",9,"9 €/Tonne",{"$f":"VLOOKUP(J1831,'Codes tarifs éco-part'!$C$3:$E$466,3,FALSE)","v":"484"}]
["REP PMCB",2,"54535470000","-","Eléments de jardin maçonnés et leurs pièces structurelles","Abris de jardins, serres maçonnées, pergolas et vérandas","Polystyrène >90%","Eléments de toutes dimensions et poids","€ / Tonne",9,"9 €/Tonne",{"$f":"VLOOKUP(J1832,'Codes tarifs éco-part'!$C$3:$E$466,3,FALSE)","v":"484"}]
["REP PMCB",2,"54535480000","-","Eléments de jardin maçonnés et leurs pièces structurelles","Abris de jardins, serres maçonnées, pergolas et vérandas","PVC >90%","Eléments de toutes dimensions et poids","€ / Tonne",9,"9 €/Tonne",{"$f":"VLOOKUP(J1833,'Codes tarifs éco-part'!$C$3:$E$466,3,FALSE)","v":"484"}]
["REP PMCB",2,"54535490000","-","Eléments de jardin maçonnés et leurs pièces structurelles","Abris de jardins, serres maçonnées, pergolas et vérandas","Caoutchouc synthétique >90%","Eléments de toutes dimensions et poids","€ / Tonne",9,"9 €/Tonne",{"$f":"VLOOKUP(J1834,'Codes tarifs éco-part'!$C$3:$E$466,3,FALSE)","v":"484"}]
["REP PMCB",2,"54535530000","-","Eléments de jardin maçonnés et leurs pièces structurelles","Abris de jardins, serres maçonnées, pergolas et vérandas","Massif et assimilés >90%","Eléments de toutes dimensions et poids","€ / Tonne",8,"8 €/Tonne",{"$f":"VLOOKUP(J1835,'Codes tarifs éco-part'!$C$3:$E$466,3,FALSE)","v":"483"}]
["REP PMCB",2,"54535550000","-","Eléments de jardin maçonnés et leurs pièces structurelles","Abris de jardins, serres maçonnées, pergolas et vérandas","Matériaux bio sourcés ou textiles non synthétiques >90%","Eléments de toutes dimensions et poids","€ / Tonne",4,"4 €/Tonne",{"$f":"VLOOKUP(J1836,'Codes tarifs éco-part'!$C$3:$E$466,3,FALSE)","v":"274"}]
["REP PMCB",2,"54535610000","-","Eléments de jardin maçonnés et leurs pièces structurelles","Abris de jardins, serres maçonnées, pergolas et vérandas","Panneaux de particules ou OSB >90%","Eléments de toutes dimensions et poids","€ / Tonne",8,"8 €/Tonne",{"$f":"VLOOKUP(J1837,'Codes tarifs éco-part'!$C$3:$E$466,3,FALSE)","v":"483"}]
["REP PMCB",2,"54535620000","-","Eléments de jardin maçonnés et leurs pièces structurelles","Abris de jardins, serres maçonnées, pergolas et vérandas","Dérivés de bois >90%","Eléments de toutes dimensions et poids","€ / Tonne",8,"8 €/Tonne",{"$f":"VLOOKUP(J1838,'Codes tarifs éco-part'!$C$3:$E$466,3,FALSE)","v":"483"}]
["REP PMCB",2,"54535670000","-","Eléments de jardin maçonnés et leurs pièces structurelles","Abris de jardins, serres maçonnées, pergolas et vérandas","Assemblage matériaux ou fibres synthétiques >50% avec d'autres matériaux","Eléments de toutes dimensions et poids","€ / Tonne",30,"30 €/Tonne",{"$f":"VLOOKUP(J1839,'Codes tarifs éco-part'!$C$3:$E$466,3,FALSE)","v":"153"}]
["REP PMCB",2,"54535680000","-","Eléments de jardin maçonnés et leurs pièces structurelles","Abris de jardins, serres maçonnées, pergolas et vérandas","Verre >90%","Eléments de toutes dimensions et poids","€ / Tonne",9,"9 €/Tonne",{"$f":"VLOOKUP(J1840,'Codes tarifs éco-part'!$C$3:$E$466,3,FALSE)","v":"484"}]
["REP PMCB",2,"54535700000","-","Eléments de jardin maçonnés et leurs pièces structurelles","Abris de jardins, serres maçonnées, pergolas et vérandas","Assemblage verre à plus de 50% avec métal","Eléments de toutes dimensions et poids","€ / Tonne",9,"9 €/Tonne",{"$f":"VLOOKUP(J1841,'Codes tarifs éco-part'!$C$3:$E$466,3,FALSE)","v":"484"}]
["REP PMCB",2,"54535710000","-","Eléments de jardin maçonnés et leurs pièces structurelles","Abris de jardins, serres maçonnées, pergolas et vérandas","Assemblage verre à plus de 50% avec Inerte","Eléments de toutes dimensions et poids","€ / Tonne",9,"9 €/Tonne",{"$f":"VLOOKUP(J1842,'Codes tarifs éco-part'!$C$3:$E$466,3,FALSE)","v":"484"}]
["REP PMCB",2,"54535720000","-","Eléments de jardin maçonnés et leurs pièces structurelles","Abris de jardins, serres maçonnées, pergolas et vérandas","Assemblage verre à plus de 50% avec bois ou dérivés de bois","Eléments de toutes dimensions et poids","€ / Tonne",9,"9 €/Tonne",{"$f":"VLOOKUP(J1843,'Codes tarifs éco-part'!$C$3:$E$466,3,FALSE)","v":"484"}]
["REP PMCB",2,"54535730000","-","Eléments de jardin maçonnés et leurs pièces structurelles","Abris de jardins, serres maçonnées, pergolas et vérandas","Assemblage verre à plus de 50% avec plastique","Eléments de toutes dimensions et poids","€ / Tonne",9,"9 €/Tonne",{"$f":"VLOOKUP(J1844,'Codes tarifs éco-part'!$C$3:$E$466,3,FALSE)","v":"484"}]
["REP PMCB",1,"54535740000","12 91 20 00","Eléments de jardin maçonnés et leurs pièces structurelles","Abris de jardins, serres maçonnées, pergolas et vérandas","Béton >90%","Eléments de toutes dimensions et poids","€ / Tonne",2.42,"2,42 €/Tonne",{"$f":"VLOOKUP(J1845,'Codes tarifs éco-part'!$C$3:$E$466,3,FALSE)","v":"470"}]
["REP PMCB",2,"54535820000","-","Eléments de jardin maçonnés et leurs pièces structurelles","Abris de jardins, serres maçonnées, pergolas et vérandas","Assemblage de 3 matériaux ou plus sans un matériau à plus de 50%","Eléments de toutes dimensions et poids","€ / Tonne",30,"30 €/Tonne",{"$f":"VLOOKUP(J1846,'Codes tarifs éco-part'!$C$3:$E$466,3,FALSE)","v":"153"}]
["REP PMCB",2,"54536000000","-","Eléments de jardin maçonnés et leurs pièces structurelles","Clôtures maçonnées et éléments de protection de la parcelle","Non connu ou non spécifié par l'entreprise","Eléments de toutes dimensions et poids","€ / Tonne",30,"30 €/Tonne",{"$f":"VLOOKUP(J1847,'Codes tarifs éco-part'!$C$3:$E$466,3,FALSE)","v":"153"}]
["REP PMCB",2,"54536010000","-","Eléments de jardin maçonnés et leurs pièces structurelles","Clôtures maçonnées et éléments de protection de la parcelle","Assemblage de bois, dérivés de bois à plus de 50% avec d'autres matériaux ou bois composite (hors verre)","Eléments de toutes dimensions et poids","€ / Tonne",9,"9 €/Tonne",{"$f":"VLOOKUP(J1848,'Codes tarifs éco-part'!$C$3:$E$466,3,FALSE)","v":"484"}]
["REP PMCB",2,"54536020000","-","Eléments de jardin maçonnés et leurs pièces structurelles","Clôtures maçonnées et éléments de protection de la parcelle","Assemblage avec métal >50% et autres matériaux","Eléments de toutes dimensions et poids","€ / Tonne",3,"3 €/Tonne",{"$f":"VLOOKUP(J1849,'Codes tarifs éco-part'!$C$3:$E$466,3,FALSE)","v":"474"}]
["REP PMCB",2,"54536050000","-","Eléments de jardin maçonnés et leurs pièces structurelles","Clôtures maçonnées et éléments de protection de la parcelle","Plastiques ou autres matériaux synthétiques >50%","Eléments de toutes dimensions et poids","€ / Tonne",30,"30 €/Tonne",{"$f":"VLOOKUP(J1850,'Codes tarifs éco-part'!$C$3:$E$466,3,FALSE)","v":"153"}]
["REP PMCB",2,"54536120000","-","Eléments de jardin maçonnés et leurs pièces structurelles","Clôtures maçonnées et éléments de protection de la parcelle","Autres","Eléments de toutes dimensions et poids","€ / Tonne",30,"30 €/Tonne",{"$f":"VLOOKUP(J1851,'Codes tarifs éco-part'!$C$3:$E$466,3,FALSE)","v":"153"}]
["REP PMCB",2,"54536280000","-","Eléments de jardin maçonnés et leurs pièces structurelles","Clôtures maçonnées et éléments de protection de la parcelle","Métal >90%","Eléments de toutes dimensions et poids","€ / Tonne",0.5,"0,5 €/Tonne",{"$f":"VLOOKUP(J1852,'Codes tarifs éco-part'!$C$3:$E$466,3,FALSE)","v":"053"}]
["REP PMCB",2,"54536410000","-","Eléments de jardin maçonnés et leurs pièces structurelles","Clôtures maçonnées et éléments de protection de la parcelle","Plastiques (mono résine) >90%","Eléments de toutes dimensions et poids","€ / Tonne",9,"9 €/Tonne",{"$f":"VLOOKUP(J1853,'Codes tarifs éco-part'!$C$3:$E$466,3,FALSE)","v":"484"}]
["REP PMCB",2,"54536420000","-","Eléments de jardin maçonnés et leurs pièces structurelles","Clôtures maçonnées et éléments de protection de la parcelle","Polyterephtalate d'Ethylène (PET) >90%","Eléments de toutes dimensions et poids","€ / Tonne",9,"9 €/Tonne",{"$f":"VLOOKUP(J1854,'Codes tarifs éco-part'!$C$3:$E$466,3,FALSE)","v":"484"}]
["REP PMCB",2,"54536450000","-","Eléments de jardin maçonnés et leurs pièces structurelles","Clôtures maçonnées et éléments de protection de la parcelle","PE ou PP ou mélange PP/PE >90%","Eléments de toutes dimensions et poids","€ / Tonne",9,"9 €/Tonne",{"$f":"VLOOKUP(J1855,'Codes tarifs éco-part'!$C$3:$E$466,3,FALSE)","v":"484"}]
["REP PMCB",2,"54536460000","-","Eléments de jardin maçonnés et leurs pièces structurelles","Clôtures maçonnées et éléments de protection de la parcelle","ABS >90%","Eléments de toutes dimensions et poids","€ / Tonne",9,"9 €/Tonne",{"$f":"VLOOKUP(J1856,'Codes tarifs éco-part'!$C$3:$E$466,3,FALSE)","v":"484"}]
["REP PMCB",2,"54536470000","-","Eléments de jardin maçonnés et leurs pièces structurelles","Clôtures maçonnées et éléments de protection de la parcelle","Polystyrène >90%","Eléments de toutes dimensions et poids","€ / Tonne",9,"9 €/Tonne",{"$f":"VLOOKUP(J1857,'Codes tarifs éco-part'!$C$3:$E$466,3,FALSE)","v":"484"}]
["REP PMCB",2,"54536480000","-","Eléments de jardin maçonnés et leurs pièces structurelles","Clôtures maçonnées et éléments de protection de la parcelle","PVC >90%","Eléments de toutes dimensions et poids","€ / Tonne",9,"9 €/Tonne",{"$f":"VLOOKUP(J1858,'Codes tarifs éco-part'!$C$3:$E$466,3,FALSE)","v":"484"}]
["REP PMCB",2,"54536530000","-","Eléments de jardin maçonnés et leurs pièces structurelles","Clôtures maçonnées et éléments de protection de la parcelle","Massif et assimilés >90%","Eléments de toutes dimensions et poids","€ / Tonne",8,"8 €/Tonne",{"$f":"VLOOKUP(J1859,'Codes tarifs éco-part'!$C$3:$E$466,3,FALSE)","v":"483"}]
["REP PMCB",2,"54536550000","-","Eléments de jardin maçonnés et leurs pièces structurelles","Clôtures maçonnées et éléments de protection de la parcelle","Matériaux bio sourcés ou textiles non synthétiques >90%","Eléments de toutes dimensions et poids","€ / Tonne",4,"4 €/Tonne",{"$f":"VLOOKUP(J1860,'Codes tarifs éco-part'!$C$3:$E$466,3,FALSE)","v":"274"}]
["REP PMCB",2,"54536610000","-","Eléments de jardin maçonnés et leurs pièces structurelles","Clôtures maçonnées et éléments de protection de la parcelle","Panneaux de particules ou OSB >90%","Eléments de toutes dimensions et poids","€ / Tonne",8,"8 €/Tonne",{"$f":"VLOOKUP(J1861,'Codes tarifs éco-part'!$C$3:$E$466,3,FALSE)","v":"483"}]
["REP PMCB",2,"54536620000","-","Eléments de jardin maçonnés et leurs pièces structurelles","Clôtures maçonnées et éléments de protection de la parcelle","Dérivés de bois >90%","Eléments de toutes dimensions et poids","€ / Tonne",8,"8 €/Tonne",{"$f":"VLOOKUP(J1862,'Codes tarifs éco-part'!$C$3:$E$466,3,FALSE)","v":"483"}]
["REP PMCB",2,"54536670000","-","Eléments de jardin maçonnés et leurs pièces structurelles","Clôtures maçonnées et éléments de protection de la parcelle","Assemblage matériaux ou fibres synthétiques >50% avec d'autres matériaux","Eléments de toutes dimensions et poids","€ / Tonne",30,"30 €/Tonne",{"$f":"VLOOKUP(J1863,'Codes tarifs éco-part'!$C$3:$E$466,3,FALSE)","v":"153"}]
["REP PMCB",2,"54536700000","-","Eléments de jardin maçonnés et leurs pièces structurelles","Clôtures maçonnées et éléments de protection de la parcelle","Assemblage verre à plus de 50% avec métal","Eléments de toutes dimensions et poids","€ / Tonne",9,"9 €/Tonne",{"$f":"VLOOKUP(J1864,'Codes tarifs éco-part'!$C$3:$E$466,3,FALSE)","v":"484"}]
["REP PMCB",2,"54536710000","-","Eléments de jardin maçonnés et leurs pièces structurelles","Clôtures maçonnées et éléments de protection de la parcelle","Assemblage verre à plus de 50% avec Inerte","Eléments de toutes dimensions et poids","€ / Tonne",9,"9 €/Tonne",{"$f":"VLOOKUP(J1865,'Codes tarifs éco-part'!$C$3:$E$466,3,FALSE)","v":"484"}]
["REP PMCB",2,"54536720000","-","Eléments de jardin maçonnés et leurs pièces structurelles","Clôtures maçonnées et éléments de protection de la parcelle","Assemblage verre à plus de 50% avec bois ou dérivés de bois","Eléments de toutes dimensions et poids","€ / Tonne",9,"9 €/Tonne",{"$f":"VLOOKUP(J1866,'Codes tarifs éco-part'!$C$3:$E$466,3,FALSE)","v":"484"}]
["REP PMCB",2,"54536730000","-","Eléments de jardin maçonnés et leurs pièces structurelles","Clôtures maçonnées et éléments de protection de la parcelle","Assemblage verre à plus de 50% avec plastique","Eléments de toutes dimensions et poids","€ / Tonne",9,"9 €/Tonne",{"$f":"VLOOKUP(J1867,'Codes tarifs éco-part'!$C$3:$E$466,3,FALSE)","v":"484"}]
["REP PMCB",1,"54536740000","12 91 10 00","Eléments de jardin maçonnés et leurs pièces structurelles","Clôtures maçonnées et éléments de protection de la parcelle","Béton >90%","Eléments de toutes dimensions et poids","€ / Tonne",2.42,"2,42 €/Tonne",{"$f":"VLOOKUP(J1868,'Codes tarifs éco-part'!$C$3:$E$466,3,FALSE)","v":"470"}]
["REP PMCB",2,"54536820000","-","Eléments de jardin maçonnés et leurs pièces structurelles","Clôtures maçonnées et éléments de protection de la parcelle","Assemblage de 3 matériaux ou plus sans un matériau à plus de 50%","Eléments de toutes dimensions et poids","€ / Tonne",30,"30 €/Tonne",{"$f":"VLOOKUP(J1869,'Codes tarifs éco-part'!$C$3:$E$466,3,FALSE)","v":"153"}]
["REP PMCB",2,"54537000000","-","Eléments de jardin maçonnés et leurs pièces structurelles","Piscine et accessoires de piscine","Non connu ou non spécifié par l'entreprise","Eléments de toutes dimensions et poids","€ / Tonne",30,"30 €/Tonne",{"$f":"VLOOKUP(J1870,'Codes tarifs éco-part'!$C$3:$E$466,3,FALSE)","v":"153"}]
["REP PMCB",2,"54537010000","-","Eléments de jardin maçonnés et leurs pièces structurelles","Piscine et accessoires de piscine","Assemblage de bois, dérivés de bois à plus de 50% avec d'autres matériaux ou bois composite (hors verre)","Eléments de toutes dimensions et poids","€ / Tonne",9,"9 €/Tonne",{"$f":"VLOOKUP(J1871,'Codes tarifs éco-part'!$C$3:$E$466,3,FALSE)","v":"484"}]
["REP PMCB",2,"54537020000","-","Eléments de jardin maçonnés et leurs pièces structurelles","Piscine et accessoires de piscine","Assemblage avec métal >50% et autres matériaux","Eléments de toutes dimensions et poids","€ / Tonne",3,"3 €/Tonne",{"$f":"VLOOKUP(J1872,'Codes tarifs éco-part'!$C$3:$E$466,3,FALSE)","v":"474"}]
["REP PMCB",2,"54537050000","-","Eléments de jardin maçonnés et leurs pièces structurelles","Piscine et accessoires de piscine","Plastiques ou autres matériaux synthétiques >50%","Eléments de toutes dimensions et poids","€ / Tonne",30,"30 €/Tonne",{"$f":"VLOOKUP(J1873,'Codes tarifs éco-part'!$C$3:$E$466,3,FALSE)","v":"153"}]
["REP PMCB",2,"54537120000","-","Eléments de jardin maçonnés et leurs pièces structurelles","Piscine et accessoires de piscine","Autres","Eléments de toutes dimensions et poids","€ / Tonne",30,"30 €/Tonne",{"$f":"VLOOKUP(J1874,'Codes tarifs éco-part'!$C$3:$E$466,3,FALSE)","v":"153"}]
["REP PMCB",2,"54537280000","-","Eléments de jardin maçonnés et leurs pièces structurelles","Piscine et accessoires de piscine","Métal >90%","Eléments de toutes dimensions et poids","€ / Tonne",0.5,"0,5 €/Tonne",{"$f":"VLOOKUP(J1875,'Codes tarifs éco-part'!$C$3:$E$466,3,FALSE)","v":"053"}]
["REP PMCB",2,"54537410000","-","Eléments de jardin maçonnés et leurs pièces structurelles","Piscine et accessoires de piscine","Plastiques (mono résine) >90%","Eléments de toutes dimensions et poids","€ / Tonne",9,"9 €/Tonne",{"$f":"VLOOKUP(J1876,'Codes tarifs éco-part'!$C$3:$E$466,3,FALSE)","v":"484"}]
["REP PMCB",2,"54537420000","-","Eléments de jardin maçonnés et leurs pièces structurelles","Piscine et accessoires de piscine","Polyterephtalate d'Ethylène (PET) >90%","Eléments de toutes dimensions et poids","€ / Tonne",9,"9 €/Tonne",{"$f":"VLOOKUP(J1877,'Codes tarifs éco-part'!$C$3:$E$466,3,FALSE)","v":"484"}]
["REP PMCB",2,"54537450000","-","Eléments de jardin maçonnés et leurs pièces structurelles","Piscine et accessoires de piscine","PE ou PP ou mélange PP/PE >90%","Eléments de toutes dimensions et poids","€ / Tonne",9,"9 €/Tonne",{"$f":"VLOOKUP(J1878,'Codes tarifs éco-part'!$C$3:$E$466,3,FALSE)","v":"484"}]
["REP PMCB",2,"54537460000","-","Eléments de jardin maçonnés et leurs pièces structurelles","Piscine et accessoires de piscine","ABS >90%","Eléments de toutes dimensions et poids","€ / Tonne",9,"9 €/Tonne",{"$f":"VLOOKUP(J1879,'Codes tarifs éco-part'!$C$3:$E$466,3,FALSE)","v":"484"}]
["REP PMCB",2,"54537470000","-","Eléments de jardin maçonnés et leurs pièces structurelles","Piscine et accessoires de piscine","Polystyrène >90%","Eléments de toutes dimensions et poids","€ / Tonne",9,"9 €/Tonne",{"$f":"VLOOKUP(J1880,'Codes tarifs éco-part'!$C$3:$E$466,3,FALSE)","v":"484"}]
["REP PMCB",2,"54537480000","-","Eléments de jardin maçonnés et leurs pièces structurelles","Piscine et accessoires de piscine","PVC >90%","Eléments de toutes dimensions et poids","€ / Tonne",9,"9 €/Tonne",{"$f":"VLOOKUP(J1881,'Codes tarifs éco-part'!$C$3:$E$466,3,FALSE)","v":"484"}]
["REP PMCB",2,"54537490000","-","Eléments de jardin maçonnés et leurs pièces structurelles","Piscine et accessoires de piscine","Caoutchouc synthétique >90%","Eléments de toutes dimensions et poids","€ / Tonne",9,"9 €/Tonne",{"$f":"VLOOKUP(J1882,'Codes tarifs éco-part'!$C$3:$E$466,3,FALSE)","v":"484"}]
["REP PMCB",2,"54537530000","-","Eléments de jardin maçonnés et leurs pièces structurelles","Piscine et accessoires de piscine","Massif et assimilés >90%","Eléments de toutes dimensions et poids","€ / Tonne",8,"8 €/Tonne",{"$f":"VLOOKUP(J1883,'Codes tarifs éco-part'!$C$3:$E$466,3,FALSE)","v":"483"}]
["REP PMCB",2,"54537550000","-","Eléments de jardin maçonnés et leurs pièces structurelles","Piscine et accessoires de piscine","Matériaux bio sourcés ou textiles non synthétiques >90%","Eléments de toutes dimensions et poids","€ / Tonne",4,"4 €/Tonne",{"$f":"VLOOKUP(J1884,'Codes tarifs éco-part'!$C$3:$E$466,3,FALSE)","v":"274"}]
["REP PMCB",2,"54537610000","-","Eléments de jardin maçonnés et leurs pièces structurelles","Piscine et accessoires de piscine","Panneaux de particules ou OSB >90%","Eléments de toutes dimensions et poids","€ / Tonne",8,"8 €/Tonne",{"$f":"VLOOKUP(J1885,'Codes tarifs éco-part'!$C$3:$E$466,3,FALSE)","v":"483"}]
["REP PMCB",2,"54537620000","-","Eléments de jardin maçonnés et leurs pièces structurelles","Piscine et accessoires de piscine","Dérivés de bois >90%","Eléments de toutes dimensions et poids","€ / Tonne",8,"8 €/Tonne",{"$f":"VLOOKUP(J1886,'Codes tarifs éco-part'!$C$3:$E$466,3,FALSE)","v":"483"}]
["REP PMCB",2,"54537640000","-","Eléments de jardin maçonnés et leurs pièces structurelles","Piscine et accessoires de piscine","Caoutchouc naturel >50%","Eléments de toutes dimensions et poids","€ / Tonne",9,"9 €/Tonne",{"$f":"VLOOKUP(J1887,'Codes tarifs éco-part'!$C$3:$E$466,3,FALSE)","v":"484"}]
["REP PMCB",2,"54537670000","-","Eléments de jardin maçonnés et leurs pièces structurelles","Piscine et accessoires de piscine","Assemblage matériaux ou fibres synthétiques >50% avec d'autres matériaux","Eléments de toutes dimensions et poids","€ / Tonne",30,"30 €/Tonne",{"$f":"VLOOKUP(J1888,'Codes tarifs éco-part'!$C$3:$E$466,3,FALSE)","v":"153"}]
["REP PMCB",2,"54537680000","-","Eléments de jardin maçonnés et leurs pièces structurelles","Piscine et accessoires de piscine","Verre >90%","Eléments de toutes dimensions et poids","€ / Tonne",9,"9 €/Tonne",{"$f":"VLOOKUP(J1889,'Codes tarifs éco-part'!$C$3:$E$466,3,FALSE)","v":"484"}]
["REP PMCB",2,"54537690000","-","Eléments de jardin maçonnés et leurs pièces structurelles","Piscine et accessoires de piscine","Miroir >90%","Eléments de toutes dimensions et poids","€ / Tonne",30,"30 €/Tonne",{"$f":"VLOOKUP(J1890,'Codes tarifs éco-part'!$C$3:$E$466,3,FALSE)","v":"153"}]
["REP PMCB",2,"54537700000","-","Eléments de jardin maçonnés et leurs pièces structurelles","Piscine et accessoires de piscine","Assemblage verre à plus de 50% avec métal","Eléments de toutes dimensions et poids","€ / Tonne",9,"9 €/Tonne",{"$f":"VLOOKUP(J1891,'Codes tarifs éco-part'!$C$3:$E$466,3,FALSE)","v":"484"}]
["REP PMCB",2,"54537710000","-","Eléments de jardin maçonnés et leurs pièces structurelles","Piscine et accessoires de piscine","Assemblage verre à plus de 50% avec Inerte","Eléments de toutes dimensions et poids","€ / Tonne",9,"9 €/Tonne",{"$f":"VLOOKUP(J1892,'Codes tarifs éco-part'!$C$3:$E$466,3,FALSE)","v":"484"}]
["REP PMCB",2,"54537720000","-","Eléments de jardin maçonnés et leurs pièces structurelles","Piscine et accessoires de piscine","Assemblage verre à plus de 50% avec bois ou dérivés de bois","Eléments de toutes dimensions et poids","€ / Tonne",9,"9 €/Tonne",{"$f":"VLOOKUP(J1893,'Codes tarifs éco-part'!$C$3:$E$466,3,FALSE)","v":"484"}]
["REP PMCB",2,"54537730000","-","Eléments de jardin maçonnés et leurs pièces structurelles","Piscine et accessoires de piscine","Assemblage verre à plus de 50% avec plastique","Eléments de toutes dimensions et poids","€ / Tonne",9,"9 €/Tonne",{"$f":"VLOOKUP(J1894,'Codes tarifs éco-part'!$C$3:$E$466,3,FALSE)","v":"484"}]
["REP PMCB",2,"54537820000","-","Eléments de jardin maçonnés et leurs pièces structurelles","Piscine et accessoires de piscine","Assemblage de 3 matériaux ou plus sans un matériau à plus de 50%","Eléments de toutes dimensions et poids","€ / Tonne",30,"30 €/Tonne",{"$f":"VLOOKUP(J1895,'Codes tarifs éco-part'!$C$3:$E$466,3,FALSE)","v":"153"}]
["REP PMCB",2,"54538120000","-","Eléments de jardin maçonnés et leurs pièces structurelles","Eléments de construction pour exploitation agricole","Autres","Eléments de toutes dimensions et poids","€ / Tonne",30,"30 €/Tonne",{"$f":"VLOOKUP(J1896,'Codes tarifs éco-part'!$C$3:$E$466,3,FALSE)","v":"153"}]
["REP PMCB",1,"54538740000","12 93 31 00","Eléments de jardin maçonnés et leurs pièces structurelles","Eléments de construction pour exploitation agricole","Béton >90%","Eléments de toutes dimensions et poids","€ / Tonne",3.88,"3,88 €/Tonne",{"$f":"VLOOKUP(J1897,'Codes tarifs éco-part'!$C$3:$E$466,3,FALSE)","v":"315"}]
["REP PMCB",2,"54540000000","-","Eléments de jardin maçonnés et leurs pièces structurelles","Divers produits de jardins associés à la construction","Non connu ou non spécifié par l'entreprise","Eléments de toutes dimensions et poids","€ / Tonne",30,"30 €/Tonne",{"$f":"VLOOKUP(J1898,'Codes tarifs éco-part'!$C$3:$E$466,3,FALSE)","v":"153"}]
["REP PMCB",2,"54540010000","-","Eléments de jardin maçonnés et leurs pièces structurelles","Divers produits de jardins associés à la construction","Assemblage de bois, dérivés de bois à plus de 50% avec d'autres matériaux ou bois composite (hors verre)","Eléments de toutes dimensions et poids","€ / Tonne",9,"9 €/Tonne",{"$f":"VLOOKUP(J1899,'Codes tarifs éco-part'!$C$3:$E$466,3,FALSE)","v":"484"}]
["REP PMCB",2,"54540020000","-","Eléments de jardin maçonnés et leurs pièces structurelles","Divers produits de jardins associés à la construction","Assemblage avec métal >50% et autres matériaux","Eléments de toutes dimensions et poids","€ / Tonne",3,"3 €/Tonne",{"$f":"VLOOKUP(J1900,'Codes tarifs éco-part'!$C$3:$E$466,3,FALSE)","v":"474"}]
["REP PMCB",2,"54540050000","-","Eléments de jardin maçonnés et leurs pièces structurelles","Divers produits de jardins associés à la construction","Plastiques ou autres matériaux synthétiques >50%","Eléments de toutes dimensions et poids","€ / Tonne",30,"30 €/Tonne",{"$f":"VLOOKUP(J1901,'Codes tarifs éco-part'!$C$3:$E$466,3,FALSE)","v":"153"}]
["REP PMCB",2,"54540120000","-","Eléments de jardin maçonnés et leurs pièces structurelles","Divers produits de jardins associés à la construction","Autres","Eléments de toutes dimensions et poids","€ / Tonne",30,"30 €/Tonne",{"$f":"VLOOKUP(J1902,'Codes tarifs éco-part'!$C$3:$E$466,3,FALSE)","v":"153"}]
["REP PMCB",2,"54540190000","-","Eléments de jardin maçonnés et leurs pièces structurelles","Divers produits de jardins associés à la construction","Papier carton >50% avec d'autres matériaux (hors verre)","Eléments de toutes dimensions et poids","€ / Tonne",17,"17 €/Tonne",{"$f":"VLOOKUP(J1903,'Codes tarifs éco-part'!$C$3:$E$466,3,FALSE)","v":"487"}]
["REP PMCB",2,"54540280000","-","Eléments de jardin maçonnés et leurs pièces structurelles","Divers produits de jardins associés à la construction","Métal >90%","Eléments de toutes dimensions et poids","€ / Tonne",0.5,"0,5 €/Tonne",{"$f":"VLOOKUP(J1904,'Codes tarifs éco-part'!$C$3:$E$466,3,FALSE)","v":"053"}]
["REP PMCB",2,"54540410000","-","Eléments de jardin maçonnés et leurs pièces structurelles","Divers produits de jardins associés à la construction","Plastiques (mono résine) >90%","Eléments de toutes dimensions et poids","€ / Tonne",9,"9 €/Tonne",{"$f":"VLOOKUP(J1905,'Codes tarifs éco-part'!$C$3:$E$466,3,FALSE)","v":"484"}]
["REP PMCB",2,"54540420000","-","Eléments de jardin maçonnés et leurs pièces structurelles","Divers produits de jardins associés à la construction","Polyterephtalate d'Ethylène (PET) >90%","Eléments de toutes dimensions et poids","€ / Tonne",9,"9 €/Tonne",{"$f":"VLOOKUP(J1906,'Codes tarifs éco-part'!$C$3:$E$466,3,FALSE)","v":"484"}]
["REP PMCB",2,"54540450000","-","Eléments de jardin maçonnés et leurs pièces structurelles","Divers produits de jardins associés à la construction","PE ou PP ou mélange PP/PE >90%","Eléments de toutes dimensions et poids","€ / Tonne",9,"9 €/Tonne",{"$f":"VLOOKUP(J1907,'Codes tarifs éco-part'!$C$3:$E$466,3,FALSE)","v":"484"}]
["REP PMCB",2,"54540460000","-","Eléments de jardin maçonnés et leurs pièces structurelles","Divers produits de jardins associés à la construction","ABS >90%","Eléments de toutes dimensions et poids","€ / Tonne",9,"9 €/Tonne",{"$f":"VLOOKUP(J1908,'Codes tarifs éco-part'!$C$3:$E$466,3,FALSE)","v":"484"}]
["REP PMCB",2,"54540470000","-","Eléments de jardin maçonnés et leurs pièces structurelles","Divers produits de jardins associés à la construction","Polystyrène >90%","Eléments de toutes dimensions et poids","€ / Tonne",9,"9 €/Tonne",{"$f":"VLOOKUP(J1909,'Codes tarifs éco-part'!$C$3:$E$466,3,FALSE)","v":"484"}]
["REP PMCB",2,"54540480000","-","Eléments de jardin maçonnés et leurs pièces structurelles","Divers produits de jardins associés à la construction","PVC >90%","Eléments de toutes dimensions et poids","€ / Tonne",9,"9 €/Tonne",{"$f":"VLOOKUP(J1910,'Codes tarifs éco-part'!$C$3:$E$466,3,FALSE)","v":"484"}]
["REP PMCB",2,"54540490000","-","Eléments de jardin maçonnés et leurs pièces structurelles","Divers produits de jardins associés à la construction","Caoutchouc synthétique >90%","Eléments de toutes dimensions et poids","€ / Tonne",9,"9 €/Tonne",{"$f":"VLOOKUP(J1911,'Codes tarifs éco-part'!$C$3:$E$466,3,FALSE)","v":"484"}]
["REP PMCB",2,"54540530000","-","Eléments de jardin maçonnés et leurs pièces structurelles","Divers produits de jardins associés à la construction","Massif et assimilés >90%","Eléments de toutes dimensions et poids","€ / Tonne",8,"8 €/Tonne",{"$f":"VLOOKUP(J1912,'Codes tarifs éco-part'!$C$3:$E$466,3,FALSE)","v":"483"}]
["REP PMCB",2,"54540550000","-","Eléments de jardin maçonnés et leurs pièces structurelles","Divers produits de jardins associés à la construction","Matériaux bio sourcés ou textiles non synthétiques >90%","Eléments de toutes dimensions et poids","€ / Tonne",4,"4 €/Tonne",{"$f":"VLOOKUP(J1913,'Codes tarifs éco-part'!$C$3:$E$466,3,FALSE)","v":"274"}]
["REP PMCB",2,"54540610000","-","Eléments de jardin maçonnés et leurs pièces structurelles","Divers produits de jardins associés à la construction","Panneaux de particules ou OSB >90%","Eléments de toutes dimensions et poids","€ / Tonne",8,"8 €/Tonne",{"$f":"VLOOKUP(J1914,'Codes tarifs éco-part'!$C$3:$E$466,3,FALSE)","v":"483"}]
["REP PMCB",2,"54540620000","-","Eléments de jardin maçonnés et leurs pièces structurelles","Divers produits de jardins associés à la construction","Dérivés de bois >90%","Eléments de toutes dimensions et poids","€ / Tonne",8,"8 €/Tonne",{"$f":"VLOOKUP(J1915,'Codes tarifs éco-part'!$C$3:$E$466,3,FALSE)","v":"483"}]
["REP PMCB",2,"54540640000","-","Eléments de jardin maçonnés et leurs pièces structurelles","Divers produits de jardins associés à la construction","Caoutchouc naturel >50%","Eléments de toutes dimensions et poids","€ / Tonne",9,"9 €/Tonne",{"$f":"VLOOKUP(J1916,'Codes tarifs éco-part'!$C$3:$E$466,3,FALSE)","v":"484"}]
["REP PMCB",2,"54540650000","-","Eléments de jardin maçonnés et leurs pièces structurelles","Divers produits de jardins associés à la construction","Matériaux ou fibres synthétiques >90%","Eléments de toutes dimensions et poids","€ / Tonne",30,"30 €/Tonne",{"$f":"VLOOKUP(J1917,'Codes tarifs éco-part'!$C$3:$E$466,3,FALSE)","v":"153"}]
["REP PMCB",2,"54540670000","-","Eléments de jardin maçonnés et leurs pièces structurelles","Divers produits de jardins associés à la construction","Assemblage matériaux ou fibres synthétiques >50% avec d'autres matériaux","Eléments de toutes dimensions et poids","€ / Tonne",30,"30 €/Tonne",{"$f":"VLOOKUP(J1918,'Codes tarifs éco-part'!$C$3:$E$466,3,FALSE)","v":"153"}]
["REP PMCB",2,"54540680000","-","Eléments de jardin maçonnés et leurs pièces structurelles","Divers produits de jardins associés à la construction","Verre >90%","Eléments de toutes dimensions et poids","€ / Tonne",9,"9 €/Tonne",{"$f":"VLOOKUP(J1919,'Codes tarifs éco-part'!$C$3:$E$466,3,FALSE)","v":"484"}]
["REP PMCB",2,"54540690000","-","Eléments de jardin maçonnés et leurs pièces structurelles","Divers produits de jardins associés à la construction","Miroir >90%","Eléments de toutes dimensions et poids","€ / Tonne",30,"30 €/Tonne",{"$f":"VLOOKUP(J1920,'Codes tarifs éco-part'!$C$3:$E$466,3,FALSE)","v":"153"}]
["REP PMCB",2,"54540700000","-","Eléments de jardin maçonnés et leurs pièces structurelles","Divers produits de jardins associés à la construction","Assemblage verre à plus de 50% avec métal","Eléments de toutes dimensions et poids","€ / Tonne",9,"9 €/Tonne",{"$f":"VLOOKUP(J1921,'Codes tarifs éco-part'!$C$3:$E$466,3,FALSE)","v":"484"}]
["REP PMCB",2,"54540710000","-","Eléments de jardin maçonnés et leurs pièces structurelles","Divers produits de jardins associés à la construction","Assemblage verre à plus de 50% avec Inerte","Eléments de toutes dimensions et poids","€ / Tonne",9,"9 €/Tonne",{"$f":"VLOOKUP(J1922,'Codes tarifs éco-part'!$C$3:$E$466,3,FALSE)","v":"484"}]
["REP PMCB",2,"54540720000","-","Eléments de jardin maçonnés et leurs pièces structurelles","Divers produits de jardins associés à la construction","Assemblage verre à plus de 50% avec bois ou dérivés de bois","Eléments de toutes dimensions et poids","€ / Tonne",9,"9 €/Tonne",{"$f":"VLOOKUP(J1923,'Codes tarifs éco-part'!$C$3:$E$466,3,FALSE)","v":"484"}]
["REP PMCB",2,"54540730000","-","Eléments de jardin maçonnés et leurs pièces structurelles","Divers produits de jardins associés à la construction","Assemblage verre à plus de 50% avec plastique","Eléments de toutes dimensions et poids","€ / Tonne",9,"9 €/Tonne",{"$f":"VLOOKUP(J1924,'Codes tarifs éco-part'!$C$3:$E$466,3,FALSE)","v":"484"}]
["REP PMCB",1,"54540740000","12 68 60 00","Eléments de jardin maçonnés et leurs pièces structurelles","Divers produits de jardins associés à la construction","Béton >90%","Eléments de toutes dimensions et poids","€ / Tonne",4.57,"4,57 €/Tonne",{"$f":"VLOOKUP(J1925,'Codes tarifs éco-part'!$C$3:$E$466,3,FALSE)","v":"478"}]
["REP PMCB",2,"54540820000","-","Eléments de jardin maçonnés et leurs pièces structurelles","Divers produits de jardins associés à la construction","Assemblage de 3 matériaux ou plus sans un matériau à plus de 50%","Eléments de toutes dimensions et poids","€ / Tonne",30,"30 €/Tonne",{"$f":"VLOOKUP(J1926,'Codes tarifs éco-part'!$C$3:$E$466,3,FALSE)","v":"153"}]

{"sheet":"PMCB - Grille d'éco-part","index":7,"n_rows":55,"n_cols":7,"rows_kept":55,"cut":false,"hidden":true,"merged":[[35,1,36,1],[38,1,39,1],[11,1,14,1],[15,1,20,1],[21,1,26,1],[27,1,28,1],[29,1,31,1],[33,1,34,1],[6,1,9,1],[2,2,3,2],[2,4,3,4],[2,5,3,5],[2,6,3,6],[4,1,5,1]]}
["Grille d'éco-participation ecomaison par matériau"]
[]
[null,"Contribution applicable au matériau en € par kg.","#",null,"Toutes catégories de produits (pour le détail des produits concernés voir le fichier Grille Détaillée)","En euros/ kG","En euros/ To"]
[null,"Applicable à compter du 1er janvier 2023."]
[null,"1 - Métal (Cat. a du décret)",{"$f":"VLOOKUP(E5,'Comprendre la codification'!$D$223:$F$301,3,FALSE)","v":28},{"$f":"\"40310\"&C5&\"0000\"","v":"40310280000"},"Métal >90%",5.0000000000000001E-4,{"$f":"F5*1000","v":0.5}]
[null,null,{"$f":"VLOOKUP(E6,'Comprendre la codification'!$D$223:$F$301,3,FALSE)","v":"02"},{"$f":"\"40310\"&C6&\"0000\"","v":"40310020000"},"Assemblage avec métal >50% et autres matériaux",3.0000000000000001E-3,{"$f":"F6*1000","v":3}]
[null,"2 - Bois et dérivés de bois. (Cat. b du décret)",{"$f":"VLOOKUP(E7,'Comprendre la codification'!$D$223:$F$301,3,FALSE)","v":53},"40310530000","Massif et assimilés >90%",8.0000000000000002E-3,8]
[null,null,{"$f":"VLOOKUP(E8,'Comprendre la codification'!$D$223:$F$301,3,FALSE)","v":61},"40310610000","Panneaux de particules ou OSB >90%",8.0000000000000002E-3,8]
[null,null,{"$f":"VLOOKUP(E9,'Comprendre la codification'!$D$223:$F$301,3,FALSE)","v":62},"40310620000","Dérivés de bois >90%",8.0000000000000002E-3,8]
[null,null,{"$f":"VLOOKUP(E10,'Comprendre la codification'!$D$223:$F$301,3,FALSE)","v":"01"},"40310010000","Assemblage de bois, dérivés de bois à plus de 50% avec d'autres matériaux ou bois composite (hors verre)",8.9999999999999993E-3,9]
[null,"3 - Papier carton (Cat. j du décret)",{"$f":"VLOOKUP(E11,'Comprendre la codification'!$D$223:$F$301,3,FALSE)","v":"19"},"40310190000","Papier carton >50% avec d'autres matériaux (hors verre)",1.7000000000000001E-2,17]
[null,"4 - Matériaux et fibres d'origine végétal ou animal autres que bois et papier, carton (Cat. j du décret)",{"$f":"VLOOKUP(E12,'Comprendre la codification'!$D$223:$F$301,3,FALSE)","v":55},"40310550000","Matériaux bio sourcés ou textiles non synthétiques >90%",4.0000000000000001E-3,4]
[null,null,{"$f":"VLOOKUP(E13,'Comprendre la codification'!$D$223:$F$301,3,FALSE)","v":"04"},"40310040000","Matériaux bio sourcés ou textiles non synthétiques >50%",4.0000000000000001E-3,4]
[null,null,{"$f":"VLOOKUP(E14,'Comprendre la codification'!$D$223:$F$301,3,FALSE)","v":63},"40310630000","Caoutchouc naturel >90%",8.9999999999999993E-3,9]
[null,null,{"$f":"VLOOKUP(E15,'Comprendre la codification'!$D$223:$F$301,3,FALSE)","v":64},"40310640000","Caoutchouc naturel >50%",8.9999999999999993E-3,9]
[null,"5 - Plastique, matériaux et fibres synthétiques (Cat. f du décret)",{"$f":"VLOOKUP(E16,'Comprendre la codification'!$D$223:$F$301,3,FALSE)","v":41},"40310410000","Plastiques (mono résine) >90%",8.9999999999999993E-3,9]
[null,null,{"$f":"VLOOKUP(E17,'Comprendre la codification'!$D$223:$F$301,3,FALSE)","v":"05"},"40310050000","Plastiques ou autres matériaux synthétiques >50%",0.03,30]
[null,null,{"$f":"VLOOKUP(E18,'Comprendre la codification'!$D$223:$F$301,3,FALSE)","v":49},"40310490000","Caoutchouc synthétique >90%",8.9999999999999993E-3,9]
[null,null,{"$f":"VLOOKUP(E19,'Comprendre la codification'!$D$223:$F$301,3,FALSE)","v":40},"40310400000","Assemblage caoutchouc synthétique ou latex >50% avec d'autres matériaux",0.03,30]
[null,null,{"$f":"VLOOKUP(E20,'Comprendre la codification'!$D$223:$F$301,3,FALSE)","v":65},"40310650000","Matériaux ou fibres synthétiques >90%",0.03,30]
[null,null,{"$f":"VLOOKUP(E21,'Comprendre la codification'!$D$223:$F$301,3,FALSE)","v":67},"40310670000","Assemblage matériaux ou fibres synthétiques >50% avec d'autres matériaux",0.03,30]
[null,"6 - Verre et parois vitrées (Cat. d du décret)",{"$f":"VLOOKUP(E22,'Comprendre la codification'!$D$223:$F$301,3,FALSE)","v":68},"40310680000","Verre >90%",8.9999999999999993E-3,9]
[null,null,{"$f":"VLOOKUP(E23,'Comprendre la codification'!$D$223:$F$301,3,FALSE)","v":70},"40310700000","Assemblage verre à plus de 50% avec métal",8.9999999999999993E-3,9]
[null,null,{"$f":"VLOOKUP(E24,'Comprendre la codification'!$D$223:$F$301,3,FALSE)","v":71},"40310710000","Assemblage verre à plus de 50% avec Inerte",8.9999999999999993E-3,9]
[null,null,{"$f":"VLOOKUP(E25,'Comprendre la codification'!$D$223:$F$301,3,FALSE)","v":72},"40310720000","Assemblage verre à plus de 50% avec bois ou dérivés de bois",8.9999999999999993E-3,9]
[null,null,{"$f":"VLOOKUP(E26,'Comprendre la codification'!$D$223:$F$301,3,FALSE)","v":73},"40310730000","Assemblage verre à plus de 50% avec plastique",8.9999999999999993E-3,9]
[null,null,{"$f":"VLOOKUP(E27,'Comprendre la codification'!$D$223:$F$301,3,FALSE)","v":69},"40310690000","Miroir >90%",0.03,30]
[null,"7 - Plâtre (Cat. e du décret)",{"$f":"VLOOKUP(E28,'Comprendre la codification'!$D$223:$F$301,3,FALSE)","v":75},"40310750000","Plâtre >90%",3.0000000000000001E-3,3]
[null,null,{"$f":"VLOOKUP(E29,'Comprendre la codification'!$D$223:$F$301,3,FALSE)","v":76},"40310760000","Plâtre >50%",4.0000000000000001E-3,4]
[null,"8- Laines de verre et laines de roches (Cat. h et i du décret)",{"$f":"VLOOKUP(E30,'Comprendre la codification'!$D$223:$F$301,3,FALSE)","v":77},"40310770000","Laines de roche à plus de 90 %",5.0000000000000001E-3,5]
[null,null,{"$f":"VLOOKUP(E31,'Comprendre la codification'!$D$223:$F$301,3,FALSE)","v":78},"40310780000","Laine de verre à plus de 90 %",5.0000000000000001E-3,5]
[null,null,{"$f":"VLOOKUP(E32,'Comprendre la codification'!$D$223:$F$301,3,FALSE)","v":79},"40310790000","Assemblage de laines de verre ou laines de roches à plus de 50% et d'autres matériaux",0.03,30]
[null,"9 - Membranes bitumineuses (Cat. g du décret)",{"$f":"VLOOKUP(E33,'Comprendre la codification'!$D$223:$F$301,3,FALSE)","v":80},"40310800000","Membranes bitumineuses à plus de 90 %",0.03,30]
[null,"10 - Autres mix matériaux ou matériaux non classés ou non spécifiés (produits appartenant aux catégories a,b, d, e, f, g, h, i et j et non spécifiés par l'entreprise)",{"$f":"VLOOKUP(E34,'Comprendre la codification'!$D$223:$F$301,3,FALSE)","v":82},"40310820000","Assemblage de 3 matériaux ou plus sans un matériau à plus de 50%",0.03,30]
[null,null,{"$f":"VLOOKUP(E35,'Comprendre la codification'!$D$223:$F$301,3,FALSE)","v":"00"},"40310000000","Non connu ou non spécifié par l'entreprise",0.03,30]
[null,"11 - Mortiers, enduits, peintures, vernis, résines, produits de préparation (Cat. c du décret)",{"$f":"VLOOKUP(E36,'Comprendre la codification'!$E$172:$F$194,2,FALSE)","v":465},{"$f":"\"50\"&C36&\"000000\"","v":"50465000000"},"Sous-couches, préparation des sols et étanchéité",5.5E-2,55]
[null,null,{"$f":"VLOOKUP(E37,'Comprendre la codification'!$E$172:$F$194,2,FALSE)","v":467},{"$f":"\"50\"&C37&\"000000\"","v":"50467000000"},"Traitements des murs et toitures",1.2E-2,12]
[null,null,{"$f":"VLOOKUP(E38,'Comprendre la codification'!$E$172:$F$194,2,FALSE)","v":468},"50468000000","Peintures intérieures",7.0999999999999994E-2,71]
[null,null,{"$f":"VLOOKUP(E39,'Comprendre la codification'!$E$174:$F$194,2,FALSE)","v":469},"50469000000","Colles et adhésifs",2.9000000000000001E-2,29]
[null,null,{"$f":"VLOOKUP(E40,'Comprendre la codification'!$E$174:$F$194,2,FALSE)","v":483},"50483000000","Résines PU et expansive (aérosol)",0.04,40]
[null,null,{"$f":"VLOOKUP(E41,'Comprendre la codification'!$E$174:$F$194,2,FALSE)","v":470},"50470000000","Mastic, joints et mousses polyuréthanes",1.2999999999999999E-2,13]
[null,null,{"$f":"VLOOKUP(E42,'Comprendre la codification'!$E$174:$F$194,2,FALSE)","v":471},"50471000000","Adjuvants",2.9000000000000001E-2,29]
[null,null,{"$f":"VLOOKUP(E43,'Comprendre la codification'!$E$174:$F$194,2,FALSE)","v":472},"50472000000","Traitements bois",7.5999999999999998E-2,76]
[null,null,{"$f":"VLOOKUP(E44,'Comprendre la codification'!$E$174:$F$194,2,FALSE)","v":485},"50485000000","Traitement des matériaux  (aérosol)",4.1000000000000002E-2,41]
[null,null,{"$f":"VLOOKUP(E45,'Comprendre la codification'!$E$174:$F$194,2,FALSE)","v":486},"50486000000","Traitement des matériaux hors bois ",8.9999999999999993E-3,9]
[null,null,{"$f":"VLOOKUP(E46,'Comprendre la codification'!$E$174:$F$194,2,FALSE)","v":473},"50473000000","Vernis et vitrificateurs",7.0000000000000007E-2,70]
[null,null,{"$f":"VLOOKUP(E47,'Comprendre la codification'!$E$174:$F$194,2,FALSE)","v":487},"50487000000","Vernis et vitrificateurs et dérivés (aérosols)",4.1000000000000002E-2,41]
[null,null,{"$f":"VLOOKUP(E48,'Comprendre la codification'!$E$174:$F$194,2,FALSE)","v":481},"50481000000","Enduits poudre",2E-3,2]
[null,null,{"$f":"VLOOKUP(E49,'Comprendre la codification'!$E$174:$F$194,2,FALSE)","v":480},"50480000000","Enduits pate",5.0000000000000001E-3,5]
[]
[]
[null,"1 -  Aluminium, Acier, fonte, fer, laiton, bronze, tole, cuivre, nickel, titane, zinc, et autres alliages…."]
[null,"2 - Massif = massif, contrecollé, lamellé, plaqué/  Dérivés de bois = bois composite, MDF, HDF, alvéolaire, stratifé, HPL…."]
[null,"5 :  Plastiques et autres matériaux synthétiques : acrylique, PP, PE, PS, XPS, EPS, PER, Nylon, Polyamide, PU, PVC, vinyle, époxy, fibres synthétiques, PL, matériaux composites, carbone…."]
[null,"4 : Matériaux d'origine animale ou végétale autres que le Bois et le Papier Carton : Liège, chanvre, lin, coton, cuir, laine, soie, paille, rafia…."]

{"sheet":"PMCB - Grille forfaitaire","index":8,"n_rows":137,"n_cols":4,"rows_kept":137,"cut":false,"hidden":true,"merged":[[1,0,1,4],[41,0,41,4],[96,0,96,4],[118,0,118,4],[3,0,4,0],[3,1,3,3],[16,0,17,0],[16,1,16,2],[69,0,70,0],[69,1,69,2],[98,1,99,1],[69,3,70,3]]}
[]
["Tarifs en € HT par m2 "]
[]
["Menuiseries Extérieures ","Tarif € HT par unité de vente"]
[null,"Fenêtre <= 1,5 m2","1,5m² < Fenêtre < 3,5 m²"," Fenêtre >= 3,5m²"]
["Fenêtre et porte fenêtre (cadre en métal)",0.2,0.35,0.6]
["Fenêtre et porte fenêtre (cadre en Bois et Dérivés de bois)",0.2,0.35,0.6]
["Fenêtre et porte fenêtre en Plastiques (monorésine)",0.2,0.35,0.6]
["Fenêtre et porte fenêtre (Assemblage de 3 matériaux ou plus sans un matériau à plus de 50% )",0.2,0.5,0.6]
["Volet battant (métal à plus de 90 %)",5.0000000000000001E-3,1.7500000000000002E-2,0.03]
["Volet battant (bois et dérivés de bois à plus de 90 %)",0.1,0.15,0.2]
["Volet battant en Plastiques (monorésine à plus de 90%) ",8.5714285714285715E-2,0.14285714285714285,0.18]
["Volet battant en Plastiques (assemblage de plus de 3 matériaux et matériaux non spécifiés)",0.27,0.35,0.6]
["Volet roulant",0.03,0.05,0.06]
[]
[]
["Plâtre, élément en platre, cloisonnement, plafonds","Tarif en € HT par m²"]
[null,"Ep. <= 13 mm","Ep. > 13 mm"]
["Plâtre > 90 %",0.03,0.06]
["Plâtre > 50% (ex : plaque de platre doublé polystène)",0.06,0.12]
[]
["Revêtement mural","Tarif en € HT par m²"]
["Revêtement mural avec fibre de verre",0.01]
["Revêtement en matériaux bio sourcés ou textiles non synthétiques",0.05]
["Lambris (en bois massif et assimilé et Dérivés de bois > 90 %)",0.04]
["Lambris Plastiques monorésine à plus de 90% (PVC)",0.02]
["Lambris (assemblage de plus de 3 matériaux et matériaux non spécifiés)",0.06]
[]
["Parquets, terrasses bois et autres lames","Tarif en € HT par m²"]
["Bois massif et assimilés > 90 %",0.1]
["Dérivés de bois > 90% (stratifié)",0.08,{"$f":"12000000*B31","v":960000}]
["Assemblage de Bois, dérivés de bois à plus de 50% avec d'autres matériaux ou bois composite (hors verre)",0.08]
["Matériaux bio sourcés ou textiles non synthétiques  > 90%",0.01]
[]
["Autres revetements de sols ","Tarif en € HT par m²"]
["Caoutchouc naturel > 90 %",0.15]
["Caoutchouc synthétique > 90 %",0.15]
["Assemblage Matériaux ou  fibres synthétiques > 50% avec d'autres matériaux",0.15]
["Plastiques (mono résine*) > 90 %",0.03]
["Matériaux bio sourcés ou textiles non synthétiques  > 90%",0.01]
[]
["Tarifs en € HT par unité"]
[]
["Menuiseries intérieures (Portes)","Tarif en  €/HT par unité de vente"]
["Huisserie métallique",0.04]
["Huisserie bois",0.08]
["Huisserie Plastiques (monorésine)",0.08]
["Huisserie (assemblage de plus de 3 matériaux et matériaux non spécifiés)",0.24]
["Ventail porte alvéolaire (Assemblage de bois, dérivés de bois à plus de 50% ou bois composite)",0.13]
["Ventail porte en Bois et dérivés de bois",0.36]
["Ventail porte en métal",0.13]
["Ventail porte vitrées",0.38]
["Ventail porte en verre (>90%)",0.32]
["Ventail porte en Plastiques (monorésine)",0.38]
["Trappes en métal",0.01]
["Trappes en Bois et dérivés de bois",0.05]
["Trappes en Plastiques (monorésine)",0.01]
[]
["Escalier ","Tarif en  €/HT par unité de vente"]
["Massif et assimilés > 90 %",0.8]
["Métal (1) > 90%",0.8]
[]
["Quincallerie et accessoires divers toute catégorie","Tarif en  €/HT par unité de vente"]
["Quincaillerie et accessoires en métal à plus de 90%, par lot ou par unité jusqu'à 5 kg ",0.01]
["Quincaillerie et accessoires en bois ou dérivés de bois, par lot ou par unité jusqu'à 1 kg ",0.01]
["Quincaillerie et accessoires en plastique (mono résine à plus de 90%), par lot ou par unité < 300 g ",0.01]
[]
[]
[]
["Equipements sanitaires pour salle de bain, cuisine et WC","Tarif en  €/HT par unité de vente"]
[null,"Largeur <= 1m","Largeur > 1m"]
["Evier, lavabo et vasque en céramique","ECOMINERO","ECOMINERO"]
["Evier, lavabo et vasque en métal à plus de 90 %",0.01,0.02]
["Evier, lavabo et vasque en bois à plus de 90 %",0.02,0.04]
["Evier, lavabo et vasque en mono résine plastique",{"$f":"0.35/30*9","v":0.10499999999999998},{"$f":"0.6/30*9","v":0.18}]
["Evier, lavabo et vasque en verre à plus de 90 %",0.17,0.3]
["Evier, lavabo et vasque en plastiques et autres matériaux synthétiques",0.17,0.3]
[]
["Equipements sanitaires pour salle de bain, cuisine et WC","Tarif en  €/HT par unité de vente"]
["Receveur de douche en céramique","ECOMINERO"]
["Receveur de douche en métal à plus de 90 %",0.01]
["Receveur de douche en mono résine plastique",0.3]
["Bloc WC en céramique","ECOMINERO"]
["Bloc WC en métal à plus de 90 %",0.1]
["Bloc WC  en plastiques et autres matériaux synthétiques",0.3]
["Baignoire en céramique","ECOMINERO"]
["Baignoire * en métal à plus de 90 %",0.3]
["Baignoire * en bois à plus de 90 %",0.45]
["Baignoire * en plastiques et autres matériaux synthétiques",0.45]
["Baignoire * en mono résine plastique",0.3]
["* hors baignoire balnéo"]
[]
["Chauffage ","Tarif en  €/HT par unité de vente"]
["Radiateur en métal à plus de 90 % < 1 mètre (plus grande largeur ou hauteur)",0.01]
["Radiateur en métal à plus de 90 % > 1 mètre (plus grande largeur ou hauteur)",0.03]
[]
["Tarifs en € HT par kg pour les produits spécifiques"]
[]
["11 - Mortiers, enduits, peintures, vernis, résines, produits de préparation (Cat. c du décret) : tarif en € HT / kg ","En euros HT/ kG"]
["Applicable en 2023."]
["Sous couches, préparation des sols et étanchéité",5.5E-2]
["Peintures extérieures",7.0999999999999994E-2]
["Traitement des sols et toitures",1.2E-2]
["Peintures intérieures",7.0999999999999994E-2]
["Colles et adhésifs",2.9000000000000001E-2]
["Résines PU et expansive (aérosol)",0.04]
["Mastics, joints et mousses PU",1.2999999999999999E-2]
["Adjuvants ",2.9000000000000001E-2]
["Traitement des bois ",7.5999999999999998E-2]
["Traitement des matériaux  (aérosol)",4.1000000000000002E-2]
["Traitement des matériaux hors bois ",8.9999999999999993E-3]
["Vernis et vitrificateurs et dérivés",7.0000000000000007E-2]
["Vernis et vitrificateurs et dérivés (aérosols)",4.1000000000000002E-2]
["Enduits poudre",2E-3]
["Enduits pate",5.0000000000000001E-3]
[]
["Liste complète des produits disponibles dans le fichier générateur des Tarifs et Codes"]
[]
["Tarifs en € HT par m3 ou ml"]
[]
["Tarifs en € HT par m3 ou ml"]
[]
["Bois de charpente et panneaux Bois et dérivés de bois ","Tarif en €/HT par m3"]
["Massif et assimilés > 90 %",4]
["Panneaux de particules ou OSB > 90%",5]
["Dérivés de bois > 90%",5.84]
[]
["Plinthes","Tarif en €/HT par ml"]
["Plastiques (mono résine*) > 90 %",0.01]
["Massif et assimilés > 90 %",0.01]
[]
["Portail","Tarif en €/HT par ml"]
["Massif et assimilés > 90 %",0.09]
["Panneaux de particules ou OSB > 90%",0.09]
["Métal (1) > 90%",0.01]
["Plastiques (mono résine*) > 90 % (PVC)",0.11]
["Assemblage de 3 matériaux ou plus sans un matériau à plus de 50% ",0.33]

{"sheet":"ABJ - Grille d'éco-part","index":9,"n_rows":18,"n_cols":9,"rows_kept":18,"cut":false,"hidden":true,"merged":[[3,0,3,5],[4,0,4,8],[10,0,10,5],[11,0,11,8],[0,0,2,0],[0,8,2,8],[1,1,2,1],[1,2,2,2],[1,3,2,3],[1,4,2,4],[1,5,2,5],[1,6,2,6],[1,7,2,7]]}
["Eco-participations à l’€ / Tonne","Monomatériau (90%)","Monomatériau (90%)","Majorité (>50%)","Majorité (>50%)","Monomatériau (90%)","Monomatériau (90%)","Majorité (>50%)","Mix matériaux ou Assemblage de plus de 3 matériaux sans matériau majoritaire (hors ceux colonne E) ou composites ou non spécifié"]
[null,"Matériaux inertes hors céramique","Céramique","Métal","Bois ou Bois + Métal"," Textile non synthétique ou matériaux biosourcés (Carton, papier, lin, chanvre…)","Textile synthétique, polymères ou Plastique monorésine","Textile synthétique ou Plastique"]
[]
[]
["Cat.3 – Bricolage"]
["1. Outillage à main et leurs accessoires","-","-",10,45,50,165,215,215]
["2. Gros objets et machines non électriques/thermiques et leurs accessoires","-","-",3,10,30,50,75,75]
["3. Outils et supports de travail en hauteur","-","-",3,10,30,50,75,75]
["4. Equipement personnel et accessoires de protection de bricolage","-","-",10,45,50,165,215,215]
["5. Bâches de bricolage","-","-","-","-",50,165,215,215]
[]
["Cat.4 - Entretien et aménagement du jardin"]
["6. Outils à main d'entretien du jardin",5,10,10,45,50,165,215,215]
["7. Equipement personnel de jardinage","-","-",10,45,50,165,215,215]
["8. Pots de fleur et contenants",5,10,10,20,50,130,170,170]
["9. Bâches, housses, films et filets","-","-","-","-",50,165,215,215]
["10. Equipement de plein air",5,10,3,10,30,50,75,75]
["11. Structures extérieures non maçonnées",5,10,3,10,30,50,75,75]

{"sheet":"Codes tarifs éco-part","index":10,"n_rows":466,"n_cols":5,"rows_kept":466,"cut":false,"hidden":true,"merged":[]}
[null,"Codes éco-participation pour matrice de passage"]
[null,{"$f":"Consignes!A7","v":"Version 1.10 - 10 février 2023"}]
[null,"Code éco-participation","Montant € HT / article","Montant € TTC / article \n(TVA à 20%)"]
[null,"499",5.0000000000000001E-3,0.01,{"$f":"B4","v":"499"}]
[null,"260",0.01,0.01,{"$f":"B5","v":"260"}]
[null,"441",1.7999999999999999E-2,{"$f":"C6*1.2","v":2.1599999999999998E-2},{"$f":"B6","v":"441"}]
[null,"047",0.02,0.02,"047"]
[null,"092",0.03,0.04,"092"]
[null,"002",0.04,0.05,"002"]
[null,"048",0.05,0.06,"048"]
[null,"096",0.06,7.0000000000000007E-2,"096"]
[null,"247",7.0000000000000007E-2,0.08,"247"]
[null,"003",0.08,0.1,"003"]
[null,"442",8.5999999999999993E-2,{"$f":"C14*1.2","v":0.10319999999999999},"442"]
[null,"049",0.09,0.11,"049"]
[null,"094",0.1,0.12,"094"]
[null,"443",0.105,{"$f":"C17*1.2","v":0.126},"443"]
[null,"262",0.11,0.13,"262"]
[null,"097",0.12,0.14000000000000001,"097"]
[null,"004",0.13,0.16,"004"]
[null,"098",0.14000000000000001,0.17,"098"]
[null,"444",0.14299999999999999,{"$f":"C22*1.2","v":0.17159999999999997},"444"]
[null,"050",0.15,0.18,"050"]
[null,"099",0.16,0.19,"099"]
[null,"005",0.17,0.2,"005"]
[null,"100",0.18,0.22,"100"]
[null,"291",0.19,0.23,"291"]
[null,"101",0.2,0.24,"101"]
[null,"051",0.21000000000000002,0.25,"051"]
[null,"263",0.22,0.26,"263"]
[null,"323",0.23,{"$f":"C31*1.2","v":0.27600000000000002},"323"]
[null,"248",0.24,0.29000000000000009,"248"]
[null,"095",0.25,0.3,"095"]
[null,"445",0.26,{"$f":"C34*1.2","v":0.312},"445"]
[null,"103",0.27,0.32,"103"]
[null,"324",0.28999999999999998,{"$f":"C36*1.2","v":0.34799999999999998},"324"]
[null,"446",0.3,{"$f":"C37*1.2","v":0.36},"446"]
[null,"104",0.31,0.37,"104"]
[null,"447",0.32,{"$f":"C39*1.2","v":0.38400000000000001},"447"]
[null,"006",0.33,0.4,"006"]
[null,"043",0.34,0.41,"043"]
[null,"448",0.35,{"$f":"C42*1.2","v":0.42},"448"]
[null,"449",0.36,{"$f":"C43*1.2","v":0.432},"449"]
[null,"268",0.37,0.44,"268"]
[null,"292",0.38,0.46,"292"]
[null,"253",0.39,0.47,"253"]
[null,"105",0.4,0.48,{"$f":"B47","v":"105"}]
[null,"450",0.42,{"$f":"C48*1.2","v":0.504},"450"]
[null,"281",0.44,0.53,"281"]
[null,"325",0.45,{"$f":"C50*1.2","v":0.54},"325"]
[null,"106",0.46,0.55000000000000004,"106"]
[null,"107",0.47,0.56000000000000005,"107"]
[null,"108",0.49,0.59,"108"]
[null,"053",0.5,0.6,"053"]
[null,"109",0.51,0.61,"109"]
[null,"451",0.53,{"$f":"C56*1.2","v":0.63600000000000001},"451"]
[null,"326",0.56999999999999995,{"$f":"C57*1.2","v":0.68399999999999994},"326"]
[null,"254",0.59,0.71,"254"]
[null,"327",0.6,{"$f":"C59*1.2","v":0.72},"327"]
[null,"297",0.63,0.76,"297"]
[null,"452",0.64,{"$f":"C61*1.2","v":0.76800000000000002},"452"]
[null,"453",0.66,{"$f":"C62*1.2","v":0.79200000000000004},"453"]
[null,"110",0.66999999999999982,0.8,"110"]
[null,"044",0.68,0.82,"044"]
[null,"111",0.69,0.83000000000000018,"111"]
[null,"282",0.7,0.84,"282"]
[null,"454",0.72,{"$f":"C67*1.2","v":0.86399999999999999},"454"]
[null,"255",0.73,0.88,"255"]
[null,"328",0.75,{"$f":"C69*1.2","v":0.89999999999999991},"328"]
[null,"455",0.76,{"$f":"C70*1.2","v":0.91199999999999992},{"$f":"B70","v":"455"}]
[null,"312",0.78,0.94,"312"]
[null,"456",0.8,{"$f":"C72*1.2","v":0.96},"456"]
[null,"112",0.81,0.97,"112"]
[null,"008",0.83000000000000018,1,"008"]
[null,"457",0.84,{"$f":"C75*1.2","v":1.008},"457"]
[null,"329",0.85,{"$f":"C76*1.2","v":1.02},"329"]
[null,"269",0.88,1.06,"269"]
[null,"330",0.9,{"$f":"C78*1.2","v":1.08},"330"]
[null,"054",0.92,1.1000000000000001,"054"]
[null,"458",0.94,{"$f":"C80*1.2","v":1.1279999999999999},"458"]
[null,"055",0.96,1.1499999999999999,"055"]
[null,"459",0.98,{"$f":"C82*1.2","v":1.1759999999999999},"459"]
[null,"056",1,1.2,"056"]
[null,"298",1.01,1.21,"298"]
[null,"283",1.05,1.26,"283"]
[null,"113",1.08,1.3,"113"]
[null,"270",1.0900000000000001,1.31,"270"]
[null,"331",1.1299999999999999,{"$f":"C88*1.2","v":1.3559999999999999},"331"]
[null,"460",1.1499999999999999,{"$f":"C89*1.2","v":1.38},"460"]
[null,"461",1.18,{"$f":"C90*1.2","v":1.4159999999999999},"461"]
[null,"114",1.21,1.45,"114"]
[null,"313",1.24,1.49,"313"]
[null,"009",1.25,1.5,"009"]
[null,"284",1.31,1.57,"284"]
[null,"115",1.33,1.6,"115"]
[null,"332",1.35,{"$f":"C96*1.2","v":1.62},"332"]
[null,"462",1.38,{"$f":"C97*1.2","v":1.6559999999999999},"462"]
[null,"463",1.4,{"$f":"C98*1.2","v":1.68},"463"]
[null,"333",1.41,{"$f":"C99*1.2","v":1.6919999999999999},"333"]
[null,"057",1.42,1.7,"057"]
[null,"058",1.46,1.75,"058"]
[null,"059",1.5,1.8,"059"]
[null,"299",1.52,1.82,"299"]
[null,"464",1.57,{"$f":"C104*1.2","v":1.8839999999999999},"464"]
[null,"010",1.67,2,"010"]
[null,"465",1.68,{"$f":"C106*1.2","v":2.016},"465"]
[null,"334",1.69,{"$f":"C107*1.2","v":2.028},"334"]
[null,"256",1.7,2.04,"256"]
[null,"116",1.71,2.0499999999999998,"116"]
[null,"394",1.74,{"$f":"C110*1.2","v":2.0880000000000001},"394"]
[null,"466",1.77,{"$f":"C111*1.2","v":2.1240000000000001},"466"]
[null,"467",1.81,{"$f":"C112*1.2","v":2.1720000000000002},"467"]
[null,"271",1.82,2.1800000000000002,"271"]
[null,"117",1.83,2.2000000000000002,"117"]
[null,"314",1.86,2.23,"314"]
[null,"335",1.88,{"$f":"C116*1.2","v":2.2559999999999998},"335"]
[null,"300",1.89,2.27,"300"]
[null,"060",1.92,2.2999999999999998,"060"]
[null,"336",1.97,{"$f":"C119*1.2","v":2.3639999999999999},"336"]
[null,"061",2,2.4,"061"]
[null,"011",2.08,2.5,"011"]
[null,"468",2.09,{"$f":"C122*1.2","v":2.5079999999999996},"468"]
[null,"257",2.1800000000000002,2.62,"257"]
[null,"390",2.2000000000000002,{"$f":"C124*1.2","v":2.64},"390"]
[null,"469",2.21,{"$f":"C125*1.2","v":2.6519999999999997},"469"]
[null,"118",2.25,2.7,"118"]
[null,"062",2.33,2.8,"062"]
[null,"337",2.35,{"$f":"C128*1.2","v":2.82},"337"]
[null,"470",2.42,{"$f":"C129*1.2","v":2.9039999999999999},"470"]
[null,"471",2.4300000000000002,{"$f":"C130*1.2","v":2.9159999999999999},"471"]
[null,"012",2.5,3,"012"]
[null,"338",2.54,{"$f":"C132*1.2","v":3.048},"338"]
[null,"272",2.5499999999999998,3.06,"272"]
[null,"399",2.62,{"$f":"C134*1.2","v":3.1440000000000001},{"$f":"B134","v":"399"}]
[null,"339",2.63,{"$f":"C135*1.2","v":3.1559999999999997},"339"]
[null,"119",2.67,3.2,"119"]
[null,"472",2.74,{"$f":"C137*1.2","v":3.2880000000000003},"472"]
[null,"120",2.75,3.3,"120"]
[null,"473",2.78,{"$f":"C139*1.2","v":3.3359999999999999},"473"]
[null,"340",2.82,{"$f":"C140*1.2","v":3.3839999999999999},"340"]
[null,"437",2.84,{"$f":"C141*1.2","v":3.4079999999999999},"437"]
[null,"400",2.88,{"$f":"C142*1.2","v":3.456},"400"]
[null,"013",2.92,3.5,"013"]
[null,"474",3,{"$f":"C144*1.2","v":3.5999999999999996},"474"]
[null,"285",3.05,3.66,"285"]
[null,"475",3.07,{"$f":"C146*1.2","v":3.6839999999999997},"475"]
[null,"121",3.08,3.7,"121"]
[null,"341",3.1,{"$f":"C148*1.2","v":3.7199999999999998},"341"]
[null,"431",3.11,{"$f":"C149*1.2","v":3.7319999999999998},"431"]
[null,"301",3.15,3.78,"301"]
[null,"438",3.17,{"$f":"C151*1.2","v":3.8039999999999998},"438"]
[null,"476",3.2,{"$f":"C152*1.2","v":3.84},"476"]
[null,"122",3.25,3.9,"122"]
[null,"273",3.27,3.92,"273"]
[null,"342",3.29,{"$f":"C155*1.2","v":3.948},"342"]
[null,"397",3.3,{"$f":"C156*1.2","v":3.9599999999999995},"397"]
[null,"014",3.3299999999999992,4,"014"]
[null,"343",3.38,{"$f":"C158*1.2","v":4.056},"343"]
[null,"249",3.39,4.07,"249"]
[null,"123",3.58,4.3,"123"]
[null,"432",3.61,{"$f":"C161*1.2","v":4.3319999999999999},"432"]
[null,"124",3.67,4.4000000000000004,"124"]
[null,"434",3.68,{"$f":"C163*1.2","v":4.4160000000000004},"434"]
[null,"407",3.73,{"$f":"C164*1.2","v":4.476},"407"]
[null,"015",3.75,4.5,"015"]
[null,"396",3.81,{"$f":"C166*1.2","v":4.5720000000000001},"396"]
[null,"477",3.82,{"$f":"C167*1.2","v":4.5839999999999996},"477"]
[null,"315",3.88,4.66,"315"]
[null,"125",3.92,4.7,"125"]
[null,"286",3.93,4.72,"286"]
[null,"344",3.94,{"$f":"C171*1.2","v":4.7279999999999998},"344"]
[null,"274",4,4.8,"274"]
[null,"345",4.13,{"$f":"C173*1.2","v":4.9559999999999995},"345"]
[null,"016",4.17,5,"016"]
[null,"346",4.22,{"$f":"C175*1.2","v":5.0639999999999992},"346"]
[null,"408",4.33,{"$f":"C176*1.2","v":5.1959999999999997},"408"]
[null,"258",4.3600000000000003,5.23,"258"]
[null,"302",4.41,5.29,"302"]
[null,"126",4.42,5.3,"126"]
[null,"127",4.5,5.4,"127"]
[null,"478",4.57,{"$f":"C181*1.2","v":5.484},"478"]
[null,"065",4.58,5.5,"065"]
[null,"128",4.67,5.6,"128"]
[null,"129",4.75,5.7,"129"]
[null,"287",4.8,5.76,"287"]
[null,"130",4.83,5.8,"130"]
[null,"391",4.84,{"$f":"C187*1.2","v":5.8079999999999998},"391"]
[null,"042",5,6,"042"]
[null,"347",5.07,{"$f":"C189*1.2","v":6.0840000000000005},"347"]
[null,"264",5.09,6.11,"264"]
[null,"479",5.14,{"$f":"C191*1.2","v":6.1679999999999993},"479"]
[null,"348",5.16,{"$f":"C192*1.2","v":6.1920000000000002},"348"]
[null,"131",5.17,6.2,"131"]
[null,"403",5.23,{"$f":"C194*1.2","v":6.2760000000000007},"403"]
[null,"349",5.25,{"$f":"C195*1.2","v":6.3},"349"]
[null,"132",5.33,6.4,"132"]
[null,"416",5.39,{"$f":"C197*1.2","v":6.4679999999999991},"416"]
[null,"017",5.42,6.5,{"$f":"B198","v":"017"}]
[null,"316",5.43,6.52,"316"]
[null,"133",5.58,6.7,"133"]
[null,"303",5.67,6.8,"303"]
[null,"480",5.7,{"$f":"C202*1.2","v":6.84},"480"]
[null,"402",5.72,{"$f":"C203*1.2","v":6.8639999999999999},"402"]
[null,"018",5.83,7,"018"]
[null,"481",5.84,{"$f":"C205*1.2","v":7.008},"481"]
[null,"134",6.08,7.3,"134"]
[null,"278",6.1,7.32,"278"]
[null,"350",6.19,{"$f":"C208*1.2","v":7.4279999999999999},"350"]
[null,"135",6.25,7.5,"135"]
[null,"409",6.39,{"$f":"C210*1.2","v":7.6679999999999993},"409"]
[null,"275",6.54,7.85,"275"]
[null,"351",6.57,{"$f":"C212*1.2","v":7.8840000000000003},"351"]
[null,"440",6.6,{"$f":"C213*1.2","v":7.919999999999999},"440"]
[null,"424",6.62,{"$f":"C214*1.2","v":7.944},"424"]
[null,"019",6.67,8,"019"]
[null,"352",6.75,{"$f":"C216*1.2","v":8.1},"352"]
[null,"392",6.78,{"$f":"C217*1.2","v":8.1359999999999992},"392"]
[null,"136",6.92,8.3000000000000007,"136"]
[null,"304",6.93,8.32,"304"]
[null,"317",6.97,8.36,"317"]
[null,"322",7,8.4,"322"]
[null,"067",7.08,8.5,"067"]
[null,"261",7.26,8.7100000000000009,"261"]
[null,"353",7.32,{"$f":"C224*1.2","v":8.7840000000000007},"353"]
[null,"482",7.46,{"$f":"C225*1.2","v":8.952},"482"]
[null,"020",7.5,9,"020"]
[null,"412",7.55,{"$f":"C227*1.2","v":9.0599999999999987},"412"]
[null,"425",7.69,{"$f":"C228*1.2","v":9.2279999999999998},"425"]
[null,"288",7.85,9.42,"288"]
[null,"354",7.88,{"$f":"C230*1.2","v":9.4559999999999995},"354"]
[null,"068",7.92,9.5,"068"]
[null,"483",8,{"$f":"C232*1.2","v":9.6},"483"]
[null,"355",8.25,{"$f":"C233*1.2","v":9.9},"355"]
[null,"021",8.33,10,"021"]
[null,"433",8.43,{"$f":"C235*1.2","v":10.116},"433"]
[null,"356",8.44,{"$f":"C236*1.2","v":10.127999999999998},"356"]
[null,"318",8.52,10.220000000000001,"318"]
[null,"393",8.7100000000000009,{"$f":"C238*1.2","v":10.452},"393"]
[null,"069",8.75,10.5,"069"]
[null,"293",8.81,10.57,"293"]
[null,"137",8.83,10.6,"137"]
[null,"435",8.86,{"$f":"C242*1.2","v":10.632},"435"]
[null,"484",9,{"$f":"C243*1.2","v":10.799999999999999},"484"]
[null,"070",9.17,11,"070"]
[null,"417",9.23,{"$f":"C245*1.2","v":11.076000000000001},"417"]
[null,"420",9.3000000000000007,{"$f":"C246*1.2","v":11.16},"420"]
[null,"357",9.57,{"$f":"C247*1.2","v":11.484},"357"]
[null,"395",9.68,{"$f":"C248*1.2","v":11.616},"395"]
[null,"358",9.75,{"$f":"C249*1.2","v":11.7},"358"]
[null,"138",10,12,"138"]
[null,"411",10.11,{"$f":"C251*1.2","v":12.132},"411"]
[null,"359",10.130000000000001,{"$f":"C252*1.2","v":12.156000000000001},"359"]
[null,"398",10.16,{"$f":"C253*1.2","v":12.192},"398"]
[null,"360",10.32,{"$f":"C254*1.2","v":12.384},"360"]
[null,"139",10.42,12.5,"139"]
[null,"361",10.69,{"$f":"C256*1.2","v":12.827999999999999},"361"]
[null,"022",10.83,13,"022"]
[null,"308",10.85,13.02,"308"]
[null,"277",10.89,13.07,"277"]
[null,"140",11.25,13.5,"140"]
[null,"305",11.33,13.6,"305"]
[null,"426",11.35,{"$f":"C262*1.2","v":13.62},{"$f":"B262","v":"426"}]
[null,"141",11.67,14,"141"]
[null,"485",12,{"$f":"C264*1.2","v":14.399999999999999},"485"]
[null,"250",12.1,14.52,"250"]
[null,"362",12.19,{"$f":"C266*1.2","v":14.627999999999998},"362"]
[null,"363",12.38,{"$f":"C267*1.2","v":14.856},"363"]
[null,"436",12.4,{"$f":"C268*1.2","v":14.879999999999999},"436"]
[null,"072",12.5,15,"072"]
[null,"428",12.71,{"$f":"C270*1.2","v":15.252000000000001},"428"]
[null,"364",12.75,{"$f":"C271*1.2","v":15.299999999999999},"364"]
[null,"486",13,{"$f":"C272*1.2","v":15.6},"486"]
[null,"290",13.07,15.68,"290"]
[null,"142",13.33,16,"142"]
[null,"319",13.94,16.73,"319"]
[null,"365",14.07,{"$f":"C276*1.2","v":16.884},"365"]
[null,"143",14.17,17,"143"]
[null,"366",14.25,{"$f":"C278*1.2","v":17.099999999999998},"366"]
[null,"401",14.52,{"$f":"C279*1.2","v":17.423999999999999},"401"]
[null,"419",14.61,{"$f":"C280*1.2","v":17.532},"419"]
[null,"367",14.63,{"$f":"C281*1.2","v":17.556000000000001},"367"]
[null,"023",15,18,"023"]
[null,"368",15.19,{"$f":"C283*1.2","v":18.227999999999998},"368"]
[null,"404",15.25,{"$f":"C284*1.2","v":18.3},"404"]
[null,"144",15.42,18.5,"144"]
[null,"369",15.94,{"$f":"C286*1.2","v":19.128},"369"]
[null,"145",16.25,19.5,"145"]
[null,"370",16.5,{"$f":"C288*1.2","v":19.8},"370"]
[null,"371",16.88,{"$f":"C289*1.2","v":20.255999999999997},"371"]
[null,"251",16.940000000000001,20.329999999999998,"251"]
[null,"487",17,{"$f":"C291*1.2","v":20.399999999999999},"487"]
[null,"146",17.079999999999991,20.5,"146"]
[null,"073",17.5,21,"073"]
[null,"439",17.72,{"$f":"C294*1.2","v":21.263999999999999},"439"]
[null,"429",17.79,{"$f":"C295*1.2","v":21.347999999999999},"429"]
[null,"372",17.82,{"$f":"C296*1.2","v":21.384},"372"]
[null,"427",17.98,{"$f":"C297*1.2","v":21.576000000000001},"427"]
[null,"265",18.149999999999999,21.78,"265"]
[null,"147",18.329999999999991,22,"147"]
[null,"307",18.88,22.66,"307"]
[null,"373",19.13,{"$f":"C301*1.2","v":22.956},"373"]
[null,"024",19.170000000000009,23,"024"]
[null,"374",19.690000000000001,{"$f":"C303*1.2","v":23.628},"374"]
[null,"148",20,24,"148"]
[null,"375",20.25,{"$f":"C305*1.2","v":24.3},"375"]
[null,"376",20.63,{"$f":"C306*1.2","v":24.755999999999997},"376"]
[null,"149",20.83,25,"149"]
[null,"405",21.35,{"$f":"C308*1.2","v":25.62},"405"]
[null,"377",21.38,{"$f":"C309*1.2","v":25.655999999999999},"377"]
[null,"074",21.67,26,"074"]
[null,"252",21.78,26.14,"252"]
[null,"413",22.02,{"$f":"C312*1.2","v":26.423999999999999},"413"]
[null,"150",22.5,27,"150"]
[null,"430",22.87,{"$f":"C314*1.2","v":27.443999999999999},"430"]
[null,"321",23.24,27.89,"321"]
[null,"259",24.2,29.04,"259"]
[null,"378",24.75,{"$f":"C317*1.2","v":29.7},"378"]
[null,"151",25,30,"151"]
[null,"379",25.32,{"$f":"C319*1.2","v":30.384},"379"]
[null,"266",25.41,30.49,"266"]
[null,"380",26.25,{"$f":"C321*1.2","v":31.5},"380"]
[null,"075",26.67,32,"075"]
[null,"152",26.92,32.300000000000011,"152"]
[null,"421",27.1,{"$f":"C324*1.2","v":32.520000000000003},"421"]
[null,"406",27.45,{"$f":"C325*1.2","v":32.94},"406"]
[null,"026",27.5,33,{"$f":"B326","v":"026"}]
[null,"488",29,{"$f":"C327*1.2","v":34.799999999999997},"488"]
[null,"153",30,36,"153"]
[null,"381",30.38,{"$f":"C329*1.2","v":36.455999999999996},"381"]
[null,"410",30.49,{"$f":"C330*1.2","v":36.587999999999994},"410"]
[null,"279",30.5,36.6,"279"]
[null,"154",30.83,37,"154"]
[null,"414",30.84,{"$f":"C333*1.2","v":37.007999999999996},"414"]
[null,"155",31.25,37.5,"155"]
[null,"294",31.46,37.75,"294"]
[null,"027",31.67,38,"027"]
[null,"156",32.17,38.6,"156"]
[null,"157",32.5,39,"157"]
[null,"267",32.67,39.200000000000003,"267"]
[null,"382",32.82,{"$f":"C340*1.2","v":39.384},"382"]
[null,"383",33.75,{"$f":"C341*1.2","v":40.5},"383"]
[null,"384",33.76,{"$f":"C342*1.2","v":40.511999999999993},"384"]
[null,"158",34.17,41,"158"]
[null,"159",35,42,"159"]
[null,"160",35.42,42.5,"160"]
[null,"276",36.299999999999997,43.56,"276"]
[null,"161",37.42,44.9,"161"]
[null,"162",37.5,45,"162"]
[null,"422",37.950000000000003,{"$f":"C349*1.2","v":45.54},"422"]
[null,"309",38.72,46.46,"309"]
[null,"163",39.17,47,"163"]
[null,"280",39.21,47.05,"280"]
[null,"385",39.380000000000003,{"$f":"C353*1.2","v":47.256},"385"]
[null,"415",39.64,{"$f":"C354*1.2","v":47.567999999999998},"415"]
[null,"029",40,48,"029"]
[null,"489",41,{"$f":"C356*1.2","v":49.199999999999996},"489"]
[null,"386",42.19,{"$f":"C357*1.2","v":50.627999999999993},"386"]
[null,"164",42.5,51,"164"]
[null,"165",42.67,51.2,"165"]
[null,"166",42.92,51.5,"166"]
[null,"167",43.33,52,"167"]
[null,"289",43.56,52.27,"289"]
[null,"168",43.75,52.5,"168"]
[null,"418",44.04,{"$f":"C364*1.2","v":52.847999999999999},"418"]
[null,"295",44.05,52.86,"295"]
[null,"169",45,54,"169"]
[null,"170",45.42,54.5,"170"]
[null,"171",47.5,57,"171"]
[null,"172",47.92,57.5,"172"]
[null,"423",48.79,{"$f":"C370*1.2","v":58.547999999999995},"423"]
[null,"173",50,60,"173"]
[null,"174",50.42,60.5,"174"]
[null,"387",50.63,{"$f":"C373*1.2","v":60.756},"387"]
[null,"079",51.67,62,"079"]
[null,"032",52.5,63,"032"]
[null,"175",53.17,63.8,"175"]
[null,"310",54.21,65.05,"310"]
[null,"490",55,{"$f":"C378*1.2","v":66},"490"]
[null,"176",55.42,66.5,"176"]
[null,"177",55.83,67,"177"]
[null,"178",56.25,67.5,"178"]
[null,"388",56.26,{"$f":"C382*1.2","v":67.512},"388"]
[null,"296",56.63,67.959999999999994,"296"]
[null,"179",58.42,70.099999999999994,"179"]
[null,"180",60,72,"180"]
[null,"181",60.42,72.5,"181"]
[null,"080",61.67,74,"080"]
[null,"182",62.5,75,"182"]
[null,"306",62.92,75.5,"306"]
[null,"183",63.67,76.400000000000006,{"$f":"B390","v":"183"}]
[null,"184",64.169999999999987,77,"184"]
[null,"185",65.42,78.5,"185"]
[null,"389",67.510000000000005,{"$f":"C393*1.2","v":81.012},"389"]
[null,"186",68.33,82,"186"]
[null,"187",68.75,82.5,"187"]
[null,"188",68.92,82.7,"188"]
[null,"036",69.169999999999987,83,"036"]
[null,"311",69.7,83.64,"311"]
[null,"491",70,{"$f":"C399*1.2","v":84},"491"]
[null,"492",71,{"$f":"C400*1.2","v":85.2},"492"]
[null,"189",72.5,87,"189"]
[null,"190",72.92,87.5,"190"]
[null,"191",74.169999999999987,89,"191"]
[null,"192",75,90,"192"]
[null,"193",75.42,90.5,"193"]
[null,"493",76,{"$f":"C406*1.2","v":91.2},"493"]
[null,"083",76.669999999999987,92,"083"]
[null,"320",77.44,92.93,"320"]
[null,"194",77.92,93.5,"194"]
[null,"195",79.42,95.3,"195"]
[null,"196",80.83,97,"196"]
[null,"197",81.25,97.5,"197"]
[null,"198",84.169999999999987,101,"198"]
[null,"199",84.669999999999987,101.6,"199"]
[null,"200",85,102,"200"]
[null,"201",85.42,102.5,"201"]
[null,"494",86,{"$f":"C417*1.2","v":103.2},"494"]
[null,"084",86.669999999999987,104,"084"]
[null,"202",87.5,105,"202"]
[null,"203",89.92,107.9,"203"]
[null,"204",93.75,112.5,"204"]
[null,"205",95.169999999999987,114.2,"205"]
[null,"206",95.42,114.5,"206"]
[null,"207",100,120,"207"]
[null,"208",100.42,120.5,"208"]
[null,"209",104.17,125,"209"]
[null,"210",105.42,126.5,"210"]
[null,"211",105.67,126.8,"211"]
[null,"212",106.25,127.5,"212"]
[null,"088",106.67,128,"088"]
[null,"213",110.92,133.1,"213"]
[null,"214",112.5,135,"214"]
[null,"215",112.92,135.5,"215"]
[null,"216",115.42,138.5,"216"]
[null,"217",117.92,141.5,"217"]
[null,"218",118.75,142.5,"218"]
[null,"219",121.67,146,"219"]
[null,"220",125,150,"220"]
[null,"221",125.42,150.5,"221"]
[null,"222",129.16999999999999,155,"222"]
[null,"495",130,{"$f":"C441*1.2","v":156},"495"]
[null,"223",130.41999999999999,156.5,"223"]
[null,"224",131.25,157.5,"224"]
[null,"225",135.41999999999999,162.5,"225"]
[null,"226",139.16999999999999,167,"226"]
[null,"227",140.41999999999999,168.5,"227"]
[null,"228",145.41999999999999,174.5,"228"]
[null,"229",147.91999999999999,177.5,"229"]
[null,"230",151.66999999999999,182,"230"]
[null,"231",155.41999999999999,186.5,"231"]
[null,"232",156.66999999999999,188,"232"]
[null,"233",162.91999999999999,195.5,"233"]
[null,"496",165,{"$f":"C453*1.2","v":198},"496"]
[null,"235",165.42,198.5,{"$f":"B454","v":"235"}]
[null,"497",170,{"$f":"C455*1.2","v":204},"497"]
[null,"236",174.17,209,"236"]
[null,"237",175.42,210.5,"237"]
[null,"238",182.92,219.5,"238"]
[null,"240",185.42,222.5,"240"]
[null,"241",195.42,234.5,"241"]
[null,"242",196.67,236,"242"]
[null,"243",205.42,246.5,"243"]
[null,"244",207.92,249.5,"244"]
[null,"498",215,{"$f":"C464*1.2","v":258},"498"]
[null,"245",219.17,263,"245"]
[null,"246",230.42,276.5,"246"]

{"sheet":"Régime simplifié PMCB","index":11,"n_rows":3,"n_cols":2,"rows_kept":3,"cut":false,"hidden":true,"merged":[]}
[]
[null,"Régime « petits producteurs »"]
[null,"Modalités de déclarations simplifiées "]