{"text_format":"1","workbook":"xlsx","n_sheets":9,"sheets":["Infos","Scope","Understanding codification","Code Generator","Param masqué","Codes éco-part","Codes","Eco-fee overview tables","Small Producer codes"],"not_rendered":{"charts":0,"images":2,"macros":1,"external_links":1,"defined_names":70,"comments":0,"pivot_tables":0},"unopened":[],"bounds":{"document_bytes":16777216,"sheet_cells":100000,"rows_first":2000,"rows_last":500,"rows_between":2000,"halvings":0,"cell_chars":16384,"cell_head_chars":4096},"cells_cut":0,"cells_raw":0,"read":"whole","date_system":"1900"}

{"sheet":"Infos","index":0,"n_rows":33,"n_cols":1,"rows_kept":33,"cut":false,"hidden":false,"merged":[[0,0,3,0]]}
["Presentation of the eco-fee code generator – 2025"]
[]
[]
[]
[]
["Create codes for application of the eco-fee to DIY and Gardening Products"]
["Version 2.2 - 01 June 2025"]
["Update of applicable prices as of 1 January 2025\nAddition of eco-modulated codes and simplified codification for 2025"]
[]
["Who is this tool intended for?"]
["This tool is intended for marketers of DIY and Gardening Products."]
[]
["What is it for? "]
["This file allows you to generate the product codes used to declare information linked to placing products on the market.\nThese product codes make it possible to apply the eco-fee rate to DIY and Gardening Products, according to their characteristics."]
["To understand how this 11-digit product code is composed, click on the \"Understanding the coding system\" tab."]
[]
["How do you generate a product code? "]
["To generate a product code, click on the \"Product code generator\" tab."]
["Please note: To be sure of entering the correct codes when submitting your declaration, use the \"Product code generator\" tab and the copy-paste function, selecting \"Paste absolute value\"."]
[]
["Declaring eco-fees"]
[]
["When should you issue your declaration?  "]
["Quarterly declarations must be issued in the month after each calendar quarter (April for Q1, July for Q2, October for Q3, and January for Q4)."]
["Annual declarations must be issued in the in January Y+1."]
["If you declare eco-modulated codes that give rise to an incorporation premium, additional proof may be required. Refer to the Eco-modulation guide to help fill out the declaration."]
[]
["How do you issue your declaration (with product codes)?"]
["The declaration of products placed on the market with product codes is issued via data input or by uploading a file* in .csv format to the Extranet: https://espace-services.ecomaison.com/\n*You can download the standard file from the Declarations area."]
[]
[]
["> To find out how to issue your declaration, consult the complete operating procedures:"]
["https://espace-services.ecomaison.com/mode-operatoire-declarer"]

{"sheet":"Scope","index":1,"n_rows":392,"n_cols":8,"rows_kept":392,"cut":false,"hidden":false,"merged":[[366,1,366,4],[5,1,5,4],[0,1,0,4],[190,1,190,4]]}
[null,{"$f":"MID(CELL(\"filename\",A1),FIND(\"]\",CELL(\"filename\",A1))+1,256)","v":"Scope"}]
[]
[]
[null,"DIY AND GARDENING PRODUCTS",null,null,"FOR INFORMATION PURPOSES - CERTIFICATION UNDERWAY (end 2027)"]
[]
[null,"DIY products"]
[]
[null,100,"Hand tools and their accessories"]
[]
[null,null,"Department","Category","Examples of products (non-exhaustive)"]
[null,null,{"$f":"$B$6","v":"DIY products"},{"$f":"$C$8","v":"Hand tools and their accessories"},"abrasives in sheets, rolls, etc."]
[null,null,"DIY products",{"$f":"$C$8","v":"Hand tools and their accessories"},"staplers"]
[null,null,"DIY products",{"$f":"$C$8","v":"Hand tools and their accessories"},"batten pullers"]
[null,null,"DIY products",{"$f":"$C$8","v":"Hand tools and their accessories"},"sanding belts"]
[null,null,"DIY products","Hand tools and their accessories","digging bars"]
[null,null,"DIY products","Hand tools and their accessories","excavation bars"]
[null,null,"DIY products","Hand tools and their accessories","crosscut chisels"]
[null,null,"DIY products","Hand tools and their accessories","mitre boxes and saws"]
[null,null,"DIY products","Hand tools and their accessories","cold chisels"]
[null,null,"DIY products","Hand tools and their accessories","sanding blocks"]
[null,null,"DIY products","Hand tools and their accessories","wooden pegs"]
[null,null,"DIY products",{"$f":"$C$8","v":"Hand tools and their accessories"},"chisels"]
[null,null,"DIY products",{"$f":"$C$8","v":"Hand tools and their accessories"},"wood chisels"]
[null,null,"DIY products","Hand tools and their accessories","brick chisels"]
[null,null,"DIY products","Hand tools and their accessories","adjustable wrenches"]
[null,null,{"$f":"$B$6","v":"DIY products"},{"$f":"$C$8","v":"Hand tools and their accessories"},"pipe wrenches"]
[null,null,"DIY products","Hand tools and their accessories","various wrenches"]
[null,null,"DIY products","Hand tools and their accessories","torque wrenches"]
[null,null,"DIY products","Hand tools and their accessories","combination wrenches"]
[null,null,"DIY products","Hand tools and their accessories","stillson spanners"]
[null,null,"DIY products","Hand tools and their accessories","ratchets"]
[null,null,"DIY products","Hand tools and their accessories","tube cutters"]
[null,null,"DIY products","Hand tools and their accessories","knives"]
[null,null,"DIY products","Hand tools and their accessories","asphalt cutters"]
[null,null,"DIY products","Hand tools and their accessories","putty knives"]
[null,null,"DIY products","Hand tools and their accessories","DIY knives / pocket knives"]
[null,null,"DIY products","Hand tools and their accessories","Stanley knives"]
[null,null,"DIY products","Hand tools and their accessories","lamp sockets"]
[null,null,"DIY products","Hand tools and their accessories","screwdriver bits"]
[null,null,"DIY products","Hand tools and their accessories","punches"]
[null,null,"DIY products","Hand tools and their accessories","abrasive sponges"]
[null,null,"DIY products",{"$f":"$C$8","v":"Hand tools and their accessories"},"DIY sponges"]
[null,null,"DIY products",{"$f":"$C$8","v":"Hand tools and their accessories"},"set squares"]
[null,null,"DIY products",{"$f":"$C$8","v":"Hand tools and their accessories"},"struts"]
[null,null,"DIY products",{"$f":"$C$8","v":"Hand tools and their accessories"},"waterproof seals"]
[null,null,"DIY products","Hand tools and their accessories","extractors and seal smoothing tools"]
[null,null,"DIY products",{"$f":"$C$8","v":"Hand tools and their accessories"},"plumb lines"]
[null,null,"DIY products",{"$f":"$C$8","v":"Hand tools and their accessories"},"scrapers"]
[null,null,"DIY products",{"$f":"$C$8","v":"Hand tools and their accessories"},"concrete scrapers"]
[null,null,"DIY products",{"$f":"$C$8","v":"Hand tools and their accessories"},"bending bars"]
[null,null,"DIY products","Hand tools and their accessories","zinc scribers"]
[null,null,"DIY products","Hand tools and their accessories","blades"]
[null,null,"DIY products","Hand tools and their accessories","saw blades"]
[null,null,"DIY products","Hand tools and their accessories","files and precision files"]
[null,null,"DIY products","Hand tools and their accessories","seal smoothing tools"]
[null,null,"DIY products","Hand tools and their accessories","crimping pliers"]
[null,null,"DIY products","Hand tools and their accessories","mallets"]
[null,null,"DIY products","Hand tools and their accessories","paving mallets"]
[null,null,"DIY products","Hand tools and their accessories","hammers"]
[null,null,"DIY products","Hand tools and their accessories","paving hammers"]
[null,null,"DIY products","Hand tools and their accessories","sledgehammers"]
[null,null,"DIY products",{"$f":"$C$8","v":"Hand tools and their accessories"},"two-handed hammer"]
[null,null,"DIY products","Hand tools and their accessories","precision measuring tools"]
[null,null,"DIY products","Hand tools and their accessories","measuring tapes"]
[null,null,"DIY products","Hand tools and their accessories","metrology tools"]
[null,null,"DIY products","Hand tools and their accessories","spirit levels"]
[null,null,"DIY products","Hand tools and their accessories","levels"]
[null,null,"DIY products","Hand tools and their accessories","water supply tools"]
[null,null,"DIY products","Hand tools and their accessories","fountain tools"]
[null,null,"DIY products","Hand tools and their accessories","electrician tools"]
[null,null,"DIY products","Hand tools and their accessories","roofer tools"]
[null,null,"DIY products","Hand tools and their accessories","mason tools"]
[null,null,"DIY products","Hand tools and their accessories","woodworking tools"]
[null,null,"DIY products","Hand tools and their accessories","special plasterer/drywaller tools"]
[null,null,"DIY products","Hand tools and their accessories","measuring and tracing tools"]
[null,null,"DIY products","Hand tools and their accessories","plumber tools"]
[null,null,"DIY products","Hand tools and their accessories","tiler tools and accessories"]
[null,null,"DIY products","Hand tools and their accessories","sealing tools"]
[null,null,"DIY products","Hand tools and their accessories","pry bars"]
[null,null,"DIY products","Hand tools and their accessories","crowbars"]
[null,null,"DIY products","Hand tools and their accessories","pliers"]
[null,null,"DIY products","Hand tools and their accessories","needle nose pliers"]
[null,null,"DIY products","Hand tools and their accessories","hook bars"]
[null,null,"DIY products","Hand tools and their accessories","crimping pliers"]
[null,null,"DIY products","Hand tools and their accessories","bolt cutters"]
[null,null,"DIY products","Hand tools and their accessories","tile pincers"]
[null,null,"DIY products","Hand tools and their accessories","bolt croppers"]
[null,null,{"$f":"$B$6","v":"DIY products"},"Hand tools and their accessories","riveters"]
[null,null,"DIY products","Hand tools and their accessories","pickaxes / excavation picks"]
[null,null,"DIY products","Hand tools and their accessories","excavation picks"]
[null,null,"DIY products",{"$f":"$C$8","v":"Hand tools and their accessories"},"cartridge guns"]
[null,null,"DIY products","Hand tools and their accessories","glue guns"]
[null,null,"DIY products","Hand tools and their accessories","caulking guns"]
[null,null,"DIY products","Hand tools and their accessories","scribers"]
[null,null,"DIY products","Hand tools and their accessories","centre punches"]
[null,null,"DIY products","Hand tools and their accessories","stone chisels"]
[null,null,"DIY products","Hand tools and their accessories","tacks"]
[null,null,"DIY products","Hand tools and their accessories","presses"]
[null,null,"DIY products","Hand tools and their accessories","planes"]
[null,null,"DIY products","Hand tools and their accessories","rasps"]
[null,null,"DIY products","Hand tools and their accessories","DIY rules "]
[null,null,"DIY products","Hand tools and their accessories","aluminium rules"]
[null,null,"DIY products","Hand tools and their accessories","paring chisels"]
[null,null,"DIY products","Hand tools and their accessories","wood saws"]
[null,null,"DIY products","Hand tools and their accessories","hacksaws"]
[null,null,{"$f":"$B$6","v":"DIY products"},{"$f":"$C$8","v":"Hand tools and their accessories"},"clamps"]
[null,null,{"$f":"$B$6","v":"DIY products"},{"$f":"$C$8","v":"Hand tools and their accessories"},"compressed air-blowers"]
[null,null,"DIY products","Hand tools and their accessories","floats"]
[null,null,{"$f":"$B$6","v":"DIY products"},{"$f":"$C$8","v":"Hand tools and their accessories"},"sifters"]
[null,null,{"$f":"$B$6","v":"DIY products"},{"$f":"$C$8","v":"Hand tools and their accessories"},"pincers"]
[null,null,{"$f":"$B$6","v":"DIY products"},{"$f":"$C$8","v":"Hand tools and their accessories"},"screwdrivers"]
[null,null,"DIY products","Hand tools and their accessories","tracing and topography tools"]
[null,null,{"$f":"$B$6","v":"DIY products"},{"$f":"$C$8","v":"Hand tools and their accessories"},"sawhorses"]
[null,null,"DIY products","Hand tools and their accessories","Trowel"]
[null,null,"DIY products","Hand tools and their accessories","marking gauges"]
[]
[]
[null,101,"Large non-electric, non-combustion items and machines, and their accessories"]
[]
[null,null,"Department","Category","Examples of products (non-exhaustive)"]
[null,null,{"$f":"$B$6","v":"DIY products"},{"$f":"$C$118","v":"Large non-electric, non-combustion items and machines, and their accessories"},"flush-mounted boxes for equipment and accessories"]
[null,null,"DIY products","Large non-electric, non-combustion items and machines, and their accessories","handling trolleys"]
[null,null,"DIY products","Large non-electric, non-combustion items and machines, and their accessories","tile cutters"]
[null,null,"DIY products","Large non-electric, non-combustion items and machines, and their accessories","manual tile cutters"]
[null,null,"DIY products","Large non-electric, non-combustion items and machines, and their accessories","anvils"]
[null,null,{"$f":"$B$6","v":"DIY products"},{"$f":"$C$118","v":"Large non-electric, non-combustion items and machines, and their accessories"},"vices"]
[null,null,{"$f":"$B$6","v":"DIY products"},{"$f":"$C$118","v":"Large non-electric, non-combustion items and machines, and their accessories"},"extractors"]
[null,null,"DIY products","Large non-electric, non-combustion items and machines, and their accessories","pry levers"]
[null,null,"DIY products","Large non-electric, non-combustion items and machines, and their accessories","concrete smoothers"]
[null,null,"DIY products","Large non-electric, non-combustion items and machines, and their accessories","chipping hammers"]
[null,null,"DIY products","Large non-electric, non-combustion items and machines, and their accessories","long measuring tools"]
[null,null,"DIY products","Large non-electric, non-combustion items and machines, and their accessories","levelling rods"]
[null,null,"DIY products","Large non-electric, non-combustion items and machines, and their accessories","levels for levelling rods"]
[null,null,"DIY products","Large non-electric, non-combustion items and machines, and their accessories","clamping and cutting tools"]
[null,null,"DIY products","Large non-electric, non-combustion items and machines, and their accessories","heavy tiler tools"]
[null,null,"DIY products","Large non-electric, non-combustion items and machines, and their accessories","piping tools"]
[null,null,"DIY products","Large non-electric, non-combustion items and machines, and their accessories","excavation tools"]
[null,null,"DIY products","Large non-electric, non-combustion items and machines, and their accessories","pneumatic tools"]
[null,null,"DIY products","Large non-electric, non-combustion items and machines, and their accessories","nail guns (excl. EEE)"]
[null,null,{"$f":"$B$6","v":"DIY products"},{"$f":"$C$118","v":"Large non-electric, non-combustion items and machines, and their accessories"},"HDPE pipe scrapers"]
[null,null,"DIY products","Large non-electric, non-combustion items and machines, and their accessories","level rulers"]
[]
[]
[null,102,"Tools and supports for working at height"]
[]
[null,null,"Department","Category","Examples of products (non-exhaustive)"]
[null,null,{"$f":"$B$6","v":"DIY products"},{"$f":"$C$144","v":"Tools and supports for working at height"},"lifting accessories"]
[null,null,"DIY products","Tools and supports for working at height","handling accessories"]
[null,null,"DIY products","Tools and supports for working at height","lifting rings"]
[null,null,"DIY products","Tools and supports for working at height","lifting hooks"]
[null,null,"DIY products","Tools and supports for working at height","scaffolding and tubular structures"]
[null,null,"DIY products","Tools and supports for working at height","mobile scaffolding"]
[null,null,{"$f":"$B$6","v":"DIY products"},{"$f":"$C$144","v":"Tools and supports for working at height"},"ladders"]
[null,null,{"$f":"$B$6","v":"DIY products"},{"$f":"$C$144","v":"Tools and supports for working at height"},"sliding ladders"]
[null,null,{"$f":"$B$6","v":"DIY products"},{"$f":"$C$144","v":"Tools and supports for working at height"},"single ladders"]
[null,null,"DIY products","Tools and supports for working at height","multi-purpose ladders"]
[null,null,"DIY products","Tools and supports for working at height","collapsible ladders "]
[null,null,"DIY products","Tools and supports for working at height","ladders for construction sites"]
[null,null,"DIY products","Tools and supports for working at height","stepladders"]
[null,null,"DIY products","Tools and supports for working at height","steps"]
[null,null,"DIY products","Tools and supports for working at height","steps"]
[null,null,"DIY products","Tools and supports for working at height","lift tables"]
[null,null,"DIY products","Tools and supports for working at height","winches"]
[]
[]
[null,103,"Personal protection equipment and accessories for DIY"]
[]
[null,null,"Department","Category","Examples of products (non-exhaustive)"]
[null,null,{"$f":"$B$6","v":"DIY products"},{"$f":"$C$166","v":"Personal protection equipment and accessories for DIY"},"earplugs"]
[null,null,"DIY products",{"$f":"$C$166","v":"Personal protection equipment and accessories for DIY"},"respirator cartridges"]
[null,null,"DIY products","Personal protection equipment and accessories for DIY","welding helmets"]
[null,null,"DIY products","Personal protection equipment and accessories for DIY","hard hats"]
[null,null,{"$f":"$B$6","v":"DIY products"},{"$f":"$C$166","v":"Personal protection equipment and accessories for DIY"},"protective helmets"]
[null,null,"DIY products","Personal protection equipment and accessories for DIY","protective footwear (ISO 20346 and 20345: SB, SBP, S1, S1P, S2, S3)"]
[null,null,"DIY products","Personal protection equipment and accessories for DIY","body equipment (visor, knee pads, shin guards, etc.)"]
[null,null,"DIY products","Personal protection equipment and accessories for DIY","protective gloves for DIY"]
[null,null,"DIY products","Personal protection equipment and accessories for DIY","protective goggles"]
[null,null,"DIY products","Personal protection equipment and accessories for DIY","masks"]
[null,null,"DIY products","Personal protection equipment and accessories for DIY","hearing protection"]
[null,null,"DIY products","Personal protection equipment and accessories for DIY","eye protection"]
[null,null,"DIY products","Personal protection equipment and accessories for DIY","respiratory protection"]
[]
[null,104,"Tarpaulins, covers, nets, and films for DIY"]
[]
[null,null,"Department","Category","Examples of products (non-exhaustive)"]
[null,null,{"$f":"B6","v":"DIY products"},{"$f":"$C$183","v":"Tarpaulins, covers, nets, and films for DIY"},"tarpaulins for DIY"]
[]
[null,null,null,null,null,null,null,{"$f":"TRIM((LOWER(E188)))","v":""}]
[null,null," ",null,null,null,null,{"$f":"TRIM((LOWER(E189)))","v":""}]
[null,null,null,null,null,null,null,{"$f":"TRIM((LOWER(E190)))","v":""}]
[null,"Garden upkeep and landscaping",null,null,null,null,null,{"$f":"TRIM((LOWER(E191)))","v":""}]
[null,null,null,null,null,null,null,{"$f":"TRIM((LOWER(E192)))","v":""}]
[null,150,"Garden upkeep hand tools and small accessories",null,null,null,null,""]
[]
[null,null,"Department","Category","Examples of products (non-exhaustive)"]
[null,null,{"$f":"$B$191","v":"Garden upkeep and landscaping"},{"$f":"$C$193","v":"Garden upkeep hand tools and small accessories"},"growing accessories"]
[null,null,"Garden upkeep and landscaping","Garden upkeep hand tools and small accessories","drip irrigation"]
[null,null,"Garden upkeep and landscaping","Garden upkeep hand tools and small accessories","sprinklers"]
[null,null,"Garden upkeep and landscaping","Garden upkeep hand tools and small accessories","watering cans"]
[null,null,"Garden upkeep and landscaping","Garden upkeep hand tools and small accessories","other large gardening tools"]
[null,null,"Garden upkeep and landscaping","Garden upkeep hand tools and small accessories","lawn rakes"]
[null,null,"Garden upkeep and landscaping","Garden upkeep hand tools and small accessories","garden rakes"]
[null,null,"Garden upkeep and landscaping","Garden upkeep hand tools and small accessories","garden forks"]
[null,null,"Garden upkeep and landscaping","Garden upkeep hand tools and small accessories","mortise axes"]
[null,null,"Garden upkeep and landscaping","Garden upkeep hand tools and small accessories","spits"]
[null,null,{"$f":"$B$191","v":"Garden upkeep and landscaping"},{"$f":"$C$193","v":"Garden upkeep hand tools and small accessories"},"lumbering tools"]
[null,null,"Garden upkeep and landscaping","Garden upkeep hand tools and small accessories","nozzles"]
[null,null,"Garden upkeep and landscaping","Garden upkeep hand tools and small accessories","shears"]
[null,null,"Garden upkeep and landscaping","Garden upkeep hand tools and small accessories","choppers"]
[null,null,"Garden upkeep and landscaping","Garden upkeep hand tools and small accessories","splitting wedges"]
[null,null,"Garden upkeep and landscaping","Garden upkeep hand tools and small accessories","lopping shears"]
[null,null,"Garden upkeep and landscaping","Garden upkeep hand tools and small accessories","edge trimmers"]
[null,null,"Garden upkeep and landscaping","Garden upkeep hand tools and small accessories","fruit pickers"]
[null,null,"Garden upkeep and landscaping","Garden upkeep hand tools and small accessories","reel dispensers / reels"]
[null,null,"Garden upkeep and landscaping","Garden upkeep hand tools and small accessories","various watering and spraying tools"]
[null,null,"Garden upkeep and landscaping","Garden upkeep hand tools and small accessories","hosepipe reels"]
[null,null,"Garden upkeep and landscaping","Garden upkeep hand tools and small accessories","scoop nets"]
[null,null,"Garden upkeep and landscaping","Garden upkeep hand tools and small accessories","garden upkeep equipment"]
[null,null,"Garden upkeep and landscaping","Garden upkeep hand tools and small accessories","mowers / brush cutters"]
[null,null,"Garden upkeep and landscaping","Garden upkeep hand tools and small accessories","scythes / sickles"]
[null,null,"Garden upkeep and landscaping","Garden upkeep hand tools and small accessories","log splitters"]
[null,null,"Garden upkeep and landscaping","Garden upkeep hand tools and small accessories","pitchforks"]
[null,null,"Garden upkeep and landscaping","Garden upkeep hand tools and small accessories","emitters"]
[null,null,"Garden upkeep and landscaping","Garden upkeep hand tools and small accessories","claws"]
[null,null,"Garden upkeep and landscaping","Garden upkeep hand tools and small accessories","axes"]
[null,null,"Garden upkeep and landscaping","Garden upkeep hand tools and small accessories","hatchets"]
[null,null,"Garden upkeep and landscaping","Garden upkeep hand tools and small accessories","secateurs blades"]
[null,null,"Garden upkeep and landscaping","Garden upkeep hand tools and small accessories","tool handles "]
[null,null,"Garden upkeep and landscaping","Garden upkeep hand tools and small accessories","lumberjack axes"]
[null,null,"Garden upkeep and landscaping","Garden upkeep hand tools and small accessories","planting baskets"]
[null,null,"Garden upkeep and landscaping","Garden upkeep hand tools and small accessories","shovels"]
[null,null,"Garden upkeep and landscaping","Garden upkeep hand tools and small accessories","shovels / snow shovels"]
[null,null,"Garden upkeep and landscaping","Garden upkeep hand tools and small accessories","small gardening tools"]
[null,null,"Garden upkeep and landscaping","Garden upkeep hand tools and small accessories","picks"]
[null,null,"Garden upkeep and landscaping","Garden upkeep hand tools and small accessories","guns"]
[null,null,"Garden upkeep and landscaping","Garden upkeep hand tools and small accessories","spray guns"]
[null,null,"Garden upkeep and landscaping","Garden upkeep hand tools and small accessories","rain gauges"]
[null,null,"Garden upkeep and landscaping","Garden upkeep hand tools and small accessories","hand pumps "]
[null,null,"Garden upkeep and landscaping","Garden upkeep hand tools and small accessories","sprayers"]
[null,null,"Garden upkeep and landscaping","Garden upkeep hand tools and small accessories","rakes"]
[null,null,"Garden upkeep and landscaping","Garden upkeep hand tools and small accessories","garden waste bags"]
[null,null,"Garden upkeep and landscaping","Garden upkeep hand tools and small accessories","saws "]
[null,null,"Garden upkeep and landscaping","Garden upkeep hand tools and small accessories","log saws"]
[null,null,"Garden upkeep and landscaping","Garden upkeep hand tools and small accessories","tree saws"]
[null,null,"Garden upkeep and landscaping","Garden upkeep hand tools and small accessories","pruning saws"]
[null,null,"Garden upkeep and landscaping","Garden upkeep hand tools and small accessories","saws for lopping shears"]
[null,null,"Garden upkeep and landscaping","Garden upkeep hand tools and small accessories","secateurs"]
[null,null,"Garden upkeep and landscaping","Garden upkeep hand tools and small accessories","hoes"]
[null,null,"Garden upkeep and landscaping","Garden upkeep hand tools and small accessories","edge tools"]
[null,null,"Garden upkeep and landscaping","Garden upkeep hand tools and small accessories","hedge trimmers"]
[null,null,"Garden upkeep and landscaping","Garden upkeep hand tools and small accessories","thermometers"]
[null,null,"Garden upkeep and landscaping","Garden upkeep hand tools and small accessories","transplanters"]
[null,null,"Garden upkeep and landscaping","Garden upkeep hand tools and small accessories","transplanters / trowels"]
[null,null,"Garden upkeep and landscaping","Garden upkeep hand tools and small accessories","hosepipes"]
[]
[]
[null,151,"Personal protection equipment and accessories for gardening"]
[]
[null,null,"Department","Category","Examples of products (non-exhaustive)"]
[null,null,{"$f":"$B$191","v":"Garden upkeep and landscaping"},{"$f":"$C$257","v":"Personal protection equipment and accessories for gardening"},"protective suits (phytosanitary, etc.)"]
[null,null,{"$f":"$B$191","v":"Garden upkeep and landscaping"},{"$f":"$C$257","v":"Personal protection equipment and accessories for gardening"},"gardening gloves"]
[]
[null,152,"Flower pots and containers"]
[]
[null,null,"Department","Category","Examples of products (non-exhaustive)"]
[null,null,{"$f":"$B$191","v":"Garden upkeep and landscaping"},{"$f":"$C$263","v":"Flower pots and containers"},"troughs"]
[null,null,"Garden upkeep and landscaping","Flower pots and containers","raised bed for shrubs"]
[null,null,"Garden upkeep and landscaping","Flower pots and containers","raised beds for flowers"]
[null,null,"Garden upkeep and landscaping","Flower pots and containers","raised beds for flowers"]
[null,null,"Garden upkeep and landscaping","Flower pots and containers","raised beds"]
[null,null,"Garden upkeep and landscaping","Flower pots and containers","window boxes"]
[null,null,"Garden upkeep and landscaping","Flower pots and containers","window boxes"]
[null,null,"Garden upkeep and landscaping","Flower pots and containers","ponds"]
[null,null,"Garden upkeep and landscaping","Flower pots and containers","basins"]
[null,null,"Garden upkeep and landscaping","Flower pots and containers","planters"]
[null,null,"Garden upkeep and landscaping","Flower pots and containers","tanks"]
[null,null,"Garden upkeep and landscaping","Flower pots and containers","containers"]
[null,null,"Garden upkeep and landscaping","Flower pots and containers","tubs"]
[null,null,{"$f":"$B$191","v":"Garden upkeep and landscaping"},{"$f":"$C$263","v":"Flower pots and containers"},"barrels"]
[null,null,"Garden upkeep and landscaping","Flower pots and containers","window baskets"]
[null,null,"Garden upkeep and landscaping","Flower pots and containers","pots"]
[null,null,{"$f":"$B$191","v":"Garden upkeep and landscaping"},{"$f":"$C$263","v":"Flower pots and containers"},"flower pots"]
[null,null,"Garden upkeep and landscaping","Flower pots and containers","pottery"]
[null,null,"Garden upkeep and landscaping","Flower pots and containers","water butts"]
[null,null,"Garden upkeep and landscaping","Flower pots and containers","outdoor tanks"]
[null,null,"Garden upkeep and landscaping","Flower pots and containers","buckets"]
[null,null,"Garden upkeep and landscaping","Flower pots and containers","plant saucers"]
[null,null,"Garden upkeep and landscaping","Flower pots and containers","window basket saucers"]
[null,null,"Garden upkeep and landscaping","Flower pots and containers","garden vases"]
[]
[]
[null,153,"Tarpaulins, covers, nets, and films for gardening"]
[]
[null,null,"Department","Category","Examples of products (non-exhaustive)"]
[null,null,{"$f":"$B$191","v":"Garden upkeep and landscaping"},{"$f":"$C$292","v":"Tarpaulins, covers, nets, and films for gardening"},"tarpaulins"]
[null,null,{"$f":"$B$191","v":"Garden upkeep and landscaping"},{"$f":"$C$292","v":"Tarpaulins, covers, nets, and films for gardening"},"protective tarpaulins"]
[null,null,{"$f":"$B$191","v":"Garden upkeep and landscaping"},{"$f":"$C$292","v":"Tarpaulins, covers, nets, and films for gardening"},"nets / plant protection nets"]
[null,null,{"$f":"$B$191","v":"Garden upkeep and landscaping"},{"$f":"$C$292","v":"Tarpaulins, covers, nets, and films for gardening"},"mulching films and canvas"]
[null,null,{"$f":"$B$191","v":"Garden upkeep and landscaping"},{"$f":"$C$292","v":"Tarpaulins, covers, nets, and films for gardening"},"greenhouse film / greenhouse covers"]
[null,null,"Garden upkeep and landscaping","Tarpaulins, covers, nets, and films for gardening","geotextile film (excl. other films)"]
[null,null,"Garden upkeep and landscaping","Tarpaulins, covers, nets, and films for gardening","barbecue covers"]
[null,null,{"$f":"$B$191","v":"Garden upkeep and landscaping"},{"$f":"$C$292","v":"Tarpaulins, covers, nets, and films for gardening"},"parasol covers"]
[null,null,{"$f":"$B$191","v":"Garden upkeep and landscaping"},{"$f":"$C$292","v":"Tarpaulins, covers, nets, and films for gardening"},"mulching canvas"]
[]
[null,154,"Outdoor equipment and accessories (excl. tarpaulins, nets, and covers)"]
[]
[null,null,"Department","Category","Examples of products (non-exhaustive)"]
[null,null,{"$f":"$B$191","v":"Garden upkeep and landscaping"},{"$f":"$C$305","v":"Outdoor equipment and accessories (excl. tarpaulins, nets, and covers)"},"barbecue (BBQ) accessories (kit, pipes, etc.)"]
[null,null,"Garden upkeep and landscaping","Outdoor equipment and accessories (excl. tarpaulins, nets, and covers)","barbecues (wood fire)"]
[null,null,"Garden upkeep and landscaping","Outdoor equipment and accessories (excl. tarpaulins, nets, and covers)","barbecues (gas)"]
[null,null,"Garden upkeep and landscaping","Outdoor equipment and accessories (excl. tarpaulins, nets, and covers)","barbecue smokers"]
[null,null,"Garden upkeep and landscaping","Outdoor equipment and accessories (excl. tarpaulins, nets, and covers)","pins"]
[null,null,"Garden upkeep and landscaping","Outdoor equipment and accessories (excl. tarpaulins, nets, and covers)","hutches"]
[null,null,"Garden upkeep and landscaping","Outdoor equipment and accessories (excl. tarpaulins, nets, and covers)","barbecue kits (excl. kitchen)"]
[null,null,"Garden upkeep and landscaping","Outdoor equipment and accessories (excl. tarpaulins, nets, and covers)","outdoor kitchen items"]
[null,null,{"$f":"$B$191","v":"Garden upkeep and landscaping"},{"$f":"$C$305","v":"Outdoor equipment and accessories (excl. tarpaulins, nets, and covers)"},"tarpaulin reels"]
[null,null,"Garden upkeep and landscaping","Outdoor equipment and accessories (excl. tarpaulins, nets, and covers)","outdoor wood ovens"]
[null,null,"Garden upkeep and landscaping","Outdoor equipment and accessories (excl. tarpaulins, nets, and covers)","artificial turf"]
[null,null,"Garden upkeep and landscaping","Outdoor equipment and accessories (excl. tarpaulins, nets, and covers)","sprinklers"]
[null,null,"Garden upkeep and landscaping","Outdoor equipment and accessories (excl. tarpaulins, nets, and covers)","grills"]
[null,null,"Garden upkeep and landscaping","Outdoor equipment and accessories (excl. tarpaulins, nets, and covers)","insect hotels"]
[null,null,"Garden upkeep and landscaping","Outdoor equipment and accessories (excl. tarpaulins, nets, and covers)","covers"]
[null,null,"Garden upkeep and landscaping","Outdoor equipment and accessories (excl. tarpaulins, nets, and covers)","troughs"]
[null,null,"Garden upkeep and landscaping","Outdoor equipment and accessories (excl. tarpaulins, nets, and covers)","alcoves"]
[null,null,"Garden upkeep and landscaping","Outdoor equipment and accessories (excl. tarpaulins, nets, and covers)","nest boxes"]
[null,null,{"$f":"$B$191","v":"Garden upkeep and landscaping"},{"$f":"$C$305","v":"Outdoor equipment and accessories (excl. tarpaulins, nets, and covers)"},"nest and houses for pets"]
[null,null,"Garden upkeep and landscaping","Outdoor equipment and accessories (excl. tarpaulins, nets, and covers)","parasols"]
[null,null,"Garden upkeep and landscaping","Outdoor equipment and accessories (excl. tarpaulins, nets, and covers)","heating umbrellas (gas)"]
[null,null,"Garden upkeep and landscaping","Outdoor equipment and accessories (excl. tarpaulins, nets, and covers)","parasol bases / slabs"]
[null,null,"Garden upkeep and landscaping","Outdoor equipment and accessories (excl. tarpaulins, nets, and covers)","griddles (gas)"]
[null,null,"Garden upkeep and landscaping","Outdoor equipment and accessories (excl. tarpaulins, nets, and covers)","chicken coops"]
[null,null,"Garden upkeep and landscaping","Outdoor equipment and accessories (excl. tarpaulins, nets, and covers)","beehives"]
[null,null,"Garden upkeep and landscaping","Outdoor equipment and accessories (excl. tarpaulins, nets, and covers)","grow tables"]
[null,null,{"$f":"$B$191","v":"Garden upkeep and landscaping"},{"$f":"$C$305","v":"Outdoor equipment and accessories (excl. tarpaulins, nets, and covers)"},"compost bins"]
[null,null,"Garden upkeep and landscaping","Outdoor equipment and accessories (excl. tarpaulins, nets, and covers)","trellis"]
[null,null,"Garden upkeep and landscaping","Outdoor equipment and accessories (excl. tarpaulins, nets, and covers)","barbecue pipes"]
[]
[null,155,"Non-masonry outdoor structures"]
[]
[null,null,"Department","Category","Examples of products (non-exhaustive)"]
[null,null,{"$f":"$B$191","v":"Garden upkeep and landscaping"},{"$f":"$C$338","v":"Non-masonry outdoor structures"},"garden sheds"]
[null,null,"Garden upkeep and landscaping","Non-masonry outdoor structures","log stores"]
[null,null,"Garden upkeep and landscaping","Non-masonry outdoor structures","garden storage cabinets"]
[null,null,"Garden upkeep and landscaping","Non-masonry outdoor structures","garden sheds (<5 m²)"]
[null,null,"Garden upkeep and landscaping","Non-masonry outdoor structures","non-masonry shelters"]
[null,null,"Garden upkeep and landscaping","Non-masonry outdoor structures","bin shelters"]
[null,null,"Garden upkeep and landscaping","Non-masonry outdoor structures","cabinets for robot mowers"]
[null,null,"Garden upkeep and landscaping","Non-masonry outdoor structures","lean-to"]
[null,null,{"$f":"$B$191","v":"Garden upkeep and landscaping"},{"$f":"$C$338","v":"Non-masonry outdoor structures"},"arches"]
[null,null,"Garden upkeep and landscaping","Non-masonry outdoor structures","borders"]
[null,null,"Garden upkeep and landscaping","Non-masonry outdoor structures","wheelbarrows"]
[null,null,"Garden upkeep and landscaping","Non-masonry outdoor structures","bin covers"]
[null,null,"Garden upkeep and landscaping","Non-masonry outdoor structures","carports (per the defined decree)"]
[null,null,"Garden upkeep and landscaping","Non-masonry outdoor structures","non-masonry carports"]
[null,null,"Garden upkeep and landscaping","Non-masonry outdoor structures","non-masonry cabins"]
[null,null,"Garden upkeep and landscaping","Non-masonry outdoor structures","non-masonry garages"]
[null,null,"Garden upkeep and landscaping","Non-masonry outdoor structures","non-masonry pavilions"]
[null,null,"Garden upkeep and landscaping","Non-masonry outdoor structures","non-masonry gazebos"]
[null,null,"Garden upkeep and landscaping","Non-masonry outdoor structures","non-masonry pergolas"]
[null,null,"Garden upkeep and landscaping","Non-masonry outdoor structures","urban vegetable gardens"]
[null,null,"Garden upkeep and landscaping","Non-masonry outdoor structures","greenhouses"]
[null,null,"Garden upkeep and landscaping","Non-masonry outdoor structures","garden greenhouses"]
[null,null,{"$f":"$B$191","v":"Garden upkeep and landscaping"},{"$f":"$C$338","v":"Non-masonry outdoor structures"},"arbours"]
[null,null,{"$f":"$B$191","v":"Garden upkeep and landscaping"},{"$f":"$C$338","v":"Non-masonry outdoor structures"},"mesh fencing",null,null,{"$f":"TRIM((LOWER(E364)))","v":"mesh fencing"}]
[]
[]
[null,"Electrical, electronic, and combustion products covered by WEEE or combustion DIY and gardening product EPRs (non-Ecomaison)"]
[]
[null,"EXCLUDED","Non-Ecomaison products"]
[]
[null,null,"Rayon","Catégorie","Exemples de produits (non-exhaustif)"]
[null,null,{"$f":"$B$367","v":"Electrical, electronic, and combustion products covered by WEEE or combustion DIY and gardening product EPRs (non-Ecomaison)"},{"$f":"$C$369","v":"Non-Ecomaison products"},"lampe"]
[null,null,"Electrical, electronic, and combustion products covered by WEEE or combustion DIY and gardening product EPRs (non-Ecomaison)","Non-Ecomaison products","prise"]
[null,null,"Electrical, electronic, and combustion products covered by WEEE or combustion DIY and gardening product EPRs (non-Ecomaison)","Non-Ecomaison products","ampoule"]
[null,null,"Electrical, electronic, and combustion products covered by WEEE or combustion DIY and gardening product EPRs (non-Ecomaison)","Non-Ecomaison products","électrique"]
[null,null,{"$f":"$B$367","v":"Electrical, electronic, and combustion products covered by WEEE or combustion DIY and gardening product EPRs (non-Ecomaison)"},{"$f":"$C$369","v":"Non-Ecomaison products"},"LED"]
[null,null,{"$f":"$B$367","v":"Electrical, electronic, and combustion products covered by WEEE or combustion DIY and gardening product EPRs (non-Ecomaison)"},{"$f":"$C$369","v":"Non-Ecomaison products"},"éclairage"]
[null,null,{"$f":"$B$367","v":"Electrical, electronic, and combustion products covered by WEEE or combustion DIY and gardening product EPRs (non-Ecomaison)"},{"$f":"$C$369","v":"Non-Ecomaison products"},"appliques"]
[null,null,{"$f":"$B$367","v":"Electrical, electronic, and combustion products covered by WEEE or combustion DIY and gardening product EPRs (non-Ecomaison)"},{"$f":"$C$369","v":"Non-Ecomaison products"},"lampadaire"]
[null,null,"Electrical, electronic, and combustion products covered by WEEE or combustion DIY and gardening product EPRs (non-Ecomaison)","Non-Ecomaison products","thermique"]
[null,null,"Electrical, electronic, and combustion products covered by WEEE or combustion DIY and gardening product EPRs (non-Ecomaison)","Non-Ecomaison products","électroportatif"]
[null,null,{"$f":"$B$367","v":"Electrical, electronic, and combustion products covered by WEEE or combustion DIY and gardening product EPRs (non-Ecomaison)"},{"$f":"$C$369","v":"Non-Ecomaison products"},"batterie"]
[null,null,"Electrical, electronic, and combustion products covered by WEEE or combustion DIY and gardening product EPRs (non-Ecomaison)","Non-Ecomaison products","tondeuse"]
[null,null,{"$f":"$B$367","v":"Electrical, electronic, and combustion products covered by WEEE or combustion DIY and gardening product EPRs (non-Ecomaison)"},{"$f":"$C$369","v":"Non-Ecomaison products"},"tronçonneuse"]
[null,null,"Electrical, electronic, and combustion products covered by WEEE or combustion DIY and gardening product EPRs (non-Ecomaison)","Non-Ecomaison products","débroussailleuse"]
[null,null,"Electrical, electronic, and combustion products covered by WEEE or combustion DIY and gardening product EPRs (non-Ecomaison)","Non-Ecomaison products","kit d'expo"]
[null,null,"Electrical, electronic, and combustion products covered by WEEE or combustion DIY and gardening product EPRs (non-Ecomaison)","Non-Ecomaison products"]
[null,null,"Electrical, electronic, and combustion products covered by WEEE or combustion DIY and gardening product EPRs (non-Ecomaison)","Non-Ecomaison products"]
[null,null,"Electrical, electronic, and combustion products covered by WEEE or combustion DIY and gardening product EPRs (non-Ecomaison)","Non-Ecomaison products"]
[null,null,"Electrical, electronic, and combustion products covered by WEEE or combustion DIY and gardening product EPRs (non-Ecomaison)","Non-Ecomaison products"]
[null,null,"Electrical, electronic, and combustion products covered by WEEE or combustion DIY and gardening product EPRs (non-Ecomaison)","Non-Ecomaison products"]
[null,null,"Electrical, electronic, and combustion products covered by WEEE or combustion DIY and gardening product EPRs (non-Ecomaison)","Non-Ecomaison products"]

{"sheet":"Understanding codification","index":2,"n_rows":156,"n_cols":7,"rows_kept":156,"cut":false,"hidden":false,"merged":[[150,1,150,5],[0,1,0,5],[129,1,129,5],[7,1,7,5],[19,1,19,5],[26,1,26,5],[43,1,43,5]]}
[null,"Ecomaison codification system"]
[]
[]
[null,"► A tool is available for creating tables of correspondence between your catalogue and the Ecomaison product catalogue."]
[null,"► Furniture waste codes are not shown below."]
[]
[]
[null,"General code structure"]
[]
[]
[]
[]
[]
[]
[]
[]
[]
[]
[]
[null,"Department code: XX 000 00 000 0"]
[]
[null,"EPR","_","Department","_2","Department code"]
[]
[null,"DIY and Gardening Products",null,"DIY products",null,21]
[null,"DIY and Gardening Products",null,"Garden upkeep and landscaping",null,22]
[]
[null,"Product category code: 00 XXX 00 000 0"]
[]
[null,"EPR","_","Department","Category","Product code"]
[]
[null,"DIY and gardening products",null,{"$f":"$D$24","v":"DIY products"},"Hand tools and their accessories",100]
[null,"DIY and gardening products",null,{"$f":"$D$24","v":"DIY products"},"Large non-electric, non-combustion items and machines, and their accessories",{"$f":"F31+1","v":101}]
[null,"DIY and gardening products",null,"DIY products","Tools and supports for working at height",{"$f":"F32+1","v":102}]
[null,"DIY and gardening products",null,"DIY products","Personal protection equipment and accessories for DIY",103]
[null,"DIY and gardening products",null,"DIY products","Tarpaulins, covers, nets, and films for DIY",104]
[null,"DIY and gardening products",null,"DIY products","Buckets, troughs, and containers",{"$f":"IF(D36=D35,F35+1,ROUNDUP((F35+1)*2,-1)/2)","v":105}]
[null,"DIY and gardening products",null,{"$f":"$D$25","v":"Garden upkeep and landscaping"},"Garden upkeep hand tools and small accessories",150]
[null,"DIY and gardening products",null,{"$f":"$D$25","v":"Garden upkeep and landscaping"},"Personal protection equipment and accessories for gardening",{"$f":"F37+1","v":151}]
[null,"DIY and gardening products",null,{"$f":"$D$25","v":"Garden upkeep and landscaping"},"Flower pots and containers",{"$f":"F38+1","v":152}]
[null,"DIY and gardening products",null,"Garden upkeep and landscaping","Tarpaulins, covers, nets, and films for gardening",153]
[null,"DIY and gardening products",null,"Garden upkeep and landscaping","Outdoor equipment and accessories (excl. tarpaulins, nets, and covers)",154]
[null,"DIY and gardening products",null,"Garden upkeep and landscaping","Non-masonry outdoor structures",155]
[]
[null,"Material code: 00 000 XX 000 0"]
[]
[null,"Material type","_","Materials","Examples of materials","Material code","Column1"]
[]
[null,"1 - Metal",null,"Metal >90%","Ferrous metals (steel, stainless steel, wrought iron, cast iron, carbon steel, zinc-plated steel, sheet steel, alloys, etc.) and non-ferrous metals (aluminium, lead, zinc, tin, chrome, copper, bronze, silver, zamac, nickel, titanium, brass, etc.)",28]
[null,"1 - Metal",null,"Assembly of metal >50% and other materials","Assembly of metal/wood, metal/plastic, metal/inert substance, etc.","02"]
[]
[null,"2 - Wood and wood derivatives",null,"Solid wood and related products certified >90%","All species (Douglas fir, fir, oak, beech, maritime pine, Scots pine, African pearwood, larch, teak, spruce, etc.), including engineered wood, plywood, laminated timber, and veneer",52]
[null,"2 - Wood and wood derivatives",null,"Solid wood and related products certified >75%","All species (Douglas fir, fir, oak, beech, maritime pine, Scots pine, African pearwood, larch, teak, spruce, etc.), including engineered wood, plywood, laminated timber, and veneer",20]
[null,"2 - Wood and wood derivatives",null,"Solid wood and related products >90%","All species (Douglas fir, fir, oak, beech, maritime pine, Scots pine, African pearwood, larch, teak, spruce, etc.), including engineered wood, plywood, laminated timber, and veneer",53]
[null,"2 - Wood and wood derivatives",null,"Solid wood and related products >75%","All species (Douglas fir, fir, oak, beech, maritime pine, Scots pine, African pearwood, larch, teak, spruce, etc.), including engineered wood, plywood, laminated timber, and veneer",21]
[null,"2 - Wood and wood derivatives",null,"Certified chipboard or OSB >90%","Chipboard and OSB",59]
[null,"2 - Wood and wood derivatives",null,"Certified chipboard or OSB >75%","Chipboard and OSB",60]
[null,"2 - Wood and wood derivatives",null,"Chipboard or OSB >90%","Chipboard and OSB",61]
[null,"2 - Wood and wood derivatives",null,"Chipboard or OSB >75%","Chipboard and OSB",25]
[null,"2 - Wood and wood derivatives",null,"Wood derivatives >90%","Composite wood, MDF, HDF, alveolar, laminate, HPL, etc.",62]
[null,"2 - Wood and wood derivatives",null,"Non-certified wood derivatives >90%","Composite wood, MDF, HDF, alveolar, laminate, HPL, etc.",54]
[null,"2 - Wood and wood derivatives",null,"Assembly of wood and/or wood derivatives >50% and other materials or composite wood (excl. glass)","Assembly of wood/metal, wood/plastic, etc.","01"]
[null,"2 - Wood and wood derivatives",null,"Assembly of non-certified wood and/or wood derivatives >50% and other materials or composite wood (excl. glass)","Assembly of wood/metal, wood/plastic, etc.",51]
[]
[null,"3 - Cardboard",null,"Cardboard >50% and other materials (excl. glass)","Paper, cardboard, compact paper, Kraft paper","19"]
[]
[null,"4 - Materials and fibres of plant or animal origin excl. wood, paper, and cardboard",null,"Biosourced materials or non-synthetic textiles >90%","Plant stalks (bamboo, rattan, wicker, jute, straw, cork), natural textiles of unmixed plant origin (cotton, linen, hemp, silk, ramie, coconut fibre, raffia, etc.)",55]
[null,"4 - Materials and fibres of plant or animal origin excl. wood, paper, and cardboard",null,"Biosourced materials or non-synthetic textiles >50%","Assembly of biosourced materials and plastic, metal, etc.","04"]
[null,"4 - Materials and fibres of plant or animal origin excl. wood, paper, and cardboard",null,"Natural rubber >90%","Rubber and latex",63]
[null,"4 - Materials and fibres of plant or animal origin excl. wood, paper, and cardboard",null,"Natural rubber >50%","Rubber and latex",64]
[null,"4 - Materials and fibres of plant or animal origin excl. wood, paper, and cardboard",null,"Materials of animal origin >50%","Textile materials or padding of animal origin (wool, felt, mohair, feathers, down, hair, leather, etc.)","06"]
[]
[null,"5 - Plastic, synthetic fibres and materials",null,"Plastic (single-resin) >90%","Plastic and other synthetic materials: acrylic, PP, PE, PS, XPS, EPS, PEX, nylon, polyamide, PU, PVC, vinyl, epoxy, synthetic fibres, PL, composite materials, carbon, etc.",41]
[null,"5 - Plastic, synthetic fibres and materials",null,"PE or PP or PP/PE mix >90%","Polyethylene (PE), Polypropylene (PP), PP/PE mix",45]
[null,"5 - Plastic, synthetic fibres and materials",null,"PVC >90%",null,48]
[null,"5 - Plastic, synthetic fibres and materials",null,"Polyethylene terephthalate (PET) >90%",null,42]
[null,"5 - Plastic, synthetic fibres and materials",null,"ABS >90%",null,46]
[null,"5 - Plastic, synthetic fibres and materials",null,"Polystyrene >90%",null,47]
[null,"5 - Plastic, synthetic fibres and materials",null,"Plastics or other synthetic materials >50%","Assembly of synthetic textiles and materials","05"]
[null,"5 - Plastic, synthetic fibres and materials",null,"Synthetic rubber >90%","Rubber",49]
[null,"5 - Plastic, synthetic fibres and materials",null,"Elements containing latex","Latex",10]
[null,"5 - Plastic, synthetic fibres and materials",null,"Assembly of synthetic rubber or latex >50% and other materials","Rubber, latex with other synthetic materials, wood, metal, etc.",40]
[null,"5 - Plastic, synthetic fibres and materials",null,"Synthetic fibres or materials >90%","Polyamides, nylon, polyester (PES) and polyethylene terephthalate (PET), viscose, elastane, foam, etc.",65]
[null,"5 - Plastic, synthetic fibres and materials",null,"Textile and polyester padding >90%","Polyester",66]
[null,"5 - Plastic, synthetic fibres and materials",null,"Elements containing foam",null,"09"]
[null,"5 - Plastic, synthetic fibres and materials",null,"Textile elements containing springs",null,11]
[null,"5 - Plastic, synthetic fibres and materials",null,"Assembly of synthetic fibres and/or materials >50% and other materials","Assembly of synthetic textiles and/or materials and metal, wood, etc.",67]
[]
[null,"6 - Glass and glass partitions",null,"Glass >90%","Flat glass, glass bricks, etc.",68]
[null,"6 - Glass and glass partitions",null,"Assembly of glass >50% and metal","Assembly of glass and metals",70]
[null,"6 - Glass and glass partitions",null,"Assembly of glass >50% and inert substances","Assembly of glass and inert substances",71]
[null,"6 - Glass and glass partitions",null,"Assembly of glass >50% and wood or wood derivatives","Assembly of glass and wood or biosourced materials",72]
[null,"6 - Glass and glass partitions",null,"Assembly of glass >50% and plastic","Assembly of glass and plastic",73]
[null,"6 - Glass and glass partitions",null,"Mirror >90%","Mirror",69]
[]
[null,"7 - Plaster",null,"Plaster >90%","Plaster material, plasterboard, and gypsum fibreboard",75]
[null,"7 - Plaster",null,"Plaster >50%","Elements composed mainly of plaster and associated with other materials",76]
[]
[null,"8 - Glass wool and rockwool",null,"Rockwool >90%","Insulating materials made from natural materials resulting from volcanic activity",77]
[null,"8 - Glass wool and rockwool",null,"Glass wool >90%","Materials composed of glass fibres, used as a filter or insulator",78]
[null,"8 - Glass wool and rockwool",null,"Assembly of glass wool or rockwool >50% and other materials","Elements mainly composed of mineral wool",79]
[]
[null,"9 - Bitumen membranes",null,"Bitumen membranes >90%","Synthetic sealing membrane",80]
[]
[null,"10 - Other mixes of materials or unclassified or unspecified materials",null,"Assembly of wood, wood derivatives, and metal with a combination representing >90%",null,81]
[null,"10 - Other mixes of materials or unclassified or unspecified materials",null,"Assembly of 3 or more materials, with no material representing >50%","Elements composed of parts made from various materials, often but not exclusively with a plastic or synthetic textile part",82]
[null,"10 - Other mixes of materials or unclassified or unspecified materials",null,"Unknown or unspecified by the company","Unknown or unspecified by the company","00"]
[]
[null,"11 - Mortars, coatings, paints, varnishes, resins, and preparation products",null,"Liquid products, incl. hazardous products >90%","Undercoats, floor preparations and sealing elements, exterior paints, treatments for floors and roofs, interior paints, glues and adhesives, PU and expansive resins (aerosols), PU sealants, seals and foams, additives, treatments for wood, treatment for materials (aerosols), treatments for non-wood materials, varnishes and sealers and derivatives, varnishes and sealers and derivatives (aerosols), powder coatings, paste coatings",83]
[]
[null,"12 - Inert materials",null,"Assembly of materials with inert substances >50%",null,"08"]
[null,"12 - Inert materials",null,"Composites and other reconstituted mineral materials >50%",null,15]
[null,"12 - Inert materials",null,"Slate >90%","Slate",84]
[null,"12 - Inert materials",null,"Non-stone aggregate >90%","Small mineral materials (aggregate, gravel, sand, grit, chippings, rubble, etc.), excl. stone",85]
[null,"12 - Inert materials",null,"Limestone >90%","Large mineral materials, excl. aggregate, gravel, sand, and specific stones such as slate",86]
[null,"12 - Inert materials",null,"Lava stone >90%",null,87]
[null,"12 - Inert materials",null,"Bituminous mix >90%","Bitumen-based liquid materials",88]
[null,"12 - Inert materials",null,"Raw earth or terracotta >90%","Terracotta materials",89]
[null,"12 - Inert materials",null,"Concrete >90%","Assembly of aggregates (gravel, grit, sand, etc.), a binder (cement, bitumen, clay), additives, and water",74]
[null,"12 - Inert materials",null,"Cellular concrete >90%",null,96]
[null,"12 - Inert materials",null,"Cement >90%",null,90]
[null,"12 - Inert materials",null,"Granite >90%",null,91]
[null,"12 - Inert materials",null,"Ceramic >90%","Earthenware or sandstone-based materials",97]
[null,"12 - Inert materials",null,"Mortar >90%",null,92]
[null,"12 - Inert materials",null,"Additives >90%",null,93]
[null,"12 - Inert materials",null,"Sandstone >90%",null,94]
[null,"12 - Inert materials",null,"Lime >90%",null,95]
[null,"12 - Inert materials",null,"Artificial stone >90%","Materials obtained by moulding various aggregates, fillers, and binders (concrete, reconstituted stone) or through chemical synthesis",98]
[]
[]
[null,"Measurement code: 00 000 00 XXX 0"]
[]
[null,"Measurement type","Concat.","Calculation method","Applied product scopes","Measurement code"]
[null,null,{"$f":"Tbl_Code_Mesure[[#This Row],[Calculation method]]&Tbl_Code_Mesure[[#This Row],[Applied product scopes]]","v":""}]
[null,"General",{"$f":"Tbl_Code_Mesure[[#This Row],[Calculation method]]&Tbl_Code_Mesure[[#This Row],[Applied product scopes]]","v":"€ / tonElements of all sizes and weights"},"€ / ton","Elements of all sizes and weights","000"]
[null,"General",{"$f":"Tbl_Code_Mesure[[#This Row],[Calculation method]]&Tbl_Code_Mesure[[#This Row],[Applied product scopes]]","v":"€ / unitStrictly <0.5 kg"},"€ / unit","Strictly <0.5 kg","020"]
[null,"General",{"$f":"Tbl_Code_Mesure[[#This Row],[Calculation method]]&Tbl_Code_Mesure[[#This Row],[Applied product scopes]]","v":"€ / unit≥0.5 kg and <1 kg"},"€ / unit","≥0.5 kg and <1 kg","021"]
[null,"General",{"$f":"Tbl_Code_Mesure[[#This Row],[Calculation method]]&Tbl_Code_Mesure[[#This Row],[Applied product scopes]]","v":"€ / unit≥1 kg and <2 kg"},"€ / unit","≥1 kg and <2 kg","022"]
[null,"General",{"$f":"Tbl_Code_Mesure[[#This Row],[Calculation method]]&Tbl_Code_Mesure[[#This Row],[Applied product scopes]]","v":"€ / unit≥2 kg and <3 kg"},"€ / unit","≥2 kg and <3 kg","052"]
[null,"General",{"$f":"Tbl_Code_Mesure[[#This Row],[Calculation method]]&Tbl_Code_Mesure[[#This Row],[Applied product scopes]]","v":"€ / unit≥3 kg and <5 kg"},"€ / unit","≥3 kg and <5 kg","053"]
[null,"General",{"$f":"Tbl_Code_Mesure[[#This Row],[Calculation method]]&Tbl_Code_Mesure[[#This Row],[Applied product scopes]]","v":"€ / unit≥5 kg and <7 kg"},"€ / unit","≥5 kg and <7 kg","054"]
[null,"General",{"$f":"Tbl_Code_Mesure[[#This Row],[Calculation method]]&Tbl_Code_Mesure[[#This Row],[Applied product scopes]]","v":"€ / unit≥7 kg and <10 kg"},"€ / unit","≥7 kg and <10 kg","055"]
[null,"General",{"$f":"Tbl_Code_Mesure[[#This Row],[Calculation method]]&Tbl_Code_Mesure[[#This Row],[Applied product scopes]]","v":"€ / unit≥10 kg and <15 kg"},"€ / unit","≥10 kg and <15 kg","056"]
[null,"General",{"$f":"Tbl_Code_Mesure[[#This Row],[Calculation method]]&Tbl_Code_Mesure[[#This Row],[Applied product scopes]]","v":"€ / unit≥15 kg and <20 kg"},"€ / unit","≥15 kg and <20 kg","057"]
[null,"General",{"$f":"Tbl_Code_Mesure[[#This Row],[Calculation method]]&Tbl_Code_Mesure[[#This Row],[Applied product scopes]]","v":"€ / unit≥20 kg and <25 kg"},"€ / unit","≥20 kg and <25 kg","058"]
[null,"General",{"$f":"Tbl_Code_Mesure[[#This Row],[Calculation method]]&Tbl_Code_Mesure[[#This Row],[Applied product scopes]]","v":"€ / unit≥25 kg and <30 kg"},"€ / unit","≥25 kg and <30 kg","059"]
[null,"General",{"$f":"Tbl_Code_Mesure[[#This Row],[Calculation method]]&Tbl_Code_Mesure[[#This Row],[Applied product scopes]]","v":"€ / unit≥30 kg and <40 kg"},"€ / unit","≥30 kg and <40 kg","027"]
[null,"General",{"$f":"Tbl_Code_Mesure[[#This Row],[Calculation method]]&Tbl_Code_Mesure[[#This Row],[Applied product scopes]]","v":"€ / unit≥40 kg and <50 kg"},"€ / unit","≥40 kg and <50 kg","060"]
[null,"General",{"$f":"Tbl_Code_Mesure[[#This Row],[Calculation method]]&Tbl_Code_Mesure[[#This Row],[Applied product scopes]]","v":"€ / unitSmall producer codes"},"€ / unit","Small producer codes","089"]
[]
[]
[null,"Eco-modulation code: 00 000 00 000 X"]
[]
[null,"Type","Concat.","Calculation method","Scope","Eco-modulation code"]
[null,null,{"$f":"Tbl_Code_Mesure2[[#This Row],[Calculation method]]&Tbl_Code_Mesure2[[#This Row],[Scope]]","v":""}]
[null,"Without eco-modulation",{"$error":"#VALUE!"},"-","All products","0"]
[null,"With eco-modulation due to the availability of spare parts",{"$error":"#VALUE!"},"Premium equivalent to 10% of the product contribution","All products","1"]

{"sheet":"Code Generator","index":3,"n_rows":33,"n_cols":11,"rows_kept":33,"cut":false,"hidden":false,"merged":[[0,0,0,6],[25,0,26,0],[1,0,1,6],[38,3,40,6],[15,0,15,2],[37,0,37,6],[30,0,30,2],[18,0,18,2],[21,0,21,2]]}
["Product code generator – DIY and Gardening Products\nPricing scale applicable as of 1 January 2025",null,null,null,null,null,null,"MASQUER","MASQUER",null,{"$f":"Infos!$A$7","v":"Version 2.2 - 01 June 2025"}]
["Select items within the green boxes\nRemember to press the \"RESET\" button before generating a new code. \nThe eco-fee amount incl. VAT is given as an indication only ; the applicable pricing scale is the scale excl. VAT. "]
[]
[null,null,null,null,null,null,"Code:",null,"A"]
[]
["1 - Select a Department:",null,null,null,null,null,{"$f":"IF(D6=\"\",\"\",VLOOKUP(D6,'Param masqué'!$D$3:$E$4,2,FALSE))","v":""},{"$f":"LEFT(A6,1)+0","v":1},{"$f":"I4&\"_\"&G6","v":"A_"}]
[]
[{"$f":"H6+1&\" - Select a product category: \"","v":"2 - Select a product category: "},null,null,null,"_",null,{"$f":"IF(D8=\"\",\"\",VLOOKUP(D8,'Param masqué'!$J$3:$K$15,2,FALSE))","v":""},{"$f":"LEFT(A8,1)+0","v":2},{"$f":"I4&\"_\"&G8","v":"A_"}]
[]
[null,null,null,{"$f":"IF($G$8=155,\"Please note that this product may be covered by another EPR. Be sure to check that it belongs to the DIY and Gardening Products EPR.\",\"\")","v":""}]
[]
[{"$f":"H8+1&\" - Select a material type:\"","v":"3 - Select a material type:"},null,null,null,null,null,null,{"$f":"LEFT(A12,1)+0","v":3},{"$f":"IFERROR(VLOOKUP($D$12,'Param masqué'!$AT$2:$AU$13,2,FALSE),0)","v":0}]
[null,null,null,null,null,null,null,null,{"$f":"IF(D12=\"Prix en fonction d'une autre unité fonctionelle\",I8&\"F\",\"\")","v":""}]
[{"$f":"H12+1&\" - Select a material: \"","v":"4 - Select a material: "},null,null,null,null,null,{"$f":"IF(D14=\"\",\"\",VLOOKUP(D14,'Param masqué'!$R$3:$T$81,3,FALSE))","v":""},{"$f":"LEFT(A14,1)+0","v":4},{"$f":"IF($D$12=\"Prix en fonction d'une autre unité fonctionelle\",VLOOKUP(I13,'Param masqué'!AG:AJ,4,FALSE),VLOOKUP(I8,'Param masqué'!AG:AJ,4,FALSE))","v":{"$error":"#N/A"}}]
[]
[{"$f":"H14+1&\" - Select the characteristic (or unitary quantity) according to product type: \"","v":"5 - Select the characteristic (or unitary quantity) according to product type: "},null,null,null,null,null,{"$f":"IF(D16=\"\",\"\",VLOOKUP(D16,'Param masqué'!$AD$1:$AE$16,2,FALSE))","v":""},{"$f":"LEFT(A16,1)+0","v":5}]
[]
[]
[{"$f":"H16+1&\" - Does the product benefit from eco-modulation due to the availability of spare parts? \"","v":"6 - Does the product benefit from eco-modulation due to the availability of spare parts? "},null,null,null,null,null,{"$f":"IF(D19=\"\",\"\",IF(D19=\"Yes\",1,0))","v":""}]
[null,null,null,{"$f":"IF($G$19=1,\"Be sure to check that this product is eligible for eco-modulations.\",\"\")","v":""}]
[]
["Hence the product code:",null,null,{"$f":"IF(OR(D19=\"\",D16=\"\",D14=\"\",D8=\"\",D6=\"\"),\"\",CONCATENATE(G6,G8,G14,G16,G19))","v":""}]
[null,null,null,{"$f":"IF(D22=\"\",\"\",D6&\" - \"&D8&\" in \"&D14&\" \"&D16)","v":""}]
["The eco-fee amount is :"]
[null,null,null,null,null,null,"and its eco-fee code:"]
["You can set the VAT rate",null,"Excl. VAT:",{"$f":"IFERROR(VLOOKUP('Code Generator'!$D$22,Codes!$C:$J,8,FALSE),\"\")","v":""},null,{"$f":"IFERROR(VLOOKUP('Code Generator'!$D$22,Codes!$C:$J,7,FALSE),\"\")","v":""},{"$f":"IFERROR(VLOOKUP(D22,Codes!$C:$L,10,FALSE),\"\")","v":""}]
[null,0.2,"Incl. VAT:",{"$f":"IF(D26=\"\",\"\",D26*(1+$B$27))","v":""},null,{"$f":"IFERROR(VLOOKUP('Code Generator'!$D$22,Codes!$C:$J,7,FALSE),\"\")","v":""}]
[]
[]
[]
[{"$f":"IF(F26=\"€ / Tonne\",\"Indiquez  ici le poids de votre produit en kg :\",\"\")","v":""}]
[]
[null,null,{"$f":"IF(F26=\"€ / Tonne\",\"soit une éco-participation unitaire de :\",\"\")","v":""},{"$f":"IFERROR(IF(D31=\"\",\"\",IF(F26=\"€ / Tonne\",IF(D31*D26/1000<0.01,\"<0,01€\",D31*D26/1000),D31*D26)),\"\")","v":""},null,{"$f":"IF(F26=\"€ / Tonne\",\"HT hors éco-modulation si applicable\",\"\")","v":""}]

{"sheet":"Param masqué","index":4,"n_rows":175,"n_cols":58,"rows_kept":175,"cut":false,"hidden":true,"merged":[[174,1,174,4]]}
[null,"REP","_","Rayon","Code Rayon",null,"REP","_","Rayon","Catégorie","Code Produit",null,null,null,null,null,"Type de matériaux","Matériaux","Exemples de matériaux","Code matériaux",null,null,"A_100",null,null,null,null,"Type de mesure","Mode de calcul","Périmètres produits d'application","Code Mesure",null,"code produit","Tranches de dimensions","unité","meta cat",null,null,null,"Typo","Tranches de dimensions","Code",null,null,null,null,null,null,null,null,"Cat1",null,null,null,null,null,null,"Taux de TVA"]
[null,null,null,null,null,null,null,null,null,null,null,null,null,null,null,null,null,null,null,null,null,null,"1 - Metal",{"$f":"VLOOKUP(W2,$AT$2:$AU$13,2,FALSE)","v":"Cat_1"},null,null,null,null,null,null,null,"100","A_100","Elements of all sizes and weights","€ / ton","Dim_2",null,null,null,"Dim_1","Elements of all sizes and weights","000",null,null,null,"1 - Metal","Cat_1",1,null,28,"Metal >90%",{"$f":"VLOOKUP(AY2,'Understanding codification'!$D$48:$F$127,3,FALSE)","v":28},null,"Prix au poids",null,"Yes",null,8.5000000000000006E-2]
[{"$f":"E3","v":21},"DIY and Gardening Products","A","DIY products",{"$f":"VLOOKUP(D3,'Understanding codification'!$D$20:$F$25,3,FALSE)","v":21},null,"ABJ",{"$f":"\"A_\"&VLOOKUP(I3,$D$3:$E$4,2,FALSE)","v":"A_21"},"DIY products","Hand tools and their accessories",{"$f":"VLOOKUP(J3,'Understanding codification'!$E$27:$F$42,2,FALSE)","v":100},null,"1 - Metal","MAT_1",1,"MAT_1","1 - Metal","Metal >90%","Ferrous metals (steel, stainless steel, wrought iron, cast iron, carbon steel, zinc-plated steel, sheet steel, alloys, etc.) and non-ferrous metals (aluminium, lead, zinc, tin, chrome, copper, bronze, silver, zamac, nickel, titanium, brass, etc.)",{"$f":"VLOOKUP(R3,'Understanding codification'!$D$44:$F$127,3,FALSE)","v":28},null,null,"2 - Wood and wood derivatives",{"$f":"VLOOKUP(W3,$AT$2:$AU$13,2,FALSE)","v":"Cat_2"},null,null,null,"Général","€ / ton","Elements of all sizes and weights","000","101","A_101","Elements of all sizes and weights","€ / ton","Dim_1",null,null,null,"Dim_1","Strictly <0.5 kg","020",null,null,null,"2 - Wood and wood derivatives","Cat_2",2,null,"02","Assembly of metal >50% and other materials",{"$f":"VLOOKUP(AY3,'Understanding codification'!$D$48:$F$127,3,FALSE)","v":"02"},null,"Prix en fonction d'une autre unité fonctionelle",null,"No",null,0.1]
[{"$f":"E4","v":22},"DIY and Gardening Products","A","Garden upkeep and landscaping",{"$f":"VLOOKUP(D4,'Understanding codification'!$D$20:$F$25,3,FALSE)","v":22},null,"ABJ","A_21","DIY products","Large non-electric, non-combustion items and machines, and their accessories",{"$f":"VLOOKUP(J4,'Understanding codification'!$E$27:$F$42,2,FALSE)","v":101},null,"2 - Wood and wood derivatives","MAT_2",2,"MAT_1","1 - Metal","Assembly of metal >50% and other materials","Assembly of metal/wood, metal/plastic, metal/inert substance, etc.",{"$f":"VLOOKUP(R4,'Understanding codification'!$D$44:$F$127,3,FALSE)","v":"02"},null,null,"3 - Cardboard","Cat_3",null,null,null,null,null,"Strictly <0.5 kg","020","102","A_102","Elements of all sizes and weights","€ / ton","Dim_1",null,null,null,"Dim_1","≥0.5 kg and <1 kg","021",null,null,null,"3 - Cardboard","Cat_3",3,null,null,"Cat2",null,null,null,null,null,null,0.2]
[null,null,null,null,null,null,"ABJ","A_21","DIY products","Tools and supports for working at height",{"$f":"VLOOKUP(J5,'Understanding codification'!$E$27:$F$42,2,FALSE)","v":102},null,"3 - Cardboard","MAT_3",3,null,null,null,null,null,null,null,"4 - Materials and fibres of plant or animal origin excl. wood, paper, and cardboard","Cat_4",null,null,null,null,null,"≥0.5 kg and <1 kg","021","103","A_103","Elements of all sizes and weights","€ / ton","Dim_2",null,null,null,"Dim_1","≥1 kg and <2 kg","022",null,null,null,"4 - Materials and fibres of plant or animal origin excl. wood, paper, and cardboard","Cat_4",4,null,52,"Solid wood and related products certified >90%",{"$f":"VLOOKUP(AY5,'Understanding codification'!$D$48:$F$127,3,FALSE)","v":52}]
[null,null,null,null,null,null,"ABJ","A_21","DIY products","Personal protection equipment and accessories for DIY",{"$f":"VLOOKUP(J6,'Understanding codification'!$E$27:$F$42,2,FALSE)","v":103},null,"4 - Materials and fibres of plant or animal origin excl. wood, paper, and cardboard","MAT_4",4,"MAT_2","2 - Wood and wood derivatives","Solid wood and related products certified >90%","All species (Douglas fir, fir, oak, beech, maritime pine, Scots pine, African pearwood, larch, teak, spruce, etc.), including engineered wood, plywood, laminated timber, and veneer",{"$f":"VLOOKUP(R6,'Understanding codification'!$D$44:$F$127,3,FALSE)","v":52},null,null,"5 - Plastic, synthetic fibres and materials","Cat_5",null,null,null,null,null,"≥1 kg and <2 kg","022","104","A_104","Elements of all sizes and weights","€ / ton","Dim_2",null,null,null,"Dim_1","≥2 kg and <3 kg","052",null,null,null,"5 - Plastic, synthetic fibres and materials","Cat_5",5,null,20,"Solid wood and related products certified >75%",{"$f":"VLOOKUP(AY6,'Understanding codification'!$D$48:$F$127,3,FALSE)","v":20}]
[null,null,null,null,null,null,"ABJ","A_21","DIY products","Tarpaulins, covers, nets, and films for DIY",{"$f":"VLOOKUP(J7,'Understanding codification'!$E$27:$F$42,2,FALSE)","v":104},null,"5 - Plastic, synthetic fibres and materials","MAT_5",5,"MAT_2","2 - Wood and wood derivatives","Solid wood and related products certified >75%","All species (Douglas fir, fir, oak, beech, maritime pine, Scots pine, African pearwood, larch, teak, spruce, etc.), including engineered wood, plywood, laminated timber, and veneer",{"$f":"VLOOKUP(R7,'Understanding codification'!$D$44:$F$127,3,FALSE)","v":20},null,null,"6 - Glass and glass partitions","Cat_6",null,null,null,null,null,"≥2 kg and <3 kg","052","105","A_105","Elements of all sizes and weights","€ / ton","Dim_2",null,null,null,"Dim_1","≥3 kg and <5 kg","053",null,null,null,"6 - Glass and glass partitions","Cat_6",6,null,53,"Solid wood and related products >90%",{"$f":"VLOOKUP(AY7,'Understanding codification'!$D$48:$F$127,3,FALSE)","v":53}]
[null,null,null,null,null,null,"ABJ",{"$f":"\"A_\"&VLOOKUP(I8,$D$3:$E$4,2,FALSE)","v":"A_21"},"DIY products","Buckets, troughs, and containers",{"$f":"VLOOKUP(J8,'Understanding codification'!$E$27:$F$42,2,FALSE)","v":105},null,"6 - Glass and glass partitions","MAT_6",6,"MAT_2","2 - Wood and wood derivatives","Solid wood and related products >90%","All species (Douglas fir, fir, oak, beech, maritime pine, Scots pine, African pearwood, larch, teak, spruce, etc.), including engineered wood, plywood, laminated timber, and veneer",{"$f":"VLOOKUP(R8,'Understanding codification'!$D$44:$F$127,3,FALSE)","v":53},null,null,"10 - Other mixes of materials or unclassified or unspecified materials","Cat_10",null,null,null,null,null,"≥3 kg and <5 kg","053","150","A_150","Elements of all sizes and weights","€ / ton","Dim_2",null,null,null,"Dim_1","≥5 kg and <7 kg","054",null,null,null,"7 - Plâtre (Cat. e du décret)","Cat_7",7,null,21,"Solid wood and related products >75%",{"$f":"VLOOKUP(AY8,'Understanding codification'!$D$48:$F$127,3,FALSE)","v":21}]
[null,null,null,null,null,null,"ABJ","A_22","Garden upkeep and landscaping","Garden upkeep hand tools and small accessories",{"$f":"VLOOKUP(J9,'Understanding codification'!$E$27:$F$42,2,FALSE)","v":150},null,"7 - Plaster","MAT_7",7,"MAT_2","2 - Wood and wood derivatives","Solid wood and related products >75%","All species (Douglas fir, fir, oak, beech, maritime pine, Scots pine, African pearwood, larch, teak, spruce, etc.), including engineered wood, plywood, laminated timber, and veneer",{"$f":"VLOOKUP(R9,'Understanding codification'!$D$44:$F$127,3,FALSE)","v":21},null,null,"A_101",null,null,null,null,null,null,"≥5 kg and <7 kg","054","151","A_151","Elements of all sizes and weights","€ / ton","Dim_2",null,null,null,"Dim_1","≥7 kg and <10 kg","055",null,null,null,"8- Laines de verre et laines de roches (Cat. h et i du décret)","Cat_8",8,null,59,"Certified chipboard or OSB >90%",{"$f":"VLOOKUP(AY9,'Understanding codification'!$D$48:$F$127,3,FALSE)","v":59}]
[null,null,null,null,null,null,"ABJ","A_22","Garden upkeep and landscaping","Personal protection equipment and accessories for gardening",{"$f":"VLOOKUP(J10,'Understanding codification'!$E$27:$F$42,2,FALSE)","v":151},null,"8 - Glass wool and rockwool","MAT_8",8,"MAT_2","2 - Wood and wood derivatives","Certified chipboard or OSB >90%","Chipboard and OSB",{"$f":"VLOOKUP(R10,'Understanding codification'!$D$44:$F$127,3,FALSE)","v":59},null,null,"1 - Metal",{"$f":"VLOOKUP(W10,$AT$2:$AU$13,2,FALSE)","v":"Cat_1"},null,null,null,null,null,"≥7 kg and <10 kg","055","152","A_152","Elements of all sizes and weights","€ / ton","Dim_3",null,null,null,"Dim_1","≥10 kg and <15 kg","056",null,null,null,"9 - Membranes bitumineuses (Cat. g du décret)","Cat_9",9,null,60,"Certified chipboard or OSB >75%",{"$f":"VLOOKUP(AY10,'Understanding codification'!$D$48:$F$127,3,FALSE)","v":60}]
[null,null,null,null,null,null,"ABJ","A_22","Garden upkeep and landscaping","Flower pots and containers",{"$f":"VLOOKUP(J11,'Understanding codification'!$E$27:$F$42,2,FALSE)","v":152},null,"9 - Bitumen membranes","MAT_9",9,"MAT_2","2 - Wood and wood derivatives","Certified chipboard or OSB >75%","Chipboard and OSB",{"$f":"VLOOKUP(R11,'Understanding codification'!$D$44:$F$127,3,FALSE)","v":60},null,null,"2 - Wood and wood derivatives","Cat_2",null,null,null,null,null,"≥10 kg and <15 kg","056","153","A_153","Elements of all sizes and weights","€ / ton","Dim_2",null,null,null,"Dim_1","≥15 kg and <20 kg","057",null,null,null,"10 - Other mixes of materials or unclassified or unspecified materials","Cat_10",10,null,61,"Chipboard or OSB >90%",{"$f":"VLOOKUP(AY11,'Understanding codification'!$D$48:$F$127,3,FALSE)","v":61}]
[null,null,null,null,null,null,"ABJ","A_22","Garden upkeep and landscaping","Tarpaulins, covers, nets, and films for gardening",{"$f":"VLOOKUP(J12,'Understanding codification'!$E$27:$F$42,2,FALSE)","v":153},null,"10 - Other mixes of materials or unclassified or unspecified materials","MAT_10",10,"MAT_2","2 - Wood and wood derivatives","Chipboard or OSB >90%","Chipboard and OSB",{"$f":"VLOOKUP(R12,'Understanding codification'!$D$44:$F$127,3,FALSE)","v":61},null,null,"3 - Cardboard","Cat_3",null,null,null,null,null,"≥15 kg and <20 kg","057","154","A_154","Elements of all sizes and weights","€ / ton","Dim_1",null,null,null,"Dim_1","≥20 kg and <25 kg","058",null,null,null,"11 - Mortiers, enduits, peintures, vernis, résines, produits de préparation (Cat. c du décret)","Cat_11",11,null,25,"Chipboard or OSB >75%",{"$f":"VLOOKUP(AY12,'Understanding codification'!$D$48:$F$127,3,FALSE)","v":25}]
[null,null,null,null,null,null,"ABJ","A_22","Garden upkeep and landscaping","Outdoor equipment and accessories (excl. tarpaulins, nets, and covers)",{"$f":"VLOOKUP(J13,'Understanding codification'!$E$27:$F$42,2,FALSE)","v":154},null,"11 - Mortars, coatings, paints, varnishes, resins, and preparation products","MAT_11",11,"MAT_2","2 - Wood and wood derivatives","Chipboard or OSB >75%","Chipboard and OSB",{"$f":"VLOOKUP(R13,'Understanding codification'!$D$44:$F$127,3,FALSE)","v":25},null,null,"4 - Materials and fibres of plant or animal origin excl. wood, paper, and cardboard","Cat_4",null,null,null,null,null,"≥20 kg and <25 kg","058","155","A_155","Elements of all sizes and weights","€ / ton","Dim_1",null,null,null,"Dim_1","≥25 kg and <30 kg","059",null,null,null,"12 - Inert materials","Cat_12",12,null,62,"Wood derivatives >90%",{"$f":"VLOOKUP(AY13,'Understanding codification'!$D$48:$F$127,3,FALSE)","v":62}]
[null,null,null,null,null,null,"ABJ","A_22","Garden upkeep and landscaping","Non-masonry outdoor structures",{"$f":"VLOOKUP(J14,'Understanding codification'!$E$27:$F$42,2,FALSE)","v":155},null,"12 - Inert materials","MAT_12",12,"MAT_2","2 - Wood and wood derivatives","Wood derivatives >90%","Composite wood, MDF, HDF, alveolar, laminate, HPL, etc.",62,null,null,"5 - Plastic, synthetic fibres and materials","Cat_5",null,null,null,null,null,"≥25 kg and <30 kg","059",null,null,null,null,null,null,null,null,"Dim_1","≥30 kg and <40 kg","027",null,null,null,null,null,null,null,54,"Non-certified wood derivatives >90%",{"$f":"VLOOKUP(AY14,'Understanding codification'!$D$48:$F$127,3,FALSE)","v":54}]
[null,null,null,null,null,null,null,null,null,null,null,null,null,null,null,"MAT_2","2 - Wood and wood derivatives","Non-certified wood derivatives >90%","Composite wood, MDF, HDF, alveolar, laminate, HPL, etc.",54,null,null,"6 - Glass and glass partitions","Cat_6",null,null,null,null,null,"≥30 kg and <40 kg","027",null,null,null,null,null,null,null,null,"Dim_1","≥40 kg and <50 kg","060",null,null,null,null,null,null,null,"01","Assembly of wood and/or wood derivatives >50% and other materials or composite wood (excl. glass)",{"$f":"VLOOKUP(AY15,'Understanding codification'!$D$48:$F$127,3,FALSE)","v":"01"}]
[null,null,null,null,null,null,null,null,null,null,null,null,null,null,null,"MAT_2","2 - Wood and wood derivatives","Assembly of wood and/or wood derivatives >50% and other materials or composite wood (excl. glass)","Assembly of wood/metal, wood/plastic, etc.","01",null,null,"10 - Other mixes of materials or unclassified or unspecified materials","Cat_10",null,null,null,null,null,"≥40 kg and <50 kg","060",null,null,null,null,null,null,null,null,"Dim_2","Elements of all sizes and weights","000",null,null,null,null,null,null,null,51,"Assembly of non-certified wood and/or wood derivatives >50% and other materials or composite wood (excl. glass)",{"$f":"VLOOKUP(AY16,'Understanding codification'!$D$48:$F$127,3,FALSE)","v":51}]
[null,null,null,null,null,null,null,null,null,null,null,null,null,null,null,"MAT_2","2 - Wood and wood derivatives","Assembly of non-certified wood and/or wood derivatives >50% and other materials or composite wood (excl. glass)","Assembly of wood/metal, wood/plastic, etc.",51,null,null,"12 - Inert materials","Cat_12",null,null,null,null,null,null,null,null,null,null,null,null,null,null,null,"Dim_2","Strictly <0.5 kg","020",null,null,null,null,null,null,null,null,"Cat3"]
[null,null,null,null,null,null,null,null,null,null,null,null,null,null,null,null,null,null,null,null,null,null,"A_103",null,null,null,null,null,null,null,null,null,null,null,null,null,null,null,null,"Dim_2","≥0.5 kg and <1 kg","021",null,null,null,null,null,null,null,"19","Cardboard >50% and other materials (excl. glass)",{"$f":"VLOOKUP(AY18,'Understanding codification'!$D$48:$F$127,3,FALSE)","v":"19"}]
[null,null,null,null,null,null,null,null,null,null,null,null,null,null,null,"MAT_3","3 - Cardboard","Cardboard >50% and other materials (excl. glass)","Paper, cardboard, compact paper, Kraft paper",{"$f":"VLOOKUP(R19,'Understanding codification'!$D$44:$F$127,3,FALSE)","v":"19"},null,null,"1 - Metal",{"$f":"VLOOKUP(W19,$AT$2:$AU$13,2,FALSE)","v":"Cat_1"},null,null,null,null,null,null,null,null,null,null,null,null,null,null,null,"Dim_2","≥1 kg and <2 kg","022",null,null,null,null,null,null,null,null,"Cat4"]
[null,null,null,null,null,null,null,null,null,null,null,null,null,null,null,null,null,null,null,null,null,null,"2 - Wood and wood derivatives","Cat_2",null,null,null,null,null,null,null,null,null,null,null,null,null,null,null,"Dim_2","≥2 kg and <3 kg","052",null,null,null,null,null,null,null,64,"Natural rubber >50%",{"$f":"VLOOKUP(AY20,'Understanding codification'!$D$48:$F$127,3,FALSE)","v":64}]
[null,null,null,null,null,null,null,null,null,null,null,null,null,null,null,"MAT_4","4 - Materials and fibres of plant or animal origin excl. wood, paper, and cardboard","Biosourced materials or non-synthetic textiles >90%","Plant stalks (bamboo, rattan, wicker, jute, straw, cork), natural textiles of unmixed plant origin (cotton, linen, hemp, silk, ramie, coconut fibre, raffia, etc.)",{"$f":"VLOOKUP(R21,'Understanding codification'!$D$44:$F$127,3,FALSE)","v":55},null,null,"3 - Cardboard","Cat_3",null,null,null,null,null,null,null,null,null,null,null,null,null,null,null,"Dim_2","≥3 kg and <5 kg","053",null,null,null,null,null,null,null,63,"Natural rubber >90%",{"$f":"VLOOKUP(AY21,'Understanding codification'!$D$48:$F$127,3,FALSE)","v":63}]
[null,null,null,null,null,null,null,null,null,null,null,null,null,null,null,"MAT_4","4 - Materials and fibres of plant or animal origin excl. wood, paper, and cardboard","Biosourced materials or non-synthetic textiles >50%","Assembly of biosourced materials and plastic, metal, etc.",{"$f":"VLOOKUP(R22,'Understanding codification'!$D$44:$F$127,3,FALSE)","v":"04"},null,null,"4 - Materials and fibres of plant or animal origin excl. wood, paper, and cardboard","Cat_4",null,null,null,null,null,null,null,null,null,null,null,null,null,null,null,"Dim_2","≥5 kg and <7 kg","054",null,null,null,null,null,null,null,"04","Biosourced materials or non-synthetic textiles >50%",{"$f":"VLOOKUP(AY22,'Understanding codification'!$D$48:$F$127,3,FALSE)","v":"04"}]
[null,null,null,null,null,null,null,null,null,null,null,null,null,null,null,"MAT_4","4 - Materials and fibres of plant or animal origin excl. wood, paper, and cardboard","Natural rubber >90%","Rubber and latex",{"$f":"VLOOKUP(R23,'Understanding codification'!$D$44:$F$127,3,FALSE)","v":63},null,null,"5 - Plastic, synthetic fibres and materials","Cat_5",null,null,null,null,null,null,null,null,null,null,null,null,null,null,null,"Dim_3","Elements of all sizes and weights","000",null,null,null,null,null,null,null,55,"Biosourced materials or non-synthetic textiles >90%",{"$f":"VLOOKUP(AY23,'Understanding codification'!$D$48:$F$127,3,FALSE)","v":55}]
[null,null,null,null,null,null,null,null,null,null,null,null,null,null,null,"MAT_4","4 - Materials and fibres of plant or animal origin excl. wood, paper, and cardboard","Natural rubber >50%","Rubber and latex",{"$f":"VLOOKUP(R24,'Understanding codification'!$D$44:$F$127,3,FALSE)","v":64},null,null,"6 - Glass and glass partitions","Cat_6",null,null,null,null,null,null,null,null,null,null,null,null,null,null,null,"Dim_3","Strictly <0.5 kg","020",null,null,null,null,null,null,null,"06","Materials of animal origin >50%",{"$f":"VLOOKUP(AY24,'Understanding codification'!$D$48:$F$127,3,FALSE)","v":"06"}]
[null,null,null,null,null,null,null,null,null,null,null,null,null,null,null,"MAT_4","4 - Materials and fibres of plant or animal origin excl. wood, paper, and cardboard","Materials of animal origin >50%","Textile materials or padding of animal origin (wool, felt, mohair, feathers, down, hair, leather, etc.)",{"$f":"VLOOKUP(R25,'Understanding codification'!$D$44:$F$127,3,FALSE)","v":"06"},null,null,"10 - Other mixes of materials or unclassified or unspecified materials","Cat_10",null,null,null,null,null,null,null,null,null,null,null,null,null,null,null,"Dim_3","≥0.5 kg and <1 kg","021",null,null,null,null,null,null,null,null,"Cat5"]
[null,null,null,null,null,null,null,null,null,null,null,null,null,null,null,null,null,null,null,null,null,null,"A_104",null,null,null,null,null,null,null,null,null,null,null,null,null,null,null,null,"Dim_3","≥1 kg and <2 kg","022",null,null,null,null,null,null,null,41,"Plastic (single-resin) >90%",{"$f":"VLOOKUP(AY26,'Understanding codification'!$D$48:$F$127,3,FALSE)","v":41}]
[null,null,null,null,null,null,null,null,null,null,null,null,null,null,null,"MAT_5","5 - Plastic, synthetic fibres and materials","Plastic (single-resin) >90%","Plastic and other synthetic materials: acrylic, PP, PE, PS, XPS, EPS, PEX, nylon, polyamide, PU, PVC, vinyl, epoxy, synthetic fibres, PL, composite materials, carbon, etc.",{"$f":"VLOOKUP(R27,'Understanding codification'!$D$44:$F$127,3,FALSE)","v":41},null,null,"3 - Cardboard",{"$f":"VLOOKUP(W27,$AT$2:$AU$13,2,FALSE)","v":"Cat_3"},null,null,null,null,null,null,null,null,null,null,null,null,null,null,null,"Dim_3","≥2 kg and <3 kg","052",null,null,null,null,null,null,null,45,"PE or PP or PP/PE mix >90%",{"$f":"VLOOKUP(AY27,'Understanding codification'!$D$48:$F$127,3,FALSE)","v":45}]
[null,null,null,null,null,null,null,null,null,null,null,null,null,null,null,"MAT_5","5 - Plastic, synthetic fibres and materials","PE or PP or PP/PE mix >90%","Polyethylene (PE), Polypropylene (PP), PP/PE mix",{"$f":"VLOOKUP(R28,'Understanding codification'!$D$44:$F$127,3,FALSE)","v":45},null,null,"4 - Materials and fibres of plant or animal origin excl. wood, paper, and cardboard","Cat_4",null,null,null,null,null,null,null,null,null,null,null,null,null,null,null,"Dim_3","≥3 kg and <5 kg","053",null,null,null,null,null,null,null,46,"ABS >90%",{"$f":"VLOOKUP(AY28,'Understanding codification'!$D$48:$F$127,3,FALSE)","v":46}]
[null,null,null,null,null,null,null,null,null,null,null,null,null,null,null,"MAT_5","5 - Plastic, synthetic fibres and materials","PVC >90%",null,{"$f":"VLOOKUP(R29,'Understanding codification'!$D$44:$F$127,3,FALSE)","v":48},null,null,"5 - Plastic, synthetic fibres and materials","Cat_5",null,null,null,null,null,null,null,null,null,null,null,null,null,null,null,"Dim_3","≥5 kg and <7 kg","054",null,null,null,null,null,null,null,48,"PVC >90%",{"$f":"VLOOKUP(AY29,'Understanding codification'!$D$48:$F$127,3,FALSE)","v":48}]
[null,null,null,null,null,null,null,null,null,null,null,null,null,null,null,"MAT_5","5 - Plastic, synthetic fibres and materials","Polyethylene terephthalate (PET) >90%",null,{"$f":"VLOOKUP(R30,'Understanding codification'!$D$44:$F$127,3,FALSE)","v":42},null,null,"10 - Other mixes of materials or unclassified or unspecified materials","Cat_10",null,null,null,null,null,null,null,null,null,null,null,null,null,null,null,"Dim_3","≥7 kg and <10 kg","055",null,null,null,null,null,null,null,47,"Polystyrene >90%",{"$f":"VLOOKUP(AY30,'Understanding codification'!$D$48:$F$127,3,FALSE)","v":47}]
[null,null,null,null,null,null,null,null,null,null,null,null,null,null,null,"MAT_5","5 - Plastic, synthetic fibres and materials","ABS >90%",null,{"$f":"VLOOKUP(R31,'Understanding codification'!$D$44:$F$127,3,FALSE)","v":46},null,null,"A_102",null,null,null,null,null,null,null,null,null,null,null,null,null,null,null,null,"Dim_3","≥10 kg and <15 kg","056",null,null,null,null,null,null,null,42,"Polyethylene terephthalate (PET) >90%",{"$f":"VLOOKUP(AY31,'Understanding codification'!$D$48:$F$127,3,FALSE)","v":42}]
[null,null,null,null,null,null,null,null,null,null,null,null,null,null,null,"MAT_5","5 - Plastic, synthetic fibres and materials","Polystyrene >90%",null,{"$f":"VLOOKUP(R32,'Understanding codification'!$D$44:$F$127,3,FALSE)","v":47},null,null,"1 - Metal",{"$f":"VLOOKUP(W32,$AT$2:$AU$13,2,FALSE)","v":"Cat_1"},null,null,null,null,null,null,null,null,null,null,null,null,null,null,null,"Dim_3","≥15 kg and <20 kg","057",null,null,null,null,null,null,null,49,"Synthetic rubber >90%",{"$f":"VLOOKUP(AY32,'Understanding codification'!$D$48:$F$127,3,FALSE)","v":49}]
[null,null,null,null,null,null,null,null,null,null,null,null,null,null,null,"MAT_5","5 - Plastic, synthetic fibres and materials","Plastics or other synthetic materials >50%","Assembly of synthetic textiles and materials",{"$f":"VLOOKUP(R33,'Understanding codification'!$D$44:$F$127,3,FALSE)","v":"05"},null,null,"2 - Wood and wood derivatives","Cat_2",null,null,null,null,null,null,null,null,null,null,null,null,null,null,null,null,null,null,null,null,null,null,null,null,null,65,"Synthetic fibres or materials >90%",{"$f":"VLOOKUP(AY33,'Understanding codification'!$D$48:$F$127,3,FALSE)","v":65}]
[null,null,null,null,null,null,null,null,null,null,null,null,null,null,null,"MAT_5","5 - Plastic, synthetic fibres and materials","Synthetic rubber >90%","Rubber",{"$f":"VLOOKUP(R34,'Understanding codification'!$D$44:$F$127,3,FALSE)","v":49},null,null,"3 - Cardboard","Cat_3",null,null,null,null,null,null,null,null,null,null,null,null,null,null,null,null,null,null,null,null,null,null,null,null,null,"05","Plastics or other synthetic materials >50%",{"$f":"VLOOKUP(AY34,'Understanding codification'!$D$48:$F$127,3,FALSE)","v":"05"}]
[null,null,null,null,null,null,null,null,null,null,null,null,null,null,null,"MAT_5","5 - Plastic, synthetic fibres and materials","Elements containing latex","Latex",{"$f":"VLOOKUP(R35,'Understanding codification'!$D$44:$F$127,3,FALSE)","v":10},null,null,"4 - Materials and fibres of plant or animal origin excl. wood, paper, and cardboard","Cat_4",null,null,null,null,null,null,null,null,null,null,null,null,null,null,null,null,null,null,null,null,null,null,null,null,null,40,"Assembly of synthetic rubber or latex >50% and other materials",{"$f":"VLOOKUP(AY35,'Understanding codification'!$D$48:$F$127,3,FALSE)","v":40}]
[null,null,null,null,null,null,null,null,null,null,null,null,null,null,null,"MAT_5","5 - Plastic, synthetic fibres and materials","Assembly of synthetic rubber or latex >50% and other materials","Rubber, latex with other synthetic materials, wood, metal, etc.",{"$f":"VLOOKUP(R36,'Understanding codification'!$D$44:$F$127,3,FALSE)","v":40},null,null,"5 - Plastic, synthetic fibres and materials","Cat_5",null,null,null,null,null,null,null,null,null,null,null,null,null,null,null,null,null,null,null,null,null,null,null,null,null,67,"Assembly of synthetic fibres and/or materials >50% and other materials",{"$f":"VLOOKUP(AY36,'Understanding codification'!$D$48:$F$127,3,FALSE)","v":67}]
[null,null,null,null,null,null,null,null,null,null,null,null,null,null,null,"MAT_5","5 - Plastic, synthetic fibres and materials","Synthetic fibres or materials >90%","Polyamides, nylon, polyester (PES) and polyethylene terephthalate (PET), viscose, elastane, foam, etc.",{"$f":"VLOOKUP(R37,'Understanding codification'!$D$44:$F$127,3,FALSE)","v":65},null,null,"6 - Glass and glass partitions","Cat_6",null,null,null,null,null,null,null,null,null,null,null,null,null,null,null,null,null,null,null,null,null,null,null,null,null,null,"Cat6"]
[null,null,null,null,null,null,null,null,null,null,null,null,null,null,null,"MAT_5","5 - Plastic, synthetic fibres and materials","Textile and polyester padding >90%","Polyester",{"$f":"VLOOKUP(R38,'Understanding codification'!$D$44:$F$127,3,FALSE)","v":66},null,null,"10 - Other mixes of materials or unclassified or unspecified materials","Cat_10",null,null,null,null,null,null,null,null,null,null,null,null,null,null,null,null,null,null,null,null,null,null,null,null,null,72,"Assembly of glass >50% and wood or wood derivatives",{"$f":"VLOOKUP(AY38,'Understanding codification'!$D$48:$F$127,3,FALSE)","v":72}]
[null,null,null,null,null,null,null,null,null,null,null,null,null,null,null,"MAT_5","5 - Plastic, synthetic fibres and materials","Elements containing foam",null,{"$f":"VLOOKUP(R39,'Understanding codification'!$D$44:$F$127,3,FALSE)","v":"09"},null,null,"12 - Inert materials","Cat_12",null,null,null,null,null,null,null,null,null,null,null,null,null,null,null,null,null,null,null,null,null,null,null,null,null,71,"Assembly of glass >50% and inert substances",{"$f":"VLOOKUP(AY39,'Understanding codification'!$D$48:$F$127,3,FALSE)","v":71}]
[null,null,null,null,null,null,null,null,null,null,null,null,null,null,null,"MAT_5","5 - Plastic, synthetic fibres and materials","Textile elements containing springs",null,{"$f":"VLOOKUP(R40,'Understanding codification'!$D$44:$F$127,3,FALSE)","v":11},null,null,"A_153",null,null,null,null,null,null,null,null,null,null,null,null,null,null,null,null,null,null,null,null,null,null,null,null,null,null,70,"Assembly of glass >50% and metal",{"$f":"VLOOKUP(AY40,'Understanding codification'!$D$48:$F$127,3,FALSE)","v":70}]
[null,null,null,null,null,null,null,null,null,null,null,null,null,null,null,"MAT_5","5 - Plastic, synthetic fibres and materials","Assembly of synthetic fibres and/or materials >50% and other materials","Assembly of synthetic textiles and/or materials and metal, wood, etc.",{"$f":"VLOOKUP(R41,'Understanding codification'!$D$44:$F$127,3,FALSE)","v":67},null,null,"3 - Cardboard",{"$f":"VLOOKUP(W41,$AT$2:$AU$13,2,FALSE)","v":"Cat_3"},null,null,null,null,null,null,null,null,null,null,null,null,null,null,null,null,null,null,null,null,null,null,null,null,null,73,"Assembly of glass >50% and plastic",{"$f":"VLOOKUP(AY41,'Understanding codification'!$D$48:$F$127,3,FALSE)","v":73}]
[null,null,null,null,null,null,null,null,null,null,null,null,null,null,null,null,null,null,null,null,null,null,"4 - Materials and fibres of plant or animal origin excl. wood, paper, and cardboard","Cat_4",null,null,null,null,null,null,null,null,null,null,null,null,null,null,null,null,null,null,null,null,null,null,null,null,null,68,"Glass >90%",{"$f":"VLOOKUP(AY42,'Understanding codification'!$D$48:$F$127,3,FALSE)","v":68}]
[null,null,null,null,null,null,null,null,null,null,null,null,null,null,null,"MAT_6","6 - Glass and glass partitions","Glass >90%","Flat glass, glass bricks, etc.",{"$f":"VLOOKUP(R43,'Understanding codification'!$D$44:$F$127,3,FALSE)","v":68},null,null,"5 - Plastic, synthetic fibres and materials","Cat_5",null,null,null,null,null,null,null,null,null,null,null,null,null,null,null,null,null,null,null,null,null,null,null,null,null,null,"Cat7"]
[null,null,null,null,null,null,null,null,null,null,null,null,null,null,null,"MAT_6","6 - Glass and glass partitions","Assembly of glass >50% and metal","Assembly of glass and metals",{"$f":"VLOOKUP(R44,'Understanding codification'!$D$44:$F$127,3,FALSE)","v":70},null,null,"10 - Other mixes of materials or unclassified or unspecified materials","Cat_10",null,null,null,null,null,null,null,null,null,null,null,null,null,null,null,null,null,null,null,null,null,null,null,null,null,75,"Plaster >90%",{"$f":"VLOOKUP(AY44,'Understanding codification'!$D$48:$F$127,3,FALSE)","v":75}]
[null,null,null,null,null,null,null,null,null,null,null,null,null,null,null,"MAT_6","6 - Glass and glass partitions","Assembly of glass >50% and inert substances","Assembly of glass and inert substances",{"$f":"VLOOKUP(R45,'Understanding codification'!$D$44:$F$127,3,FALSE)","v":71},null,null,"A_151",null,null,null,null,null,null,null,null,null,null,null,null,null,null,null,null,null,null,null,null,null,null,null,null,null,null,76,"Plaster >50%",{"$f":"VLOOKUP(AY45,'Understanding codification'!$D$48:$F$127,3,FALSE)","v":76}]
[null,null,null,null,null,null,null,null,null,null,null,null,null,null,null,"MAT_6","6 - Glass and glass partitions","Assembly of glass >50% and wood or wood derivatives","Assembly of glass and wood or biosourced materials",{"$f":"VLOOKUP(R46,'Understanding codification'!$D$44:$F$127,3,FALSE)","v":72},null,null,"1 - Metal",{"$f":"VLOOKUP(W46,$AT$2:$AU$13,2,FALSE)","v":"Cat_1"},null,null,null,null,null,null,null,null,null,null,null,null,null,null,null,null,null,null,null,null,null,null,null,null,null,null,"Cat8"]
[null,null,null,null,null,null,null,null,null,null,null,null,null,null,null,"MAT_6","6 - Glass and glass partitions","Assembly of glass >50% and plastic","Assembly of glass and plastic",{"$f":"VLOOKUP(R47,'Understanding codification'!$D$44:$F$127,3,FALSE)","v":73},null,null,"2 - Wood and wood derivatives","Cat_2",null,null,null,null,null,null,null,null,null,null,null,null,null,null,null,null,null,null,null,null,null,null,null,null,null,77,"Rockwool >90%",{"$f":"VLOOKUP(AY47,'Understanding codification'!$D$48:$F$127,3,FALSE)","v":77}]
[null,null,null,null,null,null,null,null,null,null,null,null,null,null,null,"MAT_6","6 - Glass and glass partitions","Mirror >90%","Mirror",{"$f":"VLOOKUP(R48,'Understanding codification'!$D$44:$F$127,3,FALSE)","v":69},null,null,"3 - Cardboard","Cat_3",null,null,null,null,null,null,null,null,null,null,null,null,null,null,null,null,null,null,null,null,null,null,null,null,null,78,"Glass wool >90%",{"$f":"VLOOKUP(AY48,'Understanding codification'!$D$48:$F$127,3,FALSE)","v":78}]
[null,null,null,null,null,null,null,null,null,null,null,null,null,null,null,null,null,null,null,null,null,null,"4 - Materials and fibres of plant or animal origin excl. wood, paper, and cardboard","Cat_4",null,null,null,null,null,null,null,null,null,null,null,null,null,null,null,null,null,null,null,null,null,null,null,null,null,79,"Assembly of glass wool or rockwool >50% and other materials",{"$f":"VLOOKUP(AY49,'Understanding codification'!$D$48:$F$127,3,FALSE)","v":79}]
[null,null,null,null,null,null,null,null,null,null,null,null,null,null,null,"MAT_7","7 - Plaster","Plaster >90%","Plaster material, plasterboard, and gypsum fibreboard",{"$f":"VLOOKUP(R50,'Understanding codification'!$D$44:$F$127,3,FALSE)","v":75},null,null,"5 - Plastic, synthetic fibres and materials","Cat_5",null,null,null,null,null,null,null,null,null,null,null,null,null,null,null,null,null,null,null,null,null,null,null,null,null,null,"Cat9"]
[null,null,null,null,null,null,null,null,null,null,null,null,null,null,null,"MAT_7","7 - Plaster","Plaster >50%","Elements composed mainly of plaster and associated with other materials",{"$f":"VLOOKUP(R51,'Understanding codification'!$D$44:$F$127,3,FALSE)","v":76},null,null,"6 - Glass and glass partitions","Cat_6",null,null,null,null,null,null,null,null,null,null,null,null,null,null,null,null,null,null,null,null,null,null,null,null,null,80,"Bitumen membranes >90%",{"$f":"VLOOKUP(AY51,'Understanding codification'!$D$48:$F$127,3,FALSE)","v":80}]
[null,null,null,null,null,null,null,null,null,null,null,null,null,null,null,null,null,null,null,null,null,null,"10 - Other mixes of materials or unclassified or unspecified materials","Cat_10",null,null,null,null,null,null,null,null,null,null,null,null,null,null,null,null,null,null,null,null,null,null,null,null,null,null,"Cat10"]
[null,null,null,null,null,null,null,null,null,null,null,null,null,null,null,"MAT_8","8 - Glass wool and rockwool","Rockwool >90%","Insulating materials made from natural materials resulting from volcanic activity",{"$f":"VLOOKUP(R53,'Understanding codification'!$D$44:$F$127,3,FALSE)","v":77},null,null,"A_154",null,null,null,null,null,null,null,null,null,null,null,null,null,null,null,null,null,null,null,null,null,null,null,null,null,null,82,"Assembly of 3 or more materials, with no material representing >50%",{"$f":"VLOOKUP(AY53,'Understanding codification'!$D$48:$F$127,3,FALSE)","v":82}]
[null,null,null,null,null,null,null,null,null,null,null,null,null,null,null,"MAT_8","8 - Glass wool and rockwool","Glass wool >90%","Materials composed of glass fibres, used as a filter or insulator",{"$f":"VLOOKUP(R54,'Understanding codification'!$D$44:$F$127,3,FALSE)","v":78},null,null,"1 - Metal",{"$f":"VLOOKUP(W54,$AT$2:$AU$13,2,FALSE)","v":"Cat_1"},null,null,null,null,null,null,null,null,null,null,null,null,null,null,null,null,null,null,null,null,null,null,null,null,null,"00","Unknown or unspecified by the company",{"$f":"VLOOKUP(AY54,'Understanding codification'!$D$48:$F$127,3,FALSE)","v":"00"}]
[null,null,null,null,null,null,null,null,null,null,null,null,null,null,null,"MAT_8","8 - Glass wool and rockwool","Assembly of glass wool or rockwool >50% and other materials","Elements mainly composed of mineral wool",{"$f":"VLOOKUP(R55,'Understanding codification'!$D$44:$F$127,3,FALSE)","v":79},null,null,"2 - Wood and wood derivatives","Cat_2",null,null,null,null,null,null,null,null,null,null,null,null,null,null,null,null,null,null,null,null,null,null,null,null,null,null,"Cat12"]
[null,null,null,null,null,null,null,null,null,null,null,null,null,null,null,null,null,null,null,null,null,null,"3 - Cardboard","Cat_3",null,null,null,null,null,null,null,null,null,null,null,null,null,null,null,null,null,null,null,null,null,null,null,null,null,84,"Slate >90%",{"$f":"VLOOKUP(AY56,'Understanding codification'!$D$48:$F$127,3,FALSE)","v":84}]
[null,null,null,null,null,null,null,null,null,null,null,null,null,null,null,"MAT_9","9 - Bitumen membranes","Bitumen membranes >90%","Synthetic sealing membrane",{"$f":"VLOOKUP(R57,'Understanding codification'!$D$44:$F$127,3,FALSE)","v":80},null,null,"4 - Materials and fibres of plant or animal origin excl. wood, paper, and cardboard","Cat_4",null,null,null,null,null,null,null,null,null,null,null,null,null,null,null,null,null,null,null,null,null,null,null,null,null,"08","Assembly of materials with inert substances >50%",{"$f":"VLOOKUP(AY57,'Understanding codification'!$D$48:$F$127,3,FALSE)","v":"08"}]
[null,null,null,null,null,null,null,null,null,null,null,null,null,null,null,null,null,null,null,null,null,null,"5 - Plastic, synthetic fibres and materials","Cat_5",null,null,null,null,null,null,null,null,null,null,null,null,null,null,null,null,null,null,null,null,null,null,null,null,null,74,"Concrete >90%",{"$f":"VLOOKUP(AY58,'Understanding codification'!$D$48:$F$127,3,FALSE)","v":74}]
[null,null,null,null,null,null,null,null,null,null,null,null,null,null,null,"MAT_10","10 - Other mixes of materials or unclassified or unspecified materials","Assembly of wood, wood derivatives, and metal with a combination representing >90%",null,{"$f":"VLOOKUP(R59,'Understanding codification'!$D$44:$F$127,3,FALSE)","v":81},null,null,"6 - Glass and glass partitions","Cat_6",null,null,null,null,null,null,null,null,null,null,null,null,null,null,null,null,null,null,null,null,null,null,null,null,null,97,"Ceramic >90%",{"$f":"VLOOKUP(AY59,'Understanding codification'!$D$48:$F$127,3,FALSE)","v":97}]
[null,null,null,null,null,null,null,null,null,null,null,null,null,null,null,"MAT_10","10 - Other mixes of materials or unclassified or unspecified materials","Assembly of 3 or more materials, with no material representing >50%","Elements composed of parts made from various materials, often but not exclusively with a plastic or synthetic textile part",{"$f":"VLOOKUP(R60,'Understanding codification'!$D$44:$F$127,3,FALSE)","v":82},null,null,"10 - Other mixes of materials or unclassified or unspecified materials","Cat_10",null,null,null,null,null,null,null,null,null,null,null,null,null,null,null,null,null,null,null,null,null,null,null,null,null,90,"Cement >90%",{"$f":"VLOOKUP(AY60,'Understanding codification'!$D$48:$F$127,3,FALSE)","v":90}]
[null,null,null,null,null,null,null,null,null,null,null,null,null,null,null,"MAT_10","10 - Other mixes of materials or unclassified or unspecified materials","Unknown or unspecified by the company","Unknown or unspecified by the company",{"$f":"VLOOKUP(R61,'Understanding codification'!$D$44:$F$127,3,FALSE)","v":"00"},null,null,"12 - Inert materials","Cat_12",null,null,null,null,null,null,null,null,null,null,null,null,null,null,null,null,null,null,null,null,null,null,null,null,null,15,"Composites and other reconstituted mineral materials >50%",{"$f":"VLOOKUP(AY61,'Understanding codification'!$D$48:$F$127,3,FALSE)","v":15}]
[null,null,null,null,null,null,null,null,null,null,null,null,null,null,null,null,null,null,null,null,null,null,"A_150",null,null,null,null,null,null,null,null,null,null,null,null,null,null,null,null,null,null,null,null,null,null,null,null,null,null,91,"Granite >90%",{"$f":"VLOOKUP(AY62,'Understanding codification'!$D$48:$F$127,3,FALSE)","v":91}]
[null,null,null,null,null,null,null,null,null,null,null,null,null,null,null,"MAT_11","11 - Mortars, coatings, paints, varnishes, resins, and preparation products","Liquid products, incl. hazardous products >90%","Undercoats, floor preparations and sealing elements, exterior paints, treatments for floors and roofs, interior paints, glues and adhesives, PU and expansive resins (aerosols), PU sealants, seals and foams, additives, treatments for wood, treatment for materials (aerosols), treatments for non-wood materials, varnishes and sealers and derivatives, varnishes and sealers and derivatives (aerosols), powder coatings, paste coatings",{"$f":"VLOOKUP(R63,'Understanding codification'!$D$44:$F$127,3,FALSE)","v":83},null,null,"1 - Metal",{"$f":"VLOOKUP(W63,$AT$2:$AU$13,2,FALSE)","v":"Cat_1"},null,null,null,null,null,null,null,null,null,null,null,null,null,null,null,null,null,null,null,null,null,null,null,null,null,94,"Sandstone >90%",{"$f":"VLOOKUP(AY63,'Understanding codification'!$D$48:$F$127,3,FALSE)","v":94}]
[null,null,null,null,null,null,null,null,null,null,null,null,null,null,null,null,null,null,null,null,null,null,"2 - Wood and wood derivatives","Cat_2",null,null,null,null,null,null,null,null,null,null,null,null,null,null,null,null,null,null,null,null,null,null,null,null,null,87,"Lava stone >90%",{"$f":"VLOOKUP(AY64,'Understanding codification'!$D$48:$F$127,3,FALSE)","v":87}]
[null,null,null,null,null,null,null,null,null,null,null,null,null,null,null,"MAT_12","12 - Inert materials","Assembly of materials with inert substances >50%",null,{"$f":"VLOOKUP(R65,'Understanding codification'!$D$44:$F$127,3,FALSE)","v":"08"},null,null,"3 - Cardboard","Cat_3",null,null,null,null,null,null,null,null,null,null,null,null,null,null,null,null,null,null,null,null,null,null,null,null,null,98,"Artificial stone >90%",{"$f":"VLOOKUP(AY65,'Understanding codification'!$D$48:$F$127,3,FALSE)","v":98}]
[null,null,null,null,null,null,null,null,null,null,null,null,null,null,null,"MAT_12","12 - Inert materials","Composites and other reconstituted mineral materials >50%",null,{"$f":"VLOOKUP(R66,'Understanding codification'!$D$44:$F$127,3,FALSE)","v":15},null,null,"4 - Materials and fibres of plant or animal origin excl. wood, paper, and cardboard","Cat_4",null,null,null,null,null,null,null,null,null,null,null,null,null,null,null,null,null,null,null,null,null,null,null,null,null,86,"Limestone >90%",{"$f":"VLOOKUP(AY66,'Understanding codification'!$D$48:$F$127,3,FALSE)","v":86}]
[null,null,null,null,null,null,null,null,null,null,null,null,null,null,null,"MAT_12","12 - Inert materials","Slate >90%","Slate",{"$f":"VLOOKUP(R67,'Understanding codification'!$D$44:$F$127,3,FALSE)","v":84},null,null,"5 - Plastic, synthetic fibres and materials","Cat_5",null,null,null,null,null,null,null,null,null,null,null,null,null,null,null,null,null,null,null,null,null,null,null,null,null,89,"Raw earth or terracotta >90%",{"$f":"VLOOKUP(AY67,'Understanding codification'!$D$48:$F$127,3,FALSE)","v":89}]
[null,null,null,null,null,null,null,null,null,null,null,null,null,null,null,"MAT_12","12 - Inert materials","Non-stone aggregate >90%","Small mineral materials (aggregate, gravel, sand, grit, chippings, rubble, etc.), excl. stone",{"$f":"VLOOKUP(R68,'Understanding codification'!$D$44:$F$127,3,FALSE)","v":85},null,null,"6 - Glass and glass partitions","Cat_6"]
[null,null,null,null,null,null,null,null,null,null,null,null,null,null,null,"MAT_12","12 - Inert materials","Limestone >90%","Large mineral materials, excl. aggregate, gravel, sand, and specific stones such as slate",{"$f":"VLOOKUP(R69,'Understanding codification'!$D$44:$F$127,3,FALSE)","v":86},null,null,"10 - Other mixes of materials or unclassified or unspecified materials","Cat_10"]
[null,null,null,null,null,null,null,null,null,null,null,null,null,null,null,"MAT_12","12 - Inert materials","Lava stone >90%",null,{"$f":"VLOOKUP(R70,'Understanding codification'!$D$44:$F$127,3,FALSE)","v":87},null,null,"A_152"]
[null,null,null,null,null,null,null,null,null,null,null,null,null,null,null,"MAT_12","12 - Inert materials","Bituminous mix >90%","Bitumen-based liquid materials",{"$f":"VLOOKUP(R71,'Understanding codification'!$D$44:$F$127,3,FALSE)","v":88},null,null,"1 - Metal",{"$f":"VLOOKUP(W71,$AT$2:$AU$13,2,FALSE)","v":"Cat_1"}]
[null,null,null,null,null,null,null,null,null,null,null,null,null,null,null,"MAT_12","12 - Inert materials","Raw earth or terracotta >90%","Terracotta materials",{"$f":"VLOOKUP(R72,'Understanding codification'!$D$44:$F$127,3,FALSE)","v":89},null,null,"2 - Wood and wood derivatives","Cat_2"]
[null,null,null,null,null,null,null,null,null,null,null,null,null,null,null,"MAT_12","12 - Inert materials","Concrete >90%","Assembly of aggregates (gravel, grit, sand, etc.), a binder (cement, bitumen, clay), additives, and water",{"$f":"VLOOKUP(R73,'Understanding codification'!$D$44:$F$127,3,FALSE)","v":74},null,null,"3 - Cardboard","Cat_3"]
[null,null,null,null,null,null,null,null,null,null,null,null,null,null,null,"MAT_12","12 - Inert materials","Cellular concrete >90%",null,{"$f":"VLOOKUP(R74,'Understanding codification'!$D$44:$F$127,3,FALSE)","v":96},null,null,"4 - Materials and fibres of plant or animal origin excl. wood, paper, and cardboard","Cat_4"]
[null,null,null,null,null,null,null,null,null,null,null,null,null,null,null,"MAT_12","12 - Inert materials","Cement >90%",null,{"$f":"VLOOKUP(R75,'Understanding codification'!$D$44:$F$127,3,FALSE)","v":90},null,null,"5 - Plastic, synthetic fibres and materials","Cat_5"]
[null,null,null,null,null,null,null,null,null,null,null,null,null,null,null,"MAT_12","12 - Inert materials","Granite >90%",null,{"$f":"VLOOKUP(R76,'Understanding codification'!$D$44:$F$127,3,FALSE)","v":91},null,null,"6 - Glass and glass partitions","Cat_6"]
[null,null,null,null,null,null,null,null,null,null,null,null,null,null,null,"MAT_12","12 - Inert materials","Ceramic >90%","Earthenware or sandstone-based materials",{"$f":"VLOOKUP(R77,'Understanding codification'!$D$44:$F$127,3,FALSE)","v":97},null,null,"10 - Other mixes of materials or unclassified or unspecified materials","Cat_10"]
[null,null,null,null,null,null,null,null,null,null,null,null,null,null,null,"MAT_12","12 - Inert materials","Mortar >90%",null,{"$f":"VLOOKUP(R78,'Understanding codification'!$D$44:$F$127,3,FALSE)","v":92},null,null,"12 - Inert materials","Cat_12"]
[null,null,null,null,null,null,null,null,null,null,null,null,null,null,null,"MAT_12","12 - Inert materials","Additives >90%",null,{"$f":"VLOOKUP(R79,'Understanding codification'!$D$44:$F$127,3,FALSE)","v":93},null,null,"A_155"]
[null,null,null,null,null,null,null,null,null,null,null,null,null,null,null,"MAT_12","12 - Inert materials","Sandstone >90%",null,{"$f":"VLOOKUP(R80,'Understanding codification'!$D$44:$F$127,3,FALSE)","v":94},null,null,"1 - Metal",{"$f":"VLOOKUP(W80,$AT$2:$AU$13,2,FALSE)","v":"Cat_1"}]
[null,null,null,null,null,null,null,null,null,null,null,null,null,null,null,"MAT_12","12 - Inert materials","Lime >90%",null,{"$f":"VLOOKUP(R81,'Understanding codification'!$D$44:$F$127,3,FALSE)","v":95},null,null,"2 - Wood and wood derivatives","Cat_2"]
[null,null,null,null,null,null,null,null,null,null,null,null,null,null,null,"MAT_12","12 - Inert materials","Artificial stone >90%","Materials obtained by moulding various aggregates, fillers, and binders (concrete, reconstituted stone) or through chemical synthesis",{"$f":"VLOOKUP(R82,'Understanding codification'!$D$44:$F$127,3,FALSE)","v":98},null,null,"3 - Cardboard","Cat_3"]
[null,null,null,null,null,null,null,null,null,null,null,null,null,null,null,null,null,null,null,null,null,null,"4 - Materials and fibres of plant or animal origin excl. wood, paper, and cardboard","Cat_4"]
[null,null,null,null,null,null,null,null,null,null,null,null,null,null,null,null,null,null,null,null,null,null,"5 - Plastic, synthetic fibres and materials","Cat_5"]
[null,null,null,null,null,null,null,null,null,null,null,null,null,null,null,null,null,null,null,null,null,null,"6 - Glass and glass partitions","Cat_6"]
[null,null,null,null,null,null,null,null,null,null,null,null,null,null,null,null,null,null,null,null,null,null,"10 - Other mixes of materials or unclassified or unspecified materials","Cat_10"]
[null,null,null,null,null,null,null,null,null,null,null,null,null,null,null,null,null,null,null,null,null,null,"12 - Inert materials","Cat_12"]
[]
[null,null,null,null,null,null,null,null,null,null,null,null,null,null,null,null,null,null,null,null,null,null,"A_105"]
[null,null,null,null,null,null,null,null,null,null,null,null,null,null,null,null,null,null,null,null,null,null,"1 - Metal",{"$f":"VLOOKUP(W90,$AT$2:$AU$13,2,FALSE)","v":"Cat_1"}]
[null,null,null,null,null,null,null,null,null,null,null,null,null,null,null,null,null,null,null,null,null,null,"2 - Wood and wood derivatives","Cat_2"]
[null,null,null,null,null,null,null,null,null,null,null,null,null,null,null,null,null,null,null,null,null,null,"3 - Cardboard","Cat_3"]
[null,null,null,null,null,null,null,null,null,null,null,null,null,null,null,null,null,null,null,null,null,null,"4 - Materials and fibres of plant or animal origin excl. wood, paper, and cardboard","Cat_4"]
[null,null,null,null,null,null,null,null,null,null,null,null,null,null,null,null,null,null,null,null,null,null,"5 - Plastic, synthetic fibres and materials","Cat_5"]
[null,null,null,null,null,null,null,null,null,null,null,null,null,null,null,null,null,null,null,null,null,null,"6 - Glass and glass partitions","Cat_6"]
[null,null,null,null,null,null,null,null,null,null,null,null,null,null,null,null,null,null,null,null,null,null,"10 - Other mixes of materials or unclassified or unspecified materials","Cat_10"]
[null,null,null,null,null,null,null,null,null,null,null,null,null,null,null,null,null,null,null,null,null,null,"12 - Inert materials","Cat_12"]
[]
[]
[]
[]
[]
[]
[]
[]
[]
[]
[]
[]
[]
[]
[]
[]
[]
[]
[]
[]
[]
[]
[]
[]
[]
[]
[]
[]
[]
[]
[]
[]
[]
[]
[]
[]
[]
[]
[]
[]
[]
[]
[]
[]
[]
[]
[]
[]
[]
[]
[]
[]
[]
[]
[]
[]
[]
[]
[]
[]
[]
[]
[]
[]
[]
[]
[]
[]
[]
[]
[]
[]
[]
[]
[]
[]
[null,null,null,"Textile et rembourrage en polyester >90%"]
[null,"Code Mesure : 00 000 00 XXX 0"]

{"sheet":"Codes éco-part","index":5,"n_rows":923,"n_cols":6,"rows_kept":923,"cut":false,"hidden":true,"merged":[[0,1,0,3],[1,1,2,3]]}
[null,"Eco-fee code",null,null,null,0]
[null,"La table ci-dessous contient les codes éco-participations et \nles montants correspondants pour 2024 et 2025"]
[]
[]
[null,"Code éco-participation","Montant € HT / article","Montant € TTC / article \n(TVA à 20%)"]
[null,618,1.58,{"$f":"C6*1.2","v":1.8959999999999999},{"$f":"B6","v":618}]
[null,619,0.77,{"$f":"C7*1.2","v":0.92399999999999993},{"$f":"B7","v":619}]
[null,"002",0.04,0.05,"002"]
[null,"003",0.08,0.1,"003"]
[null,"004",0.13,0.16,"004"]
[null,"005",0.17,0.2,"005"]
[null,"006",0.33,0.4,"006"]
[null,"008",0.83000000000000018,1,"008"]
[null,"009",1.25,1.5,"009"]
[null,"010",1.67,2,"010"]
[null,"011",2.08,2.5,"011"]
[null,"012",2.5,3,"012"]
[null,"013",2.92,3.5,"013"]
[null,"014",3.3299999999999992,4,"014"]
[null,"015",3.75,4.5,"015"]
[null,"016",4.17,5,"016"]
[null,"017",5.42,6.5,"017"]
[null,"018",5.83,7,"018"]
[null,"019",6.67,8,"019"]
[null,"020",7.5,9,"020"]
[null,"021",8.33,10,"021"]
[null,"022",10.83,13,"022"]
[null,"023",15,18,"023"]
[null,"024",19.170000000000009,23,"024"]
[null,"026",27.5,33,"026"]
[null,"027",31.67,38,"027"]
[null,"029",40,48,"029"]
[null,"032",52.5,63,"032"]
[null,"036",69.169999999999987,83,"036"]
[null,"042",5,6,"042"]
[null,"043",0.34,0.41,"043"]
[null,"044",0.68,0.82,"044"]
[null,"047",0.02,0.02,"047"]
[null,"048",0.05,0.06,"048"]
[null,"049",0.09,0.11,"049"]
[null,"050",0.15,0.18,"050"]
[null,"051",0.21,0.25,"051"]
[null,"053",0.5,0.6,"053"]
[null,"054",0.92,1.1000000000000001,"054"]
[null,"055",0.96,1.1499999999999999,"055"]
[null,"056",1,1.2,"056"]
[null,"057",1.42,1.7,"057"]
[null,"058",1.46,1.75,"058"]
[null,"059",1.5,1.8,"059"]
[null,"060",1.92,2.2999999999999998,"060"]
[null,"061",2,2.4,"061"]
[null,"062",2.33,2.8,"062"]
[null,"065",4.58,5.5,"065"]
[null,"067",7.08,8.5,"067"]
[null,"068",7.92,9.5,"068"]
[null,"069",8.75,10.5,"069"]
[null,"070",9.17,11,"070"]
[null,"072",12.5,15,"072"]
[null,"073",17.5,21,"073"]
[null,"074",21.67,26,"074"]
[null,"075",26.67,32,"075"]
[null,"079",51.67,62,"079"]
[null,"080",61.67,74,"080"]
[null,"083",76.669999999999987,92,"083"]
[null,"084",86.669999999999987,104,"084"]
[null,"088",106.67,128,"088"]
[null,"092",0.03,0.04,"092"]
[null,"094",0.1,0.12,"094"]
[null,"095",0.25,0.3,"095"]
[null,"096",0.06,7.0000000000000007E-2,"096"]
[null,"097",0.12,0.14000000000000001,{"$f":"B71","v":"097"}]
[null,"098",0.14000000000000001,0.17,"098"]
[null,"099",0.16,0.19,"099"]
[null,"100",0.18,0.22,"100"]
[null,"101",0.2,0.24,"101"]
[null,"103",0.27,0.32,"103"]
[null,"104",0.31,0.37,"104"]
[null,"105",0.4,0.48,"105"]
[null,"106",0.46,0.55000000000000004,"106"]
[null,"107",0.47,0.56000000000000005,"107"]
[null,"108",0.49,0.59,"108"]
[null,"109",0.51,0.61,"109"]
[null,"110",0.66999999999999982,0.8,"110"]
[null,"111",0.69,0.83000000000000018,"111"]
[null,"112",0.81,0.97,"112"]
[null,"113",1.08,1.3,"113"]
[null,"114",1.21,1.45,"114"]
[null,"115",1.33,1.6,"115"]
[null,"116",1.71,2.0499999999999998,"116"]
[null,"117",1.83,2.2000000000000002,"117"]
[null,"118",2.25,2.7,"118"]
[null,"119",2.67,3.2,"119"]
[null,"120",2.75,3.3,"120"]
[null,"121",3.08,3.7,"121"]
[null,"122",3.25,3.9,"122"]
[null,"123",3.58,4.3,"123"]
[null,"124",3.67,4.4000000000000004,"124"]
[null,"125",3.92,4.7,"125"]
[null,"126",4.42,5.3,"126"]
[null,"127",4.5,5.4,"127"]
[null,"128",4.67,5.6,"128"]
[null,"129",4.75,5.7,"129"]
[null,"130",4.83,5.8,"130"]
[null,"131",5.17,6.2,"131"]
[null,"132",5.33,6.4,"132"]
[null,"133",5.58,6.7,"133"]
[null,"134",6.08,7.3,"134"]
[null,"135",6.25,7.5,"135"]
[null,"136",6.92,8.3000000000000007,"136"]
[null,"137",8.83,10.6,"137"]
[null,"138",10,12,"138"]
[null,"139",10.42,12.5,"139"]
[null,"140",11.25,13.5,"140"]
[null,"141",11.67,14,"141"]
[null,"142",13.33,16,"142"]
[null,"143",14.17,17,"143"]
[null,"144",15.42,18.5,"144"]
[null,"145",16.25,19.5,"145"]
[null,"146",17.079999999999991,20.5,"146"]
[null,"147",18.329999999999991,22,"147"]
[null,"148",20,24,"148"]
[null,"149",20.83,25,"149"]
[null,"150",22.5,27,"150"]
[null,"151",25,30,"151"]
[null,"152",26.92,32.300000000000011,"152"]
[null,"153",30,36,"153"]
[null,"154",30.83,37,"154"]
[null,"155",31.25,37.5,"155"]
[null,"156",32.17,38.6,"156"]
[null,"157",32.5,39,"157"]
[null,"158",34.17,41,"158"]
[null,"159",35,42,"159"]
[null,"160",35.42,42.5,"160"]
[null,"161",37.42,44.9,"161"]
[null,"162",37.5,45,{"$f":"B135","v":"162"}]
[null,"163",39.17,47,"163"]
[null,"164",42.5,51,"164"]
[null,"165",42.67,51.2,"165"]
[null,"166",42.92,51.5,"166"]
[null,"167",43.33,52,"167"]
[null,"168",43.75,52.5,"168"]
[null,"169",45,54,"169"]
[null,"170",45.42,54.5,"170"]
[null,"171",47.5,57,"171"]
[null,"172",47.92,57.5,"172"]
[null,"173",50,60,"173"]
[null,"174",50.42,60.5,"174"]
[null,"175",53.17,63.8,"175"]
[null,"176",55.42,66.5,"176"]
[null,"177",55.83,67,"177"]
[null,"178",56.25,67.5,"178"]
[null,"179",58.42,70.099999999999994,"179"]
[null,"180",60,72,"180"]
[null,"181",60.42,72.5,"181"]
[null,"182",62.5,75,"182"]
[null,"183",63.67,76.400000000000006,"183"]
[null,"184",64.169999999999987,77,"184"]
[null,"185",65.42,78.5,"185"]
[null,"186",68.33,82,"186"]
[null,"187",68.75,82.5,"187"]
[null,"188",68.92,82.7,"188"]
[null,"189",72.5,87,"189"]
[null,"190",72.92,87.5,"190"]
[null,"191",74.169999999999987,89,"191"]
[null,"192",75,90,"192"]
[null,"193",75.42,90.5,"193"]
[null,"194",77.92,93.5,"194"]
[null,"195",79.42,95.3,"195"]
[null,"196",80.83,97,"196"]
[null,"197",81.25,97.5,"197"]
[null,"198",84.169999999999987,101,"198"]
[null,"199",84.669999999999987,101.6,"199"]
[null,"200",85,102,"200"]
[null,"201",85.42,102.5,"201"]
[null,"202",87.5,105,"202"]
[null,"203",89.92,107.9,"203"]
[null,"204",93.75,112.5,"204"]
[null,"205",95.169999999999987,114.2,"205"]
[null,"206",95.42,114.5,"206"]
[null,"207",100,120,"207"]
[null,"208",100.42,120.5,"208"]
[null,"209",104.17,125,"209"]
[null,"210",105.42,126.5,"210"]
[null,"211",105.67,126.8,"211"]
[null,"212",106.25,127.5,"212"]
[null,"213",110.92,133.1,"213"]
[null,"214",112.5,135,"214"]
[null,"215",112.92,135.5,"215"]
[null,"216",115.42,138.5,"216"]
[null,"217",117.92,141.5,"217"]
[null,"218",118.75,142.5,"218"]
[null,"219",121.67,146,"219"]
[null,"220",125,150,"220"]
[null,"221",125.42,150.5,"221"]
[null,"222",129.16999999999999,155,"222"]
[null,"223",130.41999999999999,156.5,"223"]
[null,"224",131.25,157.5,"224"]
[null,"225",135.41999999999999,162.5,"225"]
[null,"226",139.16999999999999,167,{"$f":"B199","v":"226"}]
[null,"227",140.41999999999999,168.5,"227"]
[null,"228",145.41999999999999,174.5,"228"]
[null,"229",147.91999999999999,177.5,"229"]
[null,"230",151.66999999999999,182,"230"]
[null,"231",155.41999999999999,186.5,"231"]
[null,"232",156.66999999999999,188,"232"]
[null,"233",162.91999999999999,195.5,"233"]
[null,"235",165.42,198.5,"235"]
[null,"236",174.17,209,"236"]
[null,"237",175.42,210.5,"237"]
[null,"238",182.92,219.5,"238"]
[null,"240",185.42,222.5,"240"]
[null,"241",195.42,234.5,"241"]
[null,"242",196.67,236,"242"]
[null,"243",205.42,246.5,"243"]
[null,"244",207.92,249.5,"244"]
[null,"245",219.17,263,"245"]
[null,"246",230.42,276.5,"246"]
[null,"247",7.0000000000000007E-2,0.08,"247"]
[null,"248",0.24,0.29000000000000009,"248"]
[null,"249",3.39,4.07,"249"]
[null,"250",12.1,14.52,"250"]
[null,"251",16.940000000000001,20.329999999999998,"251"]
[null,"252",21.78,26.14,"252"]
[null,"253",0.39,0.47,"253"]
[null,"254",0.59,0.71,"254"]
[null,"255",0.73,0.88,"255"]
[null,"256",1.7,2.04,"256"]
[null,"257",2.1800000000000002,2.62,"257"]
[null,"258",4.3600000000000003,5.23,"258"]
[null,"259",24.2,29.04,"259"]
[null,"260",0.01,0.01,"260"]
[null,"261",7.26,8.7100000000000009,"261"]
[null,"262",0.11,0.13,"262"]
[null,"263",0.22,0.26,"263"]
[null,"264",5.09,6.11,"264"]
[null,"265",18.149999999999999,21.78,"265"]
[null,"266",25.41,30.49,"266"]
[null,"267",32.67,39.200000000000003,"267"]
[null,"268",0.37,0.44,"268"]
[null,"269",0.88,1.06,"269"]
[null,"270",1.0900000000000001,1.31,"270"]
[null,"271",1.82,2.1800000000000002,"271"]
[null,"272",2.5499999999999998,3.06,"272"]
[null,"273",3.27,3.92,"273"]
[null,"274",4,4.8,"274"]
[null,"275",6.54,7.85,"275"]
[null,"276",36.299999999999997,43.56,"276"]
[null,"277",10.89,13.07,"277"]
[null,"278",6.1,7.32,"278"]
[null,"279",30.5,36.6,"279"]
[null,"280",39.21,47.05,"280"]
[null,"281",0.44,0.53,"281"]
[null,"282",0.7,0.84,"282"]
[null,"283",1.05,1.26,"283"]
[null,"284",1.31,1.57,"284"]
[null,"285",3.05,3.66,"285"]
[null,"286",3.93,4.72,"286"]
[null,"287",4.8,5.76,"287"]
[null,"288",7.85,9.42,"288"]
[null,"289",43.56,52.27,"289"]
[null,"290",13.07,15.68,"290"]
[null,"291",0.19,0.23,"291"]
[null,"292",0.38,0.46,{"$f":"B263","v":"292"}]
[null,"293",8.81,10.57,"293"]
[null,"294",31.46,37.75,"294"]
[null,"295",44.05,52.86,"295"]
[null,"296",56.63,67.959999999999994,"296"]
[null,"297",0.63,0.76,"297"]
[null,"298",1.01,1.21,"298"]
[null,"299",1.52,1.82,"299"]
[null,"300",1.89,2.27,"300"]
[null,"301",3.15,3.78,"301"]
[null,"302",4.41,5.29,"302"]
[null,"303",5.67,6.8,"303"]
[null,"304",6.93,8.32,"304"]
[null,"305",11.33,13.6,"305"]
[null,"306",62.92,75.5,"306"]
[null,"307",18.88,22.66,"307"]
[null,"308",10.85,13.02,"308"]
[null,"309",38.72,46.46,"309"]
[null,"310",54.21,65.05,"310"]
[null,"311",69.7,83.64,"311"]
[null,"312",0.78,0.94,"312"]
[null,"313",1.24,1.49,"313"]
[null,"314",1.86,2.23,"314"]
[null,"315",3.88,4.66,"315"]
[null,"316",5.43,6.52,"316"]
[null,"317",6.97,8.36,"317"]
[null,"318",8.52,10.220000000000001,"318"]
[null,"319",13.94,16.73,"319"]
[null,"320",77.44,92.93,"320"]
[null,"321",23.24,27.89,"321"]
[null,"322",7,8.4,"322"]
[null,"323",0.23,{"$f":"C294*1.2","v":0.27600000000000002},"323"]
[null,"324",0.28999999999999998,0.34799999999999998,"324"]
[null,"325",0.45,0.54,"325"]
[null,"326",0.56999999999999995,0.68399999999999994,"326"]
[null,"327",0.6,0.72,"327"]
[null,"328",0.75,0.89999999999999991,"328"]
[null,"329",0.85,1.02,"329"]
[null,"330",0.9,1.08,"330"]
[null,"331",1.1299999999999999,1.3559999999999999,"331"]
[null,"332",1.35,1.62,"332"]
[null,"333",1.41,1.6919999999999999,"333"]
[null,"334",1.69,2.028,"334"]
[null,"335",1.88,2.2559999999999998,"335"]
[null,"336",1.97,2.3639999999999999,"336"]
[null,"337",2.35,2.82,"337"]
[null,"338",2.54,3.048,"338"]
[null,"339",2.63,3.1559999999999997,"339"]
[null,"340",2.82,3.3839999999999999,"340"]
[null,"341",3.1,3.7199999999999998,"341"]
[null,"342",3.29,3.948,"342"]
[null,"343",3.38,4.056,"343"]
[null,"344",3.94,4.7279999999999998,"344"]
[null,"345",4.13,4.9559999999999995,"345"]
[null,"346",4.22,5.0639999999999992,"346"]
[null,"347",5.07,6.0840000000000005,"347"]
[null,"348",5.16,6.1920000000000002,"348"]
[null,"349",5.25,6.3,"349"]
[null,"350",6.19,7.4279999999999999,"350"]
[null,"351",6.57,7.8840000000000003,"351"]
[null,"352",6.75,8.1,"352"]
[null,"353",7.32,8.7840000000000007,"353"]
[null,"354",7.88,9.4559999999999995,"354"]
[null,"355",8.25,9.9,"355"]
[null,"356",8.44,10.127999999999998,{"$f":"B327","v":"356"}]
[null,"357",9.57,11.484,"357"]
[null,"358",9.75,11.7,"358"]
[null,"359",10.130000000000001,12.156000000000001,"359"]
[null,"360",10.32,12.384,"360"]
[null,"361",10.69,12.827999999999999,"361"]
[null,"362",12.19,14.627999999999998,"362"]
[null,"363",12.38,14.856,"363"]
[null,"364",12.75,15.299999999999999,"364"]
[null,"365",14.07,16.884,"365"]
[null,"366",14.25,17.099999999999998,"366"]
[null,"367",14.63,17.556000000000001,"367"]
[null,"368",15.19,18.227999999999998,"368"]
[null,"369",15.94,19.128,"369"]
[null,"370",16.5,19.8,"370"]
[null,"371",16.88,20.255999999999997,"371"]
[null,"372",17.82,21.384,"372"]
[null,"373",19.13,22.956,"373"]
[null,"374",19.690000000000001,23.628,"374"]
[null,"375",20.25,24.3,"375"]
[null,"376",20.63,24.755999999999997,"376"]
[null,"377",21.38,25.655999999999999,"377"]
[null,"378",24.75,29.7,"378"]
[null,"379",25.32,30.384,"379"]
[null,"380",26.25,31.5,"380"]
[null,"381",30.38,36.455999999999996,"381"]
[null,"382",32.82,39.384,"382"]
[null,"383",33.75,40.5,"383"]
[null,"384",33.76,40.511999999999993,"384"]
[null,"385",39.380000000000003,47.256,"385"]
[null,"386",42.19,50.627999999999993,"386"]
[null,"387",50.63,{"$f":"C358*1.2","v":60.756},"387"]
[null,"388",56.26,67.512,"388"]
[null,"389",67.510000000000005,81.012,"389"]
[null,"390",2.2000000000000002,2.64,"390"]
[null,"391",4.84,5.8079999999999998,"391"]
[null,"392",6.78,8.1359999999999992,"392"]
[null,"393",8.7100000000000009,10.452,"393"]
[null,"394",1.74,2.0880000000000001,"394"]
[null,"395",9.68,11.616,"395"]
[null,"396",3.81,4.5720000000000001,"396"]
[null,"397",3.3,3.9599999999999995,"397"]
[null,"398",10.16,12.192,"398"]
[null,"399",2.62,3.1440000000000001,"399"]
[null,"400",2.88,3.456,"400"]
[null,"401",14.52,17.423999999999999,"401"]
[null,"402",5.72,6.8639999999999999,"402"]
[null,"403",5.23,6.2760000000000007,"403"]
[null,"404",15.25,18.3,"404"]
[null,"405",21.35,25.62,"405"]
[null,"406",27.45,32.94,"406"]
[null,"407",3.73,4.476,"407"]
[null,"408",4.33,5.1959999999999997,"408"]
[null,"409",6.39,7.6679999999999993,"409"]
[null,"410",30.49,36.587999999999994,"410"]
[null,"411",10.11,12.132,"411"]
[null,"412",7.55,9.0599999999999987,"412"]
[null,"413",22.02,26.423999999999999,"413"]
[null,"414",30.84,37.007999999999996,"414"]
[null,"415",39.64,47.567999999999998,"415"]
[null,"416",5.39,6.4679999999999991,"416"]
[null,"417",9.23,11.076000000000001,"417"]
[null,"418",44.04,52.847999999999999,"418"]
[null,"419",14.61,17.532,"419"]
[null,"420",9.3000000000000007,11.16,{"$f":"B391","v":"420"}]
[null,"421",27.1,32.520000000000003,"421"]
[null,"422",37.950000000000003,45.54,"422"]
[null,"423",48.79,58.547999999999995,"423"]
[null,"424",6.62,7.944,"424"]
[null,"425",7.69,9.2279999999999998,"425"]
[null,"426",11.35,13.62,"426"]
[null,"427",17.98,21.576000000000001,"427"]
[null,"428",12.71,15.252000000000001,"428"]
[null,"429",17.79,21.347999999999999,"429"]
[null,"430",22.87,27.443999999999999,"430"]
[null,"431",3.11,3.7319999999999998,"431"]
[null,"432",3.61,4.3319999999999999,"432"]
[null,"433",8.43,10.116,"433"]
[null,"434",3.68,4.4160000000000004,"434"]
[null,"435",8.86,10.632,"435"]
[null,"436",12.4,14.879999999999999,"436"]
[null,"437",2.84,3.4079999999999999,"437"]
[null,"438",3.17,3.8039999999999998,"438"]
[null,"439",17.72,21.263999999999999,"439"]
[null,"440",6.6,7.919999999999999,"440"]
[null,"441",1.7999999999999999E-2,2.1599999999999998E-2,"441"]
[null,"442",8.5999999999999993E-2,0.10319999999999999,"442"]
[null,"443",0.105,0.126,"443"]
[null,"444",0.14299999999999999,0.17159999999999997,"444"]
[null,"445",0.26,0.312,"445"]
[null,"446",0.3,0.36,"446"]
[null,"447",0.32,0.38400000000000001,"447"]
[null,"448",0.35,0.42,"448"]
[null,"449",0.36,0.432,"449"]
[null,"450",0.42,0.504,"450"]
[null,"451",0.53,{"$f":"C422*1.2","v":0.63600000000000001},"451"]
[null,"452",0.64,0.76800000000000002,"452"]
[null,"453",0.66,0.79200000000000004,"453"]
[null,"454",0.72,0.86399999999999999,"454"]
[null,"455",0.76,0.91199999999999992,"455"]
[null,"456",0.8,0.96,"456"]
[null,"457",0.84,1.008,"457"]
[null,"458",0.94,1.1279999999999999,"458"]
[null,"459",0.98,1.1759999999999999,"459"]
[null,"460",1.1499999999999999,1.38,"460"]
[null,"461",1.18,1.4159999999999999,"461"]
[null,"462",1.38,1.6559999999999999,"462"]
[null,"463",1.4,1.68,"463"]
[null,"464",1.57,1.8839999999999999,"464"]
[null,"465",1.68,2.016,"465"]
[null,"466",1.77,2.1240000000000001,"466"]
[null,"467",1.81,2.1720000000000002,"467"]
[null,"468",2.09,2.5079999999999996,"468"]
[null,"469",2.21,2.6519999999999997,"469"]
[null,"470",2.42,2.9039999999999999,"470"]
[null,"471",2.4300000000000002,2.9159999999999999,"471"]
[null,"472",2.74,3.2880000000000003,"472"]
[null,"473",2.78,3.3359999999999999,"473"]
[null,"474",3,3.5999999999999996,"474"]
[null,"475",3.07,3.6839999999999997,"475"]
[null,"476",3.2,3.84,"476"]
[null,"477",3.82,4.5839999999999996,"477"]
[null,"478",4.57,5.484,"478"]
[null,"479",5.14,6.1679999999999993,"479"]
[null,"480",5.7,6.84,"480"]
[null,"481",5.84,7.008,"481"]
[null,"482",7.46,8.952,"482"]
[null,"483",8,9.6,"483"]
[null,"484",9,10.799999999999999,{"$f":"B455","v":"484"}]
[null,"485",12,14.399999999999999,"485"]
[null,"486",13,15.6,"486"]
[null,"487",17,20.399999999999999,"487"]
[null,"488",29,34.799999999999997,"488"]
[null,"489",41,49.199999999999996,"489"]
[null,"490",55,66,"490"]
[null,"491",70,84,"491"]
[null,"492",71,85.2,"492"]
[null,"493",76,91.2,"493"]
[null,"494",86,103.2,"494"]
[null,"495",130,156,"495"]
[null,"496",165,198,"496"]
[null,"497",170,204,"497"]
[null,"498",215,258,"498"]
[null,"499",5.0000000000000001E-3,6.0000000000000001E-3,"499"]
[null,"500",0.54,0.64800000000000002,"500"]
[null,"501",0.86,1.032,"501"]
[null,"502",1.51,1.8119999999999998,"502"]
[null,"503",0.41,0.49199999999999994,"503"]
[null,"504",1.1599999999999999,1.3919999999999999,"504"]
[null,"505",1.2,1.44,"505"]
[null,"506",0.43,0.51600000000000001,"506"]
[null,"507",1.19,1.4279999999999999,"507"]
[null,"508",3.4,4.08,"508"]
[null,"509",0.52,0.624,"509"]
[null,"510",0.91,1.0920000000000001,"510"]
[null,"511",1.3,1.56,"511"]
[null,"512",1.95,2.34,"512"]
[null,"513",2.6,3.12,"513"]
[null,"514",4.4000000000000004,5.28,{"$f":"B485","v":"514"}]
[null,"515",4.3,{"$f":"C486*1.2","v":5.1599999999999993},"515"]
[null,"516",15.05,18.059999999999999,"516"]
[null,"517",10.199999999999999,12.239999999999998]
[null,"518",150,180]
[null,"519",2.7E-2,3.2399999999999998E-2]
[null,"520",5.3999999999999999E-2,6.4799999999999996E-2]
[null,"521",3.83,4.5960000000000001]
[null,"522",5.41,6.492]
[null,"523",6.33,7.5960000000000001]
[null,"524",6.83,8.1959999999999997]
[null,"525",7.49,8.9879999999999995]
[null,"526",8.34,10.007999999999999]
[null,"527",8.67,10.404]
[null,"528",9.58,11.496]
[null,"529",10.5,12.6]
[null,"530",11,13.2]
[null,"531",13.75,16.5]
[null,"532",14,16.8]
[null,"533",16.670000000000002,20.004000000000001]
[null,"534",29.17,35.003999999999998]
[null,"535",0.57999999999999996,0.69599999999999995]
[null,"536",0.55000000000000004,0.66]
[null,"537",1.17,1.4039999999999999]
[null,"538",1.75,2.1]
[null,"539",3.5,4.2]
[null,"540",0.62,0.74399999999999999]
[null,"541",2.17,2.6039999999999996]
[null,"542",0.28000000000000003,0.33600000000000002]
[null,"543",0.56000000000000005,0.67200000000000004]
[null,"544",57,68.399999999999991]
[null,"545",53.2,63.84]
[null,"546",19.600000000000001,23.52]
[null,"547",9.8000000000000007,11.76]
[null,"548",29.5,35.4]
[null,"549",19.18,23.015999999999998]
[null,"550",38.9,46.68]
[null,"551",34.299999999999997,41.16]
[null,"552",40.1,48.12]
[null,"553",29.27,35.123999999999995]
[null,"554",0.82,0.98399999999999987]
[null,"555",22,26.4]
[null,"556",36,43.199999999999996]
[null,"557",17.149999999999999,20.58]
[null,"558",23.6,28.32]
[null,"559",18,21.599999999999998]
[null,"560",6,7.1999999999999993]
[null,"561",34,40.799999999999997]
[null,"562",3.48,4.1760000000000002]
[null,"563",2.36,2.8319999999999999]
[null,"564",2.2999999999999998,2.76]
[null,"565",2.48,2.976]
[null,"566",1.44,1.728]
[null,"567",3.43,4.1159999999999997]
[null,"568",1.26,1.512]
[null,"569",1.23,1.476]
[null,"570",1.32,1.5840000000000001]
[null,"571",1.79,2.1480000000000001]
[null,"572",1.61,1.9319999999999999]
[null,"573",2.44,2.9279999999999999]
[null,"574",2.38,2.8559999999999999]
[null,"575",2.56,3.0720000000000001]
[null,"576",2.96,3.552]
[null,"577",2.5299999999999998,3.0359999999999996]
[null,"578",2.4700000000000002,2.964]
[null,"579",2.65,{"$f":"C550*1.2","v":3.1799999999999997}]
[null,"580",3.59,4.3079999999999998]
[null,"581",46,55.199999999999996]
[null,"582",26,31.2]
[null,"583",4.9000000000000004,5.88]
[null,"584",14.75,17.7]
[null,"585",9.59,11.507999999999999]
[null,"586",19.45,23.34]
[null,"587",8.58,10.295999999999999]
[null,"588",11.8,14.16]
[null,"589",17.52,21.023999999999997]
[null,"590",8.76,10.511999999999999]
[null,"591",4.38,5.2559999999999993]
[null,"592",15.34,18.407999999999998]
[null,"593",7.67,9.2039999999999988]
[null,"594",5.5,6.6]
[null,"595",1.6,1.92]
[null,"596",1.55,1.8599999999999999]
[null,"597",2.41,2.8919999999999999]
[null,"598",2.59,3.1079999999999997]
[null,"599",2.99,3.5880000000000001]
[null,"600",3.53,4.2359999999999998]
[null,"601",200,240]
[null,"602",2.4,2.88]
[null,"603",1.8,2.16]
[null,"604",160,192]
[null,"605",1.1200000000000001,1.3440000000000001]
[null,"606",0.48,0.57599999999999996]
[null,"607",322,386.4]
[null,"608",1.29,1.548]
[null,"609",90,108]
[null,"610",3.6,4.32]
[null,"611",2.7,3.24]
[null,"612",250,300]
[null,"613",0.65,0.78]
[null,"614",65,78]
[null,"615",110,132]
[null,"616",1.04,1.248]
[null,"617",52,62.4]
[null,"618",5.13,6.1559999999999997]
[null,"619",2.64,3.1680000000000001]
[null,"620",1.39,1.6679999999999999]
[null,"621",0.89,1.0680000000000001]
[null,"622",2.16,2.5920000000000001]
[null,"623",3.63,4.3559999999999999]
[null,"624",2.87,3.444]
[null,"625",1.91,2.2919999999999998]
[null,"626",4.59,5.508]
[null,"627",3.62,4.3440000000000003]
[null,"628",3.04,3.6479999999999997]
[null,"629",4.34,5.2079999999999993]
[null,"630",2.29,2.7479999999999998]
[null,"631",1.37,1.6440000000000001]
[null,"632",2.1,2.52]
[null,"633",1.66,1.9919999999999998]
[null,"634",1.1100000000000001,1.3320000000000001]
[null,"635",2.31,2.7719999999999998]
[null,"636",1.22,1.464]
[null,"637",3.69,4.4279999999999999]
[null,"638",2.91,3.492]
[null,"639",1.94,2.3279999999999998]
[null,"640",1.72,2.0640000000000001]
[null,"641",1.36,1.6320000000000001]
[null,"642",1.76,2.1120000000000001]
[null,"643",2.52,3.024]
[null,"644",3.37,4.0439999999999996]
[null,"645",5.61,6.7320000000000002]
[null,"646",10.1,12.12]
[null,"647",14.14,16.968]
[null,"648",18.190000000000001,21.827999999999999]
[null,"649",22.23,26.675999999999998]
[null,"650",32.33,38.795999999999999]
[null,"651",14.7,17.639999999999997]
[null,"652",18.899999999999999,22.679999999999996]
[null,"653",23.1,27.72]
[null,"654",33.6,40.32]
[null,"655",21,25.2]
[null,"656",27,32.4]
[null,"657",33,39.6]
[null,"658",48,57.599999999999994]
[null,"659",0.61,0.73199999999999998]
[null,"660",1.9,2.2799999999999998]
[null,"661",2.66,3.1920000000000002]
[null,"662",3.16,3.7919999999999998]
[null,"663",4.45,5.34]
[null,"664",6.09,7.3079999999999998]
[null,"665",5.78,6.9359999999999999]
[null,"666",8.11,9.7319999999999993]
[null,"667",9.0299999999999994,10.835999999999999]
[null,"668",12.68,15.215999999999999]
[null,"669",22.84,27.407999999999998]
[null,"670",22.75,27.3]
[null,"671",31.97,38.363999999999997]
[null,"672",29.26,35.112000000000002]
[null,"673",41.1,49.32]
[null,"674",35.76,42.911999999999999]
[null,"675",50.24,60.287999999999997]
[null,"676",52.01,62.411999999999992]
[null,"677",73.069999999999993,87.683999999999983]
[null,"678",0.97,1.1639999999999999]
[null,"679",3.22,3.8639999999999999]
[null,"680",4.62,5.5439999999999996]
[null,"681",6.17,7.4039999999999999]
[null,"682",10.27,12.324]
[null,"683",18.5,22.2]
[null,"684",25.9,31.08]
[null,"685",33.299999999999997,39.959999999999994]
[null,"686",40.700000000000003,48.84]
[null,"687",59.2,71.040000000000006]
[null,"688",1.78,2.1360000000000001]
[null,"689",2.94,3.528]
[null,"690",4.0999999999999996,4.919999999999999]
[null,"691",5.87,7.0439999999999996]
[null,"692",9.2799999999999994,11.135999999999999]
[null,"693",15.46,18.552]
[null,"694",21.65,25.979999999999997]
[null,"695",27.83,33.395999999999994]
[null,"696",34.020000000000003,40.824000000000005]
[null,"697",49.48,59.375999999999991]
[null,"698",1.07,1.284]
[null,"699",3.14,3.7679999999999998]
[null,"700",6.28,7.5359999999999996]
[null,"701",9.92,11.904]
[null,"702",16.54,19.847999999999999]
[null,"703",23.15,27.78]
[null,"704",29.76,35.712000000000003]
[null,"705",36.380000000000003,43.655999999999999]
[null,"706",52.91,63.49199999999999]
[null,"707",8.11,9.7319999999999993]
[null,"708",7.77,9.3239999999999998]
[null,"709",10.38,12.456000000000001]
[null,"710",17.3,20.76]
[null,"711",31.15,37.379999999999995]
[null,"712",0.77,0.92399999999999993]
[null,"713",1.63,1.9559999999999997]
[null,"714",3.71,4.452]
[null,"715",43.61,52.332000000000001]
[null,"716",56.07,67.283999999999992]
[null,"717",68.540000000000006,82.248000000000005]
[null,"718",99.69,119.62799999999999]
[null,"719",6.4,7.68]
[null,"720",10.97,13.164]
[null,"721",12.84,15.407999999999999]
[null,"722",9.4700000000000006,11.364000000000001]
[null,"723",13.46,16.152000000000001]
[null,"724",16.41,19.692]
[null,"725",3.31,3.972]
[null,"726",4.71,5.6520000000000001]
[null,"727",5.69,6.8280000000000003]
[null,"728",4.6900000000000004,5.6280000000000001]
[null,"729",6.66,7.992]
[null,"730",8.0500000000000007,9.66]
[null,"731",1.1000000000000001,1.32]
[null,"732",2.68,3.2160000000000002]
[null,"733",3.55,4.26]
[null,"734",4.88,5.8559999999999999]
[null,"735",8.3699999999999992,10.043999999999999]
[null,"736",6.68,8.016]
[null,"737",10.220000000000001,12.264000000000001]
[null,"738",12.93,15.515999999999998]
[null,"739",21.15,25.38]
[null,"740",30.76,36.911999999999999]
[null,"741",1.93,2.3159999999999998]
[null,"742",3.18,3.8159999999999998]
[null,"743",3.84,4.6079999999999997]
[null,"744",5.92,7.1040000000000001]
[null,"745",7.7,9.24]
[null,"746",9.61,11.531999999999998]
[null,"747",15.16,18.192]
[null,"748",19.489999999999998,23.387999999999998]
[null,"749",23.83,28.595999999999997]
[null,"750",34.659999999999997,41.591999999999992]
[null,"751",22.11,26.532]
[null,"752",28.43,34.116]
[null,"753",34.75,41.7]
[null,"754",50.54,60.647999999999996]
[null,"755",0.99,1.1879999999999999]
[null,"756",2.0499999999999998,2.4599999999999995]
[null,"757",5.27,6.323999999999999]
[null,"758",6.44,7.7279999999999998]
[null,"759",7.61,9.1319999999999997]
[null,"760",8.7799999999999994,10.536]
[null,"761",9.9499999999999993,11.94]
[null,"762",11.12,13.343999999999999]
[null,"763",12.87,15.443999999999999]
[null,"764",15.8,18.96]
[null,"765",4.1500000000000004,4.9800000000000004]
[null,"766",29.4,35.279999999999994]
[null,"767",35.93,43.116]
[null,"768",52.26,62.711999999999996]
[null,"769",2.14,2.5680000000000001]
[null,"770",5.4,6.48]
[null,"771",6.53,7.8360000000000003]
[null,"772",7.8,9.36]
[null,"773",8.7899999999999991,10.547999999999998]
[null,"774",10.06,12.072000000000001]
[null,"775",11.31,13.572000000000001]
[null,"776",13.08,15.696]
[null,"777",16.329999999999998,19.595999999999997]
[null,"778",4.4800000000000004,5.3760000000000003]
[null,"779",24.67,29.603999999999999]
[null,"780",31.72,38.064]
[null,"781",38.770000000000003,46.524000000000001]
[null,"782",56.4,67.679999999999993]
[null,"783",2.85,3.42]
[null,"784",7.05,8.4599999999999991]
[null,"785",8.41,10.092000000000001]
[null,"786",9.49,11.388]
[null,"787",12.21,14.652000000000001]
[null,"788",14.11,16.931999999999999]
[null,"789",17.62,21.144000000000002]
[null,"790",4.6500000000000004,5.58]
[null,"791",26.29,31.547999999999998]
[null,"792",33.799999999999997,40.559999999999995]
[null,"793",41.31,49.572000000000003]
[null,"794",60.08,72.095999999999989]
[null,"795",2.95,3.54]
[null,"796",3.76,4.5119999999999996]
[null,"797",7.6,9.1199999999999992]
[null,"798",8.94,10.728]
[null,"799",10.28,12.335999999999999]
[null,"800",11.62,13.943999999999999]
[null,"801",13.41,16.091999999999999]
[null,"802",15.2,18.239999999999998]
[null,"803",18.78,22.536000000000001]
[null,"804",6.65,7.98]
[null,"805",35.909999999999997,43.091999999999992]
[null,"806",46.17,55.404000000000003]
[null,"807",56.43,67.715999999999994]
[null,"808",82.08,98.495999999999995]
[null,"809",1.1399999999999999,1.3679999999999999]
[null,"810",1.62,1.944]
[null,"811",4.28,5.1360000000000001]
[null,"812",8.5500000000000007,10.26]
[null,"813",10.45,12.54]
[null,"814",12.35,14.82]
[null,"815",16.149999999999999,19.38]
[null,"816",18.05,21.66]
[null,"817",20.9,25.08]
[null,"818",25.65,30.78]
[null,"819",5.85,7.02]
[null,"820",32.24,38.688000000000002]
[null,"821",41.45,49.74]
[null,"822",50.66,60.791999999999994]
[null,"823",73.680000000000007,88.416000000000011]
[null,"824",1.06,1.272]
[null,"825",2.13,2.5559999999999996]
[null,"826",3.02,3.6239999999999997]
[null,"827",3.72,4.4640000000000004]
[null,"828",4.6100000000000003,5.532]
[null,"829",9.2100000000000009,11.052000000000001]
[null,"830",10.99,13.188000000000001]
[null,"831",14.18,17.015999999999998]
[null,"832",15.95,19.139999999999997]
[null,"833",18.43,22.116]
[null,"834",23.03,27.635999999999999]
[null,"835",41.61,49.931999999999995]
[null,"836",53.5,64.2]
[null,"837",65.38,78.455999999999989]
[null,"838",95.11,114.13199999999999]
[null,"839",1.84,2.2080000000000002]
[null,"840",3.9,4.68]
[null,"841",5.96,7.1520000000000001]
[null,"842",9.82,11.784000000000001]
[null,"843",11.88,14.256]
[null,"844",14.19,17.027999999999999]
[null,"845",16,19.2]
[null,"846",18.3,21.96]
[null,"847",20.58,24.695999999999998]
[null,"848",23.79,28.547999999999998]
[null,"849",29.72,35.663999999999994]
[null,"850",63,75.599999999999994]
[null,"851",77,92.4]
[null,"852",112,134.4]
[null,"853",12.52,15.023999999999999]
[null,"854",14.47,17.364000000000001]
[null,"855",11.87,14.243999999999998]
[null,"856",10.96,13.152000000000001]
[null,"857",16.13,19.355999999999998]
[null,"858",9.5,11.4]
[null,"859",10.65,12.78]
[null,"860",8.99,10.788]
[null,"861",12.09,14.507999999999999]
[null,"862",6.41,7.6920000000000002]
[null,"863",5.55,6.6599999999999993]
[null,"864",7.22,8.6639999999999997]
[null,"865",8.35,10.02]
[null,"866",5.75,6.9]
[null,"867",6.5,7.8]
[null,"868",12.91,15.491999999999999]
[null,"869",3.87,4.6440000000000001]
[null,"870",3.78,4.5359999999999996]
[null,"871",10.59,12.708]
[null,"872",6.87,8.2439999999999998]
[null,"873",6.74,8.0879999999999992]
[null,"874",6.32,7.5839999999999996]
[null,"875",2.76,3.3119999999999998]
[null,"876",2.58,3.0960000000000001]
[null,"877",1.87,2.2440000000000002]
[null,"878",4.91,5.8920000000000003]
[null,"879",3.45,4.1399999999999997]
[null,"880",7.02,8.4239999999999995]
[null,"881",2.57,3.0839999999999996]
[null,"882",4.6399999999999997,5.5679999999999996]
[null,"883",7.45,8.94]
[null,"884",4.05,4.8599999999999994]
[null,"885",4.1100000000000003,4.9320000000000004]
[null,"886",2.9,3.48]
[null,"887",2.11,2.5319999999999996]
[null,"888",5.48,6.5760000000000005]
[null,"889",5.6699999999999902,6.8039999999999878]
[null,"890",6.58,7.8959999999999999]
[null,"891",3.36,4.032]
[null,"892",5.38,6.4559999999999995]
[null,893,8.6,10.32]
[null,894,11.3,13.56]
[null,895,0.79,0.94799999999999995]
[null,896,0.95,1.1399999999999999]
[null,897,1.53,1.8359999999999999]
[null,898,1.64,1.9679999999999997]
[null,899,1.73,2.0760000000000001]
[null,900,1.96,2.3519999999999999]
[null,901,1.98,2.3759999999999999]
[null,902,2.8,3.36]
[null,903,2.97,3.5640000000000001]
[null,904,3.49,4.1879999999999997]
[null,905,3.97,4.7640000000000002]
[null,906,4.8499999999999996,5.8199999999999994]
[null,907,4.8899999999999997,5.8679999999999994]
[null,908,5.15,6.1800000000000006]
[null,909,5.63,6.7559999999999993]
[null,910,5.94,7.1280000000000001]
[null,911,6.3,7.56]
[null,912,6.8,8.16]
[null,913,7.59,9.1079999999999988]
[null,914,7.84,9.4079999999999995]
[null,915,7.97,9.5640000000000001]
[null,916,8.31,9.9719999999999995]
[null,917,9.1,10.92]
[null,918,9.14,10.968]
[null,919,11.16,13.391999999999999]
[null,920,11.44,13.728]
[null,921,11.76,14.112]
[null,922,13.15,15.78]
[null,923,13.73,16.475999999999999]
[null,924,14.35,17.22]
[null,925,16.010000000000002,19.212]
[null,926,16.18,19.416]
[null,927,19.22,23.063999999999997]
[null,928,19.82,23.783999999999999]
[null,929,24.39,29.268000000000001]
[null,930,24.71,29.652000000000001]
[null,931,27.44,32.927999999999997]
[null,932,27.76,33.311999999999998]
[null,933,34.159999999999997,40.991999999999997]
[null,934,35.68,42.815999999999995]
[null,935,43.91,52.691999999999993]
[null,936,289.8,347.76]
[null,937,2.0299999999999998,2.4359999999999995]
[null,938,49.5,59.4]
[null,939,12.6,15.12]
[null,940,99,118.8]
[null,941,180,216]
[null,942,58.5,70.2]
[null,943,81,97.2]
[null,944,3.24,3.8879999999999999]
[null,945,11.7,14.04]
[null,946,23.4,28.08]
[null,947,54,64.8]
[null,948,10.8,12.96]
[null,949,225,270]
[null,950,46.8,56.16]
[null,951,144,172.79999999999998]
[null,952,13.5,16.2]

{"sheet":"Codes","index":6,"n_rows":10469,"n_cols":13,"rows_kept":4500,"cut":true,"hidden":false,"merged":[],"bounds":{"rows_first":2000,"rows_last":500,"rows_between":2000,"halvings":0}}
["EPR","Cat. EPR","Ecomaison code","Eco-modulated code","Department","Product category","Materials","Size brackets","Measurement","Price","Eco-fee 2025","Eco-fee code","Rate incl. 20% VAT"]
["DIY and gardening products EPR",3,"21100000000",null,"DIY products","Hand tools and their accessories","Unknown or unspecified by the company","Elements of all sizes and weights","€ / ton",322,322,{"$f":"_xlfn.XLOOKUP(K2,'Codes éco-part'!$C$6:$C$923,'Codes éco-part'!$B$6:$B$923)","v":"607"},{"$f":"ROUND(K2*1.2,2)","v":386.4}]
["DIY and gardening products EPR",3,"21100000001","Modulated","DIY products","Hand tools and their accessories","Unknown or unspecified by the company","Elements of all sizes and weights","€ / ton",289.8,289.8,{"$f":"_xlfn.XLOOKUP(K3,'Codes éco-part'!$C$6:$C$923,'Codes éco-part'!$B$6:$B$923)","v":936},347.76]
["DIY and gardening products EPR",3,"21100000200",null,"DIY products","Hand tools and their accessories","Unknown or unspecified by the company","Strictly <0.5 kg","€ / unit",0.08,0.08,{"$f":"_xlfn.XLOOKUP(K4,'Codes éco-part'!$C$6:$C$923,'Codes éco-part'!$B$6:$B$923)","v":"003"},0.1]
["DIY and gardening products EPR",3,"21100000201","Modulated","DIY products","Hand tools and their accessories","Unknown or unspecified by the company","Strictly <0.5 kg","€ / unit",7.0000000000000007E-2,7.0000000000000007E-2,{"$f":"_xlfn.XLOOKUP(K5,'Codes éco-part'!$C$6:$C$923,'Codes éco-part'!$B$6:$B$923)","v":"247"},0.08]
["DIY and gardening products EPR",3,"21100000210",null,"DIY products","Hand tools and their accessories","Unknown or unspecified by the company","≥0.5 kg and <1 kg","€ / unit",0.24,0.24,{"$f":"_xlfn.XLOOKUP(K6,'Codes éco-part'!$C$6:$C$923,'Codes éco-part'!$B$6:$B$923)","v":"248"},0.28999999999999998]
["DIY and gardening products EPR",3,"21100000211","Modulated","DIY products","Hand tools and their accessories","Unknown or unspecified by the company","≥0.5 kg and <1 kg","€ / unit",0.22,0.22,{"$f":"_xlfn.XLOOKUP(K7,'Codes éco-part'!$C$6:$C$923,'Codes éco-part'!$B$6:$B$923)","v":"263"},0.26]
["DIY and gardening products EPR",3,"21100000220",null,"DIY products","Hand tools and their accessories","Unknown or unspecified by the company","≥1 kg and <2 kg","€ / unit",0.48,0.48,{"$f":"_xlfn.XLOOKUP(K8,'Codes éco-part'!$C$6:$C$923,'Codes éco-part'!$B$6:$B$923)","v":"606"},0.57999999999999996]
["DIY and gardening products EPR",3,"21100000221","Modulated","DIY products","Hand tools and their accessories","Unknown or unspecified by the company","≥1 kg and <2 kg","€ / unit",0.43,0.43,{"$f":"_xlfn.XLOOKUP(K9,'Codes éco-part'!$C$6:$C$923,'Codes éco-part'!$B$6:$B$923)","v":"506"},0.52]
["DIY and gardening products EPR",3,"21100000520",null,"DIY products","Hand tools and their accessories","Unknown or unspecified by the company","≥2 kg and <3 kg","€ / unit",0.81,0.81,{"$f":"_xlfn.XLOOKUP(K10,'Codes éco-part'!$C$6:$C$923,'Codes éco-part'!$B$6:$B$923)","v":"112"},0.97]
["DIY and gardening products EPR",3,"21100000521","Modulated","DIY products","Hand tools and their accessories","Unknown or unspecified by the company","≥2 kg and <3 kg","€ / unit",0.73,0.73,{"$f":"_xlfn.XLOOKUP(K11,'Codes éco-part'!$C$6:$C$923,'Codes éco-part'!$B$6:$B$923)","v":"255"},0.88]
["DIY and gardening products EPR",3,"21100000530",null,"DIY products","Hand tools and their accessories","Unknown or unspecified by the company","≥3 kg and <5 kg","€ / unit",1.29,1.29,{"$f":"_xlfn.XLOOKUP(K12,'Codes éco-part'!$C$6:$C$923,'Codes éco-part'!$B$6:$B$923)","v":"608"},1.55]
["DIY and gardening products EPR",3,"21100000531","Modulated","DIY products","Hand tools and their accessories","Unknown or unspecified by the company","≥3 kg and <5 kg","€ / unit",1.1599999999999999,1.1599999999999999,{"$f":"_xlfn.XLOOKUP(K13,'Codes éco-part'!$C$6:$C$923,'Codes éco-part'!$B$6:$B$923)","v":"504"},1.39]
["DIY and gardening products EPR",3,"21100000540",null,"DIY products","Hand tools and their accessories","Unknown or unspecified by the company","≥5 kg and <7 kg","€ / unit",2.25,2.25,{"$f":"_xlfn.XLOOKUP(K14,'Codes éco-part'!$C$6:$C$923,'Codes éco-part'!$B$6:$B$923)","v":"118"},2.7]
["DIY and gardening products EPR",3,"21100000541","Modulated","DIY products","Hand tools and their accessories","Unknown or unspecified by the company","≥5 kg and <7 kg","€ / unit",2.0299999999999998,2.0299999999999998,{"$f":"_xlfn.XLOOKUP(K15,'Codes éco-part'!$C$6:$C$923,'Codes éco-part'!$B$6:$B$923)","v":937},2.44]
["DIY and gardening products EPR",3,"21100010000",null,"DIY products","Hand tools and their accessories","Assembly of wood and/or wood derivatives >50% and other materials or composite wood (excl. glass)","Elements of all sizes and weights","€ / ton",55,55,{"$f":"_xlfn.XLOOKUP(K16,'Codes éco-part'!$C$6:$C$923,'Codes éco-part'!$B$6:$B$923)","v":"490"},66]
["DIY and gardening products EPR",3,"21100010001","Modulated","DIY products","Hand tools and their accessories","Assembly of wood and/or wood derivatives >50% and other materials or composite wood (excl. glass)","Elements of all sizes and weights","€ / ton",49.5,49.5,{"$f":"_xlfn.XLOOKUP(K17,'Codes éco-part'!$C$6:$C$923,'Codes éco-part'!$B$6:$B$923)","v":938},59.4]
["DIY and gardening products EPR",3,"21100010200",null,"DIY products","Hand tools and their accessories","Assembly of wood and/or wood derivatives >50% and other materials or composite wood (excl. glass)","Strictly <0.5 kg","€ / unit",0.01,0.01,{"$f":"_xlfn.XLOOKUP(K18,'Codes éco-part'!$C$6:$C$923,'Codes éco-part'!$B$6:$B$923)","v":"260"},0.01]
["DIY and gardening products EPR",3,"21100010201","Modulated","DIY products","Hand tools and their accessories","Assembly of wood and/or wood derivatives >50% and other materials or composite wood (excl. glass)","Strictly <0.5 kg","€ / unit",0.01,0.01,{"$f":"_xlfn.XLOOKUP(K19,'Codes éco-part'!$C$6:$C$923,'Codes éco-part'!$B$6:$B$923)","v":"260"},0.01]
["DIY and gardening products EPR",3,"21100010210",null,"DIY products","Hand tools and their accessories","Assembly of wood and/or wood derivatives >50% and other materials or composite wood (excl. glass)","≥0.5 kg and <1 kg","€ / unit",0.04,0.04,{"$f":"_xlfn.XLOOKUP(K20,'Codes éco-part'!$C$6:$C$923,'Codes éco-part'!$B$6:$B$923)","v":"002"},0.05]
["DIY and gardening products EPR",3,"21100010211","Modulated","DIY products","Hand tools and their accessories","Assembly of wood and/or wood derivatives >50% and other materials or composite wood (excl. glass)","≥0.5 kg and <1 kg","€ / unit",0.04,0.04,{"$f":"_xlfn.XLOOKUP(K21,'Codes éco-part'!$C$6:$C$923,'Codes éco-part'!$B$6:$B$923)","v":"002"},0.05]
["DIY and gardening products EPR",3,"21100010220",null,"DIY products","Hand tools and their accessories","Assembly of wood and/or wood derivatives >50% and other materials or composite wood (excl. glass)","≥1 kg and <2 kg","€ / unit",0.08,0.08,{"$f":"_xlfn.XLOOKUP(K22,'Codes éco-part'!$C$6:$C$923,'Codes éco-part'!$B$6:$B$923)","v":"003"},0.1]
["DIY and gardening products EPR",3,"21100010221","Modulated","DIY products","Hand tools and their accessories","Assembly of wood and/or wood derivatives >50% and other materials or composite wood (excl. glass)","≥1 kg and <2 kg","€ / unit",7.0000000000000007E-2,7.0000000000000007E-2,{"$f":"_xlfn.XLOOKUP(K23,'Codes éco-part'!$C$6:$C$923,'Codes éco-part'!$B$6:$B$923)","v":"247"},0.08]
["DIY and gardening products EPR",3,"21100010520",null,"DIY products","Hand tools and their accessories","Assembly of wood and/or wood derivatives >50% and other materials or composite wood (excl. glass)","≥2 kg and <3 kg","€ / unit",0.14000000000000001,0.14000000000000001,{"$f":"_xlfn.XLOOKUP(K24,'Codes éco-part'!$C$6:$C$923,'Codes éco-part'!$B$6:$B$923)","v":"098"},0.17]
["DIY and gardening products EPR",3,"21100010521","Modulated","DIY products","Hand tools and their accessories","Assembly of wood and/or wood derivatives >50% and other materials or composite wood (excl. glass)","≥2 kg and <3 kg","€ / unit",0.13,0.13,{"$f":"_xlfn.XLOOKUP(K25,'Codes éco-part'!$C$6:$C$923,'Codes éco-part'!$B$6:$B$923)","v":"004"},0.16]
["DIY and gardening products EPR",3,"21100010530",null,"DIY products","Hand tools and their accessories","Assembly of wood and/or wood derivatives >50% and other materials or composite wood (excl. glass)","≥3 kg and <5 kg","€ / unit",0.22,0.22,{"$f":"_xlfn.XLOOKUP(K26,'Codes éco-part'!$C$6:$C$923,'Codes éco-part'!$B$6:$B$923)","v":"263"},0.26]
["DIY and gardening products EPR",3,"21100010531","Modulated","DIY products","Hand tools and their accessories","Assembly of wood and/or wood derivatives >50% and other materials or composite wood (excl. glass)","≥3 kg and <5 kg","€ / unit",0.2,0.2,{"$f":"_xlfn.XLOOKUP(K27,'Codes éco-part'!$C$6:$C$923,'Codes éco-part'!$B$6:$B$923)","v":"101"},0.24]
["DIY and gardening products EPR",3,"21100010540",null,"DIY products","Hand tools and their accessories","Assembly of wood and/or wood derivatives >50% and other materials or composite wood (excl. glass)","≥5 kg and <7 kg","€ / unit",0.39,0.39,{"$f":"_xlfn.XLOOKUP(K28,'Codes éco-part'!$C$6:$C$923,'Codes éco-part'!$B$6:$B$923)","v":"253"},0.47]
["DIY and gardening products EPR",3,"21100010541","Modulated","DIY products","Hand tools and their accessories","Assembly of wood and/or wood derivatives >50% and other materials or composite wood (excl. glass)","≥5 kg and <7 kg","€ / unit",0.35,0.35,{"$f":"_xlfn.XLOOKUP(K29,'Codes éco-part'!$C$6:$C$923,'Codes éco-part'!$B$6:$B$923)","v":"448"},0.42]
["DIY and gardening products EPR",3,"21100020000",null,"DIY products","Hand tools and their accessories","Assembly of metal >50% and other materials","Elements of all sizes and weights","€ / ton",14,14,{"$f":"_xlfn.XLOOKUP(K30,'Codes éco-part'!$C$6:$C$923,'Codes éco-part'!$B$6:$B$923)","v":"532"},16.8]
["DIY and gardening products EPR",3,"21100020001","Modulated","DIY products","Hand tools and their accessories","Assembly of metal >50% and other materials","Elements of all sizes and weights","€ / ton",12.6,12.6,{"$f":"_xlfn.XLOOKUP(K31,'Codes éco-part'!$C$6:$C$923,'Codes éco-part'!$B$6:$B$923)","v":939},15.12]
["DIY and gardening products EPR",3,"21100020200",null,"DIY products","Hand tools and their accessories","Assembly of metal >50% and other materials","Strictly <0.5 kg","€ / unit",0.01,0.01,{"$f":"_xlfn.XLOOKUP(K32,'Codes éco-part'!$C$6:$C$923,'Codes éco-part'!$B$6:$B$923)","v":"260"},0.01]
["DIY and gardening products EPR",3,"21100020201","Modulated","DIY products","Hand tools and their accessories","Assembly of metal >50% and other materials","Strictly <0.5 kg","€ / unit",0.01,0.01,{"$f":"_xlfn.XLOOKUP(K33,'Codes éco-part'!$C$6:$C$923,'Codes éco-part'!$B$6:$B$923)","v":"260"},0.01]
["DIY and gardening products EPR",3,"21100020210",null,"DIY products","Hand tools and their accessories","Assembly of metal >50% and other materials","≥0.5 kg and <1 kg","€ / unit",0.01,0.01,{"$f":"_xlfn.XLOOKUP(K34,'Codes éco-part'!$C$6:$C$923,'Codes éco-part'!$B$6:$B$923)","v":"260"},0.01]
["DIY and gardening products EPR",3,"21100020211","Modulated","DIY products","Hand tools and their accessories","Assembly of metal >50% and other materials","≥0.5 kg and <1 kg","€ / unit",0.01,0.01,{"$f":"_xlfn.XLOOKUP(K35,'Codes éco-part'!$C$6:$C$923,'Codes éco-part'!$B$6:$B$923)","v":"260"},0.01]
["DIY and gardening products EPR",3,"21100020220",null,"DIY products","Hand tools and their accessories","Assembly of metal >50% and other materials","≥1 kg and <2 kg","€ / unit",0.02,0.02,{"$f":"_xlfn.XLOOKUP(K36,'Codes éco-part'!$C$6:$C$923,'Codes éco-part'!$B$6:$B$923)","v":"047"},0.02]
["DIY and gardening products EPR",3,"21100020221","Modulated","DIY products","Hand tools and their accessories","Assembly of metal >50% and other materials","≥1 kg and <2 kg","€ / unit",0.02,0.02,{"$f":"_xlfn.XLOOKUP(K37,'Codes éco-part'!$C$6:$C$923,'Codes éco-part'!$B$6:$B$923)","v":"047"},0.02]
["DIY and gardening products EPR",3,"21100020520",null,"DIY products","Hand tools and their accessories","Assembly of metal >50% and other materials","≥2 kg and <3 kg","€ / unit",0.04,0.04,{"$f":"_xlfn.XLOOKUP(K38,'Codes éco-part'!$C$6:$C$923,'Codes éco-part'!$B$6:$B$923)","v":"002"},0.05]
["DIY and gardening products EPR",3,"21100020521","Modulated","DIY products","Hand tools and their accessories","Assembly of metal >50% and other materials","≥2 kg and <3 kg","€ / unit",0.04,0.04,{"$f":"_xlfn.XLOOKUP(K39,'Codes éco-part'!$C$6:$C$923,'Codes éco-part'!$B$6:$B$923)","v":"002"},0.05]
["DIY and gardening products EPR",3,"21100020530",null,"DIY products","Hand tools and their accessories","Assembly of metal >50% and other materials","≥3 kg and <5 kg","€ / unit",0.06,0.06,{"$f":"_xlfn.XLOOKUP(K40,'Codes éco-part'!$C$6:$C$923,'Codes éco-part'!$B$6:$B$923)","v":"096"},7.0000000000000007E-2]
["DIY and gardening products EPR",3,"21100020531","Modulated","DIY products","Hand tools and their accessories","Assembly of metal >50% and other materials","≥3 kg and <5 kg","€ / unit",0.05,0.05,{"$f":"_xlfn.XLOOKUP(K41,'Codes éco-part'!$C$6:$C$923,'Codes éco-part'!$B$6:$B$923)","v":"048"},0.06]
["DIY and gardening products EPR",3,"21100020540",null,"DIY products","Hand tools and their accessories","Assembly of metal >50% and other materials","≥5 kg and <7 kg","€ / unit",0.1,0.1,{"$f":"_xlfn.XLOOKUP(K42,'Codes éco-part'!$C$6:$C$923,'Codes éco-part'!$B$6:$B$923)","v":"094"},0.12]
["DIY and gardening products EPR",3,"21100020541","Modulated","DIY products","Hand tools and their accessories","Assembly of metal >50% and other materials","≥5 kg and <7 kg","€ / unit",0.09,0.09,{"$f":"_xlfn.XLOOKUP(K43,'Codes éco-part'!$C$6:$C$923,'Codes éco-part'!$B$6:$B$923)","v":"049"},0.11]
["DIY and gardening products EPR",3,"21100040000",null,"DIY products","Hand tools and their accessories","Biosourced materials or non-synthetic textiles >50%","Elements of all sizes and weights","€ / ton",322,322,{"$f":"_xlfn.XLOOKUP(K44,'Codes éco-part'!$C$6:$C$923,'Codes éco-part'!$B$6:$B$923)","v":"607"},386.4]
["DIY and gardening products EPR",3,"21100040001","Modulated","DIY products","Hand tools and their accessories","Biosourced materials or non-synthetic textiles >50%","Elements of all sizes and weights","€ / ton",289.8,289.8,{"$f":"_xlfn.XLOOKUP(K45,'Codes éco-part'!$C$6:$C$923,'Codes éco-part'!$B$6:$B$923)","v":936},347.76]
["DIY and gardening products EPR",3,"21100040200",null,"DIY products","Hand tools and their accessories","Biosourced materials or non-synthetic textiles >50%","Strictly <0.5 kg","€ / unit",0.08,0.08,{"$f":"_xlfn.XLOOKUP(K46,'Codes éco-part'!$C$6:$C$923,'Codes éco-part'!$B$6:$B$923)","v":"003"},0.1]
["DIY and gardening products EPR",3,"21100040201","Modulated","DIY products","Hand tools and their accessories","Biosourced materials or non-synthetic textiles >50%","Strictly <0.5 kg","€ / unit",7.0000000000000007E-2,7.0000000000000007E-2,{"$f":"_xlfn.XLOOKUP(K47,'Codes éco-part'!$C$6:$C$923,'Codes éco-part'!$B$6:$B$923)","v":"247"},0.08]
["DIY and gardening products EPR",3,"21100040210",null,"DIY products","Hand tools and their accessories","Biosourced materials or non-synthetic textiles >50%","≥0.5 kg and <1 kg","€ / unit",0.24,0.24,{"$f":"_xlfn.XLOOKUP(K48,'Codes éco-part'!$C$6:$C$923,'Codes éco-part'!$B$6:$B$923)","v":"248"},0.28999999999999998]
["DIY and gardening products EPR",3,"21100040211","Modulated","DIY products","Hand tools and their accessories","Biosourced materials or non-synthetic textiles >50%","≥0.5 kg and <1 kg","€ / unit",0.22,0.22,{"$f":"_xlfn.XLOOKUP(K49,'Codes éco-part'!$C$6:$C$923,'Codes éco-part'!$B$6:$B$923)","v":"263"},0.26]
["DIY and gardening products EPR",3,"21100040220",null,"DIY products","Hand tools and their accessories","Biosourced materials or non-synthetic textiles >50%","≥1 kg and <2 kg","€ / unit",0.48,0.48,{"$f":"_xlfn.XLOOKUP(K50,'Codes éco-part'!$C$6:$C$923,'Codes éco-part'!$B$6:$B$923)","v":"606"},0.57999999999999996]
["DIY and gardening products EPR",3,"21100040221","Modulated","DIY products","Hand tools and their accessories","Biosourced materials or non-synthetic textiles >50%","≥1 kg and <2 kg","€ / unit",0.43,0.43,{"$f":"_xlfn.XLOOKUP(K51,'Codes éco-part'!$C$6:$C$923,'Codes éco-part'!$B$6:$B$923)","v":"506"},0.52]
["DIY and gardening products EPR",3,"21100040520",null,"DIY products","Hand tools and their accessories","Biosourced materials or non-synthetic textiles >50%","≥2 kg and <3 kg","€ / unit",0.81,0.81,{"$f":"_xlfn.XLOOKUP(K52,'Codes éco-part'!$C$6:$C$923,'Codes éco-part'!$B$6:$B$923)","v":"112"},0.97]
["DIY and gardening products EPR",3,"21100040521","Modulated","DIY products","Hand tools and their accessories","Biosourced materials or non-synthetic textiles >50%","≥2 kg and <3 kg","€ / unit",0.73,0.73,{"$f":"_xlfn.XLOOKUP(K53,'Codes éco-part'!$C$6:$C$923,'Codes éco-part'!$B$6:$B$923)","v":"255"},0.88]
["DIY and gardening products EPR",3,"21100040530",null,"DIY products","Hand tools and their accessories","Biosourced materials or non-synthetic textiles >50%","≥3 kg and <5 kg","€ / unit",1.29,1.29,{"$f":"_xlfn.XLOOKUP(K54,'Codes éco-part'!$C$6:$C$923,'Codes éco-part'!$B$6:$B$923)","v":"608"},1.55]
["DIY and gardening products EPR",3,"21100040531","Modulated","DIY products","Hand tools and their accessories","Biosourced materials or non-synthetic textiles >50%","≥3 kg and <5 kg","€ / unit",1.1599999999999999,1.1599999999999999,{"$f":"_xlfn.XLOOKUP(K55,'Codes éco-part'!$C$6:$C$923,'Codes éco-part'!$B$6:$B$923)","v":"504"},1.39]
["DIY and gardening products EPR",3,"21100040540",null,"DIY products","Hand tools and their accessories","Biosourced materials or non-synthetic textiles >50%","≥5 kg and <7 kg","€ / unit",2.25,2.25,{"$f":"_xlfn.XLOOKUP(K56,'Codes éco-part'!$C$6:$C$923,'Codes éco-part'!$B$6:$B$923)","v":"118"},2.7]
["DIY and gardening products EPR",3,"21100040541","Modulated","DIY products","Hand tools and their accessories","Biosourced materials or non-synthetic textiles >50%","≥5 kg and <7 kg","€ / unit",2.0299999999999998,2.0299999999999998,{"$f":"_xlfn.XLOOKUP(K57,'Codes éco-part'!$C$6:$C$923,'Codes éco-part'!$B$6:$B$923)","v":937},2.44]
["DIY and gardening products EPR",3,"21100050000",null,"DIY products","Hand tools and their accessories","Plastics or other synthetic materials >50%","Elements of all sizes and weights","€ / ton",322,322,{"$f":"_xlfn.XLOOKUP(K58,'Codes éco-part'!$C$6:$C$923,'Codes éco-part'!$B$6:$B$923)","v":"607"},386.4]
["DIY and gardening products EPR",3,"21100050001","Modulated","DIY products","Hand tools and their accessories","Plastics or other synthetic materials >50%","Elements of all sizes and weights","€ / ton",289.8,289.8,{"$f":"_xlfn.XLOOKUP(K59,'Codes éco-part'!$C$6:$C$923,'Codes éco-part'!$B$6:$B$923)","v":936},347.76]
["DIY and gardening products EPR",3,"21100050200",null,"DIY products","Hand tools and their accessories","Plastics or other synthetic materials >50%","Strictly <0.5 kg","€ / unit",0.08,0.08,{"$f":"_xlfn.XLOOKUP(K60,'Codes éco-part'!$C$6:$C$923,'Codes éco-part'!$B$6:$B$923)","v":"003"},0.1]
["DIY and gardening products EPR",3,"21100050201","Modulated","DIY products","Hand tools and their accessories","Plastics or other synthetic materials >50%","Strictly <0.5 kg","€ / unit",7.0000000000000007E-2,7.0000000000000007E-2,{"$f":"_xlfn.XLOOKUP(K61,'Codes éco-part'!$C$6:$C$923,'Codes éco-part'!$B$6:$B$923)","v":"247"},0.08]
["DIY and gardening products EPR",3,"21100050210",null,"DIY products","Hand tools and their accessories","Plastics or other synthetic materials >50%","≥0.5 kg and <1 kg","€ / unit",0.24,0.24,{"$f":"_xlfn.XLOOKUP(K62,'Codes éco-part'!$C$6:$C$923,'Codes éco-part'!$B$6:$B$923)","v":"248"},0.28999999999999998]
["DIY and gardening products EPR",3,"21100050211","Modulated","DIY products","Hand tools and their accessories","Plastics or other synthetic materials >50%","≥0.5 kg and <1 kg","€ / unit",0.22,0.22,{"$f":"_xlfn.XLOOKUP(K63,'Codes éco-part'!$C$6:$C$923,'Codes éco-part'!$B$6:$B$923)","v":"263"},0.26]
["DIY and gardening products EPR",3,"21100050220",null,"DIY products","Hand tools and their accessories","Plastics or other synthetic materials >50%","≥1 kg and <2 kg","€ / unit",0.48,0.48,{"$f":"_xlfn.XLOOKUP(K64,'Codes éco-part'!$C$6:$C$923,'Codes éco-part'!$B$6:$B$923)","v":"606"},0.57999999999999996]
["DIY and gardening products EPR",3,"21100050221","Modulated","DIY products","Hand tools and their accessories","Plastics or other synthetic materials >50%","≥1 kg and <2 kg","€ / unit",0.43,0.43,{"$f":"_xlfn.XLOOKUP(K65,'Codes éco-part'!$C$6:$C$923,'Codes éco-part'!$B$6:$B$923)","v":"506"},0.52]
["DIY and gardening products EPR",3,"21100050520",null,"DIY products","Hand tools and their accessories","Plastics or other synthetic materials >50%","≥2 kg and <3 kg","€ / unit",0.81,0.81,{"$f":"_xlfn.XLOOKUP(K66,'Codes éco-part'!$C$6:$C$923,'Codes éco-part'!$B$6:$B$923)","v":"112"},{"$f":"ROUND(K66*1.2,2)","v":0.97}]
["DIY and gardening products EPR",3,"21100050521","Modulated","DIY products","Hand tools and their accessories","Plastics or other synthetic materials >50%","≥2 kg and <3 kg","€ / unit",0.73,0.73,{"$f":"_xlfn.XLOOKUP(K67,'Codes éco-part'!$C$6:$C$923,'Codes éco-part'!$B$6:$B$923)","v":"255"},0.88]
["DIY and gardening products EPR",3,"21100050530",null,"DIY products","Hand tools and their accessories","Plastics or other synthetic materials >50%","≥3 kg and <5 kg","€ / unit",1.29,1.29,{"$f":"_xlfn.XLOOKUP(K68,'Codes éco-part'!$C$6:$C$923,'Codes éco-part'!$B$6:$B$923)","v":"608"},1.55]
["DIY and gardening products EPR",3,"21100050531","Modulated","DIY products","Hand tools and their accessories","Plastics or other synthetic materials >50%","≥3 kg and <5 kg","€ / unit",1.1599999999999999,1.1599999999999999,{"$f":"_xlfn.XLOOKUP(K69,'Codes éco-part'!$C$6:$C$923,'Codes éco-part'!$B$6:$B$923)","v":"504"},1.39]
["DIY and gardening products EPR",3,"21100050540",null,"DIY products","Hand tools and their accessories","Plastics or other synthetic materials >50%","≥5 kg and <7 kg","€ / unit",2.25,2.25,{"$f":"_xlfn.XLOOKUP(K70,'Codes éco-part'!$C$6:$C$923,'Codes éco-part'!$B$6:$B$923)","v":"118"},2.7]
["DIY and gardening products EPR",3,"21100050541","Modulated","DIY products","Hand tools and their accessories","Plastics or other synthetic materials >50%","≥5 kg and <7 kg","€ / unit",2.0299999999999998,2.0299999999999998,{"$f":"_xlfn.XLOOKUP(K71,'Codes éco-part'!$C$6:$C$923,'Codes éco-part'!$B$6:$B$923)","v":937},2.44]
["DIY and gardening products EPR",3,"21100060000",null,"DIY products","Hand tools and their accessories","Materials of animal origin >50%","Elements of all sizes and weights","€ / ton",322,322,{"$f":"_xlfn.XLOOKUP(K72,'Codes éco-part'!$C$6:$C$923,'Codes éco-part'!$B$6:$B$923)","v":"607"},386.4]
["DIY and gardening products EPR",3,"21100060001","Modulated","DIY products","Hand tools and their accessories","Materials of animal origin >50%","Elements of all sizes and weights","€ / ton",289.8,289.8,{"$f":"_xlfn.XLOOKUP(K73,'Codes éco-part'!$C$6:$C$923,'Codes éco-part'!$B$6:$B$923)","v":936},347.76]
["DIY and gardening products EPR",3,"21100060200",null,"DIY products","Hand tools and their accessories","Materials of animal origin >50%","Strictly <0.5 kg","€ / unit",0.08,0.08,{"$f":"_xlfn.XLOOKUP(K74,'Codes éco-part'!$C$6:$C$923,'Codes éco-part'!$B$6:$B$923)","v":"003"},0.1]
["DIY and gardening products EPR",3,"21100060201","Modulated","DIY products","Hand tools and their accessories","Materials of animal origin >50%","Strictly <0.5 kg","€ / unit",7.0000000000000007E-2,7.0000000000000007E-2,{"$f":"_xlfn.XLOOKUP(K75,'Codes éco-part'!$C$6:$C$923,'Codes éco-part'!$B$6:$B$923)","v":"247"},0.08]
["DIY and gardening products EPR",3,"21100060210",null,"DIY products","Hand tools and their accessories","Materials of animal origin >50%","≥0.5 kg and <1 kg","€ / unit",0.24,0.24,{"$f":"_xlfn.XLOOKUP(K76,'Codes éco-part'!$C$6:$C$923,'Codes éco-part'!$B$6:$B$923)","v":"248"},0.28999999999999998]
["DIY and gardening products EPR",3,"21100060211","Modulated","DIY products","Hand tools and their accessories","Materials of animal origin >50%","≥0.5 kg and <1 kg","€ / unit",0.22,0.22,{"$f":"_xlfn.XLOOKUP(K77,'Codes éco-part'!$C$6:$C$923,'Codes éco-part'!$B$6:$B$923)","v":"263"},0.26]
["DIY and gardening products EPR",3,"21100060220",null,"DIY products","Hand tools and their accessories","Materials of animal origin >50%","≥1 kg and <2 kg","€ / unit",0.48,0.48,{"$f":"_xlfn.XLOOKUP(K78,'Codes éco-part'!$C$6:$C$923,'Codes éco-part'!$B$6:$B$923)","v":"606"},0.57999999999999996]
["DIY and gardening products EPR",3,"21100060221","Modulated","DIY products","Hand tools and their accessories","Materials of animal origin >50%","≥1 kg and <2 kg","€ / unit",0.43,0.43,{"$f":"_xlfn.XLOOKUP(K79,'Codes éco-part'!$C$6:$C$923,'Codes éco-part'!$B$6:$B$923)","v":"506"},0.52]
["DIY and gardening products EPR",3,"21100060520",null,"DIY products","Hand tools and their accessories","Materials of animal origin >50%","≥2 kg and <3 kg","€ / unit",0.81,0.81,{"$f":"_xlfn.XLOOKUP(K80,'Codes éco-part'!$C$6:$C$923,'Codes éco-part'!$B$6:$B$923)","v":"112"},0.97]
["DIY and gardening products EPR",3,"21100060521","Modulated","DIY products","Hand tools and their accessories","Materials of animal origin >50%","≥2 kg and <3 kg","€ / unit",0.73,0.73,{"$f":"_xlfn.XLOOKUP(K81,'Codes éco-part'!$C$6:$C$923,'Codes éco-part'!$B$6:$B$923)","v":"255"},0.88]
["DIY and gardening products EPR",3,"21100060530",null,"DIY products","Hand tools and their accessories","Materials of animal origin >50%","≥3 kg and <5 kg","€ / unit",1.29,1.29,{"$f":"_xlfn.XLOOKUP(K82,'Codes éco-part'!$C$6:$C$923,'Codes éco-part'!$B$6:$B$923)","v":"608"},1.55]
["DIY and gardening products EPR",3,"21100060531","Modulated","DIY products","Hand tools and their accessories","Materials of animal origin >50%","≥3 kg and <5 kg","€ / unit",1.1599999999999999,1.1599999999999999,{"$f":"_xlfn.XLOOKUP(K83,'Codes éco-part'!$C$6:$C$923,'Codes éco-part'!$B$6:$B$923)","v":"504"},1.39]
["DIY and gardening products EPR",3,"21100060540",null,"DIY products","Hand tools and their accessories","Materials of animal origin >50%","≥5 kg and <7 kg","€ / unit",2.25,2.25,{"$f":"_xlfn.XLOOKUP(K84,'Codes éco-part'!$C$6:$C$923,'Codes éco-part'!$B$6:$B$923)","v":"118"},2.7]
["DIY and gardening products EPR",3,"21100060541","Modulated","DIY products","Hand tools and their accessories","Materials of animal origin >50%","≥5 kg and <7 kg","€ / unit",2.0299999999999998,2.0299999999999998,{"$f":"_xlfn.XLOOKUP(K85,'Codes éco-part'!$C$6:$C$923,'Codes éco-part'!$B$6:$B$923)","v":937},2.44]
["DIY and gardening products EPR",3,"21100190000",null,"DIY products","Hand tools and their accessories","Cardboard >50% and other materials (excl. glass)","Elements of all sizes and weights","€ / ton",322,322,{"$f":"_xlfn.XLOOKUP(K86,'Codes éco-part'!$C$6:$C$923,'Codes éco-part'!$B$6:$B$923)","v":"607"},386.4]
["DIY and gardening products EPR",3,"21100190001","Modulated","DIY products","Hand tools and their accessories","Cardboard >50% and other materials (excl. glass)","Elements of all sizes and weights","€ / ton",289.8,289.8,{"$f":"_xlfn.XLOOKUP(K87,'Codes éco-part'!$C$6:$C$923,'Codes éco-part'!$B$6:$B$923)","v":936},347.76]
["DIY and gardening products EPR",3,"21100190200",null,"DIY products","Hand tools and their accessories","Cardboard >50% and other materials (excl. glass)","Strictly <0.5 kg","€ / unit",0.08,0.08,{"$f":"_xlfn.XLOOKUP(K88,'Codes éco-part'!$C$6:$C$923,'Codes éco-part'!$B$6:$B$923)","v":"003"},0.1]
["DIY and gardening products EPR",3,"21100190201","Modulated","DIY products","Hand tools and their accessories","Cardboard >50% and other materials (excl. glass)","Strictly <0.5 kg","€ / unit",7.0000000000000007E-2,7.0000000000000007E-2,{"$f":"_xlfn.XLOOKUP(K89,'Codes éco-part'!$C$6:$C$923,'Codes éco-part'!$B$6:$B$923)","v":"247"},0.08]
["DIY and gardening products EPR",3,"21100190210",null,"DIY products","Hand tools and their accessories","Cardboard >50% and other materials (excl. glass)","≥0.5 kg and <1 kg","€ / unit",0.24,0.24,{"$f":"_xlfn.XLOOKUP(K90,'Codes éco-part'!$C$6:$C$923,'Codes éco-part'!$B$6:$B$923)","v":"248"},0.28999999999999998]
["DIY and gardening products EPR",3,"21100190211","Modulated","DIY products","Hand tools and their accessories","Cardboard >50% and other materials (excl. glass)","≥0.5 kg and <1 kg","€ / unit",0.22,0.22,{"$f":"_xlfn.XLOOKUP(K91,'Codes éco-part'!$C$6:$C$923,'Codes éco-part'!$B$6:$B$923)","v":"263"},0.26]
["DIY and gardening products EPR",3,"21100190220",null,"DIY products","Hand tools and their accessories","Cardboard >50% and other materials (excl. glass)","≥1 kg and <2 kg","€ / unit",0.48,0.48,{"$f":"_xlfn.XLOOKUP(K92,'Codes éco-part'!$C$6:$C$923,'Codes éco-part'!$B$6:$B$923)","v":"606"},0.57999999999999996]
["DIY and gardening products EPR",3,"21100190221","Modulated","DIY products","Hand tools and their accessories","Cardboard >50% and other materials (excl. glass)","≥1 kg and <2 kg","€ / unit",0.43,0.43,{"$f":"_xlfn.XLOOKUP(K93,'Codes éco-part'!$C$6:$C$923,'Codes éco-part'!$B$6:$B$923)","v":"506"},0.52]
["DIY and gardening products EPR",3,"21100190520",null,"DIY products","Hand tools and their accessories","Cardboard >50% and other materials (excl. glass)","≥2 kg and <3 kg","€ / unit",0.81,0.81,{"$f":"_xlfn.XLOOKUP(K94,'Codes éco-part'!$C$6:$C$923,'Codes éco-part'!$B$6:$B$923)","v":"112"},0.97]
["DIY and gardening products EPR",3,"21100190521","Modulated","DIY products","Hand tools and their accessories","Cardboard >50% and other materials (excl. glass)","≥2 kg and <3 kg","€ / unit",0.73,0.73,{"$f":"_xlfn.XLOOKUP(K95,'Codes éco-part'!$C$6:$C$923,'Codes éco-part'!$B$6:$B$923)","v":"255"},0.88]
["DIY and gardening products EPR",3,"21100190530",null,"DIY products","Hand tools and their accessories","Cardboard >50% and other materials (excl. glass)","≥3 kg and <5 kg","€ / unit",1.29,1.29,{"$f":"_xlfn.XLOOKUP(K96,'Codes éco-part'!$C$6:$C$923,'Codes éco-part'!$B$6:$B$923)","v":"608"},1.55]
["DIY and gardening products EPR",3,"21100190531","Modulated","DIY products","Hand tools and their accessories","Cardboard >50% and other materials (excl. glass)","≥3 kg and <5 kg","€ / unit",1.1599999999999999,1.1599999999999999,{"$f":"_xlfn.XLOOKUP(K97,'Codes éco-part'!$C$6:$C$923,'Codes éco-part'!$B$6:$B$923)","v":"504"},1.39]
["DIY and gardening products EPR",3,"21100190540",null,"DIY products","Hand tools and their accessories","Cardboard >50% and other materials (excl. glass)","≥5 kg and <7 kg","€ / unit",2.25,2.25,{"$f":"_xlfn.XLOOKUP(K98,'Codes éco-part'!$C$6:$C$923,'Codes éco-part'!$B$6:$B$923)","v":"118"},2.7]
["DIY and gardening products EPR",3,"21100190541","Modulated","DIY products","Hand tools and their accessories","Cardboard >50% and other materials (excl. glass)","≥5 kg and <7 kg","€ / unit",2.0299999999999998,2.0299999999999998,{"$f":"_xlfn.XLOOKUP(K99,'Codes éco-part'!$C$6:$C$923,'Codes éco-part'!$B$6:$B$923)","v":937},2.44]
["DIY and gardening products EPR",3,"21100200000",null,"DIY products","Hand tools and their accessories","Solid wood and related products certified >75%","Elements of all sizes and weights","€ / ton",55,55,{"$f":"_xlfn.XLOOKUP(K100,'Codes éco-part'!$C$6:$C$923,'Codes éco-part'!$B$6:$B$923)","v":"490"},66]
["DIY and gardening products EPR",3,"21100200001","Modulated","DIY products","Hand tools and their accessories","Solid wood and related products certified >75%","Elements of all sizes and weights","€ / ton",49.5,49.5,{"$f":"_xlfn.XLOOKUP(K101,'Codes éco-part'!$C$6:$C$923,'Codes éco-part'!$B$6:$B$923)","v":938},59.4]
["DIY and gardening products EPR",3,"21100200200",null,"DIY products","Hand tools and their accessories","Solid wood and related products certified >75%","Strictly <0.5 kg","€ / unit",0.01,0.01,{"$f":"_xlfn.XLOOKUP(K102,'Codes éco-part'!$C$6:$C$923,'Codes éco-part'!$B$6:$B$923)","v":"260"},0.01]
["DIY and gardening products EPR",3,"21100200201","Modulated","DIY products","Hand tools and their accessories","Solid wood and related products certified >75%","Strictly <0.5 kg","€ / unit",0.01,0.01,{"$f":"_xlfn.XLOOKUP(K103,'Codes éco-part'!$C$6:$C$923,'Codes éco-part'!$B$6:$B$923)","v":"260"},0.01]
["DIY and gardening products EPR",3,"21100200210",null,"DIY products","Hand tools and their accessories","Solid wood and related products certified >75%","≥0.5 kg and <1 kg","€ / unit",0.04,0.04,{"$f":"_xlfn.XLOOKUP(K104,'Codes éco-part'!$C$6:$C$923,'Codes éco-part'!$B$6:$B$923)","v":"002"},0.05]
["DIY and gardening products EPR",3,"21100200211","Modulated","DIY products","Hand tools and their accessories","Solid wood and related products certified >75%","≥0.5 kg and <1 kg","€ / unit",0.04,0.04,{"$f":"_xlfn.XLOOKUP(K105,'Codes éco-part'!$C$6:$C$923,'Codes éco-part'!$B$6:$B$923)","v":"002"},0.05]
["DIY and gardening products EPR",3,"21100200220",null,"DIY products","Hand tools and their accessories","Solid wood and related products certified >75%","≥1 kg and <2 kg","€ / unit",0.08,0.08,{"$f":"_xlfn.XLOOKUP(K106,'Codes éco-part'!$C$6:$C$923,'Codes éco-part'!$B$6:$B$923)","v":"003"},0.1]
["DIY and gardening products EPR",3,"21100200221","Modulated","DIY products","Hand tools and their accessories","Solid wood and related products certified >75%","≥1 kg and <2 kg","€ / unit",7.0000000000000007E-2,7.0000000000000007E-2,{"$f":"_xlfn.XLOOKUP(K107,'Codes éco-part'!$C$6:$C$923,'Codes éco-part'!$B$6:$B$923)","v":"247"},0.08]
["DIY and gardening products EPR",3,"21100200520",null,"DIY products","Hand tools and their accessories","Solid wood and related products certified >75%","≥2 kg and <3 kg","€ / unit",0.14000000000000001,0.14000000000000001,{"$f":"_xlfn.XLOOKUP(K108,'Codes éco-part'!$C$6:$C$923,'Codes éco-part'!$B$6:$B$923)","v":"098"},0.17]
["DIY and gardening products EPR",3,"21100200521","Modulated","DIY products","Hand tools and their accessories","Solid wood and related products certified >75%","≥2 kg and <3 kg","€ / unit",0.13,0.13,{"$f":"_xlfn.XLOOKUP(K109,'Codes éco-part'!$C$6:$C$923,'Codes éco-part'!$B$6:$B$923)","v":"004"},0.16]
["DIY and gardening products EPR",3,"21100200530",null,"DIY products","Hand tools and their accessories","Solid wood and related products certified >75%","≥3 kg and <5 kg","€ / unit",0.22,0.22,{"$f":"_xlfn.XLOOKUP(K110,'Codes éco-part'!$C$6:$C$923,'Codes éco-part'!$B$6:$B$923)","v":"263"},0.26]
["DIY and gardening products EPR",3,"21100200531","Modulated","DIY products","Hand tools and their accessories","Solid wood and related products certified >75%","≥3 kg and <5 kg","€ / unit",0.2,0.2,{"$f":"_xlfn.XLOOKUP(K111,'Codes éco-part'!$C$6:$C$923,'Codes éco-part'!$B$6:$B$923)","v":"101"},0.24]
["DIY and gardening products EPR",3,"21100200540",null,"DIY products","Hand tools and their accessories","Solid wood and related products certified >75%","≥5 kg and <7 kg","€ / unit",0.39,0.39,{"$f":"_xlfn.XLOOKUP(K112,'Codes éco-part'!$C$6:$C$923,'Codes éco-part'!$B$6:$B$923)","v":"253"},0.47]
["DIY and gardening products EPR",3,"21100200541","Modulated","DIY products","Hand tools and their accessories","Solid wood and related products certified >75%","≥5 kg and <7 kg","€ / unit",0.35,0.35,{"$f":"_xlfn.XLOOKUP(K113,'Codes éco-part'!$C$6:$C$923,'Codes éco-part'!$B$6:$B$923)","v":"448"},0.42]
["DIY and gardening products EPR",3,"21100210000",null,"DIY products","Hand tools and their accessories","Solid wood and related products >75%","Elements of all sizes and weights","€ / ton",110,110,{"$f":"_xlfn.XLOOKUP(K114,'Codes éco-part'!$C$6:$C$923,'Codes éco-part'!$B$6:$B$923)","v":"615"},132]
["DIY and gardening products EPR",3,"21100210001","Modulated","DIY products","Hand tools and their accessories","Solid wood and related products >75%","Elements of all sizes and weights","€ / ton",99,99,{"$f":"_xlfn.XLOOKUP(K115,'Codes éco-part'!$C$6:$C$923,'Codes éco-part'!$B$6:$B$923)","v":940},118.8]
["DIY and gardening products EPR",3,"21100210200",null,"DIY products","Hand tools and their accessories","Solid wood and related products >75%","Strictly <0.5 kg","€ / unit",0.02,0.02,{"$f":"_xlfn.XLOOKUP(K116,'Codes éco-part'!$C$6:$C$923,'Codes éco-part'!$B$6:$B$923)","v":"047"},0.02]
["DIY and gardening products EPR",3,"21100210201","Modulated","DIY products","Hand tools and their accessories","Solid wood and related products >75%","Strictly <0.5 kg","€ / unit",0.02,0.02,{"$f":"_xlfn.XLOOKUP(K117,'Codes éco-part'!$C$6:$C$923,'Codes éco-part'!$B$6:$B$923)","v":"047"},0.02]
["DIY and gardening products EPR",3,"21100210210",null,"DIY products","Hand tools and their accessories","Solid wood and related products >75%","≥0.5 kg and <1 kg","€ / unit",0.08,0.08,{"$f":"_xlfn.XLOOKUP(K118,'Codes éco-part'!$C$6:$C$923,'Codes éco-part'!$B$6:$B$923)","v":"003"},0.1]
["DIY and gardening products EPR",3,"21100210211","Modulated","DIY products","Hand tools and their accessories","Solid wood and related products >75%","≥0.5 kg and <1 kg","€ / unit",7.0000000000000007E-2,7.0000000000000007E-2,{"$f":"_xlfn.XLOOKUP(K119,'Codes éco-part'!$C$6:$C$923,'Codes éco-part'!$B$6:$B$923)","v":"247"},0.08]
["DIY and gardening products EPR",3,"21100210220",null,"DIY products","Hand tools and their accessories","Solid wood and related products >75%","≥1 kg and <2 kg","€ / unit",0.16,0.16,{"$f":"_xlfn.XLOOKUP(K120,'Codes éco-part'!$C$6:$C$923,'Codes éco-part'!$B$6:$B$923)","v":"099"},0.19]
["DIY and gardening products EPR",3,"21100210221","Modulated","DIY products","Hand tools and their accessories","Solid wood and related products >75%","≥1 kg and <2 kg","€ / unit",0.14000000000000001,0.14000000000000001,{"$f":"_xlfn.XLOOKUP(K121,'Codes éco-part'!$C$6:$C$923,'Codes éco-part'!$B$6:$B$923)","v":"098"},0.17]
["DIY and gardening products EPR",3,"21100210520",null,"DIY products","Hand tools and their accessories","Solid wood and related products >75%","≥2 kg and <3 kg","€ / unit",0.28000000000000003,0.28000000000000003,{"$f":"_xlfn.XLOOKUP(K122,'Codes éco-part'!$C$6:$C$923,'Codes éco-part'!$B$6:$B$923)","v":"542"},0.34]
["DIY and gardening products EPR",3,"21100210521","Modulated","DIY products","Hand tools and their accessories","Solid wood and related products >75%","≥2 kg and <3 kg","€ / unit",0.25,0.25,{"$f":"_xlfn.XLOOKUP(K123,'Codes éco-part'!$C$6:$C$923,'Codes éco-part'!$B$6:$B$923)","v":"095"},0.3]
["DIY and gardening products EPR",3,"21100210530",null,"DIY products","Hand tools and their accessories","Solid wood and related products >75%","≥3 kg and <5 kg","€ / unit",0.44,0.44,{"$f":"_xlfn.XLOOKUP(K124,'Codes éco-part'!$C$6:$C$923,'Codes éco-part'!$B$6:$B$923)","v":"281"},0.53]
["DIY and gardening products EPR",3,"21100210531","Modulated","DIY products","Hand tools and their accessories","Solid wood and related products >75%","≥3 kg and <5 kg","€ / unit",0.4,0.4,{"$f":"_xlfn.XLOOKUP(K125,'Codes éco-part'!$C$6:$C$923,'Codes éco-part'!$B$6:$B$923)","v":"105"},0.48]
["DIY and gardening products EPR",3,"21100210540",null,"DIY products","Hand tools and their accessories","Solid wood and related products >75%","≥5 kg and <7 kg","€ / unit",0.78,0.78,{"$f":"_xlfn.XLOOKUP(K126,'Codes éco-part'!$C$6:$C$923,'Codes éco-part'!$B$6:$B$923)","v":"312"},0.94]
["DIY and gardening products EPR",3,"21100210541","Modulated","DIY products","Hand tools and their accessories","Solid wood and related products >75%","≥5 kg and <7 kg","€ / unit",0.7,0.7,{"$f":"_xlfn.XLOOKUP(K127,'Codes éco-part'!$C$6:$C$923,'Codes éco-part'!$B$6:$B$923)","v":"282"},0.84]
["DIY and gardening products EPR",3,"21100250000",null,"DIY products","Hand tools and their accessories","Chipboard or OSB >75%","Elements of all sizes and weights","€ / ton",110,110,{"$f":"_xlfn.XLOOKUP(K128,'Codes éco-part'!$C$6:$C$923,'Codes éco-part'!$B$6:$B$923)","v":"615"},132]
["DIY and gardening products EPR",3,"21100250001","Modulated","DIY products","Hand tools and their accessories","Chipboard or OSB >75%","Elements of all sizes and weights","€ / ton",99,99,{"$f":"_xlfn.XLOOKUP(K129,'Codes éco-part'!$C$6:$C$923,'Codes éco-part'!$B$6:$B$923)","v":940},118.8]
["DIY and gardening products EPR",3,"21100250200",null,"DIY products","Hand tools and their accessories","Chipboard or OSB >75%","Strictly <0.5 kg","€ / unit",0.02,0.02,{"$f":"_xlfn.XLOOKUP(K130,'Codes éco-part'!$C$6:$C$923,'Codes éco-part'!$B$6:$B$923)","v":"047"},{"$f":"ROUND(K130*1.2,2)","v":0.02}]
["DIY and gardening products EPR",3,"21100250201","Modulated","DIY products","Hand tools and their accessories","Chipboard or OSB >75%","Strictly <0.5 kg","€ / unit",0.02,0.02,{"$f":"_xlfn.XLOOKUP(K131,'Codes éco-part'!$C$6:$C$923,'Codes éco-part'!$B$6:$B$923)","v":"047"},0.02]
["DIY and gardening products EPR",3,"21100250210",null,"DIY products","Hand tools and their accessories","Chipboard or OSB >75%","≥0.5 kg and <1 kg","€ / unit",0.08,0.08,{"$f":"_xlfn.XLOOKUP(K132,'Codes éco-part'!$C$6:$C$923,'Codes éco-part'!$B$6:$B$923)","v":"003"},0.1]
["DIY and gardening products EPR",3,"21100250211","Modulated","DIY products","Hand tools and their accessories","Chipboard or OSB >75%","≥0.5 kg and <1 kg","€ / unit",7.0000000000000007E-2,7.0000000000000007E-2,{"$f":"_xlfn.XLOOKUP(K133,'Codes éco-part'!$C$6:$C$923,'Codes éco-part'!$B$6:$B$923)","v":"247"},0.08]
["DIY and gardening products EPR",3,"21100250220",null,"DIY products","Hand tools and their accessories","Chipboard or OSB >75%","≥1 kg and <2 kg","€ / unit",0.16,0.16,{"$f":"_xlfn.XLOOKUP(K134,'Codes éco-part'!$C$6:$C$923,'Codes éco-part'!$B$6:$B$923)","v":"099"},0.19]
["DIY and gardening products EPR",3,"21100250221","Modulated","DIY products","Hand tools and their accessories","Chipboard or OSB >75%","≥1 kg and <2 kg","€ / unit",0.14000000000000001,0.14000000000000001,{"$f":"_xlfn.XLOOKUP(K135,'Codes éco-part'!$C$6:$C$923,'Codes éco-part'!$B$6:$B$923)","v":"098"},0.17]
["DIY and gardening products EPR",3,"21100250520",null,"DIY products","Hand tools and their accessories","Chipboard or OSB >75%","≥2 kg and <3 kg","€ / unit",0.28000000000000003,0.28000000000000003,{"$f":"_xlfn.XLOOKUP(K136,'Codes éco-part'!$C$6:$C$923,'Codes éco-part'!$B$6:$B$923)","v":"542"},0.34]
["DIY and gardening products EPR",3,"21100250521","Modulated","DIY products","Hand tools and their accessories","Chipboard or OSB >75%","≥2 kg and <3 kg","€ / unit",0.25,0.25,{"$f":"_xlfn.XLOOKUP(K137,'Codes éco-part'!$C$6:$C$923,'Codes éco-part'!$B$6:$B$923)","v":"095"},0.3]
["DIY and gardening products EPR",3,"21100250530",null,"DIY products","Hand tools and their accessories","Chipboard or OSB >75%","≥3 kg and <5 kg","€ / unit",0.44,0.44,{"$f":"_xlfn.XLOOKUP(K138,'Codes éco-part'!$C$6:$C$923,'Codes éco-part'!$B$6:$B$923)","v":"281"},0.53]
["DIY and gardening products EPR",3,"21100250531","Modulated","DIY products","Hand tools and their accessories","Chipboard or OSB >75%","≥3 kg and <5 kg","€ / unit",0.4,0.4,{"$f":"_xlfn.XLOOKUP(K139,'Codes éco-part'!$C$6:$C$923,'Codes éco-part'!$B$6:$B$923)","v":"105"},0.48]
["DIY and gardening products EPR",3,"21100250540",null,"DIY products","Hand tools and their accessories","Chipboard or OSB >75%","≥5 kg and <7 kg","€ / unit",0.78,0.78,{"$f":"_xlfn.XLOOKUP(K140,'Codes éco-part'!$C$6:$C$923,'Codes éco-part'!$B$6:$B$923)","v":"312"},0.94]
["DIY and gardening products EPR",3,"21100250541","Modulated","DIY products","Hand tools and their accessories","Chipboard or OSB >75%","≥5 kg and <7 kg","€ / unit",0.7,0.7,{"$f":"_xlfn.XLOOKUP(K141,'Codes éco-part'!$C$6:$C$923,'Codes éco-part'!$B$6:$B$923)","v":"282"},0.84]
["DIY and gardening products EPR",3,"21100280000",null,"DIY products","Hand tools and their accessories","Metal >90%","Elements of all sizes and weights","€ / ton",14,14,{"$f":"_xlfn.XLOOKUP(K142,'Codes éco-part'!$C$6:$C$923,'Codes éco-part'!$B$6:$B$923)","v":"532"},16.8]
["DIY and gardening products EPR",3,"21100280001","Modulated","DIY products","Hand tools and their accessories","Metal >90%","Elements of all sizes and weights","€ / ton",12.6,12.6,{"$f":"_xlfn.XLOOKUP(K143,'Codes éco-part'!$C$6:$C$923,'Codes éco-part'!$B$6:$B$923)","v":939},15.12]
["DIY and gardening products EPR",3,"21100280200",null,"DIY products","Hand tools and their accessories","Metal >90%","Strictly <0.5 kg","€ / unit",0.01,0.01,{"$f":"_xlfn.XLOOKUP(K144,'Codes éco-part'!$C$6:$C$923,'Codes éco-part'!$B$6:$B$923)","v":"260"},0.01]
["DIY and gardening products EPR",3,"21100280201","Modulated","DIY products","Hand tools and their accessories","Metal >90%","Strictly <0.5 kg","€ / unit",0.01,0.01,{"$f":"_xlfn.XLOOKUP(K145,'Codes éco-part'!$C$6:$C$923,'Codes éco-part'!$B$6:$B$923)","v":"260"},0.01]
["DIY and gardening products EPR",3,"21100280210",null,"DIY products","Hand tools and their accessories","Metal >90%","≥0.5 kg and <1 kg","€ / unit",0.01,0.01,{"$f":"_xlfn.XLOOKUP(K146,'Codes éco-part'!$C$6:$C$923,'Codes éco-part'!$B$6:$B$923)","v":"260"},0.01]
["DIY and gardening products EPR",3,"21100280211","Modulated","DIY products","Hand tools and their accessories","Metal >90%","≥0.5 kg and <1 kg","€ / unit",0.01,0.01,{"$f":"_xlfn.XLOOKUP(K147,'Codes éco-part'!$C$6:$C$923,'Codes éco-part'!$B$6:$B$923)","v":"260"},0.01]
["DIY and gardening products EPR",3,"21100280220",null,"DIY products","Hand tools and their accessories","Metal >90%","≥1 kg and <2 kg","€ / unit",0.02,0.02,{"$f":"_xlfn.XLOOKUP(K148,'Codes éco-part'!$C$6:$C$923,'Codes éco-part'!$B$6:$B$923)","v":"047"},0.02]
["DIY and gardening products EPR",3,"21100280221","Modulated","DIY products","Hand tools and their accessories","Metal >90%","≥1 kg and <2 kg","€ / unit",0.02,0.02,{"$f":"_xlfn.XLOOKUP(K149,'Codes éco-part'!$C$6:$C$923,'Codes éco-part'!$B$6:$B$923)","v":"047"},0.02]
["DIY and gardening products EPR",3,"21100280520",null,"DIY products","Hand tools and their accessories","Metal >90%","≥2 kg and <3 kg","€ / unit",0.04,0.04,{"$f":"_xlfn.XLOOKUP(K150,'Codes éco-part'!$C$6:$C$923,'Codes éco-part'!$B$6:$B$923)","v":"002"},0.05]
["DIY and gardening products EPR",3,"21100280521","Modulated","DIY products","Hand tools and their accessories","Metal >90%","≥2 kg and <3 kg","€ / unit",0.04,0.04,{"$f":"_xlfn.XLOOKUP(K151,'Codes éco-part'!$C$6:$C$923,'Codes éco-part'!$B$6:$B$923)","v":"002"},0.05]
["DIY and gardening products EPR",3,"21100280530",null,"DIY products","Hand tools and their accessories","Metal >90%","≥3 kg and <5 kg","€ / unit",0.06,0.06,{"$f":"_xlfn.XLOOKUP(K152,'Codes éco-part'!$C$6:$C$923,'Codes éco-part'!$B$6:$B$923)","v":"096"},7.0000000000000007E-2]
["DIY and gardening products EPR",3,"21100280531","Modulated","DIY products","Hand tools and their accessories","Metal >90%","≥3 kg and <5 kg","€ / unit",0.05,0.05,{"$f":"_xlfn.XLOOKUP(K153,'Codes éco-part'!$C$6:$C$923,'Codes éco-part'!$B$6:$B$923)","v":"048"},0.06]
["DIY and gardening products EPR",3,"21100280540",null,"DIY products","Hand tools and their accessories","Metal >90%","≥5 kg and <7 kg","€ / unit",0.1,0.1,{"$f":"_xlfn.XLOOKUP(K154,'Codes éco-part'!$C$6:$C$923,'Codes éco-part'!$B$6:$B$923)","v":"094"},0.12]
["DIY and gardening products EPR",3,"21100280541","Modulated","DIY products","Hand tools and their accessories","Metal >90%","≥5 kg and <7 kg","€ / unit",0.09,0.09,{"$f":"_xlfn.XLOOKUP(K155,'Codes éco-part'!$C$6:$C$923,'Codes éco-part'!$B$6:$B$923)","v":"049"},0.11]
["DIY and gardening products EPR",3,"21100400000",null,"DIY products","Hand tools and their accessories","Assembly of synthetic rubber or latex >50% and other materials","Elements of all sizes and weights","€ / ton",322,322,{"$f":"_xlfn.XLOOKUP(K156,'Codes éco-part'!$C$6:$C$923,'Codes éco-part'!$B$6:$B$923)","v":"607"},386.4]
["DIY and gardening products EPR",3,"21100400001","Modulated","DIY products","Hand tools and their accessories","Assembly of synthetic rubber or latex >50% and other materials","Elements of all sizes and weights","€ / ton",289.8,289.8,{"$f":"_xlfn.XLOOKUP(K157,'Codes éco-part'!$C$6:$C$923,'Codes éco-part'!$B$6:$B$923)","v":936},347.76]
["DIY and gardening products EPR",3,"21100400200",null,"DIY products","Hand tools and their accessories","Assembly of synthetic rubber or latex >50% and other materials","Strictly <0.5 kg","€ / unit",0.08,0.08,{"$f":"_xlfn.XLOOKUP(K158,'Codes éco-part'!$C$6:$C$923,'Codes éco-part'!$B$6:$B$923)","v":"003"},0.1]
["DIY and gardening products EPR",3,"21100400201","Modulated","DIY products","Hand tools and their accessories","Assembly of synthetic rubber or latex >50% and other materials","Strictly <0.5 kg","€ / unit",7.0000000000000007E-2,7.0000000000000007E-2,{"$f":"_xlfn.XLOOKUP(K159,'Codes éco-part'!$C$6:$C$923,'Codes éco-part'!$B$6:$B$923)","v":"247"},0.08]
["DIY and gardening products EPR",3,"21100400210",null,"DIY products","Hand tools and their accessories","Assembly of synthetic rubber or latex >50% and other materials","≥0.5 kg and <1 kg","€ / unit",0.24,0.24,{"$f":"_xlfn.XLOOKUP(K160,'Codes éco-part'!$C$6:$C$923,'Codes éco-part'!$B$6:$B$923)","v":"248"},0.28999999999999998]
["DIY and gardening products EPR",3,"21100400211","Modulated","DIY products","Hand tools and their accessories","Assembly of synthetic rubber or latex >50% and other materials","≥0.5 kg and <1 kg","€ / unit",0.22,0.22,{"$f":"_xlfn.XLOOKUP(K161,'Codes éco-part'!$C$6:$C$923,'Codes éco-part'!$B$6:$B$923)","v":"263"},0.26]
["DIY and gardening products EPR",3,"21100400220",null,"DIY products","Hand tools and their accessories","Assembly of synthetic rubber or latex >50% and other materials","≥1 kg and <2 kg","€ / unit",0.48,0.48,{"$f":"_xlfn.XLOOKUP(K162,'Codes éco-part'!$C$6:$C$923,'Codes éco-part'!$B$6:$B$923)","v":"606"},0.57999999999999996]
["DIY and gardening products EPR",3,"21100400221","Modulated","DIY products","Hand tools and their accessories","Assembly of synthetic rubber or latex >50% and other materials","≥1 kg and <2 kg","€ / unit",0.43,0.43,{"$f":"_xlfn.XLOOKUP(K163,'Codes éco-part'!$C$6:$C$923,'Codes éco-part'!$B$6:$B$923)","v":"506"},0.52]
["DIY and gardening products EPR",3,"21100400520",null,"DIY products","Hand tools and their accessories","Assembly of synthetic rubber or latex >50% and other materials","≥2 kg and <3 kg","€ / unit",0.81,0.81,{"$f":"_xlfn.XLOOKUP(K164,'Codes éco-part'!$C$6:$C$923,'Codes éco-part'!$B$6:$B$923)","v":"112"},0.97]
["DIY and gardening products EPR",3,"21100400521","Modulated","DIY products","Hand tools and their accessories","Assembly of synthetic rubber or latex >50% and other materials","≥2 kg and <3 kg","€ / unit",0.73,0.73,{"$f":"_xlfn.XLOOKUP(K165,'Codes éco-part'!$C$6:$C$923,'Codes éco-part'!$B$6:$B$923)","v":"255"},0.88]
["DIY and gardening products EPR",3,"21100400530",null,"DIY products","Hand tools and their accessories","Assembly of synthetic rubber or latex >50% and other materials","≥3 kg and <5 kg","€ / unit",1.29,1.29,{"$f":"_xlfn.XLOOKUP(K166,'Codes éco-part'!$C$6:$C$923,'Codes éco-part'!$B$6:$B$923)","v":"608"},1.55]
["DIY and gardening products EPR",3,"21100400531","Modulated","DIY products","Hand tools and their accessories","Assembly of synthetic rubber or latex >50% and other materials","≥3 kg and <5 kg","€ / unit",1.1599999999999999,1.1599999999999999,{"$f":"_xlfn.XLOOKUP(K167,'Codes éco-part'!$C$6:$C$923,'Codes éco-part'!$B$6:$B$923)","v":"504"},1.39]
["DIY and gardening products EPR",3,"21100400540",null,"DIY products","Hand tools and their accessories","Assembly of synthetic rubber or latex >50% and other materials","≥5 kg and <7 kg","€ / unit",2.25,2.25,{"$f":"_xlfn.XLOOKUP(K168,'Codes éco-part'!$C$6:$C$923,'Codes éco-part'!$B$6:$B$923)","v":"118"},2.7]
["DIY and gardening products EPR",3,"21100400541","Modulated","DIY products","Hand tools and their accessories","Assembly of synthetic rubber or latex >50% and other materials","≥5 kg and <7 kg","€ / unit",2.0299999999999998,2.0299999999999998,{"$f":"_xlfn.XLOOKUP(K169,'Codes éco-part'!$C$6:$C$923,'Codes éco-part'!$B$6:$B$923)","v":937},2.44]
["DIY and gardening products EPR",3,"21100410000",null,"DIY products","Hand tools and their accessories","Plastic (single-resin) >90%","Elements of all sizes and weights","€ / ton",200,200,{"$f":"_xlfn.XLOOKUP(K170,'Codes éco-part'!$C$6:$C$923,'Codes éco-part'!$B$6:$B$923)","v":"601"},240]
["DIY and gardening products EPR",3,"21100410001","Modulated","DIY products","Hand tools and their accessories","Plastic (single-resin) >90%","Elements of all sizes and weights","€ / ton",180,180,{"$f":"_xlfn.XLOOKUP(K171,'Codes éco-part'!$C$6:$C$923,'Codes éco-part'!$B$6:$B$923)","v":941},216]
["DIY and gardening products EPR",3,"21100410200",null,"DIY products","Hand tools and their accessories","Plastic (single-resin) >90%","Strictly <0.5 kg","€ / unit",0.05,0.05,{"$f":"_xlfn.XLOOKUP(K172,'Codes éco-part'!$C$6:$C$923,'Codes éco-part'!$B$6:$B$923)","v":"048"},0.06]
["DIY and gardening products EPR",3,"21100410201","Modulated","DIY products","Hand tools and their accessories","Plastic (single-resin) >90%","Strictly <0.5 kg","€ / unit",0.05,0.05,{"$f":"_xlfn.XLOOKUP(K173,'Codes éco-part'!$C$6:$C$923,'Codes éco-part'!$B$6:$B$923)","v":"048"},0.06]
["DIY and gardening products EPR",3,"21100410210",null,"DIY products","Hand tools and their accessories","Plastic (single-resin) >90%","≥0.5 kg and <1 kg","€ / unit",0.15,0.15,{"$f":"_xlfn.XLOOKUP(K174,'Codes éco-part'!$C$6:$C$923,'Codes éco-part'!$B$6:$B$923)","v":"050"},0.18]
["DIY and gardening products EPR",3,"21100410211","Modulated","DIY products","Hand tools and their accessories","Plastic (single-resin) >90%","≥0.5 kg and <1 kg","€ / unit",0.14000000000000001,0.14000000000000001,{"$f":"_xlfn.XLOOKUP(K175,'Codes éco-part'!$C$6:$C$923,'Codes éco-part'!$B$6:$B$923)","v":"098"},0.17]
["DIY and gardening products EPR",3,"21100410220",null,"DIY products","Hand tools and their accessories","Plastic (single-resin) >90%","≥1 kg and <2 kg","€ / unit",0.3,0.3,{"$f":"_xlfn.XLOOKUP(K176,'Codes éco-part'!$C$6:$C$923,'Codes éco-part'!$B$6:$B$923)","v":"446"},0.36]
["DIY and gardening products EPR",3,"21100410221","Modulated","DIY products","Hand tools and their accessories","Plastic (single-resin) >90%","≥1 kg and <2 kg","€ / unit",0.27,0.27,{"$f":"_xlfn.XLOOKUP(K177,'Codes éco-part'!$C$6:$C$923,'Codes éco-part'!$B$6:$B$923)","v":"103"},0.32]
["DIY and gardening products EPR",3,"21100410520",null,"DIY products","Hand tools and their accessories","Plastic (single-resin) >90%","≥2 kg and <3 kg","€ / unit",0.5,0.5,{"$f":"_xlfn.XLOOKUP(K178,'Codes éco-part'!$C$6:$C$923,'Codes éco-part'!$B$6:$B$923)","v":"053"},0.6]
["DIY and gardening products EPR",3,"21100410521","Modulated","DIY products","Hand tools and their accessories","Plastic (single-resin) >90%","≥2 kg and <3 kg","€ / unit",0.45,0.45,{"$f":"_xlfn.XLOOKUP(K179,'Codes éco-part'!$C$6:$C$923,'Codes éco-part'!$B$6:$B$923)","v":"325"},0.54]
["DIY and gardening products EPR",3,"21100410530",null,"DIY products","Hand tools and their accessories","Plastic (single-resin) >90%","≥3 kg and <5 kg","€ / unit",0.8,0.8,{"$f":"_xlfn.XLOOKUP(K180,'Codes éco-part'!$C$6:$C$923,'Codes éco-part'!$B$6:$B$923)","v":"456"},0.96]
["DIY and gardening products EPR",3,"21100410531","Modulated","DIY products","Hand tools and their accessories","Plastic (single-resin) >90%","≥3 kg and <5 kg","€ / unit",0.72,0.72,{"$f":"_xlfn.XLOOKUP(K181,'Codes éco-part'!$C$6:$C$923,'Codes éco-part'!$B$6:$B$923)","v":"454"},0.86]
["DIY and gardening products EPR",3,"21100410540",null,"DIY products","Hand tools and their accessories","Plastic (single-resin) >90%","≥5 kg and <7 kg","€ / unit",1.4,1.4,{"$f":"_xlfn.XLOOKUP(K182,'Codes éco-part'!$C$6:$C$923,'Codes éco-part'!$B$6:$B$923)","v":"463"},1.68]
["DIY and gardening products EPR",3,"21100410541","Modulated","DIY products","Hand tools and their accessories","Plastic (single-resin) >90%","≥5 kg and <7 kg","€ / unit",1.26,1.26,{"$f":"_xlfn.XLOOKUP(K183,'Codes éco-part'!$C$6:$C$923,'Codes éco-part'!$B$6:$B$923)","v":"568"},1.51]
["DIY and gardening products EPR",3,"21100420000",null,"DIY products","Hand tools and their accessories","Polyethylene terephthalate (PET) >90%","Elements of all sizes and weights","€ / ton",200,200,{"$f":"_xlfn.XLOOKUP(K184,'Codes éco-part'!$C$6:$C$923,'Codes éco-part'!$B$6:$B$923)","v":"601"},240]
["DIY and gardening products EPR",3,"21100420001","Modulated","DIY products","Hand tools and their accessories","Polyethylene terephthalate (PET) >90%","Elements of all sizes and weights","€ / ton",180,180,{"$f":"_xlfn.XLOOKUP(K185,'Codes éco-part'!$C$6:$C$923,'Codes éco-part'!$B$6:$B$923)","v":941},216]
["DIY and gardening products EPR",3,"21100420200",null,"DIY products","Hand tools and their accessories","Polyethylene terephthalate (PET) >90%","Strictly <0.5 kg","€ / unit",0.05,0.05,{"$f":"_xlfn.XLOOKUP(K186,'Codes éco-part'!$C$6:$C$923,'Codes éco-part'!$B$6:$B$923)","v":"048"},0.06]
["DIY and gardening products EPR",3,"21100420201","Modulated","DIY products","Hand tools and their accessories","Polyethylene terephthalate (PET) >90%","Strictly <0.5 kg","€ / unit",0.05,0.05,{"$f":"_xlfn.XLOOKUP(K187,'Codes éco-part'!$C$6:$C$923,'Codes éco-part'!$B$6:$B$923)","v":"048"},0.06]
["DIY and gardening products EPR",3,"21100420210",null,"DIY products","Hand tools and their accessories","Polyethylene terephthalate (PET) >90%","≥0.5 kg and <1 kg","€ / unit",0.15,0.15,{"$f":"_xlfn.XLOOKUP(K188,'Codes éco-part'!$C$6:$C$923,'Codes éco-part'!$B$6:$B$923)","v":"050"},0.18]
["DIY and gardening products EPR",3,"21100420211","Modulated","DIY products","Hand tools and their accessories","Polyethylene terephthalate (PET) >90%","≥0.5 kg and <1 kg","€ / unit",0.14000000000000001,0.14000000000000001,{"$f":"_xlfn.XLOOKUP(K189,'Codes éco-part'!$C$6:$C$923,'Codes éco-part'!$B$6:$B$923)","v":"098"},0.17]
["DIY and gardening products EPR",3,"21100420220",null,"DIY products","Hand tools and their accessories","Polyethylene terephthalate (PET) >90%","≥1 kg and <2 kg","€ / unit",0.3,0.3,{"$f":"_xlfn.XLOOKUP(K190,'Codes éco-part'!$C$6:$C$923,'Codes éco-part'!$B$6:$B$923)","v":"446"},0.36]
["DIY and gardening products EPR",3,"21100420221","Modulated","DIY products","Hand tools and their accessories","Polyethylene terephthalate (PET) >90%","≥1 kg and <2 kg","€ / unit",0.27,0.27,{"$f":"_xlfn.XLOOKUP(K191,'Codes éco-part'!$C$6:$C$923,'Codes éco-part'!$B$6:$B$923)","v":"103"},0.32]
["DIY and gardening products EPR",3,"21100420520",null,"DIY products","Hand tools and their accessories","Polyethylene terephthalate (PET) >90%","≥2 kg and <3 kg","€ / unit",0.5,0.5,{"$f":"_xlfn.XLOOKUP(K192,'Codes éco-part'!$C$6:$C$923,'Codes éco-part'!$B$6:$B$923)","v":"053"},0.6]
["DIY and gardening products EPR",3,"21100420521","Modulated","DIY products","Hand tools and their accessories","Polyethylene terephthalate (PET) >90%","≥2 kg and <3 kg","€ / unit",0.45,0.45,{"$f":"_xlfn.XLOOKUP(K193,'Codes éco-part'!$C$6:$C$923,'Codes éco-part'!$B$6:$B$923)","v":"325"},0.54]
["DIY and gardening products EPR",3,"21100420530",null,"DIY products","Hand tools and their accessories","Polyethylene terephthalate (PET) >90%","≥3 kg and <5 kg","€ / unit",0.8,0.8,{"$f":"_xlfn.XLOOKUP(K194,'Codes éco-part'!$C$6:$C$923,'Codes éco-part'!$B$6:$B$923)","v":"456"},{"$f":"ROUND(K194*1.2,2)","v":0.96}]
["DIY and gardening products EPR",3,"21100420531","Modulated","DIY products","Hand tools and their accessories","Polyethylene terephthalate (PET) >90%","≥3 kg and <5 kg","€ / unit",0.72,0.72,{"$f":"_xlfn.XLOOKUP(K195,'Codes éco-part'!$C$6:$C$923,'Codes éco-part'!$B$6:$B$923)","v":"454"},0.86]
["DIY and gardening products EPR",3,"21100420540",null,"DIY products","Hand tools and their accessories","Polyethylene terephthalate (PET) >90%","≥5 kg and <7 kg","€ / unit",1.4,1.4,{"$f":"_xlfn.XLOOKUP(K196,'Codes éco-part'!$C$6:$C$923,'Codes éco-part'!$B$6:$B$923)","v":"463"},1.68]
["DIY and gardening products EPR",3,"21100420541","Modulated","DIY products","Hand tools and their accessories","Polyethylene terephthalate (PET) >90%","≥5 kg and <7 kg","€ / unit",1.26,1.26,{"$f":"_xlfn.XLOOKUP(K197,'Codes éco-part'!$C$6:$C$923,'Codes éco-part'!$B$6:$B$923)","v":"568"},1.51]
["DIY and gardening products EPR",3,"21100450000",null,"DIY products","Hand tools and their accessories","PE or PP or PP/PE mix >90%","Elements of all sizes and weights","€ / ton",200,200,{"$f":"_xlfn.XLOOKUP(K198,'Codes éco-part'!$C$6:$C$923,'Codes éco-part'!$B$6:$B$923)","v":"601"},240]
["DIY and gardening products EPR",3,"21100450001","Modulated","DIY products","Hand tools and their accessories","PE or PP or PP/PE mix >90%","Elements of all sizes and weights","€ / ton",180,180,{"$f":"_xlfn.XLOOKUP(K199,'Codes éco-part'!$C$6:$C$923,'Codes éco-part'!$B$6:$B$923)","v":941},216]
["DIY and gardening products EPR",3,"21100450200",null,"DIY products","Hand tools and their accessories","PE or PP or PP/PE mix >90%","Strictly <0.5 kg","€ / unit",0.05,0.05,{"$f":"_xlfn.XLOOKUP(K200,'Codes éco-part'!$C$6:$C$923,'Codes éco-part'!$B$6:$B$923)","v":"048"},0.06]
["DIY and gardening products EPR",3,"21100450201","Modulated","DIY products","Hand tools and their accessories","PE or PP or PP/PE mix >90%","Strictly <0.5 kg","€ / unit",0.05,0.05,{"$f":"_xlfn.XLOOKUP(K201,'Codes éco-part'!$C$6:$C$923,'Codes éco-part'!$B$6:$B$923)","v":"048"},0.06]
["DIY and gardening products EPR",3,"21100450210",null,"DIY products","Hand tools and their accessories","PE or PP or PP/PE mix >90%","≥0.5 kg and <1 kg","€ / unit",0.15,0.15,{"$f":"_xlfn.XLOOKUP(K202,'Codes éco-part'!$C$6:$C$923,'Codes éco-part'!$B$6:$B$923)","v":"050"},0.18]
["DIY and gardening products EPR",3,"21100450211","Modulated","DIY products","Hand tools and their accessories","PE or PP or PP/PE mix >90%","≥0.5 kg and <1 kg","€ / unit",0.14000000000000001,0.14000000000000001,{"$f":"_xlfn.XLOOKUP(K203,'Codes éco-part'!$C$6:$C$923,'Codes éco-part'!$B$6:$B$923)","v":"098"},0.17]
["DIY and gardening products EPR",3,"21100450220",null,"DIY products","Hand tools and their accessories","PE or PP or PP/PE mix >90%","≥1 kg and <2 kg","€ / unit",0.3,0.3,{"$f":"_xlfn.XLOOKUP(K204,'Codes éco-part'!$C$6:$C$923,'Codes éco-part'!$B$6:$B$923)","v":"446"},0.36]
["DIY and gardening products EPR",3,"21100450221","Modulated","DIY products","Hand tools and their accessories","PE or PP or PP/PE mix >90%","≥1 kg and <2 kg","€ / unit",0.27,0.27,{"$f":"_xlfn.XLOOKUP(K205,'Codes éco-part'!$C$6:$C$923,'Codes éco-part'!$B$6:$B$923)","v":"103"},0.32]
["DIY and gardening products EPR",3,"21100450520",null,"DIY products","Hand tools and their accessories","PE or PP or PP/PE mix >90%","≥2 kg and <3 kg","€ / unit",0.5,0.5,{"$f":"_xlfn.XLOOKUP(K206,'Codes éco-part'!$C$6:$C$923,'Codes éco-part'!$B$6:$B$923)","v":"053"},0.6]
["DIY and gardening products EPR",3,"21100450521","Modulated","DIY products","Hand tools and their accessories","PE or PP or PP/PE mix >90%","≥2 kg and <3 kg","€ / unit",0.45,0.45,{"$f":"_xlfn.XLOOKUP(K207,'Codes éco-part'!$C$6:$C$923,'Codes éco-part'!$B$6:$B$923)","v":"325"},0.54]
["DIY and gardening products EPR",3,"21100450530",null,"DIY products","Hand tools and their accessories","PE or PP or PP/PE mix >90%","≥3 kg and <5 kg","€ / unit",0.8,0.8,{"$f":"_xlfn.XLOOKUP(K208,'Codes éco-part'!$C$6:$C$923,'Codes éco-part'!$B$6:$B$923)","v":"456"},0.96]
["DIY and gardening products EPR",3,"21100450531","Modulated","DIY products","Hand tools and their accessories","PE or PP or PP/PE mix >90%","≥3 kg and <5 kg","€ / unit",0.72,0.72,{"$f":"_xlfn.XLOOKUP(K209,'Codes éco-part'!$C$6:$C$923,'Codes éco-part'!$B$6:$B$923)","v":"454"},0.86]
["DIY and gardening products EPR",3,"21100450540",null,"DIY products","Hand tools and their accessories","PE or PP or PP/PE mix >90%","≥5 kg and <7 kg","€ / unit",1.4,1.4,{"$f":"_xlfn.XLOOKUP(K210,'Codes éco-part'!$C$6:$C$923,'Codes éco-part'!$B$6:$B$923)","v":"463"},1.68]
["DIY and gardening products EPR",3,"21100450541","Modulated","DIY products","Hand tools and their accessories","PE or PP or PP/PE mix >90%","≥5 kg and <7 kg","€ / unit",1.26,1.26,{"$f":"_xlfn.XLOOKUP(K211,'Codes éco-part'!$C$6:$C$923,'Codes éco-part'!$B$6:$B$923)","v":"568"},1.51]
["DIY and gardening products EPR",3,"21100460000",null,"DIY products","Hand tools and their accessories","ABS >90%","Elements of all sizes and weights","€ / ton",200,200,{"$f":"_xlfn.XLOOKUP(K212,'Codes éco-part'!$C$6:$C$923,'Codes éco-part'!$B$6:$B$923)","v":"601"},240]
["DIY and gardening products EPR",3,"21100460001","Modulated","DIY products","Hand tools and their accessories","ABS >90%","Elements of all sizes and weights","€ / ton",180,180,{"$f":"_xlfn.XLOOKUP(K213,'Codes éco-part'!$C$6:$C$923,'Codes éco-part'!$B$6:$B$923)","v":941},216]
["DIY and gardening products EPR",3,"21100460200",null,"DIY products","Hand tools and their accessories","ABS >90%","Strictly <0.5 kg","€ / unit",0.05,0.05,{"$f":"_xlfn.XLOOKUP(K214,'Codes éco-part'!$C$6:$C$923,'Codes éco-part'!$B$6:$B$923)","v":"048"},0.06]
["DIY and gardening products EPR",3,"21100460201","Modulated","DIY products","Hand tools and their accessories","ABS >90%","Strictly <0.5 kg","€ / unit",0.05,0.05,{"$f":"_xlfn.XLOOKUP(K215,'Codes éco-part'!$C$6:$C$923,'Codes éco-part'!$B$6:$B$923)","v":"048"},0.06]
["DIY and gardening products EPR",3,"21100460210",null,"DIY products","Hand tools and their accessories","ABS >90%","≥0.5 kg and <1 kg","€ / unit",0.15,0.15,{"$f":"_xlfn.XLOOKUP(K216,'Codes éco-part'!$C$6:$C$923,'Codes éco-part'!$B$6:$B$923)","v":"050"},0.18]
["DIY and gardening products EPR",3,"21100460211","Modulated","DIY products","Hand tools and their accessories","ABS >90%","≥0.5 kg and <1 kg","€ / unit",0.14000000000000001,0.14000000000000001,{"$f":"_xlfn.XLOOKUP(K217,'Codes éco-part'!$C$6:$C$923,'Codes éco-part'!$B$6:$B$923)","v":"098"},0.17]
["DIY and gardening products EPR",3,"21100460220",null,"DIY products","Hand tools and their accessories","ABS >90%","≥1 kg and <2 kg","€ / unit",0.3,0.3,{"$f":"_xlfn.XLOOKUP(K218,'Codes éco-part'!$C$6:$C$923,'Codes éco-part'!$B$6:$B$923)","v":"446"},0.36]
["DIY and gardening products EPR",3,"21100460221","Modulated","DIY products","Hand tools and their accessories","ABS >90%","≥1 kg and <2 kg","€ / unit",0.27,0.27,{"$f":"_xlfn.XLOOKUP(K219,'Codes éco-part'!$C$6:$C$923,'Codes éco-part'!$B$6:$B$923)","v":"103"},0.32]
["DIY and gardening products EPR",3,"21100460520",null,"DIY products","Hand tools and their accessories","ABS >90%","≥2 kg and <3 kg","€ / unit",0.5,0.5,{"$f":"_xlfn.XLOOKUP(K220,'Codes éco-part'!$C$6:$C$923,'Codes éco-part'!$B$6:$B$923)","v":"053"},0.6]
["DIY and gardening products EPR",3,"21100460521","Modulated","DIY products","Hand tools and their accessories","ABS >90%","≥2 kg and <3 kg","€ / unit",0.45,0.45,{"$f":"_xlfn.XLOOKUP(K221,'Codes éco-part'!$C$6:$C$923,'Codes éco-part'!$B$6:$B$923)","v":"325"},0.54]
["DIY and gardening products EPR",3,"21100460530",null,"DIY products","Hand tools and their accessories","ABS >90%","≥3 kg and <5 kg","€ / unit",0.8,0.8,{"$f":"_xlfn.XLOOKUP(K222,'Codes éco-part'!$C$6:$C$923,'Codes éco-part'!$B$6:$B$923)","v":"456"},0.96]
["DIY and gardening products EPR",3,"21100460531","Modulated","DIY products","Hand tools and their accessories","ABS >90%","≥3 kg and <5 kg","€ / unit",0.72,0.72,{"$f":"_xlfn.XLOOKUP(K223,'Codes éco-part'!$C$6:$C$923,'Codes éco-part'!$B$6:$B$923)","v":"454"},0.86]
["DIY and gardening products EPR",3,"21100460540",null,"DIY products","Hand tools and their accessories","ABS >90%","≥5 kg and <7 kg","€ / unit",1.4,1.4,{"$f":"_xlfn.XLOOKUP(K224,'Codes éco-part'!$C$6:$C$923,'Codes éco-part'!$B$6:$B$923)","v":"463"},1.68]
["DIY and gardening products EPR",3,"21100460541","Modulated","DIY products","Hand tools and their accessories","ABS >90%","≥5 kg and <7 kg","€ / unit",1.26,1.26,{"$f":"_xlfn.XLOOKUP(K225,'Codes éco-part'!$C$6:$C$923,'Codes éco-part'!$B$6:$B$923)","v":"568"},1.51]
["DIY and gardening products EPR",3,"21100470000",null,"DIY products","Hand tools and their accessories","Polystyrene >90%","Elements of all sizes and weights","€ / ton",200,200,{"$f":"_xlfn.XLOOKUP(K226,'Codes éco-part'!$C$6:$C$923,'Codes éco-part'!$B$6:$B$923)","v":"601"},240]
["DIY and gardening products EPR",3,"21100470001","Modulated","DIY products","Hand tools and their accessories","Polystyrene >90%","Elements of all sizes and weights","€ / ton",180,180,{"$f":"_xlfn.XLOOKUP(K227,'Codes éco-part'!$C$6:$C$923,'Codes éco-part'!$B$6:$B$923)","v":941},216]
["DIY and gardening products EPR",3,"21100470200",null,"DIY products","Hand tools and their accessories","Polystyrene >90%","Strictly <0.5 kg","€ / unit",0.05,0.05,{"$f":"_xlfn.XLOOKUP(K228,'Codes éco-part'!$C$6:$C$923,'Codes éco-part'!$B$6:$B$923)","v":"048"},0.06]
["DIY and gardening products EPR",3,"21100470201","Modulated","DIY products","Hand tools and their accessories","Polystyrene >90%","Strictly <0.5 kg","€ / unit",0.05,0.05,{"$f":"_xlfn.XLOOKUP(K229,'Codes éco-part'!$C$6:$C$923,'Codes éco-part'!$B$6:$B$923)","v":"048"},0.06]
["DIY and gardening products EPR",3,"21100470210",null,"DIY products","Hand tools and their accessories","Polystyrene >90%","≥0.5 kg and <1 kg","€ / unit",0.15,0.15,{"$f":"_xlfn.XLOOKUP(K230,'Codes éco-part'!$C$6:$C$923,'Codes éco-part'!$B$6:$B$923)","v":"050"},0.18]
["DIY and gardening products EPR",3,"21100470211","Modulated","DIY products","Hand tools and their accessories","Polystyrene >90%","≥0.5 kg and <1 kg","€ / unit",0.14000000000000001,0.14000000000000001,{"$f":"_xlfn.XLOOKUP(K231,'Codes éco-part'!$C$6:$C$923,'Codes éco-part'!$B$6:$B$923)","v":"098"},0.17]
["DIY and gardening products EPR",3,"21100470220",null,"DIY products","Hand tools and their accessories","Polystyrene >90%","≥1 kg and <2 kg","€ / unit",0.3,0.3,{"$f":"_xlfn.XLOOKUP(K232,'Codes éco-part'!$C$6:$C$923,'Codes éco-part'!$B$6:$B$923)","v":"446"},0.36]
["DIY and gardening products EPR",3,"21100470221","Modulated","DIY products","Hand tools and their accessories","Polystyrene >90%","≥1 kg and <2 kg","€ / unit",0.27,0.27,{"$f":"_xlfn.XLOOKUP(K233,'Codes éco-part'!$C$6:$C$923,'Codes éco-part'!$B$6:$B$923)","v":"103"},0.32]
["DIY and gardening products EPR",3,"21100470520",null,"DIY products","Hand tools and their accessories","Polystyrene >90%","≥2 kg and <3 kg","€ / unit",0.5,0.5,{"$f":"_xlfn.XLOOKUP(K234,'Codes éco-part'!$C$6:$C$923,'Codes éco-part'!$B$6:$B$923)","v":"053"},0.6]
["DIY and gardening products EPR",3,"21100470521","Modulated","DIY products","Hand tools and their accessories","Polystyrene >90%","≥2 kg and <3 kg","€ / unit",0.45,0.45,{"$f":"_xlfn.XLOOKUP(K235,'Codes éco-part'!$C$6:$C$923,'Codes éco-part'!$B$6:$B$923)","v":"325"},0.54]
["DIY and gardening products EPR",3,"21100470530",null,"DIY products","Hand tools and their accessories","Polystyrene >90%","≥3 kg and <5 kg","€ / unit",0.8,0.8,{"$f":"_xlfn.XLOOKUP(K236,'Codes éco-part'!$C$6:$C$923,'Codes éco-part'!$B$6:$B$923)","v":"456"},0.96]
["DIY and gardening products EPR",3,"21100470531","Modulated","DIY products","Hand tools and their accessories","Polystyrene >90%","≥3 kg and <5 kg","€ / unit",0.72,0.72,{"$f":"_xlfn.XLOOKUP(K237,'Codes éco-part'!$C$6:$C$923,'Codes éco-part'!$B$6:$B$923)","v":"454"},0.86]
["DIY and gardening products EPR",3,"21100470540",null,"DIY products","Hand tools and their accessories","Polystyrene >90%","≥5 kg and <7 kg","€ / unit",1.4,1.4,{"$f":"_xlfn.XLOOKUP(K238,'Codes éco-part'!$C$6:$C$923,'Codes éco-part'!$B$6:$B$923)","v":"463"},1.68]
["DIY and gardening products EPR",3,"21100470541","Modulated","DIY products","Hand tools and their accessories","Polystyrene >90%","≥5 kg and <7 kg","€ / unit",1.26,1.26,{"$f":"_xlfn.XLOOKUP(K239,'Codes éco-part'!$C$6:$C$923,'Codes éco-part'!$B$6:$B$923)","v":"568"},1.51]
["DIY and gardening products EPR",3,"21100480000",null,"DIY products","Hand tools and their accessories","PVC >90%","Elements of all sizes and weights","€ / ton",200,200,{"$f":"_xlfn.XLOOKUP(K240,'Codes éco-part'!$C$6:$C$923,'Codes éco-part'!$B$6:$B$923)","v":"601"},240]
["DIY and gardening products EPR",3,"21100480001","Modulated","DIY products","Hand tools and their accessories","PVC >90%","Elements of all sizes and weights","€ / ton",180,180,{"$f":"_xlfn.XLOOKUP(K241,'Codes éco-part'!$C$6:$C$923,'Codes éco-part'!$B$6:$B$923)","v":941},216]
["DIY and gardening products EPR",3,"21100480200",null,"DIY products","Hand tools and their accessories","PVC >90%","Strictly <0.5 kg","€ / unit",0.05,0.05,{"$f":"_xlfn.XLOOKUP(K242,'Codes éco-part'!$C$6:$C$923,'Codes éco-part'!$B$6:$B$923)","v":"048"},0.06]
["DIY and gardening products EPR",3,"21100480201","Modulated","DIY products","Hand tools and their accessories","PVC >90%","Strictly <0.5 kg","€ / unit",0.05,0.05,{"$f":"_xlfn.XLOOKUP(K243,'Codes éco-part'!$C$6:$C$923,'Codes éco-part'!$B$6:$B$923)","v":"048"},0.06]
["DIY and gardening products EPR",3,"21100480210",null,"DIY products","Hand tools and their accessories","PVC >90%","≥0.5 kg and <1 kg","€ / unit",0.15,0.15,{"$f":"_xlfn.XLOOKUP(K244,'Codes éco-part'!$C$6:$C$923,'Codes éco-part'!$B$6:$B$923)","v":"050"},0.18]
["DIY and gardening products EPR",3,"21100480211","Modulated","DIY products","Hand tools and their accessories","PVC >90%","≥0.5 kg and <1 kg","€ / unit",0.14000000000000001,0.14000000000000001,{"$f":"_xlfn.XLOOKUP(K245,'Codes éco-part'!$C$6:$C$923,'Codes éco-part'!$B$6:$B$923)","v":"098"},0.17]
["DIY and gardening products EPR",3,"21100480220",null,"DIY products","Hand tools and their accessories","PVC >90%","≥1 kg and <2 kg","€ / unit",0.3,0.3,{"$f":"_xlfn.XLOOKUP(K246,'Codes éco-part'!$C$6:$C$923,'Codes éco-part'!$B$6:$B$923)","v":"446"},0.36]
["DIY and gardening products EPR",3,"21100480221","Modulated","DIY products","Hand tools and their accessories","PVC >90%","≥1 kg and <2 kg","€ / unit",0.27,0.27,{"$f":"_xlfn.XLOOKUP(K247,'Codes éco-part'!$C$6:$C$923,'Codes éco-part'!$B$6:$B$923)","v":"103"},0.32]
["DIY and gardening products EPR",3,"21100480520",null,"DIY products","Hand tools and their accessories","PVC >90%","≥2 kg and <3 kg","€ / unit",0.5,0.5,{"$f":"_xlfn.XLOOKUP(K248,'Codes éco-part'!$C$6:$C$923,'Codes éco-part'!$B$6:$B$923)","v":"053"},0.6]
["DIY and gardening products EPR",3,"21100480521","Modulated","DIY products","Hand tools and their accessories","PVC >90%","≥2 kg and <3 kg","€ / unit",0.45,0.45,{"$f":"_xlfn.XLOOKUP(K249,'Codes éco-part'!$C$6:$C$923,'Codes éco-part'!$B$6:$B$923)","v":"325"},0.54]
["DIY and gardening products EPR",3,"21100480530",null,"DIY products","Hand tools and their accessories","PVC >90%","≥3 kg and <5 kg","€ / unit",0.8,0.8,{"$f":"_xlfn.XLOOKUP(K250,'Codes éco-part'!$C$6:$C$923,'Codes éco-part'!$B$6:$B$923)","v":"456"},0.96]
["DIY and gardening products EPR",3,"21100480531","Modulated","DIY products","Hand tools and their accessories","PVC >90%","≥3 kg and <5 kg","€ / unit",0.72,0.72,{"$f":"_xlfn.XLOOKUP(K251,'Codes éco-part'!$C$6:$C$923,'Codes éco-part'!$B$6:$B$923)","v":"454"},0.86]
["DIY and gardening products EPR",3,"21100480540",null,"DIY products","Hand tools and their accessories","PVC >90%","≥5 kg and <7 kg","€ / unit",1.4,1.4,{"$f":"_xlfn.XLOOKUP(K252,'Codes éco-part'!$C$6:$C$923,'Codes éco-part'!$B$6:$B$923)","v":"463"},1.68]
["DIY and gardening products EPR",3,"21100480541","Modulated","DIY products","Hand tools and their accessories","PVC >90%","≥5 kg and <7 kg","€ / unit",1.26,1.26,{"$f":"_xlfn.XLOOKUP(K253,'Codes éco-part'!$C$6:$C$923,'Codes éco-part'!$B$6:$B$923)","v":"568"},1.51]
["DIY and gardening products EPR",3,"21100490000",null,"DIY products","Hand tools and their accessories","Synthetic rubber >90%","Elements of all sizes and weights","€ / ton",200,200,{"$f":"_xlfn.XLOOKUP(K254,'Codes éco-part'!$C$6:$C$923,'Codes éco-part'!$B$6:$B$923)","v":"601"},240]
["DIY and gardening products EPR",3,"21100490001","Modulated","DIY products","Hand tools and their accessories","Synthetic rubber >90%","Elements of all sizes and weights","€ / ton",180,180,{"$f":"_xlfn.XLOOKUP(K255,'Codes éco-part'!$C$6:$C$923,'Codes éco-part'!$B$6:$B$923)","v":941},216]
["DIY and gardening products EPR",3,"21100490200",null,"DIY products","Hand tools and their accessories","Synthetic rubber >90%","Strictly <0.5 kg","€ / unit",0.05,0.05,{"$f":"_xlfn.XLOOKUP(K256,'Codes éco-part'!$C$6:$C$923,'Codes éco-part'!$B$6:$B$923)","v":"048"},0.06]
["DIY and gardening products EPR",3,"21100490201","Modulated","DIY products","Hand tools and their accessories","Synthetic rubber >90%","Strictly <0.5 kg","€ / unit",0.05,0.05,{"$f":"_xlfn.XLOOKUP(K257,'Codes éco-part'!$C$6:$C$923,'Codes éco-part'!$B$6:$B$923)","v":"048"},0.06]
["DIY and gardening products EPR",3,"21100490210",null,"DIY products","Hand tools and their accessories","Synthetic rubber >90%","≥0.5 kg and <1 kg","€ / unit",0.15,0.15,{"$f":"_xlfn.XLOOKUP(K258,'Codes éco-part'!$C$6:$C$923,'Codes éco-part'!$B$6:$B$923)","v":"050"},{"$f":"ROUND(K258*1.2,2)","v":0.18}]
["DIY and gardening products EPR",3,"21100490211","Modulated","DIY products","Hand tools and their accessories","Synthetic rubber >90%","≥0.5 kg and <1 kg","€ / unit",0.14000000000000001,0.14000000000000001,{"$f":"_xlfn.XLOOKUP(K259,'Codes éco-part'!$C$6:$C$923,'Codes éco-part'!$B$6:$B$923)","v":"098"},0.17]
["DIY and gardening products EPR",3,"21100490220",null,"DIY products","Hand tools and their accessories","Synthetic rubber >90%","≥1 kg and <2 kg","€ / unit",0.3,0.3,{"$f":"_xlfn.XLOOKUP(K260,'Codes éco-part'!$C$6:$C$923,'Codes éco-part'!$B$6:$B$923)","v":"446"},0.36]
["DIY and gardening products EPR",3,"21100490221","Modulated","DIY products","Hand tools and their accessories","Synthetic rubber >90%","≥1 kg and <2 kg","€ / unit",0.27,0.27,{"$f":"_xlfn.XLOOKUP(K261,'Codes éco-part'!$C$6:$C$923,'Codes éco-part'!$B$6:$B$923)","v":"103"},0.32]
["DIY and gardening products EPR",3,"21100490520",null,"DIY products","Hand tools and their accessories","Synthetic rubber >90%","≥2 kg and <3 kg","€ / unit",0.5,0.5,{"$f":"_xlfn.XLOOKUP(K262,'Codes éco-part'!$C$6:$C$923,'Codes éco-part'!$B$6:$B$923)","v":"053"},0.6]
["DIY and gardening products EPR",3,"21100490521","Modulated","DIY products","Hand tools and their accessories","Synthetic rubber >90%","≥2 kg and <3 kg","€ / unit",0.45,0.45,{"$f":"_xlfn.XLOOKUP(K263,'Codes éco-part'!$C$6:$C$923,'Codes éco-part'!$B$6:$B$923)","v":"325"},0.54]
["DIY and gardening products EPR",3,"21100490530",null,"DIY products","Hand tools and their accessories","Synthetic rubber >90%","≥3 kg and <5 kg","€ / unit",0.8,0.8,{"$f":"_xlfn.XLOOKUP(K264,'Codes éco-part'!$C$6:$C$923,'Codes éco-part'!$B$6:$B$923)","v":"456"},0.96]
["DIY and gardening products EPR",3,"21100490531","Modulated","DIY products","Hand tools and their accessories","Synthetic rubber >90%","≥3 kg and <5 kg","€ / unit",0.72,0.72,{"$f":"_xlfn.XLOOKUP(K265,'Codes éco-part'!$C$6:$C$923,'Codes éco-part'!$B$6:$B$923)","v":"454"},0.86]
["DIY and gardening products EPR",3,"21100490540",null,"DIY products","Hand tools and their accessories","Synthetic rubber >90%","≥5 kg and <7 kg","€ / unit",1.4,1.4,{"$f":"_xlfn.XLOOKUP(K266,'Codes éco-part'!$C$6:$C$923,'Codes éco-part'!$B$6:$B$923)","v":"463"},1.68]
["DIY and gardening products EPR",3,"21100490541","Modulated","DIY products","Hand tools and their accessories","Synthetic rubber >90%","≥5 kg and <7 kg","€ / unit",1.26,1.26,{"$f":"_xlfn.XLOOKUP(K267,'Codes éco-part'!$C$6:$C$923,'Codes éco-part'!$B$6:$B$923)","v":"568"},1.51]
["DIY and gardening products EPR",3,"21100510000",null,"DIY products","Hand tools and their accessories","Assembly of non-certified wood and/or wood derivatives >50% and other materials or composite wood (excl. glass)","Elements of all sizes and weights","€ / ton",110,110,{"$f":"_xlfn.XLOOKUP(K268,'Codes éco-part'!$C$6:$C$923,'Codes éco-part'!$B$6:$B$923)","v":"615"},132]
["DIY and gardening products EPR",3,"21100510001","Modulated","DIY products","Hand tools and their accessories","Assembly of non-certified wood and/or wood derivatives >50% and other materials or composite wood (excl. glass)","Elements of all sizes and weights","€ / ton",99,99,{"$f":"_xlfn.XLOOKUP(K269,'Codes éco-part'!$C$6:$C$923,'Codes éco-part'!$B$6:$B$923)","v":940},118.8]
["DIY and gardening products EPR",3,"21100510200",null,"DIY products","Hand tools and their accessories","Assembly of non-certified wood and/or wood derivatives >50% and other materials or composite wood (excl. glass)","Strictly <0.5 kg","€ / unit",0.02,0.02,{"$f":"_xlfn.XLOOKUP(K270,'Codes éco-part'!$C$6:$C$923,'Codes éco-part'!$B$6:$B$923)","v":"047"},0.02]
["DIY and gardening products EPR",3,"21100510201","Modulated","DIY products","Hand tools and their accessories","Assembly of non-certified wood and/or wood derivatives >50% and other materials or composite wood (excl. glass)","Strictly <0.5 kg","€ / unit",0.02,0.02,{"$f":"_xlfn.XLOOKUP(K271,'Codes éco-part'!$C$6:$C$923,'Codes éco-part'!$B$6:$B$923)","v":"047"},0.02]
["DIY and gardening products EPR",3,"21100510210",null,"DIY products","Hand tools and their accessories","Assembly of non-certified wood and/or wood derivatives >50% and other materials or composite wood (excl. glass)","≥0.5 kg and <1 kg","€ / unit",0.08,0.08,{"$f":"_xlfn.XLOOKUP(K272,'Codes éco-part'!$C$6:$C$923,'Codes éco-part'!$B$6:$B$923)","v":"003"},0.1]
["DIY and gardening products EPR",3,"21100510211","Modulated","DIY products","Hand tools and their accessories","Assembly of non-certified wood and/or wood derivatives >50% and other materials or composite wood (excl. glass)","≥0.5 kg and <1 kg","€ / unit",7.0000000000000007E-2,7.0000000000000007E-2,{"$f":"_xlfn.XLOOKUP(K273,'Codes éco-part'!$C$6:$C$923,'Codes éco-part'!$B$6:$B$923)","v":"247"},0.08]
["DIY and gardening products EPR",3,"21100510220",null,"DIY products","Hand tools and their accessories","Assembly of non-certified wood and/or wood derivatives >50% and other materials or composite wood (excl. glass)","≥1 kg and <2 kg","€ / unit",0.16,0.16,{"$f":"_xlfn.XLOOKUP(K274,'Codes éco-part'!$C$6:$C$923,'Codes éco-part'!$B$6:$B$923)","v":"099"},0.19]
["DIY and gardening products EPR",3,"21100510221","Modulated","DIY products","Hand tools and their accessories","Assembly of non-certified wood and/or wood derivatives >50% and other materials or composite wood (excl. glass)","≥1 kg and <2 kg","€ / unit",0.14000000000000001,0.14000000000000001,{"$f":"_xlfn.XLOOKUP(K275,'Codes éco-part'!$C$6:$C$923,'Codes éco-part'!$B$6:$B$923)","v":"098"},0.17]
["DIY and gardening products EPR",3,"21100510520",null,"DIY products","Hand tools and their accessories","Assembly of non-certified wood and/or wood derivatives >50% and other materials or composite wood (excl. glass)","≥2 kg and <3 kg","€ / unit",0.28000000000000003,0.28000000000000003,{"$f":"_xlfn.XLOOKUP(K276,'Codes éco-part'!$C$6:$C$923,'Codes éco-part'!$B$6:$B$923)","v":"542"},0.34]
["DIY and gardening products EPR",3,"21100510521","Modulated","DIY products","Hand tools and their accessories","Assembly of non-certified wood and/or wood derivatives >50% and other materials or composite wood (excl. glass)","≥2 kg and <3 kg","€ / unit",0.25,0.25,{"$f":"_xlfn.XLOOKUP(K277,'Codes éco-part'!$C$6:$C$923,'Codes éco-part'!$B$6:$B$923)","v":"095"},0.3]
["DIY and gardening products EPR",3,"21100510530",null,"DIY products","Hand tools and their accessories","Assembly of non-certified wood and/or wood derivatives >50% and other materials or composite wood (excl. glass)","≥3 kg and <5 kg","€ / unit",0.44,0.44,{"$f":"_xlfn.XLOOKUP(K278,'Codes éco-part'!$C$6:$C$923,'Codes éco-part'!$B$6:$B$923)","v":"281"},0.53]
["DIY and gardening products EPR",3,"21100510531","Modulated","DIY products","Hand tools and their accessories","Assembly of non-certified wood and/or wood derivatives >50% and other materials or composite wood (excl. glass)","≥3 kg and <5 kg","€ / unit",0.4,0.4,{"$f":"_xlfn.XLOOKUP(K279,'Codes éco-part'!$C$6:$C$923,'Codes éco-part'!$B$6:$B$923)","v":"105"},0.48]
["DIY and gardening products EPR",3,"21100510540",null,"DIY products","Hand tools and their accessories","Assembly of non-certified wood and/or wood derivatives >50% and other materials or composite wood (excl. glass)","≥5 kg and <7 kg","€ / unit",0.78,0.78,{"$f":"_xlfn.XLOOKUP(K280,'Codes éco-part'!$C$6:$C$923,'Codes éco-part'!$B$6:$B$923)","v":"312"},0.94]
["DIY and gardening products EPR",3,"21100510541","Modulated","DIY products","Hand tools and their accessories","Assembly of non-certified wood and/or wood derivatives >50% and other materials or composite wood (excl. glass)","≥5 kg and <7 kg","€ / unit",0.7,0.7,{"$f":"_xlfn.XLOOKUP(K281,'Codes éco-part'!$C$6:$C$923,'Codes éco-part'!$B$6:$B$923)","v":"282"},0.84]
["DIY and gardening products EPR",3,"21100520000",null,"DIY products","Hand tools and their accessories","Solid wood and related products certified >90%","Elements of all sizes and weights","€ / ton",55,55,{"$f":"_xlfn.XLOOKUP(K282,'Codes éco-part'!$C$6:$C$923,'Codes éco-part'!$B$6:$B$923)","v":"490"},66]
["DIY and gardening products EPR",3,"21100520001","Modulated","DIY products","Hand tools and their accessories","Solid wood and related products certified >90%","Elements of all sizes and weights","€ / ton",49.5,49.5,{"$f":"_xlfn.XLOOKUP(K283,'Codes éco-part'!$C$6:$C$923,'Codes éco-part'!$B$6:$B$923)","v":938},59.4]
["DIY and gardening products EPR",3,"21100520200",null,"DIY products","Hand tools and their accessories","Solid wood and related products certified >90%","Strictly <0.5 kg","€ / unit",0.01,0.01,{"$f":"_xlfn.XLOOKUP(K284,'Codes éco-part'!$C$6:$C$923,'Codes éco-part'!$B$6:$B$923)","v":"260"},0.01]
["DIY and gardening products EPR",3,"21100520201","Modulated","DIY products","Hand tools and their accessories","Solid wood and related products certified >90%","Strictly <0.5 kg","€ / unit",0.01,0.01,{"$f":"_xlfn.XLOOKUP(K285,'Codes éco-part'!$C$6:$C$923,'Codes éco-part'!$B$6:$B$923)","v":"260"},0.01]
["DIY and gardening products EPR",3,"21100520210",null,"DIY products","Hand tools and their accessories","Solid wood and related products certified >90%","≥0.5 kg and <1 kg","€ / unit",0.04,0.04,{"$f":"_xlfn.XLOOKUP(K286,'Codes éco-part'!$C$6:$C$923,'Codes éco-part'!$B$6:$B$923)","v":"002"},0.05]
["DIY and gardening products EPR",3,"21100520211","Modulated","DIY products","Hand tools and their accessories","Solid wood and related products certified >90%","≥0.5 kg and <1 kg","€ / unit",0.04,0.04,{"$f":"_xlfn.XLOOKUP(K287,'Codes éco-part'!$C$6:$C$923,'Codes éco-part'!$B$6:$B$923)","v":"002"},0.05]
["DIY and gardening products EPR",3,"21100520220",null,"DIY products","Hand tools and their accessories","Solid wood and related products certified >90%","≥1 kg and <2 kg","€ / unit",0.08,0.08,{"$f":"_xlfn.XLOOKUP(K288,'Codes éco-part'!$C$6:$C$923,'Codes éco-part'!$B$6:$B$923)","v":"003"},0.1]
["DIY and gardening products EPR",3,"21100520221","Modulated","DIY products","Hand tools and their accessories","Solid wood and related products certified >90%","≥1 kg and <2 kg","€ / unit",7.0000000000000007E-2,7.0000000000000007E-2,{"$f":"_xlfn.XLOOKUP(K289,'Codes éco-part'!$C$6:$C$923,'Codes éco-part'!$B$6:$B$923)","v":"247"},0.08]
["DIY and gardening products EPR",3,"21100520520",null,"DIY products","Hand tools and their accessories","Solid wood and related products certified >90%","≥2 kg and <3 kg","€ / unit",0.14000000000000001,0.14000000000000001,{"$f":"_xlfn.XLOOKUP(K290,'Codes éco-part'!$C$6:$C$923,'Codes éco-part'!$B$6:$B$923)","v":"098"},0.17]
["DIY and gardening products EPR",3,"21100520521","Modulated","DIY products","Hand tools and their accessories","Solid wood and related products certified >90%","≥2 kg and <3 kg","€ / unit",0.13,0.13,{"$f":"_xlfn.XLOOKUP(K291,'Codes éco-part'!$C$6:$C$923,'Codes éco-part'!$B$6:$B$923)","v":"004"},0.16]
["DIY and gardening products EPR",3,"21100520530",null,"DIY products","Hand tools and their accessories","Solid wood and related products certified >90%","≥3 kg and <5 kg","€ / unit",0.22,0.22,{"$f":"_xlfn.XLOOKUP(K292,'Codes éco-part'!$C$6:$C$923,'Codes éco-part'!$B$6:$B$923)","v":"263"},0.26]
["DIY and gardening products EPR",3,"21100520531","Modulated","DIY products","Hand tools and their accessories","Solid wood and related products certified >90%","≥3 kg and <5 kg","€ / unit",0.2,0.2,{"$f":"_xlfn.XLOOKUP(K293,'Codes éco-part'!$C$6:$C$923,'Codes éco-part'!$B$6:$B$923)","v":"101"},0.24]
["DIY and gardening products EPR",3,"21100520540",null,"DIY products","Hand tools and their accessories","Solid wood and related products certified >90%","≥5 kg and <7 kg","€ / unit",0.39,0.39,{"$f":"_xlfn.XLOOKUP(K294,'Codes éco-part'!$C$6:$C$923,'Codes éco-part'!$B$6:$B$923)","v":"253"},0.47]
["DIY and gardening products EPR",3,"21100520541","Modulated","DIY products","Hand tools and their accessories","Solid wood and related products certified >90%","≥5 kg and <7 kg","€ / unit",0.35,0.35,{"$f":"_xlfn.XLOOKUP(K295,'Codes éco-part'!$C$6:$C$923,'Codes éco-part'!$B$6:$B$923)","v":"448"},0.42]
["DIY and gardening products EPR",3,"21100530000",null,"DIY products","Hand tools and their accessories","Solid wood and related products >90%","Elements of all sizes and weights","€ / ton",110,110,{"$f":"_xlfn.XLOOKUP(K296,'Codes éco-part'!$C$6:$C$923,'Codes éco-part'!$B$6:$B$923)","v":"615"},132]
["DIY and gardening products EPR",3,"21100530001","Modulated","DIY products","Hand tools and their accessories","Solid wood and related products >90%","Elements of all sizes and weights","€ / ton",99,99,{"$f":"_xlfn.XLOOKUP(K297,'Codes éco-part'!$C$6:$C$923,'Codes éco-part'!$B$6:$B$923)","v":940},118.8]
["DIY and gardening products EPR",3,"21100530200",null,"DIY products","Hand tools and their accessories","Solid wood and related products >90%","Strictly <0.5 kg","€ / unit",0.02,0.02,{"$f":"_xlfn.XLOOKUP(K298,'Codes éco-part'!$C$6:$C$923,'Codes éco-part'!$B$6:$B$923)","v":"047"},0.02]
["DIY and gardening products EPR",3,"21100530201","Modulated","DIY products","Hand tools and their accessories","Solid wood and related products >90%","Strictly <0.5 kg","€ / unit",0.02,0.02,{"$f":"_xlfn.XLOOKUP(K299,'Codes éco-part'!$C$6:$C$923,'Codes éco-part'!$B$6:$B$923)","v":"047"},0.02]
["DIY and gardening products EPR",3,"21100530210",null,"DIY products","Hand tools and their accessories","Solid wood and related products >90%","≥0.5 kg and <1 kg","€ / unit",0.08,0.08,{"$f":"_xlfn.XLOOKUP(K300,'Codes éco-part'!$C$6:$C$923,'Codes éco-part'!$B$6:$B$923)","v":"003"},0.1]
["DIY and gardening products EPR",3,"21100530211","Modulated","DIY products","Hand tools and their accessories","Solid wood and related products >90%","≥0.5 kg and <1 kg","€ / unit",7.0000000000000007E-2,7.0000000000000007E-2,{"$f":"_xlfn.XLOOKUP(K301,'Codes éco-part'!$C$6:$C$923,'Codes éco-part'!$B$6:$B$923)","v":"247"},0.08]
["DIY and gardening products EPR",3,"21100530220",null,"DIY products","Hand tools and their accessories","Solid wood and related products >90%","≥1 kg and <2 kg","€ / unit",0.16,0.16,{"$f":"_xlfn.XLOOKUP(K302,'Codes éco-part'!$C$6:$C$923,'Codes éco-part'!$B$6:$B$923)","v":"099"},0.19]
["DIY and gardening products EPR",3,"21100530221","Modulated","DIY products","Hand tools and their accessories","Solid wood and related products >90%","≥1 kg and <2 kg","€ / unit",0.14000000000000001,0.14000000000000001,{"$f":"_xlfn.XLOOKUP(K303,'Codes éco-part'!$C$6:$C$923,'Codes éco-part'!$B$6:$B$923)","v":"098"},0.17]
["DIY and gardening products EPR",3,"21100530520",null,"DIY products","Hand tools and their accessories","Solid wood and related products >90%","≥2 kg and <3 kg","€ / unit",0.28000000000000003,0.28000000000000003,{"$f":"_xlfn.XLOOKUP(K304,'Codes éco-part'!$C$6:$C$923,'Codes éco-part'!$B$6:$B$923)","v":"542"},0.34]
["DIY and gardening products EPR",3,"21100530521","Modulated","DIY products","Hand tools and their accessories","Solid wood and related products >90%","≥2 kg and <3 kg","€ / unit",0.25,0.25,{"$f":"_xlfn.XLOOKUP(K305,'Codes éco-part'!$C$6:$C$923,'Codes éco-part'!$B$6:$B$923)","v":"095"},0.3]
["DIY and gardening products EPR",3,"21100530530",null,"DIY products","Hand tools and their accessories","Solid wood and related products >90%","≥3 kg and <5 kg","€ / unit",0.44,0.44,{"$f":"_xlfn.XLOOKUP(K306,'Codes éco-part'!$C$6:$C$923,'Codes éco-part'!$B$6:$B$923)","v":"281"},0.53]
["DIY and gardening products EPR",3,"21100530531","Modulated","DIY products","Hand tools and their accessories","Solid wood and related products >90%","≥3 kg and <5 kg","€ / unit",0.4,0.4,{"$f":"_xlfn.XLOOKUP(K307,'Codes éco-part'!$C$6:$C$923,'Codes éco-part'!$B$6:$B$923)","v":"105"},0.48]
["DIY and gardening products EPR",3,"21100530540",null,"DIY products","Hand tools and their accessories","Solid wood and related products >90%","≥5 kg and <7 kg","€ / unit",0.78,0.78,{"$f":"_xlfn.XLOOKUP(K308,'Codes éco-part'!$C$6:$C$923,'Codes éco-part'!$B$6:$B$923)","v":"312"},0.94]
["DIY and gardening products EPR",3,"21100530541","Modulated","DIY products","Hand tools and their accessories","Solid wood and related products >90%","≥5 kg and <7 kg","€ / unit",0.7,0.7,{"$f":"_xlfn.XLOOKUP(K309,'Codes éco-part'!$C$6:$C$923,'Codes éco-part'!$B$6:$B$923)","v":"282"},0.84]
["DIY and gardening products EPR",3,"21100540000",null,"DIY products","Hand tools and their accessories","Non-certified wood derivatives >90%","Elements of all sizes and weights","€ / ton",110,110,{"$f":"_xlfn.XLOOKUP(K310,'Codes éco-part'!$C$6:$C$923,'Codes éco-part'!$B$6:$B$923)","v":"615"},132]
["DIY and gardening products EPR",3,"21100540001","Modulated","DIY products","Hand tools and their accessories","Non-certified wood derivatives >90%","Elements of all sizes and weights","€ / ton",99,99,{"$f":"_xlfn.XLOOKUP(K311,'Codes éco-part'!$C$6:$C$923,'Codes éco-part'!$B$6:$B$923)","v":940},118.8]
["DIY and gardening products EPR",3,"21100540200",null,"DIY products","Hand tools and their accessories","Non-certified wood derivatives >90%","Strictly <0.5 kg","€ / unit",0.02,0.02,{"$f":"_xlfn.XLOOKUP(K312,'Codes éco-part'!$C$6:$C$923,'Codes éco-part'!$B$6:$B$923)","v":"047"},0.02]
["DIY and gardening products EPR",3,"21100540201","Modulated","DIY products","Hand tools and their accessories","Non-certified wood derivatives >90%","Strictly <0.5 kg","€ / unit",0.02,0.02,{"$f":"_xlfn.XLOOKUP(K313,'Codes éco-part'!$C$6:$C$923,'Codes éco-part'!$B$6:$B$923)","v":"047"},0.02]
["DIY and gardening products EPR",3,"21100540210",null,"DIY products","Hand tools and their accessories","Non-certified wood derivatives >90%","≥0.5 kg and <1 kg","€ / unit",0.08,0.08,{"$f":"_xlfn.XLOOKUP(K314,'Codes éco-part'!$C$6:$C$923,'Codes éco-part'!$B$6:$B$923)","v":"003"},0.1]
["DIY and gardening products EPR",3,"21100540211","Modulated","DIY products","Hand tools and their accessories","Non-certified wood derivatives >90%","≥0.5 kg and <1 kg","€ / unit",7.0000000000000007E-2,7.0000000000000007E-2,{"$f":"_xlfn.XLOOKUP(K315,'Codes éco-part'!$C$6:$C$923,'Codes éco-part'!$B$6:$B$923)","v":"247"},0.08]
["DIY and gardening products EPR",3,"21100540220",null,"DIY products","Hand tools and their accessories","Non-certified wood derivatives >90%","≥1 kg and <2 kg","€ / unit",0.16,0.16,{"$f":"_xlfn.XLOOKUP(K316,'Codes éco-part'!$C$6:$C$923,'Codes éco-part'!$B$6:$B$923)","v":"099"},0.19]
["DIY and gardening products EPR",3,"21100540221","Modulated","DIY products","Hand tools and their accessories","Non-certified wood derivatives >90%","≥1 kg and <2 kg","€ / unit",0.14000000000000001,0.14000000000000001,{"$f":"_xlfn.XLOOKUP(K317,'Codes éco-part'!$C$6:$C$923,'Codes éco-part'!$B$6:$B$923)","v":"098"},0.17]
["DIY and gardening products EPR",3,"21100540520",null,"DIY products","Hand tools and their accessories","Non-certified wood derivatives >90%","≥2 kg and <3 kg","€ / unit",0.28000000000000003,0.28000000000000003,{"$f":"_xlfn.XLOOKUP(K318,'Codes éco-part'!$C$6:$C$923,'Codes éco-part'!$B$6:$B$923)","v":"542"},0.34]
["DIY and gardening products EPR",3,"21100540521","Modulated","DIY products","Hand tools and their accessories","Non-certified wood derivatives >90%","≥2 kg and <3 kg","€ / unit",0.25,0.25,{"$f":"_xlfn.XLOOKUP(K319,'Codes éco-part'!$C$6:$C$923,'Codes éco-part'!$B$6:$B$923)","v":"095"},0.3]
["DIY and gardening products EPR",3,"21100540530",null,"DIY products","Hand tools and their accessories","Non-certified wood derivatives >90%","≥3 kg and <5 kg","€ / unit",0.44,0.44,{"$f":"_xlfn.XLOOKUP(K320,'Codes éco-part'!$C$6:$C$923,'Codes éco-part'!$B$6:$B$923)","v":"281"},0.53]
["DIY and gardening products EPR",3,"21100540531","Modulated","DIY products","Hand tools and their accessories","Non-certified wood derivatives >90%","≥3 kg and <5 kg","€ / unit",0.4,0.4,{"$f":"_xlfn.XLOOKUP(K321,'Codes éco-part'!$C$6:$C$923,'Codes éco-part'!$B$6:$B$923)","v":"105"},0.48]
["DIY and gardening products EPR",3,"21100540540",null,"DIY products","Hand tools and their accessories","Non-certified wood derivatives >90%","≥5 kg and <7 kg","€ / unit",0.78,0.78,{"$f":"_xlfn.XLOOKUP(K322,'Codes éco-part'!$C$6:$C$923,'Codes éco-part'!$B$6:$B$923)","v":"312"},{"$f":"ROUND(K322*1.2,2)","v":0.94}]
["DIY and gardening products EPR",3,"21100540541","Modulated","DIY products","Hand tools and their accessories","Non-certified wood derivatives >90%","≥5 kg and <7 kg","€ / unit",0.7,0.7,{"$f":"_xlfn.XLOOKUP(K323,'Codes éco-part'!$C$6:$C$923,'Codes éco-part'!$B$6:$B$923)","v":"282"},0.84]
["DIY and gardening products EPR",3,"21100550000",null,"DIY products","Hand tools and their accessories","Biosourced materials or non-synthetic textiles >90%","Elements of all sizes and weights","€ / ton",65,65,{"$f":"_xlfn.XLOOKUP(K324,'Codes éco-part'!$C$6:$C$923,'Codes éco-part'!$B$6:$B$923)","v":"614"},78]
["DIY and gardening products EPR",3,"21100550001","Modulated","DIY products","Hand tools and their accessories","Biosourced materials or non-synthetic textiles >90%","Elements of all sizes and weights","€ / ton",58.5,58.5,{"$f":"_xlfn.XLOOKUP(K325,'Codes éco-part'!$C$6:$C$923,'Codes éco-part'!$B$6:$B$923)","v":942},70.2]
["DIY and gardening products EPR",3,"21100550200",null,"DIY products","Hand tools and their accessories","Biosourced materials or non-synthetic textiles >90%","Strictly <0.5 kg","€ / unit",0.02,0.02,{"$f":"_xlfn.XLOOKUP(K326,'Codes éco-part'!$C$6:$C$923,'Codes éco-part'!$B$6:$B$923)","v":"047"},0.02]
["DIY and gardening products EPR",3,"21100550201","Modulated","DIY products","Hand tools and their accessories","Biosourced materials or non-synthetic textiles >90%","Strictly <0.5 kg","€ / unit",0.02,0.02,{"$f":"_xlfn.XLOOKUP(K327,'Codes éco-part'!$C$6:$C$923,'Codes éco-part'!$B$6:$B$923)","v":"047"},0.02]
["DIY and gardening products EPR",3,"21100550210",null,"DIY products","Hand tools and their accessories","Biosourced materials or non-synthetic textiles >90%","≥0.5 kg and <1 kg","€ / unit",0.05,0.05,{"$f":"_xlfn.XLOOKUP(K328,'Codes éco-part'!$C$6:$C$923,'Codes éco-part'!$B$6:$B$923)","v":"048"},0.06]
["DIY and gardening products EPR",3,"21100550211","Modulated","DIY products","Hand tools and their accessories","Biosourced materials or non-synthetic textiles >90%","≥0.5 kg and <1 kg","€ / unit",0.05,0.05,{"$f":"_xlfn.XLOOKUP(K329,'Codes éco-part'!$C$6:$C$923,'Codes éco-part'!$B$6:$B$923)","v":"048"},0.06]
["DIY and gardening products EPR",3,"21100550220",null,"DIY products","Hand tools and their accessories","Biosourced materials or non-synthetic textiles >90%","≥1 kg and <2 kg","€ / unit",0.1,0.1,{"$f":"_xlfn.XLOOKUP(K330,'Codes éco-part'!$C$6:$C$923,'Codes éco-part'!$B$6:$B$923)","v":"094"},0.12]
["DIY and gardening products EPR",3,"21100550221","Modulated","DIY products","Hand tools and their accessories","Biosourced materials or non-synthetic textiles >90%","≥1 kg and <2 kg","€ / unit",0.09,0.09,{"$f":"_xlfn.XLOOKUP(K331,'Codes éco-part'!$C$6:$C$923,'Codes éco-part'!$B$6:$B$923)","v":"049"},0.11]
["DIY and gardening products EPR",3,"21100550520",null,"DIY products","Hand tools and their accessories","Biosourced materials or non-synthetic textiles >90%","≥2 kg and <3 kg","€ / unit",0.16,0.16,{"$f":"_xlfn.XLOOKUP(K332,'Codes éco-part'!$C$6:$C$923,'Codes éco-part'!$B$6:$B$923)","v":"099"},0.19]
["DIY and gardening products EPR",3,"21100550521","Modulated","DIY products","Hand tools and their accessories","Biosourced materials or non-synthetic textiles >90%","≥2 kg and <3 kg","€ / unit",0.14000000000000001,0.14000000000000001,{"$f":"_xlfn.XLOOKUP(K333,'Codes éco-part'!$C$6:$C$923,'Codes éco-part'!$B$6:$B$923)","v":"098"},0.17]
["DIY and gardening products EPR",3,"21100550530",null,"DIY products","Hand tools and their accessories","Biosourced materials or non-synthetic textiles >90%","≥3 kg and <5 kg","€ / unit",0.26,0.26,{"$f":"_xlfn.XLOOKUP(K334,'Codes éco-part'!$C$6:$C$923,'Codes éco-part'!$B$6:$B$923)","v":"445"},0.31]
["DIY and gardening products EPR",3,"21100550531","Modulated","DIY products","Hand tools and their accessories","Biosourced materials or non-synthetic textiles >90%","≥3 kg and <5 kg","€ / unit",0.23,0.23,{"$f":"_xlfn.XLOOKUP(K335,'Codes éco-part'!$C$6:$C$923,'Codes éco-part'!$B$6:$B$923)","v":"323"},0.28000000000000003]
["DIY and gardening products EPR",3,"21100550540",null,"DIY products","Hand tools and their accessories","Biosourced materials or non-synthetic textiles >90%","≥5 kg and <7 kg","€ / unit",0.46,0.46,{"$f":"_xlfn.XLOOKUP(K336,'Codes éco-part'!$C$6:$C$923,'Codes éco-part'!$B$6:$B$923)","v":"106"},0.55000000000000004]
["DIY and gardening products EPR",3,"21100550541","Modulated","DIY products","Hand tools and their accessories","Biosourced materials or non-synthetic textiles >90%","≥5 kg and <7 kg","€ / unit",0.41,0.41,{"$f":"_xlfn.XLOOKUP(K337,'Codes éco-part'!$C$6:$C$923,'Codes éco-part'!$B$6:$B$923)","v":"503"},0.49]
["DIY and gardening products EPR",3,"21100590000",null,"DIY products","Hand tools and their accessories","Certified chipboard or OSB >90%","Elements of all sizes and weights","€ / ton",55,55,{"$f":"_xlfn.XLOOKUP(K338,'Codes éco-part'!$C$6:$C$923,'Codes éco-part'!$B$6:$B$923)","v":"490"},66]
["DIY and gardening products EPR",3,"21100590001","Modulated","DIY products","Hand tools and their accessories","Certified chipboard or OSB >90%","Elements of all sizes and weights","€ / ton",49.5,49.5,{"$f":"_xlfn.XLOOKUP(K339,'Codes éco-part'!$C$6:$C$923,'Codes éco-part'!$B$6:$B$923)","v":938},59.4]
["DIY and gardening products EPR",3,"21100590200",null,"DIY products","Hand tools and their accessories","Certified chipboard or OSB >90%","Strictly <0.5 kg","€ / unit",0.01,0.01,{"$f":"_xlfn.XLOOKUP(K340,'Codes éco-part'!$C$6:$C$923,'Codes éco-part'!$B$6:$B$923)","v":"260"},0.01]
["DIY and gardening products EPR",3,"21100590201","Modulated","DIY products","Hand tools and their accessories","Certified chipboard or OSB >90%","Strictly <0.5 kg","€ / unit",0.01,0.01,{"$f":"_xlfn.XLOOKUP(K341,'Codes éco-part'!$C$6:$C$923,'Codes éco-part'!$B$6:$B$923)","v":"260"},0.01]
["DIY and gardening products EPR",3,"21100590210",null,"DIY products","Hand tools and their accessories","Certified chipboard or OSB >90%","≥0.5 kg and <1 kg","€ / unit",0.04,0.04,{"$f":"_xlfn.XLOOKUP(K342,'Codes éco-part'!$C$6:$C$923,'Codes éco-part'!$B$6:$B$923)","v":"002"},0.05]
["DIY and gardening products EPR",3,"21100590211","Modulated","DIY products","Hand tools and their accessories","Certified chipboard or OSB >90%","≥0.5 kg and <1 kg","€ / unit",0.04,0.04,{"$f":"_xlfn.XLOOKUP(K343,'Codes éco-part'!$C$6:$C$923,'Codes éco-part'!$B$6:$B$923)","v":"002"},0.05]
["DIY and gardening products EPR",3,"21100590220",null,"DIY products","Hand tools and their accessories","Certified chipboard or OSB >90%","≥1 kg and <2 kg","€ / unit",0.08,0.08,{"$f":"_xlfn.XLOOKUP(K344,'Codes éco-part'!$C$6:$C$923,'Codes éco-part'!$B$6:$B$923)","v":"003"},0.1]
["DIY and gardening products EPR",3,"21100590221","Modulated","DIY products","Hand tools and their accessories","Certified chipboard or OSB >90%","≥1 kg and <2 kg","€ / unit",7.0000000000000007E-2,7.0000000000000007E-2,{"$f":"_xlfn.XLOOKUP(K345,'Codes éco-part'!$C$6:$C$923,'Codes éco-part'!$B$6:$B$923)","v":"247"},0.08]
["DIY and gardening products EPR",3,"21100590520",null,"DIY products","Hand tools and their accessories","Certified chipboard or OSB >90%","≥2 kg and <3 kg","€ / unit",0.14000000000000001,0.14000000000000001,{"$f":"_xlfn.XLOOKUP(K346,'Codes éco-part'!$C$6:$C$923,'Codes éco-part'!$B$6:$B$923)","v":"098"},0.17]
["DIY and gardening products EPR",3,"21100590521","Modulated","DIY products","Hand tools and their accessories","Certified chipboard or OSB >90%","≥2 kg and <3 kg","€ / unit",0.13,0.13,{"$f":"_xlfn.XLOOKUP(K347,'Codes éco-part'!$C$6:$C$923,'Codes éco-part'!$B$6:$B$923)","v":"004"},0.16]
["DIY and gardening products EPR",3,"21100590530",null,"DIY products","Hand tools and their accessories","Certified chipboard or OSB >90%","≥3 kg and <5 kg","€ / unit",0.22,0.22,{"$f":"_xlfn.XLOOKUP(K348,'Codes éco-part'!$C$6:$C$923,'Codes éco-part'!$B$6:$B$923)","v":"263"},0.26]
["DIY and gardening products EPR",3,"21100590531","Modulated","DIY products","Hand tools and their accessories","Certified chipboard or OSB >90%","≥3 kg and <5 kg","€ / unit",0.2,0.2,{"$f":"_xlfn.XLOOKUP(K349,'Codes éco-part'!$C$6:$C$923,'Codes éco-part'!$B$6:$B$923)","v":"101"},0.24]
["DIY and gardening products EPR",3,"21100590540",null,"DIY products","Hand tools and their accessories","Certified chipboard or OSB >90%","≥5 kg and <7 kg","€ / unit",0.39,0.39,{"$f":"_xlfn.XLOOKUP(K350,'Codes éco-part'!$C$6:$C$923,'Codes éco-part'!$B$6:$B$923)","v":"253"},0.47]
["DIY and gardening products EPR",3,"21100590541","Modulated","DIY products","Hand tools and their accessories","Certified chipboard or OSB >90%","≥5 kg and <7 kg","€ / unit",0.35,0.35,{"$f":"_xlfn.XLOOKUP(K351,'Codes éco-part'!$C$6:$C$923,'Codes éco-part'!$B$6:$B$923)","v":"448"},0.42]
["DIY and gardening products EPR",3,"21100600000",null,"DIY products","Hand tools and their accessories","Certified chipboard or OSB >75%","Elements of all sizes and weights","€ / ton",55,55,{"$f":"_xlfn.XLOOKUP(K352,'Codes éco-part'!$C$6:$C$923,'Codes éco-part'!$B$6:$B$923)","v":"490"},66]
["DIY and gardening products EPR",3,"21100600001","Modulated","DIY products","Hand tools and their accessories","Certified chipboard or OSB >75%","Elements of all sizes and weights","€ / ton",49.5,49.5,{"$f":"_xlfn.XLOOKUP(K353,'Codes éco-part'!$C$6:$C$923,'Codes éco-part'!$B$6:$B$923)","v":938},59.4]
["DIY and gardening products EPR",3,"21100600200",null,"DIY products","Hand tools and their accessories","Certified chipboard or OSB >75%","Strictly <0.5 kg","€ / unit",0.01,0.01,{"$f":"_xlfn.XLOOKUP(K354,'Codes éco-part'!$C$6:$C$923,'Codes éco-part'!$B$6:$B$923)","v":"260"},0.01]
["DIY and gardening products EPR",3,"21100600201","Modulated","DIY products","Hand tools and their accessories","Certified chipboard or OSB >75%","Strictly <0.5 kg","€ / unit",0.01,0.01,{"$f":"_xlfn.XLOOKUP(K355,'Codes éco-part'!$C$6:$C$923,'Codes éco-part'!$B$6:$B$923)","v":"260"},0.01]
["DIY and gardening products EPR",3,"21100600210",null,"DIY products","Hand tools and their accessories","Certified chipboard or OSB >75%","≥0.5 kg and <1 kg","€ / unit",0.04,0.04,{"$f":"_xlfn.XLOOKUP(K356,'Codes éco-part'!$C$6:$C$923,'Codes éco-part'!$B$6:$B$923)","v":"002"},0.05]
["DIY and gardening products EPR",3,"21100600211","Modulated","DIY products","Hand tools and their accessories","Certified chipboard or OSB >75%","≥0.5 kg and <1 kg","€ / unit",0.04,0.04,{"$f":"_xlfn.XLOOKUP(K357,'Codes éco-part'!$C$6:$C$923,'Codes éco-part'!$B$6:$B$923)","v":"002"},0.05]
["DIY and gardening products EPR",3,"21100600220",null,"DIY products","Hand tools and their accessories","Certified chipboard or OSB >75%","≥1 kg and <2 kg","€ / unit",0.08,0.08,{"$f":"_xlfn.XLOOKUP(K358,'Codes éco-part'!$C$6:$C$923,'Codes éco-part'!$B$6:$B$923)","v":"003"},0.1]
["DIY and gardening products EPR",3,"21100600221","Modulated","DIY products","Hand tools and their accessories","Certified chipboard or OSB >75%","≥1 kg and <2 kg","€ / unit",7.0000000000000007E-2,7.0000000000000007E-2,{"$f":"_xlfn.XLOOKUP(K359,'Codes éco-part'!$C$6:$C$923,'Codes éco-part'!$B$6:$B$923)","v":"247"},0.08]
["DIY and gardening products EPR",3,"21100600520",null,"DIY products","Hand tools and their accessories","Certified chipboard or OSB >75%","≥2 kg and <3 kg","€ / unit",0.14000000000000001,0.14000000000000001,{"$f":"_xlfn.XLOOKUP(K360,'Codes éco-part'!$C$6:$C$923,'Codes éco-part'!$B$6:$B$923)","v":"098"},0.17]
["DIY and gardening products EPR",3,"21100600521","Modulated","DIY products","Hand tools and their accessories","Certified chipboard or OSB >75%","≥2 kg and <3 kg","€ / unit",0.13,0.13,{"$f":"_xlfn.XLOOKUP(K361,'Codes éco-part'!$C$6:$C$923,'Codes éco-part'!$B$6:$B$923)","v":"004"},0.16]
["DIY and gardening products EPR",3,"21100600530",null,"DIY products","Hand tools and their accessories","Certified chipboard or OSB >75%","≥3 kg and <5 kg","€ / unit",0.22,0.22,{"$f":"_xlfn.XLOOKUP(K362,'Codes éco-part'!$C$6:$C$923,'Codes éco-part'!$B$6:$B$923)","v":"263"},0.26]
["DIY and gardening products EPR",3,"21100600531","Modulated","DIY products","Hand tools and their accessories","Certified chipboard or OSB >75%","≥3 kg and <5 kg","€ / unit",0.2,0.2,{"$f":"_xlfn.XLOOKUP(K363,'Codes éco-part'!$C$6:$C$923,'Codes éco-part'!$B$6:$B$923)","v":"101"},0.24]
["DIY and gardening products EPR",3,"21100600540",null,"DIY products","Hand tools and their accessories","Certified chipboard or OSB >75%","≥5 kg and <7 kg","€ / unit",0.39,0.39,{"$f":"_xlfn.XLOOKUP(K364,'Codes éco-part'!$C$6:$C$923,'Codes éco-part'!$B$6:$B$923)","v":"253"},0.47]
["DIY and gardening products EPR",3,"21100600541","Modulated","DIY products","Hand tools and their accessories","Certified chipboard or OSB >75%","≥5 kg and <7 kg","€ / unit",0.35,0.35,{"$f":"_xlfn.XLOOKUP(K365,'Codes éco-part'!$C$6:$C$923,'Codes éco-part'!$B$6:$B$923)","v":"448"},0.42]
["DIY and gardening products EPR",3,"21100610000",null,"DIY products","Hand tools and their accessories","Chipboard or OSB >90%","Elements of all sizes and weights","€ / ton",110,110,{"$f":"_xlfn.XLOOKUP(K366,'Codes éco-part'!$C$6:$C$923,'Codes éco-part'!$B$6:$B$923)","v":"615"},132]
["DIY and gardening products EPR",3,"21100610001","Modulated","DIY products","Hand tools and their accessories","Chipboard or OSB >90%","Elements of all sizes and weights","€ / ton",99,99,{"$f":"_xlfn.XLOOKUP(K367,'Codes éco-part'!$C$6:$C$923,'Codes éco-part'!$B$6:$B$923)","v":940},118.8]
["DIY and gardening products EPR",3,"21100610200",null,"DIY products","Hand tools and their accessories","Chipboard or OSB >90%","Strictly <0.5 kg","€ / unit",0.02,0.02,{"$f":"_xlfn.XLOOKUP(K368,'Codes éco-part'!$C$6:$C$923,'Codes éco-part'!$B$6:$B$923)","v":"047"},0.02]
["DIY and gardening products EPR",3,"21100610201","Modulated","DIY products","Hand tools and their accessories","Chipboard or OSB >90%","Strictly <0.5 kg","€ / unit",0.02,0.02,{"$f":"_xlfn.XLOOKUP(K369,'Codes éco-part'!$C$6:$C$923,'Codes éco-part'!$B$6:$B$923)","v":"047"},0.02]
["DIY and gardening products EPR",3,"21100610210",null,"DIY products","Hand tools and their accessories","Chipboard or OSB >90%","≥0.5 kg and <1 kg","€ / unit",0.08,0.08,{"$f":"_xlfn.XLOOKUP(K370,'Codes éco-part'!$C$6:$C$923,'Codes éco-part'!$B$6:$B$923)","v":"003"},0.1]
["DIY and gardening products EPR",3,"21100610211","Modulated","DIY products","Hand tools and their accessories","Chipboard or OSB >90%","≥0.5 kg and <1 kg","€ / unit",7.0000000000000007E-2,7.0000000000000007E-2,{"$f":"_xlfn.XLOOKUP(K371,'Codes éco-part'!$C$6:$C$923,'Codes éco-part'!$B$6:$B$923)","v":"247"},0.08]
["DIY and gardening products EPR",3,"21100610220",null,"DIY products","Hand tools and their accessories","Chipboard or OSB >90%","≥1 kg and <2 kg","€ / unit",0.16,0.16,{"$f":"_xlfn.XLOOKUP(K372,'Codes éco-part'!$C$6:$C$923,'Codes éco-part'!$B$6:$B$923)","v":"099"},0.19]
["DIY and gardening products EPR",3,"21100610221","Modulated","DIY products","Hand tools and their accessories","Chipboard or OSB >90%","≥1 kg and <2 kg","€ / unit",0.14000000000000001,0.14000000000000001,{"$f":"_xlfn.XLOOKUP(K373,'Codes éco-part'!$C$6:$C$923,'Codes éco-part'!$B$6:$B$923)","v":"098"},0.17]
["DIY and gardening products EPR",3,"21100610520",null,"DIY products","Hand tools and their accessories","Chipboard or OSB >90%","≥2 kg and <3 kg","€ / unit",0.28000000000000003,0.28000000000000003,{"$f":"_xlfn.XLOOKUP(K374,'Codes éco-part'!$C$6:$C$923,'Codes éco-part'!$B$6:$B$923)","v":"542"},0.34]
["DIY and gardening products EPR",3,"21100610521","Modulated","DIY products","Hand tools and their accessories","Chipboard or OSB >90%","≥2 kg and <3 kg","€ / unit",0.25,0.25,{"$f":"_xlfn.XLOOKUP(K375,'Codes éco-part'!$C$6:$C$923,'Codes éco-part'!$B$6:$B$923)","v":"095"},0.3]
["DIY and gardening products EPR",3,"21100610530",null,"DIY products","Hand tools and their accessories","Chipboard or OSB >90%","≥3 kg and <5 kg","€ / unit",0.44,0.44,{"$f":"_xlfn.XLOOKUP(K376,'Codes éco-part'!$C$6:$C$923,'Codes éco-part'!$B$6:$B$923)","v":"281"},0.53]
["DIY and gardening products EPR",3,"21100610531","Modulated","DIY products","Hand tools and their accessories","Chipboard or OSB >90%","≥3 kg and <5 kg","€ / unit",0.4,0.4,{"$f":"_xlfn.XLOOKUP(K377,'Codes éco-part'!$C$6:$C$923,'Codes éco-part'!$B$6:$B$923)","v":"105"},0.48]
["DIY and gardening products EPR",3,"21100610540",null,"DIY products","Hand tools and their accessories","Chipboard or OSB >90%","≥5 kg and <7 kg","€ / unit",0.78,0.78,{"$f":"_xlfn.XLOOKUP(K378,'Codes éco-part'!$C$6:$C$923,'Codes éco-part'!$B$6:$B$923)","v":"312"},0.94]
["DIY and gardening products EPR",3,"21100610541","Modulated","DIY products","Hand tools and their accessories","Chipboard or OSB >90%","≥5 kg and <7 kg","€ / unit",0.7,0.7,{"$f":"_xlfn.XLOOKUP(K379,'Codes éco-part'!$C$6:$C$923,'Codes éco-part'!$B$6:$B$923)","v":"282"},0.84]
["DIY and gardening products EPR",3,"21100620000",null,"DIY products","Hand tools and their accessories","Wood derivatives >90%","Elements of all sizes and weights","€ / ton",55,55,{"$f":"_xlfn.XLOOKUP(K380,'Codes éco-part'!$C$6:$C$923,'Codes éco-part'!$B$6:$B$923)","v":"490"},66]
["DIY and gardening products EPR",3,"21100620001","Modulated","DIY products","Hand tools and their accessories","Wood derivatives >90%","Elements of all sizes and weights","€ / ton",49.5,49.5,{"$f":"_xlfn.XLOOKUP(K381,'Codes éco-part'!$C$6:$C$923,'Codes éco-part'!$B$6:$B$923)","v":938},59.4]
["DIY and gardening products EPR",3,"21100620200",null,"DIY products","Hand tools and their accessories","Wood derivatives >90%","Strictly <0.5 kg","€ / unit",0.01,0.01,{"$f":"_xlfn.XLOOKUP(K382,'Codes éco-part'!$C$6:$C$923,'Codes éco-part'!$B$6:$B$923)","v":"260"},0.01]
["DIY and gardening products EPR",3,"21100620201","Modulated","DIY products","Hand tools and their accessories","Wood derivatives >90%","Strictly <0.5 kg","€ / unit",0.01,0.01,{"$f":"_xlfn.XLOOKUP(K383,'Codes éco-part'!$C$6:$C$923,'Codes éco-part'!$B$6:$B$923)","v":"260"},0.01]
["DIY and gardening products EPR",3,"21100620210",null,"DIY products","Hand tools and their accessories","Wood derivatives >90%","≥0.5 kg and <1 kg","€ / unit",0.04,0.04,{"$f":"_xlfn.XLOOKUP(K384,'Codes éco-part'!$C$6:$C$923,'Codes éco-part'!$B$6:$B$923)","v":"002"},0.05]
["DIY and gardening products EPR",3,"21100620211","Modulated","DIY products","Hand tools and their accessories","Wood derivatives >90%","≥0.5 kg and <1 kg","€ / unit",0.04,0.04,{"$f":"_xlfn.XLOOKUP(K385,'Codes éco-part'!$C$6:$C$923,'Codes éco-part'!$B$6:$B$923)","v":"002"},0.05]
["DIY and gardening products EPR",3,"21100620220",null,"DIY products","Hand tools and their accessories","Wood derivatives >90%","≥1 kg and <2 kg","€ / unit",0.08,0.08,{"$f":"_xlfn.XLOOKUP(K386,'Codes éco-part'!$C$6:$C$923,'Codes éco-part'!$B$6:$B$923)","v":"003"},{"$f":"ROUND(K386*1.2,2)","v":0.1}]
["DIY and gardening products EPR",3,"21100620221","Modulated","DIY products","Hand tools and their accessories","Wood derivatives >90%","≥1 kg and <2 kg","€ / unit",7.0000000000000007E-2,7.0000000000000007E-2,{"$f":"_xlfn.XLOOKUP(K387,'Codes éco-part'!$C$6:$C$923,'Codes éco-part'!$B$6:$B$923)","v":"247"},0.08]
["DIY and gardening products EPR",3,"21100620520",null,"DIY products","Hand tools and their accessories","Wood derivatives >90%","≥2 kg and <3 kg","€ / unit",0.14000000000000001,0.14000000000000001,{"$f":"_xlfn.XLOOKUP(K388,'Codes éco-part'!$C$6:$C$923,'Codes éco-part'!$B$6:$B$923)","v":"098"},0.17]
["DIY and gardening products EPR",3,"21100620521","Modulated","DIY products","Hand tools and their accessories","Wood derivatives >90%","≥2 kg and <3 kg","€ / unit",0.13,0.13,{"$f":"_xlfn.XLOOKUP(K389,'Codes éco-part'!$C$6:$C$923,'Codes éco-part'!$B$6:$B$923)","v":"004"},0.16]
["DIY and gardening products EPR",3,"21100620530",null,"DIY products","Hand tools and their accessories","Wood derivatives >90%","≥3 kg and <5 kg","€ / unit",0.22,0.22,{"$f":"_xlfn.XLOOKUP(K390,'Codes éco-part'!$C$6:$C$923,'Codes éco-part'!$B$6:$B$923)","v":"263"},0.26]
["DIY and gardening products EPR",3,"21100620531","Modulated","DIY products","Hand tools and their accessories","Wood derivatives >90%","≥3 kg and <5 kg","€ / unit",0.2,0.2,{"$f":"_xlfn.XLOOKUP(K391,'Codes éco-part'!$C$6:$C$923,'Codes éco-part'!$B$6:$B$923)","v":"101"},0.24]
["DIY and gardening products EPR",3,"21100620540",null,"DIY products","Hand tools and their accessories","Wood derivatives >90%","≥5 kg and <7 kg","€ / unit",0.39,0.39,{"$f":"_xlfn.XLOOKUP(K392,'Codes éco-part'!$C$6:$C$923,'Codes éco-part'!$B$6:$B$923)","v":"253"},0.47]
["DIY and gardening products EPR",3,"21100620541","Modulated","DIY products","Hand tools and their accessories","Wood derivatives >90%","≥5 kg and <7 kg","€ / unit",0.35,0.35,{"$f":"_xlfn.XLOOKUP(K393,'Codes éco-part'!$C$6:$C$923,'Codes éco-part'!$B$6:$B$923)","v":"448"},0.42]
["DIY and gardening products EPR",3,"21100630000",null,"DIY products","Hand tools and their accessories","Natural rubber >90%","Elements of all sizes and weights","€ / ton",65,65,{"$f":"_xlfn.XLOOKUP(K394,'Codes éco-part'!$C$6:$C$923,'Codes éco-part'!$B$6:$B$923)","v":"614"},78]
["DIY and gardening products EPR",3,"21100630001","Modulated","DIY products","Hand tools and their accessories","Natural rubber >90%","Elements of all sizes and weights","€ / ton",58.5,58.5,{"$f":"_xlfn.XLOOKUP(K395,'Codes éco-part'!$C$6:$C$923,'Codes éco-part'!$B$6:$B$923)","v":942},70.2]
["DIY and gardening products EPR",3,"21100630200",null,"DIY products","Hand tools and their accessories","Natural rubber >90%","Strictly <0.5 kg","€ / unit",0.02,0.02,{"$f":"_xlfn.XLOOKUP(K396,'Codes éco-part'!$C$6:$C$923,'Codes éco-part'!$B$6:$B$923)","v":"047"},0.02]
["DIY and gardening products EPR",3,"21100630201","Modulated","DIY products","Hand tools and their accessories","Natural rubber >90%","Strictly <0.5 kg","€ / unit",0.02,0.02,{"$f":"_xlfn.XLOOKUP(K397,'Codes éco-part'!$C$6:$C$923,'Codes éco-part'!$B$6:$B$923)","v":"047"},0.02]
["DIY and gardening products EPR",3,"21100630210",null,"DIY products","Hand tools and their accessories","Natural rubber >90%","≥0.5 kg and <1 kg","€ / unit",0.05,0.05,{"$f":"_xlfn.XLOOKUP(K398,'Codes éco-part'!$C$6:$C$923,'Codes éco-part'!$B$6:$B$923)","v":"048"},0.06]
["DIY and gardening products EPR",3,"21100630211","Modulated","DIY products","Hand tools and their accessories","Natural rubber >90%","≥0.5 kg and <1 kg","€ / unit",0.05,0.05,{"$f":"_xlfn.XLOOKUP(K399,'Codes éco-part'!$C$6:$C$923,'Codes éco-part'!$B$6:$B$923)","v":"048"},0.06]
["DIY and gardening products EPR",3,"21100630220",null,"DIY products","Hand tools and their accessories","Natural rubber >90%","≥1 kg and <2 kg","€ / unit",0.1,0.1,{"$f":"_xlfn.XLOOKUP(K400,'Codes éco-part'!$C$6:$C$923,'Codes éco-part'!$B$6:$B$923)","v":"094"},0.12]
["DIY and gardening products EPR",3,"21100630221","Modulated","DIY products","Hand tools and their accessories","Natural rubber >90%","≥1 kg and <2 kg","€ / unit",0.09,0.09,{"$f":"_xlfn.XLOOKUP(K401,'Codes éco-part'!$C$6:$C$923,'Codes éco-part'!$B$6:$B$923)","v":"049"},0.11]
["DIY and gardening products EPR",3,"21100630520",null,"DIY products","Hand tools and their accessories","Natural rubber >90%","≥2 kg and <3 kg","€ / unit",0.16,0.16,{"$f":"_xlfn.XLOOKUP(K402,'Codes éco-part'!$C$6:$C$923,'Codes éco-part'!$B$6:$B$923)","v":"099"},0.19]
["DIY and gardening products EPR",3,"21100630521","Modulated","DIY products","Hand tools and their accessories","Natural rubber >90%","≥2 kg and <3 kg","€ / unit",0.14000000000000001,0.14000000000000001,{"$f":"_xlfn.XLOOKUP(K403,'Codes éco-part'!$C$6:$C$923,'Codes éco-part'!$B$6:$B$923)","v":"098"},0.17]
["DIY and gardening products EPR",3,"21100630530",null,"DIY products","Hand tools and their accessories","Natural rubber >90%","≥3 kg and <5 kg","€ / unit",0.26,0.26,{"$f":"_xlfn.XLOOKUP(K404,'Codes éco-part'!$C$6:$C$923,'Codes éco-part'!$B$6:$B$923)","v":"445"},0.31]
["DIY and gardening products EPR",3,"21100630531","Modulated","DIY products","Hand tools and their accessories","Natural rubber >90%","≥3 kg and <5 kg","€ / unit",0.23,0.23,{"$f":"_xlfn.XLOOKUP(K405,'Codes éco-part'!$C$6:$C$923,'Codes éco-part'!$B$6:$B$923)","v":"323"},0.28000000000000003]
["DIY and gardening products EPR",3,"21100630540",null,"DIY products","Hand tools and their accessories","Natural rubber >90%","≥5 kg and <7 kg","€ / unit",0.46,0.46,{"$f":"_xlfn.XLOOKUP(K406,'Codes éco-part'!$C$6:$C$923,'Codes éco-part'!$B$6:$B$923)","v":"106"},0.55000000000000004]
["DIY and gardening products EPR",3,"21100630541","Modulated","DIY products","Hand tools and their accessories","Natural rubber >90%","≥5 kg and <7 kg","€ / unit",0.41,0.41,{"$f":"_xlfn.XLOOKUP(K407,'Codes éco-part'!$C$6:$C$923,'Codes éco-part'!$B$6:$B$923)","v":"503"},0.49]
["DIY and gardening products EPR",3,"21100640000",null,"DIY products","Hand tools and their accessories","Natural rubber >50%","Elements of all sizes and weights","€ / ton",322,322,{"$f":"_xlfn.XLOOKUP(K408,'Codes éco-part'!$C$6:$C$923,'Codes éco-part'!$B$6:$B$923)","v":"607"},386.4]
["DIY and gardening products EPR",3,"21100640001","Modulated","DIY products","Hand tools and their accessories","Natural rubber >50%","Elements of all sizes and weights","€ / ton",289.8,289.8,{"$f":"_xlfn.XLOOKUP(K409,'Codes éco-part'!$C$6:$C$923,'Codes éco-part'!$B$6:$B$923)","v":936},347.76]
["DIY and gardening products EPR",3,"21100640200",null,"DIY products","Hand tools and their accessories","Natural rubber >50%","Strictly <0.5 kg","€ / unit",0.08,0.08,{"$f":"_xlfn.XLOOKUP(K410,'Codes éco-part'!$C$6:$C$923,'Codes éco-part'!$B$6:$B$923)","v":"003"},0.1]
["DIY and gardening products EPR",3,"21100640201","Modulated","DIY products","Hand tools and their accessories","Natural rubber >50%","Strictly <0.5 kg","€ / unit",7.0000000000000007E-2,7.0000000000000007E-2,{"$f":"_xlfn.XLOOKUP(K411,'Codes éco-part'!$C$6:$C$923,'Codes éco-part'!$B$6:$B$923)","v":"247"},0.08]
["DIY and gardening products EPR",3,"21100640210",null,"DIY products","Hand tools and their accessories","Natural rubber >50%","≥0.5 kg and <1 kg","€ / unit",0.24,0.24,{"$f":"_xlfn.XLOOKUP(K412,'Codes éco-part'!$C$6:$C$923,'Codes éco-part'!$B$6:$B$923)","v":"248"},0.28999999999999998]
["DIY and gardening products EPR",3,"21100640211","Modulated","DIY products","Hand tools and their accessories","Natural rubber >50%","≥0.5 kg and <1 kg","€ / unit",0.22,0.22,{"$f":"_xlfn.XLOOKUP(K413,'Codes éco-part'!$C$6:$C$923,'Codes éco-part'!$B$6:$B$923)","v":"263"},0.26]
["DIY and gardening products EPR",3,"21100640220",null,"DIY products","Hand tools and their accessories","Natural rubber >50%","≥1 kg and <2 kg","€ / unit",0.48,0.48,{"$f":"_xlfn.XLOOKUP(K414,'Codes éco-part'!$C$6:$C$923,'Codes éco-part'!$B$6:$B$923)","v":"606"},0.57999999999999996]
["DIY and gardening products EPR",3,"21100640221","Modulated","DIY products","Hand tools and their accessories","Natural rubber >50%","≥1 kg and <2 kg","€ / unit",0.43,0.43,{"$f":"_xlfn.XLOOKUP(K415,'Codes éco-part'!$C$6:$C$923,'Codes éco-part'!$B$6:$B$923)","v":"506"},0.52]
["DIY and gardening products EPR",3,"21100640520",null,"DIY products","Hand tools and their accessories","Natural rubber >50%","≥2 kg and <3 kg","€ / unit",0.81,0.81,{"$f":"_xlfn.XLOOKUP(K416,'Codes éco-part'!$C$6:$C$923,'Codes éco-part'!$B$6:$B$923)","v":"112"},0.97]
["DIY and gardening products EPR",3,"21100640521","Modulated","DIY products","Hand tools and their accessories","Natural rubber >50%","≥2 kg and <3 kg","€ / unit",0.73,0.73,{"$f":"_xlfn.XLOOKUP(K417,'Codes éco-part'!$C$6:$C$923,'Codes éco-part'!$B$6:$B$923)","v":"255"},0.88]
["DIY and gardening products EPR",3,"21100640530",null,"DIY products","Hand tools and their accessories","Natural rubber >50%","≥3 kg and <5 kg","€ / unit",1.29,1.29,{"$f":"_xlfn.XLOOKUP(K418,'Codes éco-part'!$C$6:$C$923,'Codes éco-part'!$B$6:$B$923)","v":"608"},1.55]
["DIY and gardening products EPR",3,"21100640531","Modulated","DIY products","Hand tools and their accessories","Natural rubber >50%","≥3 kg and <5 kg","€ / unit",1.1599999999999999,1.1599999999999999,{"$f":"_xlfn.XLOOKUP(K419,'Codes éco-part'!$C$6:$C$923,'Codes éco-part'!$B$6:$B$923)","v":"504"},1.39]
["DIY and gardening products EPR",3,"21100640540",null,"DIY products","Hand tools and their accessories","Natural rubber >50%","≥5 kg and <7 kg","€ / unit",2.25,2.25,{"$f":"_xlfn.XLOOKUP(K420,'Codes éco-part'!$C$6:$C$923,'Codes éco-part'!$B$6:$B$923)","v":"118"},2.7]
["DIY and gardening products EPR",3,"21100640541","Modulated","DIY products","Hand tools and their accessories","Natural rubber >50%","≥5 kg and <7 kg","€ / unit",2.0299999999999998,2.0299999999999998,{"$f":"_xlfn.XLOOKUP(K421,'Codes éco-part'!$C$6:$C$923,'Codes éco-part'!$B$6:$B$923)","v":937},2.44]
["DIY and gardening products EPR",3,"21100650000",null,"DIY products","Hand tools and their accessories","Synthetic fibres or materials >90%","Elements of all sizes and weights","€ / ton",200,200,{"$f":"_xlfn.XLOOKUP(K422,'Codes éco-part'!$C$6:$C$923,'Codes éco-part'!$B$6:$B$923)","v":"601"},240]
["DIY and gardening products EPR",3,"21100650001","Modulated","DIY products","Hand tools and their accessories","Synthetic fibres or materials >90%","Elements of all sizes and weights","€ / ton",180,180,{"$f":"_xlfn.XLOOKUP(K423,'Codes éco-part'!$C$6:$C$923,'Codes éco-part'!$B$6:$B$923)","v":941},216]
["DIY and gardening products EPR",3,"21100650200",null,"DIY products","Hand tools and their accessories","Synthetic fibres or materials >90%","Strictly <0.5 kg","€ / unit",0.05,0.05,{"$f":"_xlfn.XLOOKUP(K424,'Codes éco-part'!$C$6:$C$923,'Codes éco-part'!$B$6:$B$923)","v":"048"},0.06]
["DIY and gardening products EPR",3,"21100650201","Modulated","DIY products","Hand tools and their accessories","Synthetic fibres or materials >90%","Strictly <0.5 kg","€ / unit",0.05,0.05,{"$f":"_xlfn.XLOOKUP(K425,'Codes éco-part'!$C$6:$C$923,'Codes éco-part'!$B$6:$B$923)","v":"048"},0.06]
["DIY and gardening products EPR",3,"21100650210",null,"DIY products","Hand tools and their accessories","Synthetic fibres or materials >90%","≥0.5 kg and <1 kg","€ / unit",0.15,0.15,{"$f":"_xlfn.XLOOKUP(K426,'Codes éco-part'!$C$6:$C$923,'Codes éco-part'!$B$6:$B$923)","v":"050"},0.18]
["DIY and gardening products EPR",3,"21100650211","Modulated","DIY products","Hand tools and their accessories","Synthetic fibres or materials >90%","≥0.5 kg and <1 kg","€ / unit",0.14000000000000001,0.14000000000000001,{"$f":"_xlfn.XLOOKUP(K427,'Codes éco-part'!$C$6:$C$923,'Codes éco-part'!$B$6:$B$923)","v":"098"},0.17]
["DIY and gardening products EPR",3,"21100650220",null,"DIY products","Hand tools and their accessories","Synthetic fibres or materials >90%","≥1 kg and <2 kg","€ / unit",0.3,0.3,{"$f":"_xlfn.XLOOKUP(K428,'Codes éco-part'!$C$6:$C$923,'Codes éco-part'!$B$6:$B$923)","v":"446"},0.36]
["DIY and gardening products EPR",3,"21100650221","Modulated","DIY products","Hand tools and their accessories","Synthetic fibres or materials >90%","≥1 kg and <2 kg","€ / unit",0.27,0.27,{"$f":"_xlfn.XLOOKUP(K429,'Codes éco-part'!$C$6:$C$923,'Codes éco-part'!$B$6:$B$923)","v":"103"},0.32]
["DIY and gardening products EPR",3,"21100650520",null,"DIY products","Hand tools and their accessories","Synthetic fibres or materials >90%","≥2 kg and <3 kg","€ / unit",0.5,0.5,{"$f":"_xlfn.XLOOKUP(K430,'Codes éco-part'!$C$6:$C$923,'Codes éco-part'!$B$6:$B$923)","v":"053"},0.6]
["DIY and gardening products EPR",3,"21100650521","Modulated","DIY products","Hand tools and their accessories","Synthetic fibres or materials >90%","≥2 kg and <3 kg","€ / unit",0.45,0.45,{"$f":"_xlfn.XLOOKUP(K431,'Codes éco-part'!$C$6:$C$923,'Codes éco-part'!$B$6:$B$923)","v":"325"},0.54]
["DIY and gardening products EPR",3,"21100650530",null,"DIY products","Hand tools and their accessories","Synthetic fibres or materials >90%","≥3 kg and <5 kg","€ / unit",0.8,0.8,{"$f":"_xlfn.XLOOKUP(K432,'Codes éco-part'!$C$6:$C$923,'Codes éco-part'!$B$6:$B$923)","v":"456"},0.96]
["DIY and gardening products EPR",3,"21100650531","Modulated","DIY products","Hand tools and their accessories","Synthetic fibres or materials >90%","≥3 kg and <5 kg","€ / unit",0.72,0.72,{"$f":"_xlfn.XLOOKUP(K433,'Codes éco-part'!$C$6:$C$923,'Codes éco-part'!$B$6:$B$923)","v":"454"},0.86]
["DIY and gardening products EPR",3,"21100650540",null,"DIY products","Hand tools and their accessories","Synthetic fibres or materials >90%","≥5 kg and <7 kg","€ / unit",1.4,1.4,{"$f":"_xlfn.XLOOKUP(K434,'Codes éco-part'!$C$6:$C$923,'Codes éco-part'!$B$6:$B$923)","v":"463"},1.68]
["DIY and gardening products EPR",3,"21100650541","Modulated","DIY products","Hand tools and their accessories","Synthetic fibres or materials >90%","≥5 kg and <7 kg","€ / unit",1.26,1.26,{"$f":"_xlfn.XLOOKUP(K435,'Codes éco-part'!$C$6:$C$923,'Codes éco-part'!$B$6:$B$923)","v":"568"},1.51]
["DIY and gardening products EPR",3,"21100670000",null,"DIY products","Hand tools and their accessories","Assembly of synthetic fibres and/or materials >50% and other materials","Elements of all sizes and weights","€ / ton",322,322,{"$f":"_xlfn.XLOOKUP(K436,'Codes éco-part'!$C$6:$C$923,'Codes éco-part'!$B$6:$B$923)","v":"607"},386.4]
["DIY and gardening products EPR",3,"21100670001","Modulated","DIY products","Hand tools and their accessories","Assembly of synthetic fibres and/or materials >50% and other materials","Elements of all sizes and weights","€ / ton",289.8,289.8,{"$f":"_xlfn.XLOOKUP(K437,'Codes éco-part'!$C$6:$C$923,'Codes éco-part'!$B$6:$B$923)","v":936},347.76]
["DIY and gardening products EPR",3,"21100670200",null,"DIY products","Hand tools and their accessories","Assembly of synthetic fibres and/or materials >50% and other materials","Strictly <0.5 kg","€ / unit",0.08,0.08,{"$f":"_xlfn.XLOOKUP(K438,'Codes éco-part'!$C$6:$C$923,'Codes éco-part'!$B$6:$B$923)","v":"003"},0.1]
["DIY and gardening products EPR",3,"21100670201","Modulated","DIY products","Hand tools and their accessories","Assembly of synthetic fibres and/or materials >50% and other materials","Strictly <0.5 kg","€ / unit",7.0000000000000007E-2,7.0000000000000007E-2,{"$f":"_xlfn.XLOOKUP(K439,'Codes éco-part'!$C$6:$C$923,'Codes éco-part'!$B$6:$B$923)","v":"247"},0.08]
["DIY and gardening products EPR",3,"21100670210",null,"DIY products","Hand tools and their accessories","Assembly of synthetic fibres and/or materials >50% and other materials","≥0.5 kg and <1 kg","€ / unit",0.24,0.24,{"$f":"_xlfn.XLOOKUP(K440,'Codes éco-part'!$C$6:$C$923,'Codes éco-part'!$B$6:$B$923)","v":"248"},0.28999999999999998]
["DIY and gardening products EPR",3,"21100670211","Modulated","DIY products","Hand tools and their accessories","Assembly of synthetic fibres and/or materials >50% and other materials","≥0.5 kg and <1 kg","€ / unit",0.22,0.22,{"$f":"_xlfn.XLOOKUP(K441,'Codes éco-part'!$C$6:$C$923,'Codes éco-part'!$B$6:$B$923)","v":"263"},0.26]
["DIY and gardening products EPR",3,"21100670220",null,"DIY products","Hand tools and their accessories","Assembly of synthetic fibres and/or materials >50% and other materials","≥1 kg and <2 kg","€ / unit",0.48,0.48,{"$f":"_xlfn.XLOOKUP(K442,'Codes éco-part'!$C$6:$C$923,'Codes éco-part'!$B$6:$B$923)","v":"606"},0.57999999999999996]
["DIY and gardening products EPR",3,"21100670221","Modulated","DIY products","Hand tools and their accessories","Assembly of synthetic fibres and/or materials >50% and other materials","≥1 kg and <2 kg","€ / unit",0.43,0.43,{"$f":"_xlfn.XLOOKUP(K443,'Codes éco-part'!$C$6:$C$923,'Codes éco-part'!$B$6:$B$923)","v":"506"},0.52]
["DIY and gardening products EPR",3,"21100670520",null,"DIY products","Hand tools and their accessories","Assembly of synthetic fibres and/or materials >50% and other materials","≥2 kg and <3 kg","€ / unit",0.81,0.81,{"$f":"_xlfn.XLOOKUP(K444,'Codes éco-part'!$C$6:$C$923,'Codes éco-part'!$B$6:$B$923)","v":"112"},0.97]
["DIY and gardening products EPR",3,"21100670521","Modulated","DIY products","Hand tools and their accessories","Assembly of synthetic fibres and/or materials >50% and other materials","≥2 kg and <3 kg","€ / unit",0.73,0.73,{"$f":"_xlfn.XLOOKUP(K445,'Codes éco-part'!$C$6:$C$923,'Codes éco-part'!$B$6:$B$923)","v":"255"},0.88]
["DIY and gardening products EPR",3,"21100670530",null,"DIY products","Hand tools and their accessories","Assembly of synthetic fibres and/or materials >50% and other materials","≥3 kg and <5 kg","€ / unit",1.29,1.29,{"$f":"_xlfn.XLOOKUP(K446,'Codes éco-part'!$C$6:$C$923,'Codes éco-part'!$B$6:$B$923)","v":"608"},1.55]
["DIY and gardening products EPR",3,"21100670531","Modulated","DIY products","Hand tools and their accessories","Assembly of synthetic fibres and/or materials >50% and other materials","≥3 kg and <5 kg","€ / unit",1.1599999999999999,1.1599999999999999,{"$f":"_xlfn.XLOOKUP(K447,'Codes éco-part'!$C$6:$C$923,'Codes éco-part'!$B$6:$B$923)","v":"504"},1.39]
["DIY and gardening products EPR",3,"21100670540",null,"DIY products","Hand tools and their accessories","Assembly of synthetic fibres and/or materials >50% and other materials","≥5 kg and <7 kg","€ / unit",2.25,2.25,{"$f":"_xlfn.XLOOKUP(K448,'Codes éco-part'!$C$6:$C$923,'Codes éco-part'!$B$6:$B$923)","v":"118"},2.7]
["DIY and gardening products EPR",3,"21100670541","Modulated","DIY products","Hand tools and their accessories","Assembly of synthetic fibres and/or materials >50% and other materials","≥5 kg and <7 kg","€ / unit",2.0299999999999998,2.0299999999999998,{"$f":"_xlfn.XLOOKUP(K449,'Codes éco-part'!$C$6:$C$923,'Codes éco-part'!$B$6:$B$923)","v":937},2.44]
["DIY and gardening products EPR",3,"21100680000",null,"DIY products","Hand tools and their accessories","Glass >90%","Elements of all sizes and weights","€ / ton",8.75,8.75,{"$f":"_xlfn.XLOOKUP(K450,'Codes éco-part'!$C$6:$C$923,'Codes éco-part'!$B$6:$B$923)","v":"069"},{"$f":"ROUND(K450*1.2,2)","v":10.5}]
["DIY and gardening products EPR",3,"21100680001","Modulated","DIY products","Hand tools and their accessories","Glass >90%","Elements of all sizes and weights","€ / ton",7.88,7.88,{"$f":"_xlfn.XLOOKUP(K451,'Codes éco-part'!$C$6:$C$923,'Codes éco-part'!$B$6:$B$923)","v":"354"},9.4600000000000009]
["DIY and gardening products EPR",3,"21100680200",null,"DIY products","Hand tools and their accessories","Glass >90%","Strictly <0.5 kg","€ / unit",0.01,0.01,{"$f":"_xlfn.XLOOKUP(K452,'Codes éco-part'!$C$6:$C$923,'Codes éco-part'!$B$6:$B$923)","v":"260"},0.01]
["DIY and gardening products EPR",3,"21100680201","Modulated","DIY products","Hand tools and their accessories","Glass >90%","Strictly <0.5 kg","€ / unit",0.01,0.01,{"$f":"_xlfn.XLOOKUP(K453,'Codes éco-part'!$C$6:$C$923,'Codes éco-part'!$B$6:$B$923)","v":"260"},0.01]
["DIY and gardening products EPR",3,"21100680210",null,"DIY products","Hand tools and their accessories","Glass >90%","≥0.5 kg and <1 kg","€ / unit",0.01,0.01,{"$f":"_xlfn.XLOOKUP(K454,'Codes éco-part'!$C$6:$C$923,'Codes éco-part'!$B$6:$B$923)","v":"260"},0.01]
["DIY and gardening products EPR",3,"21100680211","Modulated","DIY products","Hand tools and their accessories","Glass >90%","≥0.5 kg and <1 kg","€ / unit",0.01,0.01,{"$f":"_xlfn.XLOOKUP(K455,'Codes éco-part'!$C$6:$C$923,'Codes éco-part'!$B$6:$B$923)","v":"260"},0.01]
["DIY and gardening products EPR",3,"21100680220",null,"DIY products","Hand tools and their accessories","Glass >90%","≥1 kg and <2 kg","€ / unit",0.01,0.01,{"$f":"_xlfn.XLOOKUP(K456,'Codes éco-part'!$C$6:$C$923,'Codes éco-part'!$B$6:$B$923)","v":"260"},0.01]
["DIY and gardening products EPR",3,"21100680221","Modulated","DIY products","Hand tools and their accessories","Glass >90%","≥1 kg and <2 kg","€ / unit",0.01,0.01,{"$f":"_xlfn.XLOOKUP(K457,'Codes éco-part'!$C$6:$C$923,'Codes éco-part'!$B$6:$B$923)","v":"260"},0.01]
["DIY and gardening products EPR",3,"21100680520",null,"DIY products","Hand tools and their accessories","Glass >90%","≥2 kg and <3 kg","€ / unit",0.02,0.02,{"$f":"_xlfn.XLOOKUP(K458,'Codes éco-part'!$C$6:$C$923,'Codes éco-part'!$B$6:$B$923)","v":"047"},0.02]
["DIY and gardening products EPR",3,"21100680521","Modulated","DIY products","Hand tools and their accessories","Glass >90%","≥2 kg and <3 kg","€ / unit",0.02,0.02,{"$f":"_xlfn.XLOOKUP(K459,'Codes éco-part'!$C$6:$C$923,'Codes éco-part'!$B$6:$B$923)","v":"047"},0.02]
["DIY and gardening products EPR",3,"21100680530",null,"DIY products","Hand tools and their accessories","Glass >90%","≥3 kg and <5 kg","€ / unit",0.04,0.04,{"$f":"_xlfn.XLOOKUP(K460,'Codes éco-part'!$C$6:$C$923,'Codes éco-part'!$B$6:$B$923)","v":"002"},0.05]
["DIY and gardening products EPR",3,"21100680531","Modulated","DIY products","Hand tools and their accessories","Glass >90%","≥3 kg and <5 kg","€ / unit",0.04,0.04,{"$f":"_xlfn.XLOOKUP(K461,'Codes éco-part'!$C$6:$C$923,'Codes éco-part'!$B$6:$B$923)","v":"002"},0.05]
["DIY and gardening products EPR",3,"21100680540",null,"DIY products","Hand tools and their accessories","Glass >90%","≥5 kg and <7 kg","€ / unit",0.06,0.06,{"$f":"_xlfn.XLOOKUP(K462,'Codes éco-part'!$C$6:$C$923,'Codes éco-part'!$B$6:$B$923)","v":"096"},7.0000000000000007E-2]
["DIY and gardening products EPR",3,"21100680541","Modulated","DIY products","Hand tools and their accessories","Glass >90%","≥5 kg and <7 kg","€ / unit",0.05,0.05,{"$f":"_xlfn.XLOOKUP(K463,'Codes éco-part'!$C$6:$C$923,'Codes éco-part'!$B$6:$B$923)","v":"048"},0.06]
["DIY and gardening products EPR",3,"21100700000",null,"DIY products","Hand tools and their accessories","Assembly of glass >50% and metal","Elements of all sizes and weights","€ / ton",322,322,{"$f":"_xlfn.XLOOKUP(K464,'Codes éco-part'!$C$6:$C$923,'Codes éco-part'!$B$6:$B$923)","v":"607"},386.4]
["DIY and gardening products EPR",3,"21100700001","Modulated","DIY products","Hand tools and their accessories","Assembly of glass >50% and metal","Elements of all sizes and weights","€ / ton",289.8,289.8,{"$f":"_xlfn.XLOOKUP(K465,'Codes éco-part'!$C$6:$C$923,'Codes éco-part'!$B$6:$B$923)","v":936},347.76]
["DIY and gardening products EPR",3,"21100700200",null,"DIY products","Hand tools and their accessories","Assembly of glass >50% and metal","Strictly <0.5 kg","€ / unit",0.08,0.08,{"$f":"_xlfn.XLOOKUP(K466,'Codes éco-part'!$C$6:$C$923,'Codes éco-part'!$B$6:$B$923)","v":"003"},0.1]
["DIY and gardening products EPR",3,"21100700201","Modulated","DIY products","Hand tools and their accessories","Assembly of glass >50% and metal","Strictly <0.5 kg","€ / unit",7.0000000000000007E-2,7.0000000000000007E-2,{"$f":"_xlfn.XLOOKUP(K467,'Codes éco-part'!$C$6:$C$923,'Codes éco-part'!$B$6:$B$923)","v":"247"},0.08]
["DIY and gardening products EPR",3,"21100700210",null,"DIY products","Hand tools and their accessories","Assembly of glass >50% and metal","≥0.5 kg and <1 kg","€ / unit",0.24,0.24,{"$f":"_xlfn.XLOOKUP(K468,'Codes éco-part'!$C$6:$C$923,'Codes éco-part'!$B$6:$B$923)","v":"248"},0.28999999999999998]
["DIY and gardening products EPR",3,"21100700211","Modulated","DIY products","Hand tools and their accessories","Assembly of glass >50% and metal","≥0.5 kg and <1 kg","€ / unit",0.22,0.22,{"$f":"_xlfn.XLOOKUP(K469,'Codes éco-part'!$C$6:$C$923,'Codes éco-part'!$B$6:$B$923)","v":"263"},0.26]
["DIY and gardening products EPR",3,"21100700220",null,"DIY products","Hand tools and their accessories","Assembly of glass >50% and metal","≥1 kg and <2 kg","€ / unit",0.48,0.48,{"$f":"_xlfn.XLOOKUP(K470,'Codes éco-part'!$C$6:$C$923,'Codes éco-part'!$B$6:$B$923)","v":"606"},0.57999999999999996]
["DIY and gardening products EPR",3,"21100700221","Modulated","DIY products","Hand tools and their accessories","Assembly of glass >50% and metal","≥1 kg and <2 kg","€ / unit",0.43,0.43,{"$f":"_xlfn.XLOOKUP(K471,'Codes éco-part'!$C$6:$C$923,'Codes éco-part'!$B$6:$B$923)","v":"506"},0.52]
["DIY and gardening products EPR",3,"21100700520",null,"DIY products","Hand tools and their accessories","Assembly of glass >50% and metal","≥2 kg and <3 kg","€ / unit",0.81,0.81,{"$f":"_xlfn.XLOOKUP(K472,'Codes éco-part'!$C$6:$C$923,'Codes éco-part'!$B$6:$B$923)","v":"112"},0.97]
["DIY and gardening products EPR",3,"21100700521","Modulated","DIY products","Hand tools and their accessories","Assembly of glass >50% and metal","≥2 kg and <3 kg","€ / unit",0.73,0.73,{"$f":"_xlfn.XLOOKUP(K473,'Codes éco-part'!$C$6:$C$923,'Codes éco-part'!$B$6:$B$923)","v":"255"},0.88]
["DIY and gardening products EPR",3,"21100700530",null,"DIY products","Hand tools and their accessories","Assembly of glass >50% and metal","≥3 kg and <5 kg","€ / unit",1.29,1.29,{"$f":"_xlfn.XLOOKUP(K474,'Codes éco-part'!$C$6:$C$923,'Codes éco-part'!$B$6:$B$923)","v":"608"},1.55]
["DIY and gardening products EPR",3,"21100700531","Modulated","DIY products","Hand tools and their accessories","Assembly of glass >50% and metal","≥3 kg and <5 kg","€ / unit",1.1599999999999999,1.1599999999999999,{"$f":"_xlfn.XLOOKUP(K475,'Codes éco-part'!$C$6:$C$923,'Codes éco-part'!$B$6:$B$923)","v":"504"},1.39]
["DIY and gardening products EPR",3,"21100700540",null,"DIY products","Hand tools and their accessories","Assembly of glass >50% and metal","≥5 kg and <7 kg","€ / unit",2.25,2.25,{"$f":"_xlfn.XLOOKUP(K476,'Codes éco-part'!$C$6:$C$923,'Codes éco-part'!$B$6:$B$923)","v":"118"},2.7]
["DIY and gardening products EPR",3,"21100700541","Modulated","DIY products","Hand tools and their accessories","Assembly of glass >50% and metal","≥5 kg and <7 kg","€ / unit",2.0299999999999998,2.0299999999999998,{"$f":"_xlfn.XLOOKUP(K477,'Codes éco-part'!$C$6:$C$923,'Codes éco-part'!$B$6:$B$923)","v":937},2.44]
["DIY and gardening products EPR",3,"21100710000",null,"DIY products","Hand tools and their accessories","Assembly of glass >50% and inert substances","Elements of all sizes and weights","€ / ton",322,322,{"$f":"_xlfn.XLOOKUP(K478,'Codes éco-part'!$C$6:$C$923,'Codes éco-part'!$B$6:$B$923)","v":"607"},386.4]
["DIY and gardening products EPR",3,"21100710001","Modulated","DIY products","Hand tools and their accessories","Assembly of glass >50% and inert substances","Elements of all sizes and weights","€ / ton",289.8,289.8,{"$f":"_xlfn.XLOOKUP(K479,'Codes éco-part'!$C$6:$C$923,'Codes éco-part'!$B$6:$B$923)","v":936},347.76]
["DIY and gardening products EPR",3,"21100710200",null,"DIY products","Hand tools and their accessories","Assembly of glass >50% and inert substances","Strictly <0.5 kg","€ / unit",0.08,0.08,{"$f":"_xlfn.XLOOKUP(K480,'Codes éco-part'!$C$6:$C$923,'Codes éco-part'!$B$6:$B$923)","v":"003"},0.1]
["DIY and gardening products EPR",3,"21100710201","Modulated","DIY products","Hand tools and their accessories","Assembly of glass >50% and inert substances","Strictly <0.5 kg","€ / unit",7.0000000000000007E-2,7.0000000000000007E-2,{"$f":"_xlfn.XLOOKUP(K481,'Codes éco-part'!$C$6:$C$923,'Codes éco-part'!$B$6:$B$923)","v":"247"},0.08]
["DIY and gardening products EPR",3,"21100710210",null,"DIY products","Hand tools and their accessories","Assembly of glass >50% and inert substances","≥0.5 kg and <1 kg","€ / unit",0.24,0.24,{"$f":"_xlfn.XLOOKUP(K482,'Codes éco-part'!$C$6:$C$923,'Codes éco-part'!$B$6:$B$923)","v":"248"},0.28999999999999998]
["DIY and gardening products EPR",3,"21100710211","Modulated","DIY products","Hand tools and their accessories","Assembly of glass >50% and inert substances","≥0.5 kg and <1 kg","€ / unit",0.22,0.22,{"$f":"_xlfn.XLOOKUP(K483,'Codes éco-part'!$C$6:$C$923,'Codes éco-part'!$B$6:$B$923)","v":"263"},0.26]
["DIY and gardening products EPR",3,"21100710220",null,"DIY products","Hand tools and their accessories","Assembly of glass >50% and inert substances","≥1 kg and <2 kg","€ / unit",0.48,0.48,{"$f":"_xlfn.XLOOKUP(K484,'Codes éco-part'!$C$6:$C$923,'Codes éco-part'!$B$6:$B$923)","v":"606"},0.57999999999999996]
["DIY and gardening products EPR",3,"21100710221","Modulated","DIY products","Hand tools and their accessories","Assembly of glass >50% and inert substances","≥1 kg and <2 kg","€ / unit",0.43,0.43,{"$f":"_xlfn.XLOOKUP(K485,'Codes éco-part'!$C$6:$C$923,'Codes éco-part'!$B$6:$B$923)","v":"506"},0.52]
["DIY and gardening products EPR",3,"21100710520",null,"DIY products","Hand tools and their accessories","Assembly of glass >50% and inert substances","≥2 kg and <3 kg","€ / unit",0.81,0.81,{"$f":"_xlfn.XLOOKUP(K486,'Codes éco-part'!$C$6:$C$923,'Codes éco-part'!$B$6:$B$923)","v":"112"},0.97]
["DIY and gardening products EPR",3,"21100710521","Modulated","DIY products","Hand tools and their accessories","Assembly of glass >50% and inert substances","≥2 kg and <3 kg","€ / unit",0.73,0.73,{"$f":"_xlfn.XLOOKUP(K487,'Codes éco-part'!$C$6:$C$923,'Codes éco-part'!$B$6:$B$923)","v":"255"},0.88]
["DIY and gardening products EPR",3,"21100710530",null,"DIY products","Hand tools and their accessories","Assembly of glass >50% and inert substances","≥3 kg and <5 kg","€ / unit",1.29,1.29,{"$f":"_xlfn.XLOOKUP(K488,'Codes éco-part'!$C$6:$C$923,'Codes éco-part'!$B$6:$B$923)","v":"608"},1.55]
["DIY and gardening products EPR",3,"21100710531","Modulated","DIY products","Hand tools and their accessories","Assembly of glass >50% and inert substances","≥3 kg and <5 kg","€ / unit",1.1599999999999999,1.1599999999999999,{"$f":"_xlfn.XLOOKUP(K489,'Codes éco-part'!$C$6:$C$923,'Codes éco-part'!$B$6:$B$923)","v":"504"},1.39]
["DIY and gardening products EPR",3,"21100710540",null,"DIY products","Hand tools and their accessories","Assembly of glass >50% and inert substances","≥5 kg and <7 kg","€ / unit",2.25,2.25,{"$f":"_xlfn.XLOOKUP(K490,'Codes éco-part'!$C$6:$C$923,'Codes éco-part'!$B$6:$B$923)","v":"118"},2.7]
["DIY and gardening products EPR",3,"21100710541","Modulated","DIY products","Hand tools and their accessories","Assembly of glass >50% and inert substances","≥5 kg and <7 kg","€ / unit",2.0299999999999998,2.0299999999999998,{"$f":"_xlfn.XLOOKUP(K491,'Codes éco-part'!$C$6:$C$923,'Codes éco-part'!$B$6:$B$923)","v":937},2.44]
["DIY and gardening products EPR",3,"21100720000",null,"DIY products","Hand tools and their accessories","Assembly of glass >50% and wood or wood derivatives","Elements of all sizes and weights","€ / ton",322,322,{"$f":"_xlfn.XLOOKUP(K492,'Codes éco-part'!$C$6:$C$923,'Codes éco-part'!$B$6:$B$923)","v":"607"},386.4]
["DIY and gardening products EPR",3,"21100720001","Modulated","DIY products","Hand tools and their accessories","Assembly of glass >50% and wood or wood derivatives","Elements of all sizes and weights","€ / ton",289.8,289.8,{"$f":"_xlfn.XLOOKUP(K493,'Codes éco-part'!$C$6:$C$923,'Codes éco-part'!$B$6:$B$923)","v":936},347.76]
["DIY and gardening products EPR",3,"21100720200",null,"DIY products","Hand tools and their accessories","Assembly of glass >50% and wood or wood derivatives","Strictly <0.5 kg","€ / unit",0.08,0.08,{"$f":"_xlfn.XLOOKUP(K494,'Codes éco-part'!$C$6:$C$923,'Codes éco-part'!$B$6:$B$923)","v":"003"},0.1]
["DIY and gardening products EPR",3,"21100720201","Modulated","DIY products","Hand tools and their accessories","Assembly of glass >50% and wood or wood derivatives","Strictly <0.5 kg","€ / unit",7.0000000000000007E-2,7.0000000000000007E-2,{"$f":"_xlfn.XLOOKUP(K495,'Codes éco-part'!$C$6:$C$923,'Codes éco-part'!$B$6:$B$923)","v":"247"},0.08]
["DIY and gardening products EPR",3,"21100720210",null,"DIY products","Hand tools and their accessories","Assembly of glass >50% and wood or wood derivatives","≥0.5 kg and <1 kg","€ / unit",0.24,0.24,{"$f":"_xlfn.XLOOKUP(K496,'Codes éco-part'!$C$6:$C$923,'Codes éco-part'!$B$6:$B$923)","v":"248"},0.28999999999999998]
["DIY and gardening products EPR",3,"21100720211","Modulated","DIY products","Hand tools and their accessories","Assembly of glass >50% and wood or wood derivatives","≥0.5 kg and <1 kg","€ / unit",0.22,0.22,{"$f":"_xlfn.XLOOKUP(K497,'Codes éco-part'!$C$6:$C$923,'Codes éco-part'!$B$6:$B$923)","v":"263"},0.26]
["DIY and gardening products EPR",3,"21100720220",null,"DIY products","Hand tools and their accessories","Assembly of glass >50% and wood or wood derivatives","≥1 kg and <2 kg","€ / unit",0.48,0.48,{"$f":"_xlfn.XLOOKUP(K498,'Codes éco-part'!$C$6:$C$923,'Codes éco-part'!$B$6:$B$923)","v":"606"},0.57999999999999996]
["DIY and gardening products EPR",3,"21100720221","Modulated","DIY products","Hand tools and their accessories","Assembly of glass >50% and wood or wood derivatives","≥1 kg and <2 kg","€ / unit",0.43,0.43,{"$f":"_xlfn.XLOOKUP(K499,'Codes éco-part'!$C$6:$C$923,'Codes éco-part'!$B$6:$B$923)","v":"506"},0.52]
["DIY and gardening products EPR",3,"21100720520",null,"DIY products","Hand tools and their accessories","Assembly of glass >50% and wood or wood derivatives","≥2 kg and <3 kg","€ / unit",0.81,0.81,{"$f":"_xlfn.XLOOKUP(K500,'Codes éco-part'!$C$6:$C$923,'Codes éco-part'!$B$6:$B$923)","v":"112"},0.97]
["DIY and gardening products EPR",3,"21100720521","Modulated","DIY products","Hand tools and their accessories","Assembly of glass >50% and wood or wood derivatives","≥2 kg and <3 kg","€ / unit",0.73,0.73,{"$f":"_xlfn.XLOOKUP(K501,'Codes éco-part'!$C$6:$C$923,'Codes éco-part'!$B$6:$B$923)","v":"255"},0.88]
["DIY and gardening products EPR",3,"21100720530",null,"DIY products","Hand tools and their accessories","Assembly of glass >50% and wood or wood derivatives","≥3 kg and <5 kg","€ / unit",1.29,1.29,{"$f":"_xlfn.XLOOKUP(K502,'Codes éco-part'!$C$6:$C$923,'Codes éco-part'!$B$6:$B$923)","v":"608"},1.55]
["DIY and gardening products EPR",3,"21100720531","Modulated","DIY products","Hand tools and their accessories","Assembly of glass >50% and wood or wood derivatives","≥3 kg and <5 kg","€ / unit",1.1599999999999999,1.1599999999999999,{"$f":"_xlfn.XLOOKUP(K503,'Codes éco-part'!$C$6:$C$923,'Codes éco-part'!$B$6:$B$923)","v":"504"},1.39]
["DIY and gardening products EPR",3,"21100720540",null,"DIY products","Hand tools and their accessories","Assembly of glass >50% and wood or wood derivatives","≥5 kg and <7 kg","€ / unit",2.25,2.25,{"$f":"_xlfn.XLOOKUP(K504,'Codes éco-part'!$C$6:$C$923,'Codes éco-part'!$B$6:$B$923)","v":"118"},2.7]
["DIY and gardening products EPR",3,"21100720541","Modulated","DIY products","Hand tools and their accessories","Assembly of glass >50% and wood or wood derivatives","≥5 kg and <7 kg","€ / unit",2.0299999999999998,2.0299999999999998,{"$f":"_xlfn.XLOOKUP(K505,'Codes éco-part'!$C$6:$C$923,'Codes éco-part'!$B$6:$B$923)","v":937},2.44]
["DIY and gardening products EPR",3,"21100730000",null,"DIY products","Hand tools and their accessories","Assembly of glass >50% and plastic","Elements of all sizes and weights","€ / ton",322,322,{"$f":"_xlfn.XLOOKUP(K506,'Codes éco-part'!$C$6:$C$923,'Codes éco-part'!$B$6:$B$923)","v":"607"},386.4]
["DIY and gardening products EPR",3,"21100730001","Modulated","DIY products","Hand tools and their accessories","Assembly of glass >50% and plastic","Elements of all sizes and weights","€ / ton",289.8,289.8,{"$f":"_xlfn.XLOOKUP(K507,'Codes éco-part'!$C$6:$C$923,'Codes éco-part'!$B$6:$B$923)","v":936},347.76]
["DIY and gardening products EPR",3,"21100730200",null,"DIY products","Hand tools and their accessories","Assembly of glass >50% and plastic","Strictly <0.5 kg","€ / unit",0.08,0.08,{"$f":"_xlfn.XLOOKUP(K508,'Codes éco-part'!$C$6:$C$923,'Codes éco-part'!$B$6:$B$923)","v":"003"},0.1]
["DIY and gardening products EPR",3,"21100730201","Modulated","DIY products","Hand tools and their accessories","Assembly of glass >50% and plastic","Strictly <0.5 kg","€ / unit",7.0000000000000007E-2,7.0000000000000007E-2,{"$f":"_xlfn.XLOOKUP(K509,'Codes éco-part'!$C$6:$C$923,'Codes éco-part'!$B$6:$B$923)","v":"247"},0.08]
["DIY and gardening products EPR",3,"21100730210",null,"DIY products","Hand tools and their accessories","Assembly of glass >50% and plastic","≥0.5 kg and <1 kg","€ / unit",0.24,0.24,{"$f":"_xlfn.XLOOKUP(K510,'Codes éco-part'!$C$6:$C$923,'Codes éco-part'!$B$6:$B$923)","v":"248"},0.28999999999999998]
["DIY and gardening products EPR",3,"21100730211","Modulated","DIY products","Hand tools and their accessories","Assembly of glass >50% and plastic","≥0.5 kg and <1 kg","€ / unit",0.22,0.22,{"$f":"_xlfn.XLOOKUP(K511,'Codes éco-part'!$C$6:$C$923,'Codes éco-part'!$B$6:$B$923)","v":"263"},0.26]
["DIY and gardening products EPR",3,"21100730220",null,"DIY products","Hand tools and their accessories","Assembly of glass >50% and plastic","≥1 kg and <2 kg","€ / unit",0.48,0.48,{"$f":"_xlfn.XLOOKUP(K512,'Codes éco-part'!$C$6:$C$923,'Codes éco-part'!$B$6:$B$923)","v":"606"},0.57999999999999996]
["DIY and gardening products EPR",3,"21100730221","Modulated","DIY products","Hand tools and their accessories","Assembly of glass >50% and plastic","≥1 kg and <2 kg","€ / unit",0.43,0.43,{"$f":"_xlfn.XLOOKUP(K513,'Codes éco-part'!$C$6:$C$923,'Codes éco-part'!$B$6:$B$923)","v":"506"},0.52]
["DIY and gardening products EPR",3,"21100730520",null,"DIY products","Hand tools and their accessories","Assembly of glass >50% and plastic","≥2 kg and <3 kg","€ / unit",0.81,0.81,{"$f":"_xlfn.XLOOKUP(K514,'Codes éco-part'!$C$6:$C$923,'Codes éco-part'!$B$6:$B$923)","v":"112"},{"$f":"ROUND(K514*1.2,2)","v":0.97}]
["DIY and gardening products EPR",3,"21100730521","Modulated","DIY products","Hand tools and their accessories","Assembly of glass >50% and plastic","≥2 kg and <3 kg","€ / unit",0.73,0.73,{"$f":"_xlfn.XLOOKUP(K515,'Codes éco-part'!$C$6:$C$923,'Codes éco-part'!$B$6:$B$923)","v":"255"},0.88]
["DIY and gardening products EPR",3,"21100730530",null,"DIY products","Hand tools and their accessories","Assembly of glass >50% and plastic","≥3 kg and <5 kg","€ / unit",1.29,1.29,{"$f":"_xlfn.XLOOKUP(K516,'Codes éco-part'!$C$6:$C$923,'Codes éco-part'!$B$6:$B$923)","v":"608"},1.55]
["DIY and gardening products EPR",3,"21100730531","Modulated","DIY products","Hand tools and their accessories","Assembly of glass >50% and plastic","≥3 kg and <5 kg","€ / unit",1.1599999999999999,1.1599999999999999,{"$f":"_xlfn.XLOOKUP(K517,'Codes éco-part'!$C$6:$C$923,'Codes éco-part'!$B$6:$B$923)","v":"504"},1.39]
["DIY and gardening products EPR",3,"21100730540",null,"DIY products","Hand tools and their accessories","Assembly of glass >50% and plastic","≥5 kg and <7 kg","€ / unit",2.25,2.25,{"$f":"_xlfn.XLOOKUP(K518,'Codes éco-part'!$C$6:$C$923,'Codes éco-part'!$B$6:$B$923)","v":"118"},2.7]
["DIY and gardening products EPR",3,"21100730541","Modulated","DIY products","Hand tools and their accessories","Assembly of glass >50% and plastic","≥5 kg and <7 kg","€ / unit",2.0299999999999998,2.0299999999999998,{"$f":"_xlfn.XLOOKUP(K519,'Codes éco-part'!$C$6:$C$923,'Codes éco-part'!$B$6:$B$923)","v":937},2.44]
["DIY and gardening products EPR",3,"21100810000",null,"DIY products","Hand tools and their accessories","Assembly of wood, wood derivatives, and metal with a combination representing >90%","Elements of all sizes and weights","€ / ton",55,55,{"$f":"_xlfn.XLOOKUP(K520,'Codes éco-part'!$C$6:$C$923,'Codes éco-part'!$B$6:$B$923)","v":"490"},66]
["DIY and gardening products EPR",3,"21100810001","Modulated","DIY products","Hand tools and their accessories","Assembly of wood, wood derivatives, and metal with a combination representing >90%","Elements of all sizes and weights","€ / ton",49.5,49.5,{"$f":"_xlfn.XLOOKUP(K521,'Codes éco-part'!$C$6:$C$923,'Codes éco-part'!$B$6:$B$923)","v":938},59.4]
["DIY and gardening products EPR",3,"21100810200",null,"DIY products","Hand tools and their accessories","Assembly of wood, wood derivatives, and metal with a combination representing >90%","Strictly <0.5 kg","€ / unit",0.01,0.01,{"$f":"_xlfn.XLOOKUP(K522,'Codes éco-part'!$C$6:$C$923,'Codes éco-part'!$B$6:$B$923)","v":"260"},0.01]
["DIY and gardening products EPR",3,"21100810201","Modulated","DIY products","Hand tools and their accessories","Assembly of wood, wood derivatives, and metal with a combination representing >90%","Strictly <0.5 kg","€ / unit",0.01,0.01,{"$f":"_xlfn.XLOOKUP(K523,'Codes éco-part'!$C$6:$C$923,'Codes éco-part'!$B$6:$B$923)","v":"260"},0.01]
["DIY and gardening products EPR",3,"21100810210",null,"DIY products","Hand tools and their accessories","Assembly of wood, wood derivatives, and metal with a combination representing >90%","≥0.5 kg and <1 kg","€ / unit",0.04,0.04,{"$f":"_xlfn.XLOOKUP(K524,'Codes éco-part'!$C$6:$C$923,'Codes éco-part'!$B$6:$B$923)","v":"002"},0.05]
["DIY and gardening products EPR",3,"21100810211","Modulated","DIY products","Hand tools and their accessories","Assembly of wood, wood derivatives, and metal with a combination representing >90%","≥0.5 kg and <1 kg","€ / unit",0.04,0.04,{"$f":"_xlfn.XLOOKUP(K525,'Codes éco-part'!$C$6:$C$923,'Codes éco-part'!$B$6:$B$923)","v":"002"},0.05]
["DIY and gardening products EPR",3,"21100810220",null,"DIY products","Hand tools and their accessories","Assembly of wood, wood derivatives, and metal with a combination representing >90%","≥1 kg and <2 kg","€ / unit",0.08,0.08,{"$f":"_xlfn.XLOOKUP(K526,'Codes éco-part'!$C$6:$C$923,'Codes éco-part'!$B$6:$B$923)","v":"003"},0.1]
["DIY and gardening products EPR",3,"21100810221","Modulated","DIY products","Hand tools and their accessories","Assembly of wood, wood derivatives, and metal with a combination representing >90%","≥1 kg and <2 kg","€ / unit",7.0000000000000007E-2,7.0000000000000007E-2,{"$f":"_xlfn.XLOOKUP(K527,'Codes éco-part'!$C$6:$C$923,'Codes éco-part'!$B$6:$B$923)","v":"247"},0.08]
["DIY and gardening products EPR",3,"21100810520",null,"DIY products","Hand tools and their accessories","Assembly of wood, wood derivatives, and metal with a combination representing >90%","≥2 kg and <3 kg","€ / unit",0.14000000000000001,0.14000000000000001,{"$f":"_xlfn.XLOOKUP(K528,'Codes éco-part'!$C$6:$C$923,'Codes éco-part'!$B$6:$B$923)","v":"098"},0.17]
["DIY and gardening products EPR",3,"21100810521","Modulated","DIY products","Hand tools and their accessories","Assembly of wood, wood derivatives, and metal with a combination representing >90%","≥2 kg and <3 kg","€ / unit",0.13,0.13,{"$f":"_xlfn.XLOOKUP(K529,'Codes éco-part'!$C$6:$C$923,'Codes éco-part'!$B$6:$B$923)","v":"004"},0.16]
["DIY and gardening products EPR",3,"21100810530",null,"DIY products","Hand tools and their accessories","Assembly of wood, wood derivatives, and metal with a combination representing >90%","≥3 kg and <5 kg","€ / unit",0.22,0.22,{"$f":"_xlfn.XLOOKUP(K530,'Codes éco-part'!$C$6:$C$923,'Codes éco-part'!$B$6:$B$923)","v":"263"},0.26]
["DIY and gardening products EPR",3,"21100810531","Modulated","DIY products","Hand tools and their accessories","Assembly of wood, wood derivatives, and metal with a combination representing >90%","≥3 kg and <5 kg","€ / unit",0.2,0.2,{"$f":"_xlfn.XLOOKUP(K531,'Codes éco-part'!$C$6:$C$923,'Codes éco-part'!$B$6:$B$923)","v":"101"},0.24]
["DIY and gardening products EPR",3,"21100810540",null,"DIY products","Hand tools and their accessories","Assembly of wood, wood derivatives, and metal with a combination representing >90%","≥5 kg and <7 kg","€ / unit",0.39,0.39,{"$f":"_xlfn.XLOOKUP(K532,'Codes éco-part'!$C$6:$C$923,'Codes éco-part'!$B$6:$B$923)","v":"253"},0.47]
["DIY and gardening products EPR",3,"21100810541","Modulated","DIY products","Hand tools and their accessories","Assembly of wood, wood derivatives, and metal with a combination representing >90%","≥5 kg and <7 kg","€ / unit",0.35,0.35,{"$f":"_xlfn.XLOOKUP(K533,'Codes éco-part'!$C$6:$C$923,'Codes éco-part'!$B$6:$B$923)","v":"448"},0.42]
["DIY and gardening products EPR",3,"21100820000",null,"DIY products","Hand tools and their accessories","Assembly of 3 or more materials, with no material representing >50%","Elements of all sizes and weights","€ / ton",322,322,{"$f":"_xlfn.XLOOKUP(K534,'Codes éco-part'!$C$6:$C$923,'Codes éco-part'!$B$6:$B$923)","v":"607"},386.4]
["DIY and gardening products EPR",3,"21100820001","Modulated","DIY products","Hand tools and their accessories","Assembly of 3 or more materials, with no material representing >50%","Elements of all sizes and weights","€ / ton",289.8,289.8,{"$f":"_xlfn.XLOOKUP(K535,'Codes éco-part'!$C$6:$C$923,'Codes éco-part'!$B$6:$B$923)","v":936},347.76]
["DIY and gardening products EPR",3,"21100820200",null,"DIY products","Hand tools and their accessories","Assembly of 3 or more materials, with no material representing >50%","Strictly <0.5 kg","€ / unit",0.08,0.08,{"$f":"_xlfn.XLOOKUP(K536,'Codes éco-part'!$C$6:$C$923,'Codes éco-part'!$B$6:$B$923)","v":"003"},0.1]
["DIY and gardening products EPR",3,"21100820201","Modulated","DIY products","Hand tools and their accessories","Assembly of 3 or more materials, with no material representing >50%","Strictly <0.5 kg","€ / unit",7.0000000000000007E-2,7.0000000000000007E-2,{"$f":"_xlfn.XLOOKUP(K537,'Codes éco-part'!$C$6:$C$923,'Codes éco-part'!$B$6:$B$923)","v":"247"},0.08]
["DIY and gardening products EPR",3,"21100820210",null,"DIY products","Hand tools and their accessories","Assembly of 3 or more materials, with no material representing >50%","≥0.5 kg and <1 kg","€ / unit",0.24,0.24,{"$f":"_xlfn.XLOOKUP(K538,'Codes éco-part'!$C$6:$C$923,'Codes éco-part'!$B$6:$B$923)","v":"248"},0.28999999999999998]
["DIY and gardening products EPR",3,"21100820211","Modulated","DIY products","Hand tools and their accessories","Assembly of 3 or more materials, with no material representing >50%","≥0.5 kg and <1 kg","€ / unit",0.22,0.22,{"$f":"_xlfn.XLOOKUP(K539,'Codes éco-part'!$C$6:$C$923,'Codes éco-part'!$B$6:$B$923)","v":"263"},0.26]
["DIY and gardening products EPR",3,"21100820220",null,"DIY products","Hand tools and their accessories","Assembly of 3 or more materials, with no material representing >50%","≥1 kg and <2 kg","€ / unit",0.48,0.48,{"$f":"_xlfn.XLOOKUP(K540,'Codes éco-part'!$C$6:$C$923,'Codes éco-part'!$B$6:$B$923)","v":"606"},0.57999999999999996]
["DIY and gardening products EPR",3,"21100820221","Modulated","DIY products","Hand tools and their accessories","Assembly of 3 or more materials, with no material representing >50%","≥1 kg and <2 kg","€ / unit",0.43,0.43,{"$f":"_xlfn.XLOOKUP(K541,'Codes éco-part'!$C$6:$C$923,'Codes éco-part'!$B$6:$B$923)","v":"506"},0.52]
["DIY and gardening products EPR",3,"21100820520",null,"DIY products","Hand tools and their accessories","Assembly of 3 or more materials, with no material representing >50%","≥2 kg and <3 kg","€ / unit",0.81,0.81,{"$f":"_xlfn.XLOOKUP(K542,'Codes éco-part'!$C$6:$C$923,'Codes éco-part'!$B$6:$B$923)","v":"112"},0.97]
["DIY and gardening products EPR",3,"21100820521","Modulated","DIY products","Hand tools and their accessories","Assembly of 3 or more materials, with no material representing >50%","≥2 kg and <3 kg","€ / unit",0.73,0.73,{"$f":"_xlfn.XLOOKUP(K543,'Codes éco-part'!$C$6:$C$923,'Codes éco-part'!$B$6:$B$923)","v":"255"},0.88]
["DIY and gardening products EPR",3,"21100820530",null,"DIY products","Hand tools and their accessories","Assembly of 3 or more materials, with no material representing >50%","≥3 kg and <5 kg","€ / unit",1.29,1.29,{"$f":"_xlfn.XLOOKUP(K544,'Codes éco-part'!$C$6:$C$923,'Codes éco-part'!$B$6:$B$923)","v":"608"},1.55]
["DIY and gardening products EPR",3,"21100820531","Modulated","DIY products","Hand tools and their accessories","Assembly of 3 or more materials, with no material representing >50%","≥3 kg and <5 kg","€ / unit",1.1599999999999999,1.1599999999999999,{"$f":"_xlfn.XLOOKUP(K545,'Codes éco-part'!$C$6:$C$923,'Codes éco-part'!$B$6:$B$923)","v":"504"},1.39]
["DIY and gardening products EPR",3,"21100820540",null,"DIY products","Hand tools and their accessories","Assembly of 3 or more materials, with no material representing >50%","≥5 kg and <7 kg","€ / unit",2.25,2.25,{"$f":"_xlfn.XLOOKUP(K546,'Codes éco-part'!$C$6:$C$923,'Codes éco-part'!$B$6:$B$923)","v":"118"},2.7]
["DIY and gardening products EPR",3,"21100820541","Modulated","DIY products","Hand tools and their accessories","Assembly of 3 or more materials, with no material representing >50%","≥5 kg and <7 kg","€ / unit",2.0299999999999998,2.0299999999999998,{"$f":"_xlfn.XLOOKUP(K547,'Codes éco-part'!$C$6:$C$923,'Codes éco-part'!$B$6:$B$923)","v":937},2.44]
["DIY and gardening products EPR",3,"21101000000",null,"DIY products","Large non-electric, non-combustion items and machines, and their accessories","Unknown or unspecified by the company","Elements of all sizes and weights","€ / ton",90,90,{"$f":"_xlfn.XLOOKUP(K548,'Codes éco-part'!$C$6:$C$923,'Codes éco-part'!$B$6:$B$923)","v":"609"},108]
["DIY and gardening products EPR",3,"21101000001","Modulated","DIY products","Large non-electric, non-combustion items and machines, and their accessories","Unknown or unspecified by the company","Elements of all sizes and weights","€ / ton",81,81,{"$f":"_xlfn.XLOOKUP(K549,'Codes éco-part'!$C$6:$C$923,'Codes éco-part'!$B$6:$B$923)","v":943},97.2]
["DIY and gardening products EPR",3,"21101000200",null,"DIY products","Large non-electric, non-combustion items and machines, and their accessories","Unknown or unspecified by the company","Strictly <0.5 kg","€ / unit",0.02,0.02,{"$f":"_xlfn.XLOOKUP(K550,'Codes éco-part'!$C$6:$C$923,'Codes éco-part'!$B$6:$B$923)","v":"047"},0.02]
["DIY and gardening products EPR",3,"21101000201","Modulated","DIY products","Large non-electric, non-combustion items and machines, and their accessories","Unknown or unspecified by the company","Strictly <0.5 kg","€ / unit",0.02,0.02,{"$f":"_xlfn.XLOOKUP(K551,'Codes éco-part'!$C$6:$C$923,'Codes éco-part'!$B$6:$B$923)","v":"047"},0.02]
["DIY and gardening products EPR",3,"21101000210",null,"DIY products","Large non-electric, non-combustion items and machines, and their accessories","Unknown or unspecified by the company","≥0.5 kg and <1 kg","€ / unit",7.0000000000000007E-2,7.0000000000000007E-2,{"$f":"_xlfn.XLOOKUP(K552,'Codes éco-part'!$C$6:$C$923,'Codes éco-part'!$B$6:$B$923)","v":"247"},0.08]
["DIY and gardening products EPR",3,"21101000211","Modulated","DIY products","Large non-electric, non-combustion items and machines, and their accessories","Unknown or unspecified by the company","≥0.5 kg and <1 kg","€ / unit",0.06,0.06,{"$f":"_xlfn.XLOOKUP(K553,'Codes éco-part'!$C$6:$C$923,'Codes éco-part'!$B$6:$B$923)","v":"096"},7.0000000000000007E-2]
["DIY and gardening products EPR",3,"21101000220",null,"DIY products","Large non-electric, non-combustion items and machines, and their accessories","Unknown or unspecified by the company","≥1 kg and <2 kg","€ / unit",0.14000000000000001,0.14000000000000001,{"$f":"_xlfn.XLOOKUP(K554,'Codes éco-part'!$C$6:$C$923,'Codes éco-part'!$B$6:$B$923)","v":"098"},0.17]
["DIY and gardening products EPR",3,"21101000221","Modulated","DIY products","Large non-electric, non-combustion items and machines, and their accessories","Unknown or unspecified by the company","≥1 kg and <2 kg","€ / unit",0.13,0.13,{"$f":"_xlfn.XLOOKUP(K555,'Codes éco-part'!$C$6:$C$923,'Codes éco-part'!$B$6:$B$923)","v":"004"},0.16]
["DIY and gardening products EPR",3,"21101000270",null,"DIY products","Large non-electric, non-combustion items and machines, and their accessories","Unknown or unspecified by the company","≥30 kg and <40 kg","€ / unit",3.6,3.6,{"$f":"_xlfn.XLOOKUP(K556,'Codes éco-part'!$C$6:$C$923,'Codes éco-part'!$B$6:$B$923)","v":"610"},4.32]
["DIY and gardening products EPR",3,"21101000271","Modulated","DIY products","Large non-electric, non-combustion items and machines, and their accessories","Unknown or unspecified by the company","≥30 kg and <40 kg","€ / unit",3.24,3.24,{"$f":"_xlfn.XLOOKUP(K557,'Codes éco-part'!$C$6:$C$923,'Codes éco-part'!$B$6:$B$923)","v":944},3.89]
["DIY and gardening products EPR",3,"21101000520",null,"DIY products","Large non-electric, non-combustion items and machines, and their accessories","Unknown or unspecified by the company","≥2 kg and <3 kg","€ / unit",0.23,0.23,{"$f":"_xlfn.XLOOKUP(K558,'Codes éco-part'!$C$6:$C$923,'Codes éco-part'!$B$6:$B$923)","v":"323"},0.28000000000000003]
["DIY and gardening products EPR",3,"21101000521","Modulated","DIY products","Large non-electric, non-combustion items and machines, and their accessories","Unknown or unspecified by the company","≥2 kg and <3 kg","€ / unit",0.21,0.21,{"$f":"_xlfn.XLOOKUP(K559,'Codes éco-part'!$C$6:$C$923,'Codes éco-part'!$B$6:$B$923)","v":"051"},0.25]
["DIY and gardening products EPR",3,"21101000530",null,"DIY products","Large non-electric, non-combustion items and machines, and their accessories","Unknown or unspecified by the company","≥3 kg and <5 kg","€ / unit",0.36,0.36,{"$f":"_xlfn.XLOOKUP(K560,'Codes éco-part'!$C$6:$C$923,'Codes éco-part'!$B$6:$B$923)","v":"449"},0.43]
["DIY and gardening products EPR",3,"21101000531","Modulated","DIY products","Large non-electric, non-combustion items and machines, and their accessories","Unknown or unspecified by the company","≥3 kg and <5 kg","€ / unit",0.32,0.32,{"$f":"_xlfn.XLOOKUP(K561,'Codes éco-part'!$C$6:$C$923,'Codes éco-part'!$B$6:$B$923)","v":"447"},0.38]
["DIY and gardening products EPR",3,"21101000540",null,"DIY products","Large non-electric, non-combustion items and machines, and their accessories","Unknown or unspecified by the company","≥5 kg and <7 kg","€ / unit",0.63,0.63,{"$f":"_xlfn.XLOOKUP(K562,'Codes éco-part'!$C$6:$C$923,'Codes éco-part'!$B$6:$B$923)","v":"297"},0.76]
["DIY and gardening products EPR",3,"21101000541","Modulated","DIY products","Large non-electric, non-combustion items and machines, and their accessories","Unknown or unspecified by the company","≥5 kg and <7 kg","€ / unit",0.56999999999999995,0.56999999999999995,{"$f":"_xlfn.XLOOKUP(K563,'Codes éco-part'!$C$6:$C$923,'Codes éco-part'!$B$6:$B$923)","v":"326"},0.68]
["DIY and gardening products EPR",3,"21101000550",null,"DIY products","Large non-electric, non-combustion items and machines, and their accessories","Unknown or unspecified by the company","≥7 kg and <10 kg","€ / unit",0.9,0.9,{"$f":"_xlfn.XLOOKUP(K564,'Codes éco-part'!$C$6:$C$923,'Codes éco-part'!$B$6:$B$923)","v":"330"},1.08]
["DIY and gardening products EPR",3,"21101000551","Modulated","DIY products","Large non-electric, non-combustion items and machines, and their accessories","Unknown or unspecified by the company","≥7 kg and <10 kg","€ / unit",0.81,0.81,{"$f":"_xlfn.XLOOKUP(K565,'Codes éco-part'!$C$6:$C$923,'Codes éco-part'!$B$6:$B$923)","v":"112"},0.97]
["DIY and gardening products EPR",3,"21101000560",null,"DIY products","Large non-electric, non-combustion items and machines, and their accessories","Unknown or unspecified by the company","≥10 kg and <15 kg","€ / unit",1.35,1.35,{"$f":"_xlfn.XLOOKUP(K566,'Codes éco-part'!$C$6:$C$923,'Codes éco-part'!$B$6:$B$923)","v":"332"},1.62]
["DIY and gardening products EPR",3,"21101000561","Modulated","DIY products","Large non-electric, non-combustion items and machines, and their accessories","Unknown or unspecified by the company","≥10 kg and <15 kg","€ / unit",1.22,1.22,{"$f":"_xlfn.XLOOKUP(K567,'Codes éco-part'!$C$6:$C$923,'Codes éco-part'!$B$6:$B$923)","v":"636"},1.46]
["DIY and gardening products EPR",3,"21101000570",null,"DIY products","Large non-electric, non-combustion items and machines, and their accessories","Unknown or unspecified by the company","≥15 kg and <20 kg","€ / unit",1.8,1.8,{"$f":"_xlfn.XLOOKUP(K568,'Codes éco-part'!$C$6:$C$923,'Codes éco-part'!$B$6:$B$923)","v":"603"},2.16]
["DIY and gardening products EPR",3,"21101000571","Modulated","DIY products","Large non-electric, non-combustion items and machines, and their accessories","Unknown or unspecified by the company","≥15 kg and <20 kg","€ / unit",1.62,1.62,{"$f":"_xlfn.XLOOKUP(K569,'Codes éco-part'!$C$6:$C$923,'Codes éco-part'!$B$6:$B$923)","v":"810"},1.94]
["DIY and gardening products EPR",3,"21101000580",null,"DIY products","Large non-electric, non-combustion items and machines, and their accessories","Unknown or unspecified by the company","≥20 kg and <25 kg","€ / unit",2.25,2.25,{"$f":"_xlfn.XLOOKUP(K570,'Codes éco-part'!$C$6:$C$923,'Codes éco-part'!$B$6:$B$923)","v":"118"},2.7]
["DIY and gardening products EPR",3,"21101000581","Modulated","DIY products","Large non-electric, non-combustion items and machines, and their accessories","Unknown or unspecified by the company","≥20 kg and <25 kg","€ / unit",2.0299999999999998,2.0299999999999998,{"$f":"_xlfn.XLOOKUP(K571,'Codes éco-part'!$C$6:$C$923,'Codes éco-part'!$B$6:$B$923)","v":937},2.44]
["DIY and gardening products EPR",3,"21101000590",null,"DIY products","Large non-electric, non-combustion items and machines, and their accessories","Unknown or unspecified by the company","≥25 kg and <30 kg","€ / unit",2.7,2.7,{"$f":"_xlfn.XLOOKUP(K572,'Codes éco-part'!$C$6:$C$923,'Codes éco-part'!$B$6:$B$923)","v":"611"},3.24]
["DIY and gardening products EPR",3,"21101000591","Modulated","DIY products","Large non-electric, non-combustion items and machines, and their accessories","Unknown or unspecified by the company","≥25 kg and <30 kg","€ / unit",2.4300000000000002,2.4300000000000002,{"$f":"_xlfn.XLOOKUP(K573,'Codes éco-part'!$C$6:$C$923,'Codes éco-part'!$B$6:$B$923)","v":"471"},2.92]
["DIY and gardening products EPR",3,"21101000600",null,"DIY products","Large non-electric, non-combustion items and machines, and their accessories","Unknown or unspecified by the company","≥40 kg and <50 kg","€ / unit",4.5,4.5,{"$f":"_xlfn.XLOOKUP(K574,'Codes éco-part'!$C$6:$C$923,'Codes éco-part'!$B$6:$B$923)","v":"127"},5.4]
["DIY and gardening products EPR",3,"21101000601","Modulated","DIY products","Large non-electric, non-combustion items and machines, and their accessories","Unknown or unspecified by the company","≥40 kg and <50 kg","€ / unit",4.05,4.05,{"$f":"_xlfn.XLOOKUP(K575,'Codes éco-part'!$C$6:$C$923,'Codes éco-part'!$B$6:$B$923)","v":"884"},4.8600000000000003]
["DIY and gardening products EPR",3,"21101010000",null,"DIY products","Large non-electric, non-combustion items and machines, and their accessories","Assembly of wood and/or wood derivatives >50% and other materials or composite wood (excl. glass)","Elements of all sizes and weights","€ / ton",13,13,{"$f":"_xlfn.XLOOKUP(K576,'Codes éco-part'!$C$6:$C$923,'Codes éco-part'!$B$6:$B$923)","v":"486"},15.6]
["DIY and gardening products EPR",3,"21101010001","Modulated","DIY products","Large non-electric, non-combustion items and machines, and their accessories","Assembly of wood and/or wood derivatives >50% and other materials or composite wood (excl. glass)","Elements of all sizes and weights","€ / ton",11.7,11.7,{"$f":"_xlfn.XLOOKUP(K577,'Codes éco-part'!$C$6:$C$923,'Codes éco-part'!$B$6:$B$923)","v":945},14.04]
["DIY and gardening products EPR",3,"21101010200",null,"DIY products","Large non-electric, non-combustion items and machines, and their accessories","Assembly of wood and/or wood derivatives >50% and other materials or composite wood (excl. glass)","Strictly <0.5 kg","€ / unit",0.01,0.01,{"$f":"_xlfn.XLOOKUP(K578,'Codes éco-part'!$C$6:$C$923,'Codes éco-part'!$B$6:$B$923)","v":"260"},{"$f":"ROUND(K578*1.2,2)","v":0.01}]
["DIY and gardening products EPR",3,"21101010201","Modulated","DIY products","Large non-electric, non-combustion items and machines, and their accessories","Assembly of wood and/or wood derivatives >50% and other materials or composite wood (excl. glass)","Strictly <0.5 kg","€ / unit",0.01,0.01,{"$f":"_xlfn.XLOOKUP(K579,'Codes éco-part'!$C$6:$C$923,'Codes éco-part'!$B$6:$B$923)","v":"260"},0.01]
["DIY and gardening products EPR",3,"21101010210",null,"DIY products","Large non-electric, non-combustion items and machines, and their accessories","Assembly of wood and/or wood derivatives >50% and other materials or composite wood (excl. glass)","≥0.5 kg and <1 kg","€ / unit",0.01,0.01,{"$f":"_xlfn.XLOOKUP(K580,'Codes éco-part'!$C$6:$C$923,'Codes éco-part'!$B$6:$B$923)","v":"260"},0.01]
["DIY and gardening products EPR",3,"21101010211","Modulated","DIY products","Large non-electric, non-combustion items and machines, and their accessories","Assembly of wood and/or wood derivatives >50% and other materials or composite wood (excl. glass)","≥0.5 kg and <1 kg","€ / unit",0.01,0.01,{"$f":"_xlfn.XLOOKUP(K581,'Codes éco-part'!$C$6:$C$923,'Codes éco-part'!$B$6:$B$923)","v":"260"},0.01]
["DIY and gardening products EPR",3,"21101010220",null,"DIY products","Large non-electric, non-combustion items and machines, and their accessories","Assembly of wood and/or wood derivatives >50% and other materials or composite wood (excl. glass)","≥1 kg and <2 kg","€ / unit",0.02,0.02,{"$f":"_xlfn.XLOOKUP(K582,'Codes éco-part'!$C$6:$C$923,'Codes éco-part'!$B$6:$B$923)","v":"047"},0.02]
["DIY and gardening products EPR",3,"21101010221","Modulated","DIY products","Large non-electric, non-combustion items and machines, and their accessories","Assembly of wood and/or wood derivatives >50% and other materials or composite wood (excl. glass)","≥1 kg and <2 kg","€ / unit",0.02,0.02,{"$f":"_xlfn.XLOOKUP(K583,'Codes éco-part'!$C$6:$C$923,'Codes éco-part'!$B$6:$B$923)","v":"047"},0.02]
["DIY and gardening products EPR",3,"21101010270",null,"DIY products","Large non-electric, non-combustion items and machines, and their accessories","Assembly of wood and/or wood derivatives >50% and other materials or composite wood (excl. glass)","≥30 kg and <40 kg","€ / unit",0.52,0.52,{"$f":"_xlfn.XLOOKUP(K584,'Codes éco-part'!$C$6:$C$923,'Codes éco-part'!$B$6:$B$923)","v":"509"},0.62]
["DIY and gardening products EPR",3,"21101010271","Modulated","DIY products","Large non-electric, non-combustion items and machines, and their accessories","Assembly of wood and/or wood derivatives >50% and other materials or composite wood (excl. glass)","≥30 kg and <40 kg","€ / unit",0.47,0.47,{"$f":"_xlfn.XLOOKUP(K585,'Codes éco-part'!$C$6:$C$923,'Codes éco-part'!$B$6:$B$923)","v":"107"},0.56000000000000005]
["DIY and gardening products EPR",3,"21101010520",null,"DIY products","Large non-electric, non-combustion items and machines, and their accessories","Assembly of wood and/or wood derivatives >50% and other materials or composite wood (excl. glass)","≥2 kg and <3 kg","€ / unit",0.03,0.03,{"$f":"_xlfn.XLOOKUP(K586,'Codes éco-part'!$C$6:$C$923,'Codes éco-part'!$B$6:$B$923)","v":"092"},0.04]
["DIY and gardening products EPR",3,"21101010521","Modulated","DIY products","Large non-electric, non-combustion items and machines, and their accessories","Assembly of wood and/or wood derivatives >50% and other materials or composite wood (excl. glass)","≥2 kg and <3 kg","€ / unit",0.03,0.03,{"$f":"_xlfn.XLOOKUP(K587,'Codes éco-part'!$C$6:$C$923,'Codes éco-part'!$B$6:$B$923)","v":"092"},0.04]
["DIY and gardening products EPR",3,"21101010530",null,"DIY products","Large non-electric, non-combustion items and machines, and their accessories","Assembly of wood and/or wood derivatives >50% and other materials or composite wood (excl. glass)","≥3 kg and <5 kg","€ / unit",0.05,0.05,{"$f":"_xlfn.XLOOKUP(K588,'Codes éco-part'!$C$6:$C$923,'Codes éco-part'!$B$6:$B$923)","v":"048"},0.06]
["DIY and gardening products EPR",3,"21101010531","Modulated","DIY products","Large non-electric, non-combustion items and machines, and their accessories","Assembly of wood and/or wood derivatives >50% and other materials or composite wood (excl. glass)","≥3 kg and <5 kg","€ / unit",0.05,0.05,{"$f":"_xlfn.XLOOKUP(K589,'Codes éco-part'!$C$6:$C$923,'Codes éco-part'!$B$6:$B$923)","v":"048"},0.06]
["DIY and gardening products EPR",3,"21101010540",null,"DIY products","Large non-electric, non-combustion items and machines, and their accessories","Assembly of wood and/or wood derivatives >50% and other materials or composite wood (excl. glass)","≥5 kg and <7 kg","€ / unit",0.09,0.09,{"$f":"_xlfn.XLOOKUP(K590,'Codes éco-part'!$C$6:$C$923,'Codes éco-part'!$B$6:$B$923)","v":"049"},0.11]
["DIY and gardening products EPR",3,"21101010541","Modulated","DIY products","Large non-electric, non-combustion items and machines, and their accessories","Assembly of wood and/or wood derivatives >50% and other materials or composite wood (excl. glass)","≥5 kg and <7 kg","€ / unit",0.08,0.08,{"$f":"_xlfn.XLOOKUP(K591,'Codes éco-part'!$C$6:$C$923,'Codes éco-part'!$B$6:$B$923)","v":"003"},0.1]
["DIY and gardening products EPR",3,"21101010550",null,"DIY products","Large non-electric, non-combustion items and machines, and their accessories","Assembly of wood and/or wood derivatives >50% and other materials or composite wood (excl. glass)","≥7 kg and <10 kg","€ / unit",0.13,0.13,{"$f":"_xlfn.XLOOKUP(K592,'Codes éco-part'!$C$6:$C$923,'Codes éco-part'!$B$6:$B$923)","v":"004"},0.16]
["DIY and gardening products EPR",3,"21101010551","Modulated","DIY products","Large non-electric, non-combustion items and machines, and their accessories","Assembly of wood and/or wood derivatives >50% and other materials or composite wood (excl. glass)","≥7 kg and <10 kg","€ / unit",0.12,0.12,{"$f":"_xlfn.XLOOKUP(K593,'Codes éco-part'!$C$6:$C$923,'Codes éco-part'!$B$6:$B$923)","v":"097"},0.14000000000000001]
["DIY and gardening products EPR",3,"21101010560",null,"DIY products","Large non-electric, non-combustion items and machines, and their accessories","Assembly of wood and/or wood derivatives >50% and other materials or composite wood (excl. glass)","≥10 kg and <15 kg","€ / unit",0.2,0.2,{"$f":"_xlfn.XLOOKUP(K594,'Codes éco-part'!$C$6:$C$923,'Codes éco-part'!$B$6:$B$923)","v":"101"},0.24]
["DIY and gardening products EPR",3,"21101010561","Modulated","DIY products","Large non-electric, non-combustion items and machines, and their accessories","Assembly of wood and/or wood derivatives >50% and other materials or composite wood (excl. glass)","≥10 kg and <15 kg","€ / unit",0.18,0.18,{"$f":"_xlfn.XLOOKUP(K595,'Codes éco-part'!$C$6:$C$923,'Codes éco-part'!$B$6:$B$923)","v":"100"},0.22]
["DIY and gardening products EPR",3,"21101010570",null,"DIY products","Large non-electric, non-combustion items and machines, and their accessories","Assembly of wood and/or wood derivatives >50% and other materials or composite wood (excl. glass)","≥15 kg and <20 kg","€ / unit",0.26,0.26,{"$f":"_xlfn.XLOOKUP(K596,'Codes éco-part'!$C$6:$C$923,'Codes éco-part'!$B$6:$B$923)","v":"445"},0.31]
["DIY and gardening products EPR",3,"21101010571","Modulated","DIY products","Large non-electric, non-combustion items and machines, and their accessories","Assembly of wood and/or wood derivatives >50% and other materials or composite wood (excl. glass)","≥15 kg and <20 kg","€ / unit",0.23,0.23,{"$f":"_xlfn.XLOOKUP(K597,'Codes éco-part'!$C$6:$C$923,'Codes éco-part'!$B$6:$B$923)","v":"323"},0.28000000000000003]
["DIY and gardening products EPR",3,"21101010580",null,"DIY products","Large non-electric, non-combustion items and machines, and their accessories","Assembly of wood and/or wood derivatives >50% and other materials or composite wood (excl. glass)","≥20 kg and <25 kg","€ / unit",0.33,0.33,{"$f":"_xlfn.XLOOKUP(K598,'Codes éco-part'!$C$6:$C$923,'Codes éco-part'!$B$6:$B$923)","v":"006"},0.4]
["DIY and gardening products EPR",3,"21101010581","Modulated","DIY products","Large non-electric, non-combustion items and machines, and their accessories","Assembly of wood and/or wood derivatives >50% and other materials or composite wood (excl. glass)","≥20 kg and <25 kg","€ / unit",0.3,0.3,{"$f":"_xlfn.XLOOKUP(K599,'Codes éco-part'!$C$6:$C$923,'Codes éco-part'!$B$6:$B$923)","v":"446"},0.36]
["DIY and gardening products EPR",3,"21101010590",null,"DIY products","Large non-electric, non-combustion items and machines, and their accessories","Assembly of wood and/or wood derivatives >50% and other materials or composite wood (excl. glass)","≥25 kg and <30 kg","€ / unit",0.39,0.39,{"$f":"_xlfn.XLOOKUP(K600,'Codes éco-part'!$C$6:$C$923,'Codes éco-part'!$B$6:$B$923)","v":"253"},0.47]
["DIY and gardening products EPR",3,"21101010591","Modulated","DIY products","Large non-electric, non-combustion items and machines, and their accessories","Assembly of wood and/or wood derivatives >50% and other materials or composite wood (excl. glass)","≥25 kg and <30 kg","€ / unit",0.35,0.35,{"$f":"_xlfn.XLOOKUP(K601,'Codes éco-part'!$C$6:$C$923,'Codes éco-part'!$B$6:$B$923)","v":"448"},0.42]
["DIY and gardening products EPR",3,"21101010600",null,"DIY products","Large non-electric, non-combustion items and machines, and their accessories","Assembly of wood and/or wood derivatives >50% and other materials or composite wood (excl. glass)","≥40 kg and <50 kg","€ / unit",0.65,0.65,{"$f":"_xlfn.XLOOKUP(K602,'Codes éco-part'!$C$6:$C$923,'Codes éco-part'!$B$6:$B$923)","v":"613"},0.78]
["DIY and gardening products EPR",3,"21101010601","Modulated","DIY products","Large non-electric, non-combustion items and machines, and their accessories","Assembly of wood and/or wood derivatives >50% and other materials or composite wood (excl. glass)","≥40 kg and <50 kg","€ / unit",0.59,0.59,{"$f":"_xlfn.XLOOKUP(K603,'Codes éco-part'!$C$6:$C$923,'Codes éco-part'!$B$6:$B$923)","v":"254"},0.71]
["DIY and gardening products EPR",3,"21101020000",null,"DIY products","Large non-electric, non-combustion items and machines, and their accessories","Assembly of metal >50% and other materials","Elements of all sizes and weights","€ / ton",4.5,4.5,{"$f":"_xlfn.XLOOKUP(K604,'Codes éco-part'!$C$6:$C$923,'Codes éco-part'!$B$6:$B$923)","v":"127"},5.4]
["DIY and gardening products EPR",3,"21101020001","Modulated","DIY products","Large non-electric, non-combustion items and machines, and their accessories","Assembly of metal >50% and other materials","Elements of all sizes and weights","€ / ton",4.05,4.05,{"$f":"_xlfn.XLOOKUP(K605,'Codes éco-part'!$C$6:$C$923,'Codes éco-part'!$B$6:$B$923)","v":"884"},4.8600000000000003]
["DIY and gardening products EPR",3,"21101020200",null,"DIY products","Large non-electric, non-combustion items and machines, and their accessories","Assembly of metal >50% and other materials","Strictly <0.5 kg","€ / unit",0.01,0.01,{"$f":"_xlfn.XLOOKUP(K606,'Codes éco-part'!$C$6:$C$923,'Codes éco-part'!$B$6:$B$923)","v":"260"},0.01]
["DIY and gardening products EPR",3,"21101020201","Modulated","DIY products","Large non-electric, non-combustion items and machines, and their accessories","Assembly of metal >50% and other materials","Strictly <0.5 kg","€ / unit",0.01,0.01,{"$f":"_xlfn.XLOOKUP(K607,'Codes éco-part'!$C$6:$C$923,'Codes éco-part'!$B$6:$B$923)","v":"260"},0.01]
["DIY and gardening products EPR",3,"21101020210",null,"DIY products","Large non-electric, non-combustion items and machines, and their accessories","Assembly of metal >50% and other materials","≥0.5 kg and <1 kg","€ / unit",0.01,0.01,{"$f":"_xlfn.XLOOKUP(K608,'Codes éco-part'!$C$6:$C$923,'Codes éco-part'!$B$6:$B$923)","v":"260"},0.01]
["DIY and gardening products EPR",3,"21101020211","Modulated","DIY products","Large non-electric, non-combustion items and machines, and their accessories","Assembly of metal >50% and other materials","≥0.5 kg and <1 kg","€ / unit",0.01,0.01,{"$f":"_xlfn.XLOOKUP(K609,'Codes éco-part'!$C$6:$C$923,'Codes éco-part'!$B$6:$B$923)","v":"260"},0.01]
["DIY and gardening products EPR",3,"21101020220",null,"DIY products","Large non-electric, non-combustion items and machines, and their accessories","Assembly of metal >50% and other materials","≥1 kg and <2 kg","€ / unit",0.01,0.01,{"$f":"_xlfn.XLOOKUP(K610,'Codes éco-part'!$C$6:$C$923,'Codes éco-part'!$B$6:$B$923)","v":"260"},0.01]
["DIY and gardening products EPR",3,"21101020221","Modulated","DIY products","Large non-electric, non-combustion items and machines, and their accessories","Assembly of metal >50% and other materials","≥1 kg and <2 kg","€ / unit",0.01,0.01,{"$f":"_xlfn.XLOOKUP(K611,'Codes éco-part'!$C$6:$C$923,'Codes éco-part'!$B$6:$B$923)","v":"260"},0.01]
["DIY and gardening products EPR",3,"21101020270",null,"DIY products","Large non-electric, non-combustion items and machines, and their accessories","Assembly of metal >50% and other materials","≥30 kg and <40 kg","€ / unit",0.18,0.18,{"$f":"_xlfn.XLOOKUP(K612,'Codes éco-part'!$C$6:$C$923,'Codes éco-part'!$B$6:$B$923)","v":"100"},0.22]
["DIY and gardening products EPR",3,"21101020271","Modulated","DIY products","Large non-electric, non-combustion items and machines, and their accessories","Assembly of metal >50% and other materials","≥30 kg and <40 kg","€ / unit",0.16,0.16,{"$f":"_xlfn.XLOOKUP(K613,'Codes éco-part'!$C$6:$C$923,'Codes éco-part'!$B$6:$B$923)","v":"099"},0.19]
["DIY and gardening products EPR",3,"21101020520",null,"DIY products","Large non-electric, non-combustion items and machines, and their accessories","Assembly of metal >50% and other materials","≥2 kg and <3 kg","€ / unit",0.01,0.01,{"$f":"_xlfn.XLOOKUP(K614,'Codes éco-part'!$C$6:$C$923,'Codes éco-part'!$B$6:$B$923)","v":"260"},0.01]
["DIY and gardening products EPR",3,"21101020521","Modulated","DIY products","Large non-electric, non-combustion items and machines, and their accessories","Assembly of metal >50% and other materials","≥2 kg and <3 kg","€ / unit",0.01,0.01,{"$f":"_xlfn.XLOOKUP(K615,'Codes éco-part'!$C$6:$C$923,'Codes éco-part'!$B$6:$B$923)","v":"260"},0.01]
["DIY and gardening products EPR",3,"21101020530",null,"DIY products","Large non-electric, non-combustion items and machines, and their accessories","Assembly of metal >50% and other materials","≥3 kg and <5 kg","€ / unit",0.02,0.02,{"$f":"_xlfn.XLOOKUP(K616,'Codes éco-part'!$C$6:$C$923,'Codes éco-part'!$B$6:$B$923)","v":"047"},0.02]
["DIY and gardening products EPR",3,"21101020531","Modulated","DIY products","Large non-electric, non-combustion items and machines, and their accessories","Assembly of metal >50% and other materials","≥3 kg and <5 kg","€ / unit",0.02,0.02,{"$f":"_xlfn.XLOOKUP(K617,'Codes éco-part'!$C$6:$C$923,'Codes éco-part'!$B$6:$B$923)","v":"047"},0.02]
["DIY and gardening products EPR",3,"21101020540",null,"DIY products","Large non-electric, non-combustion items and machines, and their accessories","Assembly of metal >50% and other materials","≥5 kg and <7 kg","€ / unit",0.03,0.03,{"$f":"_xlfn.XLOOKUP(K618,'Codes éco-part'!$C$6:$C$923,'Codes éco-part'!$B$6:$B$923)","v":"092"},0.04]
["DIY and gardening products EPR",3,"21101020541","Modulated","DIY products","Large non-electric, non-combustion items and machines, and their accessories","Assembly of metal >50% and other materials","≥5 kg and <7 kg","€ / unit",0.03,0.03,{"$f":"_xlfn.XLOOKUP(K619,'Codes éco-part'!$C$6:$C$923,'Codes éco-part'!$B$6:$B$923)","v":"092"},0.04]
["DIY and gardening products EPR",3,"21101020550",null,"DIY products","Large non-electric, non-combustion items and machines, and their accessories","Assembly of metal >50% and other materials","≥7 kg and <10 kg","€ / unit",0.05,0.05,{"$f":"_xlfn.XLOOKUP(K620,'Codes éco-part'!$C$6:$C$923,'Codes éco-part'!$B$6:$B$923)","v":"048"},0.06]
["DIY and gardening products EPR",3,"21101020551","Modulated","DIY products","Large non-electric, non-combustion items and machines, and their accessories","Assembly of metal >50% and other materials","≥7 kg and <10 kg","€ / unit",0.05,0.05,{"$f":"_xlfn.XLOOKUP(K621,'Codes éco-part'!$C$6:$C$923,'Codes éco-part'!$B$6:$B$923)","v":"048"},0.06]
["DIY and gardening products EPR",3,"21101020560",null,"DIY products","Large non-electric, non-combustion items and machines, and their accessories","Assembly of metal >50% and other materials","≥10 kg and <15 kg","€ / unit",7.0000000000000007E-2,7.0000000000000007E-2,{"$f":"_xlfn.XLOOKUP(K622,'Codes éco-part'!$C$6:$C$923,'Codes éco-part'!$B$6:$B$923)","v":"247"},0.08]
["DIY and gardening products EPR",3,"21101020561","Modulated","DIY products","Large non-electric, non-combustion items and machines, and their accessories","Assembly of metal >50% and other materials","≥10 kg and <15 kg","€ / unit",0.06,0.06,{"$f":"_xlfn.XLOOKUP(K623,'Codes éco-part'!$C$6:$C$923,'Codes éco-part'!$B$6:$B$923)","v":"096"},7.0000000000000007E-2]
["DIY and gardening products EPR",3,"21101020570",null,"DIY products","Large non-electric, non-combustion items and machines, and their accessories","Assembly of metal >50% and other materials","≥15 kg and <20 kg","€ / unit",0.09,0.09,{"$f":"_xlfn.XLOOKUP(K624,'Codes éco-part'!$C$6:$C$923,'Codes éco-part'!$B$6:$B$923)","v":"049"},0.11]
["DIY and gardening products EPR",3,"21101020571","Modulated","DIY products","Large non-electric, non-combustion items and machines, and their accessories","Assembly of metal >50% and other materials","≥15 kg and <20 kg","€ / unit",0.08,0.08,{"$f":"_xlfn.XLOOKUP(K625,'Codes éco-part'!$C$6:$C$923,'Codes éco-part'!$B$6:$B$923)","v":"003"},0.1]
["DIY and gardening products EPR",3,"21101020580",null,"DIY products","Large non-electric, non-combustion items and machines, and their accessories","Assembly of metal >50% and other materials","≥20 kg and <25 kg","€ / unit",0.11,0.11,{"$f":"_xlfn.XLOOKUP(K626,'Codes éco-part'!$C$6:$C$923,'Codes éco-part'!$B$6:$B$923)","v":"262"},0.13]
["DIY and gardening products EPR",3,"21101020581","Modulated","DIY products","Large non-electric, non-combustion items and machines, and their accessories","Assembly of metal >50% and other materials","≥20 kg and <25 kg","€ / unit",0.1,0.1,{"$f":"_xlfn.XLOOKUP(K627,'Codes éco-part'!$C$6:$C$923,'Codes éco-part'!$B$6:$B$923)","v":"094"},0.12]
["DIY and gardening products EPR",3,"21101020590",null,"DIY products","Large non-electric, non-combustion items and machines, and their accessories","Assembly of metal >50% and other materials","≥25 kg and <30 kg","€ / unit",0.14000000000000001,0.14000000000000001,{"$f":"_xlfn.XLOOKUP(K628,'Codes éco-part'!$C$6:$C$923,'Codes éco-part'!$B$6:$B$923)","v":"098"},0.17]
["DIY and gardening products EPR",3,"21101020591","Modulated","DIY products","Large non-electric, non-combustion items and machines, and their accessories","Assembly of metal >50% and other materials","≥25 kg and <30 kg","€ / unit",0.13,0.13,{"$f":"_xlfn.XLOOKUP(K629,'Codes éco-part'!$C$6:$C$923,'Codes éco-part'!$B$6:$B$923)","v":"004"},0.16]
["DIY and gardening products EPR",3,"21101020600",null,"DIY products","Large non-electric, non-combustion items and machines, and their accessories","Assembly of metal >50% and other materials","≥40 kg and <50 kg","€ / unit",0.23,0.23,{"$f":"_xlfn.XLOOKUP(K630,'Codes éco-part'!$C$6:$C$923,'Codes éco-part'!$B$6:$B$923)","v":"323"},0.28000000000000003]
["DIY and gardening products EPR",3,"21101020601","Modulated","DIY products","Large non-electric, non-combustion items and machines, and their accessories","Assembly of metal >50% and other materials","≥40 kg and <50 kg","€ / unit",0.21,0.21,{"$f":"_xlfn.XLOOKUP(K631,'Codes éco-part'!$C$6:$C$923,'Codes éco-part'!$B$6:$B$923)","v":"051"},0.25]
["DIY and gardening products EPR",3,"21101040000",null,"DIY products","Large non-electric, non-combustion items and machines, and their accessories","Biosourced materials or non-synthetic textiles >50%","Elements of all sizes and weights","€ / ton",90,90,{"$f":"_xlfn.XLOOKUP(K632,'Codes éco-part'!$C$6:$C$923,'Codes éco-part'!$B$6:$B$923)","v":"609"},108]
["DIY and gardening products EPR",3,"21101040001","Modulated","DIY products","Large non-electric, non-combustion items and machines, and their accessories","Biosourced materials or non-synthetic textiles >50%","Elements of all sizes and weights","€ / ton",81,81,{"$f":"_xlfn.XLOOKUP(K633,'Codes éco-part'!$C$6:$C$923,'Codes éco-part'!$B$6:$B$923)","v":943},97.2]
["DIY and gardening products EPR",3,"21101040200",null,"DIY products","Large non-electric, non-combustion items and machines, and their accessories","Biosourced materials or non-synthetic textiles >50%","Strictly <0.5 kg","€ / unit",0.02,0.02,{"$f":"_xlfn.XLOOKUP(K634,'Codes éco-part'!$C$6:$C$923,'Codes éco-part'!$B$6:$B$923)","v":"047"},0.02]
["DIY and gardening products EPR",3,"21101040201","Modulated","DIY products","Large non-electric, non-combustion items and machines, and their accessories","Biosourced materials or non-synthetic textiles >50%","Strictly <0.5 kg","€ / unit",0.02,0.02,{"$f":"_xlfn.XLOOKUP(K635,'Codes éco-part'!$C$6:$C$923,'Codes éco-part'!$B$6:$B$923)","v":"047"},0.02]
["DIY and gardening products EPR",3,"21101040210",null,"DIY products","Large non-electric, non-combustion items and machines, and their accessories","Biosourced materials or non-synthetic textiles >50%","≥0.5 kg and <1 kg","€ / unit",7.0000000000000007E-2,7.0000000000000007E-2,{"$f":"_xlfn.XLOOKUP(K636,'Codes éco-part'!$C$6:$C$923,'Codes éco-part'!$B$6:$B$923)","v":"247"},0.08]
["DIY and gardening products EPR",3,"21101040211","Modulated","DIY products","Large non-electric, non-combustion items and machines, and their accessories","Biosourced materials or non-synthetic textiles >50%","≥0.5 kg and <1 kg","€ / unit",0.06,0.06,{"$f":"_xlfn.XLOOKUP(K637,'Codes éco-part'!$C$6:$C$923,'Codes éco-part'!$B$6:$B$923)","v":"096"},7.0000000000000007E-2]
["DIY and gardening products EPR",3,"21101040220",null,"DIY products","Large non-electric, non-combustion items and machines, and their accessories","Biosourced materials or non-synthetic textiles >50%","≥1 kg and <2 kg","€ / unit",0.14000000000000001,0.14000000000000001,{"$f":"_xlfn.XLOOKUP(K638,'Codes éco-part'!$C$6:$C$923,'Codes éco-part'!$B$6:$B$923)","v":"098"},0.17]
["DIY and gardening products EPR",3,"21101040221","Modulated","DIY products","Large non-electric, non-combustion items and machines, and their accessories","Biosourced materials or non-synthetic textiles >50%","≥1 kg and <2 kg","€ / unit",0.13,0.13,{"$f":"_xlfn.XLOOKUP(K639,'Codes éco-part'!$C$6:$C$923,'Codes éco-part'!$B$6:$B$923)","v":"004"},0.16]
["DIY and gardening products EPR",3,"21101040270",null,"DIY products","Large non-electric, non-combustion items and machines, and their accessories","Biosourced materials or non-synthetic textiles >50%","≥30 kg and <40 kg","€ / unit",3.6,3.6,{"$f":"_xlfn.XLOOKUP(K640,'Codes éco-part'!$C$6:$C$923,'Codes éco-part'!$B$6:$B$923)","v":"610"},4.32]
["DIY and gardening products EPR",3,"21101040271","Modulated","DIY products","Large non-electric, non-combustion items and machines, and their accessories","Biosourced materials or non-synthetic textiles >50%","≥30 kg and <40 kg","€ / unit",3.24,3.24,{"$f":"_xlfn.XLOOKUP(K641,'Codes éco-part'!$C$6:$C$923,'Codes éco-part'!$B$6:$B$923)","v":944},3.89]
["DIY and gardening products EPR",3,"21101040520",null,"DIY products","Large non-electric, non-combustion items and machines, and their accessories","Biosourced materials or non-synthetic textiles >50%","≥2 kg and <3 kg","€ / unit",0.23,0.23,{"$f":"_xlfn.XLOOKUP(K642,'Codes éco-part'!$C$6:$C$923,'Codes éco-part'!$B$6:$B$923)","v":"323"},{"$f":"ROUND(K642*1.2,2)","v":0.28000000000000003}]
["DIY and gardening products EPR",3,"21101040521","Modulated","DIY products","Large non-electric, non-combustion items and machines, and their accessories","Biosourced materials or non-synthetic textiles >50%","≥2 kg and <3 kg","€ / unit",0.21,0.21,{"$f":"_xlfn.XLOOKUP(K643,'Codes éco-part'!$C$6:$C$923,'Codes éco-part'!$B$6:$B$923)","v":"051"},0.25]
["DIY and gardening products EPR",3,"21101040530",null,"DIY products","Large non-electric, non-combustion items and machines, and their accessories","Biosourced materials or non-synthetic textiles >50%","≥3 kg and <5 kg","€ / unit",0.36,0.36,{"$f":"_xlfn.XLOOKUP(K644,'Codes éco-part'!$C$6:$C$923,'Codes éco-part'!$B$6:$B$923)","v":"449"},0.43]
["DIY and gardening products EPR",3,"21101040531","Modulated","DIY products","Large non-electric, non-combustion items and machines, and their accessories","Biosourced materials or non-synthetic textiles >50%","≥3 kg and <5 kg","€ / unit",0.32,0.32,{"$f":"_xlfn.XLOOKUP(K645,'Codes éco-part'!$C$6:$C$923,'Codes éco-part'!$B$6:$B$923)","v":"447"},0.38]
["DIY and gardening products EPR",3,"21101040540",null,"DIY products","Large non-electric, non-combustion items and machines, and their accessories","Biosourced materials or non-synthetic textiles >50%","≥5 kg and <7 kg","€ / unit",0.63,0.63,{"$f":"_xlfn.XLOOKUP(K646,'Codes éco-part'!$C$6:$C$923,'Codes éco-part'!$B$6:$B$923)","v":"297"},0.76]
["DIY and gardening products EPR",3,"21101040541","Modulated","DIY products","Large non-electric, non-combustion items and machines, and their accessories","Biosourced materials or non-synthetic textiles >50%","≥5 kg and <7 kg","€ / unit",0.56999999999999995,0.56999999999999995,{"$f":"_xlfn.XLOOKUP(K647,'Codes éco-part'!$C$6:$C$923,'Codes éco-part'!$B$6:$B$923)","v":"326"},0.68]
["DIY and gardening products EPR",3,"21101040550",null,"DIY products","Large non-electric, non-combustion items and machines, and their accessories","Biosourced materials or non-synthetic textiles >50%","≥7 kg and <10 kg","€ / unit",0.9,0.9,{"$f":"_xlfn.XLOOKUP(K648,'Codes éco-part'!$C$6:$C$923,'Codes éco-part'!$B$6:$B$923)","v":"330"},1.08]
["DIY and gardening products EPR",3,"21101040551","Modulated","DIY products","Large non-electric, non-combustion items and machines, and their accessories","Biosourced materials or non-synthetic textiles >50%","≥7 kg and <10 kg","€ / unit",0.81,0.81,{"$f":"_xlfn.XLOOKUP(K649,'Codes éco-part'!$C$6:$C$923,'Codes éco-part'!$B$6:$B$923)","v":"112"},0.97]
["DIY and gardening products EPR",3,"21101040560",null,"DIY products","Large non-electric, non-combustion items and machines, and their accessories","Biosourced materials or non-synthetic textiles >50%","≥10 kg and <15 kg","€ / unit",1.35,1.35,{"$f":"_xlfn.XLOOKUP(K650,'Codes éco-part'!$C$6:$C$923,'Codes éco-part'!$B$6:$B$923)","v":"332"},1.62]
["DIY and gardening products EPR",3,"21101040561","Modulated","DIY products","Large non-electric, non-combustion items and machines, and their accessories","Biosourced materials or non-synthetic textiles >50%","≥10 kg and <15 kg","€ / unit",1.22,1.22,{"$f":"_xlfn.XLOOKUP(K651,'Codes éco-part'!$C$6:$C$923,'Codes éco-part'!$B$6:$B$923)","v":"636"},1.46]
["DIY and gardening products EPR",3,"21101040570",null,"DIY products","Large non-electric, non-combustion items and machines, and their accessories","Biosourced materials or non-synthetic textiles >50%","≥15 kg and <20 kg","€ / unit",1.8,1.8,{"$f":"_xlfn.XLOOKUP(K652,'Codes éco-part'!$C$6:$C$923,'Codes éco-part'!$B$6:$B$923)","v":"603"},2.16]
["DIY and gardening products EPR",3,"21101040571","Modulated","DIY products","Large non-electric, non-combustion items and machines, and their accessories","Biosourced materials or non-synthetic textiles >50%","≥15 kg and <20 kg","€ / unit",1.62,1.62,{"$f":"_xlfn.XLOOKUP(K653,'Codes éco-part'!$C$6:$C$923,'Codes éco-part'!$B$6:$B$923)","v":"810"},1.94]
["DIY and gardening products EPR",3,"21101040580",null,"DIY products","Large non-electric, non-combustion items and machines, and their accessories","Biosourced materials or non-synthetic textiles >50%","≥20 kg and <25 kg","€ / unit",2.25,2.25,{"$f":"_xlfn.XLOOKUP(K654,'Codes éco-part'!$C$6:$C$923,'Codes éco-part'!$B$6:$B$923)","v":"118"},2.7]
["DIY and gardening products EPR",3,"21101040581","Modulated","DIY products","Large non-electric, non-combustion items and machines, and their accessories","Biosourced materials or non-synthetic textiles >50%","≥20 kg and <25 kg","€ / unit",2.0299999999999998,2.0299999999999998,{"$f":"_xlfn.XLOOKUP(K655,'Codes éco-part'!$C$6:$C$923,'Codes éco-part'!$B$6:$B$923)","v":937},2.44]
["DIY and gardening products EPR",3,"21101040590",null,"DIY products","Large non-electric, non-combustion items and machines, and their accessories","Biosourced materials or non-synthetic textiles >50%","≥25 kg and <30 kg","€ / unit",2.7,2.7,{"$f":"_xlfn.XLOOKUP(K656,'Codes éco-part'!$C$6:$C$923,'Codes éco-part'!$B$6:$B$923)","v":"611"},3.24]
["DIY and gardening products EPR",3,"21101040591","Modulated","DIY products","Large non-electric, non-combustion items and machines, and their accessories","Biosourced materials or non-synthetic textiles >50%","≥25 kg and <30 kg","€ / unit",2.4300000000000002,2.4300000000000002,{"$f":"_xlfn.XLOOKUP(K657,'Codes éco-part'!$C$6:$C$923,'Codes éco-part'!$B$6:$B$923)","v":"471"},2.92]
["DIY and gardening products EPR",3,"21101040600",null,"DIY products","Large non-electric, non-combustion items and machines, and their accessories","Biosourced materials or non-synthetic textiles >50%","≥40 kg and <50 kg","€ / unit",4.5,4.5,{"$f":"_xlfn.XLOOKUP(K658,'Codes éco-part'!$C$6:$C$923,'Codes éco-part'!$B$6:$B$923)","v":"127"},5.4]
["DIY and gardening products EPR",3,"21101040601","Modulated","DIY products","Large non-electric, non-combustion items and machines, and their accessories","Biosourced materials or non-synthetic textiles >50%","≥40 kg and <50 kg","€ / unit",4.05,4.05,{"$f":"_xlfn.XLOOKUP(K659,'Codes éco-part'!$C$6:$C$923,'Codes éco-part'!$B$6:$B$923)","v":"884"},4.8600000000000003]
["DIY and gardening products EPR",3,"21101050000",null,"DIY products","Large non-electric, non-combustion items and machines, and their accessories","Plastics or other synthetic materials >50%","Elements of all sizes and weights","€ / ton",90,90,{"$f":"_xlfn.XLOOKUP(K660,'Codes éco-part'!$C$6:$C$923,'Codes éco-part'!$B$6:$B$923)","v":"609"},108]
["DIY and gardening products EPR",3,"21101050001","Modulated","DIY products","Large non-electric, non-combustion items and machines, and their accessories","Plastics or other synthetic materials >50%","Elements of all sizes and weights","€ / ton",81,81,{"$f":"_xlfn.XLOOKUP(K661,'Codes éco-part'!$C$6:$C$923,'Codes éco-part'!$B$6:$B$923)","v":943},97.2]
["DIY and gardening products EPR",3,"21101050200",null,"DIY products","Large non-electric, non-combustion items and machines, and their accessories","Plastics or other synthetic materials >50%","Strictly <0.5 kg","€ / unit",0.02,0.02,{"$f":"_xlfn.XLOOKUP(K662,'Codes éco-part'!$C$6:$C$923,'Codes éco-part'!$B$6:$B$923)","v":"047"},0.02]
["DIY and gardening products EPR",3,"21101050201","Modulated","DIY products","Large non-electric, non-combustion items and machines, and their accessories","Plastics or other synthetic materials >50%","Strictly <0.5 kg","€ / unit",0.02,0.02,{"$f":"_xlfn.XLOOKUP(K663,'Codes éco-part'!$C$6:$C$923,'Codes éco-part'!$B$6:$B$923)","v":"047"},0.02]
["DIY and gardening products EPR",3,"21101050210",null,"DIY products","Large non-electric, non-combustion items and machines, and their accessories","Plastics or other synthetic materials >50%","≥0.5 kg and <1 kg","€ / unit",7.0000000000000007E-2,7.0000000000000007E-2,{"$f":"_xlfn.XLOOKUP(K664,'Codes éco-part'!$C$6:$C$923,'Codes éco-part'!$B$6:$B$923)","v":"247"},0.08]
["DIY and gardening products EPR",3,"21101050211","Modulated","DIY products","Large non-electric, non-combustion items and machines, and their accessories","Plastics or other synthetic materials >50%","≥0.5 kg and <1 kg","€ / unit",0.06,0.06,{"$f":"_xlfn.XLOOKUP(K665,'Codes éco-part'!$C$6:$C$923,'Codes éco-part'!$B$6:$B$923)","v":"096"},7.0000000000000007E-2]
["DIY and gardening products EPR",3,"21101050220",null,"DIY products","Large non-electric, non-combustion items and machines, and their accessories","Plastics or other synthetic materials >50%","≥1 kg and <2 kg","€ / unit",0.14000000000000001,0.14000000000000001,{"$f":"_xlfn.XLOOKUP(K666,'Codes éco-part'!$C$6:$C$923,'Codes éco-part'!$B$6:$B$923)","v":"098"},0.17]
["DIY and gardening products EPR",3,"21101050221","Modulated","DIY products","Large non-electric, non-combustion items and machines, and their accessories","Plastics or other synthetic materials >50%","≥1 kg and <2 kg","€ / unit",0.13,0.13,{"$f":"_xlfn.XLOOKUP(K667,'Codes éco-part'!$C$6:$C$923,'Codes éco-part'!$B$6:$B$923)","v":"004"},0.16]
["DIY and gardening products EPR",3,"21101050270",null,"DIY products","Large non-electric, non-combustion items and machines, and their accessories","Plastics or other synthetic materials >50%","≥30 kg and <40 kg","€ / unit",3.6,3.6,{"$f":"_xlfn.XLOOKUP(K668,'Codes éco-part'!$C$6:$C$923,'Codes éco-part'!$B$6:$B$923)","v":"610"},4.32]
["DIY and gardening products EPR",3,"21101050271","Modulated","DIY products","Large non-electric, non-combustion items and machines, and their accessories","Plastics or other synthetic materials >50%","≥30 kg and <40 kg","€ / unit",3.24,3.24,{"$f":"_xlfn.XLOOKUP(K669,'Codes éco-part'!$C$6:$C$923,'Codes éco-part'!$B$6:$B$923)","v":944},3.89]
["DIY and gardening products EPR",3,"21101050520",null,"DIY products","Large non-electric, non-combustion items and machines, and their accessories","Plastics or other synthetic materials >50%","≥2 kg and <3 kg","€ / unit",0.23,0.23,{"$f":"_xlfn.XLOOKUP(K670,'Codes éco-part'!$C$6:$C$923,'Codes éco-part'!$B$6:$B$923)","v":"323"},0.28000000000000003]
["DIY and gardening products EPR",3,"21101050521","Modulated","DIY products","Large non-electric, non-combustion items and machines, and their accessories","Plastics or other synthetic materials >50%","≥2 kg and <3 kg","€ / unit",0.21,0.21,{"$f":"_xlfn.XLOOKUP(K671,'Codes éco-part'!$C$6:$C$923,'Codes éco-part'!$B$6:$B$923)","v":"051"},0.25]
["DIY and gardening products EPR",3,"21101050530",null,"DIY products","Large non-electric, non-combustion items and machines, and their accessories","Plastics or other synthetic materials >50%","≥3 kg and <5 kg","€ / unit",0.36,0.36,{"$f":"_xlfn.XLOOKUP(K672,'Codes éco-part'!$C$6:$C$923,'Codes éco-part'!$B$6:$B$923)","v":"449"},0.43]
["DIY and gardening products EPR",3,"21101050531","Modulated","DIY products","Large non-electric, non-combustion items and machines, and their accessories","Plastics or other synthetic materials >50%","≥3 kg and <5 kg","€ / unit",0.32,0.32,{"$f":"_xlfn.XLOOKUP(K673,'Codes éco-part'!$C$6:$C$923,'Codes éco-part'!$B$6:$B$923)","v":"447"},0.38]
["DIY and gardening products EPR",3,"21101050540",null,"DIY products","Large non-electric, non-combustion items and machines, and their accessories","Plastics or other synthetic materials >50%","≥5 kg and <7 kg","€ / unit",0.63,0.63,{"$f":"_xlfn.XLOOKUP(K674,'Codes éco-part'!$C$6:$C$923,'Codes éco-part'!$B$6:$B$923)","v":"297"},0.76]
["DIY and gardening products EPR",3,"21101050541","Modulated","DIY products","Large non-electric, non-combustion items and machines, and their accessories","Plastics or other synthetic materials >50%","≥5 kg and <7 kg","€ / unit",0.56999999999999995,0.56999999999999995,{"$f":"_xlfn.XLOOKUP(K675,'Codes éco-part'!$C$6:$C$923,'Codes éco-part'!$B$6:$B$923)","v":"326"},0.68]
["DIY and gardening products EPR",3,"21101050550",null,"DIY products","Large non-electric, non-combustion items and machines, and their accessories","Plastics or other synthetic materials >50%","≥7 kg and <10 kg","€ / unit",0.9,0.9,{"$f":"_xlfn.XLOOKUP(K676,'Codes éco-part'!$C$6:$C$923,'Codes éco-part'!$B$6:$B$923)","v":"330"},1.08]
["DIY and gardening products EPR",3,"21101050551","Modulated","DIY products","Large non-electric, non-combustion items and machines, and their accessories","Plastics or other synthetic materials >50%","≥7 kg and <10 kg","€ / unit",0.81,0.81,{"$f":"_xlfn.XLOOKUP(K677,'Codes éco-part'!$C$6:$C$923,'Codes éco-part'!$B$6:$B$923)","v":"112"},0.97]
["DIY and gardening products EPR",3,"21101050560",null,"DIY products","Large non-electric, non-combustion items and machines, and their accessories","Plastics or other synthetic materials >50%","≥10 kg and <15 kg","€ / unit",1.35,1.35,{"$f":"_xlfn.XLOOKUP(K678,'Codes éco-part'!$C$6:$C$923,'Codes éco-part'!$B$6:$B$923)","v":"332"},1.62]
["DIY and gardening products EPR",3,"21101050561","Modulated","DIY products","Large non-electric, non-combustion items and machines, and their accessories","Plastics or other synthetic materials >50%","≥10 kg and <15 kg","€ / unit",1.22,1.22,{"$f":"_xlfn.XLOOKUP(K679,'Codes éco-part'!$C$6:$C$923,'Codes éco-part'!$B$6:$B$923)","v":"636"},1.46]
["DIY and gardening products EPR",3,"21101050570",null,"DIY products","Large non-electric, non-combustion items and machines, and their accessories","Plastics or other synthetic materials >50%","≥15 kg and <20 kg","€ / unit",1.8,1.8,{"$f":"_xlfn.XLOOKUP(K680,'Codes éco-part'!$C$6:$C$923,'Codes éco-part'!$B$6:$B$923)","v":"603"},2.16]
["DIY and gardening products EPR",3,"21101050571","Modulated","DIY products","Large non-electric, non-combustion items and machines, and their accessories","Plastics or other synthetic materials >50%","≥15 kg and <20 kg","€ / unit",1.62,1.62,{"$f":"_xlfn.XLOOKUP(K681,'Codes éco-part'!$C$6:$C$923,'Codes éco-part'!$B$6:$B$923)","v":"810"},1.94]
["DIY and gardening products EPR",3,"21101050580",null,"DIY products","Large non-electric, non-combustion items and machines, and their accessories","Plastics or other synthetic materials >50%","≥20 kg and <25 kg","€ / unit",2.25,2.25,{"$f":"_xlfn.XLOOKUP(K682,'Codes éco-part'!$C$6:$C$923,'Codes éco-part'!$B$6:$B$923)","v":"118"},2.7]
["DIY and gardening products EPR",3,"21101050581","Modulated","DIY products","Large non-electric, non-combustion items and machines, and their accessories","Plastics or other synthetic materials >50%","≥20 kg and <25 kg","€ / unit",2.0299999999999998,2.0299999999999998,{"$f":"_xlfn.XLOOKUP(K683,'Codes éco-part'!$C$6:$C$923,'Codes éco-part'!$B$6:$B$923)","v":937},2.44]
["DIY and gardening products EPR",3,"21101050590",null,"DIY products","Large non-electric, non-combustion items and machines, and their accessories","Plastics or other synthetic materials >50%","≥25 kg and <30 kg","€ / unit",2.7,2.7,{"$f":"_xlfn.XLOOKUP(K684,'Codes éco-part'!$C$6:$C$923,'Codes éco-part'!$B$6:$B$923)","v":"611"},3.24]
["DIY and gardening products EPR",3,"21101050591","Modulated","DIY products","Large non-electric, non-combustion items and machines, and their accessories","Plastics or other synthetic materials >50%","≥25 kg and <30 kg","€ / unit",2.4300000000000002,2.4300000000000002,{"$f":"_xlfn.XLOOKUP(K685,'Codes éco-part'!$C$6:$C$923,'Codes éco-part'!$B$6:$B$923)","v":"471"},2.92]
["DIY and gardening products EPR",3,"21101050600",null,"DIY products","Large non-electric, non-combustion items and machines, and their accessories","Plastics or other synthetic materials >50%","≥40 kg and <50 kg","€ / unit",4.5,4.5,{"$f":"_xlfn.XLOOKUP(K686,'Codes éco-part'!$C$6:$C$923,'Codes éco-part'!$B$6:$B$923)","v":"127"},5.4]
["DIY and gardening products EPR",3,"21101050601","Modulated","DIY products","Large non-electric, non-combustion items and machines, and their accessories","Plastics or other synthetic materials >50%","≥40 kg and <50 kg","€ / unit",4.05,4.05,{"$f":"_xlfn.XLOOKUP(K687,'Codes éco-part'!$C$6:$C$923,'Codes éco-part'!$B$6:$B$923)","v":"884"},4.8600000000000003]
["DIY and gardening products EPR",3,"21101060000",null,"DIY products","Large non-electric, non-combustion items and machines, and their accessories","Materials of animal origin >50%","Elements of all sizes and weights","€ / ton",90,90,{"$f":"_xlfn.XLOOKUP(K688,'Codes éco-part'!$C$6:$C$923,'Codes éco-part'!$B$6:$B$923)","v":"609"},108]
["DIY and gardening products EPR",3,"21101060001","Modulated","DIY products","Large non-electric, non-combustion items and machines, and their accessories","Materials of animal origin >50%","Elements of all sizes and weights","€ / ton",81,81,{"$f":"_xlfn.XLOOKUP(K689,'Codes éco-part'!$C$6:$C$923,'Codes éco-part'!$B$6:$B$923)","v":943},97.2]
["DIY and gardening products EPR",3,"21101060200",null,"DIY products","Large non-electric, non-combustion items and machines, and their accessories","Materials of animal origin >50%","Strictly <0.5 kg","€ / unit",0.02,0.02,{"$f":"_xlfn.XLOOKUP(K690,'Codes éco-part'!$C$6:$C$923,'Codes éco-part'!$B$6:$B$923)","v":"047"},0.02]
["DIY and gardening products EPR",3,"21101060201","Modulated","DIY products","Large non-electric, non-combustion items and machines, and their accessories","Materials of animal origin >50%","Strictly <0.5 kg","€ / unit",0.02,0.02,{"$f":"_xlfn.XLOOKUP(K691,'Codes éco-part'!$C$6:$C$923,'Codes éco-part'!$B$6:$B$923)","v":"047"},0.02]
["DIY and gardening products EPR",3,"21101060210",null,"DIY products","Large non-electric, non-combustion items and machines, and their accessories","Materials of animal origin >50%","≥0.5 kg and <1 kg","€ / unit",7.0000000000000007E-2,7.0000000000000007E-2,{"$f":"_xlfn.XLOOKUP(K692,'Codes éco-part'!$C$6:$C$923,'Codes éco-part'!$B$6:$B$923)","v":"247"},0.08]
["DIY and gardening products EPR",3,"21101060211","Modulated","DIY products","Large non-electric, non-combustion items and machines, and their accessories","Materials of animal origin >50%","≥0.5 kg and <1 kg","€ / unit",0.06,0.06,{"$f":"_xlfn.XLOOKUP(K693,'Codes éco-part'!$C$6:$C$923,'Codes éco-part'!$B$6:$B$923)","v":"096"},7.0000000000000007E-2]
["DIY and gardening products EPR",3,"21101060220",null,"DIY products","Large non-electric, non-combustion items and machines, and their accessories","Materials of animal origin >50%","≥1 kg and <2 kg","€ / unit",0.14000000000000001,0.14000000000000001,{"$f":"_xlfn.XLOOKUP(K694,'Codes éco-part'!$C$6:$C$923,'Codes éco-part'!$B$6:$B$923)","v":"098"},0.17]
["DIY and gardening products EPR",3,"21101060221","Modulated","DIY products","Large non-electric, non-combustion items and machines, and their accessories","Materials of animal origin >50%","≥1 kg and <2 kg","€ / unit",0.13,0.13,{"$f":"_xlfn.XLOOKUP(K695,'Codes éco-part'!$C$6:$C$923,'Codes éco-part'!$B$6:$B$923)","v":"004"},0.16]
["DIY and gardening products EPR",3,"21101060270",null,"DIY products","Large non-electric, non-combustion items and machines, and their accessories","Materials of animal origin >50%","≥30 kg and <40 kg","€ / unit",3.6,3.6,{"$f":"_xlfn.XLOOKUP(K696,'Codes éco-part'!$C$6:$C$923,'Codes éco-part'!$B$6:$B$923)","v":"610"},4.32]
["DIY and gardening products EPR",3,"21101060271","Modulated","DIY products","Large non-electric, non-combustion items and machines, and their accessories","Materials of animal origin >50%","≥30 kg and <40 kg","€ / unit",3.24,3.24,{"$f":"_xlfn.XLOOKUP(K697,'Codes éco-part'!$C$6:$C$923,'Codes éco-part'!$B$6:$B$923)","v":944},3.89]
["DIY and gardening products EPR",3,"21101060520",null,"DIY products","Large non-electric, non-combustion items and machines, and their accessories","Materials of animal origin >50%","≥2 kg and <3 kg","€ / unit",0.23,0.23,{"$f":"_xlfn.XLOOKUP(K698,'Codes éco-part'!$C$6:$C$923,'Codes éco-part'!$B$6:$B$923)","v":"323"},0.28000000000000003]
["DIY and gardening products EPR",3,"21101060521","Modulated","DIY products","Large non-electric, non-combustion items and machines, and their accessories","Materials of animal origin >50%","≥2 kg and <3 kg","€ / unit",0.21,0.21,{"$f":"_xlfn.XLOOKUP(K699,'Codes éco-part'!$C$6:$C$923,'Codes éco-part'!$B$6:$B$923)","v":"051"},0.25]
["DIY and gardening products EPR",3,"21101060530",null,"DIY products","Large non-electric, non-combustion items and machines, and their accessories","Materials of animal origin >50%","≥3 kg and <5 kg","€ / unit",0.36,0.36,{"$f":"_xlfn.XLOOKUP(K700,'Codes éco-part'!$C$6:$C$923,'Codes éco-part'!$B$6:$B$923)","v":"449"},0.43]
["DIY and gardening products EPR",3,"21101060531","Modulated","DIY products","Large non-electric, non-combustion items and machines, and their accessories","Materials of animal origin >50%","≥3 kg and <5 kg","€ / unit",0.32,0.32,{"$f":"_xlfn.XLOOKUP(K701,'Codes éco-part'!$C$6:$C$923,'Codes éco-part'!$B$6:$B$923)","v":"447"},0.38]
["DIY and gardening products EPR",3,"21101060540",null,"DIY products","Large non-electric, non-combustion items and machines, and their accessories","Materials of animal origin >50%","≥5 kg and <7 kg","€ / unit",0.63,0.63,{"$f":"_xlfn.XLOOKUP(K702,'Codes éco-part'!$C$6:$C$923,'Codes éco-part'!$B$6:$B$923)","v":"297"},0.76]
["DIY and gardening products EPR",3,"21101060541","Modulated","DIY products","Large non-electric, non-combustion items and machines, and their accessories","Materials of animal origin >50%","≥5 kg and <7 kg","€ / unit",0.56999999999999995,0.56999999999999995,{"$f":"_xlfn.XLOOKUP(K703,'Codes éco-part'!$C$6:$C$923,'Codes éco-part'!$B$6:$B$923)","v":"326"},0.68]
["DIY and gardening products EPR",3,"21101060550",null,"DIY products","Large non-electric, non-combustion items and machines, and their accessories","Materials of animal origin >50%","≥7 kg and <10 kg","€ / unit",0.9,0.9,{"$f":"_xlfn.XLOOKUP(K704,'Codes éco-part'!$C$6:$C$923,'Codes éco-part'!$B$6:$B$923)","v":"330"},1.08]
["DIY and gardening products EPR",3,"21101060551","Modulated","DIY products","Large non-electric, non-combustion items and machines, and their accessories","Materials of animal origin >50%","≥7 kg and <10 kg","€ / unit",0.81,0.81,{"$f":"_xlfn.XLOOKUP(K705,'Codes éco-part'!$C$6:$C$923,'Codes éco-part'!$B$6:$B$923)","v":"112"},0.97]
["DIY and gardening products EPR",3,"21101060560",null,"DIY products","Large non-electric, non-combustion items and machines, and their accessories","Materials of animal origin >50%","≥10 kg and <15 kg","€ / unit",1.35,1.35,{"$f":"_xlfn.XLOOKUP(K706,'Codes éco-part'!$C$6:$C$923,'Codes éco-part'!$B$6:$B$923)","v":"332"},{"$f":"ROUND(K706*1.2,2)","v":1.62}]
["DIY and gardening products EPR",3,"21101060561","Modulated","DIY products","Large non-electric, non-combustion items and machines, and their accessories","Materials of animal origin >50%","≥10 kg and <15 kg","€ / unit",1.22,1.22,{"$f":"_xlfn.XLOOKUP(K707,'Codes éco-part'!$C$6:$C$923,'Codes éco-part'!$B$6:$B$923)","v":"636"},1.46]
["DIY and gardening products EPR",3,"21101060570",null,"DIY products","Large non-electric, non-combustion items and machines, and their accessories","Materials of animal origin >50%","≥15 kg and <20 kg","€ / unit",1.8,1.8,{"$f":"_xlfn.XLOOKUP(K708,'Codes éco-part'!$C$6:$C$923,'Codes éco-part'!$B$6:$B$923)","v":"603"},2.16]
["DIY and gardening products EPR",3,"21101060571","Modulated","DIY products","Large non-electric, non-combustion items and machines, and their accessories","Materials of animal origin >50%","≥15 kg and <20 kg","€ / unit",1.62,1.62,{"$f":"_xlfn.XLOOKUP(K709,'Codes éco-part'!$C$6:$C$923,'Codes éco-part'!$B$6:$B$923)","v":"810"},1.94]
["DIY and gardening products EPR",3,"21101060580",null,"DIY products","Large non-electric, non-combustion items and machines, and their accessories","Materials of animal origin >50%","≥20 kg and <25 kg","€ / unit",2.25,2.25,{"$f":"_xlfn.XLOOKUP(K710,'Codes éco-part'!$C$6:$C$923,'Codes éco-part'!$B$6:$B$923)","v":"118"},2.7]
["DIY and gardening products EPR",3,"21101060581","Modulated","DIY products","Large non-electric, non-combustion items and machines, and their accessories","Materials of animal origin >50%","≥20 kg and <25 kg","€ / unit",2.0299999999999998,2.0299999999999998,{"$f":"_xlfn.XLOOKUP(K711,'Codes éco-part'!$C$6:$C$923,'Codes éco-part'!$B$6:$B$923)","v":937},2.44]
["DIY and gardening products EPR",3,"21101060590",null,"DIY products","Large non-electric, non-combustion items and machines, and their accessories","Materials of animal origin >50%","≥25 kg and <30 kg","€ / unit",2.7,2.7,{"$f":"_xlfn.XLOOKUP(K712,'Codes éco-part'!$C$6:$C$923,'Codes éco-part'!$B$6:$B$923)","v":"611"},3.24]
["DIY and gardening products EPR",3,"21101060591","Modulated","DIY products","Large non-electric, non-combustion items and machines, and their accessories","Materials of animal origin >50%","≥25 kg and <30 kg","€ / unit",2.4300000000000002,2.4300000000000002,{"$f":"_xlfn.XLOOKUP(K713,'Codes éco-part'!$C$6:$C$923,'Codes éco-part'!$B$6:$B$923)","v":"471"},2.92]
["DIY and gardening products EPR",3,"21101060600",null,"DIY products","Large non-electric, non-combustion items and machines, and their accessories","Materials of animal origin >50%","≥40 kg and <50 kg","€ / unit",4.5,4.5,{"$f":"_xlfn.XLOOKUP(K714,'Codes éco-part'!$C$6:$C$923,'Codes éco-part'!$B$6:$B$923)","v":"127"},5.4]
["DIY and gardening products EPR",3,"21101060601","Modulated","DIY products","Large non-electric, non-combustion items and machines, and their accessories","Materials of animal origin >50%","≥40 kg and <50 kg","€ / unit",4.05,4.05,{"$f":"_xlfn.XLOOKUP(K715,'Codes éco-part'!$C$6:$C$923,'Codes éco-part'!$B$6:$B$923)","v":"884"},4.8600000000000003]
["DIY and gardening products EPR",3,"21101080000",null,"DIY products","Large non-electric, non-combustion items and machines, and their accessories","Assembly of materials with inert substances >50%","Elements of all sizes and weights","€ / ton",90,90,{"$f":"_xlfn.XLOOKUP(K716,'Codes éco-part'!$C$6:$C$923,'Codes éco-part'!$B$6:$B$923)","v":"609"},108]
["DIY and gardening products EPR",3,"21101080001","Modulated","DIY products","Large non-electric, non-combustion items and machines, and their accessories","Assembly of materials with inert substances >50%","Elements of all sizes and weights","€ / ton",81,81,{"$f":"_xlfn.XLOOKUP(K717,'Codes éco-part'!$C$6:$C$923,'Codes éco-part'!$B$6:$B$923)","v":943},97.2]
["DIY and gardening products EPR",3,"21101080200",null,"DIY products","Large non-electric, non-combustion items and machines, and their accessories","Assembly of materials with inert substances >50%","Strictly <0.5 kg","€ / unit",0.02,0.02,{"$f":"_xlfn.XLOOKUP(K718,'Codes éco-part'!$C$6:$C$923,'Codes éco-part'!$B$6:$B$923)","v":"047"},0.02]
["DIY and gardening products EPR",3,"21101080201","Modulated","DIY products","Large non-electric, non-combustion items and machines, and their accessories","Assembly of materials with inert substances >50%","Strictly <0.5 kg","€ / unit",0.02,0.02,{"$f":"_xlfn.XLOOKUP(K719,'Codes éco-part'!$C$6:$C$923,'Codes éco-part'!$B$6:$B$923)","v":"047"},0.02]
["DIY and gardening products EPR",3,"21101080210",null,"DIY products","Large non-electric, non-combustion items and machines, and their accessories","Assembly of materials with inert substances >50%","≥0.5 kg and <1 kg","€ / unit",7.0000000000000007E-2,7.0000000000000007E-2,{"$f":"_xlfn.XLOOKUP(K720,'Codes éco-part'!$C$6:$C$923,'Codes éco-part'!$B$6:$B$923)","v":"247"},0.08]
["DIY and gardening products EPR",3,"21101080211","Modulated","DIY products","Large non-electric, non-combustion items and machines, and their accessories","Assembly of materials with inert substances >50%","≥0.5 kg and <1 kg","€ / unit",0.06,0.06,{"$f":"_xlfn.XLOOKUP(K721,'Codes éco-part'!$C$6:$C$923,'Codes éco-part'!$B$6:$B$923)","v":"096"},7.0000000000000007E-2]
["DIY and gardening products EPR",3,"21101080220",null,"DIY products","Large non-electric, non-combustion items and machines, and their accessories","Assembly of materials with inert substances >50%","≥1 kg and <2 kg","€ / unit",0.14000000000000001,0.14000000000000001,{"$f":"_xlfn.XLOOKUP(K722,'Codes éco-part'!$C$6:$C$923,'Codes éco-part'!$B$6:$B$923)","v":"098"},0.17]
["DIY and gardening products EPR",3,"21101080221","Modulated","DIY products","Large non-electric, non-combustion items and machines, and their accessories","Assembly of materials with inert substances >50%","≥1 kg and <2 kg","€ / unit",0.13,0.13,{"$f":"_xlfn.XLOOKUP(K723,'Codes éco-part'!$C$6:$C$923,'Codes éco-part'!$B$6:$B$923)","v":"004"},0.16]
["DIY and gardening products EPR",3,"21101080270",null,"DIY products","Large non-electric, non-combustion items and machines, and their accessories","Assembly of materials with inert substances >50%","≥30 kg and <40 kg","€ / unit",3.6,3.6,{"$f":"_xlfn.XLOOKUP(K724,'Codes éco-part'!$C$6:$C$923,'Codes éco-part'!$B$6:$B$923)","v":"610"},4.32]
["DIY and gardening products EPR",3,"21101080271","Modulated","DIY products","Large non-electric, non-combustion items and machines, and their accessories","Assembly of materials with inert substances >50%","≥30 kg and <40 kg","€ / unit",3.24,3.24,{"$f":"_xlfn.XLOOKUP(K725,'Codes éco-part'!$C$6:$C$923,'Codes éco-part'!$B$6:$B$923)","v":944},3.89]
["DIY and gardening products EPR",3,"21101080520",null,"DIY products","Large non-electric, non-combustion items and machines, and their accessories","Assembly of materials with inert substances >50%","≥2 kg and <3 kg","€ / unit",0.23,0.23,{"$f":"_xlfn.XLOOKUP(K726,'Codes éco-part'!$C$6:$C$923,'Codes éco-part'!$B$6:$B$923)","v":"323"},0.28000000000000003]
["DIY and gardening products EPR",3,"21101080521","Modulated","DIY products","Large non-electric, non-combustion items and machines, and their accessories","Assembly of materials with inert substances >50%","≥2 kg and <3 kg","€ / unit",0.21,0.21,{"$f":"_xlfn.XLOOKUP(K727,'Codes éco-part'!$C$6:$C$923,'Codes éco-part'!$B$6:$B$923)","v":"051"},0.25]
["DIY and gardening products EPR",3,"21101080530",null,"DIY products","Large non-electric, non-combustion items and machines, and their accessories","Assembly of materials with inert substances >50%","≥3 kg and <5 kg","€ / unit",0.36,0.36,{"$f":"_xlfn.XLOOKUP(K728,'Codes éco-part'!$C$6:$C$923,'Codes éco-part'!$B$6:$B$923)","v":"449"},0.43]
["DIY and gardening products EPR",3,"21101080531","Modulated","DIY products","Large non-electric, non-combustion items and machines, and their accessories","Assembly of materials with inert substances >50%","≥3 kg and <5 kg","€ / unit",0.32,0.32,{"$f":"_xlfn.XLOOKUP(K729,'Codes éco-part'!$C$6:$C$923,'Codes éco-part'!$B$6:$B$923)","v":"447"},0.38]
["DIY and gardening products EPR",3,"21101080540",null,"DIY products","Large non-electric, non-combustion items and machines, and their accessories","Assembly of materials with inert substances >50%","≥5 kg and <7 kg","€ / unit",0.63,0.63,{"$f":"_xlfn.XLOOKUP(K730,'Codes éco-part'!$C$6:$C$923,'Codes éco-part'!$B$6:$B$923)","v":"297"},0.76]
["DIY and gardening products EPR",3,"21101080541","Modulated","DIY products","Large non-electric, non-combustion items and machines, and their accessories","Assembly of materials with inert substances >50%","≥5 kg and <7 kg","€ / unit",0.56999999999999995,0.56999999999999995,{"$f":"_xlfn.XLOOKUP(K731,'Codes éco-part'!$C$6:$C$923,'Codes éco-part'!$B$6:$B$923)","v":"326"},0.68]
["DIY and gardening products EPR",3,"21101080550",null,"DIY products","Large non-electric, non-combustion items and machines, and their accessories","Assembly of materials with inert substances >50%","≥7 kg and <10 kg","€ / unit",0.9,0.9,{"$f":"_xlfn.XLOOKUP(K732,'Codes éco-part'!$C$6:$C$923,'Codes éco-part'!$B$6:$B$923)","v":"330"},1.08]
["DIY and gardening products EPR",3,"21101080551","Modulated","DIY products","Large non-electric, non-combustion items and machines, and their accessories","Assembly of materials with inert substances >50%","≥7 kg and <10 kg","€ / unit",0.81,0.81,{"$f":"_xlfn.XLOOKUP(K733,'Codes éco-part'!$C$6:$C$923,'Codes éco-part'!$B$6:$B$923)","v":"112"},0.97]
["DIY and gardening products EPR",3,"21101080560",null,"DIY products","Large non-electric, non-combustion items and machines, and their accessories","Assembly of materials with inert substances >50%","≥10 kg and <15 kg","€ / unit",1.35,1.35,{"$f":"_xlfn.XLOOKUP(K734,'Codes éco-part'!$C$6:$C$923,'Codes éco-part'!$B$6:$B$923)","v":"332"},1.62]
["DIY and gardening products EPR",3,"21101080561","Modulated","DIY products","Large non-electric, non-combustion items and machines, and their accessories","Assembly of materials with inert substances >50%","≥10 kg and <15 kg","€ / unit",1.22,1.22,{"$f":"_xlfn.XLOOKUP(K735,'Codes éco-part'!$C$6:$C$923,'Codes éco-part'!$B$6:$B$923)","v":"636"},1.46]
["DIY and gardening products EPR",3,"21101080570",null,"DIY products","Large non-electric, non-combustion items and machines, and their accessories","Assembly of materials with inert substances >50%","≥15 kg and <20 kg","€ / unit",1.8,1.8,{"$f":"_xlfn.XLOOKUP(K736,'Codes éco-part'!$C$6:$C$923,'Codes éco-part'!$B$6:$B$923)","v":"603"},2.16]
["DIY and gardening products EPR",3,"21101080571","Modulated","DIY products","Large non-electric, non-combustion items and machines, and their accessories","Assembly of materials with inert substances >50%","≥15 kg and <20 kg","€ / unit",1.62,1.62,{"$f":"_xlfn.XLOOKUP(K737,'Codes éco-part'!$C$6:$C$923,'Codes éco-part'!$B$6:$B$923)","v":"810"},1.94]
["DIY and gardening products EPR",3,"21101080580",null,"DIY products","Large non-electric, non-combustion items and machines, and their accessories","Assembly of materials with inert substances >50%","≥20 kg and <25 kg","€ / unit",2.25,2.25,{"$f":"_xlfn.XLOOKUP(K738,'Codes éco-part'!$C$6:$C$923,'Codes éco-part'!$B$6:$B$923)","v":"118"},2.7]
["DIY and gardening products EPR",3,"21101080581","Modulated","DIY products","Large non-electric, non-combustion items and machines, and their accessories","Assembly of materials with inert substances >50%","≥20 kg and <25 kg","€ / unit",2.0299999999999998,2.0299999999999998,{"$f":"_xlfn.XLOOKUP(K739,'Codes éco-part'!$C$6:$C$923,'Codes éco-part'!$B$6:$B$923)","v":937},2.44]
["DIY and gardening products EPR",3,"21101080590",null,"DIY products","Large non-electric, non-combustion items and machines, and their accessories","Assembly of materials with inert substances >50%","≥25 kg and <30 kg","€ / unit",2.7,2.7,{"$f":"_xlfn.XLOOKUP(K740,'Codes éco-part'!$C$6:$C$923,'Codes éco-part'!$B$6:$B$923)","v":"611"},3.24]
["DIY and gardening products EPR",3,"21101080591","Modulated","DIY products","Large non-electric, non-combustion items and machines, and their accessories","Assembly of materials with inert substances >50%","≥25 kg and <30 kg","€ / unit",2.4300000000000002,2.4300000000000002,{"$f":"_xlfn.XLOOKUP(K741,'Codes éco-part'!$C$6:$C$923,'Codes éco-part'!$B$6:$B$923)","v":"471"},2.92]
["DIY and gardening products EPR",3,"21101080600",null,"DIY products","Large non-electric, non-combustion items and machines, and their accessories","Assembly of materials with inert substances >50%","≥40 kg and <50 kg","€ / unit",4.5,4.5,{"$f":"_xlfn.XLOOKUP(K742,'Codes éco-part'!$C$6:$C$923,'Codes éco-part'!$B$6:$B$923)","v":"127"},5.4]
["DIY and gardening products EPR",3,"21101080601","Modulated","DIY products","Large non-electric, non-combustion items and machines, and their accessories","Assembly of materials with inert substances >50%","≥40 kg and <50 kg","€ / unit",4.05,4.05,{"$f":"_xlfn.XLOOKUP(K743,'Codes éco-part'!$C$6:$C$923,'Codes éco-part'!$B$6:$B$923)","v":"884"},4.8600000000000003]
["DIY and gardening products EPR",3,"21101150000",null,"DIY products","Large non-electric, non-combustion items and machines, and their accessories","Composites and other reconstituted mineral materials >50%","Elements of all sizes and weights","€ / ton",90,90,{"$f":"_xlfn.XLOOKUP(K744,'Codes éco-part'!$C$6:$C$923,'Codes éco-part'!$B$6:$B$923)","v":"609"},108]
["DIY and gardening products EPR",3,"21101150001","Modulated","DIY products","Large non-electric, non-combustion items and machines, and their accessories","Composites and other reconstituted mineral materials >50%","Elements of all sizes and weights","€ / ton",81,81,{"$f":"_xlfn.XLOOKUP(K745,'Codes éco-part'!$C$6:$C$923,'Codes éco-part'!$B$6:$B$923)","v":943},97.2]
["DIY and gardening products EPR",3,"21101150200",null,"DIY products","Large non-electric, non-combustion items and machines, and their accessories","Composites and other reconstituted mineral materials >50%","Strictly <0.5 kg","€ / unit",0.02,0.02,{"$f":"_xlfn.XLOOKUP(K746,'Codes éco-part'!$C$6:$C$923,'Codes éco-part'!$B$6:$B$923)","v":"047"},0.02]
["DIY and gardening products EPR",3,"21101150201","Modulated","DIY products","Large non-electric, non-combustion items and machines, and their accessories","Composites and other reconstituted mineral materials >50%","Strictly <0.5 kg","€ / unit",0.02,0.02,{"$f":"_xlfn.XLOOKUP(K747,'Codes éco-part'!$C$6:$C$923,'Codes éco-part'!$B$6:$B$923)","v":"047"},0.02]
["DIY and gardening products EPR",3,"21101150210",null,"DIY products","Large non-electric, non-combustion items and machines, and their accessories","Composites and other reconstituted mineral materials >50%","≥0.5 kg and <1 kg","€ / unit",7.0000000000000007E-2,7.0000000000000007E-2,{"$f":"_xlfn.XLOOKUP(K748,'Codes éco-part'!$C$6:$C$923,'Codes éco-part'!$B$6:$B$923)","v":"247"},0.08]
["DIY and gardening products EPR",3,"21101150211","Modulated","DIY products","Large non-electric, non-combustion items and machines, and their accessories","Composites and other reconstituted mineral materials >50%","≥0.5 kg and <1 kg","€ / unit",0.06,0.06,{"$f":"_xlfn.XLOOKUP(K749,'Codes éco-part'!$C$6:$C$923,'Codes éco-part'!$B$6:$B$923)","v":"096"},7.0000000000000007E-2]
["DIY and gardening products EPR",3,"21101150220",null,"DIY products","Large non-electric, non-combustion items and machines, and their accessories","Composites and other reconstituted mineral materials >50%","≥1 kg and <2 kg","€ / unit",0.14000000000000001,0.14000000000000001,{"$f":"_xlfn.XLOOKUP(K750,'Codes éco-part'!$C$6:$C$923,'Codes éco-part'!$B$6:$B$923)","v":"098"},0.17]
["DIY and gardening products EPR",3,"21101150221","Modulated","DIY products","Large non-electric, non-combustion items and machines, and their accessories","Composites and other reconstituted mineral materials >50%","≥1 kg and <2 kg","€ / unit",0.13,0.13,{"$f":"_xlfn.XLOOKUP(K751,'Codes éco-part'!$C$6:$C$923,'Codes éco-part'!$B$6:$B$923)","v":"004"},0.16]
["DIY and gardening products EPR",3,"21101150270",null,"DIY products","Large non-electric, non-combustion items and machines, and their accessories","Composites and other reconstituted mineral materials >50%","≥30 kg and <40 kg","€ / unit",3.6,3.6,{"$f":"_xlfn.XLOOKUP(K752,'Codes éco-part'!$C$6:$C$923,'Codes éco-part'!$B$6:$B$923)","v":"610"},4.32]
["DIY and gardening products EPR",3,"21101150271","Modulated","DIY products","Large non-electric, non-combustion items and machines, and their accessories","Composites and other reconstituted mineral materials >50%","≥30 kg and <40 kg","€ / unit",3.24,3.24,{"$f":"_xlfn.XLOOKUP(K753,'Codes éco-part'!$C$6:$C$923,'Codes éco-part'!$B$6:$B$923)","v":944},3.89]
["DIY and gardening products EPR",3,"21101150520",null,"DIY products","Large non-electric, non-combustion items and machines, and their accessories","Composites and other reconstituted mineral materials >50%","≥2 kg and <3 kg","€ / unit",0.23,0.23,{"$f":"_xlfn.XLOOKUP(K754,'Codes éco-part'!$C$6:$C$923,'Codes éco-part'!$B$6:$B$923)","v":"323"},0.28000000000000003]
["DIY and gardening products EPR",3,"21101150521","Modulated","DIY products","Large non-electric, non-combustion items and machines, and their accessories","Composites and other reconstituted mineral materials >50%","≥2 kg and <3 kg","€ / unit",0.21,0.21,{"$f":"_xlfn.XLOOKUP(K755,'Codes éco-part'!$C$6:$C$923,'Codes éco-part'!$B$6:$B$923)","v":"051"},0.25]
["DIY and gardening products EPR",3,"21101150530",null,"DIY products","Large non-electric, non-combustion items and machines, and their accessories","Composites and other reconstituted mineral materials >50%","≥3 kg and <5 kg","€ / unit",0.36,0.36,{"$f":"_xlfn.XLOOKUP(K756,'Codes éco-part'!$C$6:$C$923,'Codes éco-part'!$B$6:$B$923)","v":"449"},0.43]
["DIY and gardening products EPR",3,"21101150531","Modulated","DIY products","Large non-electric, non-combustion items and machines, and their accessories","Composites and other reconstituted mineral materials >50%","≥3 kg and <5 kg","€ / unit",0.32,0.32,{"$f":"_xlfn.XLOOKUP(K757,'Codes éco-part'!$C$6:$C$923,'Codes éco-part'!$B$6:$B$923)","v":"447"},0.38]
["DIY and gardening products EPR",3,"21101150540",null,"DIY products","Large non-electric, non-combustion items and machines, and their accessories","Composites and other reconstituted mineral materials >50%","≥5 kg and <7 kg","€ / unit",0.63,0.63,{"$f":"_xlfn.XLOOKUP(K758,'Codes éco-part'!$C$6:$C$923,'Codes éco-part'!$B$6:$B$923)","v":"297"},0.76]
["DIY and gardening products EPR",3,"21101150541","Modulated","DIY products","Large non-electric, non-combustion items and machines, and their accessories","Composites and other reconstituted mineral materials >50%","≥5 kg and <7 kg","€ / unit",0.56999999999999995,0.56999999999999995,{"$f":"_xlfn.XLOOKUP(K759,'Codes éco-part'!$C$6:$C$923,'Codes éco-part'!$B$6:$B$923)","v":"326"},0.68]
["DIY and gardening products EPR",3,"21101150550",null,"DIY products","Large non-electric, non-combustion items and machines, and their accessories","Composites and other reconstituted mineral materials >50%","≥7 kg and <10 kg","€ / unit",0.9,0.9,{"$f":"_xlfn.XLOOKUP(K760,'Codes éco-part'!$C$6:$C$923,'Codes éco-part'!$B$6:$B$923)","v":"330"},1.08]
["DIY and gardening products EPR",3,"21101150551","Modulated","DIY products","Large non-electric, non-combustion items and machines, and their accessories","Composites and other reconstituted mineral materials >50%","≥7 kg and <10 kg","€ / unit",0.81,0.81,{"$f":"_xlfn.XLOOKUP(K761,'Codes éco-part'!$C$6:$C$923,'Codes éco-part'!$B$6:$B$923)","v":"112"},0.97]
["DIY and gardening products EPR",3,"21101150560",null,"DIY products","Large non-electric, non-combustion items and machines, and their accessories","Composites and other reconstituted mineral materials >50%","≥10 kg and <15 kg","€ / unit",1.35,1.35,{"$f":"_xlfn.XLOOKUP(K762,'Codes éco-part'!$C$6:$C$923,'Codes éco-part'!$B$6:$B$923)","v":"332"},1.62]
["DIY and gardening products EPR",3,"21101150561","Modulated","DIY products","Large non-electric, non-combustion items and machines, and their accessories","Composites and other reconstituted mineral materials >50%","≥10 kg and <15 kg","€ / unit",1.22,1.22,{"$f":"_xlfn.XLOOKUP(K763,'Codes éco-part'!$C$6:$C$923,'Codes éco-part'!$B$6:$B$923)","v":"636"},1.46]
["DIY and gardening products EPR",3,"21101150570",null,"DIY products","Large non-electric, non-combustion items and machines, and their accessories","Composites and other reconstituted mineral materials >50%","≥15 kg and <20 kg","€ / unit",1.8,1.8,{"$f":"_xlfn.XLOOKUP(K764,'Codes éco-part'!$C$6:$C$923,'Codes éco-part'!$B$6:$B$923)","v":"603"},2.16]
["DIY and gardening products EPR",3,"21101150571","Modulated","DIY products","Large non-electric, non-combustion items and machines, and their accessories","Composites and other reconstituted mineral materials >50%","≥15 kg and <20 kg","€ / unit",1.62,1.62,{"$f":"_xlfn.XLOOKUP(K765,'Codes éco-part'!$C$6:$C$923,'Codes éco-part'!$B$6:$B$923)","v":"810"},1.94]
["DIY and gardening products EPR",3,"21101150580",null,"DIY products","Large non-electric, non-combustion items and machines, and their accessories","Composites and other reconstituted mineral materials >50%","≥20 kg and <25 kg","€ / unit",2.25,2.25,{"$f":"_xlfn.XLOOKUP(K766,'Codes éco-part'!$C$6:$C$923,'Codes éco-part'!$B$6:$B$923)","v":"118"},2.7]
["DIY and gardening products EPR",3,"21101150581","Modulated","DIY products","Large non-electric, non-combustion items and machines, and their accessories","Composites and other reconstituted mineral materials >50%","≥20 kg and <25 kg","€ / unit",2.0299999999999998,2.0299999999999998,{"$f":"_xlfn.XLOOKUP(K767,'Codes éco-part'!$C$6:$C$923,'Codes éco-part'!$B$6:$B$923)","v":937},2.44]
["DIY and gardening products EPR",3,"21101150590",null,"DIY products","Large non-electric, non-combustion items and machines, and their accessories","Composites and other reconstituted mineral materials >50%","≥25 kg and <30 kg","€ / unit",2.7,2.7,{"$f":"_xlfn.XLOOKUP(K768,'Codes éco-part'!$C$6:$C$923,'Codes éco-part'!$B$6:$B$923)","v":"611"},3.24]
["DIY and gardening products EPR",3,"21101150591","Modulated","DIY products","Large non-electric, non-combustion items and machines, and their accessories","Composites and other reconstituted mineral materials >50%","≥25 kg and <30 kg","€ / unit",2.4300000000000002,2.4300000000000002,{"$f":"_xlfn.XLOOKUP(K769,'Codes éco-part'!$C$6:$C$923,'Codes éco-part'!$B$6:$B$923)","v":"471"},2.92]
["DIY and gardening products EPR",3,"21101150600",null,"DIY products","Large non-electric, non-combustion items and machines, and their accessories","Composites and other reconstituted mineral materials >50%","≥40 kg and <50 kg","€ / unit",4.5,4.5,{"$f":"_xlfn.XLOOKUP(K770,'Codes éco-part'!$C$6:$C$923,'Codes éco-part'!$B$6:$B$923)","v":"127"},{"$f":"ROUND(K770*1.2,2)","v":5.4}]
["DIY and gardening products EPR",3,"21101150601","Modulated","DIY products","Large non-electric, non-combustion items and machines, and their accessories","Composites and other reconstituted mineral materials >50%","≥40 kg and <50 kg","€ / unit",4.05,4.05,{"$f":"_xlfn.XLOOKUP(K771,'Codes éco-part'!$C$6:$C$923,'Codes éco-part'!$B$6:$B$923)","v":"884"},4.8600000000000003]
["DIY and gardening products EPR",3,"21101190000",null,"DIY products","Large non-electric, non-combustion items and machines, and their accessories","Cardboard >50% and other materials (excl. glass)","Elements of all sizes and weights","€ / ton",90,90,{"$f":"_xlfn.XLOOKUP(K772,'Codes éco-part'!$C$6:$C$923,'Codes éco-part'!$B$6:$B$923)","v":"609"},108]
["DIY and gardening products EPR",3,"21101190001","Modulated","DIY products","Large non-electric, non-combustion items and machines, and their accessories","Cardboard >50% and other materials (excl. glass)","Elements of all sizes and weights","€ / ton",81,81,{"$f":"_xlfn.XLOOKUP(K773,'Codes éco-part'!$C$6:$C$923,'Codes éco-part'!$B$6:$B$923)","v":943},97.2]
["DIY and gardening products EPR",3,"21101190200",null,"DIY products","Large non-electric, non-combustion items and machines, and their accessories","Cardboard >50% and other materials (excl. glass)","Strictly <0.5 kg","€ / unit",0.02,0.02,{"$f":"_xlfn.XLOOKUP(K774,'Codes éco-part'!$C$6:$C$923,'Codes éco-part'!$B$6:$B$923)","v":"047"},0.02]
["DIY and gardening products EPR",3,"21101190201","Modulated","DIY products","Large non-electric, non-combustion items and machines, and their accessories","Cardboard >50% and other materials (excl. glass)","Strictly <0.5 kg","€ / unit",0.02,0.02,{"$f":"_xlfn.XLOOKUP(K775,'Codes éco-part'!$C$6:$C$923,'Codes éco-part'!$B$6:$B$923)","v":"047"},0.02]
["DIY and gardening products EPR",3,"21101190210",null,"DIY products","Large non-electric, non-combustion items and machines, and their accessories","Cardboard >50% and other materials (excl. glass)","≥0.5 kg and <1 kg","€ / unit",7.0000000000000007E-2,7.0000000000000007E-2,{"$f":"_xlfn.XLOOKUP(K776,'Codes éco-part'!$C$6:$C$923,'Codes éco-part'!$B$6:$B$923)","v":"247"},0.08]
["DIY and gardening products EPR",3,"21101190211","Modulated","DIY products","Large non-electric, non-combustion items and machines, and their accessories","Cardboard >50% and other materials (excl. glass)","≥0.5 kg and <1 kg","€ / unit",0.06,0.06,{"$f":"_xlfn.XLOOKUP(K777,'Codes éco-part'!$C$6:$C$923,'Codes éco-part'!$B$6:$B$923)","v":"096"},7.0000000000000007E-2]
["DIY and gardening products EPR",3,"21101190220",null,"DIY products","Large non-electric, non-combustion items and machines, and their accessories","Cardboard >50% and other materials (excl. glass)","≥1 kg and <2 kg","€ / unit",0.14000000000000001,0.14000000000000001,{"$f":"_xlfn.XLOOKUP(K778,'Codes éco-part'!$C$6:$C$923,'Codes éco-part'!$B$6:$B$923)","v":"098"},0.17]
["DIY and gardening products EPR",3,"21101190221","Modulated","DIY products","Large non-electric, non-combustion items and machines, and their accessories","Cardboard >50% and other materials (excl. glass)","≥1 kg and <2 kg","€ / unit",0.13,0.13,{"$f":"_xlfn.XLOOKUP(K779,'Codes éco-part'!$C$6:$C$923,'Codes éco-part'!$B$6:$B$923)","v":"004"},0.16]
["DIY and gardening products EPR",3,"21101190270",null,"DIY products","Large non-electric, non-combustion items and machines, and their accessories","Cardboard >50% and other materials (excl. glass)","≥30 kg and <40 kg","€ / unit",3.6,3.6,{"$f":"_xlfn.XLOOKUP(K780,'Codes éco-part'!$C$6:$C$923,'Codes éco-part'!$B$6:$B$923)","v":"610"},4.32]
["DIY and gardening products EPR",3,"21101190271","Modulated","DIY products","Large non-electric, non-combustion items and machines, and their accessories","Cardboard >50% and other materials (excl. glass)","≥30 kg and <40 kg","€ / unit",3.24,3.24,{"$f":"_xlfn.XLOOKUP(K781,'Codes éco-part'!$C$6:$C$923,'Codes éco-part'!$B$6:$B$923)","v":944},3.89]
["DIY and gardening products EPR",3,"21101190520",null,"DIY products","Large non-electric, non-combustion items and machines, and their accessories","Cardboard >50% and other materials (excl. glass)","≥2 kg and <3 kg","€ / unit",0.23,0.23,{"$f":"_xlfn.XLOOKUP(K782,'Codes éco-part'!$C$6:$C$923,'Codes éco-part'!$B$6:$B$923)","v":"323"},0.28000000000000003]
["DIY and gardening products EPR",3,"21101190521","Modulated","DIY products","Large non-electric, non-combustion items and machines, and their accessories","Cardboard >50% and other materials (excl. glass)","≥2 kg and <3 kg","€ / unit",0.21,0.21,{"$f":"_xlfn.XLOOKUP(K783,'Codes éco-part'!$C$6:$C$923,'Codes éco-part'!$B$6:$B$923)","v":"051"},0.25]
["DIY and gardening products EPR",3,"21101190530",null,"DIY products","Large non-electric, non-combustion items and machines, and their accessories","Cardboard >50% and other materials (excl. glass)","≥3 kg and <5 kg","€ / unit",0.36,0.36,{"$f":"_xlfn.XLOOKUP(K784,'Codes éco-part'!$C$6:$C$923,'Codes éco-part'!$B$6:$B$923)","v":"449"},0.43]
["DIY and gardening products EPR",3,"21101190531","Modulated","DIY products","Large non-electric, non-combustion items and machines, and their accessories","Cardboard >50% and other materials (excl. glass)","≥3 kg and <5 kg","€ / unit",0.32,0.32,{"$f":"_xlfn.XLOOKUP(K785,'Codes éco-part'!$C$6:$C$923,'Codes éco-part'!$B$6:$B$923)","v":"447"},0.38]
["DIY and gardening products EPR",3,"21101190540",null,"DIY products","Large non-electric, non-combustion items and machines, and their accessories","Cardboard >50% and other materials (excl. glass)","≥5 kg and <7 kg","€ / unit",0.63,0.63,{"$f":"_xlfn.XLOOKUP(K786,'Codes éco-part'!$C$6:$C$923,'Codes éco-part'!$B$6:$B$923)","v":"297"},0.76]
["DIY and gardening products EPR",3,"21101190541","Modulated","DIY products","Large non-electric, non-combustion items and machines, and their accessories","Cardboard >50% and other materials (excl. glass)","≥5 kg and <7 kg","€ / unit",0.56999999999999995,0.56999999999999995,{"$f":"_xlfn.XLOOKUP(K787,'Codes éco-part'!$C$6:$C$923,'Codes éco-part'!$B$6:$B$923)","v":"326"},0.68]
["DIY and gardening products EPR",3,"21101190550",null,"DIY products","Large non-electric, non-combustion items and machines, and their accessories","Cardboard >50% and other materials (excl. glass)","≥7 kg and <10 kg","€ / unit",0.9,0.9,{"$f":"_xlfn.XLOOKUP(K788,'Codes éco-part'!$C$6:$C$923,'Codes éco-part'!$B$6:$B$923)","v":"330"},1.08]
["DIY and gardening products EPR",3,"21101190551","Modulated","DIY products","Large non-electric, non-combustion items and machines, and their accessories","Cardboard >50% and other materials (excl. glass)","≥7 kg and <10 kg","€ / unit",0.81,0.81,{"$f":"_xlfn.XLOOKUP(K789,'Codes éco-part'!$C$6:$C$923,'Codes éco-part'!$B$6:$B$923)","v":"112"},0.97]
["DIY and gardening products EPR",3,"21101190560",null,"DIY products","Large non-electric, non-combustion items and machines, and their accessories","Cardboard >50% and other materials (excl. glass)","≥10 kg and <15 kg","€ / unit",1.35,1.35,{"$f":"_xlfn.XLOOKUP(K790,'Codes éco-part'!$C$6:$C$923,'Codes éco-part'!$B$6:$B$923)","v":"332"},1.62]
["DIY and gardening products EPR",3,"21101190561","Modulated","DIY products","Large non-electric, non-combustion items and machines, and their accessories","Cardboard >50% and other materials (excl. glass)","≥10 kg and <15 kg","€ / unit",1.22,1.22,{"$f":"_xlfn.XLOOKUP(K791,'Codes éco-part'!$C$6:$C$923,'Codes éco-part'!$B$6:$B$923)","v":"636"},1.46]
["DIY and gardening products EPR",3,"21101190570",null,"DIY products","Large non-electric, non-combustion items and machines, and their accessories","Cardboard >50% and other materials (excl. glass)","≥15 kg and <20 kg","€ / unit",1.8,1.8,{"$f":"_xlfn.XLOOKUP(K792,'Codes éco-part'!$C$6:$C$923,'Codes éco-part'!$B$6:$B$923)","v":"603"},2.16]
["DIY and gardening products EPR",3,"21101190571","Modulated","DIY products","Large non-electric, non-combustion items and machines, and their accessories","Cardboard >50% and other materials (excl. glass)","≥15 kg and <20 kg","€ / unit",1.62,1.62,{"$f":"_xlfn.XLOOKUP(K793,'Codes éco-part'!$C$6:$C$923,'Codes éco-part'!$B$6:$B$923)","v":"810"},1.94]
["DIY and gardening products EPR",3,"21101190580",null,"DIY products","Large non-electric, non-combustion items and machines, and their accessories","Cardboard >50% and other materials (excl. glass)","≥20 kg and <25 kg","€ / unit",2.25,2.25,{"$f":"_xlfn.XLOOKUP(K794,'Codes éco-part'!$C$6:$C$923,'Codes éco-part'!$B$6:$B$923)","v":"118"},2.7]
["DIY and gardening products EPR",3,"21101190581","Modulated","DIY products","Large non-electric, non-combustion items and machines, and their accessories","Cardboard >50% and other materials (excl. glass)","≥20 kg and <25 kg","€ / unit",2.0299999999999998,2.0299999999999998,{"$f":"_xlfn.XLOOKUP(K795,'Codes éco-part'!$C$6:$C$923,'Codes éco-part'!$B$6:$B$923)","v":937},2.44]
["DIY and gardening products EPR",3,"21101190590",null,"DIY products","Large non-electric, non-combustion items and machines, and their accessories","Cardboard >50% and other materials (excl. glass)","≥25 kg and <30 kg","€ / unit",2.7,2.7,{"$f":"_xlfn.XLOOKUP(K796,'Codes éco-part'!$C$6:$C$923,'Codes éco-part'!$B$6:$B$923)","v":"611"},3.24]
["DIY and gardening products EPR",3,"21101190591","Modulated","DIY products","Large non-electric, non-combustion items and machines, and their accessories","Cardboard >50% and other materials (excl. glass)","≥25 kg and <30 kg","€ / unit",2.4300000000000002,2.4300000000000002,{"$f":"_xlfn.XLOOKUP(K797,'Codes éco-part'!$C$6:$C$923,'Codes éco-part'!$B$6:$B$923)","v":"471"},2.92]
["DIY and gardening products EPR",3,"21101190600",null,"DIY products","Large non-electric, non-combustion items and machines, and their accessories","Cardboard >50% and other materials (excl. glass)","≥40 kg and <50 kg","€ / unit",4.5,4.5,{"$f":"_xlfn.XLOOKUP(K798,'Codes éco-part'!$C$6:$C$923,'Codes éco-part'!$B$6:$B$923)","v":"127"},5.4]
["DIY and gardening products EPR",3,"21101190601","Modulated","DIY products","Large non-electric, non-combustion items and machines, and their accessories","Cardboard >50% and other materials (excl. glass)","≥40 kg and <50 kg","€ / unit",4.05,4.05,{"$f":"_xlfn.XLOOKUP(K799,'Codes éco-part'!$C$6:$C$923,'Codes éco-part'!$B$6:$B$923)","v":"884"},4.8600000000000003]
["DIY and gardening products EPR",3,"21101200000",null,"DIY products","Large non-electric, non-combustion items and machines, and their accessories","Solid wood and related products certified >75%","Elements of all sizes and weights","€ / ton",13,13,{"$f":"_xlfn.XLOOKUP(K800,'Codes éco-part'!$C$6:$C$923,'Codes éco-part'!$B$6:$B$923)","v":"486"},15.6]
["DIY and gardening products EPR",3,"21101200001","Modulated","DIY products","Large non-electric, non-combustion items and machines, and their accessories","Solid wood and related products certified >75%","Elements of all sizes and weights","€ / ton",11.7,11.7,{"$f":"_xlfn.XLOOKUP(K801,'Codes éco-part'!$C$6:$C$923,'Codes éco-part'!$B$6:$B$923)","v":945},14.04]
["DIY and gardening products EPR",3,"21101200200",null,"DIY products","Large non-electric, non-combustion items and machines, and their accessories","Solid wood and related products certified >75%","Strictly <0.5 kg","€ / unit",0.01,0.01,{"$f":"_xlfn.XLOOKUP(K802,'Codes éco-part'!$C$6:$C$923,'Codes éco-part'!$B$6:$B$923)","v":"260"},0.01]
["DIY and gardening products EPR",3,"21101200201","Modulated","DIY products","Large non-electric, non-combustion items and machines, and their accessories","Solid wood and related products certified >75%","Strictly <0.5 kg","€ / unit",0.01,0.01,{"$f":"_xlfn.XLOOKUP(K803,'Codes éco-part'!$C$6:$C$923,'Codes éco-part'!$B$6:$B$923)","v":"260"},0.01]
["DIY and gardening products EPR",3,"21101200210",null,"DIY products","Large non-electric, non-combustion items and machines, and their accessories","Solid wood and related products certified >75%","≥0.5 kg and <1 kg","€ / unit",0.01,0.01,{"$f":"_xlfn.XLOOKUP(K804,'Codes éco-part'!$C$6:$C$923,'Codes éco-part'!$B$6:$B$923)","v":"260"},0.01]
["DIY and gardening products EPR",3,"21101200211","Modulated","DIY products","Large non-electric, non-combustion items and machines, and their accessories","Solid wood and related products certified >75%","≥0.5 kg and <1 kg","€ / unit",0.01,0.01,{"$f":"_xlfn.XLOOKUP(K805,'Codes éco-part'!$C$6:$C$923,'Codes éco-part'!$B$6:$B$923)","v":"260"},0.01]
["DIY and gardening products EPR",3,"21101200220",null,"DIY products","Large non-electric, non-combustion items and machines, and their accessories","Solid wood and related products certified >75%","≥1 kg and <2 kg","€ / unit",0.02,0.02,{"$f":"_xlfn.XLOOKUP(K806,'Codes éco-part'!$C$6:$C$923,'Codes éco-part'!$B$6:$B$923)","v":"047"},0.02]
["DIY and gardening products EPR",3,"21101200221","Modulated","DIY products","Large non-electric, non-combustion items and machines, and their accessories","Solid wood and related products certified >75%","≥1 kg and <2 kg","€ / unit",0.02,0.02,{"$f":"_xlfn.XLOOKUP(K807,'Codes éco-part'!$C$6:$C$923,'Codes éco-part'!$B$6:$B$923)","v":"047"},0.02]
["DIY and gardening products EPR",3,"21101200270",null,"DIY products","Large non-electric, non-combustion items and machines, and their accessories","Solid wood and related products certified >75%","≥30 kg and <40 kg","€ / unit",0.52,0.52,{"$f":"_xlfn.XLOOKUP(K808,'Codes éco-part'!$C$6:$C$923,'Codes éco-part'!$B$6:$B$923)","v":"509"},0.62]
["DIY and gardening products EPR",3,"21101200271","Modulated","DIY products","Large non-electric, non-combustion items and machines, and their accessories","Solid wood and related products certified >75%","≥30 kg and <40 kg","€ / unit",0.47,0.47,{"$f":"_xlfn.XLOOKUP(K809,'Codes éco-part'!$C$6:$C$923,'Codes éco-part'!$B$6:$B$923)","v":"107"},0.56000000000000005]
["DIY and gardening products EPR",3,"21101200520",null,"DIY products","Large non-electric, non-combustion items and machines, and their accessories","Solid wood and related products certified >75%","≥2 kg and <3 kg","€ / unit",0.03,0.03,{"$f":"_xlfn.XLOOKUP(K810,'Codes éco-part'!$C$6:$C$923,'Codes éco-part'!$B$6:$B$923)","v":"092"},0.04]
["DIY and gardening products EPR",3,"21101200521","Modulated","DIY products","Large non-electric, non-combustion items and machines, and their accessories","Solid wood and related products certified >75%","≥2 kg and <3 kg","€ / unit",0.03,0.03,{"$f":"_xlfn.XLOOKUP(K811,'Codes éco-part'!$C$6:$C$923,'Codes éco-part'!$B$6:$B$923)","v":"092"},0.04]
["DIY and gardening products EPR",3,"21101200530",null,"DIY products","Large non-electric, non-combustion items and machines, and their accessories","Solid wood and related products certified >75%","≥3 kg and <5 kg","€ / unit",0.05,0.05,{"$f":"_xlfn.XLOOKUP(K812,'Codes éco-part'!$C$6:$C$923,'Codes éco-part'!$B$6:$B$923)","v":"048"},0.06]
["DIY and gardening products EPR",3,"21101200531","Modulated","DIY products","Large non-electric, non-combustion items and machines, and their accessories","Solid wood and related products certified >75%","≥3 kg and <5 kg","€ / unit",0.05,0.05,{"$f":"_xlfn.XLOOKUP(K813,'Codes éco-part'!$C$6:$C$923,'Codes éco-part'!$B$6:$B$923)","v":"048"},0.06]
["DIY and gardening products EPR",3,"21101200540",null,"DIY products","Large non-electric, non-combustion items and machines, and their accessories","Solid wood and related products certified >75%","≥5 kg and <7 kg","€ / unit",0.09,0.09,{"$f":"_xlfn.XLOOKUP(K814,'Codes éco-part'!$C$6:$C$923,'Codes éco-part'!$B$6:$B$923)","v":"049"},0.11]
["DIY and gardening products EPR",3,"21101200541","Modulated","DIY products","Large non-electric, non-combustion items and machines, and their accessories","Solid wood and related products certified >75%","≥5 kg and <7 kg","€ / unit",0.08,0.08,{"$f":"_xlfn.XLOOKUP(K815,'Codes éco-part'!$C$6:$C$923,'Codes éco-part'!$B$6:$B$923)","v":"003"},0.1]
["DIY and gardening products EPR",3,"21101200550",null,"DIY products","Large non-electric, non-combustion items and machines, and their accessories","Solid wood and related products certified >75%","≥7 kg and <10 kg","€ / unit",0.13,0.13,{"$f":"_xlfn.XLOOKUP(K816,'Codes éco-part'!$C$6:$C$923,'Codes éco-part'!$B$6:$B$923)","v":"004"},0.16]
["DIY and gardening products EPR",3,"21101200551","Modulated","DIY products","Large non-electric, non-combustion items and machines, and their accessories","Solid wood and related products certified >75%","≥7 kg and <10 kg","€ / unit",0.12,0.12,{"$f":"_xlfn.XLOOKUP(K817,'Codes éco-part'!$C$6:$C$923,'Codes éco-part'!$B$6:$B$923)","v":"097"},0.14000000000000001]
["DIY and gardening products EPR",3,"21101200560",null,"DIY products","Large non-electric, non-combustion items and machines, and their accessories","Solid wood and related products certified >75%","≥10 kg and <15 kg","€ / unit",0.2,0.2,{"$f":"_xlfn.XLOOKUP(K818,'Codes éco-part'!$C$6:$C$923,'Codes éco-part'!$B$6:$B$923)","v":"101"},0.24]
["DIY and gardening products EPR",3,"21101200561","Modulated","DIY products","Large non-electric, non-combustion items and machines, and their accessories","Solid wood and related products certified >75%","≥10 kg and <15 kg","€ / unit",0.18,0.18,{"$f":"_xlfn.XLOOKUP(K819,'Codes éco-part'!$C$6:$C$923,'Codes éco-part'!$B$6:$B$923)","v":"100"},0.22]
["DIY and gardening products EPR",3,"21101200570",null,"DIY products","Large non-electric, non-combustion items and machines, and their accessories","Solid wood and related products certified >75%","≥15 kg and <20 kg","€ / unit",0.26,0.26,{"$f":"_xlfn.XLOOKUP(K820,'Codes éco-part'!$C$6:$C$923,'Codes éco-part'!$B$6:$B$923)","v":"445"},0.31]
["DIY and gardening products EPR",3,"21101200571","Modulated","DIY products","Large non-electric, non-combustion items and machines, and their accessories","Solid wood and related products certified >75%","≥15 kg and <20 kg","€ / unit",0.23,0.23,{"$f":"_xlfn.XLOOKUP(K821,'Codes éco-part'!$C$6:$C$923,'Codes éco-part'!$B$6:$B$923)","v":"323"},0.28000000000000003]
["DIY and gardening products EPR",3,"21101200580",null,"DIY products","Large non-electric, non-combustion items and machines, and their accessories","Solid wood and related products certified >75%","≥20 kg and <25 kg","€ / unit",0.33,0.33,{"$f":"_xlfn.XLOOKUP(K822,'Codes éco-part'!$C$6:$C$923,'Codes éco-part'!$B$6:$B$923)","v":"006"},0.4]
["DIY and gardening products EPR",3,"21101200581","Modulated","DIY products","Large non-electric, non-combustion items and machines, and their accessories","Solid wood and related products certified >75%","≥20 kg and <25 kg","€ / unit",0.3,0.3,{"$f":"_xlfn.XLOOKUP(K823,'Codes éco-part'!$C$6:$C$923,'Codes éco-part'!$B$6:$B$923)","v":"446"},0.36]
["DIY and gardening products EPR",3,"21101200590",null,"DIY products","Large non-electric, non-combustion items and machines, and their accessories","Solid wood and related products certified >75%","≥25 kg and <30 kg","€ / unit",0.39,0.39,{"$f":"_xlfn.XLOOKUP(K824,'Codes éco-part'!$C$6:$C$923,'Codes éco-part'!$B$6:$B$923)","v":"253"},0.47]
["DIY and gardening products EPR",3,"21101200591","Modulated","DIY products","Large non-electric, non-combustion items and machines, and their accessories","Solid wood and related products certified >75%","≥25 kg and <30 kg","€ / unit",0.35,0.35,{"$f":"_xlfn.XLOOKUP(K825,'Codes éco-part'!$C$6:$C$923,'Codes éco-part'!$B$6:$B$923)","v":"448"},0.42]
["DIY and gardening products EPR",3,"21101200600",null,"DIY products","Large non-electric, non-combustion items and machines, and their accessories","Solid wood and related products certified >75%","≥40 kg and <50 kg","€ / unit",0.65,0.65,{"$f":"_xlfn.XLOOKUP(K826,'Codes éco-part'!$C$6:$C$923,'Codes éco-part'!$B$6:$B$923)","v":"613"},0.78]
["DIY and gardening products EPR",3,"21101200601","Modulated","DIY products","Large non-electric, non-combustion items and machines, and their accessories","Solid wood and related products certified >75%","≥40 kg and <50 kg","€ / unit",0.59,0.59,{"$f":"_xlfn.XLOOKUP(K827,'Codes éco-part'!$C$6:$C$923,'Codes éco-part'!$B$6:$B$923)","v":"254"},0.71]
["DIY and gardening products EPR",3,"21101210000",null,"DIY products","Large non-electric, non-combustion items and machines, and their accessories","Solid wood and related products >75%","Elements of all sizes and weights","€ / ton",26,26,{"$f":"_xlfn.XLOOKUP(K828,'Codes éco-part'!$C$6:$C$923,'Codes éco-part'!$B$6:$B$923)","v":"582"},31.2]
["DIY and gardening products EPR",3,"21101210001","Modulated","DIY products","Large non-electric, non-combustion items and machines, and their accessories","Solid wood and related products >75%","Elements of all sizes and weights","€ / ton",23.4,23.4,{"$f":"_xlfn.XLOOKUP(K829,'Codes éco-part'!$C$6:$C$923,'Codes éco-part'!$B$6:$B$923)","v":946},28.08]
["DIY and gardening products EPR",3,"21101210200",null,"DIY products","Large non-electric, non-combustion items and machines, and their accessories","Solid wood and related products >75%","Strictly <0.5 kg","€ / unit",0.02,0.02,{"$f":"_xlfn.XLOOKUP(K830,'Codes éco-part'!$C$6:$C$923,'Codes éco-part'!$B$6:$B$923)","v":"047"},0.02]
["DIY and gardening products EPR",3,"21101210201","Modulated","DIY products","Large non-electric, non-combustion items and machines, and their accessories","Solid wood and related products >75%","Strictly <0.5 kg","€ / unit",0.02,0.02,{"$f":"_xlfn.XLOOKUP(K831,'Codes éco-part'!$C$6:$C$923,'Codes éco-part'!$B$6:$B$923)","v":"047"},0.02]
["DIY and gardening products EPR",3,"21101210210",null,"DIY products","Large non-electric, non-combustion items and machines, and their accessories","Solid wood and related products >75%","≥0.5 kg and <1 kg","€ / unit",0.02,0.02,{"$f":"_xlfn.XLOOKUP(K832,'Codes éco-part'!$C$6:$C$923,'Codes éco-part'!$B$6:$B$923)","v":"047"},0.02]
["DIY and gardening products EPR",3,"21101210211","Modulated","DIY products","Large non-electric, non-combustion items and machines, and their accessories","Solid wood and related products >75%","≥0.5 kg and <1 kg","€ / unit",0.02,0.02,{"$f":"_xlfn.XLOOKUP(K833,'Codes éco-part'!$C$6:$C$923,'Codes éco-part'!$B$6:$B$923)","v":"047"},0.02]
["DIY and gardening products EPR",3,"21101210220",null,"DIY products","Large non-electric, non-combustion items and machines, and their accessories","Solid wood and related products >75%","≥1 kg and <2 kg","€ / unit",0.04,0.04,{"$f":"_xlfn.XLOOKUP(K834,'Codes éco-part'!$C$6:$C$923,'Codes éco-part'!$B$6:$B$923)","v":"002"},{"$f":"ROUND(K834*1.2,2)","v":0.05}]
["DIY and gardening products EPR",3,"21101210221","Modulated","DIY products","Large non-electric, non-combustion items and machines, and their accessories","Solid wood and related products >75%","≥1 kg and <2 kg","€ / unit",0.04,0.04,{"$f":"_xlfn.XLOOKUP(K835,'Codes éco-part'!$C$6:$C$923,'Codes éco-part'!$B$6:$B$923)","v":"002"},0.05]
["DIY and gardening products EPR",3,"21101210270",null,"DIY products","Large non-electric, non-combustion items and machines, and their accessories","Solid wood and related products >75%","≥30 kg and <40 kg","€ / unit",1.04,1.04,{"$f":"_xlfn.XLOOKUP(K836,'Codes éco-part'!$C$6:$C$923,'Codes éco-part'!$B$6:$B$923)","v":"616"},1.25]
["DIY and gardening products EPR",3,"21101210271","Modulated","DIY products","Large non-electric, non-combustion items and machines, and their accessories","Solid wood and related products >75%","≥30 kg and <40 kg","€ / unit",0.94,0.94,{"$f":"_xlfn.XLOOKUP(K837,'Codes éco-part'!$C$6:$C$923,'Codes éco-part'!$B$6:$B$923)","v":"458"},1.1299999999999999]
["DIY and gardening products EPR",3,"21101210520",null,"DIY products","Large non-electric, non-combustion items and machines, and their accessories","Solid wood and related products >75%","≥2 kg and <3 kg","€ / unit",0.06,0.06,{"$f":"_xlfn.XLOOKUP(K838,'Codes éco-part'!$C$6:$C$923,'Codes éco-part'!$B$6:$B$923)","v":"096"},7.0000000000000007E-2]
["DIY and gardening products EPR",3,"21101210521","Modulated","DIY products","Large non-electric, non-combustion items and machines, and their accessories","Solid wood and related products >75%","≥2 kg and <3 kg","€ / unit",0.05,0.05,{"$f":"_xlfn.XLOOKUP(K839,'Codes éco-part'!$C$6:$C$923,'Codes éco-part'!$B$6:$B$923)","v":"048"},0.06]
["DIY and gardening products EPR",3,"21101210530",null,"DIY products","Large non-electric, non-combustion items and machines, and their accessories","Solid wood and related products >75%","≥3 kg and <5 kg","€ / unit",0.1,0.1,{"$f":"_xlfn.XLOOKUP(K840,'Codes éco-part'!$C$6:$C$923,'Codes éco-part'!$B$6:$B$923)","v":"094"},0.12]
["DIY and gardening products EPR",3,"21101210531","Modulated","DIY products","Large non-electric, non-combustion items and machines, and their accessories","Solid wood and related products >75%","≥3 kg and <5 kg","€ / unit",0.09,0.09,{"$f":"_xlfn.XLOOKUP(K841,'Codes éco-part'!$C$6:$C$923,'Codes éco-part'!$B$6:$B$923)","v":"049"},0.11]
["DIY and gardening products EPR",3,"21101210540",null,"DIY products","Large non-electric, non-combustion items and machines, and their accessories","Solid wood and related products >75%","≥5 kg and <7 kg","€ / unit",0.18,0.18,{"$f":"_xlfn.XLOOKUP(K842,'Codes éco-part'!$C$6:$C$923,'Codes éco-part'!$B$6:$B$923)","v":"100"},0.22]
["DIY and gardening products EPR",3,"21101210541","Modulated","DIY products","Large non-electric, non-combustion items and machines, and their accessories","Solid wood and related products >75%","≥5 kg and <7 kg","€ / unit",0.16,0.16,{"$f":"_xlfn.XLOOKUP(K843,'Codes éco-part'!$C$6:$C$923,'Codes éco-part'!$B$6:$B$923)","v":"099"},0.19]
["DIY and gardening products EPR",3,"21101210550",null,"DIY products","Large non-electric, non-combustion items and machines, and their accessories","Solid wood and related products >75%","≥7 kg and <10 kg","€ / unit",0.26,0.26,{"$f":"_xlfn.XLOOKUP(K844,'Codes éco-part'!$C$6:$C$923,'Codes éco-part'!$B$6:$B$923)","v":"445"},0.31]
["DIY and gardening products EPR",3,"21101210551","Modulated","DIY products","Large non-electric, non-combustion items and machines, and their accessories","Solid wood and related products >75%","≥7 kg and <10 kg","€ / unit",0.23,0.23,{"$f":"_xlfn.XLOOKUP(K845,'Codes éco-part'!$C$6:$C$923,'Codes éco-part'!$B$6:$B$923)","v":"323"},0.28000000000000003]
["DIY and gardening products EPR",3,"21101210560",null,"DIY products","Large non-electric, non-combustion items and machines, and their accessories","Solid wood and related products >75%","≥10 kg and <15 kg","€ / unit",0.4,0.4,{"$f":"_xlfn.XLOOKUP(K846,'Codes éco-part'!$C$6:$C$923,'Codes éco-part'!$B$6:$B$923)","v":"105"},0.48]
["DIY and gardening products EPR",3,"21101210561","Modulated","DIY products","Large non-electric, non-combustion items and machines, and their accessories","Solid wood and related products >75%","≥10 kg and <15 kg","€ / unit",0.36,0.36,{"$f":"_xlfn.XLOOKUP(K847,'Codes éco-part'!$C$6:$C$923,'Codes éco-part'!$B$6:$B$923)","v":"449"},0.43]
["DIY and gardening products EPR",3,"21101210570",null,"DIY products","Large non-electric, non-combustion items and machines, and their accessories","Solid wood and related products >75%","≥15 kg and <20 kg","€ / unit",0.52,0.52,{"$f":"_xlfn.XLOOKUP(K848,'Codes éco-part'!$C$6:$C$923,'Codes éco-part'!$B$6:$B$923)","v":"509"},0.62]
["DIY and gardening products EPR",3,"21101210571","Modulated","DIY products","Large non-electric, non-combustion items and machines, and their accessories","Solid wood and related products >75%","≥15 kg and <20 kg","€ / unit",0.47,0.47,{"$f":"_xlfn.XLOOKUP(K849,'Codes éco-part'!$C$6:$C$923,'Codes éco-part'!$B$6:$B$923)","v":"107"},0.56000000000000005]
["DIY and gardening products EPR",3,"21101210580",null,"DIY products","Large non-electric, non-combustion items and machines, and their accessories","Solid wood and related products >75%","≥20 kg and <25 kg","€ / unit",0.66,0.66,{"$f":"_xlfn.XLOOKUP(K850,'Codes éco-part'!$C$6:$C$923,'Codes éco-part'!$B$6:$B$923)","v":"453"},0.79]
["DIY and gardening products EPR",3,"21101210581","Modulated","DIY products","Large non-electric, non-combustion items and machines, and their accessories","Solid wood and related products >75%","≥20 kg and <25 kg","€ / unit",0.59,0.59,{"$f":"_xlfn.XLOOKUP(K851,'Codes éco-part'!$C$6:$C$923,'Codes éco-part'!$B$6:$B$923)","v":"254"},0.71]
["DIY and gardening products EPR",3,"21101210590",null,"DIY products","Large non-electric, non-combustion items and machines, and their accessories","Solid wood and related products >75%","≥25 kg and <30 kg","€ / unit",0.78,0.78,{"$f":"_xlfn.XLOOKUP(K852,'Codes éco-part'!$C$6:$C$923,'Codes éco-part'!$B$6:$B$923)","v":"312"},0.94]
["DIY and gardening products EPR",3,"21101210591","Modulated","DIY products","Large non-electric, non-combustion items and machines, and their accessories","Solid wood and related products >75%","≥25 kg and <30 kg","€ / unit",0.7,0.7,{"$f":"_xlfn.XLOOKUP(K853,'Codes éco-part'!$C$6:$C$923,'Codes éco-part'!$B$6:$B$923)","v":"282"},0.84]
["DIY and gardening products EPR",3,"21101210600",null,"DIY products","Large non-electric, non-combustion items and machines, and their accessories","Solid wood and related products >75%","≥40 kg and <50 kg","€ / unit",1.3,1.3,{"$f":"_xlfn.XLOOKUP(K854,'Codes éco-part'!$C$6:$C$923,'Codes éco-part'!$B$6:$B$923)","v":"511"},1.56]
["DIY and gardening products EPR",3,"21101210601","Modulated","DIY products","Large non-electric, non-combustion items and machines, and their accessories","Solid wood and related products >75%","≥40 kg and <50 kg","€ / unit",1.17,1.17,{"$f":"_xlfn.XLOOKUP(K855,'Codes éco-part'!$C$6:$C$923,'Codes éco-part'!$B$6:$B$923)","v":"537"},1.4]
["DIY and gardening products EPR",3,"21101250000",null,"DIY products","Large non-electric, non-combustion items and machines, and their accessories","Chipboard or OSB >75%","Elements of all sizes and weights","€ / ton",26,26,{"$f":"_xlfn.XLOOKUP(K856,'Codes éco-part'!$C$6:$C$923,'Codes éco-part'!$B$6:$B$923)","v":"582"},31.2]
["DIY and gardening products EPR",3,"21101250001","Modulated","DIY products","Large non-electric, non-combustion items and machines, and their accessories","Chipboard or OSB >75%","Elements of all sizes and weights","€ / ton",23.4,23.4,{"$f":"_xlfn.XLOOKUP(K857,'Codes éco-part'!$C$6:$C$923,'Codes éco-part'!$B$6:$B$923)","v":946},28.08]
["DIY and gardening products EPR",3,"21101250200",null,"DIY products","Large non-electric, non-combustion items and machines, and their accessories","Chipboard or OSB >75%","Strictly <0.5 kg","€ / unit",0.02,0.02,{"$f":"_xlfn.XLOOKUP(K858,'Codes éco-part'!$C$6:$C$923,'Codes éco-part'!$B$6:$B$923)","v":"047"},0.02]
["DIY and gardening products EPR",3,"21101250201","Modulated","DIY products","Large non-electric, non-combustion items and machines, and their accessories","Chipboard or OSB >75%","Strictly <0.5 kg","€ / unit",0.02,0.02,{"$f":"_xlfn.XLOOKUP(K859,'Codes éco-part'!$C$6:$C$923,'Codes éco-part'!$B$6:$B$923)","v":"047"},0.02]
["DIY and gardening products EPR",3,"21101250210",null,"DIY products","Large non-electric, non-combustion items and machines, and their accessories","Chipboard or OSB >75%","≥0.5 kg and <1 kg","€ / unit",0.02,0.02,{"$f":"_xlfn.XLOOKUP(K860,'Codes éco-part'!$C$6:$C$923,'Codes éco-part'!$B$6:$B$923)","v":"047"},0.02]
["DIY and gardening products EPR",3,"21101250211","Modulated","DIY products","Large non-electric, non-combustion items and machines, and their accessories","Chipboard or OSB >75%","≥0.5 kg and <1 kg","€ / unit",0.02,0.02,{"$f":"_xlfn.XLOOKUP(K861,'Codes éco-part'!$C$6:$C$923,'Codes éco-part'!$B$6:$B$923)","v":"047"},0.02]
["DIY and gardening products EPR",3,"21101250220",null,"DIY products","Large non-electric, non-combustion items and machines, and their accessories","Chipboard or OSB >75%","≥1 kg and <2 kg","€ / unit",0.04,0.04,{"$f":"_xlfn.XLOOKUP(K862,'Codes éco-part'!$C$6:$C$923,'Codes éco-part'!$B$6:$B$923)","v":"002"},0.05]
["DIY and gardening products EPR",3,"21101250221","Modulated","DIY products","Large non-electric, non-combustion items and machines, and their accessories","Chipboard or OSB >75%","≥1 kg and <2 kg","€ / unit",0.04,0.04,{"$f":"_xlfn.XLOOKUP(K863,'Codes éco-part'!$C$6:$C$923,'Codes éco-part'!$B$6:$B$923)","v":"002"},0.05]
["DIY and gardening products EPR",3,"21101250270",null,"DIY products","Large non-electric, non-combustion items and machines, and their accessories","Chipboard or OSB >75%","≥30 kg and <40 kg","€ / unit",1.04,1.04,{"$f":"_xlfn.XLOOKUP(K864,'Codes éco-part'!$C$6:$C$923,'Codes éco-part'!$B$6:$B$923)","v":"616"},1.25]
["DIY and gardening products EPR",3,"21101250271","Modulated","DIY products","Large non-electric, non-combustion items and machines, and their accessories","Chipboard or OSB >75%","≥30 kg and <40 kg","€ / unit",0.94,0.94,{"$f":"_xlfn.XLOOKUP(K865,'Codes éco-part'!$C$6:$C$923,'Codes éco-part'!$B$6:$B$923)","v":"458"},1.1299999999999999]
["DIY and gardening products EPR",3,"21101250520",null,"DIY products","Large non-electric, non-combustion items and machines, and their accessories","Chipboard or OSB >75%","≥2 kg and <3 kg","€ / unit",0.06,0.06,{"$f":"_xlfn.XLOOKUP(K866,'Codes éco-part'!$C$6:$C$923,'Codes éco-part'!$B$6:$B$923)","v":"096"},7.0000000000000007E-2]
["DIY and gardening products EPR",3,"21101250521","Modulated","DIY products","Large non-electric, non-combustion items and machines, and their accessories","Chipboard or OSB >75%","≥2 kg and <3 kg","€ / unit",0.05,0.05,{"$f":"_xlfn.XLOOKUP(K867,'Codes éco-part'!$C$6:$C$923,'Codes éco-part'!$B$6:$B$923)","v":"048"},0.06]
["DIY and gardening products EPR",3,"21101250530",null,"DIY products","Large non-electric, non-combustion items and machines, and their accessories","Chipboard or OSB >75%","≥3 kg and <5 kg","€ / unit",0.1,0.1,{"$f":"_xlfn.XLOOKUP(K868,'Codes éco-part'!$C$6:$C$923,'Codes éco-part'!$B$6:$B$923)","v":"094"},0.12]
["DIY and gardening products EPR",3,"21101250531","Modulated","DIY products","Large non-electric, non-combustion items and machines, and their accessories","Chipboard or OSB >75%","≥3 kg and <5 kg","€ / unit",0.09,0.09,{"$f":"_xlfn.XLOOKUP(K869,'Codes éco-part'!$C$6:$C$923,'Codes éco-part'!$B$6:$B$923)","v":"049"},0.11]
["DIY and gardening products EPR",3,"21101250540",null,"DIY products","Large non-electric, non-combustion items and machines, and their accessories","Chipboard or OSB >75%","≥5 kg and <7 kg","€ / unit",0.18,0.18,{"$f":"_xlfn.XLOOKUP(K870,'Codes éco-part'!$C$6:$C$923,'Codes éco-part'!$B$6:$B$923)","v":"100"},0.22]
["DIY and gardening products EPR",3,"21101250541","Modulated","DIY products","Large non-electric, non-combustion items and machines, and their accessories","Chipboard or OSB >75%","≥5 kg and <7 kg","€ / unit",0.16,0.16,{"$f":"_xlfn.XLOOKUP(K871,'Codes éco-part'!$C$6:$C$923,'Codes éco-part'!$B$6:$B$923)","v":"099"},0.19]
["DIY and gardening products EPR",3,"21101250550",null,"DIY products","Large non-electric, non-combustion items and machines, and their accessories","Chipboard or OSB >75%","≥7 kg and <10 kg","€ / unit",0.26,0.26,{"$f":"_xlfn.XLOOKUP(K872,'Codes éco-part'!$C$6:$C$923,'Codes éco-part'!$B$6:$B$923)","v":"445"},0.31]
["DIY and gardening products EPR",3,"21101250551","Modulated","DIY products","Large non-electric, non-combustion items and machines, and their accessories","Chipboard or OSB >75%","≥7 kg and <10 kg","€ / unit",0.23,0.23,{"$f":"_xlfn.XLOOKUP(K873,'Codes éco-part'!$C$6:$C$923,'Codes éco-part'!$B$6:$B$923)","v":"323"},0.28000000000000003]
["DIY and gardening products EPR",3,"21101250560",null,"DIY products","Large non-electric, non-combustion items and machines, and their accessories","Chipboard or OSB >75%","≥10 kg and <15 kg","€ / unit",0.4,0.4,{"$f":"_xlfn.XLOOKUP(K874,'Codes éco-part'!$C$6:$C$923,'Codes éco-part'!$B$6:$B$923)","v":"105"},0.48]
["DIY and gardening products EPR",3,"21101250561","Modulated","DIY products","Large non-electric, non-combustion items and machines, and their accessories","Chipboard or OSB >75%","≥10 kg and <15 kg","€ / unit",0.36,0.36,{"$f":"_xlfn.XLOOKUP(K875,'Codes éco-part'!$C$6:$C$923,'Codes éco-part'!$B$6:$B$923)","v":"449"},0.43]
["DIY and gardening products EPR",3,"21101250570",null,"DIY products","Large non-electric, non-combustion items and machines, and their accessories","Chipboard or OSB >75%","≥15 kg and <20 kg","€ / unit",0.52,0.52,{"$f":"_xlfn.XLOOKUP(K876,'Codes éco-part'!$C$6:$C$923,'Codes éco-part'!$B$6:$B$923)","v":"509"},0.62]
["DIY and gardening products EPR",3,"21101250571","Modulated","DIY products","Large non-electric, non-combustion items and machines, and their accessories","Chipboard or OSB >75%","≥15 kg and <20 kg","€ / unit",0.47,0.47,{"$f":"_xlfn.XLOOKUP(K877,'Codes éco-part'!$C$6:$C$923,'Codes éco-part'!$B$6:$B$923)","v":"107"},0.56000000000000005]
["DIY and gardening products EPR",3,"21101250580",null,"DIY products","Large non-electric, non-combustion items and machines, and their accessories","Chipboard or OSB >75%","≥20 kg and <25 kg","€ / unit",0.66,0.66,{"$f":"_xlfn.XLOOKUP(K878,'Codes éco-part'!$C$6:$C$923,'Codes éco-part'!$B$6:$B$923)","v":"453"},0.79]
["DIY and gardening products EPR",3,"21101250581","Modulated","DIY products","Large non-electric, non-combustion items and machines, and their accessories","Chipboard or OSB >75%","≥20 kg and <25 kg","€ / unit",0.59,0.59,{"$f":"_xlfn.XLOOKUP(K879,'Codes éco-part'!$C$6:$C$923,'Codes éco-part'!$B$6:$B$923)","v":"254"},0.71]
["DIY and gardening products EPR",3,"21101250590",null,"DIY products","Large non-electric, non-combustion items and machines, and their accessories","Chipboard or OSB >75%","≥25 kg and <30 kg","€ / unit",0.78,0.78,{"$f":"_xlfn.XLOOKUP(K880,'Codes éco-part'!$C$6:$C$923,'Codes éco-part'!$B$6:$B$923)","v":"312"},0.94]
["DIY and gardening products EPR",3,"21101250591","Modulated","DIY products","Large non-electric, non-combustion items and machines, and their accessories","Chipboard or OSB >75%","≥25 kg and <30 kg","€ / unit",0.7,0.7,{"$f":"_xlfn.XLOOKUP(K881,'Codes éco-part'!$C$6:$C$923,'Codes éco-part'!$B$6:$B$923)","v":"282"},0.84]
["DIY and gardening products EPR",3,"21101250600",null,"DIY products","Large non-electric, non-combustion items and machines, and their accessories","Chipboard or OSB >75%","≥40 kg and <50 kg","€ / unit",1.3,1.3,{"$f":"_xlfn.XLOOKUP(K882,'Codes éco-part'!$C$6:$C$923,'Codes éco-part'!$B$6:$B$923)","v":"511"},1.56]
["DIY and gardening products EPR",3,"21101250601","Modulated","DIY products","Large non-electric, non-combustion items and machines, and their accessories","Chipboard or OSB >75%","≥40 kg and <50 kg","€ / unit",1.17,1.17,{"$f":"_xlfn.XLOOKUP(K883,'Codes éco-part'!$C$6:$C$923,'Codes éco-part'!$B$6:$B$923)","v":"537"},1.4]
["DIY and gardening products EPR",3,"21101280000",null,"DIY products","Large non-electric, non-combustion items and machines, and their accessories","Metal >90%","Elements of all sizes and weights","€ / ton",4.5,4.5,{"$f":"_xlfn.XLOOKUP(K884,'Codes éco-part'!$C$6:$C$923,'Codes éco-part'!$B$6:$B$923)","v":"127"},5.4]
["DIY and gardening products EPR",3,"21101280001","Modulated","DIY products","Large non-electric, non-combustion items and machines, and their accessories","Metal >90%","Elements of all sizes and weights","€ / ton",4.05,4.05,{"$f":"_xlfn.XLOOKUP(K885,'Codes éco-part'!$C$6:$C$923,'Codes éco-part'!$B$6:$B$923)","v":"884"},4.8600000000000003]
["DIY and gardening products EPR",3,"21101280200",null,"DIY products","Large non-electric, non-combustion items and machines, and their accessories","Metal >90%","Strictly <0.5 kg","€ / unit",0.01,0.01,{"$f":"_xlfn.XLOOKUP(K886,'Codes éco-part'!$C$6:$C$923,'Codes éco-part'!$B$6:$B$923)","v":"260"},0.01]
["DIY and gardening products EPR",3,"21101280201","Modulated","DIY products","Large non-electric, non-combustion items and machines, and their accessories","Metal >90%","Strictly <0.5 kg","€ / unit",0.01,0.01,{"$f":"_xlfn.XLOOKUP(K887,'Codes éco-part'!$C$6:$C$923,'Codes éco-part'!$B$6:$B$923)","v":"260"},0.01]
["DIY and gardening products EPR",3,"21101280210",null,"DIY products","Large non-electric, non-combustion items and machines, and their accessories","Metal >90%","≥0.5 kg and <1 kg","€ / unit",0.01,0.01,{"$f":"_xlfn.XLOOKUP(K888,'Codes éco-part'!$C$6:$C$923,'Codes éco-part'!$B$6:$B$923)","v":"260"},0.01]
["DIY and gardening products EPR",3,"21101280211","Modulated","DIY products","Large non-electric, non-combustion items and machines, and their accessories","Metal >90%","≥0.5 kg and <1 kg","€ / unit",0.01,0.01,{"$f":"_xlfn.XLOOKUP(K889,'Codes éco-part'!$C$6:$C$923,'Codes éco-part'!$B$6:$B$923)","v":"260"},0.01]
["DIY and gardening products EPR",3,"21101280220",null,"DIY products","Large non-electric, non-combustion items and machines, and their accessories","Metal >90%","≥1 kg and <2 kg","€ / unit",0.01,0.01,{"$f":"_xlfn.XLOOKUP(K890,'Codes éco-part'!$C$6:$C$923,'Codes éco-part'!$B$6:$B$923)","v":"260"},0.01]
["DIY and gardening products EPR",3,"21101280221","Modulated","DIY products","Large non-electric, non-combustion items and machines, and their accessories","Metal >90%","≥1 kg and <2 kg","€ / unit",0.01,0.01,{"$f":"_xlfn.XLOOKUP(K891,'Codes éco-part'!$C$6:$C$923,'Codes éco-part'!$B$6:$B$923)","v":"260"},0.01]
["DIY and gardening products EPR",3,"21101280270",null,"DIY products","Large non-electric, non-combustion items and machines, and their accessories","Metal >90%","≥30 kg and <40 kg","€ / unit",0.18,0.18,{"$f":"_xlfn.XLOOKUP(K892,'Codes éco-part'!$C$6:$C$923,'Codes éco-part'!$B$6:$B$923)","v":"100"},0.22]
["DIY and gardening products EPR",3,"21101280271","Modulated","DIY products","Large non-electric, non-combustion items and machines, and their accessories","Metal >90%","≥30 kg and <40 kg","€ / unit",0.16,0.16,{"$f":"_xlfn.XLOOKUP(K893,'Codes éco-part'!$C$6:$C$923,'Codes éco-part'!$B$6:$B$923)","v":"099"},0.19]
["DIY and gardening products EPR",3,"21101280520",null,"DIY products","Large non-electric, non-combustion items and machines, and their accessories","Metal >90%","≥2 kg and <3 kg","€ / unit",0.01,0.01,{"$f":"_xlfn.XLOOKUP(K894,'Codes éco-part'!$C$6:$C$923,'Codes éco-part'!$B$6:$B$923)","v":"260"},0.01]
["DIY and gardening products EPR",3,"21101280521","Modulated","DIY products","Large non-electric, non-combustion items and machines, and their accessories","Metal >90%","≥2 kg and <3 kg","€ / unit",0.01,0.01,{"$f":"_xlfn.XLOOKUP(K895,'Codes éco-part'!$C$6:$C$923,'Codes éco-part'!$B$6:$B$923)","v":"260"},0.01]
["DIY and gardening products EPR",3,"21101280530",null,"DIY products","Large non-electric, non-combustion items and machines, and their accessories","Metal >90%","≥3 kg and <5 kg","€ / unit",0.02,0.02,{"$f":"_xlfn.XLOOKUP(K896,'Codes éco-part'!$C$6:$C$923,'Codes éco-part'!$B$6:$B$923)","v":"047"},0.02]
["DIY and gardening products EPR",3,"21101280531","Modulated","DIY products","Large non-electric, non-combustion items and machines, and their accessories","Metal >90%","≥3 kg and <5 kg","€ / unit",0.02,0.02,{"$f":"_xlfn.XLOOKUP(K897,'Codes éco-part'!$C$6:$C$923,'Codes éco-part'!$B$6:$B$923)","v":"047"},0.02]
["DIY and gardening products EPR",3,"21101280540",null,"DIY products","Large non-electric, non-combustion items and machines, and their accessories","Metal >90%","≥5 kg and <7 kg","€ / unit",0.03,0.03,{"$f":"_xlfn.XLOOKUP(K898,'Codes éco-part'!$C$6:$C$923,'Codes éco-part'!$B$6:$B$923)","v":"092"},{"$f":"ROUND(K898*1.2,2)","v":0.04}]
["DIY and gardening products EPR",3,"21101280541","Modulated","DIY products","Large non-electric, non-combustion items and machines, and their accessories","Metal >90%","≥5 kg and <7 kg","€ / unit",0.03,0.03,{"$f":"_xlfn.XLOOKUP(K899,'Codes éco-part'!$C$6:$C$923,'Codes éco-part'!$B$6:$B$923)","v":"092"},0.04]
["DIY and gardening products EPR",3,"21101280550",null,"DIY products","Large non-electric, non-combustion items and machines, and their accessories","Metal >90%","≥7 kg and <10 kg","€ / unit",0.05,0.05,{"$f":"_xlfn.XLOOKUP(K900,'Codes éco-part'!$C$6:$C$923,'Codes éco-part'!$B$6:$B$923)","v":"048"},0.06]
["DIY and gardening products EPR",3,"21101280551","Modulated","DIY products","Large non-electric, non-combustion items and machines, and their accessories","Metal >90%","≥7 kg and <10 kg","€ / unit",0.05,0.05,{"$f":"_xlfn.XLOOKUP(K901,'Codes éco-part'!$C$6:$C$923,'Codes éco-part'!$B$6:$B$923)","v":"048"},0.06]
["DIY and gardening products EPR",3,"21101280560",null,"DIY products","Large non-electric, non-combustion items and machines, and their accessories","Metal >90%","≥10 kg and <15 kg","€ / unit",7.0000000000000007E-2,7.0000000000000007E-2,{"$f":"_xlfn.XLOOKUP(K902,'Codes éco-part'!$C$6:$C$923,'Codes éco-part'!$B$6:$B$923)","v":"247"},0.08]
["DIY and gardening products EPR",3,"21101280561","Modulated","DIY products","Large non-electric, non-combustion items and machines, and their accessories","Metal >90%","≥10 kg and <15 kg","€ / unit",0.06,0.06,{"$f":"_xlfn.XLOOKUP(K903,'Codes éco-part'!$C$6:$C$923,'Codes éco-part'!$B$6:$B$923)","v":"096"},7.0000000000000007E-2]
["DIY and gardening products EPR",3,"21101280570",null,"DIY products","Large non-electric, non-combustion items and machines, and their accessories","Metal >90%","≥15 kg and <20 kg","€ / unit",0.09,0.09,{"$f":"_xlfn.XLOOKUP(K904,'Codes éco-part'!$C$6:$C$923,'Codes éco-part'!$B$6:$B$923)","v":"049"},0.11]
["DIY and gardening products EPR",3,"21101280571","Modulated","DIY products","Large non-electric, non-combustion items and machines, and their accessories","Metal >90%","≥15 kg and <20 kg","€ / unit",0.08,0.08,{"$f":"_xlfn.XLOOKUP(K905,'Codes éco-part'!$C$6:$C$923,'Codes éco-part'!$B$6:$B$923)","v":"003"},0.1]
["DIY and gardening products EPR",3,"21101280580",null,"DIY products","Large non-electric, non-combustion items and machines, and their accessories","Metal >90%","≥20 kg and <25 kg","€ / unit",0.11,0.11,{"$f":"_xlfn.XLOOKUP(K906,'Codes éco-part'!$C$6:$C$923,'Codes éco-part'!$B$6:$B$923)","v":"262"},0.13]
["DIY and gardening products EPR",3,"21101280581","Modulated","DIY products","Large non-electric, non-combustion items and machines, and their accessories","Metal >90%","≥20 kg and <25 kg","€ / unit",0.1,0.1,{"$f":"_xlfn.XLOOKUP(K907,'Codes éco-part'!$C$6:$C$923,'Codes éco-part'!$B$6:$B$923)","v":"094"},0.12]
["DIY and gardening products EPR",3,"21101280590",null,"DIY products","Large non-electric, non-combustion items and machines, and their accessories","Metal >90%","≥25 kg and <30 kg","€ / unit",0.14000000000000001,0.14000000000000001,{"$f":"_xlfn.XLOOKUP(K908,'Codes éco-part'!$C$6:$C$923,'Codes éco-part'!$B$6:$B$923)","v":"098"},0.17]
["DIY and gardening products EPR",3,"21101280591","Modulated","DIY products","Large non-electric, non-combustion items and machines, and their accessories","Metal >90%","≥25 kg and <30 kg","€ / unit",0.13,0.13,{"$f":"_xlfn.XLOOKUP(K909,'Codes éco-part'!$C$6:$C$923,'Codes éco-part'!$B$6:$B$923)","v":"004"},0.16]
["DIY and gardening products EPR",3,"21101280600",null,"DIY products","Large non-electric, non-combustion items and machines, and their accessories","Metal >90%","≥40 kg and <50 kg","€ / unit",0.23,0.23,{"$f":"_xlfn.XLOOKUP(K910,'Codes éco-part'!$C$6:$C$923,'Codes éco-part'!$B$6:$B$923)","v":"323"},0.28000000000000003]
["DIY and gardening products EPR",3,"21101280601","Modulated","DIY products","Large non-electric, non-combustion items and machines, and their accessories","Metal >90%","≥40 kg and <50 kg","€ / unit",0.21,0.21,{"$f":"_xlfn.XLOOKUP(K911,'Codes éco-part'!$C$6:$C$923,'Codes éco-part'!$B$6:$B$923)","v":"051"},0.25]
["DIY and gardening products EPR",3,"21101400000",null,"DIY products","Large non-electric, non-combustion items and machines, and their accessories","Assembly of synthetic rubber or latex >50% and other materials","Elements of all sizes and weights","€ / ton",90,90,{"$f":"_xlfn.XLOOKUP(K912,'Codes éco-part'!$C$6:$C$923,'Codes éco-part'!$B$6:$B$923)","v":"609"},108]
["DIY and gardening products EPR",3,"21101400001","Modulated","DIY products","Large non-electric, non-combustion items and machines, and their accessories","Assembly of synthetic rubber or latex >50% and other materials","Elements of all sizes and weights","€ / ton",81,81,{"$f":"_xlfn.XLOOKUP(K913,'Codes éco-part'!$C$6:$C$923,'Codes éco-part'!$B$6:$B$923)","v":943},97.2]
["DIY and gardening products EPR",3,"21101400200",null,"DIY products","Large non-electric, non-combustion items and machines, and their accessories","Assembly of synthetic rubber or latex >50% and other materials","Strictly <0.5 kg","€ / unit",0.02,0.02,{"$f":"_xlfn.XLOOKUP(K914,'Codes éco-part'!$C$6:$C$923,'Codes éco-part'!$B$6:$B$923)","v":"047"},0.02]
["DIY and gardening products EPR",3,"21101400201","Modulated","DIY products","Large non-electric, non-combustion items and machines, and their accessories","Assembly of synthetic rubber or latex >50% and other materials","Strictly <0.5 kg","€ / unit",0.02,0.02,{"$f":"_xlfn.XLOOKUP(K915,'Codes éco-part'!$C$6:$C$923,'Codes éco-part'!$B$6:$B$923)","v":"047"},0.02]
["DIY and gardening products EPR",3,"21101400210",null,"DIY products","Large non-electric, non-combustion items and machines, and their accessories","Assembly of synthetic rubber or latex >50% and other materials","≥0.5 kg and <1 kg","€ / unit",7.0000000000000007E-2,7.0000000000000007E-2,{"$f":"_xlfn.XLOOKUP(K916,'Codes éco-part'!$C$6:$C$923,'Codes éco-part'!$B$6:$B$923)","v":"247"},0.08]
["DIY and gardening products EPR",3,"21101400211","Modulated","DIY products","Large non-electric, non-combustion items and machines, and their accessories","Assembly of synthetic rubber or latex >50% and other materials","≥0.5 kg and <1 kg","€ / unit",0.06,0.06,{"$f":"_xlfn.XLOOKUP(K917,'Codes éco-part'!$C$6:$C$923,'Codes éco-part'!$B$6:$B$923)","v":"096"},7.0000000000000007E-2]
["DIY and gardening products EPR",3,"21101400220",null,"DIY products","Large non-electric, non-combustion items and machines, and their accessories","Assembly of synthetic rubber or latex >50% and other materials","≥1 kg and <2 kg","€ / unit",0.14000000000000001,0.14000000000000001,{"$f":"_xlfn.XLOOKUP(K918,'Codes éco-part'!$C$6:$C$923,'Codes éco-part'!$B$6:$B$923)","v":"098"},0.17]
["DIY and gardening products EPR",3,"21101400221","Modulated","DIY products","Large non-electric, non-combustion items and machines, and their accessories","Assembly of synthetic rubber or latex >50% and other materials","≥1 kg and <2 kg","€ / unit",0.13,0.13,{"$f":"_xlfn.XLOOKUP(K919,'Codes éco-part'!$C$6:$C$923,'Codes éco-part'!$B$6:$B$923)","v":"004"},0.16]
["DIY and gardening products EPR",3,"21101400270",null,"DIY products","Large non-electric, non-combustion items and machines, and their accessories","Assembly of synthetic rubber or latex >50% and other materials","≥30 kg and <40 kg","€ / unit",3.6,3.6,{"$f":"_xlfn.XLOOKUP(K920,'Codes éco-part'!$C$6:$C$923,'Codes éco-part'!$B$6:$B$923)","v":"610"},4.32]
["DIY and gardening products EPR",3,"21101400271","Modulated","DIY products","Large non-electric, non-combustion items and machines, and their accessories","Assembly of synthetic rubber or latex >50% and other materials","≥30 kg and <40 kg","€ / unit",3.24,3.24,{"$f":"_xlfn.XLOOKUP(K921,'Codes éco-part'!$C$6:$C$923,'Codes éco-part'!$B$6:$B$923)","v":944},3.89]
["DIY and gardening products EPR",3,"21101400520",null,"DIY products","Large non-electric, non-combustion items and machines, and their accessories","Assembly of synthetic rubber or latex >50% and other materials","≥2 kg and <3 kg","€ / unit",0.23,0.23,{"$f":"_xlfn.XLOOKUP(K922,'Codes éco-part'!$C$6:$C$923,'Codes éco-part'!$B$6:$B$923)","v":"323"},0.28000000000000003]
["DIY and gardening products EPR",3,"21101400521","Modulated","DIY products","Large non-electric, non-combustion items and machines, and their accessories","Assembly of synthetic rubber or latex >50% and other materials","≥2 kg and <3 kg","€ / unit",0.21,0.21,{"$f":"_xlfn.XLOOKUP(K923,'Codes éco-part'!$C$6:$C$923,'Codes éco-part'!$B$6:$B$923)","v":"051"},0.25]
["DIY and gardening products EPR",3,"21101400530",null,"DIY products","Large non-electric, non-combustion items and machines, and their accessories","Assembly of synthetic rubber or latex >50% and other materials","≥3 kg and <5 kg","€ / unit",0.36,0.36,{"$f":"_xlfn.XLOOKUP(K924,'Codes éco-part'!$C$6:$C$923,'Codes éco-part'!$B$6:$B$923)","v":"449"},0.43]
["DIY and gardening products EPR",3,"21101400531","Modulated","DIY products","Large non-electric, non-combustion items and machines, and their accessories","Assembly of synthetic rubber or latex >50% and other materials","≥3 kg and <5 kg","€ / unit",0.32,0.32,{"$f":"_xlfn.XLOOKUP(K925,'Codes éco-part'!$C$6:$C$923,'Codes éco-part'!$B$6:$B$923)","v":"447"},0.38]
["DIY and gardening products EPR",3,"21101400540",null,"DIY products","Large non-electric, non-combustion items and machines, and their accessories","Assembly of synthetic rubber or latex >50% and other materials","≥5 kg and <7 kg","€ / unit",0.63,0.63,{"$f":"_xlfn.XLOOKUP(K926,'Codes éco-part'!$C$6:$C$923,'Codes éco-part'!$B$6:$B$923)","v":"297"},0.76]
["DIY and gardening products EPR",3,"21101400541","Modulated","DIY products","Large non-electric, non-combustion items and machines, and their accessories","Assembly of synthetic rubber or latex >50% and other materials","≥5 kg and <7 kg","€ / unit",0.56999999999999995,0.56999999999999995,{"$f":"_xlfn.XLOOKUP(K927,'Codes éco-part'!$C$6:$C$923,'Codes éco-part'!$B$6:$B$923)","v":"326"},0.68]
["DIY and gardening products EPR",3,"21101400550",null,"DIY products","Large non-electric, non-combustion items and machines, and their accessories","Assembly of synthetic rubber or latex >50% and other materials","≥7 kg and <10 kg","€ / unit",0.9,0.9,{"$f":"_xlfn.XLOOKUP(K928,'Codes éco-part'!$C$6:$C$923,'Codes éco-part'!$B$6:$B$923)","v":"330"},1.08]
["DIY and gardening products EPR",3,"21101400551","Modulated","DIY products","Large non-electric, non-combustion items and machines, and their accessories","Assembly of synthetic rubber or latex >50% and other materials","≥7 kg and <10 kg","€ / unit",0.81,0.81,{"$f":"_xlfn.XLOOKUP(K929,'Codes éco-part'!$C$6:$C$923,'Codes éco-part'!$B$6:$B$923)","v":"112"},0.97]
["DIY and gardening products EPR",3,"21101400560",null,"DIY products","Large non-electric, non-combustion items and machines, and their accessories","Assembly of synthetic rubber or latex >50% and other materials","≥10 kg and <15 kg","€ / unit",1.35,1.35,{"$f":"_xlfn.XLOOKUP(K930,'Codes éco-part'!$C$6:$C$923,'Codes éco-part'!$B$6:$B$923)","v":"332"},1.62]
["DIY and gardening products EPR",3,"21101400561","Modulated","DIY products","Large non-electric, non-combustion items and machines, and their accessories","Assembly of synthetic rubber or latex >50% and other materials","≥10 kg and <15 kg","€ / unit",1.22,1.22,{"$f":"_xlfn.XLOOKUP(K931,'Codes éco-part'!$C$6:$C$923,'Codes éco-part'!$B$6:$B$923)","v":"636"},1.46]
["DIY and gardening products EPR",3,"21101400570",null,"DIY products","Large non-electric, non-combustion items and machines, and their accessories","Assembly of synthetic rubber or latex >50% and other materials","≥15 kg and <20 kg","€ / unit",1.8,1.8,{"$f":"_xlfn.XLOOKUP(K932,'Codes éco-part'!$C$6:$C$923,'Codes éco-part'!$B$6:$B$923)","v":"603"},2.16]
["DIY and gardening products EPR",3,"21101400571","Modulated","DIY products","Large non-electric, non-combustion items and machines, and their accessories","Assembly of synthetic rubber or latex >50% and other materials","≥15 kg and <20 kg","€ / unit",1.62,1.62,{"$f":"_xlfn.XLOOKUP(K933,'Codes éco-part'!$C$6:$C$923,'Codes éco-part'!$B$6:$B$923)","v":"810"},1.94]
["DIY and gardening products EPR",3,"21101400580",null,"DIY products","Large non-electric, non-combustion items and machines, and their accessories","Assembly of synthetic rubber or latex >50% and other materials","≥20 kg and <25 kg","€ / unit",2.25,2.25,{"$f":"_xlfn.XLOOKUP(K934,'Codes éco-part'!$C$6:$C$923,'Codes éco-part'!$B$6:$B$923)","v":"118"},2.7]
["DIY and gardening products EPR",3,"21101400581","Modulated","DIY products","Large non-electric, non-combustion items and machines, and their accessories","Assembly of synthetic rubber or latex >50% and other materials","≥20 kg and <25 kg","€ / unit",2.0299999999999998,2.0299999999999998,{"$f":"_xlfn.XLOOKUP(K935,'Codes éco-part'!$C$6:$C$923,'Codes éco-part'!$B$6:$B$923)","v":937},2.44]
["DIY and gardening products EPR",3,"21101400590",null,"DIY products","Large non-electric, non-combustion items and machines, and their accessories","Assembly of synthetic rubber or latex >50% and other materials","≥25 kg and <30 kg","€ / unit",2.7,2.7,{"$f":"_xlfn.XLOOKUP(K936,'Codes éco-part'!$C$6:$C$923,'Codes éco-part'!$B$6:$B$923)","v":"611"},3.24]
["DIY and gardening products EPR",3,"21101400591","Modulated","DIY products","Large non-electric, non-combustion items and machines, and their accessories","Assembly of synthetic rubber or latex >50% and other materials","≥25 kg and <30 kg","€ / unit",2.4300000000000002,2.4300000000000002,{"$f":"_xlfn.XLOOKUP(K937,'Codes éco-part'!$C$6:$C$923,'Codes éco-part'!$B$6:$B$923)","v":"471"},2.92]
["DIY and gardening products EPR",3,"21101400600",null,"DIY products","Large non-electric, non-combustion items and machines, and their accessories","Assembly of synthetic rubber or latex >50% and other materials","≥40 kg and <50 kg","€ / unit",4.5,4.5,{"$f":"_xlfn.XLOOKUP(K938,'Codes éco-part'!$C$6:$C$923,'Codes éco-part'!$B$6:$B$923)","v":"127"},5.4]
["DIY and gardening products EPR",3,"21101400601","Modulated","DIY products","Large non-electric, non-combustion items and machines, and their accessories","Assembly of synthetic rubber or latex >50% and other materials","≥40 kg and <50 kg","€ / unit",4.05,4.05,{"$f":"_xlfn.XLOOKUP(K939,'Codes éco-part'!$C$6:$C$923,'Codes éco-part'!$B$6:$B$923)","v":"884"},4.8600000000000003]
["DIY and gardening products EPR",3,"21101410000",null,"DIY products","Large non-electric, non-combustion items and machines, and their accessories","Plastic (single-resin) >90%","Elements of all sizes and weights","€ / ton",60,60,{"$f":"_xlfn.XLOOKUP(K940,'Codes éco-part'!$C$6:$C$923,'Codes éco-part'!$B$6:$B$923)","v":"180"},72]
["DIY and gardening products EPR",3,"21101410001","Modulated","DIY products","Large non-electric, non-combustion items and machines, and their accessories","Plastic (single-resin) >90%","Elements of all sizes and weights","€ / ton",54,54,{"$f":"_xlfn.XLOOKUP(K941,'Codes éco-part'!$C$6:$C$923,'Codes éco-part'!$B$6:$B$923)","v":947},64.8]
["DIY and gardening products EPR",3,"21101410200",null,"DIY products","Large non-electric, non-combustion items and machines, and their accessories","Plastic (single-resin) >90%","Strictly <0.5 kg","€ / unit",0.02,0.02,{"$f":"_xlfn.XLOOKUP(K942,'Codes éco-part'!$C$6:$C$923,'Codes éco-part'!$B$6:$B$923)","v":"047"},0.02]
["DIY and gardening products EPR",3,"21101410201","Modulated","DIY products","Large non-electric, non-combustion items and machines, and their accessories","Plastic (single-resin) >90%","Strictly <0.5 kg","€ / unit",0.02,0.02,{"$f":"_xlfn.XLOOKUP(K943,'Codes éco-part'!$C$6:$C$923,'Codes éco-part'!$B$6:$B$923)","v":"047"},0.02]
["DIY and gardening products EPR",3,"21101410210",null,"DIY products","Large non-electric, non-combustion items and machines, and their accessories","Plastic (single-resin) >90%","≥0.5 kg and <1 kg","€ / unit",0.05,0.05,{"$f":"_xlfn.XLOOKUP(K944,'Codes éco-part'!$C$6:$C$923,'Codes éco-part'!$B$6:$B$923)","v":"048"},0.06]
["DIY and gardening products EPR",3,"21101410211","Modulated","DIY products","Large non-electric, non-combustion items and machines, and their accessories","Plastic (single-resin) >90%","≥0.5 kg and <1 kg","€ / unit",0.05,0.05,{"$f":"_xlfn.XLOOKUP(K945,'Codes éco-part'!$C$6:$C$923,'Codes éco-part'!$B$6:$B$923)","v":"048"},0.06]
["DIY and gardening products EPR",3,"21101410220",null,"DIY products","Large non-electric, non-combustion items and machines, and their accessories","Plastic (single-resin) >90%","≥1 kg and <2 kg","€ / unit",0.09,0.09,{"$f":"_xlfn.XLOOKUP(K946,'Codes éco-part'!$C$6:$C$923,'Codes éco-part'!$B$6:$B$923)","v":"049"},0.11]
["DIY and gardening products EPR",3,"21101410221","Modulated","DIY products","Large non-electric, non-combustion items and machines, and their accessories","Plastic (single-resin) >90%","≥1 kg and <2 kg","€ / unit",0.08,0.08,{"$f":"_xlfn.XLOOKUP(K947,'Codes éco-part'!$C$6:$C$923,'Codes éco-part'!$B$6:$B$923)","v":"003"},0.1]
["DIY and gardening products EPR",3,"21101410270",null,"DIY products","Large non-electric, non-combustion items and machines, and their accessories","Plastic (single-resin) >90%","≥30 kg and <40 kg","€ / unit",2.4,2.4,{"$f":"_xlfn.XLOOKUP(K948,'Codes éco-part'!$C$6:$C$923,'Codes éco-part'!$B$6:$B$923)","v":"602"},2.88]
["DIY and gardening products EPR",3,"21101410271","Modulated","DIY products","Large non-electric, non-combustion items and machines, and their accessories","Plastic (single-resin) >90%","≥30 kg and <40 kg","€ / unit",2.16,2.16,{"$f":"_xlfn.XLOOKUP(K949,'Codes éco-part'!$C$6:$C$923,'Codes éco-part'!$B$6:$B$923)","v":"622"},2.59]
["DIY and gardening products EPR",3,"21101410520",null,"DIY products","Large non-electric, non-combustion items and machines, and their accessories","Plastic (single-resin) >90%","≥2 kg and <3 kg","€ / unit",0.15,0.15,{"$f":"_xlfn.XLOOKUP(K950,'Codes éco-part'!$C$6:$C$923,'Codes éco-part'!$B$6:$B$923)","v":"050"},0.18]
["DIY and gardening products EPR",3,"21101410521","Modulated","DIY products","Large non-electric, non-combustion items and machines, and their accessories","Plastic (single-resin) >90%","≥2 kg and <3 kg","€ / unit",0.14000000000000001,0.14000000000000001,{"$f":"_xlfn.XLOOKUP(K951,'Codes éco-part'!$C$6:$C$923,'Codes éco-part'!$B$6:$B$923)","v":"098"},0.17]
["DIY and gardening products EPR",3,"21101410530",null,"DIY products","Large non-electric, non-combustion items and machines, and their accessories","Plastic (single-resin) >90%","≥3 kg and <5 kg","€ / unit",0.24,0.24,{"$f":"_xlfn.XLOOKUP(K952,'Codes éco-part'!$C$6:$C$923,'Codes éco-part'!$B$6:$B$923)","v":"248"},0.28999999999999998]
["DIY and gardening products EPR",3,"21101410531","Modulated","DIY products","Large non-electric, non-combustion items and machines, and their accessories","Plastic (single-resin) >90%","≥3 kg and <5 kg","€ / unit",0.22,0.22,{"$f":"_xlfn.XLOOKUP(K953,'Codes éco-part'!$C$6:$C$923,'Codes éco-part'!$B$6:$B$923)","v":"263"},0.26]
["DIY and gardening products EPR",3,"21101410540",null,"DIY products","Large non-electric, non-combustion items and machines, and their accessories","Plastic (single-resin) >90%","≥5 kg and <7 kg","€ / unit",0.42,0.42,{"$f":"_xlfn.XLOOKUP(K954,'Codes éco-part'!$C$6:$C$923,'Codes éco-part'!$B$6:$B$923)","v":"450"},0.5]
["DIY and gardening products EPR",3,"21101410541","Modulated","DIY products","Large non-electric, non-combustion items and machines, and their accessories","Plastic (single-resin) >90%","≥5 kg and <7 kg","€ / unit",0.38,0.38,{"$f":"_xlfn.XLOOKUP(K955,'Codes éco-part'!$C$6:$C$923,'Codes éco-part'!$B$6:$B$923)","v":"292"},0.46]
["DIY and gardening products EPR",3,"21101410550",null,"DIY products","Large non-electric, non-combustion items and machines, and their accessories","Plastic (single-resin) >90%","≥7 kg and <10 kg","€ / unit",0.6,0.6,{"$f":"_xlfn.XLOOKUP(K956,'Codes éco-part'!$C$6:$C$923,'Codes éco-part'!$B$6:$B$923)","v":"327"},0.72]
["DIY and gardening products EPR",3,"21101410551","Modulated","DIY products","Large non-electric, non-combustion items and machines, and their accessories","Plastic (single-resin) >90%","≥7 kg and <10 kg","€ / unit",0.54,0.54,{"$f":"_xlfn.XLOOKUP(K957,'Codes éco-part'!$C$6:$C$923,'Codes éco-part'!$B$6:$B$923)","v":"500"},0.65]
["DIY and gardening products EPR",3,"21101410560",null,"DIY products","Large non-electric, non-combustion items and machines, and their accessories","Plastic (single-resin) >90%","≥10 kg and <15 kg","€ / unit",0.9,0.9,{"$f":"_xlfn.XLOOKUP(K958,'Codes éco-part'!$C$6:$C$923,'Codes éco-part'!$B$6:$B$923)","v":"330"},1.08]
["DIY and gardening products EPR",3,"21101410561","Modulated","DIY products","Large non-electric, non-combustion items and machines, and their accessories","Plastic (single-resin) >90%","≥10 kg and <15 kg","€ / unit",0.81,0.81,{"$f":"_xlfn.XLOOKUP(K959,'Codes éco-part'!$C$6:$C$923,'Codes éco-part'!$B$6:$B$923)","v":"112"},0.97]
["DIY and gardening products EPR",3,"21101410570",null,"DIY products","Large non-electric, non-combustion items and machines, and their accessories","Plastic (single-resin) >90%","≥15 kg and <20 kg","€ / unit",1.2,1.2,{"$f":"_xlfn.XLOOKUP(K960,'Codes éco-part'!$C$6:$C$923,'Codes éco-part'!$B$6:$B$923)","v":"505"},1.44]
["DIY and gardening products EPR",3,"21101410571","Modulated","DIY products","Large non-electric, non-combustion items and machines, and their accessories","Plastic (single-resin) >90%","≥15 kg and <20 kg","€ / unit",1.08,1.08,{"$f":"_xlfn.XLOOKUP(K961,'Codes éco-part'!$C$6:$C$923,'Codes éco-part'!$B$6:$B$923)","v":"113"},1.3]
["DIY and gardening products EPR",3,"21101410580",null,"DIY products","Large non-electric, non-combustion items and machines, and their accessories","Plastic (single-resin) >90%","≥20 kg and <25 kg","€ / unit",1.5,1.5,{"$f":"_xlfn.XLOOKUP(K962,'Codes éco-part'!$C$6:$C$923,'Codes éco-part'!$B$6:$B$923)","v":"059"},{"$f":"ROUND(K962*1.2,2)","v":1.8}]
["DIY and gardening products EPR",3,"21101410581","Modulated","DIY products","Large non-electric, non-combustion items and machines, and their accessories","Plastic (single-resin) >90%","≥20 kg and <25 kg","€ / unit",1.35,1.35,{"$f":"_xlfn.XLOOKUP(K963,'Codes éco-part'!$C$6:$C$923,'Codes éco-part'!$B$6:$B$923)","v":"332"},1.62]
["DIY and gardening products EPR",3,"21101410590",null,"DIY products","Large non-electric, non-combustion items and machines, and their accessories","Plastic (single-resin) >90%","≥25 kg and <30 kg","€ / unit",1.8,1.8,{"$f":"_xlfn.XLOOKUP(K964,'Codes éco-part'!$C$6:$C$923,'Codes éco-part'!$B$6:$B$923)","v":"603"},2.16]
["DIY and gardening products EPR",3,"21101410591","Modulated","DIY products","Large non-electric, non-combustion items and machines, and their accessories","Plastic (single-resin) >90%","≥25 kg and <30 kg","€ / unit",1.62,1.62,{"$f":"_xlfn.XLOOKUP(K965,'Codes éco-part'!$C$6:$C$923,'Codes éco-part'!$B$6:$B$923)","v":"810"},1.94]
["DIY and gardening products EPR",3,"21101410600",null,"DIY products","Large non-electric, non-combustion items and machines, and their accessories","Plastic (single-resin) >90%","≥40 kg and <50 kg","€ / unit",3,3,{"$f":"_xlfn.XLOOKUP(K966,'Codes éco-part'!$C$6:$C$923,'Codes éco-part'!$B$6:$B$923)","v":"474"},3.6]
["DIY and gardening products EPR",3,"21101410601","Modulated","DIY products","Large non-electric, non-combustion items and machines, and their accessories","Plastic (single-resin) >90%","≥40 kg and <50 kg","€ / unit",2.7,2.7,{"$f":"_xlfn.XLOOKUP(K967,'Codes éco-part'!$C$6:$C$923,'Codes éco-part'!$B$6:$B$923)","v":"611"},3.24]
["DIY and gardening products EPR",3,"21101420000",null,"DIY products","Large non-electric, non-combustion items and machines, and their accessories","Polyethylene terephthalate (PET) >90%","Elements of all sizes and weights","€ / ton",60,60,{"$f":"_xlfn.XLOOKUP(K968,'Codes éco-part'!$C$6:$C$923,'Codes éco-part'!$B$6:$B$923)","v":"180"},72]
["DIY and gardening products EPR",3,"21101420001","Modulated","DIY products","Large non-electric, non-combustion items and machines, and their accessories","Polyethylene terephthalate (PET) >90%","Elements of all sizes and weights","€ / ton",54,54,{"$f":"_xlfn.XLOOKUP(K969,'Codes éco-part'!$C$6:$C$923,'Codes éco-part'!$B$6:$B$923)","v":947},64.8]
["DIY and gardening products EPR",3,"21101420200",null,"DIY products","Large non-electric, non-combustion items and machines, and their accessories","Polyethylene terephthalate (PET) >90%","Strictly <0.5 kg","€ / unit",0.02,0.02,{"$f":"_xlfn.XLOOKUP(K970,'Codes éco-part'!$C$6:$C$923,'Codes éco-part'!$B$6:$B$923)","v":"047"},0.02]
["DIY and gardening products EPR",3,"21101420201","Modulated","DIY products","Large non-electric, non-combustion items and machines, and their accessories","Polyethylene terephthalate (PET) >90%","Strictly <0.5 kg","€ / unit",0.02,0.02,{"$f":"_xlfn.XLOOKUP(K971,'Codes éco-part'!$C$6:$C$923,'Codes éco-part'!$B$6:$B$923)","v":"047"},0.02]
["DIY and gardening products EPR",3,"21101420210",null,"DIY products","Large non-electric, non-combustion items and machines, and their accessories","Polyethylene terephthalate (PET) >90%","≥0.5 kg and <1 kg","€ / unit",0.05,0.05,{"$f":"_xlfn.XLOOKUP(K972,'Codes éco-part'!$C$6:$C$923,'Codes éco-part'!$B$6:$B$923)","v":"048"},0.06]
["DIY and gardening products EPR",3,"21101420211","Modulated","DIY products","Large non-electric, non-combustion items and machines, and their accessories","Polyethylene terephthalate (PET) >90%","≥0.5 kg and <1 kg","€ / unit",0.05,0.05,{"$f":"_xlfn.XLOOKUP(K973,'Codes éco-part'!$C$6:$C$923,'Codes éco-part'!$B$6:$B$923)","v":"048"},0.06]
["DIY and gardening products EPR",3,"21101420220",null,"DIY products","Large non-electric, non-combustion items and machines, and their accessories","Polyethylene terephthalate (PET) >90%","≥1 kg and <2 kg","€ / unit",0.09,0.09,{"$f":"_xlfn.XLOOKUP(K974,'Codes éco-part'!$C$6:$C$923,'Codes éco-part'!$B$6:$B$923)","v":"049"},0.11]
["DIY and gardening products EPR",3,"21101420221","Modulated","DIY products","Large non-electric, non-combustion items and machines, and their accessories","Polyethylene terephthalate (PET) >90%","≥1 kg and <2 kg","€ / unit",0.08,0.08,{"$f":"_xlfn.XLOOKUP(K975,'Codes éco-part'!$C$6:$C$923,'Codes éco-part'!$B$6:$B$923)","v":"003"},0.1]
["DIY and gardening products EPR",3,"21101420270",null,"DIY products","Large non-electric, non-combustion items and machines, and their accessories","Polyethylene terephthalate (PET) >90%","≥30 kg and <40 kg","€ / unit",2.4,2.4,{"$f":"_xlfn.XLOOKUP(K976,'Codes éco-part'!$C$6:$C$923,'Codes éco-part'!$B$6:$B$923)","v":"602"},2.88]
["DIY and gardening products EPR",3,"21101420271","Modulated","DIY products","Large non-electric, non-combustion items and machines, and their accessories","Polyethylene terephthalate (PET) >90%","≥30 kg and <40 kg","€ / unit",2.16,2.16,{"$f":"_xlfn.XLOOKUP(K977,'Codes éco-part'!$C$6:$C$923,'Codes éco-part'!$B$6:$B$923)","v":"622"},2.59]
["DIY and gardening products EPR",3,"21101420520",null,"DIY products","Large non-electric, non-combustion items and machines, and their accessories","Polyethylene terephthalate (PET) >90%","≥2 kg and <3 kg","€ / unit",0.15,0.15,{"$f":"_xlfn.XLOOKUP(K978,'Codes éco-part'!$C$6:$C$923,'Codes éco-part'!$B$6:$B$923)","v":"050"},0.18]
["DIY and gardening products EPR",3,"21101420521","Modulated","DIY products","Large non-electric, non-combustion items and machines, and their accessories","Polyethylene terephthalate (PET) >90%","≥2 kg and <3 kg","€ / unit",0.14000000000000001,0.14000000000000001,{"$f":"_xlfn.XLOOKUP(K979,'Codes éco-part'!$C$6:$C$923,'Codes éco-part'!$B$6:$B$923)","v":"098"},0.17]
["DIY and gardening products EPR",3,"21101420530",null,"DIY products","Large non-electric, non-combustion items and machines, and their accessories","Polyethylene terephthalate (PET) >90%","≥3 kg and <5 kg","€ / unit",0.24,0.24,{"$f":"_xlfn.XLOOKUP(K980,'Codes éco-part'!$C$6:$C$923,'Codes éco-part'!$B$6:$B$923)","v":"248"},0.28999999999999998]
["DIY and gardening products EPR",3,"21101420531","Modulated","DIY products","Large non-electric, non-combustion items and machines, and their accessories","Polyethylene terephthalate (PET) >90%","≥3 kg and <5 kg","€ / unit",0.22,0.22,{"$f":"_xlfn.XLOOKUP(K981,'Codes éco-part'!$C$6:$C$923,'Codes éco-part'!$B$6:$B$923)","v":"263"},0.26]
["DIY and gardening products EPR",3,"21101420540",null,"DIY products","Large non-electric, non-combustion items and machines, and their accessories","Polyethylene terephthalate (PET) >90%","≥5 kg and <7 kg","€ / unit",0.42,0.42,{"$f":"_xlfn.XLOOKUP(K982,'Codes éco-part'!$C$6:$C$923,'Codes éco-part'!$B$6:$B$923)","v":"450"},0.5]
["DIY and gardening products EPR",3,"21101420541","Modulated","DIY products","Large non-electric, non-combustion items and machines, and their accessories","Polyethylene terephthalate (PET) >90%","≥5 kg and <7 kg","€ / unit",0.38,0.38,{"$f":"_xlfn.XLOOKUP(K983,'Codes éco-part'!$C$6:$C$923,'Codes éco-part'!$B$6:$B$923)","v":"292"},0.46]
["DIY and gardening products EPR",3,"21101420550",null,"DIY products","Large non-electric, non-combustion items and machines, and their accessories","Polyethylene terephthalate (PET) >90%","≥7 kg and <10 kg","€ / unit",0.6,0.6,{"$f":"_xlfn.XLOOKUP(K984,'Codes éco-part'!$C$6:$C$923,'Codes éco-part'!$B$6:$B$923)","v":"327"},0.72]
["DIY and gardening products EPR",3,"21101420551","Modulated","DIY products","Large non-electric, non-combustion items and machines, and their accessories","Polyethylene terephthalate (PET) >90%","≥7 kg and <10 kg","€ / unit",0.54,0.54,{"$f":"_xlfn.XLOOKUP(K985,'Codes éco-part'!$C$6:$C$923,'Codes éco-part'!$B$6:$B$923)","v":"500"},0.65]
["DIY and gardening products EPR",3,"21101420560",null,"DIY products","Large non-electric, non-combustion items and machines, and their accessories","Polyethylene terephthalate (PET) >90%","≥10 kg and <15 kg","€ / unit",0.9,0.9,{"$f":"_xlfn.XLOOKUP(K986,'Codes éco-part'!$C$6:$C$923,'Codes éco-part'!$B$6:$B$923)","v":"330"},1.08]
["DIY and gardening products EPR",3,"21101420561","Modulated","DIY products","Large non-electric, non-combustion items and machines, and their accessories","Polyethylene terephthalate (PET) >90%","≥10 kg and <15 kg","€ / unit",0.81,0.81,{"$f":"_xlfn.XLOOKUP(K987,'Codes éco-part'!$C$6:$C$923,'Codes éco-part'!$B$6:$B$923)","v":"112"},0.97]
["DIY and gardening products EPR",3,"21101420570",null,"DIY products","Large non-electric, non-combustion items and machines, and their accessories","Polyethylene terephthalate (PET) >90%","≥15 kg and <20 kg","€ / unit",1.2,1.2,{"$f":"_xlfn.XLOOKUP(K988,'Codes éco-part'!$C$6:$C$923,'Codes éco-part'!$B$6:$B$923)","v":"505"},1.44]
["DIY and gardening products EPR",3,"21101420571","Modulated","DIY products","Large non-electric, non-combustion items and machines, and their accessories","Polyethylene terephthalate (PET) >90%","≥15 kg and <20 kg","€ / unit",1.08,1.08,{"$f":"_xlfn.XLOOKUP(K989,'Codes éco-part'!$C$6:$C$923,'Codes éco-part'!$B$6:$B$923)","v":"113"},1.3]
["DIY and gardening products EPR",3,"21101420580",null,"DIY products","Large non-electric, non-combustion items and machines, and their accessories","Polyethylene terephthalate (PET) >90%","≥20 kg and <25 kg","€ / unit",1.5,1.5,{"$f":"_xlfn.XLOOKUP(K990,'Codes éco-part'!$C$6:$C$923,'Codes éco-part'!$B$6:$B$923)","v":"059"},1.8]
["DIY and gardening products EPR",3,"21101420581","Modulated","DIY products","Large non-electric, non-combustion items and machines, and their accessories","Polyethylene terephthalate (PET) >90%","≥20 kg and <25 kg","€ / unit",1.35,1.35,{"$f":"_xlfn.XLOOKUP(K991,'Codes éco-part'!$C$6:$C$923,'Codes éco-part'!$B$6:$B$923)","v":"332"},1.62]
["DIY and gardening products EPR",3,"21101420590",null,"DIY products","Large non-electric, non-combustion items and machines, and their accessories","Polyethylene terephthalate (PET) >90%","≥25 kg and <30 kg","€ / unit",1.8,1.8,{"$f":"_xlfn.XLOOKUP(K992,'Codes éco-part'!$C$6:$C$923,'Codes éco-part'!$B$6:$B$923)","v":"603"},2.16]
["DIY and gardening products EPR",3,"21101420591","Modulated","DIY products","Large non-electric, non-combustion items and machines, and their accessories","Polyethylene terephthalate (PET) >90%","≥25 kg and <30 kg","€ / unit",1.62,1.62,{"$f":"_xlfn.XLOOKUP(K993,'Codes éco-part'!$C$6:$C$923,'Codes éco-part'!$B$6:$B$923)","v":"810"},1.94]
["DIY and gardening products EPR",3,"21101420600",null,"DIY products","Large non-electric, non-combustion items and machines, and their accessories","Polyethylene terephthalate (PET) >90%","≥40 kg and <50 kg","€ / unit",3,3,{"$f":"_xlfn.XLOOKUP(K994,'Codes éco-part'!$C$6:$C$923,'Codes éco-part'!$B$6:$B$923)","v":"474"},3.6]
["DIY and gardening products EPR",3,"21101420601","Modulated","DIY products","Large non-electric, non-combustion items and machines, and their accessories","Polyethylene terephthalate (PET) >90%","≥40 kg and <50 kg","€ / unit",2.7,2.7,{"$f":"_xlfn.XLOOKUP(K995,'Codes éco-part'!$C$6:$C$923,'Codes éco-part'!$B$6:$B$923)","v":"611"},3.24]
["DIY and gardening products EPR",3,"21101450000",null,"DIY products","Large non-electric, non-combustion items and machines, and their accessories","PE or PP or PP/PE mix >90%","Elements of all sizes and weights","€ / ton",60,60,{"$f":"_xlfn.XLOOKUP(K996,'Codes éco-part'!$C$6:$C$923,'Codes éco-part'!$B$6:$B$923)","v":"180"},72]
["DIY and gardening products EPR",3,"21101450001","Modulated","DIY products","Large non-electric, non-combustion items and machines, and their accessories","PE or PP or PP/PE mix >90%","Elements of all sizes and weights","€ / ton",54,54,{"$f":"_xlfn.XLOOKUP(K997,'Codes éco-part'!$C$6:$C$923,'Codes éco-part'!$B$6:$B$923)","v":947},64.8]
["DIY and gardening products EPR",3,"21101450200",null,"DIY products","Large non-electric, non-combustion items and machines, and their accessories","PE or PP or PP/PE mix >90%","Strictly <0.5 kg","€ / unit",0.02,0.02,{"$f":"_xlfn.XLOOKUP(K998,'Codes éco-part'!$C$6:$C$923,'Codes éco-part'!$B$6:$B$923)","v":"047"},0.02]
["DIY and gardening products EPR",3,"21101450201","Modulated","DIY products","Large non-electric, non-combustion items and machines, and their accessories","PE or PP or PP/PE mix >90%","Strictly <0.5 kg","€ / unit",0.02,0.02,{"$f":"_xlfn.XLOOKUP(K999,'Codes éco-part'!$C$6:$C$923,'Codes éco-part'!$B$6:$B$923)","v":"047"},0.02]
["DIY and gardening products EPR",3,"21101450210",null,"DIY products","Large non-electric, non-combustion items and machines, and their accessories","PE or PP or PP/PE mix >90%","≥0.5 kg and <1 kg","€ / unit",0.05,0.05,{"$f":"_xlfn.XLOOKUP(K1000,'Codes éco-part'!$C$6:$C$923,'Codes éco-part'!$B$6:$B$923)","v":"048"},0.06]
["DIY and gardening products EPR",3,"21101450211","Modulated","DIY products","Large non-electric, non-combustion items and machines, and their accessories","PE or PP or PP/PE mix >90%","≥0.5 kg and <1 kg","€ / unit",0.05,0.05,{"$f":"_xlfn.XLOOKUP(K1001,'Codes éco-part'!$C$6:$C$923,'Codes éco-part'!$B$6:$B$923)","v":"048"},0.06]
["DIY and gardening products EPR",3,"21101450220",null,"DIY products","Large non-electric, non-combustion items and machines, and their accessories","PE or PP or PP/PE mix >90%","≥1 kg and <2 kg","€ / unit",0.09,0.09,{"$f":"_xlfn.XLOOKUP(K1002,'Codes éco-part'!$C$6:$C$923,'Codes éco-part'!$B$6:$B$923)","v":"049"},0.11]
["DIY and gardening products EPR",3,"21101450221","Modulated","DIY products","Large non-electric, non-combustion items and machines, and their accessories","PE or PP or PP/PE mix >90%","≥1 kg and <2 kg","€ / unit",0.08,0.08,{"$f":"_xlfn.XLOOKUP(K1003,'Codes éco-part'!$C$6:$C$923,'Codes éco-part'!$B$6:$B$923)","v":"003"},0.1]
["DIY and gardening products EPR",3,"21101450270",null,"DIY products","Large non-electric, non-combustion items and machines, and their accessories","PE or PP or PP/PE mix >90%","≥30 kg and <40 kg","€ / unit",2.4,2.4,{"$f":"_xlfn.XLOOKUP(K1004,'Codes éco-part'!$C$6:$C$923,'Codes éco-part'!$B$6:$B$923)","v":"602"},2.88]
["DIY and gardening products EPR",3,"21101450271","Modulated","DIY products","Large non-electric, non-combustion items and machines, and their accessories","PE or PP or PP/PE mix >90%","≥30 kg and <40 kg","€ / unit",2.16,2.16,{"$f":"_xlfn.XLOOKUP(K1005,'Codes éco-part'!$C$6:$C$923,'Codes éco-part'!$B$6:$B$923)","v":"622"},2.59]
["DIY and gardening products EPR",3,"21101450520",null,"DIY products","Large non-electric, non-combustion items and machines, and their accessories","PE or PP or PP/PE mix >90%","≥2 kg and <3 kg","€ / unit",0.15,0.15,{"$f":"_xlfn.XLOOKUP(K1006,'Codes éco-part'!$C$6:$C$923,'Codes éco-part'!$B$6:$B$923)","v":"050"},0.18]
["DIY and gardening products EPR",3,"21101450521","Modulated","DIY products","Large non-electric, non-combustion items and machines, and their accessories","PE or PP or PP/PE mix >90%","≥2 kg and <3 kg","€ / unit",0.14000000000000001,0.14000000000000001,{"$f":"_xlfn.XLOOKUP(K1007,'Codes éco-part'!$C$6:$C$923,'Codes éco-part'!$B$6:$B$923)","v":"098"},0.17]
["DIY and gardening products EPR",3,"21101450530",null,"DIY products","Large non-electric, non-combustion items and machines, and their accessories","PE or PP or PP/PE mix >90%","≥3 kg and <5 kg","€ / unit",0.24,0.24,{"$f":"_xlfn.XLOOKUP(K1008,'Codes éco-part'!$C$6:$C$923,'Codes éco-part'!$B$6:$B$923)","v":"248"},0.28999999999999998]
["DIY and gardening products EPR",3,"21101450531","Modulated","DIY products","Large non-electric, non-combustion items and machines, and their accessories","PE or PP or PP/PE mix >90%","≥3 kg and <5 kg","€ / unit",0.22,0.22,{"$f":"_xlfn.XLOOKUP(K1009,'Codes éco-part'!$C$6:$C$923,'Codes éco-part'!$B$6:$B$923)","v":"263"},0.26]
["DIY and gardening products EPR",3,"21101450540",null,"DIY products","Large non-electric, non-combustion items and machines, and their accessories","PE or PP or PP/PE mix >90%","≥5 kg and <7 kg","€ / unit",0.42,0.42,{"$f":"_xlfn.XLOOKUP(K1010,'Codes éco-part'!$C$6:$C$923,'Codes éco-part'!$B$6:$B$923)","v":"450"},0.5]
["DIY and gardening products EPR",3,"21101450541","Modulated","DIY products","Large non-electric, non-combustion items and machines, and their accessories","PE or PP or PP/PE mix >90%","≥5 kg and <7 kg","€ / unit",0.38,0.38,{"$f":"_xlfn.XLOOKUP(K1011,'Codes éco-part'!$C$6:$C$923,'Codes éco-part'!$B$6:$B$923)","v":"292"},0.46]
["DIY and gardening products EPR",3,"21101450550",null,"DIY products","Large non-electric, non-combustion items and machines, and their accessories","PE or PP or PP/PE mix >90%","≥7 kg and <10 kg","€ / unit",0.6,0.6,{"$f":"_xlfn.XLOOKUP(K1012,'Codes éco-part'!$C$6:$C$923,'Codes éco-part'!$B$6:$B$923)","v":"327"},0.72]
["DIY and gardening products EPR",3,"21101450551","Modulated","DIY products","Large non-electric, non-combustion items and machines, and their accessories","PE or PP or PP/PE mix >90%","≥7 kg and <10 kg","€ / unit",0.54,0.54,{"$f":"_xlfn.XLOOKUP(K1013,'Codes éco-part'!$C$6:$C$923,'Codes éco-part'!$B$6:$B$923)","v":"500"},0.65]
["DIY and gardening products EPR",3,"21101450560",null,"DIY products","Large non-electric, non-combustion items and machines, and their accessories","PE or PP or PP/PE mix >90%","≥10 kg and <15 kg","€ / unit",0.9,0.9,{"$f":"_xlfn.XLOOKUP(K1014,'Codes éco-part'!$C$6:$C$923,'Codes éco-part'!$B$6:$B$923)","v":"330"},1.08]
["DIY and gardening products EPR",3,"21101450561","Modulated","DIY products","Large non-electric, non-combustion items and machines, and their accessories","PE or PP or PP/PE mix >90%","≥10 kg and <15 kg","€ / unit",0.81,0.81,{"$f":"_xlfn.XLOOKUP(K1015,'Codes éco-part'!$C$6:$C$923,'Codes éco-part'!$B$6:$B$923)","v":"112"},0.97]
["DIY and gardening products EPR",3,"21101450570",null,"DIY products","Large non-electric, non-combustion items and machines, and their accessories","PE or PP or PP/PE mix >90%","≥15 kg and <20 kg","€ / unit",1.2,1.2,{"$f":"_xlfn.XLOOKUP(K1016,'Codes éco-part'!$C$6:$C$923,'Codes éco-part'!$B$6:$B$923)","v":"505"},1.44]
["DIY and gardening products EPR",3,"21101450571","Modulated","DIY products","Large non-electric, non-combustion items and machines, and their accessories","PE or PP or PP/PE mix >90%","≥15 kg and <20 kg","€ / unit",1.08,1.08,{"$f":"_xlfn.XLOOKUP(K1017,'Codes éco-part'!$C$6:$C$923,'Codes éco-part'!$B$6:$B$923)","v":"113"},1.3]
["DIY and gardening products EPR",3,"21101450580",null,"DIY products","Large non-electric, non-combustion items and machines, and their accessories","PE or PP or PP/PE mix >90%","≥20 kg and <25 kg","€ / unit",1.5,1.5,{"$f":"_xlfn.XLOOKUP(K1018,'Codes éco-part'!$C$6:$C$923,'Codes éco-part'!$B$6:$B$923)","v":"059"},1.8]
["DIY and gardening products EPR",3,"21101450581","Modulated","DIY products","Large non-electric, non-combustion items and machines, and their accessories","PE or PP or PP/PE mix >90%","≥20 kg and <25 kg","€ / unit",1.35,1.35,{"$f":"_xlfn.XLOOKUP(K1019,'Codes éco-part'!$C$6:$C$923,'Codes éco-part'!$B$6:$B$923)","v":"332"},1.62]
["DIY and gardening products EPR",3,"21101450590",null,"DIY products","Large non-electric, non-combustion items and machines, and their accessories","PE or PP or PP/PE mix >90%","≥25 kg and <30 kg","€ / unit",1.8,1.8,{"$f":"_xlfn.XLOOKUP(K1020,'Codes éco-part'!$C$6:$C$923,'Codes éco-part'!$B$6:$B$923)","v":"603"},2.16]
["DIY and gardening products EPR",3,"21101450591","Modulated","DIY products","Large non-electric, non-combustion items and machines, and their accessories","PE or PP or PP/PE mix >90%","≥25 kg and <30 kg","€ / unit",1.62,1.62,{"$f":"_xlfn.XLOOKUP(K1021,'Codes éco-part'!$C$6:$C$923,'Codes éco-part'!$B$6:$B$923)","v":"810"},1.94]
["DIY and gardening products EPR",3,"21101450600",null,"DIY products","Large non-electric, non-combustion items and machines, and their accessories","PE or PP or PP/PE mix >90%","≥40 kg and <50 kg","€ / unit",3,3,{"$f":"_xlfn.XLOOKUP(K1022,'Codes éco-part'!$C$6:$C$923,'Codes éco-part'!$B$6:$B$923)","v":"474"},3.6]
["DIY and gardening products EPR",3,"21101450601","Modulated","DIY products","Large non-electric, non-combustion items and machines, and their accessories","PE or PP or PP/PE mix >90%","≥40 kg and <50 kg","€ / unit",2.7,2.7,{"$f":"_xlfn.XLOOKUP(K1023,'Codes éco-part'!$C$6:$C$923,'Codes éco-part'!$B$6:$B$923)","v":"611"},3.24]
["DIY and gardening products EPR",3,"21101460000",null,"DIY products","Large non-electric, non-combustion items and machines, and their accessories","ABS >90%","Elements of all sizes and weights","€ / ton",60,60,{"$f":"_xlfn.XLOOKUP(K1024,'Codes éco-part'!$C$6:$C$923,'Codes éco-part'!$B$6:$B$923)","v":"180"},72]
["DIY and gardening products EPR",3,"21101460001","Modulated","DIY products","Large non-electric, non-combustion items and machines, and their accessories","ABS >90%","Elements of all sizes and weights","€ / ton",54,54,{"$f":"_xlfn.XLOOKUP(K1025,'Codes éco-part'!$C$6:$C$923,'Codes éco-part'!$B$6:$B$923)","v":947},64.8]
["DIY and gardening products EPR",3,"21101460200",null,"DIY products","Large non-electric, non-combustion items and machines, and their accessories","ABS >90%","Strictly <0.5 kg","€ / unit",0.02,0.02,{"$f":"_xlfn.XLOOKUP(K1026,'Codes éco-part'!$C$6:$C$923,'Codes éco-part'!$B$6:$B$923)","v":"047"},{"$f":"ROUND(K1026*1.2,2)","v":0.02}]
["DIY and gardening products EPR",3,"21101460201","Modulated","DIY products","Large non-electric, non-combustion items and machines, and their accessories","ABS >90%","Strictly <0.5 kg","€ / unit",0.02,0.02,{"$f":"_xlfn.XLOOKUP(K1027,'Codes éco-part'!$C$6:$C$923,'Codes éco-part'!$B$6:$B$923)","v":"047"},0.02]
["DIY and gardening products EPR",3,"21101460210",null,"DIY products","Large non-electric, non-combustion items and machines, and their accessories","ABS >90%","≥0.5 kg and <1 kg","€ / unit",0.05,0.05,{"$f":"_xlfn.XLOOKUP(K1028,'Codes éco-part'!$C$6:$C$923,'Codes éco-part'!$B$6:$B$923)","v":"048"},0.06]
["DIY and gardening products EPR",3,"21101460211","Modulated","DIY products","Large non-electric, non-combustion items and machines, and their accessories","ABS >90%","≥0.5 kg and <1 kg","€ / unit",0.05,0.05,{"$f":"_xlfn.XLOOKUP(K1029,'Codes éco-part'!$C$6:$C$923,'Codes éco-part'!$B$6:$B$923)","v":"048"},0.06]
["DIY and gardening products EPR",3,"21101460220",null,"DIY products","Large non-electric, non-combustion items and machines, and their accessories","ABS >90%","≥1 kg and <2 kg","€ / unit",0.09,0.09,{"$f":"_xlfn.XLOOKUP(K1030,'Codes éco-part'!$C$6:$C$923,'Codes éco-part'!$B$6:$B$923)","v":"049"},0.11]
["DIY and gardening products EPR",3,"21101460221","Modulated","DIY products","Large non-electric, non-combustion items and machines, and their accessories","ABS >90%","≥1 kg and <2 kg","€ / unit",0.08,0.08,{"$f":"_xlfn.XLOOKUP(K1031,'Codes éco-part'!$C$6:$C$923,'Codes éco-part'!$B$6:$B$923)","v":"003"},0.1]
["DIY and gardening products EPR",3,"21101460270",null,"DIY products","Large non-electric, non-combustion items and machines, and their accessories","ABS >90%","≥30 kg and <40 kg","€ / unit",2.4,2.4,{"$f":"_xlfn.XLOOKUP(K1032,'Codes éco-part'!$C$6:$C$923,'Codes éco-part'!$B$6:$B$923)","v":"602"},2.88]
["DIY and gardening products EPR",3,"21101460271","Modulated","DIY products","Large non-electric, non-combustion items and machines, and their accessories","ABS >90%","≥30 kg and <40 kg","€ / unit",2.16,2.16,{"$f":"_xlfn.XLOOKUP(K1033,'Codes éco-part'!$C$6:$C$923,'Codes éco-part'!$B$6:$B$923)","v":"622"},2.59]
["DIY and gardening products EPR",3,"21101460520",null,"DIY products","Large non-electric, non-combustion items and machines, and their accessories","ABS >90%","≥2 kg and <3 kg","€ / unit",0.15,0.15,{"$f":"_xlfn.XLOOKUP(K1034,'Codes éco-part'!$C$6:$C$923,'Codes éco-part'!$B$6:$B$923)","v":"050"},0.18]
["DIY and gardening products EPR",3,"21101460521","Modulated","DIY products","Large non-electric, non-combustion items and machines, and their accessories","ABS >90%","≥2 kg and <3 kg","€ / unit",0.14000000000000001,0.14000000000000001,{"$f":"_xlfn.XLOOKUP(K1035,'Codes éco-part'!$C$6:$C$923,'Codes éco-part'!$B$6:$B$923)","v":"098"},0.17]
["DIY and gardening products EPR",3,"21101460530",null,"DIY products","Large non-electric, non-combustion items and machines, and their accessories","ABS >90%","≥3 kg and <5 kg","€ / unit",0.24,0.24,{"$f":"_xlfn.XLOOKUP(K1036,'Codes éco-part'!$C$6:$C$923,'Codes éco-part'!$B$6:$B$923)","v":"248"},0.28999999999999998]
["DIY and gardening products EPR",3,"21101460531","Modulated","DIY products","Large non-electric, non-combustion items and machines, and their accessories","ABS >90%","≥3 kg and <5 kg","€ / unit",0.22,0.22,{"$f":"_xlfn.XLOOKUP(K1037,'Codes éco-part'!$C$6:$C$923,'Codes éco-part'!$B$6:$B$923)","v":"263"},0.26]
["DIY and gardening products EPR",3,"21101460540",null,"DIY products","Large non-electric, non-combustion items and machines, and their accessories","ABS >90%","≥5 kg and <7 kg","€ / unit",0.42,0.42,{"$f":"_xlfn.XLOOKUP(K1038,'Codes éco-part'!$C$6:$C$923,'Codes éco-part'!$B$6:$B$923)","v":"450"},0.5]
["DIY and gardening products EPR",3,"21101460541","Modulated","DIY products","Large non-electric, non-combustion items and machines, and their accessories","ABS >90%","≥5 kg and <7 kg","€ / unit",0.38,0.38,{"$f":"_xlfn.XLOOKUP(K1039,'Codes éco-part'!$C$6:$C$923,'Codes éco-part'!$B$6:$B$923)","v":"292"},0.46]
["DIY and gardening products EPR",3,"21101460550",null,"DIY products","Large non-electric, non-combustion items and machines, and their accessories","ABS >90%","≥7 kg and <10 kg","€ / unit",0.6,0.6,{"$f":"_xlfn.XLOOKUP(K1040,'Codes éco-part'!$C$6:$C$923,'Codes éco-part'!$B$6:$B$923)","v":"327"},0.72]
["DIY and gardening products EPR",3,"21101460551","Modulated","DIY products","Large non-electric, non-combustion items and machines, and their accessories","ABS >90%","≥7 kg and <10 kg","€ / unit",0.54,0.54,{"$f":"_xlfn.XLOOKUP(K1041,'Codes éco-part'!$C$6:$C$923,'Codes éco-part'!$B$6:$B$923)","v":"500"},0.65]
["DIY and gardening products EPR",3,"21101460560",null,"DIY products","Large non-electric, non-combustion items and machines, and their accessories","ABS >90%","≥10 kg and <15 kg","€ / unit",0.9,0.9,{"$f":"_xlfn.XLOOKUP(K1042,'Codes éco-part'!$C$6:$C$923,'Codes éco-part'!$B$6:$B$923)","v":"330"},1.08]
["DIY and gardening products EPR",3,"21101460561","Modulated","DIY products","Large non-electric, non-combustion items and machines, and their accessories","ABS >90%","≥10 kg and <15 kg","€ / unit",0.81,0.81,{"$f":"_xlfn.XLOOKUP(K1043,'Codes éco-part'!$C$6:$C$923,'Codes éco-part'!$B$6:$B$923)","v":"112"},0.97]
["DIY and gardening products EPR",3,"21101460570",null,"DIY products","Large non-electric, non-combustion items and machines, and their accessories","ABS >90%","≥15 kg and <20 kg","€ / unit",1.2,1.2,{"$f":"_xlfn.XLOOKUP(K1044,'Codes éco-part'!$C$6:$C$923,'Codes éco-part'!$B$6:$B$923)","v":"505"},1.44]
["DIY and gardening products EPR",3,"21101460571","Modulated","DIY products","Large non-electric, non-combustion items and machines, and their accessories","ABS >90%","≥15 kg and <20 kg","€ / unit",1.08,1.08,{"$f":"_xlfn.XLOOKUP(K1045,'Codes éco-part'!$C$6:$C$923,'Codes éco-part'!$B$6:$B$923)","v":"113"},1.3]
["DIY and gardening products EPR",3,"21101460580",null,"DIY products","Large non-electric, non-combustion items and machines, and their accessories","ABS >90%","≥20 kg and <25 kg","€ / unit",1.5,1.5,{"$f":"_xlfn.XLOOKUP(K1046,'Codes éco-part'!$C$6:$C$923,'Codes éco-part'!$B$6:$B$923)","v":"059"},1.8]
["DIY and gardening products EPR",3,"21101460581","Modulated","DIY products","Large non-electric, non-combustion items and machines, and their accessories","ABS >90%","≥20 kg and <25 kg","€ / unit",1.35,1.35,{"$f":"_xlfn.XLOOKUP(K1047,'Codes éco-part'!$C$6:$C$923,'Codes éco-part'!$B$6:$B$923)","v":"332"},1.62]
["DIY and gardening products EPR",3,"21101460590",null,"DIY products","Large non-electric, non-combustion items and machines, and their accessories","ABS >90%","≥25 kg and <30 kg","€ / unit",1.8,1.8,{"$f":"_xlfn.XLOOKUP(K1048,'Codes éco-part'!$C$6:$C$923,'Codes éco-part'!$B$6:$B$923)","v":"603"},2.16]
["DIY and gardening products EPR",3,"21101460591","Modulated","DIY products","Large non-electric, non-combustion items and machines, and their accessories","ABS >90%","≥25 kg and <30 kg","€ / unit",1.62,1.62,{"$f":"_xlfn.XLOOKUP(K1049,'Codes éco-part'!$C$6:$C$923,'Codes éco-part'!$B$6:$B$923)","v":"810"},1.94]
["DIY and gardening products EPR",3,"21101460600",null,"DIY products","Large non-electric, non-combustion items and machines, and their accessories","ABS >90%","≥40 kg and <50 kg","€ / unit",3,3,{"$f":"_xlfn.XLOOKUP(K1050,'Codes éco-part'!$C$6:$C$923,'Codes éco-part'!$B$6:$B$923)","v":"474"},3.6]
["DIY and gardening products EPR",3,"21101460601","Modulated","DIY products","Large non-electric, non-combustion items and machines, and their accessories","ABS >90%","≥40 kg and <50 kg","€ / unit",2.7,2.7,{"$f":"_xlfn.XLOOKUP(K1051,'Codes éco-part'!$C$6:$C$923,'Codes éco-part'!$B$6:$B$923)","v":"611"},3.24]
["DIY and gardening products EPR",3,"21101470000",null,"DIY products","Large non-electric, non-combustion items and machines, and their accessories","Polystyrene >90%","Elements of all sizes and weights","€ / ton",60,60,{"$f":"_xlfn.XLOOKUP(K1052,'Codes éco-part'!$C$6:$C$923,'Codes éco-part'!$B$6:$B$923)","v":"180"},72]
["DIY and gardening products EPR",3,"21101470001","Modulated","DIY products","Large non-electric, non-combustion items and machines, and their accessories","Polystyrene >90%","Elements of all sizes and weights","€ / ton",54,54,{"$f":"_xlfn.XLOOKUP(K1053,'Codes éco-part'!$C$6:$C$923,'Codes éco-part'!$B$6:$B$923)","v":947},64.8]
["DIY and gardening products EPR",3,"21101470200",null,"DIY products","Large non-electric, non-combustion items and machines, and their accessories","Polystyrene >90%","Strictly <0.5 kg","€ / unit",0.02,0.02,{"$f":"_xlfn.XLOOKUP(K1054,'Codes éco-part'!$C$6:$C$923,'Codes éco-part'!$B$6:$B$923)","v":"047"},0.02]
["DIY and gardening products EPR",3,"21101470201","Modulated","DIY products","Large non-electric, non-combustion items and machines, and their accessories","Polystyrene >90%","Strictly <0.5 kg","€ / unit",0.02,0.02,{"$f":"_xlfn.XLOOKUP(K1055,'Codes éco-part'!$C$6:$C$923,'Codes éco-part'!$B$6:$B$923)","v":"047"},0.02]
["DIY and gardening products EPR",3,"21101470210",null,"DIY products","Large non-electric, non-combustion items and machines, and their accessories","Polystyrene >90%","≥0.5 kg and <1 kg","€ / unit",0.05,0.05,{"$f":"_xlfn.XLOOKUP(K1056,'Codes éco-part'!$C$6:$C$923,'Codes éco-part'!$B$6:$B$923)","v":"048"},0.06]
["DIY and gardening products EPR",3,"21101470211","Modulated","DIY products","Large non-electric, non-combustion items and machines, and their accessories","Polystyrene >90%","≥0.5 kg and <1 kg","€ / unit",0.05,0.05,{"$f":"_xlfn.XLOOKUP(K1057,'Codes éco-part'!$C$6:$C$923,'Codes éco-part'!$B$6:$B$923)","v":"048"},0.06]
["DIY and gardening products EPR",3,"21101470220",null,"DIY products","Large non-electric, non-combustion items and machines, and their accessories","Polystyrene >90%","≥1 kg and <2 kg","€ / unit",0.09,0.09,{"$f":"_xlfn.XLOOKUP(K1058,'Codes éco-part'!$C$6:$C$923,'Codes éco-part'!$B$6:$B$923)","v":"049"},0.11]
["DIY and gardening products EPR",3,"21101470221","Modulated","DIY products","Large non-electric, non-combustion items and machines, and their accessories","Polystyrene >90%","≥1 kg and <2 kg","€ / unit",0.08,0.08,{"$f":"_xlfn.XLOOKUP(K1059,'Codes éco-part'!$C$6:$C$923,'Codes éco-part'!$B$6:$B$923)","v":"003"},0.1]
["DIY and gardening products EPR",3,"21101470270",null,"DIY products","Large non-electric, non-combustion items and machines, and their accessories","Polystyrene >90%","≥30 kg and <40 kg","€ / unit",2.4,2.4,{"$f":"_xlfn.XLOOKUP(K1060,'Codes éco-part'!$C$6:$C$923,'Codes éco-part'!$B$6:$B$923)","v":"602"},2.88]
["DIY and gardening products EPR",3,"21101470271","Modulated","DIY products","Large non-electric, non-combustion items and machines, and their accessories","Polystyrene >90%","≥30 kg and <40 kg","€ / unit",2.16,2.16,{"$f":"_xlfn.XLOOKUP(K1061,'Codes éco-part'!$C$6:$C$923,'Codes éco-part'!$B$6:$B$923)","v":"622"},2.59]
["DIY and gardening products EPR",3,"21101470520",null,"DIY products","Large non-electric, non-combustion items and machines, and their accessories","Polystyrene >90%","≥2 kg and <3 kg","€ / unit",0.15,0.15,{"$f":"_xlfn.XLOOKUP(K1062,'Codes éco-part'!$C$6:$C$923,'Codes éco-part'!$B$6:$B$923)","v":"050"},0.18]
["DIY and gardening products EPR",3,"21101470521","Modulated","DIY products","Large non-electric, non-combustion items and machines, and their accessories","Polystyrene >90%","≥2 kg and <3 kg","€ / unit",0.14000000000000001,0.14000000000000001,{"$f":"_xlfn.XLOOKUP(K1063,'Codes éco-part'!$C$6:$C$923,'Codes éco-part'!$B$6:$B$923)","v":"098"},0.17]
["DIY and gardening products EPR",3,"21101470530",null,"DIY products","Large non-electric, non-combustion items and machines, and their accessories","Polystyrene >90%","≥3 kg and <5 kg","€ / unit",0.24,0.24,{"$f":"_xlfn.XLOOKUP(K1064,'Codes éco-part'!$C$6:$C$923,'Codes éco-part'!$B$6:$B$923)","v":"248"},0.28999999999999998]
["DIY and gardening products EPR",3,"21101470531","Modulated","DIY products","Large non-electric, non-combustion items and machines, and their accessories","Polystyrene >90%","≥3 kg and <5 kg","€ / unit",0.22,0.22,{"$f":"_xlfn.XLOOKUP(K1065,'Codes éco-part'!$C$6:$C$923,'Codes éco-part'!$B$6:$B$923)","v":"263"},0.26]
["DIY and gardening products EPR",3,"21101470540",null,"DIY products","Large non-electric, non-combustion items and machines, and their accessories","Polystyrene >90%","≥5 kg and <7 kg","€ / unit",0.42,0.42,{"$f":"_xlfn.XLOOKUP(K1066,'Codes éco-part'!$C$6:$C$923,'Codes éco-part'!$B$6:$B$923)","v":"450"},0.5]
["DIY and gardening products EPR",3,"21101470541","Modulated","DIY products","Large non-electric, non-combustion items and machines, and their accessories","Polystyrene >90%","≥5 kg and <7 kg","€ / unit",0.38,0.38,{"$f":"_xlfn.XLOOKUP(K1067,'Codes éco-part'!$C$6:$C$923,'Codes éco-part'!$B$6:$B$923)","v":"292"},0.46]
["DIY and gardening products EPR",3,"21101470550",null,"DIY products","Large non-electric, non-combustion items and machines, and their accessories","Polystyrene >90%","≥7 kg and <10 kg","€ / unit",0.6,0.6,{"$f":"_xlfn.XLOOKUP(K1068,'Codes éco-part'!$C$6:$C$923,'Codes éco-part'!$B$6:$B$923)","v":"327"},0.72]
["DIY and gardening products EPR",3,"21101470551","Modulated","DIY products","Large non-electric, non-combustion items and machines, and their accessories","Polystyrene >90%","≥7 kg and <10 kg","€ / unit",0.54,0.54,{"$f":"_xlfn.XLOOKUP(K1069,'Codes éco-part'!$C$6:$C$923,'Codes éco-part'!$B$6:$B$923)","v":"500"},0.65]
["DIY and gardening products EPR",3,"21101470560",null,"DIY products","Large non-electric, non-combustion items and machines, and their accessories","Polystyrene >90%","≥10 kg and <15 kg","€ / unit",0.9,0.9,{"$f":"_xlfn.XLOOKUP(K1070,'Codes éco-part'!$C$6:$C$923,'Codes éco-part'!$B$6:$B$923)","v":"330"},1.08]
["DIY and gardening products EPR",3,"21101470561","Modulated","DIY products","Large non-electric, non-combustion items and machines, and their accessories","Polystyrene >90%","≥10 kg and <15 kg","€ / unit",0.81,0.81,{"$f":"_xlfn.XLOOKUP(K1071,'Codes éco-part'!$C$6:$C$923,'Codes éco-part'!$B$6:$B$923)","v":"112"},0.97]
["DIY and gardening products EPR",3,"21101470570",null,"DIY products","Large non-electric, non-combustion items and machines, and their accessories","Polystyrene >90%","≥15 kg and <20 kg","€ / unit",1.2,1.2,{"$f":"_xlfn.XLOOKUP(K1072,'Codes éco-part'!$C$6:$C$923,'Codes éco-part'!$B$6:$B$923)","v":"505"},1.44]
["DIY and gardening products EPR",3,"21101470571","Modulated","DIY products","Large non-electric, non-combustion items and machines, and their accessories","Polystyrene >90%","≥15 kg and <20 kg","€ / unit",1.08,1.08,{"$f":"_xlfn.XLOOKUP(K1073,'Codes éco-part'!$C$6:$C$923,'Codes éco-part'!$B$6:$B$923)","v":"113"},1.3]
["DIY and gardening products EPR",3,"21101470580",null,"DIY products","Large non-electric, non-combustion items and machines, and their accessories","Polystyrene >90%","≥20 kg and <25 kg","€ / unit",1.5,1.5,{"$f":"_xlfn.XLOOKUP(K1074,'Codes éco-part'!$C$6:$C$923,'Codes éco-part'!$B$6:$B$923)","v":"059"},1.8]
["DIY and gardening products EPR",3,"21101470581","Modulated","DIY products","Large non-electric, non-combustion items and machines, and their accessories","Polystyrene >90%","≥20 kg and <25 kg","€ / unit",1.35,1.35,{"$f":"_xlfn.XLOOKUP(K1075,'Codes éco-part'!$C$6:$C$923,'Codes éco-part'!$B$6:$B$923)","v":"332"},1.62]
["DIY and gardening products EPR",3,"21101470590",null,"DIY products","Large non-electric, non-combustion items and machines, and their accessories","Polystyrene >90%","≥25 kg and <30 kg","€ / unit",1.8,1.8,{"$f":"_xlfn.XLOOKUP(K1076,'Codes éco-part'!$C$6:$C$923,'Codes éco-part'!$B$6:$B$923)","v":"603"},2.16]
["DIY and gardening products EPR",3,"21101470591","Modulated","DIY products","Large non-electric, non-combustion items and machines, and their accessories","Polystyrene >90%","≥25 kg and <30 kg","€ / unit",1.62,1.62,{"$f":"_xlfn.XLOOKUP(K1077,'Codes éco-part'!$C$6:$C$923,'Codes éco-part'!$B$6:$B$923)","v":"810"},1.94]
["DIY and gardening products EPR",3,"21101470600",null,"DIY products","Large non-electric, non-combustion items and machines, and their accessories","Polystyrene >90%","≥40 kg and <50 kg","€ / unit",3,3,{"$f":"_xlfn.XLOOKUP(K1078,'Codes éco-part'!$C$6:$C$923,'Codes éco-part'!$B$6:$B$923)","v":"474"},3.6]
["DIY and gardening products EPR",3,"21101470601","Modulated","DIY products","Large non-electric, non-combustion items and machines, and their accessories","Polystyrene >90%","≥40 kg and <50 kg","€ / unit",2.7,2.7,{"$f":"_xlfn.XLOOKUP(K1079,'Codes éco-part'!$C$6:$C$923,'Codes éco-part'!$B$6:$B$923)","v":"611"},3.24]
["DIY and gardening products EPR",3,"21101480000",null,"DIY products","Large non-electric, non-combustion items and machines, and their accessories","PVC >90%","Elements of all sizes and weights","€ / ton",60,60,{"$f":"_xlfn.XLOOKUP(K1080,'Codes éco-part'!$C$6:$C$923,'Codes éco-part'!$B$6:$B$923)","v":"180"},72]
["DIY and gardening products EPR",3,"21101480001","Modulated","DIY products","Large non-electric, non-combustion items and machines, and their accessories","PVC >90%","Elements of all sizes and weights","€ / ton",54,54,{"$f":"_xlfn.XLOOKUP(K1081,'Codes éco-part'!$C$6:$C$923,'Codes éco-part'!$B$6:$B$923)","v":947},64.8]
["DIY and gardening products EPR",3,"21101480200",null,"DIY products","Large non-electric, non-combustion items and machines, and their accessories","PVC >90%","Strictly <0.5 kg","€ / unit",0.02,0.02,{"$f":"_xlfn.XLOOKUP(K1082,'Codes éco-part'!$C$6:$C$923,'Codes éco-part'!$B$6:$B$923)","v":"047"},0.02]
["DIY and gardening products EPR",3,"21101480201","Modulated","DIY products","Large non-electric, non-combustion items and machines, and their accessories","PVC >90%","Strictly <0.5 kg","€ / unit",0.02,0.02,{"$f":"_xlfn.XLOOKUP(K1083,'Codes éco-part'!$C$6:$C$923,'Codes éco-part'!$B$6:$B$923)","v":"047"},0.02]
["DIY and gardening products EPR",3,"21101480210",null,"DIY products","Large non-electric, non-combustion items and machines, and their accessories","PVC >90%","≥0.5 kg and <1 kg","€ / unit",0.05,0.05,{"$f":"_xlfn.XLOOKUP(K1084,'Codes éco-part'!$C$6:$C$923,'Codes éco-part'!$B$6:$B$923)","v":"048"},0.06]
["DIY and gardening products EPR",3,"21101480211","Modulated","DIY products","Large non-electric, non-combustion items and machines, and their accessories","PVC >90%","≥0.5 kg and <1 kg","€ / unit",0.05,0.05,{"$f":"_xlfn.XLOOKUP(K1085,'Codes éco-part'!$C$6:$C$923,'Codes éco-part'!$B$6:$B$923)","v":"048"},0.06]
["DIY and gardening products EPR",3,"21101480220",null,"DIY products","Large non-electric, non-combustion items and machines, and their accessories","PVC >90%","≥1 kg and <2 kg","€ / unit",0.09,0.09,{"$f":"_xlfn.XLOOKUP(K1086,'Codes éco-part'!$C$6:$C$923,'Codes éco-part'!$B$6:$B$923)","v":"049"},0.11]
["DIY and gardening products EPR",3,"21101480221","Modulated","DIY products","Large non-electric, non-combustion items and machines, and their accessories","PVC >90%","≥1 kg and <2 kg","€ / unit",0.08,0.08,{"$f":"_xlfn.XLOOKUP(K1087,'Codes éco-part'!$C$6:$C$923,'Codes éco-part'!$B$6:$B$923)","v":"003"},0.1]
["DIY and gardening products EPR",3,"21101480270",null,"DIY products","Large non-electric, non-combustion items and machines, and their accessories","PVC >90%","≥30 kg and <40 kg","€ / unit",2.4,2.4,{"$f":"_xlfn.XLOOKUP(K1088,'Codes éco-part'!$C$6:$C$923,'Codes éco-part'!$B$6:$B$923)","v":"602"},2.88]
["DIY and gardening products EPR",3,"21101480271","Modulated","DIY products","Large non-electric, non-combustion items and machines, and their accessories","PVC >90%","≥30 kg and <40 kg","€ / unit",2.16,2.16,{"$f":"_xlfn.XLOOKUP(K1089,'Codes éco-part'!$C$6:$C$923,'Codes éco-part'!$B$6:$B$923)","v":"622"},2.59]
["DIY and gardening products EPR",3,"21101480520",null,"DIY products","Large non-electric, non-combustion items and machines, and their accessories","PVC >90%","≥2 kg and <3 kg","€ / unit",0.15,0.15,{"$f":"_xlfn.XLOOKUP(K1090,'Codes éco-part'!$C$6:$C$923,'Codes éco-part'!$B$6:$B$923)","v":"050"},{"$f":"ROUND(K1090*1.2,2)","v":0.18}]
["DIY and gardening products EPR",3,"21101480521","Modulated","DIY products","Large non-electric, non-combustion items and machines, and their accessories","PVC >90%","≥2 kg and <3 kg","€ / unit",0.14000000000000001,0.14000000000000001,{"$f":"_xlfn.XLOOKUP(K1091,'Codes éco-part'!$C$6:$C$923,'Codes éco-part'!$B$6:$B$923)","v":"098"},0.17]
["DIY and gardening products EPR",3,"21101480530",null,"DIY products","Large non-electric, non-combustion items and machines, and their accessories","PVC >90%","≥3 kg and <5 kg","€ / unit",0.24,0.24,{"$f":"_xlfn.XLOOKUP(K1092,'Codes éco-part'!$C$6:$C$923,'Codes éco-part'!$B$6:$B$923)","v":"248"},0.28999999999999998]
["DIY and gardening products EPR",3,"21101480531","Modulated","DIY products","Large non-electric, non-combustion items and machines, and their accessories","PVC >90%","≥3 kg and <5 kg","€ / unit",0.22,0.22,{"$f":"_xlfn.XLOOKUP(K1093,'Codes éco-part'!$C$6:$C$923,'Codes éco-part'!$B$6:$B$923)","v":"263"},0.26]
["DIY and gardening products EPR",3,"21101480540",null,"DIY products","Large non-electric, non-combustion items and machines, and their accessories","PVC >90%","≥5 kg and <7 kg","€ / unit",0.42,0.42,{"$f":"_xlfn.XLOOKUP(K1094,'Codes éco-part'!$C$6:$C$923,'Codes éco-part'!$B$6:$B$923)","v":"450"},0.5]
["DIY and gardening products EPR",3,"21101480541","Modulated","DIY products","Large non-electric, non-combustion items and machines, and their accessories","PVC >90%","≥5 kg and <7 kg","€ / unit",0.38,0.38,{"$f":"_xlfn.XLOOKUP(K1095,'Codes éco-part'!$C$6:$C$923,'Codes éco-part'!$B$6:$B$923)","v":"292"},0.46]
["DIY and gardening products EPR",3,"21101480550",null,"DIY products","Large non-electric, non-combustion items and machines, and their accessories","PVC >90%","≥7 kg and <10 kg","€ / unit",0.6,0.6,{"$f":"_xlfn.XLOOKUP(K1096,'Codes éco-part'!$C$6:$C$923,'Codes éco-part'!$B$6:$B$923)","v":"327"},0.72]
["DIY and gardening products EPR",3,"21101480551","Modulated","DIY products","Large non-electric, non-combustion items and machines, and their accessories","PVC >90%","≥7 kg and <10 kg","€ / unit",0.54,0.54,{"$f":"_xlfn.XLOOKUP(K1097,'Codes éco-part'!$C$6:$C$923,'Codes éco-part'!$B$6:$B$923)","v":"500"},0.65]
["DIY and gardening products EPR",3,"21101480560",null,"DIY products","Large non-electric, non-combustion items and machines, and their accessories","PVC >90%","≥10 kg and <15 kg","€ / unit",0.9,0.9,{"$f":"_xlfn.XLOOKUP(K1098,'Codes éco-part'!$C$6:$C$923,'Codes éco-part'!$B$6:$B$923)","v":"330"},1.08]
["DIY and gardening products EPR",3,"21101480561","Modulated","DIY products","Large non-electric, non-combustion items and machines, and their accessories","PVC >90%","≥10 kg and <15 kg","€ / unit",0.81,0.81,{"$f":"_xlfn.XLOOKUP(K1099,'Codes éco-part'!$C$6:$C$923,'Codes éco-part'!$B$6:$B$923)","v":"112"},0.97]
["DIY and gardening products EPR",3,"21101480570",null,"DIY products","Large non-electric, non-combustion items and machines, and their accessories","PVC >90%","≥15 kg and <20 kg","€ / unit",1.2,1.2,{"$f":"_xlfn.XLOOKUP(K1100,'Codes éco-part'!$C$6:$C$923,'Codes éco-part'!$B$6:$B$923)","v":"505"},1.44]
["DIY and gardening products EPR",3,"21101480571","Modulated","DIY products","Large non-electric, non-combustion items and machines, and their accessories","PVC >90%","≥15 kg and <20 kg","€ / unit",1.08,1.08,{"$f":"_xlfn.XLOOKUP(K1101,'Codes éco-part'!$C$6:$C$923,'Codes éco-part'!$B$6:$B$923)","v":"113"},1.3]
["DIY and gardening products EPR",3,"21101480580",null,"DIY products","Large non-electric, non-combustion items and machines, and their accessories","PVC >90%","≥20 kg and <25 kg","€ / unit",1.5,1.5,{"$f":"_xlfn.XLOOKUP(K1102,'Codes éco-part'!$C$6:$C$923,'Codes éco-part'!$B$6:$B$923)","v":"059"},1.8]
["DIY and gardening products EPR",3,"21101480581","Modulated","DIY products","Large non-electric, non-combustion items and machines, and their accessories","PVC >90%","≥20 kg and <25 kg","€ / unit",1.35,1.35,{"$f":"_xlfn.XLOOKUP(K1103,'Codes éco-part'!$C$6:$C$923,'Codes éco-part'!$B$6:$B$923)","v":"332"},1.62]
["DIY and gardening products EPR",3,"21101480590",null,"DIY products","Large non-electric, non-combustion items and machines, and their accessories","PVC >90%","≥25 kg and <30 kg","€ / unit",1.8,1.8,{"$f":"_xlfn.XLOOKUP(K1104,'Codes éco-part'!$C$6:$C$923,'Codes éco-part'!$B$6:$B$923)","v":"603"},2.16]
["DIY and gardening products EPR",3,"21101480591","Modulated","DIY products","Large non-electric, non-combustion items and machines, and their accessories","PVC >90%","≥25 kg and <30 kg","€ / unit",1.62,1.62,{"$f":"_xlfn.XLOOKUP(K1105,'Codes éco-part'!$C$6:$C$923,'Codes éco-part'!$B$6:$B$923)","v":"810"},1.94]
["DIY and gardening products EPR",3,"21101480600",null,"DIY products","Large non-electric, non-combustion items and machines, and their accessories","PVC >90%","≥40 kg and <50 kg","€ / unit",3,3,{"$f":"_xlfn.XLOOKUP(K1106,'Codes éco-part'!$C$6:$C$923,'Codes éco-part'!$B$6:$B$923)","v":"474"},3.6]
["DIY and gardening products EPR",3,"21101480601","Modulated","DIY products","Large non-electric, non-combustion items and machines, and their accessories","PVC >90%","≥40 kg and <50 kg","€ / unit",2.7,2.7,{"$f":"_xlfn.XLOOKUP(K1107,'Codes éco-part'!$C$6:$C$923,'Codes éco-part'!$B$6:$B$923)","v":"611"},3.24]
["DIY and gardening products EPR",3,"21101490000",null,"DIY products","Large non-electric, non-combustion items and machines, and their accessories","Synthetic rubber >90%","Elements of all sizes and weights","€ / ton",60,60,{"$f":"_xlfn.XLOOKUP(K1108,'Codes éco-part'!$C$6:$C$923,'Codes éco-part'!$B$6:$B$923)","v":"180"},72]
["DIY and gardening products EPR",3,"21101490001","Modulated","DIY products","Large non-electric, non-combustion items and machines, and their accessories","Synthetic rubber >90%","Elements of all sizes and weights","€ / ton",54,54,{"$f":"_xlfn.XLOOKUP(K1109,'Codes éco-part'!$C$6:$C$923,'Codes éco-part'!$B$6:$B$923)","v":947},64.8]
["DIY and gardening products EPR",3,"21101490200",null,"DIY products","Large non-electric, non-combustion items and machines, and their accessories","Synthetic rubber >90%","Strictly <0.5 kg","€ / unit",0.02,0.02,{"$f":"_xlfn.XLOOKUP(K1110,'Codes éco-part'!$C$6:$C$923,'Codes éco-part'!$B$6:$B$923)","v":"047"},0.02]
["DIY and gardening products EPR",3,"21101490201","Modulated","DIY products","Large non-electric, non-combustion items and machines, and their accessories","Synthetic rubber >90%","Strictly <0.5 kg","€ / unit",0.02,0.02,{"$f":"_xlfn.XLOOKUP(K1111,'Codes éco-part'!$C$6:$C$923,'Codes éco-part'!$B$6:$B$923)","v":"047"},0.02]
["DIY and gardening products EPR",3,"21101490210",null,"DIY products","Large non-electric, non-combustion items and machines, and their accessories","Synthetic rubber >90%","≥0.5 kg and <1 kg","€ / unit",0.05,0.05,{"$f":"_xlfn.XLOOKUP(K1112,'Codes éco-part'!$C$6:$C$923,'Codes éco-part'!$B$6:$B$923)","v":"048"},0.06]
["DIY and gardening products EPR",3,"21101490211","Modulated","DIY products","Large non-electric, non-combustion items and machines, and their accessories","Synthetic rubber >90%","≥0.5 kg and <1 kg","€ / unit",0.05,0.05,{"$f":"_xlfn.XLOOKUP(K1113,'Codes éco-part'!$C$6:$C$923,'Codes éco-part'!$B$6:$B$923)","v":"048"},0.06]
["DIY and gardening products EPR",3,"21101490220",null,"DIY products","Large non-electric, non-combustion items and machines, and their accessories","Synthetic rubber >90%","≥1 kg and <2 kg","€ / unit",0.09,0.09,{"$f":"_xlfn.XLOOKUP(K1114,'Codes éco-part'!$C$6:$C$923,'Codes éco-part'!$B$6:$B$923)","v":"049"},0.11]
["DIY and gardening products EPR",3,"21101490221","Modulated","DIY products","Large non-electric, non-combustion items and machines, and their accessories","Synthetic rubber >90%","≥1 kg and <2 kg","€ / unit",0.08,0.08,{"$f":"_xlfn.XLOOKUP(K1115,'Codes éco-part'!$C$6:$C$923,'Codes éco-part'!$B$6:$B$923)","v":"003"},0.1]
["DIY and gardening products EPR",3,"21101490270",null,"DIY products","Large non-electric, non-combustion items and machines, and their accessories","Synthetic rubber >90%","≥30 kg and <40 kg","€ / unit",2.4,2.4,{"$f":"_xlfn.XLOOKUP(K1116,'Codes éco-part'!$C$6:$C$923,'Codes éco-part'!$B$6:$B$923)","v":"602"},2.88]
["DIY and gardening products EPR",3,"21101490271","Modulated","DIY products","Large non-electric, non-combustion items and machines, and their accessories","Synthetic rubber >90%","≥30 kg and <40 kg","€ / unit",2.16,2.16,{"$f":"_xlfn.XLOOKUP(K1117,'Codes éco-part'!$C$6:$C$923,'Codes éco-part'!$B$6:$B$923)","v":"622"},2.59]
["DIY and gardening products EPR",3,"21101490520",null,"DIY products","Large non-electric, non-combustion items and machines, and their accessories","Synthetic rubber >90%","≥2 kg and <3 kg","€ / unit",0.15,0.15,{"$f":"_xlfn.XLOOKUP(K1118,'Codes éco-part'!$C$6:$C$923,'Codes éco-part'!$B$6:$B$923)","v":"050"},0.18]
["DIY and gardening products EPR",3,"21101490521","Modulated","DIY products","Large non-electric, non-combustion items and machines, and their accessories","Synthetic rubber >90%","≥2 kg and <3 kg","€ / unit",0.14000000000000001,0.14000000000000001,{"$f":"_xlfn.XLOOKUP(K1119,'Codes éco-part'!$C$6:$C$923,'Codes éco-part'!$B$6:$B$923)","v":"098"},0.17]
["DIY and gardening products EPR",3,"21101490530",null,"DIY products","Large non-electric, non-combustion items and machines, and their accessories","Synthetic rubber >90%","≥3 kg and <5 kg","€ / unit",0.24,0.24,{"$f":"_xlfn.XLOOKUP(K1120,'Codes éco-part'!$C$6:$C$923,'Codes éco-part'!$B$6:$B$923)","v":"248"},0.28999999999999998]
["DIY and gardening products EPR",3,"21101490531","Modulated","DIY products","Large non-electric, non-combustion items and machines, and their accessories","Synthetic rubber >90%","≥3 kg and <5 kg","€ / unit",0.22,0.22,{"$f":"_xlfn.XLOOKUP(K1121,'Codes éco-part'!$C$6:$C$923,'Codes éco-part'!$B$6:$B$923)","v":"263"},0.26]
["DIY and gardening products EPR",3,"21101490540",null,"DIY products","Large non-electric, non-combustion items and machines, and their accessories","Synthetic rubber >90%","≥5 kg and <7 kg","€ / unit",0.42,0.42,{"$f":"_xlfn.XLOOKUP(K1122,'Codes éco-part'!$C$6:$C$923,'Codes éco-part'!$B$6:$B$923)","v":"450"},0.5]
["DIY and gardening products EPR",3,"21101490541","Modulated","DIY products","Large non-electric, non-combustion items and machines, and their accessories","Synthetic rubber >90%","≥5 kg and <7 kg","€ / unit",0.38,0.38,{"$f":"_xlfn.XLOOKUP(K1123,'Codes éco-part'!$C$6:$C$923,'Codes éco-part'!$B$6:$B$923)","v":"292"},0.46]
["DIY and gardening products EPR",3,"21101490550",null,"DIY products","Large non-electric, non-combustion items and machines, and their accessories","Synthetic rubber >90%","≥7 kg and <10 kg","€ / unit",0.6,0.6,{"$f":"_xlfn.XLOOKUP(K1124,'Codes éco-part'!$C$6:$C$923,'Codes éco-part'!$B$6:$B$923)","v":"327"},0.72]
["DIY and gardening products EPR",3,"21101490551","Modulated","DIY products","Large non-electric, non-combustion items and machines, and their accessories","Synthetic rubber >90%","≥7 kg and <10 kg","€ / unit",0.54,0.54,{"$f":"_xlfn.XLOOKUP(K1125,'Codes éco-part'!$C$6:$C$923,'Codes éco-part'!$B$6:$B$923)","v":"500"},0.65]
["DIY and gardening products EPR",3,"21101490560",null,"DIY products","Large non-electric, non-combustion items and machines, and their accessories","Synthetic rubber >90%","≥10 kg and <15 kg","€ / unit",0.9,0.9,{"$f":"_xlfn.XLOOKUP(K1126,'Codes éco-part'!$C$6:$C$923,'Codes éco-part'!$B$6:$B$923)","v":"330"},1.08]
["DIY and gardening products EPR",3,"21101490561","Modulated","DIY products","Large non-electric, non-combustion items and machines, and their accessories","Synthetic rubber >90%","≥10 kg and <15 kg","€ / unit",0.81,0.81,{"$f":"_xlfn.XLOOKUP(K1127,'Codes éco-part'!$C$6:$C$923,'Codes éco-part'!$B$6:$B$923)","v":"112"},0.97]
["DIY and gardening products EPR",3,"21101490570",null,"DIY products","Large non-electric, non-combustion items and machines, and their accessories","Synthetic rubber >90%","≥15 kg and <20 kg","€ / unit",1.2,1.2,{"$f":"_xlfn.XLOOKUP(K1128,'Codes éco-part'!$C$6:$C$923,'Codes éco-part'!$B$6:$B$923)","v":"505"},1.44]
["DIY and gardening products EPR",3,"21101490571","Modulated","DIY products","Large non-electric, non-combustion items and machines, and their accessories","Synthetic rubber >90%","≥15 kg and <20 kg","€ / unit",1.08,1.08,{"$f":"_xlfn.XLOOKUP(K1129,'Codes éco-part'!$C$6:$C$923,'Codes éco-part'!$B$6:$B$923)","v":"113"},1.3]
["DIY and gardening products EPR",3,"21101490580",null,"DIY products","Large non-electric, non-combustion items and machines, and their accessories","Synthetic rubber >90%","≥20 kg and <25 kg","€ / unit",1.5,1.5,{"$f":"_xlfn.XLOOKUP(K1130,'Codes éco-part'!$C$6:$C$923,'Codes éco-part'!$B$6:$B$923)","v":"059"},1.8]
["DIY and gardening products EPR",3,"21101490581","Modulated","DIY products","Large non-electric, non-combustion items and machines, and their accessories","Synthetic rubber >90%","≥20 kg and <25 kg","€ / unit",1.35,1.35,{"$f":"_xlfn.XLOOKUP(K1131,'Codes éco-part'!$C$6:$C$923,'Codes éco-part'!$B$6:$B$923)","v":"332"},1.62]
["DIY and gardening products EPR",3,"21101490590",null,"DIY products","Large non-electric, non-combustion items and machines, and their accessories","Synthetic rubber >90%","≥25 kg and <30 kg","€ / unit",1.8,1.8,{"$f":"_xlfn.XLOOKUP(K1132,'Codes éco-part'!$C$6:$C$923,'Codes éco-part'!$B$6:$B$923)","v":"603"},2.16]
["DIY and gardening products EPR",3,"21101490591","Modulated","DIY products","Large non-electric, non-combustion items and machines, and their accessories","Synthetic rubber >90%","≥25 kg and <30 kg","€ / unit",1.62,1.62,{"$f":"_xlfn.XLOOKUP(K1133,'Codes éco-part'!$C$6:$C$923,'Codes éco-part'!$B$6:$B$923)","v":"810"},1.94]
["DIY and gardening products EPR",3,"21101490600",null,"DIY products","Large non-electric, non-combustion items and machines, and their accessories","Synthetic rubber >90%","≥40 kg and <50 kg","€ / unit",3,3,{"$f":"_xlfn.XLOOKUP(K1134,'Codes éco-part'!$C$6:$C$923,'Codes éco-part'!$B$6:$B$923)","v":"474"},3.6]
["DIY and gardening products EPR",3,"21101490601","Modulated","DIY products","Large non-electric, non-combustion items and machines, and their accessories","Synthetic rubber >90%","≥40 kg and <50 kg","€ / unit",2.7,2.7,{"$f":"_xlfn.XLOOKUP(K1135,'Codes éco-part'!$C$6:$C$923,'Codes éco-part'!$B$6:$B$923)","v":"611"},3.24]
["DIY and gardening products EPR",3,"21101510000",null,"DIY products","Large non-electric, non-combustion items and machines, and their accessories","Assembly of non-certified wood and/or wood derivatives >50% and other materials or composite wood (excl. glass)","Elements of all sizes and weights","€ / ton",26,26,{"$f":"_xlfn.XLOOKUP(K1136,'Codes éco-part'!$C$6:$C$923,'Codes éco-part'!$B$6:$B$923)","v":"582"},31.2]
["DIY and gardening products EPR",3,"21101510001","Modulated","DIY products","Large non-electric, non-combustion items and machines, and their accessories","Assembly of non-certified wood and/or wood derivatives >50% and other materials or composite wood (excl. glass)","Elements of all sizes and weights","€ / ton",23.4,23.4,{"$f":"_xlfn.XLOOKUP(K1137,'Codes éco-part'!$C$6:$C$923,'Codes éco-part'!$B$6:$B$923)","v":946},28.08]
["DIY and gardening products EPR",3,"21101510200",null,"DIY products","Large non-electric, non-combustion items and machines, and their accessories","Assembly of non-certified wood and/or wood derivatives >50% and other materials or composite wood (excl. glass)","Strictly <0.5 kg","€ / unit",0.02,0.02,{"$f":"_xlfn.XLOOKUP(K1138,'Codes éco-part'!$C$6:$C$923,'Codes éco-part'!$B$6:$B$923)","v":"047"},0.02]
["DIY and gardening products EPR",3,"21101510201","Modulated","DIY products","Large non-electric, non-combustion items and machines, and their accessories","Assembly of non-certified wood and/or wood derivatives >50% and other materials or composite wood (excl. glass)","Strictly <0.5 kg","€ / unit",0.02,0.02,{"$f":"_xlfn.XLOOKUP(K1139,'Codes éco-part'!$C$6:$C$923,'Codes éco-part'!$B$6:$B$923)","v":"047"},0.02]
["DIY and gardening products EPR",3,"21101510210",null,"DIY products","Large non-electric, non-combustion items and machines, and their accessories","Assembly of non-certified wood and/or wood derivatives >50% and other materials or composite wood (excl. glass)","≥0.5 kg and <1 kg","€ / unit",0.02,0.02,{"$f":"_xlfn.XLOOKUP(K1140,'Codes éco-part'!$C$6:$C$923,'Codes éco-part'!$B$6:$B$923)","v":"047"},0.02]
["DIY and gardening products EPR",3,"21101510211","Modulated","DIY products","Large non-electric, non-combustion items and machines, and their accessories","Assembly of non-certified wood and/or wood derivatives >50% and other materials or composite wood (excl. glass)","≥0.5 kg and <1 kg","€ / unit",0.02,0.02,{"$f":"_xlfn.XLOOKUP(K1141,'Codes éco-part'!$C$6:$C$923,'Codes éco-part'!$B$6:$B$923)","v":"047"},0.02]
["DIY and gardening products EPR",3,"21101510220",null,"DIY products","Large non-electric, non-combustion items and machines, and their accessories","Assembly of non-certified wood and/or wood derivatives >50% and other materials or composite wood (excl. glass)","≥1 kg and <2 kg","€ / unit",0.04,0.04,{"$f":"_xlfn.XLOOKUP(K1142,'Codes éco-part'!$C$6:$C$923,'Codes éco-part'!$B$6:$B$923)","v":"002"},0.05]
["DIY and gardening products EPR",3,"21101510221","Modulated","DIY products","Large non-electric, non-combustion items and machines, and their accessories","Assembly of non-certified wood and/or wood derivatives >50% and other materials or composite wood (excl. glass)","≥1 kg and <2 kg","€ / unit",0.04,0.04,{"$f":"_xlfn.XLOOKUP(K1143,'Codes éco-part'!$C$6:$C$923,'Codes éco-part'!$B$6:$B$923)","v":"002"},0.05]
["DIY and gardening products EPR",3,"21101510270",null,"DIY products","Large non-electric, non-combustion items and machines, and their accessories","Assembly of non-certified wood and/or wood derivatives >50% and other materials or composite wood (excl. glass)","≥30 kg and <40 kg","€ / unit",1.04,1.04,{"$f":"_xlfn.XLOOKUP(K1144,'Codes éco-part'!$C$6:$C$923,'Codes éco-part'!$B$6:$B$923)","v":"616"},1.25]
["DIY and gardening products EPR",3,"21101510271","Modulated","DIY products","Large non-electric, non-combustion items and machines, and their accessories","Assembly of non-certified wood and/or wood derivatives >50% and other materials or composite wood (excl. glass)","≥30 kg and <40 kg","€ / unit",0.94,0.94,{"$f":"_xlfn.XLOOKUP(K1145,'Codes éco-part'!$C$6:$C$923,'Codes éco-part'!$B$6:$B$923)","v":"458"},1.1299999999999999]
["DIY and gardening products EPR",3,"21101510520",null,"DIY products","Large non-electric, non-combustion items and machines, and their accessories","Assembly of non-certified wood and/or wood derivatives >50% and other materials or composite wood (excl. glass)","≥2 kg and <3 kg","€ / unit",0.06,0.06,{"$f":"_xlfn.XLOOKUP(K1146,'Codes éco-part'!$C$6:$C$923,'Codes éco-part'!$B$6:$B$923)","v":"096"},7.0000000000000007E-2]
["DIY and gardening products EPR",3,"21101510521","Modulated","DIY products","Large non-electric, non-combustion items and machines, and their accessories","Assembly of non-certified wood and/or wood derivatives >50% and other materials or composite wood (excl. glass)","≥2 kg and <3 kg","€ / unit",0.05,0.05,{"$f":"_xlfn.XLOOKUP(K1147,'Codes éco-part'!$C$6:$C$923,'Codes éco-part'!$B$6:$B$923)","v":"048"},0.06]
["DIY and gardening products EPR",3,"21101510530",null,"DIY products","Large non-electric, non-combustion items and machines, and their accessories","Assembly of non-certified wood and/or wood derivatives >50% and other materials or composite wood (excl. glass)","≥3 kg and <5 kg","€ / unit",0.1,0.1,{"$f":"_xlfn.XLOOKUP(K1148,'Codes éco-part'!$C$6:$C$923,'Codes éco-part'!$B$6:$B$923)","v":"094"},0.12]
["DIY and gardening products EPR",3,"21101510531","Modulated","DIY products","Large non-electric, non-combustion items and machines, and their accessories","Assembly of non-certified wood and/or wood derivatives >50% and other materials or composite wood (excl. glass)","≥3 kg and <5 kg","€ / unit",0.09,0.09,{"$f":"_xlfn.XLOOKUP(K1149,'Codes éco-part'!$C$6:$C$923,'Codes éco-part'!$B$6:$B$923)","v":"049"},0.11]
["DIY and gardening products EPR",3,"21101510540",null,"DIY products","Large non-electric, non-combustion items and machines, and their accessories","Assembly of non-certified wood and/or wood derivatives >50% and other materials or composite wood (excl. glass)","≥5 kg and <7 kg","€ / unit",0.18,0.18,{"$f":"_xlfn.XLOOKUP(K1150,'Codes éco-part'!$C$6:$C$923,'Codes éco-part'!$B$6:$B$923)","v":"100"},0.22]
["DIY and gardening products EPR",3,"21101510541","Modulated","DIY products","Large non-electric, non-combustion items and machines, and their accessories","Assembly of non-certified wood and/or wood derivatives >50% and other materials or composite wood (excl. glass)","≥5 kg and <7 kg","€ / unit",0.16,0.16,{"$f":"_xlfn.XLOOKUP(K1151,'Codes éco-part'!$C$6:$C$923,'Codes éco-part'!$B$6:$B$923)","v":"099"},0.19]
["DIY and gardening products EPR",3,"21101510550",null,"DIY products","Large non-electric, non-combustion items and machines, and their accessories","Assembly of non-certified wood and/or wood derivatives >50% and other materials or composite wood (excl. glass)","≥7 kg and <10 kg","€ / unit",0.26,0.26,{"$f":"_xlfn.XLOOKUP(K1152,'Codes éco-part'!$C$6:$C$923,'Codes éco-part'!$B$6:$B$923)","v":"445"},0.31]
["DIY and gardening products EPR",3,"21101510551","Modulated","DIY products","Large non-electric, non-combustion items and machines, and their accessories","Assembly of non-certified wood and/or wood derivatives >50% and other materials or composite wood (excl. glass)","≥7 kg and <10 kg","€ / unit",0.23,0.23,{"$f":"_xlfn.XLOOKUP(K1153,'Codes éco-part'!$C$6:$C$923,'Codes éco-part'!$B$6:$B$923)","v":"323"},0.28000000000000003]
["DIY and gardening products EPR",3,"21101510560",null,"DIY products","Large non-electric, non-combustion items and machines, and their accessories","Assembly of non-certified wood and/or wood derivatives >50% and other materials or composite wood (excl. glass)","≥10 kg and <15 kg","€ / unit",0.4,0.4,{"$f":"_xlfn.XLOOKUP(K1154,'Codes éco-part'!$C$6:$C$923,'Codes éco-part'!$B$6:$B$923)","v":"105"},{"$f":"ROUND(K1154*1.2,2)","v":0.48}]
["DIY and gardening products EPR",3,"21101510561","Modulated","DIY products","Large non-electric, non-combustion items and machines, and their accessories","Assembly of non-certified wood and/or wood derivatives >50% and other materials or composite wood (excl. glass)","≥10 kg and <15 kg","€ / unit",0.36,0.36,{"$f":"_xlfn.XLOOKUP(K1155,'Codes éco-part'!$C$6:$C$923,'Codes éco-part'!$B$6:$B$923)","v":"449"},0.43]
["DIY and gardening products EPR",3,"21101510570",null,"DIY products","Large non-electric, non-combustion items and machines, and their accessories","Assembly of non-certified wood and/or wood derivatives >50% and other materials or composite wood (excl. glass)","≥15 kg and <20 kg","€ / unit",0.52,0.52,{"$f":"_xlfn.XLOOKUP(K1156,'Codes éco-part'!$C$6:$C$923,'Codes éco-part'!$B$6:$B$923)","v":"509"},0.62]
["DIY and gardening products EPR",3,"21101510571","Modulated","DIY products","Large non-electric, non-combustion items and machines, and their accessories","Assembly of non-certified wood and/or wood derivatives >50% and other materials or composite wood (excl. glass)","≥15 kg and <20 kg","€ / unit",0.47,0.47,{"$f":"_xlfn.XLOOKUP(K1157,'Codes éco-part'!$C$6:$C$923,'Codes éco-part'!$B$6:$B$923)","v":"107"},0.56000000000000005]
["DIY and gardening products EPR",3,"21101510580",null,"DIY products","Large non-electric, non-combustion items and machines, and their accessories","Assembly of non-certified wood and/or wood derivatives >50% and other materials or composite wood (excl. glass)","≥20 kg and <25 kg","€ / unit",0.66,0.66,{"$f":"_xlfn.XLOOKUP(K1158,'Codes éco-part'!$C$6:$C$923,'Codes éco-part'!$B$6:$B$923)","v":"453"},0.79]
["DIY and gardening products EPR",3,"21101510581","Modulated","DIY products","Large non-electric, non-combustion items and machines, and their accessories","Assembly of non-certified wood and/or wood derivatives >50% and other materials or composite wood (excl. glass)","≥20 kg and <25 kg","€ / unit",0.59,0.59,{"$f":"_xlfn.XLOOKUP(K1159,'Codes éco-part'!$C$6:$C$923,'Codes éco-part'!$B$6:$B$923)","v":"254"},0.71]
["DIY and gardening products EPR",3,"21101510590",null,"DIY products","Large non-electric, non-combustion items and machines, and their accessories","Assembly of non-certified wood and/or wood derivatives >50% and other materials or composite wood (excl. glass)","≥25 kg and <30 kg","€ / unit",0.78,0.78,{"$f":"_xlfn.XLOOKUP(K1160,'Codes éco-part'!$C$6:$C$923,'Codes éco-part'!$B$6:$B$923)","v":"312"},0.94]
["DIY and gardening products EPR",3,"21101510591","Modulated","DIY products","Large non-electric, non-combustion items and machines, and their accessories","Assembly of non-certified wood and/or wood derivatives >50% and other materials or composite wood (excl. glass)","≥25 kg and <30 kg","€ / unit",0.7,0.7,{"$f":"_xlfn.XLOOKUP(K1161,'Codes éco-part'!$C$6:$C$923,'Codes éco-part'!$B$6:$B$923)","v":"282"},0.84]
["DIY and gardening products EPR",3,"21101510600",null,"DIY products","Large non-electric, non-combustion items and machines, and their accessories","Assembly of non-certified wood and/or wood derivatives >50% and other materials or composite wood (excl. glass)","≥40 kg and <50 kg","€ / unit",1.3,1.3,{"$f":"_xlfn.XLOOKUP(K1162,'Codes éco-part'!$C$6:$C$923,'Codes éco-part'!$B$6:$B$923)","v":"511"},1.56]
["DIY and gardening products EPR",3,"21101510601","Modulated","DIY products","Large non-electric, non-combustion items and machines, and their accessories","Assembly of non-certified wood and/or wood derivatives >50% and other materials or composite wood (excl. glass)","≥40 kg and <50 kg","€ / unit",1.17,1.17,{"$f":"_xlfn.XLOOKUP(K1163,'Codes éco-part'!$C$6:$C$923,'Codes éco-part'!$B$6:$B$923)","v":"537"},1.4]
["DIY and gardening products EPR",3,"21101520000",null,"DIY products","Large non-electric, non-combustion items and machines, and their accessories","Solid wood and related products certified >90%","Elements of all sizes and weights","€ / ton",13,13,{"$f":"_xlfn.XLOOKUP(K1164,'Codes éco-part'!$C$6:$C$923,'Codes éco-part'!$B$6:$B$923)","v":"486"},15.6]
["DIY and gardening products EPR",3,"21101520001","Modulated","DIY products","Large non-electric, non-combustion items and machines, and their accessories","Solid wood and related products certified >90%","Elements of all sizes and weights","€ / ton",11.7,11.7,{"$f":"_xlfn.XLOOKUP(K1165,'Codes éco-part'!$C$6:$C$923,'Codes éco-part'!$B$6:$B$923)","v":945},14.04]
["DIY and gardening products EPR",3,"21101520200",null,"DIY products","Large non-electric, non-combustion items and machines, and their accessories","Solid wood and related products certified >90%","Strictly <0.5 kg","€ / unit",0.01,0.01,{"$f":"_xlfn.XLOOKUP(K1166,'Codes éco-part'!$C$6:$C$923,'Codes éco-part'!$B$6:$B$923)","v":"260"},0.01]
["DIY and gardening products EPR",3,"21101520201","Modulated","DIY products","Large non-electric, non-combustion items and machines, and their accessories","Solid wood and related products certified >90%","Strictly <0.5 kg","€ / unit",0.01,0.01,{"$f":"_xlfn.XLOOKUP(K1167,'Codes éco-part'!$C$6:$C$923,'Codes éco-part'!$B$6:$B$923)","v":"260"},0.01]
["DIY and gardening products EPR",3,"21101520210",null,"DIY products","Large non-electric, non-combustion items and machines, and their accessories","Solid wood and related products certified >90%","≥0.5 kg and <1 kg","€ / unit",0.01,0.01,{"$f":"_xlfn.XLOOKUP(K1168,'Codes éco-part'!$C$6:$C$923,'Codes éco-part'!$B$6:$B$923)","v":"260"},0.01]
["DIY and gardening products EPR",3,"21101520211","Modulated","DIY products","Large non-electric, non-combustion items and machines, and their accessories","Solid wood and related products certified >90%","≥0.5 kg and <1 kg","€ / unit",0.01,0.01,{"$f":"_xlfn.XLOOKUP(K1169,'Codes éco-part'!$C$6:$C$923,'Codes éco-part'!$B$6:$B$923)","v":"260"},0.01]
["DIY and gardening products EPR",3,"21101520220",null,"DIY products","Large non-electric, non-combustion items and machines, and their accessories","Solid wood and related products certified >90%","≥1 kg and <2 kg","€ / unit",0.02,0.02,{"$f":"_xlfn.XLOOKUP(K1170,'Codes éco-part'!$C$6:$C$923,'Codes éco-part'!$B$6:$B$923)","v":"047"},0.02]
["DIY and gardening products EPR",3,"21101520221","Modulated","DIY products","Large non-electric, non-combustion items and machines, and their accessories","Solid wood and related products certified >90%","≥1 kg and <2 kg","€ / unit",0.02,0.02,{"$f":"_xlfn.XLOOKUP(K1171,'Codes éco-part'!$C$6:$C$923,'Codes éco-part'!$B$6:$B$923)","v":"047"},0.02]
["DIY and gardening products EPR",3,"21101520270",null,"DIY products","Large non-electric, non-combustion items and machines, and their accessories","Solid wood and related products certified >90%","≥30 kg and <40 kg","€ / unit",0.52,0.52,{"$f":"_xlfn.XLOOKUP(K1172,'Codes éco-part'!$C$6:$C$923,'Codes éco-part'!$B$6:$B$923)","v":"509"},0.62]
["DIY and gardening products EPR",3,"21101520271","Modulated","DIY products","Large non-electric, non-combustion items and machines, and their accessories","Solid wood and related products certified >90%","≥30 kg and <40 kg","€ / unit",0.47,0.47,{"$f":"_xlfn.XLOOKUP(K1173,'Codes éco-part'!$C$6:$C$923,'Codes éco-part'!$B$6:$B$923)","v":"107"},0.56000000000000005]
["DIY and gardening products EPR",3,"21101520520",null,"DIY products","Large non-electric, non-combustion items and machines, and their accessories","Solid wood and related products certified >90%","≥2 kg and <3 kg","€ / unit",0.03,0.03,{"$f":"_xlfn.XLOOKUP(K1174,'Codes éco-part'!$C$6:$C$923,'Codes éco-part'!$B$6:$B$923)","v":"092"},0.04]
["DIY and gardening products EPR",3,"21101520521","Modulated","DIY products","Large non-electric, non-combustion items and machines, and their accessories","Solid wood and related products certified >90%","≥2 kg and <3 kg","€ / unit",0.03,0.03,{"$f":"_xlfn.XLOOKUP(K1175,'Codes éco-part'!$C$6:$C$923,'Codes éco-part'!$B$6:$B$923)","v":"092"},0.04]
["DIY and gardening products EPR",3,"21101520530",null,"DIY products","Large non-electric, non-combustion items and machines, and their accessories","Solid wood and related products certified >90%","≥3 kg and <5 kg","€ / unit",0.05,0.05,{"$f":"_xlfn.XLOOKUP(K1176,'Codes éco-part'!$C$6:$C$923,'Codes éco-part'!$B$6:$B$923)","v":"048"},0.06]
["DIY and gardening products EPR",3,"21101520531","Modulated","DIY products","Large non-electric, non-combustion items and machines, and their accessories","Solid wood and related products certified >90%","≥3 kg and <5 kg","€ / unit",0.05,0.05,{"$f":"_xlfn.XLOOKUP(K1177,'Codes éco-part'!$C$6:$C$923,'Codes éco-part'!$B$6:$B$923)","v":"048"},0.06]
["DIY and gardening products EPR",3,"21101520540",null,"DIY products","Large non-electric, non-combustion items and machines, and their accessories","Solid wood and related products certified >90%","≥5 kg and <7 kg","€ / unit",0.09,0.09,{"$f":"_xlfn.XLOOKUP(K1178,'Codes éco-part'!$C$6:$C$923,'Codes éco-part'!$B$6:$B$923)","v":"049"},0.11]
["DIY and gardening products EPR",3,"21101520541","Modulated","DIY products","Large non-electric, non-combustion items and machines, and their accessories","Solid wood and related products certified >90%","≥5 kg and <7 kg","€ / unit",0.08,0.08,{"$f":"_xlfn.XLOOKUP(K1179,'Codes éco-part'!$C$6:$C$923,'Codes éco-part'!$B$6:$B$923)","v":"003"},0.1]
["DIY and gardening products EPR",3,"21101520550",null,"DIY products","Large non-electric, non-combustion items and machines, and their accessories","Solid wood and related products certified >90%","≥7 kg and <10 kg","€ / unit",0.13,0.13,{"$f":"_xlfn.XLOOKUP(K1180,'Codes éco-part'!$C$6:$C$923,'Codes éco-part'!$B$6:$B$923)","v":"004"},0.16]
["DIY and gardening products EPR",3,"21101520551","Modulated","DIY products","Large non-electric, non-combustion items and machines, and their accessories","Solid wood and related products certified >90%","≥7 kg and <10 kg","€ / unit",0.12,0.12,{"$f":"_xlfn.XLOOKUP(K1181,'Codes éco-part'!$C$6:$C$923,'Codes éco-part'!$B$6:$B$923)","v":"097"},0.14000000000000001]
["DIY and gardening products EPR",3,"21101520560",null,"DIY products","Large non-electric, non-combustion items and machines, and their accessories","Solid wood and related products certified >90%","≥10 kg and <15 kg","€ / unit",0.2,0.2,{"$f":"_xlfn.XLOOKUP(K1182,'Codes éco-part'!$C$6:$C$923,'Codes éco-part'!$B$6:$B$923)","v":"101"},0.24]
["DIY and gardening products EPR",3,"21101520561","Modulated","DIY products","Large non-electric, non-combustion items and machines, and their accessories","Solid wood and related products certified >90%","≥10 kg and <15 kg","€ / unit",0.18,0.18,{"$f":"_xlfn.XLOOKUP(K1183,'Codes éco-part'!$C$6:$C$923,'Codes éco-part'!$B$6:$B$923)","v":"100"},0.22]
["DIY and gardening products EPR",3,"21101520570",null,"DIY products","Large non-electric, non-combustion items and machines, and their accessories","Solid wood and related products certified >90%","≥15 kg and <20 kg","€ / unit",0.26,0.26,{"$f":"_xlfn.XLOOKUP(K1184,'Codes éco-part'!$C$6:$C$923,'Codes éco-part'!$B$6:$B$923)","v":"445"},0.31]
["DIY and gardening products EPR",3,"21101520571","Modulated","DIY products","Large non-electric, non-combustion items and machines, and their accessories","Solid wood and related products certified >90%","≥15 kg and <20 kg","€ / unit",0.23,0.23,{"$f":"_xlfn.XLOOKUP(K1185,'Codes éco-part'!$C$6:$C$923,'Codes éco-part'!$B$6:$B$923)","v":"323"},0.28000000000000003]
["DIY and gardening products EPR",3,"21101520580",null,"DIY products","Large non-electric, non-combustion items and machines, and their accessories","Solid wood and related products certified >90%","≥20 kg and <25 kg","€ / unit",0.33,0.33,{"$f":"_xlfn.XLOOKUP(K1186,'Codes éco-part'!$C$6:$C$923,'Codes éco-part'!$B$6:$B$923)","v":"006"},0.4]
["DIY and gardening products EPR",3,"21101520581","Modulated","DIY products","Large non-electric, non-combustion items and machines, and their accessories","Solid wood and related products certified >90%","≥20 kg and <25 kg","€ / unit",0.3,0.3,{"$f":"_xlfn.XLOOKUP(K1187,'Codes éco-part'!$C$6:$C$923,'Codes éco-part'!$B$6:$B$923)","v":"446"},0.36]
["DIY and gardening products EPR",3,"21101520590",null,"DIY products","Large non-electric, non-combustion items and machines, and their accessories","Solid wood and related products certified >90%","≥25 kg and <30 kg","€ / unit",0.39,0.39,{"$f":"_xlfn.XLOOKUP(K1188,'Codes éco-part'!$C$6:$C$923,'Codes éco-part'!$B$6:$B$923)","v":"253"},0.47]
["DIY and gardening products EPR",3,"21101520591","Modulated","DIY products","Large non-electric, non-combustion items and machines, and their accessories","Solid wood and related products certified >90%","≥25 kg and <30 kg","€ / unit",0.35,0.35,{"$f":"_xlfn.XLOOKUP(K1189,'Codes éco-part'!$C$6:$C$923,'Codes éco-part'!$B$6:$B$923)","v":"448"},0.42]
["DIY and gardening products EPR",3,"21101520600",null,"DIY products","Large non-electric, non-combustion items and machines, and their accessories","Solid wood and related products certified >90%","≥40 kg and <50 kg","€ / unit",0.65,0.65,{"$f":"_xlfn.XLOOKUP(K1190,'Codes éco-part'!$C$6:$C$923,'Codes éco-part'!$B$6:$B$923)","v":"613"},0.78]
["DIY and gardening products EPR",3,"21101520601","Modulated","DIY products","Large non-electric, non-combustion items and machines, and their accessories","Solid wood and related products certified >90%","≥40 kg and <50 kg","€ / unit",0.59,0.59,{"$f":"_xlfn.XLOOKUP(K1191,'Codes éco-part'!$C$6:$C$923,'Codes éco-part'!$B$6:$B$923)","v":"254"},0.71]
["DIY and gardening products EPR",3,"21101530000",null,"DIY products","Large non-electric, non-combustion items and machines, and their accessories","Solid wood and related products >90%","Elements of all sizes and weights","€ / ton",26,26,{"$f":"_xlfn.XLOOKUP(K1192,'Codes éco-part'!$C$6:$C$923,'Codes éco-part'!$B$6:$B$923)","v":"582"},31.2]
["DIY and gardening products EPR",3,"21101530001","Modulated","DIY products","Large non-electric, non-combustion items and machines, and their accessories","Solid wood and related products >90%","Elements of all sizes and weights","€ / ton",23.4,23.4,{"$f":"_xlfn.XLOOKUP(K1193,'Codes éco-part'!$C$6:$C$923,'Codes éco-part'!$B$6:$B$923)","v":946},28.08]
["DIY and gardening products EPR",3,"21101530200",null,"DIY products","Large non-electric, non-combustion items and machines, and their accessories","Solid wood and related products >90%","Strictly <0.5 kg","€ / unit",0.02,0.02,{"$f":"_xlfn.XLOOKUP(K1194,'Codes éco-part'!$C$6:$C$923,'Codes éco-part'!$B$6:$B$923)","v":"047"},0.02]
["DIY and gardening products EPR",3,"21101530201","Modulated","DIY products","Large non-electric, non-combustion items and machines, and their accessories","Solid wood and related products >90%","Strictly <0.5 kg","€ / unit",0.02,0.02,{"$f":"_xlfn.XLOOKUP(K1195,'Codes éco-part'!$C$6:$C$923,'Codes éco-part'!$B$6:$B$923)","v":"047"},0.02]
["DIY and gardening products EPR",3,"21101530210",null,"DIY products","Large non-electric, non-combustion items and machines, and their accessories","Solid wood and related products >90%","≥0.5 kg and <1 kg","€ / unit",0.02,0.02,{"$f":"_xlfn.XLOOKUP(K1196,'Codes éco-part'!$C$6:$C$923,'Codes éco-part'!$B$6:$B$923)","v":"047"},0.02]
["DIY and gardening products EPR",3,"21101530211","Modulated","DIY products","Large non-electric, non-combustion items and machines, and their accessories","Solid wood and related products >90%","≥0.5 kg and <1 kg","€ / unit",0.02,0.02,{"$f":"_xlfn.XLOOKUP(K1197,'Codes éco-part'!$C$6:$C$923,'Codes éco-part'!$B$6:$B$923)","v":"047"},0.02]
["DIY and gardening products EPR",3,"21101530220",null,"DIY products","Large non-electric, non-combustion items and machines, and their accessories","Solid wood and related products >90%","≥1 kg and <2 kg","€ / unit",0.04,0.04,{"$f":"_xlfn.XLOOKUP(K1198,'Codes éco-part'!$C$6:$C$923,'Codes éco-part'!$B$6:$B$923)","v":"002"},0.05]
["DIY and gardening products EPR",3,"21101530221","Modulated","DIY products","Large non-electric, non-combustion items and machines, and their accessories","Solid wood and related products >90%","≥1 kg and <2 kg","€ / unit",0.04,0.04,{"$f":"_xlfn.XLOOKUP(K1199,'Codes éco-part'!$C$6:$C$923,'Codes éco-part'!$B$6:$B$923)","v":"002"},0.05]
["DIY and gardening products EPR",3,"21101530270",null,"DIY products","Large non-electric, non-combustion items and machines, and their accessories","Solid wood and related products >90%","≥30 kg and <40 kg","€ / unit",1.04,1.04,{"$f":"_xlfn.XLOOKUP(K1200,'Codes éco-part'!$C$6:$C$923,'Codes éco-part'!$B$6:$B$923)","v":"616"},1.25]
["DIY and gardening products EPR",3,"21101530271","Modulated","DIY products","Large non-electric, non-combustion items and machines, and their accessories","Solid wood and related products >90%","≥30 kg and <40 kg","€ / unit",0.94,0.94,{"$f":"_xlfn.XLOOKUP(K1201,'Codes éco-part'!$C$6:$C$923,'Codes éco-part'!$B$6:$B$923)","v":"458"},1.1299999999999999]
["DIY and gardening products EPR",3,"21101530520",null,"DIY products","Large non-electric, non-combustion items and machines, and their accessories","Solid wood and related products >90%","≥2 kg and <3 kg","€ / unit",0.06,0.06,{"$f":"_xlfn.XLOOKUP(K1202,'Codes éco-part'!$C$6:$C$923,'Codes éco-part'!$B$6:$B$923)","v":"096"},7.0000000000000007E-2]
["DIY and gardening products EPR",3,"21101530521","Modulated","DIY products","Large non-electric, non-combustion items and machines, and their accessories","Solid wood and related products >90%","≥2 kg and <3 kg","€ / unit",0.05,0.05,{"$f":"_xlfn.XLOOKUP(K1203,'Codes éco-part'!$C$6:$C$923,'Codes éco-part'!$B$6:$B$923)","v":"048"},0.06]
["DIY and gardening products EPR",3,"21101530530",null,"DIY products","Large non-electric, non-combustion items and machines, and their accessories","Solid wood and related products >90%","≥3 kg and <5 kg","€ / unit",0.1,0.1,{"$f":"_xlfn.XLOOKUP(K1204,'Codes éco-part'!$C$6:$C$923,'Codes éco-part'!$B$6:$B$923)","v":"094"},0.12]
["DIY and gardening products EPR",3,"21101530531","Modulated","DIY products","Large non-electric, non-combustion items and machines, and their accessories","Solid wood and related products >90%","≥3 kg and <5 kg","€ / unit",0.09,0.09,{"$f":"_xlfn.XLOOKUP(K1205,'Codes éco-part'!$C$6:$C$923,'Codes éco-part'!$B$6:$B$923)","v":"049"},0.11]
["DIY and gardening products EPR",3,"21101530540",null,"DIY products","Large non-electric, non-combustion items and machines, and their accessories","Solid wood and related products >90%","≥5 kg and <7 kg","€ / unit",0.18,0.18,{"$f":"_xlfn.XLOOKUP(K1206,'Codes éco-part'!$C$6:$C$923,'Codes éco-part'!$B$6:$B$923)","v":"100"},0.22]
["DIY and gardening products EPR",3,"21101530541","Modulated","DIY products","Large non-electric, non-combustion items and machines, and their accessories","Solid wood and related products >90%","≥5 kg and <7 kg","€ / unit",0.16,0.16,{"$f":"_xlfn.XLOOKUP(K1207,'Codes éco-part'!$C$6:$C$923,'Codes éco-part'!$B$6:$B$923)","v":"099"},0.19]
["DIY and gardening products EPR",3,"21101530550",null,"DIY products","Large non-electric, non-combustion items and machines, and their accessories","Solid wood and related products >90%","≥7 kg and <10 kg","€ / unit",0.26,0.26,{"$f":"_xlfn.XLOOKUP(K1208,'Codes éco-part'!$C$6:$C$923,'Codes éco-part'!$B$6:$B$923)","v":"445"},0.31]
["DIY and gardening products EPR",3,"21101530551","Modulated","DIY products","Large non-electric, non-combustion items and machines, and their accessories","Solid wood and related products >90%","≥7 kg and <10 kg","€ / unit",0.23,0.23,{"$f":"_xlfn.XLOOKUP(K1209,'Codes éco-part'!$C$6:$C$923,'Codes éco-part'!$B$6:$B$923)","v":"323"},0.28000000000000003]
["DIY and gardening products EPR",3,"21101530560",null,"DIY products","Large non-electric, non-combustion items and machines, and their accessories","Solid wood and related products >90%","≥10 kg and <15 kg","€ / unit",0.4,0.4,{"$f":"_xlfn.XLOOKUP(K1210,'Codes éco-part'!$C$6:$C$923,'Codes éco-part'!$B$6:$B$923)","v":"105"},0.48]
["DIY and gardening products EPR",3,"21101530561","Modulated","DIY products","Large non-electric, non-combustion items and machines, and their accessories","Solid wood and related products >90%","≥10 kg and <15 kg","€ / unit",0.36,0.36,{"$f":"_xlfn.XLOOKUP(K1211,'Codes éco-part'!$C$6:$C$923,'Codes éco-part'!$B$6:$B$923)","v":"449"},0.43]
["DIY and gardening products EPR",3,"21101530570",null,"DIY products","Large non-electric, non-combustion items and machines, and their accessories","Solid wood and related products >90%","≥15 kg and <20 kg","€ / unit",0.52,0.52,{"$f":"_xlfn.XLOOKUP(K1212,'Codes éco-part'!$C$6:$C$923,'Codes éco-part'!$B$6:$B$923)","v":"509"},0.62]
["DIY and gardening products EPR",3,"21101530571","Modulated","DIY products","Large non-electric, non-combustion items and machines, and their accessories","Solid wood and related products >90%","≥15 kg and <20 kg","€ / unit",0.47,0.47,{"$f":"_xlfn.XLOOKUP(K1213,'Codes éco-part'!$C$6:$C$923,'Codes éco-part'!$B$6:$B$923)","v":"107"},0.56000000000000005]
["DIY and gardening products EPR",3,"21101530580",null,"DIY products","Large non-electric, non-combustion items and machines, and their accessories","Solid wood and related products >90%","≥20 kg and <25 kg","€ / unit",0.66,0.66,{"$f":"_xlfn.XLOOKUP(K1214,'Codes éco-part'!$C$6:$C$923,'Codes éco-part'!$B$6:$B$923)","v":"453"},0.79]
["DIY and gardening products EPR",3,"21101530581","Modulated","DIY products","Large non-electric, non-combustion items and machines, and their accessories","Solid wood and related products >90%","≥20 kg and <25 kg","€ / unit",0.59,0.59,{"$f":"_xlfn.XLOOKUP(K1215,'Codes éco-part'!$C$6:$C$923,'Codes éco-part'!$B$6:$B$923)","v":"254"},0.71]
["DIY and gardening products EPR",3,"21101530590",null,"DIY products","Large non-electric, non-combustion items and machines, and their accessories","Solid wood and related products >90%","≥25 kg and <30 kg","€ / unit",0.78,0.78,{"$f":"_xlfn.XLOOKUP(K1216,'Codes éco-part'!$C$6:$C$923,'Codes éco-part'!$B$6:$B$923)","v":"312"},0.94]
["DIY and gardening products EPR",3,"21101530591","Modulated","DIY products","Large non-electric, non-combustion items and machines, and their accessories","Solid wood and related products >90%","≥25 kg and <30 kg","€ / unit",0.7,0.7,{"$f":"_xlfn.XLOOKUP(K1217,'Codes éco-part'!$C$6:$C$923,'Codes éco-part'!$B$6:$B$923)","v":"282"},0.84]
["DIY and gardening products EPR",3,"21101530600",null,"DIY products","Large non-electric, non-combustion items and machines, and their accessories","Solid wood and related products >90%","≥40 kg and <50 kg","€ / unit",1.3,1.3,{"$f":"_xlfn.XLOOKUP(K1218,'Codes éco-part'!$C$6:$C$923,'Codes éco-part'!$B$6:$B$923)","v":"511"},{"$f":"ROUND(K1218*1.2,2)","v":1.56}]
["DIY and gardening products EPR",3,"21101530601","Modulated","DIY products","Large non-electric, non-combustion items and machines, and their accessories","Solid wood and related products >90%","≥40 kg and <50 kg","€ / unit",1.17,1.17,{"$f":"_xlfn.XLOOKUP(K1219,'Codes éco-part'!$C$6:$C$923,'Codes éco-part'!$B$6:$B$923)","v":"537"},1.4]
["DIY and gardening products EPR",3,"21101540000",null,"DIY products","Large non-electric, non-combustion items and machines, and their accessories","Non-certified wood derivatives >90%","Elements of all sizes and weights","€ / ton",26,26,{"$f":"_xlfn.XLOOKUP(K1220,'Codes éco-part'!$C$6:$C$923,'Codes éco-part'!$B$6:$B$923)","v":"582"},31.2]
["DIY and gardening products EPR",3,"21101540001","Modulated","DIY products","Large non-electric, non-combustion items and machines, and their accessories","Non-certified wood derivatives >90%","Elements of all sizes and weights","€ / ton",23.4,23.4,{"$f":"_xlfn.XLOOKUP(K1221,'Codes éco-part'!$C$6:$C$923,'Codes éco-part'!$B$6:$B$923)","v":946},28.08]
["DIY and gardening products EPR",3,"21101540200",null,"DIY products","Large non-electric, non-combustion items and machines, and their accessories","Non-certified wood derivatives >90%","Strictly <0.5 kg","€ / unit",0.02,0.02,{"$f":"_xlfn.XLOOKUP(K1222,'Codes éco-part'!$C$6:$C$923,'Codes éco-part'!$B$6:$B$923)","v":"047"},0.02]
["DIY and gardening products EPR",3,"21101540201","Modulated","DIY products","Large non-electric, non-combustion items and machines, and their accessories","Non-certified wood derivatives >90%","Strictly <0.5 kg","€ / unit",0.02,0.02,{"$f":"_xlfn.XLOOKUP(K1223,'Codes éco-part'!$C$6:$C$923,'Codes éco-part'!$B$6:$B$923)","v":"047"},0.02]
["DIY and gardening products EPR",3,"21101540210",null,"DIY products","Large non-electric, non-combustion items and machines, and their accessories","Non-certified wood derivatives >90%","≥0.5 kg and <1 kg","€ / unit",0.02,0.02,{"$f":"_xlfn.XLOOKUP(K1224,'Codes éco-part'!$C$6:$C$923,'Codes éco-part'!$B$6:$B$923)","v":"047"},0.02]
["DIY and gardening products EPR",3,"21101540211","Modulated","DIY products","Large non-electric, non-combustion items and machines, and their accessories","Non-certified wood derivatives >90%","≥0.5 kg and <1 kg","€ / unit",0.02,0.02,{"$f":"_xlfn.XLOOKUP(K1225,'Codes éco-part'!$C$6:$C$923,'Codes éco-part'!$B$6:$B$923)","v":"047"},0.02]
["DIY and gardening products EPR",3,"21101540220",null,"DIY products","Large non-electric, non-combustion items and machines, and their accessories","Non-certified wood derivatives >90%","≥1 kg and <2 kg","€ / unit",0.04,0.04,{"$f":"_xlfn.XLOOKUP(K1226,'Codes éco-part'!$C$6:$C$923,'Codes éco-part'!$B$6:$B$923)","v":"002"},0.05]
["DIY and gardening products EPR",3,"21101540221","Modulated","DIY products","Large non-electric, non-combustion items and machines, and their accessories","Non-certified wood derivatives >90%","≥1 kg and <2 kg","€ / unit",0.04,0.04,{"$f":"_xlfn.XLOOKUP(K1227,'Codes éco-part'!$C$6:$C$923,'Codes éco-part'!$B$6:$B$923)","v":"002"},0.05]
["DIY and gardening products EPR",3,"21101540270",null,"DIY products","Large non-electric, non-combustion items and machines, and their accessories","Non-certified wood derivatives >90%","≥30 kg and <40 kg","€ / unit",1.04,1.04,{"$f":"_xlfn.XLOOKUP(K1228,'Codes éco-part'!$C$6:$C$923,'Codes éco-part'!$B$6:$B$923)","v":"616"},1.25]
["DIY and gardening products EPR",3,"21101540271","Modulated","DIY products","Large non-electric, non-combustion items and machines, and their accessories","Non-certified wood derivatives >90%","≥30 kg and <40 kg","€ / unit",0.94,0.94,{"$f":"_xlfn.XLOOKUP(K1229,'Codes éco-part'!$C$6:$C$923,'Codes éco-part'!$B$6:$B$923)","v":"458"},1.1299999999999999]
["DIY and gardening products EPR",3,"21101540520",null,"DIY products","Large non-electric, non-combustion items and machines, and their accessories","Non-certified wood derivatives >90%","≥2 kg and <3 kg","€ / unit",0.06,0.06,{"$f":"_xlfn.XLOOKUP(K1230,'Codes éco-part'!$C$6:$C$923,'Codes éco-part'!$B$6:$B$923)","v":"096"},7.0000000000000007E-2]
["DIY and gardening products EPR",3,"21101540521","Modulated","DIY products","Large non-electric, non-combustion items and machines, and their accessories","Non-certified wood derivatives >90%","≥2 kg and <3 kg","€ / unit",0.05,0.05,{"$f":"_xlfn.XLOOKUP(K1231,'Codes éco-part'!$C$6:$C$923,'Codes éco-part'!$B$6:$B$923)","v":"048"},0.06]
["DIY and gardening products EPR",3,"21101540530",null,"DIY products","Large non-electric, non-combustion items and machines, and their accessories","Non-certified wood derivatives >90%","≥3 kg and <5 kg","€ / unit",0.1,0.1,{"$f":"_xlfn.XLOOKUP(K1232,'Codes éco-part'!$C$6:$C$923,'Codes éco-part'!$B$6:$B$923)","v":"094"},0.12]
["DIY and gardening products EPR",3,"21101540531","Modulated","DIY products","Large non-electric, non-combustion items and machines, and their accessories","Non-certified wood derivatives >90%","≥3 kg and <5 kg","€ / unit",0.09,0.09,{"$f":"_xlfn.XLOOKUP(K1233,'Codes éco-part'!$C$6:$C$923,'Codes éco-part'!$B$6:$B$923)","v":"049"},0.11]
["DIY and gardening products EPR",3,"21101540540",null,"DIY products","Large non-electric, non-combustion items and machines, and their accessories","Non-certified wood derivatives >90%","≥5 kg and <7 kg","€ / unit",0.18,0.18,{"$f":"_xlfn.XLOOKUP(K1234,'Codes éco-part'!$C$6:$C$923,'Codes éco-part'!$B$6:$B$923)","v":"100"},0.22]
["DIY and gardening products EPR",3,"21101540541","Modulated","DIY products","Large non-electric, non-combustion items and machines, and their accessories","Non-certified wood derivatives >90%","≥5 kg and <7 kg","€ / unit",0.16,0.16,{"$f":"_xlfn.XLOOKUP(K1235,'Codes éco-part'!$C$6:$C$923,'Codes éco-part'!$B$6:$B$923)","v":"099"},0.19]
["DIY and gardening products EPR",3,"21101540550",null,"DIY products","Large non-electric, non-combustion items and machines, and their accessories","Non-certified wood derivatives >90%","≥7 kg and <10 kg","€ / unit",0.26,0.26,{"$f":"_xlfn.XLOOKUP(K1236,'Codes éco-part'!$C$6:$C$923,'Codes éco-part'!$B$6:$B$923)","v":"445"},0.31]
["DIY and gardening products EPR",3,"21101540551","Modulated","DIY products","Large non-electric, non-combustion items and machines, and their accessories","Non-certified wood derivatives >90%","≥7 kg and <10 kg","€ / unit",0.23,0.23,{"$f":"_xlfn.XLOOKUP(K1237,'Codes éco-part'!$C$6:$C$923,'Codes éco-part'!$B$6:$B$923)","v":"323"},0.28000000000000003]
["DIY and gardening products EPR",3,"21101540560",null,"DIY products","Large non-electric, non-combustion items and machines, and their accessories","Non-certified wood derivatives >90%","≥10 kg and <15 kg","€ / unit",0.4,0.4,{"$f":"_xlfn.XLOOKUP(K1238,'Codes éco-part'!$C$6:$C$923,'Codes éco-part'!$B$6:$B$923)","v":"105"},0.48]
["DIY and gardening products EPR",3,"21101540561","Modulated","DIY products","Large non-electric, non-combustion items and machines, and their accessories","Non-certified wood derivatives >90%","≥10 kg and <15 kg","€ / unit",0.36,0.36,{"$f":"_xlfn.XLOOKUP(K1239,'Codes éco-part'!$C$6:$C$923,'Codes éco-part'!$B$6:$B$923)","v":"449"},0.43]
["DIY and gardening products EPR",3,"21101540570",null,"DIY products","Large non-electric, non-combustion items and machines, and their accessories","Non-certified wood derivatives >90%","≥15 kg and <20 kg","€ / unit",0.52,0.52,{"$f":"_xlfn.XLOOKUP(K1240,'Codes éco-part'!$C$6:$C$923,'Codes éco-part'!$B$6:$B$923)","v":"509"},0.62]
["DIY and gardening products EPR",3,"21101540571","Modulated","DIY products","Large non-electric, non-combustion items and machines, and their accessories","Non-certified wood derivatives >90%","≥15 kg and <20 kg","€ / unit",0.47,0.47,{"$f":"_xlfn.XLOOKUP(K1241,'Codes éco-part'!$C$6:$C$923,'Codes éco-part'!$B$6:$B$923)","v":"107"},0.56000000000000005]
["DIY and gardening products EPR",3,"21101540580",null,"DIY products","Large non-electric, non-combustion items and machines, and their accessories","Non-certified wood derivatives >90%","≥20 kg and <25 kg","€ / unit",0.66,0.66,{"$f":"_xlfn.XLOOKUP(K1242,'Codes éco-part'!$C$6:$C$923,'Codes éco-part'!$B$6:$B$923)","v":"453"},0.79]
["DIY and gardening products EPR",3,"21101540581","Modulated","DIY products","Large non-electric, non-combustion items and machines, and their accessories","Non-certified wood derivatives >90%","≥20 kg and <25 kg","€ / unit",0.59,0.59,{"$f":"_xlfn.XLOOKUP(K1243,'Codes éco-part'!$C$6:$C$923,'Codes éco-part'!$B$6:$B$923)","v":"254"},0.71]
["DIY and gardening products EPR",3,"21101540590",null,"DIY products","Large non-electric, non-combustion items and machines, and their accessories","Non-certified wood derivatives >90%","≥25 kg and <30 kg","€ / unit",0.78,0.78,{"$f":"_xlfn.XLOOKUP(K1244,'Codes éco-part'!$C$6:$C$923,'Codes éco-part'!$B$6:$B$923)","v":"312"},0.94]
["DIY and gardening products EPR",3,"21101540591","Modulated","DIY products","Large non-electric, non-combustion items and machines, and their accessories","Non-certified wood derivatives >90%","≥25 kg and <30 kg","€ / unit",0.7,0.7,{"$f":"_xlfn.XLOOKUP(K1245,'Codes éco-part'!$C$6:$C$923,'Codes éco-part'!$B$6:$B$923)","v":"282"},0.84]
["DIY and gardening products EPR",3,"21101540600",null,"DIY products","Large non-electric, non-combustion items and machines, and their accessories","Non-certified wood derivatives >90%","≥40 kg and <50 kg","€ / unit",1.3,1.3,{"$f":"_xlfn.XLOOKUP(K1246,'Codes éco-part'!$C$6:$C$923,'Codes éco-part'!$B$6:$B$923)","v":"511"},1.56]
["DIY and gardening products EPR",3,"21101540601","Modulated","DIY products","Large non-electric, non-combustion items and machines, and their accessories","Non-certified wood derivatives >90%","≥40 kg and <50 kg","€ / unit",1.17,1.17,{"$f":"_xlfn.XLOOKUP(K1247,'Codes éco-part'!$C$6:$C$923,'Codes éco-part'!$B$6:$B$923)","v":"537"},1.4]
["DIY and gardening products EPR",3,"21101550000",null,"DIY products","Large non-electric, non-combustion items and machines, and their accessories","Biosourced materials or non-synthetic textiles >90%","Elements of all sizes and weights","€ / ton",40,40,{"$f":"_xlfn.XLOOKUP(K1248,'Codes éco-part'!$C$6:$C$923,'Codes éco-part'!$B$6:$B$923)","v":"029"},48]
["DIY and gardening products EPR",3,"21101550001","Modulated","DIY products","Large non-electric, non-combustion items and machines, and their accessories","Biosourced materials or non-synthetic textiles >90%","Elements of all sizes and weights","€ / ton",36,36,{"$f":"_xlfn.XLOOKUP(K1249,'Codes éco-part'!$C$6:$C$923,'Codes éco-part'!$B$6:$B$923)","v":"556"},43.2]
["DIY and gardening products EPR",3,"21101550200",null,"DIY products","Large non-electric, non-combustion items and machines, and their accessories","Biosourced materials or non-synthetic textiles >90%","Strictly <0.5 kg","€ / unit",0.01,0.01,{"$f":"_xlfn.XLOOKUP(K1250,'Codes éco-part'!$C$6:$C$923,'Codes éco-part'!$B$6:$B$923)","v":"260"},0.01]
["DIY and gardening products EPR",3,"21101550201","Modulated","DIY products","Large non-electric, non-combustion items and machines, and their accessories","Biosourced materials or non-synthetic textiles >90%","Strictly <0.5 kg","€ / unit",0.01,0.01,{"$f":"_xlfn.XLOOKUP(K1251,'Codes éco-part'!$C$6:$C$923,'Codes éco-part'!$B$6:$B$923)","v":"260"},0.01]
["DIY and gardening products EPR",3,"21101550210",null,"DIY products","Large non-electric, non-combustion items and machines, and their accessories","Biosourced materials or non-synthetic textiles >90%","≥0.5 kg and <1 kg","€ / unit",0.03,0.03,{"$f":"_xlfn.XLOOKUP(K1252,'Codes éco-part'!$C$6:$C$923,'Codes éco-part'!$B$6:$B$923)","v":"092"},0.04]
["DIY and gardening products EPR",3,"21101550211","Modulated","DIY products","Large non-electric, non-combustion items and machines, and their accessories","Biosourced materials or non-synthetic textiles >90%","≥0.5 kg and <1 kg","€ / unit",0.03,0.03,{"$f":"_xlfn.XLOOKUP(K1253,'Codes éco-part'!$C$6:$C$923,'Codes éco-part'!$B$6:$B$923)","v":"092"},0.04]
["DIY and gardening products EPR",3,"21101550220",null,"DIY products","Large non-electric, non-combustion items and machines, and their accessories","Biosourced materials or non-synthetic textiles >90%","≥1 kg and <2 kg","€ / unit",0.06,0.06,{"$f":"_xlfn.XLOOKUP(K1254,'Codes éco-part'!$C$6:$C$923,'Codes éco-part'!$B$6:$B$923)","v":"096"},7.0000000000000007E-2]
["DIY and gardening products EPR",3,"21101550221","Modulated","DIY products","Large non-electric, non-combustion items and machines, and their accessories","Biosourced materials or non-synthetic textiles >90%","≥1 kg and <2 kg","€ / unit",0.05,0.05,{"$f":"_xlfn.XLOOKUP(K1255,'Codes éco-part'!$C$6:$C$923,'Codes éco-part'!$B$6:$B$923)","v":"048"},0.06]
["DIY and gardening products EPR",3,"21101550270",null,"DIY products","Large non-electric, non-combustion items and machines, and their accessories","Biosourced materials or non-synthetic textiles >90%","≥30 kg and <40 kg","€ / unit",1.6,1.6,{"$f":"_xlfn.XLOOKUP(K1256,'Codes éco-part'!$C$6:$C$923,'Codes éco-part'!$B$6:$B$923)","v":"595"},1.92]
["DIY and gardening products EPR",3,"21101550271","Modulated","DIY products","Large non-electric, non-combustion items and machines, and their accessories","Biosourced materials or non-synthetic textiles >90%","≥30 kg and <40 kg","€ / unit",1.44,1.44,{"$f":"_xlfn.XLOOKUP(K1257,'Codes éco-part'!$C$6:$C$923,'Codes éco-part'!$B$6:$B$923)","v":"566"},1.73]
["DIY and gardening products EPR",3,"21101550520",null,"DIY products","Large non-electric, non-combustion items and machines, and their accessories","Biosourced materials or non-synthetic textiles >90%","≥2 kg and <3 kg","€ / unit",0.1,0.1,{"$f":"_xlfn.XLOOKUP(K1258,'Codes éco-part'!$C$6:$C$923,'Codes éco-part'!$B$6:$B$923)","v":"094"},0.12]
["DIY and gardening products EPR",3,"21101550521","Modulated","DIY products","Large non-electric, non-combustion items and machines, and their accessories","Biosourced materials or non-synthetic textiles >90%","≥2 kg and <3 kg","€ / unit",0.09,0.09,{"$f":"_xlfn.XLOOKUP(K1259,'Codes éco-part'!$C$6:$C$923,'Codes éco-part'!$B$6:$B$923)","v":"049"},0.11]
["DIY and gardening products EPR",3,"21101550530",null,"DIY products","Large non-electric, non-combustion items and machines, and their accessories","Biosourced materials or non-synthetic textiles >90%","≥3 kg and <5 kg","€ / unit",0.16,0.16,{"$f":"_xlfn.XLOOKUP(K1260,'Codes éco-part'!$C$6:$C$923,'Codes éco-part'!$B$6:$B$923)","v":"099"},0.19]
["DIY and gardening products EPR",3,"21101550531","Modulated","DIY products","Large non-electric, non-combustion items and machines, and their accessories","Biosourced materials or non-synthetic textiles >90%","≥3 kg and <5 kg","€ / unit",0.14000000000000001,0.14000000000000001,{"$f":"_xlfn.XLOOKUP(K1261,'Codes éco-part'!$C$6:$C$923,'Codes éco-part'!$B$6:$B$923)","v":"098"},0.17]
["DIY and gardening products EPR",3,"21101550540",null,"DIY products","Large non-electric, non-combustion items and machines, and their accessories","Biosourced materials or non-synthetic textiles >90%","≥5 kg and <7 kg","€ / unit",0.28000000000000003,0.28000000000000003,{"$f":"_xlfn.XLOOKUP(K1262,'Codes éco-part'!$C$6:$C$923,'Codes éco-part'!$B$6:$B$923)","v":"542"},0.34]
["DIY and gardening products EPR",3,"21101550541","Modulated","DIY products","Large non-electric, non-combustion items and machines, and their accessories","Biosourced materials or non-synthetic textiles >90%","≥5 kg and <7 kg","€ / unit",0.25,0.25,{"$f":"_xlfn.XLOOKUP(K1263,'Codes éco-part'!$C$6:$C$923,'Codes éco-part'!$B$6:$B$923)","v":"095"},0.3]
["DIY and gardening products EPR",3,"21101550550",null,"DIY products","Large non-electric, non-combustion items and machines, and their accessories","Biosourced materials or non-synthetic textiles >90%","≥7 kg and <10 kg","€ / unit",0.4,0.4,{"$f":"_xlfn.XLOOKUP(K1264,'Codes éco-part'!$C$6:$C$923,'Codes éco-part'!$B$6:$B$923)","v":"105"},0.48]
["DIY and gardening products EPR",3,"21101550551","Modulated","DIY products","Large non-electric, non-combustion items and machines, and their accessories","Biosourced materials or non-synthetic textiles >90%","≥7 kg and <10 kg","€ / unit",0.36,0.36,{"$f":"_xlfn.XLOOKUP(K1265,'Codes éco-part'!$C$6:$C$923,'Codes éco-part'!$B$6:$B$923)","v":"449"},0.43]
["DIY and gardening products EPR",3,"21101550560",null,"DIY products","Large non-electric, non-combustion items and machines, and their accessories","Biosourced materials or non-synthetic textiles >90%","≥10 kg and <15 kg","€ / unit",0.6,0.6,{"$f":"_xlfn.XLOOKUP(K1266,'Codes éco-part'!$C$6:$C$923,'Codes éco-part'!$B$6:$B$923)","v":"327"},0.72]
["DIY and gardening products EPR",3,"21101550561","Modulated","DIY products","Large non-electric, non-combustion items and machines, and their accessories","Biosourced materials or non-synthetic textiles >90%","≥10 kg and <15 kg","€ / unit",0.54,0.54,{"$f":"_xlfn.XLOOKUP(K1267,'Codes éco-part'!$C$6:$C$923,'Codes éco-part'!$B$6:$B$923)","v":"500"},0.65]
["DIY and gardening products EPR",3,"21101550570",null,"DIY products","Large non-electric, non-combustion items and machines, and their accessories","Biosourced materials or non-synthetic textiles >90%","≥15 kg and <20 kg","€ / unit",0.8,0.8,{"$f":"_xlfn.XLOOKUP(K1268,'Codes éco-part'!$C$6:$C$923,'Codes éco-part'!$B$6:$B$923)","v":"456"},0.96]
["DIY and gardening products EPR",3,"21101550571","Modulated","DIY products","Large non-electric, non-combustion items and machines, and their accessories","Biosourced materials or non-synthetic textiles >90%","≥15 kg and <20 kg","€ / unit",0.72,0.72,{"$f":"_xlfn.XLOOKUP(K1269,'Codes éco-part'!$C$6:$C$923,'Codes éco-part'!$B$6:$B$923)","v":"454"},0.86]
["DIY and gardening products EPR",3,"21101550580",null,"DIY products","Large non-electric, non-combustion items and machines, and their accessories","Biosourced materials or non-synthetic textiles >90%","≥20 kg and <25 kg","€ / unit",1,1,{"$f":"_xlfn.XLOOKUP(K1270,'Codes éco-part'!$C$6:$C$923,'Codes éco-part'!$B$6:$B$923)","v":"056"},1.2]
["DIY and gardening products EPR",3,"21101550581","Modulated","DIY products","Large non-electric, non-combustion items and machines, and their accessories","Biosourced materials or non-synthetic textiles >90%","≥20 kg and <25 kg","€ / unit",0.9,0.9,{"$f":"_xlfn.XLOOKUP(K1271,'Codes éco-part'!$C$6:$C$923,'Codes éco-part'!$B$6:$B$923)","v":"330"},1.08]
["DIY and gardening products EPR",3,"21101550590",null,"DIY products","Large non-electric, non-combustion items and machines, and their accessories","Biosourced materials or non-synthetic textiles >90%","≥25 kg and <30 kg","€ / unit",1.2,1.2,{"$f":"_xlfn.XLOOKUP(K1272,'Codes éco-part'!$C$6:$C$923,'Codes éco-part'!$B$6:$B$923)","v":"505"},1.44]
["DIY and gardening products EPR",3,"21101550591","Modulated","DIY products","Large non-electric, non-combustion items and machines, and their accessories","Biosourced materials or non-synthetic textiles >90%","≥25 kg and <30 kg","€ / unit",1.08,1.08,{"$f":"_xlfn.XLOOKUP(K1273,'Codes éco-part'!$C$6:$C$923,'Codes éco-part'!$B$6:$B$923)","v":"113"},1.3]
["DIY and gardening products EPR",3,"21101550600",null,"DIY products","Large non-electric, non-combustion items and machines, and their accessories","Biosourced materials or non-synthetic textiles >90%","≥40 kg and <50 kg","€ / unit",2,2,{"$f":"_xlfn.XLOOKUP(K1274,'Codes éco-part'!$C$6:$C$923,'Codes éco-part'!$B$6:$B$923)","v":"061"},2.4]
["DIY and gardening products EPR",3,"21101550601","Modulated","DIY products","Large non-electric, non-combustion items and machines, and their accessories","Biosourced materials or non-synthetic textiles >90%","≥40 kg and <50 kg","€ / unit",1.8,1.8,{"$f":"_xlfn.XLOOKUP(K1275,'Codes éco-part'!$C$6:$C$923,'Codes éco-part'!$B$6:$B$923)","v":"603"},2.16]
["DIY and gardening products EPR",3,"21101590000",null,"DIY products","Large non-electric, non-combustion items and machines, and their accessories","Certified chipboard or OSB >90%","Elements of all sizes and weights","€ / ton",13,13,{"$f":"_xlfn.XLOOKUP(K1276,'Codes éco-part'!$C$6:$C$923,'Codes éco-part'!$B$6:$B$923)","v":"486"},15.6]
["DIY and gardening products EPR",3,"21101590001","Modulated","DIY products","Large non-electric, non-combustion items and machines, and their accessories","Certified chipboard or OSB >90%","Elements of all sizes and weights","€ / ton",11.7,11.7,{"$f":"_xlfn.XLOOKUP(K1277,'Codes éco-part'!$C$6:$C$923,'Codes éco-part'!$B$6:$B$923)","v":945},14.04]
["DIY and gardening products EPR",3,"21101590200",null,"DIY products","Large non-electric, non-combustion items and machines, and their accessories","Certified chipboard or OSB >90%","Strictly <0.5 kg","€ / unit",0.01,0.01,{"$f":"_xlfn.XLOOKUP(K1278,'Codes éco-part'!$C$6:$C$923,'Codes éco-part'!$B$6:$B$923)","v":"260"},0.01]
["DIY and gardening products EPR",3,"21101590201","Modulated","DIY products","Large non-electric, non-combustion items and machines, and their accessories","Certified chipboard or OSB >90%","Strictly <0.5 kg","€ / unit",0.01,0.01,{"$f":"_xlfn.XLOOKUP(K1279,'Codes éco-part'!$C$6:$C$923,'Codes éco-part'!$B$6:$B$923)","v":"260"},0.01]
["DIY and gardening products EPR",3,"21101590210",null,"DIY products","Large non-electric, non-combustion items and machines, and their accessories","Certified chipboard or OSB >90%","≥0.5 kg and <1 kg","€ / unit",0.01,0.01,{"$f":"_xlfn.XLOOKUP(K1280,'Codes éco-part'!$C$6:$C$923,'Codes éco-part'!$B$6:$B$923)","v":"260"},0.01]
["DIY and gardening products EPR",3,"21101590211","Modulated","DIY products","Large non-electric, non-combustion items and machines, and their accessories","Certified chipboard or OSB >90%","≥0.5 kg and <1 kg","€ / unit",0.01,0.01,{"$f":"_xlfn.XLOOKUP(K1281,'Codes éco-part'!$C$6:$C$923,'Codes éco-part'!$B$6:$B$923)","v":"260"},0.01]
["DIY and gardening products EPR",3,"21101590220",null,"DIY products","Large non-electric, non-combustion items and machines, and their accessories","Certified chipboard or OSB >90%","≥1 kg and <2 kg","€ / unit",0.02,0.02,{"$f":"_xlfn.XLOOKUP(K1282,'Codes éco-part'!$C$6:$C$923,'Codes éco-part'!$B$6:$B$923)","v":"047"},{"$f":"ROUND(K1282*1.2,2)","v":0.02}]
["DIY and gardening products EPR",3,"21101590221","Modulated","DIY products","Large non-electric, non-combustion items and machines, and their accessories","Certified chipboard or OSB >90%","≥1 kg and <2 kg","€ / unit",0.02,0.02,{"$f":"_xlfn.XLOOKUP(K1283,'Codes éco-part'!$C$6:$C$923,'Codes éco-part'!$B$6:$B$923)","v":"047"},0.02]
["DIY and gardening products EPR",3,"21101590270",null,"DIY products","Large non-electric, non-combustion items and machines, and their accessories","Certified chipboard or OSB >90%","≥30 kg and <40 kg","€ / unit",0.52,0.52,{"$f":"_xlfn.XLOOKUP(K1284,'Codes éco-part'!$C$6:$C$923,'Codes éco-part'!$B$6:$B$923)","v":"509"},0.62]
["DIY and gardening products EPR",3,"21101590271","Modulated","DIY products","Large non-electric, non-combustion items and machines, and their accessories","Certified chipboard or OSB >90%","≥30 kg and <40 kg","€ / unit",0.47,0.47,{"$f":"_xlfn.XLOOKUP(K1285,'Codes éco-part'!$C$6:$C$923,'Codes éco-part'!$B$6:$B$923)","v":"107"},0.56000000000000005]
["DIY and gardening products EPR",3,"21101590520",null,"DIY products","Large non-electric, non-combustion items and machines, and their accessories","Certified chipboard or OSB >90%","≥2 kg and <3 kg","€ / unit",0.03,0.03,{"$f":"_xlfn.XLOOKUP(K1286,'Codes éco-part'!$C$6:$C$923,'Codes éco-part'!$B$6:$B$923)","v":"092"},0.04]
["DIY and gardening products EPR",3,"21101590521","Modulated","DIY products","Large non-electric, non-combustion items and machines, and their accessories","Certified chipboard or OSB >90%","≥2 kg and <3 kg","€ / unit",0.03,0.03,{"$f":"_xlfn.XLOOKUP(K1287,'Codes éco-part'!$C$6:$C$923,'Codes éco-part'!$B$6:$B$923)","v":"092"},0.04]
["DIY and gardening products EPR",3,"21101590530",null,"DIY products","Large non-electric, non-combustion items and machines, and their accessories","Certified chipboard or OSB >90%","≥3 kg and <5 kg","€ / unit",0.05,0.05,{"$f":"_xlfn.XLOOKUP(K1288,'Codes éco-part'!$C$6:$C$923,'Codes éco-part'!$B$6:$B$923)","v":"048"},0.06]
["DIY and gardening products EPR",3,"21101590531","Modulated","DIY products","Large non-electric, non-combustion items and machines, and their accessories","Certified chipboard or OSB >90%","≥3 kg and <5 kg","€ / unit",0.05,0.05,{"$f":"_xlfn.XLOOKUP(K1289,'Codes éco-part'!$C$6:$C$923,'Codes éco-part'!$B$6:$B$923)","v":"048"},0.06]
["DIY and gardening products EPR",3,"21101590540",null,"DIY products","Large non-electric, non-combustion items and machines, and their accessories","Certified chipboard or OSB >90%","≥5 kg and <7 kg","€ / unit",0.09,0.09,{"$f":"_xlfn.XLOOKUP(K1290,'Codes éco-part'!$C$6:$C$923,'Codes éco-part'!$B$6:$B$923)","v":"049"},0.11]
["DIY and gardening products EPR",3,"21101590541","Modulated","DIY products","Large non-electric, non-combustion items and machines, and their accessories","Certified chipboard or OSB >90%","≥5 kg and <7 kg","€ / unit",0.08,0.08,{"$f":"_xlfn.XLOOKUP(K1291,'Codes éco-part'!$C$6:$C$923,'Codes éco-part'!$B$6:$B$923)","v":"003"},0.1]
["DIY and gardening products EPR",3,"21101590550",null,"DIY products","Large non-electric, non-combustion items and machines, and their accessories","Certified chipboard or OSB >90%","≥7 kg and <10 kg","€ / unit",0.13,0.13,{"$f":"_xlfn.XLOOKUP(K1292,'Codes éco-part'!$C$6:$C$923,'Codes éco-part'!$B$6:$B$923)","v":"004"},0.16]
["DIY and gardening products EPR",3,"21101590551","Modulated","DIY products","Large non-electric, non-combustion items and machines, and their accessories","Certified chipboard or OSB >90%","≥7 kg and <10 kg","€ / unit",0.12,0.12,{"$f":"_xlfn.XLOOKUP(K1293,'Codes éco-part'!$C$6:$C$923,'Codes éco-part'!$B$6:$B$923)","v":"097"},0.14000000000000001]
["DIY and gardening products EPR",3,"21101590560",null,"DIY products","Large non-electric, non-combustion items and machines, and their accessories","Certified chipboard or OSB >90%","≥10 kg and <15 kg","€ / unit",0.2,0.2,{"$f":"_xlfn.XLOOKUP(K1294,'Codes éco-part'!$C$6:$C$923,'Codes éco-part'!$B$6:$B$923)","v":"101"},0.24]
["DIY and gardening products EPR",3,"21101590561","Modulated","DIY products","Large non-electric, non-combustion items and machines, and their accessories","Certified chipboard or OSB >90%","≥10 kg and <15 kg","€ / unit",0.18,0.18,{"$f":"_xlfn.XLOOKUP(K1295,'Codes éco-part'!$C$6:$C$923,'Codes éco-part'!$B$6:$B$923)","v":"100"},0.22]
["DIY and gardening products EPR",3,"21101590570",null,"DIY products","Large non-electric, non-combustion items and machines, and their accessories","Certified chipboard or OSB >90%","≥15 kg and <20 kg","€ / unit",0.26,0.26,{"$f":"_xlfn.XLOOKUP(K1296,'Codes éco-part'!$C$6:$C$923,'Codes éco-part'!$B$6:$B$923)","v":"445"},0.31]
["DIY and gardening products EPR",3,"21101590571","Modulated","DIY products","Large non-electric, non-combustion items and machines, and their accessories","Certified chipboard or OSB >90%","≥15 kg and <20 kg","€ / unit",0.23,0.23,{"$f":"_xlfn.XLOOKUP(K1297,'Codes éco-part'!$C$6:$C$923,'Codes éco-part'!$B$6:$B$923)","v":"323"},0.28000000000000003]
["DIY and gardening products EPR",3,"21101590580",null,"DIY products","Large non-electric, non-combustion items and machines, and their accessories","Certified chipboard or OSB >90%","≥20 kg and <25 kg","€ / unit",0.33,0.33,{"$f":"_xlfn.XLOOKUP(K1298,'Codes éco-part'!$C$6:$C$923,'Codes éco-part'!$B$6:$B$923)","v":"006"},0.4]
["DIY and gardening products EPR",3,"21101590581","Modulated","DIY products","Large non-electric, non-combustion items and machines, and their accessories","Certified chipboard or OSB >90%","≥20 kg and <25 kg","€ / unit",0.3,0.3,{"$f":"_xlfn.XLOOKUP(K1299,'Codes éco-part'!$C$6:$C$923,'Codes éco-part'!$B$6:$B$923)","v":"446"},0.36]
["DIY and gardening products EPR",3,"21101590590",null,"DIY products","Large non-electric, non-combustion items and machines, and their accessories","Certified chipboard or OSB >90%","≥25 kg and <30 kg","€ / unit",0.39,0.39,{"$f":"_xlfn.XLOOKUP(K1300,'Codes éco-part'!$C$6:$C$923,'Codes éco-part'!$B$6:$B$923)","v":"253"},0.47]
["DIY and gardening products EPR",3,"21101590591","Modulated","DIY products","Large non-electric, non-combustion items and machines, and their accessories","Certified chipboard or OSB >90%","≥25 kg and <30 kg","€ / unit",0.35,0.35,{"$f":"_xlfn.XLOOKUP(K1301,'Codes éco-part'!$C$6:$C$923,'Codes éco-part'!$B$6:$B$923)","v":"448"},0.42]
["DIY and gardening products EPR",3,"21101590600",null,"DIY products","Large non-electric, non-combustion items and machines, and their accessories","Certified chipboard or OSB >90%","≥40 kg and <50 kg","€ / unit",0.65,0.65,{"$f":"_xlfn.XLOOKUP(K1302,'Codes éco-part'!$C$6:$C$923,'Codes éco-part'!$B$6:$B$923)","v":"613"},0.78]
["DIY and gardening products EPR",3,"21101590601","Modulated","DIY products","Large non-electric, non-combustion items and machines, and their accessories","Certified chipboard or OSB >90%","≥40 kg and <50 kg","€ / unit",0.59,0.59,{"$f":"_xlfn.XLOOKUP(K1303,'Codes éco-part'!$C$6:$C$923,'Codes éco-part'!$B$6:$B$923)","v":"254"},0.71]
["DIY and gardening products EPR",3,"21101600000",null,"DIY products","Large non-electric, non-combustion items and machines, and their accessories","Certified chipboard or OSB >75%","Elements of all sizes and weights","€ / ton",13,13,{"$f":"_xlfn.XLOOKUP(K1304,'Codes éco-part'!$C$6:$C$923,'Codes éco-part'!$B$6:$B$923)","v":"486"},15.6]
["DIY and gardening products EPR",3,"21101600001","Modulated","DIY products","Large non-electric, non-combustion items and machines, and their accessories","Certified chipboard or OSB >75%","Elements of all sizes and weights","€ / ton",11.7,11.7,{"$f":"_xlfn.XLOOKUP(K1305,'Codes éco-part'!$C$6:$C$923,'Codes éco-part'!$B$6:$B$923)","v":945},14.04]
["DIY and gardening products EPR",3,"21101600200",null,"DIY products","Large non-electric, non-combustion items and machines, and their accessories","Certified chipboard or OSB >75%","Strictly <0.5 kg","€ / unit",0.01,0.01,{"$f":"_xlfn.XLOOKUP(K1306,'Codes éco-part'!$C$6:$C$923,'Codes éco-part'!$B$6:$B$923)","v":"260"},0.01]
["DIY and gardening products EPR",3,"21101600201","Modulated","DIY products","Large non-electric, non-combustion items and machines, and their accessories","Certified chipboard or OSB >75%","Strictly <0.5 kg","€ / unit",0.01,0.01,{"$f":"_xlfn.XLOOKUP(K1307,'Codes éco-part'!$C$6:$C$923,'Codes éco-part'!$B$6:$B$923)","v":"260"},0.01]
["DIY and gardening products EPR",3,"21101600210",null,"DIY products","Large non-electric, non-combustion items and machines, and their accessories","Certified chipboard or OSB >75%","≥0.5 kg and <1 kg","€ / unit",0.01,0.01,{"$f":"_xlfn.XLOOKUP(K1308,'Codes éco-part'!$C$6:$C$923,'Codes éco-part'!$B$6:$B$923)","v":"260"},0.01]
["DIY and gardening products EPR",3,"21101600211","Modulated","DIY products","Large non-electric, non-combustion items and machines, and their accessories","Certified chipboard or OSB >75%","≥0.5 kg and <1 kg","€ / unit",0.01,0.01,{"$f":"_xlfn.XLOOKUP(K1309,'Codes éco-part'!$C$6:$C$923,'Codes éco-part'!$B$6:$B$923)","v":"260"},0.01]
["DIY and gardening products EPR",3,"21101600220",null,"DIY products","Large non-electric, non-combustion items and machines, and their accessories","Certified chipboard or OSB >75%","≥1 kg and <2 kg","€ / unit",0.02,0.02,{"$f":"_xlfn.XLOOKUP(K1310,'Codes éco-part'!$C$6:$C$923,'Codes éco-part'!$B$6:$B$923)","v":"047"},0.02]
["DIY and gardening products EPR",3,"21101600221","Modulated","DIY products","Large non-electric, non-combustion items and machines, and their accessories","Certified chipboard or OSB >75%","≥1 kg and <2 kg","€ / unit",0.02,0.02,{"$f":"_xlfn.XLOOKUP(K1311,'Codes éco-part'!$C$6:$C$923,'Codes éco-part'!$B$6:$B$923)","v":"047"},0.02]
["DIY and gardening products EPR",3,"21101600270",null,"DIY products","Large non-electric, non-combustion items and machines, and their accessories","Certified chipboard or OSB >75%","≥30 kg and <40 kg","€ / unit",0.52,0.52,{"$f":"_xlfn.XLOOKUP(K1312,'Codes éco-part'!$C$6:$C$923,'Codes éco-part'!$B$6:$B$923)","v":"509"},0.62]
["DIY and gardening products EPR",3,"21101600271","Modulated","DIY products","Large non-electric, non-combustion items and machines, and their accessories","Certified chipboard or OSB >75%","≥30 kg and <40 kg","€ / unit",0.47,0.47,{"$f":"_xlfn.XLOOKUP(K1313,'Codes éco-part'!$C$6:$C$923,'Codes éco-part'!$B$6:$B$923)","v":"107"},0.56000000000000005]
["DIY and gardening products EPR",3,"21101600520",null,"DIY products","Large non-electric, non-combustion items and machines, and their accessories","Certified chipboard or OSB >75%","≥2 kg and <3 kg","€ / unit",0.03,0.03,{"$f":"_xlfn.XLOOKUP(K1314,'Codes éco-part'!$C$6:$C$923,'Codes éco-part'!$B$6:$B$923)","v":"092"},0.04]
["DIY and gardening products EPR",3,"21101600521","Modulated","DIY products","Large non-electric, non-combustion items and machines, and their accessories","Certified chipboard or OSB >75%","≥2 kg and <3 kg","€ / unit",0.03,0.03,{"$f":"_xlfn.XLOOKUP(K1315,'Codes éco-part'!$C$6:$C$923,'Codes éco-part'!$B$6:$B$923)","v":"092"},0.04]
["DIY and gardening products EPR",3,"21101600530",null,"DIY products","Large non-electric, non-combustion items and machines, and their accessories","Certified chipboard or OSB >75%","≥3 kg and <5 kg","€ / unit",0.05,0.05,{"$f":"_xlfn.XLOOKUP(K1316,'Codes éco-part'!$C$6:$C$923,'Codes éco-part'!$B$6:$B$923)","v":"048"},0.06]
["DIY and gardening products EPR",3,"21101600531","Modulated","DIY products","Large non-electric, non-combustion items and machines, and their accessories","Certified chipboard or OSB >75%","≥3 kg and <5 kg","€ / unit",0.05,0.05,{"$f":"_xlfn.XLOOKUP(K1317,'Codes éco-part'!$C$6:$C$923,'Codes éco-part'!$B$6:$B$923)","v":"048"},0.06]
["DIY and gardening products EPR",3,"21101600540",null,"DIY products","Large non-electric, non-combustion items and machines, and their accessories","Certified chipboard or OSB >75%","≥5 kg and <7 kg","€ / unit",0.09,0.09,{"$f":"_xlfn.XLOOKUP(K1318,'Codes éco-part'!$C$6:$C$923,'Codes éco-part'!$B$6:$B$923)","v":"049"},0.11]
["DIY and gardening products EPR",3,"21101600541","Modulated","DIY products","Large non-electric, non-combustion items and machines, and their accessories","Certified chipboard or OSB >75%","≥5 kg and <7 kg","€ / unit",0.08,0.08,{"$f":"_xlfn.XLOOKUP(K1319,'Codes éco-part'!$C$6:$C$923,'Codes éco-part'!$B$6:$B$923)","v":"003"},0.1]
["DIY and gardening products EPR",3,"21101600550",null,"DIY products","Large non-electric, non-combustion items and machines, and their accessories","Certified chipboard or OSB >75%","≥7 kg and <10 kg","€ / unit",0.13,0.13,{"$f":"_xlfn.XLOOKUP(K1320,'Codes éco-part'!$C$6:$C$923,'Codes éco-part'!$B$6:$B$923)","v":"004"},0.16]
["DIY and gardening products EPR",3,"21101600551","Modulated","DIY products","Large non-electric, non-combustion items and machines, and their accessories","Certified chipboard or OSB >75%","≥7 kg and <10 kg","€ / unit",0.12,0.12,{"$f":"_xlfn.XLOOKUP(K1321,'Codes éco-part'!$C$6:$C$923,'Codes éco-part'!$B$6:$B$923)","v":"097"},0.14000000000000001]
["DIY and gardening products EPR",3,"21101600560",null,"DIY products","Large non-electric, non-combustion items and machines, and their accessories","Certified chipboard or OSB >75%","≥10 kg and <15 kg","€ / unit",0.2,0.2,{"$f":"_xlfn.XLOOKUP(K1322,'Codes éco-part'!$C$6:$C$923,'Codes éco-part'!$B$6:$B$923)","v":"101"},0.24]
["DIY and gardening products EPR",3,"21101600561","Modulated","DIY products","Large non-electric, non-combustion items and machines, and their accessories","Certified chipboard or OSB >75%","≥10 kg and <15 kg","€ / unit",0.18,0.18,{"$f":"_xlfn.XLOOKUP(K1323,'Codes éco-part'!$C$6:$C$923,'Codes éco-part'!$B$6:$B$923)","v":"100"},0.22]
["DIY and gardening products EPR",3,"21101600570",null,"DIY products","Large non-electric, non-combustion items and machines, and their accessories","Certified chipboard or OSB >75%","≥15 kg and <20 kg","€ / unit",0.26,0.26,{"$f":"_xlfn.XLOOKUP(K1324,'Codes éco-part'!$C$6:$C$923,'Codes éco-part'!$B$6:$B$923)","v":"445"},0.31]
["DIY and gardening products EPR",3,"21101600571","Modulated","DIY products","Large non-electric, non-combustion items and machines, and their accessories","Certified chipboard or OSB >75%","≥15 kg and <20 kg","€ / unit",0.23,0.23,{"$f":"_xlfn.XLOOKUP(K1325,'Codes éco-part'!$C$6:$C$923,'Codes éco-part'!$B$6:$B$923)","v":"323"},0.28000000000000003]
["DIY and gardening products EPR",3,"21101600580",null,"DIY products","Large non-electric, non-combustion items and machines, and their accessories","Certified chipboard or OSB >75%","≥20 kg and <25 kg","€ / unit",0.33,0.33,{"$f":"_xlfn.XLOOKUP(K1326,'Codes éco-part'!$C$6:$C$923,'Codes éco-part'!$B$6:$B$923)","v":"006"},0.4]
["DIY and gardening products EPR",3,"21101600581","Modulated","DIY products","Large non-electric, non-combustion items and machines, and their accessories","Certified chipboard or OSB >75%","≥20 kg and <25 kg","€ / unit",0.3,0.3,{"$f":"_xlfn.XLOOKUP(K1327,'Codes éco-part'!$C$6:$C$923,'Codes éco-part'!$B$6:$B$923)","v":"446"},0.36]
["DIY and gardening products EPR",3,"21101600590",null,"DIY products","Large non-electric, non-combustion items and machines, and their accessories","Certified chipboard or OSB >75%","≥25 kg and <30 kg","€ / unit",0.39,0.39,{"$f":"_xlfn.XLOOKUP(K1328,'Codes éco-part'!$C$6:$C$923,'Codes éco-part'!$B$6:$B$923)","v":"253"},0.47]
["DIY and gardening products EPR",3,"21101600591","Modulated","DIY products","Large non-electric, non-combustion items and machines, and their accessories","Certified chipboard or OSB >75%","≥25 kg and <30 kg","€ / unit",0.35,0.35,{"$f":"_xlfn.XLOOKUP(K1329,'Codes éco-part'!$C$6:$C$923,'Codes éco-part'!$B$6:$B$923)","v":"448"},0.42]
["DIY and gardening products EPR",3,"21101600600",null,"DIY products","Large non-electric, non-combustion items and machines, and their accessories","Certified chipboard or OSB >75%","≥40 kg and <50 kg","€ / unit",0.65,0.65,{"$f":"_xlfn.XLOOKUP(K1330,'Codes éco-part'!$C$6:$C$923,'Codes éco-part'!$B$6:$B$923)","v":"613"},0.78]
["DIY and gardening products EPR",3,"21101600601","Modulated","DIY products","Large non-electric, non-combustion items and machines, and their accessories","Certified chipboard or OSB >75%","≥40 kg and <50 kg","€ / unit",0.59,0.59,{"$f":"_xlfn.XLOOKUP(K1331,'Codes éco-part'!$C$6:$C$923,'Codes éco-part'!$B$6:$B$923)","v":"254"},0.71]
["DIY and gardening products EPR",3,"21101610000",null,"DIY products","Large non-electric, non-combustion items and machines, and their accessories","Chipboard or OSB >90%","Elements of all sizes and weights","€ / ton",26,26,{"$f":"_xlfn.XLOOKUP(K1332,'Codes éco-part'!$C$6:$C$923,'Codes éco-part'!$B$6:$B$923)","v":"582"},31.2]
["DIY and gardening products EPR",3,"21101610001","Modulated","DIY products","Large non-electric, non-combustion items and machines, and their accessories","Chipboard or OSB >90%","Elements of all sizes and weights","€ / ton",23.4,23.4,{"$f":"_xlfn.XLOOKUP(K1333,'Codes éco-part'!$C$6:$C$923,'Codes éco-part'!$B$6:$B$923)","v":946},28.08]
["DIY and gardening products EPR",3,"21101610200",null,"DIY products","Large non-electric, non-combustion items and machines, and their accessories","Chipboard or OSB >90%","Strictly <0.5 kg","€ / unit",0.02,0.02,{"$f":"_xlfn.XLOOKUP(K1334,'Codes éco-part'!$C$6:$C$923,'Codes éco-part'!$B$6:$B$923)","v":"047"},0.02]
["DIY and gardening products EPR",3,"21101610201","Modulated","DIY products","Large non-electric, non-combustion items and machines, and their accessories","Chipboard or OSB >90%","Strictly <0.5 kg","€ / unit",0.02,0.02,{"$f":"_xlfn.XLOOKUP(K1335,'Codes éco-part'!$C$6:$C$923,'Codes éco-part'!$B$6:$B$923)","v":"047"},0.02]
["DIY and gardening products EPR",3,"21101610210",null,"DIY products","Large non-electric, non-combustion items and machines, and their accessories","Chipboard or OSB >90%","≥0.5 kg and <1 kg","€ / unit",0.02,0.02,{"$f":"_xlfn.XLOOKUP(K1336,'Codes éco-part'!$C$6:$C$923,'Codes éco-part'!$B$6:$B$923)","v":"047"},0.02]
["DIY and gardening products EPR",3,"21101610211","Modulated","DIY products","Large non-electric, non-combustion items and machines, and their accessories","Chipboard or OSB >90%","≥0.5 kg and <1 kg","€ / unit",0.02,0.02,{"$f":"_xlfn.XLOOKUP(K1337,'Codes éco-part'!$C$6:$C$923,'Codes éco-part'!$B$6:$B$923)","v":"047"},0.02]
["DIY and gardening products EPR",3,"21101610220",null,"DIY products","Large non-electric, non-combustion items and machines, and their accessories","Chipboard or OSB >90%","≥1 kg and <2 kg","€ / unit",0.04,0.04,{"$f":"_xlfn.XLOOKUP(K1338,'Codes éco-part'!$C$6:$C$923,'Codes éco-part'!$B$6:$B$923)","v":"002"},0.05]
["DIY and gardening products EPR",3,"21101610221","Modulated","DIY products","Large non-electric, non-combustion items and machines, and their accessories","Chipboard or OSB >90%","≥1 kg and <2 kg","€ / unit",0.04,0.04,{"$f":"_xlfn.XLOOKUP(K1339,'Codes éco-part'!$C$6:$C$923,'Codes éco-part'!$B$6:$B$923)","v":"002"},0.05]
["DIY and gardening products EPR",3,"21101610270",null,"DIY products","Large non-electric, non-combustion items and machines, and their accessories","Chipboard or OSB >90%","≥30 kg and <40 kg","€ / unit",1.04,1.04,{"$f":"_xlfn.XLOOKUP(K1340,'Codes éco-part'!$C$6:$C$923,'Codes éco-part'!$B$6:$B$923)","v":"616"},1.25]
["DIY and gardening products EPR",3,"21101610271","Modulated","DIY products","Large non-electric, non-combustion items and machines, and their accessories","Chipboard or OSB >90%","≥30 kg and <40 kg","€ / unit",0.94,0.94,{"$f":"_xlfn.XLOOKUP(K1341,'Codes éco-part'!$C$6:$C$923,'Codes éco-part'!$B$6:$B$923)","v":"458"},1.1299999999999999]
["DIY and gardening products EPR",3,"21101610520",null,"DIY products","Large non-electric, non-combustion items and machines, and their accessories","Chipboard or OSB >90%","≥2 kg and <3 kg","€ / unit",0.06,0.06,{"$f":"_xlfn.XLOOKUP(K1342,'Codes éco-part'!$C$6:$C$923,'Codes éco-part'!$B$6:$B$923)","v":"096"},7.0000000000000007E-2]
["DIY and gardening products EPR",3,"21101610521","Modulated","DIY products","Large non-electric, non-combustion items and machines, and their accessories","Chipboard or OSB >90%","≥2 kg and <3 kg","€ / unit",0.05,0.05,{"$f":"_xlfn.XLOOKUP(K1343,'Codes éco-part'!$C$6:$C$923,'Codes éco-part'!$B$6:$B$923)","v":"048"},0.06]
["DIY and gardening products EPR",3,"21101610530",null,"DIY products","Large non-electric, non-combustion items and machines, and their accessories","Chipboard or OSB >90%","≥3 kg and <5 kg","€ / unit",0.1,0.1,{"$f":"_xlfn.XLOOKUP(K1344,'Codes éco-part'!$C$6:$C$923,'Codes éco-part'!$B$6:$B$923)","v":"094"},0.12]
["DIY and gardening products EPR",3,"21101610531","Modulated","DIY products","Large non-electric, non-combustion items and machines, and their accessories","Chipboard or OSB >90%","≥3 kg and <5 kg","€ / unit",0.09,0.09,{"$f":"_xlfn.XLOOKUP(K1345,'Codes éco-part'!$C$6:$C$923,'Codes éco-part'!$B$6:$B$923)","v":"049"},0.11]
["DIY and gardening products EPR",3,"21101610540",null,"DIY products","Large non-electric, non-combustion items and machines, and their accessories","Chipboard or OSB >90%","≥5 kg and <7 kg","€ / unit",0.18,0.18,{"$f":"_xlfn.XLOOKUP(K1346,'Codes éco-part'!$C$6:$C$923,'Codes éco-part'!$B$6:$B$923)","v":"100"},{"$f":"ROUND(K1346*1.2,2)","v":0.22}]
["DIY and gardening products EPR",3,"21101610541","Modulated","DIY products","Large non-electric, non-combustion items and machines, and their accessories","Chipboard or OSB >90%","≥5 kg and <7 kg","€ / unit",0.16,0.16,{"$f":"_xlfn.XLOOKUP(K1347,'Codes éco-part'!$C$6:$C$923,'Codes éco-part'!$B$6:$B$923)","v":"099"},0.19]
["DIY and gardening products EPR",3,"21101610550",null,"DIY products","Large non-electric, non-combustion items and machines, and their accessories","Chipboard or OSB >90%","≥7 kg and <10 kg","€ / unit",0.26,0.26,{"$f":"_xlfn.XLOOKUP(K1348,'Codes éco-part'!$C$6:$C$923,'Codes éco-part'!$B$6:$B$923)","v":"445"},0.31]
["DIY and gardening products EPR",3,"21101610551","Modulated","DIY products","Large non-electric, non-combustion items and machines, and their accessories","Chipboard or OSB >90%","≥7 kg and <10 kg","€ / unit",0.23,0.23,{"$f":"_xlfn.XLOOKUP(K1349,'Codes éco-part'!$C$6:$C$923,'Codes éco-part'!$B$6:$B$923)","v":"323"},0.28000000000000003]
["DIY and gardening products EPR",3,"21101610560",null,"DIY products","Large non-electric, non-combustion items and machines, and their accessories","Chipboard or OSB >90%","≥10 kg and <15 kg","€ / unit",0.4,0.4,{"$f":"_xlfn.XLOOKUP(K1350,'Codes éco-part'!$C$6:$C$923,'Codes éco-part'!$B$6:$B$923)","v":"105"},0.48]
["DIY and gardening products EPR",3,"21101610561","Modulated","DIY products","Large non-electric, non-combustion items and machines, and their accessories","Chipboard or OSB >90%","≥10 kg and <15 kg","€ / unit",0.36,0.36,{"$f":"_xlfn.XLOOKUP(K1351,'Codes éco-part'!$C$6:$C$923,'Codes éco-part'!$B$6:$B$923)","v":"449"},0.43]
["DIY and gardening products EPR",3,"21101610570",null,"DIY products","Large non-electric, non-combustion items and machines, and their accessories","Chipboard or OSB >90%","≥15 kg and <20 kg","€ / unit",0.52,0.52,{"$f":"_xlfn.XLOOKUP(K1352,'Codes éco-part'!$C$6:$C$923,'Codes éco-part'!$B$6:$B$923)","v":"509"},0.62]
["DIY and gardening products EPR",3,"21101610571","Modulated","DIY products","Large non-electric, non-combustion items and machines, and their accessories","Chipboard or OSB >90%","≥15 kg and <20 kg","€ / unit",0.47,0.47,{"$f":"_xlfn.XLOOKUP(K1353,'Codes éco-part'!$C$6:$C$923,'Codes éco-part'!$B$6:$B$923)","v":"107"},0.56000000000000005]
["DIY and gardening products EPR",3,"21101610580",null,"DIY products","Large non-electric, non-combustion items and machines, and their accessories","Chipboard or OSB >90%","≥20 kg and <25 kg","€ / unit",0.66,0.66,{"$f":"_xlfn.XLOOKUP(K1354,'Codes éco-part'!$C$6:$C$923,'Codes éco-part'!$B$6:$B$923)","v":"453"},0.79]
["DIY and gardening products EPR",3,"21101610581","Modulated","DIY products","Large non-electric, non-combustion items and machines, and their accessories","Chipboard or OSB >90%","≥20 kg and <25 kg","€ / unit",0.59,0.59,{"$f":"_xlfn.XLOOKUP(K1355,'Codes éco-part'!$C$6:$C$923,'Codes éco-part'!$B$6:$B$923)","v":"254"},0.71]
["DIY and gardening products EPR",3,"21101610590",null,"DIY products","Large non-electric, non-combustion items and machines, and their accessories","Chipboard or OSB >90%","≥25 kg and <30 kg","€ / unit",0.78,0.78,{"$f":"_xlfn.XLOOKUP(K1356,'Codes éco-part'!$C$6:$C$923,'Codes éco-part'!$B$6:$B$923)","v":"312"},0.94]
["DIY and gardening products EPR",3,"21101610591","Modulated","DIY products","Large non-electric, non-combustion items and machines, and their accessories","Chipboard or OSB >90%","≥25 kg and <30 kg","€ / unit",0.7,0.7,{"$f":"_xlfn.XLOOKUP(K1357,'Codes éco-part'!$C$6:$C$923,'Codes éco-part'!$B$6:$B$923)","v":"282"},0.84]
["DIY and gardening products EPR",3,"21101610600",null,"DIY products","Large non-electric, non-combustion items and machines, and their accessories","Chipboard or OSB >90%","≥40 kg and <50 kg","€ / unit",1.3,1.3,{"$f":"_xlfn.XLOOKUP(K1358,'Codes éco-part'!$C$6:$C$923,'Codes éco-part'!$B$6:$B$923)","v":"511"},1.56]
["DIY and gardening products EPR",3,"21101610601","Modulated","DIY products","Large non-electric, non-combustion items and machines, and their accessories","Chipboard or OSB >90%","≥40 kg and <50 kg","€ / unit",1.17,1.17,{"$f":"_xlfn.XLOOKUP(K1359,'Codes éco-part'!$C$6:$C$923,'Codes éco-part'!$B$6:$B$923)","v":"537"},1.4]
["DIY and gardening products EPR",3,"21101620000",null,"DIY products","Large non-electric, non-combustion items and machines, and their accessories","Wood derivatives >90%","Elements of all sizes and weights","€ / ton",13,13,{"$f":"_xlfn.XLOOKUP(K1360,'Codes éco-part'!$C$6:$C$923,'Codes éco-part'!$B$6:$B$923)","v":"486"},15.6]
["DIY and gardening products EPR",3,"21101620001","Modulated","DIY products","Large non-electric, non-combustion items and machines, and their accessories","Wood derivatives >90%","Elements of all sizes and weights","€ / ton",11.7,11.7,{"$f":"_xlfn.XLOOKUP(K1361,'Codes éco-part'!$C$6:$C$923,'Codes éco-part'!$B$6:$B$923)","v":945},14.04]
["DIY and gardening products EPR",3,"21101620200",null,"DIY products","Large non-electric, non-combustion items and machines, and their accessories","Wood derivatives >90%","Strictly <0.5 kg","€ / unit",0.01,0.01,{"$f":"_xlfn.XLOOKUP(K1362,'Codes éco-part'!$C$6:$C$923,'Codes éco-part'!$B$6:$B$923)","v":"260"},0.01]
["DIY and gardening products EPR",3,"21101620201","Modulated","DIY products","Large non-electric, non-combustion items and machines, and their accessories","Wood derivatives >90%","Strictly <0.5 kg","€ / unit",0.01,0.01,{"$f":"_xlfn.XLOOKUP(K1363,'Codes éco-part'!$C$6:$C$923,'Codes éco-part'!$B$6:$B$923)","v":"260"},0.01]
["DIY and gardening products EPR",3,"21101620210",null,"DIY products","Large non-electric, non-combustion items and machines, and their accessories","Wood derivatives >90%","≥0.5 kg and <1 kg","€ / unit",0.01,0.01,{"$f":"_xlfn.XLOOKUP(K1364,'Codes éco-part'!$C$6:$C$923,'Codes éco-part'!$B$6:$B$923)","v":"260"},0.01]
["DIY and gardening products EPR",3,"21101620211","Modulated","DIY products","Large non-electric, non-combustion items and machines, and their accessories","Wood derivatives >90%","≥0.5 kg and <1 kg","€ / unit",0.01,0.01,{"$f":"_xlfn.XLOOKUP(K1365,'Codes éco-part'!$C$6:$C$923,'Codes éco-part'!$B$6:$B$923)","v":"260"},0.01]
["DIY and gardening products EPR",3,"21101620220",null,"DIY products","Large non-electric, non-combustion items and machines, and their accessories","Wood derivatives >90%","≥1 kg and <2 kg","€ / unit",0.02,0.02,{"$f":"_xlfn.XLOOKUP(K1366,'Codes éco-part'!$C$6:$C$923,'Codes éco-part'!$B$6:$B$923)","v":"047"},0.02]
["DIY and gardening products EPR",3,"21101620221","Modulated","DIY products","Large non-electric, non-combustion items and machines, and their accessories","Wood derivatives >90%","≥1 kg and <2 kg","€ / unit",0.02,0.02,{"$f":"_xlfn.XLOOKUP(K1367,'Codes éco-part'!$C$6:$C$923,'Codes éco-part'!$B$6:$B$923)","v":"047"},0.02]
["DIY and gardening products EPR",3,"21101620270",null,"DIY products","Large non-electric, non-combustion items and machines, and their accessories","Wood derivatives >90%","≥30 kg and <40 kg","€ / unit",0.52,0.52,{"$f":"_xlfn.XLOOKUP(K1368,'Codes éco-part'!$C$6:$C$923,'Codes éco-part'!$B$6:$B$923)","v":"509"},0.62]
["DIY and gardening products EPR",3,"21101620271","Modulated","DIY products","Large non-electric, non-combustion items and machines, and their accessories","Wood derivatives >90%","≥30 kg and <40 kg","€ / unit",0.47,0.47,{"$f":"_xlfn.XLOOKUP(K1369,'Codes éco-part'!$C$6:$C$923,'Codes éco-part'!$B$6:$B$923)","v":"107"},0.56000000000000005]
["DIY and gardening products EPR",3,"21101620520",null,"DIY products","Large non-electric, non-combustion items and machines, and their accessories","Wood derivatives >90%","≥2 kg and <3 kg","€ / unit",0.03,0.03,{"$f":"_xlfn.XLOOKUP(K1370,'Codes éco-part'!$C$6:$C$923,'Codes éco-part'!$B$6:$B$923)","v":"092"},0.04]
["DIY and gardening products EPR",3,"21101620521","Modulated","DIY products","Large non-electric, non-combustion items and machines, and their accessories","Wood derivatives >90%","≥2 kg and <3 kg","€ / unit",0.03,0.03,{"$f":"_xlfn.XLOOKUP(K1371,'Codes éco-part'!$C$6:$C$923,'Codes éco-part'!$B$6:$B$923)","v":"092"},0.04]
["DIY and gardening products EPR",3,"21101620530",null,"DIY products","Large non-electric, non-combustion items and machines, and their accessories","Wood derivatives >90%","≥3 kg and <5 kg","€ / unit",0.05,0.05,{"$f":"_xlfn.XLOOKUP(K1372,'Codes éco-part'!$C$6:$C$923,'Codes éco-part'!$B$6:$B$923)","v":"048"},0.06]
["DIY and gardening products EPR",3,"21101620531","Modulated","DIY products","Large non-electric, non-combustion items and machines, and their accessories","Wood derivatives >90%","≥3 kg and <5 kg","€ / unit",0.05,0.05,{"$f":"_xlfn.XLOOKUP(K1373,'Codes éco-part'!$C$6:$C$923,'Codes éco-part'!$B$6:$B$923)","v":"048"},0.06]
["DIY and gardening products EPR",3,"21101620540",null,"DIY products","Large non-electric, non-combustion items and machines, and their accessories","Wood derivatives >90%","≥5 kg and <7 kg","€ / unit",0.09,0.09,{"$f":"_xlfn.XLOOKUP(K1374,'Codes éco-part'!$C$6:$C$923,'Codes éco-part'!$B$6:$B$923)","v":"049"},0.11]
["DIY and gardening products EPR",3,"21101620541","Modulated","DIY products","Large non-electric, non-combustion items and machines, and their accessories","Wood derivatives >90%","≥5 kg and <7 kg","€ / unit",0.08,0.08,{"$f":"_xlfn.XLOOKUP(K1375,'Codes éco-part'!$C$6:$C$923,'Codes éco-part'!$B$6:$B$923)","v":"003"},0.1]
["DIY and gardening products EPR",3,"21101620550",null,"DIY products","Large non-electric, non-combustion items and machines, and their accessories","Wood derivatives >90%","≥7 kg and <10 kg","€ / unit",0.13,0.13,{"$f":"_xlfn.XLOOKUP(K1376,'Codes éco-part'!$C$6:$C$923,'Codes éco-part'!$B$6:$B$923)","v":"004"},0.16]
["DIY and gardening products EPR",3,"21101620551","Modulated","DIY products","Large non-electric, non-combustion items and machines, and their accessories","Wood derivatives >90%","≥7 kg and <10 kg","€ / unit",0.12,0.12,{"$f":"_xlfn.XLOOKUP(K1377,'Codes éco-part'!$C$6:$C$923,'Codes éco-part'!$B$6:$B$923)","v":"097"},0.14000000000000001]
["DIY and gardening products EPR",3,"21101620560",null,"DIY products","Large non-electric, non-combustion items and machines, and their accessories","Wood derivatives >90%","≥10 kg and <15 kg","€ / unit",0.2,0.2,{"$f":"_xlfn.XLOOKUP(K1378,'Codes éco-part'!$C$6:$C$923,'Codes éco-part'!$B$6:$B$923)","v":"101"},0.24]
["DIY and gardening products EPR",3,"21101620561","Modulated","DIY products","Large non-electric, non-combustion items and machines, and their accessories","Wood derivatives >90%","≥10 kg and <15 kg","€ / unit",0.18,0.18,{"$f":"_xlfn.XLOOKUP(K1379,'Codes éco-part'!$C$6:$C$923,'Codes éco-part'!$B$6:$B$923)","v":"100"},0.22]
["DIY and gardening products EPR",3,"21101620570",null,"DIY products","Large non-electric, non-combustion items and machines, and their accessories","Wood derivatives >90%","≥15 kg and <20 kg","€ / unit",0.26,0.26,{"$f":"_xlfn.XLOOKUP(K1380,'Codes éco-part'!$C$6:$C$923,'Codes éco-part'!$B$6:$B$923)","v":"445"},0.31]
["DIY and gardening products EPR",3,"21101620571","Modulated","DIY products","Large non-electric, non-combustion items and machines, and their accessories","Wood derivatives >90%","≥15 kg and <20 kg","€ / unit",0.23,0.23,{"$f":"_xlfn.XLOOKUP(K1381,'Codes éco-part'!$C$6:$C$923,'Codes éco-part'!$B$6:$B$923)","v":"323"},0.28000000000000003]
["DIY and gardening products EPR",3,"21101620580",null,"DIY products","Large non-electric, non-combustion items and machines, and their accessories","Wood derivatives >90%","≥20 kg and <25 kg","€ / unit",0.33,0.33,{"$f":"_xlfn.XLOOKUP(K1382,'Codes éco-part'!$C$6:$C$923,'Codes éco-part'!$B$6:$B$923)","v":"006"},0.4]
["DIY and gardening products EPR",3,"21101620581","Modulated","DIY products","Large non-electric, non-combustion items and machines, and their accessories","Wood derivatives >90%","≥20 kg and <25 kg","€ / unit",0.3,0.3,{"$f":"_xlfn.XLOOKUP(K1383,'Codes éco-part'!$C$6:$C$923,'Codes éco-part'!$B$6:$B$923)","v":"446"},0.36]
["DIY and gardening products EPR",3,"21101620590",null,"DIY products","Large non-electric, non-combustion items and machines, and their accessories","Wood derivatives >90%","≥25 kg and <30 kg","€ / unit",0.39,0.39,{"$f":"_xlfn.XLOOKUP(K1384,'Codes éco-part'!$C$6:$C$923,'Codes éco-part'!$B$6:$B$923)","v":"253"},0.47]
["DIY and gardening products EPR",3,"21101620591","Modulated","DIY products","Large non-electric, non-combustion items and machines, and their accessories","Wood derivatives >90%","≥25 kg and <30 kg","€ / unit",0.35,0.35,{"$f":"_xlfn.XLOOKUP(K1385,'Codes éco-part'!$C$6:$C$923,'Codes éco-part'!$B$6:$B$923)","v":"448"},0.42]
["DIY and gardening products EPR",3,"21101620600",null,"DIY products","Large non-electric, non-combustion items and machines, and their accessories","Wood derivatives >90%","≥40 kg and <50 kg","€ / unit",0.65,0.65,{"$f":"_xlfn.XLOOKUP(K1386,'Codes éco-part'!$C$6:$C$923,'Codes éco-part'!$B$6:$B$923)","v":"613"},0.78]
["DIY and gardening products EPR",3,"21101620601","Modulated","DIY products","Large non-electric, non-combustion items and machines, and their accessories","Wood derivatives >90%","≥40 kg and <50 kg","€ / unit",0.59,0.59,{"$f":"_xlfn.XLOOKUP(K1387,'Codes éco-part'!$C$6:$C$923,'Codes éco-part'!$B$6:$B$923)","v":"254"},0.71]
["DIY and gardening products EPR",3,"21101630000",null,"DIY products","Large non-electric, non-combustion items and machines, and their accessories","Natural rubber >90%","Elements of all sizes and weights","€ / ton",40,40,{"$f":"_xlfn.XLOOKUP(K1388,'Codes éco-part'!$C$6:$C$923,'Codes éco-part'!$B$6:$B$923)","v":"029"},48]
["DIY and gardening products EPR",3,"21101630001","Modulated","DIY products","Large non-electric, non-combustion items and machines, and their accessories","Natural rubber >90%","Elements of all sizes and weights","€ / ton",36,36,{"$f":"_xlfn.XLOOKUP(K1389,'Codes éco-part'!$C$6:$C$923,'Codes éco-part'!$B$6:$B$923)","v":"556"},43.2]
["DIY and gardening products EPR",3,"21101630200",null,"DIY products","Large non-electric, non-combustion items and machines, and their accessories","Natural rubber >90%","Strictly <0.5 kg","€ / unit",0.01,0.01,{"$f":"_xlfn.XLOOKUP(K1390,'Codes éco-part'!$C$6:$C$923,'Codes éco-part'!$B$6:$B$923)","v":"260"},0.01]
["DIY and gardening products EPR",3,"21101630201","Modulated","DIY products","Large non-electric, non-combustion items and machines, and their accessories","Natural rubber >90%","Strictly <0.5 kg","€ / unit",0.01,0.01,{"$f":"_xlfn.XLOOKUP(K1391,'Codes éco-part'!$C$6:$C$923,'Codes éco-part'!$B$6:$B$923)","v":"260"},0.01]
["DIY and gardening products EPR",3,"21101630210",null,"DIY products","Large non-electric, non-combustion items and machines, and their accessories","Natural rubber >90%","≥0.5 kg and <1 kg","€ / unit",0.03,0.03,{"$f":"_xlfn.XLOOKUP(K1392,'Codes éco-part'!$C$6:$C$923,'Codes éco-part'!$B$6:$B$923)","v":"092"},0.04]
["DIY and gardening products EPR",3,"21101630211","Modulated","DIY products","Large non-electric, non-combustion items and machines, and their accessories","Natural rubber >90%","≥0.5 kg and <1 kg","€ / unit",0.03,0.03,{"$f":"_xlfn.XLOOKUP(K1393,'Codes éco-part'!$C$6:$C$923,'Codes éco-part'!$B$6:$B$923)","v":"092"},0.04]
["DIY and gardening products EPR",3,"21101630220",null,"DIY products","Large non-electric, non-combustion items and machines, and their accessories","Natural rubber >90%","≥1 kg and <2 kg","€ / unit",0.06,0.06,{"$f":"_xlfn.XLOOKUP(K1394,'Codes éco-part'!$C$6:$C$923,'Codes éco-part'!$B$6:$B$923)","v":"096"},7.0000000000000007E-2]
["DIY and gardening products EPR",3,"21101630221","Modulated","DIY products","Large non-electric, non-combustion items and machines, and their accessories","Natural rubber >90%","≥1 kg and <2 kg","€ / unit",0.05,0.05,{"$f":"_xlfn.XLOOKUP(K1395,'Codes éco-part'!$C$6:$C$923,'Codes éco-part'!$B$6:$B$923)","v":"048"},0.06]
["DIY and gardening products EPR",3,"21101630270",null,"DIY products","Large non-electric, non-combustion items and machines, and their accessories","Natural rubber >90%","≥30 kg and <40 kg","€ / unit",1.6,1.6,{"$f":"_xlfn.XLOOKUP(K1396,'Codes éco-part'!$C$6:$C$923,'Codes éco-part'!$B$6:$B$923)","v":"595"},1.92]
["DIY and gardening products EPR",3,"21101630271","Modulated","DIY products","Large non-electric, non-combustion items and machines, and their accessories","Natural rubber >90%","≥30 kg and <40 kg","€ / unit",1.44,1.44,{"$f":"_xlfn.XLOOKUP(K1397,'Codes éco-part'!$C$6:$C$923,'Codes éco-part'!$B$6:$B$923)","v":"566"},1.73]
["DIY and gardening products EPR",3,"21101630520",null,"DIY products","Large non-electric, non-combustion items and machines, and their accessories","Natural rubber >90%","≥2 kg and <3 kg","€ / unit",0.1,0.1,{"$f":"_xlfn.XLOOKUP(K1398,'Codes éco-part'!$C$6:$C$923,'Codes éco-part'!$B$6:$B$923)","v":"094"},0.12]
["DIY and gardening products EPR",3,"21101630521","Modulated","DIY products","Large non-electric, non-combustion items and machines, and their accessories","Natural rubber >90%","≥2 kg and <3 kg","€ / unit",0.09,0.09,{"$f":"_xlfn.XLOOKUP(K1399,'Codes éco-part'!$C$6:$C$923,'Codes éco-part'!$B$6:$B$923)","v":"049"},0.11]
["DIY and gardening products EPR",3,"21101630530",null,"DIY products","Large non-electric, non-combustion items and machines, and their accessories","Natural rubber >90%","≥3 kg and <5 kg","€ / unit",0.16,0.16,{"$f":"_xlfn.XLOOKUP(K1400,'Codes éco-part'!$C$6:$C$923,'Codes éco-part'!$B$6:$B$923)","v":"099"},0.19]
["DIY and gardening products EPR",3,"21101630531","Modulated","DIY products","Large non-electric, non-combustion items and machines, and their accessories","Natural rubber >90%","≥3 kg and <5 kg","€ / unit",0.14000000000000001,0.14000000000000001,{"$f":"_xlfn.XLOOKUP(K1401,'Codes éco-part'!$C$6:$C$923,'Codes éco-part'!$B$6:$B$923)","v":"098"},0.17]
["DIY and gardening products EPR",3,"21101630540",null,"DIY products","Large non-electric, non-combustion items and machines, and their accessories","Natural rubber >90%","≥5 kg and <7 kg","€ / unit",0.28000000000000003,0.28000000000000003,{"$f":"_xlfn.XLOOKUP(K1402,'Codes éco-part'!$C$6:$C$923,'Codes éco-part'!$B$6:$B$923)","v":"542"},0.34]
["DIY and gardening products EPR",3,"21101630541","Modulated","DIY products","Large non-electric, non-combustion items and machines, and their accessories","Natural rubber >90%","≥5 kg and <7 kg","€ / unit",0.25,0.25,{"$f":"_xlfn.XLOOKUP(K1403,'Codes éco-part'!$C$6:$C$923,'Codes éco-part'!$B$6:$B$923)","v":"095"},0.3]
["DIY and gardening products EPR",3,"21101630550",null,"DIY products","Large non-electric, non-combustion items and machines, and their accessories","Natural rubber >90%","≥7 kg and <10 kg","€ / unit",0.4,0.4,{"$f":"_xlfn.XLOOKUP(K1404,'Codes éco-part'!$C$6:$C$923,'Codes éco-part'!$B$6:$B$923)","v":"105"},0.48]
["DIY and gardening products EPR",3,"21101630551","Modulated","DIY products","Large non-electric, non-combustion items and machines, and their accessories","Natural rubber >90%","≥7 kg and <10 kg","€ / unit",0.36,0.36,{"$f":"_xlfn.XLOOKUP(K1405,'Codes éco-part'!$C$6:$C$923,'Codes éco-part'!$B$6:$B$923)","v":"449"},0.43]
["DIY and gardening products EPR",3,"21101630560",null,"DIY products","Large non-electric, non-combustion items and machines, and their accessories","Natural rubber >90%","≥10 kg and <15 kg","€ / unit",0.6,0.6,{"$f":"_xlfn.XLOOKUP(K1406,'Codes éco-part'!$C$6:$C$923,'Codes éco-part'!$B$6:$B$923)","v":"327"},0.72]
["DIY and gardening products EPR",3,"21101630561","Modulated","DIY products","Large non-electric, non-combustion items and machines, and their accessories","Natural rubber >90%","≥10 kg and <15 kg","€ / unit",0.54,0.54,{"$f":"_xlfn.XLOOKUP(K1407,'Codes éco-part'!$C$6:$C$923,'Codes éco-part'!$B$6:$B$923)","v":"500"},0.65]
["DIY and gardening products EPR",3,"21101630570",null,"DIY products","Large non-electric, non-combustion items and machines, and their accessories","Natural rubber >90%","≥15 kg and <20 kg","€ / unit",0.8,0.8,{"$f":"_xlfn.XLOOKUP(K1408,'Codes éco-part'!$C$6:$C$923,'Codes éco-part'!$B$6:$B$923)","v":"456"},0.96]
["DIY and gardening products EPR",3,"21101630571","Modulated","DIY products","Large non-electric, non-combustion items and machines, and their accessories","Natural rubber >90%","≥15 kg and <20 kg","€ / unit",0.72,0.72,{"$f":"_xlfn.XLOOKUP(K1409,'Codes éco-part'!$C$6:$C$923,'Codes éco-part'!$B$6:$B$923)","v":"454"},0.86]
["DIY and gardening products EPR",3,"21101630580",null,"DIY products","Large non-electric, non-combustion items and machines, and their accessories","Natural rubber >90%","≥20 kg and <25 kg","€ / unit",1,1,{"$f":"_xlfn.XLOOKUP(K1410,'Codes éco-part'!$C$6:$C$923,'Codes éco-part'!$B$6:$B$923)","v":"056"},{"$f":"ROUND(K1410*1.2,2)","v":1.2}]
["DIY and gardening products EPR",3,"21101630581","Modulated","DIY products","Large non-electric, non-combustion items and machines, and their accessories","Natural rubber >90%","≥20 kg and <25 kg","€ / unit",0.9,0.9,{"$f":"_xlfn.XLOOKUP(K1411,'Codes éco-part'!$C$6:$C$923,'Codes éco-part'!$B$6:$B$923)","v":"330"},1.08]
["DIY and gardening products EPR",3,"21101630590",null,"DIY products","Large non-electric, non-combustion items and machines, and their accessories","Natural rubber >90%","≥25 kg and <30 kg","€ / unit",1.2,1.2,{"$f":"_xlfn.XLOOKUP(K1412,'Codes éco-part'!$C$6:$C$923,'Codes éco-part'!$B$6:$B$923)","v":"505"},1.44]
["DIY and gardening products EPR",3,"21101630591","Modulated","DIY products","Large non-electric, non-combustion items and machines, and their accessories","Natural rubber >90%","≥25 kg and <30 kg","€ / unit",1.08,1.08,{"$f":"_xlfn.XLOOKUP(K1413,'Codes éco-part'!$C$6:$C$923,'Codes éco-part'!$B$6:$B$923)","v":"113"},1.3]
["DIY and gardening products EPR",3,"21101630600",null,"DIY products","Large non-electric, non-combustion items and machines, and their accessories","Natural rubber >90%","≥40 kg and <50 kg","€ / unit",2,2,{"$f":"_xlfn.XLOOKUP(K1414,'Codes éco-part'!$C$6:$C$923,'Codes éco-part'!$B$6:$B$923)","v":"061"},2.4]
["DIY and gardening products EPR",3,"21101630601","Modulated","DIY products","Large non-electric, non-combustion items and machines, and their accessories","Natural rubber >90%","≥40 kg and <50 kg","€ / unit",1.8,1.8,{"$f":"_xlfn.XLOOKUP(K1415,'Codes éco-part'!$C$6:$C$923,'Codes éco-part'!$B$6:$B$923)","v":"603"},2.16]
["DIY and gardening products EPR",3,"21101640000",null,"DIY products","Large non-electric, non-combustion items and machines, and their accessories","Natural rubber >50%","Elements of all sizes and weights","€ / ton",90,90,{"$f":"_xlfn.XLOOKUP(K1416,'Codes éco-part'!$C$6:$C$923,'Codes éco-part'!$B$6:$B$923)","v":"609"},108]
["DIY and gardening products EPR",3,"21101640001","Modulated","DIY products","Large non-electric, non-combustion items and machines, and their accessories","Natural rubber >50%","Elements of all sizes and weights","€ / ton",81,81,{"$f":"_xlfn.XLOOKUP(K1417,'Codes éco-part'!$C$6:$C$923,'Codes éco-part'!$B$6:$B$923)","v":943},97.2]
["DIY and gardening products EPR",3,"21101640200",null,"DIY products","Large non-electric, non-combustion items and machines, and their accessories","Natural rubber >50%","Strictly <0.5 kg","€ / unit",0.02,0.02,{"$f":"_xlfn.XLOOKUP(K1418,'Codes éco-part'!$C$6:$C$923,'Codes éco-part'!$B$6:$B$923)","v":"047"},0.02]
["DIY and gardening products EPR",3,"21101640201","Modulated","DIY products","Large non-electric, non-combustion items and machines, and their accessories","Natural rubber >50%","Strictly <0.5 kg","€ / unit",0.02,0.02,{"$f":"_xlfn.XLOOKUP(K1419,'Codes éco-part'!$C$6:$C$923,'Codes éco-part'!$B$6:$B$923)","v":"047"},0.02]
["DIY and gardening products EPR",3,"21101640210",null,"DIY products","Large non-electric, non-combustion items and machines, and their accessories","Natural rubber >50%","≥0.5 kg and <1 kg","€ / unit",7.0000000000000007E-2,7.0000000000000007E-2,{"$f":"_xlfn.XLOOKUP(K1420,'Codes éco-part'!$C$6:$C$923,'Codes éco-part'!$B$6:$B$923)","v":"247"},0.08]
["DIY and gardening products EPR",3,"21101640211","Modulated","DIY products","Large non-electric, non-combustion items and machines, and their accessories","Natural rubber >50%","≥0.5 kg and <1 kg","€ / unit",0.06,0.06,{"$f":"_xlfn.XLOOKUP(K1421,'Codes éco-part'!$C$6:$C$923,'Codes éco-part'!$B$6:$B$923)","v":"096"},7.0000000000000007E-2]
["DIY and gardening products EPR",3,"21101640220",null,"DIY products","Large non-electric, non-combustion items and machines, and their accessories","Natural rubber >50%","≥1 kg and <2 kg","€ / unit",0.14000000000000001,0.14000000000000001,{"$f":"_xlfn.XLOOKUP(K1422,'Codes éco-part'!$C$6:$C$923,'Codes éco-part'!$B$6:$B$923)","v":"098"},0.17]
["DIY and gardening products EPR",3,"21101640221","Modulated","DIY products","Large non-electric, non-combustion items and machines, and their accessories","Natural rubber >50%","≥1 kg and <2 kg","€ / unit",0.13,0.13,{"$f":"_xlfn.XLOOKUP(K1423,'Codes éco-part'!$C$6:$C$923,'Codes éco-part'!$B$6:$B$923)","v":"004"},0.16]
["DIY and gardening products EPR",3,"21101640270",null,"DIY products","Large non-electric, non-combustion items and machines, and their accessories","Natural rubber >50%","≥30 kg and <40 kg","€ / unit",3.6,3.6,{"$f":"_xlfn.XLOOKUP(K1424,'Codes éco-part'!$C$6:$C$923,'Codes éco-part'!$B$6:$B$923)","v":"610"},4.32]
["DIY and gardening products EPR",3,"21101640271","Modulated","DIY products","Large non-electric, non-combustion items and machines, and their accessories","Natural rubber >50%","≥30 kg and <40 kg","€ / unit",3.24,3.24,{"$f":"_xlfn.XLOOKUP(K1425,'Codes éco-part'!$C$6:$C$923,'Codes éco-part'!$B$6:$B$923)","v":944},3.89]
["DIY and gardening products EPR",3,"21101640520",null,"DIY products","Large non-electric, non-combustion items and machines, and their accessories","Natural rubber >50%","≥2 kg and <3 kg","€ / unit",0.23,0.23,{"$f":"_xlfn.XLOOKUP(K1426,'Codes éco-part'!$C$6:$C$923,'Codes éco-part'!$B$6:$B$923)","v":"323"},0.28000000000000003]
["DIY and gardening products EPR",3,"21101640521","Modulated","DIY products","Large non-electric, non-combustion items and machines, and their accessories","Natural rubber >50%","≥2 kg and <3 kg","€ / unit",0.21,0.21,{"$f":"_xlfn.XLOOKUP(K1427,'Codes éco-part'!$C$6:$C$923,'Codes éco-part'!$B$6:$B$923)","v":"051"},0.25]
["DIY and gardening products EPR",3,"21101640530",null,"DIY products","Large non-electric, non-combustion items and machines, and their accessories","Natural rubber >50%","≥3 kg and <5 kg","€ / unit",0.36,0.36,{"$f":"_xlfn.XLOOKUP(K1428,'Codes éco-part'!$C$6:$C$923,'Codes éco-part'!$B$6:$B$923)","v":"449"},0.43]
["DIY and gardening products EPR",3,"21101640531","Modulated","DIY products","Large non-electric, non-combustion items and machines, and their accessories","Natural rubber >50%","≥3 kg and <5 kg","€ / unit",0.32,0.32,{"$f":"_xlfn.XLOOKUP(K1429,'Codes éco-part'!$C$6:$C$923,'Codes éco-part'!$B$6:$B$923)","v":"447"},0.38]
["DIY and gardening products EPR",3,"21101640540",null,"DIY products","Large non-electric, non-combustion items and machines, and their accessories","Natural rubber >50%","≥5 kg and <7 kg","€ / unit",0.63,0.63,{"$f":"_xlfn.XLOOKUP(K1430,'Codes éco-part'!$C$6:$C$923,'Codes éco-part'!$B$6:$B$923)","v":"297"},0.76]
["DIY and gardening products EPR",3,"21101640541","Modulated","DIY products","Large non-electric, non-combustion items and machines, and their accessories","Natural rubber >50%","≥5 kg and <7 kg","€ / unit",0.56999999999999995,0.56999999999999995,{"$f":"_xlfn.XLOOKUP(K1431,'Codes éco-part'!$C$6:$C$923,'Codes éco-part'!$B$6:$B$923)","v":"326"},0.68]
["DIY and gardening products EPR",3,"21101640550",null,"DIY products","Large non-electric, non-combustion items and machines, and their accessories","Natural rubber >50%","≥7 kg and <10 kg","€ / unit",0.9,0.9,{"$f":"_xlfn.XLOOKUP(K1432,'Codes éco-part'!$C$6:$C$923,'Codes éco-part'!$B$6:$B$923)","v":"330"},1.08]
["DIY and gardening products EPR",3,"21101640551","Modulated","DIY products","Large non-electric, non-combustion items and machines, and their accessories","Natural rubber >50%","≥7 kg and <10 kg","€ / unit",0.81,0.81,{"$f":"_xlfn.XLOOKUP(K1433,'Codes éco-part'!$C$6:$C$923,'Codes éco-part'!$B$6:$B$923)","v":"112"},0.97]
["DIY and gardening products EPR",3,"21101640560",null,"DIY products","Large non-electric, non-combustion items and machines, and their accessories","Natural rubber >50%","≥10 kg and <15 kg","€ / unit",1.35,1.35,{"$f":"_xlfn.XLOOKUP(K1434,'Codes éco-part'!$C$6:$C$923,'Codes éco-part'!$B$6:$B$923)","v":"332"},1.62]
["DIY and gardening products EPR",3,"21101640561","Modulated","DIY products","Large non-electric, non-combustion items and machines, and their accessories","Natural rubber >50%","≥10 kg and <15 kg","€ / unit",1.22,1.22,{"$f":"_xlfn.XLOOKUP(K1435,'Codes éco-part'!$C$6:$C$923,'Codes éco-part'!$B$6:$B$923)","v":"636"},1.46]
["DIY and gardening products EPR",3,"21101640570",null,"DIY products","Large non-electric, non-combustion items and machines, and their accessories","Natural rubber >50%","≥15 kg and <20 kg","€ / unit",1.8,1.8,{"$f":"_xlfn.XLOOKUP(K1436,'Codes éco-part'!$C$6:$C$923,'Codes éco-part'!$B$6:$B$923)","v":"603"},2.16]
["DIY and gardening products EPR",3,"21101640571","Modulated","DIY products","Large non-electric, non-combustion items and machines, and their accessories","Natural rubber >50%","≥15 kg and <20 kg","€ / unit",1.62,1.62,{"$f":"_xlfn.XLOOKUP(K1437,'Codes éco-part'!$C$6:$C$923,'Codes éco-part'!$B$6:$B$923)","v":"810"},1.94]
["DIY and gardening products EPR",3,"21101640580",null,"DIY products","Large non-electric, non-combustion items and machines, and their accessories","Natural rubber >50%","≥20 kg and <25 kg","€ / unit",2.25,2.25,{"$f":"_xlfn.XLOOKUP(K1438,'Codes éco-part'!$C$6:$C$923,'Codes éco-part'!$B$6:$B$923)","v":"118"},2.7]
["DIY and gardening products EPR",3,"21101640581","Modulated","DIY products","Large non-electric, non-combustion items and machines, and their accessories","Natural rubber >50%","≥20 kg and <25 kg","€ / unit",2.0299999999999998,2.0299999999999998,{"$f":"_xlfn.XLOOKUP(K1439,'Codes éco-part'!$C$6:$C$923,'Codes éco-part'!$B$6:$B$923)","v":937},2.44]
["DIY and gardening products EPR",3,"21101640590",null,"DIY products","Large non-electric, non-combustion items and machines, and their accessories","Natural rubber >50%","≥25 kg and <30 kg","€ / unit",2.7,2.7,{"$f":"_xlfn.XLOOKUP(K1440,'Codes éco-part'!$C$6:$C$923,'Codes éco-part'!$B$6:$B$923)","v":"611"},3.24]
["DIY and gardening products EPR",3,"21101640591","Modulated","DIY products","Large non-electric, non-combustion items and machines, and their accessories","Natural rubber >50%","≥25 kg and <30 kg","€ / unit",2.4300000000000002,2.4300000000000002,{"$f":"_xlfn.XLOOKUP(K1441,'Codes éco-part'!$C$6:$C$923,'Codes éco-part'!$B$6:$B$923)","v":"471"},2.92]
["DIY and gardening products EPR",3,"21101640600",null,"DIY products","Large non-electric, non-combustion items and machines, and their accessories","Natural rubber >50%","≥40 kg and <50 kg","€ / unit",4.5,4.5,{"$f":"_xlfn.XLOOKUP(K1442,'Codes éco-part'!$C$6:$C$923,'Codes éco-part'!$B$6:$B$923)","v":"127"},5.4]
["DIY and gardening products EPR",3,"21101640601","Modulated","DIY products","Large non-electric, non-combustion items and machines, and their accessories","Natural rubber >50%","≥40 kg and <50 kg","€ / unit",4.05,4.05,{"$f":"_xlfn.XLOOKUP(K1443,'Codes éco-part'!$C$6:$C$923,'Codes éco-part'!$B$6:$B$923)","v":"884"},4.8600000000000003]
["DIY and gardening products EPR",3,"21101650000",null,"DIY products","Large non-electric, non-combustion items and machines, and their accessories","Synthetic fibres or materials >90%","Elements of all sizes and weights","€ / ton",60,60,{"$f":"_xlfn.XLOOKUP(K1444,'Codes éco-part'!$C$6:$C$923,'Codes éco-part'!$B$6:$B$923)","v":"180"},72]
["DIY and gardening products EPR",3,"21101650001","Modulated","DIY products","Large non-electric, non-combustion items and machines, and their accessories","Synthetic fibres or materials >90%","Elements of all sizes and weights","€ / ton",54,54,{"$f":"_xlfn.XLOOKUP(K1445,'Codes éco-part'!$C$6:$C$923,'Codes éco-part'!$B$6:$B$923)","v":947},64.8]
["DIY and gardening products EPR",3,"21101650200",null,"DIY products","Large non-electric, non-combustion items and machines, and their accessories","Synthetic fibres or materials >90%","Strictly <0.5 kg","€ / unit",0.02,0.02,{"$f":"_xlfn.XLOOKUP(K1446,'Codes éco-part'!$C$6:$C$923,'Codes éco-part'!$B$6:$B$923)","v":"047"},0.02]
["DIY and gardening products EPR",3,"21101650201","Modulated","DIY products","Large non-electric, non-combustion items and machines, and their accessories","Synthetic fibres or materials >90%","Strictly <0.5 kg","€ / unit",0.02,0.02,{"$f":"_xlfn.XLOOKUP(K1447,'Codes éco-part'!$C$6:$C$923,'Codes éco-part'!$B$6:$B$923)","v":"047"},0.02]
["DIY and gardening products EPR",3,"21101650210",null,"DIY products","Large non-electric, non-combustion items and machines, and their accessories","Synthetic fibres or materials >90%","≥0.5 kg and <1 kg","€ / unit",0.05,0.05,{"$f":"_xlfn.XLOOKUP(K1448,'Codes éco-part'!$C$6:$C$923,'Codes éco-part'!$B$6:$B$923)","v":"048"},0.06]
["DIY and gardening products EPR",3,"21101650211","Modulated","DIY products","Large non-electric, non-combustion items and machines, and their accessories","Synthetic fibres or materials >90%","≥0.5 kg and <1 kg","€ / unit",0.05,0.05,{"$f":"_xlfn.XLOOKUP(K1449,'Codes éco-part'!$C$6:$C$923,'Codes éco-part'!$B$6:$B$923)","v":"048"},0.06]
["DIY and gardening products EPR",3,"21101650220",null,"DIY products","Large non-electric, non-combustion items and machines, and their accessories","Synthetic fibres or materials >90%","≥1 kg and <2 kg","€ / unit",0.09,0.09,{"$f":"_xlfn.XLOOKUP(K1450,'Codes éco-part'!$C$6:$C$923,'Codes éco-part'!$B$6:$B$923)","v":"049"},0.11]
["DIY and gardening products EPR",3,"21101650221","Modulated","DIY products","Large non-electric, non-combustion items and machines, and their accessories","Synthetic fibres or materials >90%","≥1 kg and <2 kg","€ / unit",0.08,0.08,{"$f":"_xlfn.XLOOKUP(K1451,'Codes éco-part'!$C$6:$C$923,'Codes éco-part'!$B$6:$B$923)","v":"003"},0.1]
["DIY and gardening products EPR",3,"21101650270",null,"DIY products","Large non-electric, non-combustion items and machines, and their accessories","Synthetic fibres or materials >90%","≥30 kg and <40 kg","€ / unit",2.4,2.4,{"$f":"_xlfn.XLOOKUP(K1452,'Codes éco-part'!$C$6:$C$923,'Codes éco-part'!$B$6:$B$923)","v":"602"},2.88]
["DIY and gardening products EPR",3,"21101650271","Modulated","DIY products","Large non-electric, non-combustion items and machines, and their accessories","Synthetic fibres or materials >90%","≥30 kg and <40 kg","€ / unit",2.16,2.16,{"$f":"_xlfn.XLOOKUP(K1453,'Codes éco-part'!$C$6:$C$923,'Codes éco-part'!$B$6:$B$923)","v":"622"},2.59]
["DIY and gardening products EPR",3,"21101650520",null,"DIY products","Large non-electric, non-combustion items and machines, and their accessories","Synthetic fibres or materials >90%","≥2 kg and <3 kg","€ / unit",0.15,0.15,{"$f":"_xlfn.XLOOKUP(K1454,'Codes éco-part'!$C$6:$C$923,'Codes éco-part'!$B$6:$B$923)","v":"050"},0.18]
["DIY and gardening products EPR",3,"21101650521","Modulated","DIY products","Large non-electric, non-combustion items and machines, and their accessories","Synthetic fibres or materials >90%","≥2 kg and <3 kg","€ / unit",0.14000000000000001,0.14000000000000001,{"$f":"_xlfn.XLOOKUP(K1455,'Codes éco-part'!$C$6:$C$923,'Codes éco-part'!$B$6:$B$923)","v":"098"},0.17]
["DIY and gardening products EPR",3,"21101650530",null,"DIY products","Large non-electric, non-combustion items and machines, and their accessories","Synthetic fibres or materials >90%","≥3 kg and <5 kg","€ / unit",0.24,0.24,{"$f":"_xlfn.XLOOKUP(K1456,'Codes éco-part'!$C$6:$C$923,'Codes éco-part'!$B$6:$B$923)","v":"248"},0.28999999999999998]
["DIY and gardening products EPR",3,"21101650531","Modulated","DIY products","Large non-electric, non-combustion items and machines, and their accessories","Synthetic fibres or materials >90%","≥3 kg and <5 kg","€ / unit",0.22,0.22,{"$f":"_xlfn.XLOOKUP(K1457,'Codes éco-part'!$C$6:$C$923,'Codes éco-part'!$B$6:$B$923)","v":"263"},0.26]
["DIY and gardening products EPR",3,"21101650540",null,"DIY products","Large non-electric, non-combustion items and machines, and their accessories","Synthetic fibres or materials >90%","≥5 kg and <7 kg","€ / unit",0.42,0.42,{"$f":"_xlfn.XLOOKUP(K1458,'Codes éco-part'!$C$6:$C$923,'Codes éco-part'!$B$6:$B$923)","v":"450"},0.5]
["DIY and gardening products EPR",3,"21101650541","Modulated","DIY products","Large non-electric, non-combustion items and machines, and their accessories","Synthetic fibres or materials >90%","≥5 kg and <7 kg","€ / unit",0.38,0.38,{"$f":"_xlfn.XLOOKUP(K1459,'Codes éco-part'!$C$6:$C$923,'Codes éco-part'!$B$6:$B$923)","v":"292"},0.46]
["DIY and gardening products EPR",3,"21101650550",null,"DIY products","Large non-electric, non-combustion items and machines, and their accessories","Synthetic fibres or materials >90%","≥7 kg and <10 kg","€ / unit",0.6,0.6,{"$f":"_xlfn.XLOOKUP(K1460,'Codes éco-part'!$C$6:$C$923,'Codes éco-part'!$B$6:$B$923)","v":"327"},0.72]
["DIY and gardening products EPR",3,"21101650551","Modulated","DIY products","Large non-electric, non-combustion items and machines, and their accessories","Synthetic fibres or materials >90%","≥7 kg and <10 kg","€ / unit",0.54,0.54,{"$f":"_xlfn.XLOOKUP(K1461,'Codes éco-part'!$C$6:$C$923,'Codes éco-part'!$B$6:$B$923)","v":"500"},0.65]
["DIY and gardening products EPR",3,"21101650560",null,"DIY products","Large non-electric, non-combustion items and machines, and their accessories","Synthetic fibres or materials >90%","≥10 kg and <15 kg","€ / unit",0.9,0.9,{"$f":"_xlfn.XLOOKUP(K1462,'Codes éco-part'!$C$6:$C$923,'Codes éco-part'!$B$6:$B$923)","v":"330"},1.08]
["DIY and gardening products EPR",3,"21101650561","Modulated","DIY products","Large non-electric, non-combustion items and machines, and their accessories","Synthetic fibres or materials >90%","≥10 kg and <15 kg","€ / unit",0.81,0.81,{"$f":"_xlfn.XLOOKUP(K1463,'Codes éco-part'!$C$6:$C$923,'Codes éco-part'!$B$6:$B$923)","v":"112"},0.97]
["DIY and gardening products EPR",3,"21101650570",null,"DIY products","Large non-electric, non-combustion items and machines, and their accessories","Synthetic fibres or materials >90%","≥15 kg and <20 kg","€ / unit",1.2,1.2,{"$f":"_xlfn.XLOOKUP(K1464,'Codes éco-part'!$C$6:$C$923,'Codes éco-part'!$B$6:$B$923)","v":"505"},1.44]
["DIY and gardening products EPR",3,"21101650571","Modulated","DIY products","Large non-electric, non-combustion items and machines, and their accessories","Synthetic fibres or materials >90%","≥15 kg and <20 kg","€ / unit",1.08,1.08,{"$f":"_xlfn.XLOOKUP(K1465,'Codes éco-part'!$C$6:$C$923,'Codes éco-part'!$B$6:$B$923)","v":"113"},1.3]
["DIY and gardening products EPR",3,"21101650580",null,"DIY products","Large non-electric, non-combustion items and machines, and their accessories","Synthetic fibres or materials >90%","≥20 kg and <25 kg","€ / unit",1.5,1.5,{"$f":"_xlfn.XLOOKUP(K1466,'Codes éco-part'!$C$6:$C$923,'Codes éco-part'!$B$6:$B$923)","v":"059"},1.8]
["DIY and gardening products EPR",3,"21101650581","Modulated","DIY products","Large non-electric, non-combustion items and machines, and their accessories","Synthetic fibres or materials >90%","≥20 kg and <25 kg","€ / unit",1.35,1.35,{"$f":"_xlfn.XLOOKUP(K1467,'Codes éco-part'!$C$6:$C$923,'Codes éco-part'!$B$6:$B$923)","v":"332"},1.62]
["DIY and gardening products EPR",3,"21101650590",null,"DIY products","Large non-electric, non-combustion items and machines, and their accessories","Synthetic fibres or materials >90%","≥25 kg and <30 kg","€ / unit",1.8,1.8,{"$f":"_xlfn.XLOOKUP(K1468,'Codes éco-part'!$C$6:$C$923,'Codes éco-part'!$B$6:$B$923)","v":"603"},2.16]
["DIY and gardening products EPR",3,"21101650591","Modulated","DIY products","Large non-electric, non-combustion items and machines, and their accessories","Synthetic fibres or materials >90%","≥25 kg and <30 kg","€ / unit",1.62,1.62,{"$f":"_xlfn.XLOOKUP(K1469,'Codes éco-part'!$C$6:$C$923,'Codes éco-part'!$B$6:$B$923)","v":"810"},1.94]
["DIY and gardening products EPR",3,"21101650600",null,"DIY products","Large non-electric, non-combustion items and machines, and their accessories","Synthetic fibres or materials >90%","≥40 kg and <50 kg","€ / unit",3,3,{"$f":"_xlfn.XLOOKUP(K1470,'Codes éco-part'!$C$6:$C$923,'Codes éco-part'!$B$6:$B$923)","v":"474"},3.6]
["DIY and gardening products EPR",3,"21101650601","Modulated","DIY products","Large non-electric, non-combustion items and machines, and their accessories","Synthetic fibres or materials >90%","≥40 kg and <50 kg","€ / unit",2.7,2.7,{"$f":"_xlfn.XLOOKUP(K1471,'Codes éco-part'!$C$6:$C$923,'Codes éco-part'!$B$6:$B$923)","v":"611"},3.24]
["DIY and gardening products EPR",3,"21101670000",null,"DIY products","Large non-electric, non-combustion items and machines, and their accessories","Assembly of synthetic fibres and/or materials >50% and other materials","Elements of all sizes and weights","€ / ton",90,90,{"$f":"_xlfn.XLOOKUP(K1472,'Codes éco-part'!$C$6:$C$923,'Codes éco-part'!$B$6:$B$923)","v":"609"},108]
["DIY and gardening products EPR",3,"21101670001","Modulated","DIY products","Large non-electric, non-combustion items and machines, and their accessories","Assembly of synthetic fibres and/or materials >50% and other materials","Elements of all sizes and weights","€ / ton",81,81,{"$f":"_xlfn.XLOOKUP(K1473,'Codes éco-part'!$C$6:$C$923,'Codes éco-part'!$B$6:$B$923)","v":943},97.2]
["DIY and gardening products EPR",3,"21101670200",null,"DIY products","Large non-electric, non-combustion items and machines, and their accessories","Assembly of synthetic fibres and/or materials >50% and other materials","Strictly <0.5 kg","€ / unit",0.02,0.02,{"$f":"_xlfn.XLOOKUP(K1474,'Codes éco-part'!$C$6:$C$923,'Codes éco-part'!$B$6:$B$923)","v":"047"},{"$f":"ROUND(K1474*1.2,2)","v":0.02}]
["DIY and gardening products EPR",3,"21101670201","Modulated","DIY products","Large non-electric, non-combustion items and machines, and their accessories","Assembly of synthetic fibres and/or materials >50% and other materials","Strictly <0.5 kg","€ / unit",0.02,0.02,{"$f":"_xlfn.XLOOKUP(K1475,'Codes éco-part'!$C$6:$C$923,'Codes éco-part'!$B$6:$B$923)","v":"047"},0.02]
["DIY and gardening products EPR",3,"21101670210",null,"DIY products","Large non-electric, non-combustion items and machines, and their accessories","Assembly of synthetic fibres and/or materials >50% and other materials","≥0.5 kg and <1 kg","€ / unit",7.0000000000000007E-2,7.0000000000000007E-2,{"$f":"_xlfn.XLOOKUP(K1476,'Codes éco-part'!$C$6:$C$923,'Codes éco-part'!$B$6:$B$923)","v":"247"},0.08]
["DIY and gardening products EPR",3,"21101670211","Modulated","DIY products","Large non-electric, non-combustion items and machines, and their accessories","Assembly of synthetic fibres and/or materials >50% and other materials","≥0.5 kg and <1 kg","€ / unit",0.06,0.06,{"$f":"_xlfn.XLOOKUP(K1477,'Codes éco-part'!$C$6:$C$923,'Codes éco-part'!$B$6:$B$923)","v":"096"},7.0000000000000007E-2]
["DIY and gardening products EPR",3,"21101670220",null,"DIY products","Large non-electric, non-combustion items and machines, and their accessories","Assembly of synthetic fibres and/or materials >50% and other materials","≥1 kg and <2 kg","€ / unit",0.14000000000000001,0.14000000000000001,{"$f":"_xlfn.XLOOKUP(K1478,'Codes éco-part'!$C$6:$C$923,'Codes éco-part'!$B$6:$B$923)","v":"098"},0.17]
["DIY and gardening products EPR",3,"21101670221","Modulated","DIY products","Large non-electric, non-combustion items and machines, and their accessories","Assembly of synthetic fibres and/or materials >50% and other materials","≥1 kg and <2 kg","€ / unit",0.13,0.13,{"$f":"_xlfn.XLOOKUP(K1479,'Codes éco-part'!$C$6:$C$923,'Codes éco-part'!$B$6:$B$923)","v":"004"},0.16]
["DIY and gardening products EPR",3,"21101670270",null,"DIY products","Large non-electric, non-combustion items and machines, and their accessories","Assembly of synthetic fibres and/or materials >50% and other materials","≥30 kg and <40 kg","€ / unit",3.6,3.6,{"$f":"_xlfn.XLOOKUP(K1480,'Codes éco-part'!$C$6:$C$923,'Codes éco-part'!$B$6:$B$923)","v":"610"},4.32]
["DIY and gardening products EPR",3,"21101670271","Modulated","DIY products","Large non-electric, non-combustion items and machines, and their accessories","Assembly of synthetic fibres and/or materials >50% and other materials","≥30 kg and <40 kg","€ / unit",3.24,3.24,{"$f":"_xlfn.XLOOKUP(K1481,'Codes éco-part'!$C$6:$C$923,'Codes éco-part'!$B$6:$B$923)","v":944},3.89]
["DIY and gardening products EPR",3,"21101670520",null,"DIY products","Large non-electric, non-combustion items and machines, and their accessories","Assembly of synthetic fibres and/or materials >50% and other materials","≥2 kg and <3 kg","€ / unit",0.23,0.23,{"$f":"_xlfn.XLOOKUP(K1482,'Codes éco-part'!$C$6:$C$923,'Codes éco-part'!$B$6:$B$923)","v":"323"},0.28000000000000003]
["DIY and gardening products EPR",3,"21101670521","Modulated","DIY products","Large non-electric, non-combustion items and machines, and their accessories","Assembly of synthetic fibres and/or materials >50% and other materials","≥2 kg and <3 kg","€ / unit",0.21,0.21,{"$f":"_xlfn.XLOOKUP(K1483,'Codes éco-part'!$C$6:$C$923,'Codes éco-part'!$B$6:$B$923)","v":"051"},0.25]
["DIY and gardening products EPR",3,"21101670530",null,"DIY products","Large non-electric, non-combustion items and machines, and their accessories","Assembly of synthetic fibres and/or materials >50% and other materials","≥3 kg and <5 kg","€ / unit",0.36,0.36,{"$f":"_xlfn.XLOOKUP(K1484,'Codes éco-part'!$C$6:$C$923,'Codes éco-part'!$B$6:$B$923)","v":"449"},0.43]
["DIY and gardening products EPR",3,"21101670531","Modulated","DIY products","Large non-electric, non-combustion items and machines, and their accessories","Assembly of synthetic fibres and/or materials >50% and other materials","≥3 kg and <5 kg","€ / unit",0.32,0.32,{"$f":"_xlfn.XLOOKUP(K1485,'Codes éco-part'!$C$6:$C$923,'Codes éco-part'!$B$6:$B$923)","v":"447"},0.38]
["DIY and gardening products EPR",3,"21101670540",null,"DIY products","Large non-electric, non-combustion items and machines, and their accessories","Assembly of synthetic fibres and/or materials >50% and other materials","≥5 kg and <7 kg","€ / unit",0.63,0.63,{"$f":"_xlfn.XLOOKUP(K1486,'Codes éco-part'!$C$6:$C$923,'Codes éco-part'!$B$6:$B$923)","v":"297"},0.76]
["DIY and gardening products EPR",3,"21101670541","Modulated","DIY products","Large non-electric, non-combustion items and machines, and their accessories","Assembly of synthetic fibres and/or materials >50% and other materials","≥5 kg and <7 kg","€ / unit",0.56999999999999995,0.56999999999999995,{"$f":"_xlfn.XLOOKUP(K1487,'Codes éco-part'!$C$6:$C$923,'Codes éco-part'!$B$6:$B$923)","v":"326"},0.68]
["DIY and gardening products EPR",3,"21101670550",null,"DIY products","Large non-electric, non-combustion items and machines, and their accessories","Assembly of synthetic fibres and/or materials >50% and other materials","≥7 kg and <10 kg","€ / unit",0.9,0.9,{"$f":"_xlfn.XLOOKUP(K1488,'Codes éco-part'!$C$6:$C$923,'Codes éco-part'!$B$6:$B$923)","v":"330"},1.08]
["DIY and gardening products EPR",3,"21101670551","Modulated","DIY products","Large non-electric, non-combustion items and machines, and their accessories","Assembly of synthetic fibres and/or materials >50% and other materials","≥7 kg and <10 kg","€ / unit",0.81,0.81,{"$f":"_xlfn.XLOOKUP(K1489,'Codes éco-part'!$C$6:$C$923,'Codes éco-part'!$B$6:$B$923)","v":"112"},0.97]
["DIY and gardening products EPR",3,"21101670560",null,"DIY products","Large non-electric, non-combustion items and machines, and their accessories","Assembly of synthetic fibres and/or materials >50% and other materials","≥10 kg and <15 kg","€ / unit",1.35,1.35,{"$f":"_xlfn.XLOOKUP(K1490,'Codes éco-part'!$C$6:$C$923,'Codes éco-part'!$B$6:$B$923)","v":"332"},1.62]
["DIY and gardening products EPR",3,"21101670561","Modulated","DIY products","Large non-electric, non-combustion items and machines, and their accessories","Assembly of synthetic fibres and/or materials >50% and other materials","≥10 kg and <15 kg","€ / unit",1.22,1.22,{"$f":"_xlfn.XLOOKUP(K1491,'Codes éco-part'!$C$6:$C$923,'Codes éco-part'!$B$6:$B$923)","v":"636"},1.46]
["DIY and gardening products EPR",3,"21101670570",null,"DIY products","Large non-electric, non-combustion items and machines, and their accessories","Assembly of synthetic fibres and/or materials >50% and other materials","≥15 kg and <20 kg","€ / unit",1.8,1.8,{"$f":"_xlfn.XLOOKUP(K1492,'Codes éco-part'!$C$6:$C$923,'Codes éco-part'!$B$6:$B$923)","v":"603"},2.16]
["DIY and gardening products EPR",3,"21101670571","Modulated","DIY products","Large non-electric, non-combustion items and machines, and their accessories","Assembly of synthetic fibres and/or materials >50% and other materials","≥15 kg and <20 kg","€ / unit",1.62,1.62,{"$f":"_xlfn.XLOOKUP(K1493,'Codes éco-part'!$C$6:$C$923,'Codes éco-part'!$B$6:$B$923)","v":"810"},1.94]
["DIY and gardening products EPR",3,"21101670580",null,"DIY products","Large non-electric, non-combustion items and machines, and their accessories","Assembly of synthetic fibres and/or materials >50% and other materials","≥20 kg and <25 kg","€ / unit",2.25,2.25,{"$f":"_xlfn.XLOOKUP(K1494,'Codes éco-part'!$C$6:$C$923,'Codes éco-part'!$B$6:$B$923)","v":"118"},2.7]
["DIY and gardening products EPR",3,"21101670581","Modulated","DIY products","Large non-electric, non-combustion items and machines, and their accessories","Assembly of synthetic fibres and/or materials >50% and other materials","≥20 kg and <25 kg","€ / unit",2.0299999999999998,2.0299999999999998,{"$f":"_xlfn.XLOOKUP(K1495,'Codes éco-part'!$C$6:$C$923,'Codes éco-part'!$B$6:$B$923)","v":937},2.44]
["DIY and gardening products EPR",3,"21101670590",null,"DIY products","Large non-electric, non-combustion items and machines, and their accessories","Assembly of synthetic fibres and/or materials >50% and other materials","≥25 kg and <30 kg","€ / unit",2.7,2.7,{"$f":"_xlfn.XLOOKUP(K1496,'Codes éco-part'!$C$6:$C$923,'Codes éco-part'!$B$6:$B$923)","v":"611"},3.24]
["DIY and gardening products EPR",3,"21101670591","Modulated","DIY products","Large non-electric, non-combustion items and machines, and their accessories","Assembly of synthetic fibres and/or materials >50% and other materials","≥25 kg and <30 kg","€ / unit",2.4300000000000002,2.4300000000000002,{"$f":"_xlfn.XLOOKUP(K1497,'Codes éco-part'!$C$6:$C$923,'Codes éco-part'!$B$6:$B$923)","v":"471"},2.92]
["DIY and gardening products EPR",3,"21101670600",null,"DIY products","Large non-electric, non-combustion items and machines, and their accessories","Assembly of synthetic fibres and/or materials >50% and other materials","≥40 kg and <50 kg","€ / unit",4.5,4.5,{"$f":"_xlfn.XLOOKUP(K1498,'Codes éco-part'!$C$6:$C$923,'Codes éco-part'!$B$6:$B$923)","v":"127"},5.4]
["DIY and gardening products EPR",3,"21101670601","Modulated","DIY products","Large non-electric, non-combustion items and machines, and their accessories","Assembly of synthetic fibres and/or materials >50% and other materials","≥40 kg and <50 kg","€ / unit",4.05,4.05,{"$f":"_xlfn.XLOOKUP(K1499,'Codes éco-part'!$C$6:$C$923,'Codes éco-part'!$B$6:$B$923)","v":"884"},4.8600000000000003]
["DIY and gardening products EPR",3,"21101680000",null,"DIY products","Large non-electric, non-combustion items and machines, and their accessories","Glass >90%","Elements of all sizes and weights","€ / ton",8.75,8.75,{"$f":"_xlfn.XLOOKUP(K1500,'Codes éco-part'!$C$6:$C$923,'Codes éco-part'!$B$6:$B$923)","v":"069"},10.5]
["DIY and gardening products EPR",3,"21101680001","Modulated","DIY products","Large non-electric, non-combustion items and machines, and their accessories","Glass >90%","Elements of all sizes and weights","€ / ton",7.88,7.88,{"$f":"_xlfn.XLOOKUP(K1501,'Codes éco-part'!$C$6:$C$923,'Codes éco-part'!$B$6:$B$923)","v":"354"},9.4600000000000009]
["DIY and gardening products EPR",3,"21101680200",null,"DIY products","Large non-electric, non-combustion items and machines, and their accessories","Glass >90%","Strictly <0.5 kg","€ / unit",0.01,0.01,{"$f":"_xlfn.XLOOKUP(K1502,'Codes éco-part'!$C$6:$C$923,'Codes éco-part'!$B$6:$B$923)","v":"260"},0.01]
["DIY and gardening products EPR",3,"21101680201","Modulated","DIY products","Large non-electric, non-combustion items and machines, and their accessories","Glass >90%","Strictly <0.5 kg","€ / unit",0.01,0.01,{"$f":"_xlfn.XLOOKUP(K1503,'Codes éco-part'!$C$6:$C$923,'Codes éco-part'!$B$6:$B$923)","v":"260"},0.01]
["DIY and gardening products EPR",3,"21101680210",null,"DIY products","Large non-electric, non-combustion items and machines, and their accessories","Glass >90%","≥0.5 kg and <1 kg","€ / unit",0.01,0.01,{"$f":"_xlfn.XLOOKUP(K1504,'Codes éco-part'!$C$6:$C$923,'Codes éco-part'!$B$6:$B$923)","v":"260"},0.01]
["DIY and gardening products EPR",3,"21101680211","Modulated","DIY products","Large non-electric, non-combustion items and machines, and their accessories","Glass >90%","≥0.5 kg and <1 kg","€ / unit",0.01,0.01,{"$f":"_xlfn.XLOOKUP(K1505,'Codes éco-part'!$C$6:$C$923,'Codes éco-part'!$B$6:$B$923)","v":"260"},0.01]
["DIY and gardening products EPR",3,"21101680220",null,"DIY products","Large non-electric, non-combustion items and machines, and their accessories","Glass >90%","≥1 kg and <2 kg","€ / unit",0.01,0.01,{"$f":"_xlfn.XLOOKUP(K1506,'Codes éco-part'!$C$6:$C$923,'Codes éco-part'!$B$6:$B$923)","v":"260"},0.01]
["DIY and gardening products EPR",3,"21101680221","Modulated","DIY products","Large non-electric, non-combustion items and machines, and their accessories","Glass >90%","≥1 kg and <2 kg","€ / unit",0.01,0.01,{"$f":"_xlfn.XLOOKUP(K1507,'Codes éco-part'!$C$6:$C$923,'Codes éco-part'!$B$6:$B$923)","v":"260"},0.01]
["DIY and gardening products EPR",3,"21101680270",null,"DIY products","Large non-electric, non-combustion items and machines, and their accessories","Glass >90%","≥30 kg and <40 kg","€ / unit",0.35,0.35,{"$f":"_xlfn.XLOOKUP(K1508,'Codes éco-part'!$C$6:$C$923,'Codes éco-part'!$B$6:$B$923)","v":"448"},0.42]
["DIY and gardening products EPR",3,"21101680271","Modulated","DIY products","Large non-electric, non-combustion items and machines, and their accessories","Glass >90%","≥30 kg and <40 kg","€ / unit",0.32,0.32,{"$f":"_xlfn.XLOOKUP(K1509,'Codes éco-part'!$C$6:$C$923,'Codes éco-part'!$B$6:$B$923)","v":"447"},0.38]
["DIY and gardening products EPR",3,"21101680520",null,"DIY products","Large non-electric, non-combustion items and machines, and their accessories","Glass >90%","≥2 kg and <3 kg","€ / unit",0.02,0.02,{"$f":"_xlfn.XLOOKUP(K1510,'Codes éco-part'!$C$6:$C$923,'Codes éco-part'!$B$6:$B$923)","v":"047"},0.02]
["DIY and gardening products EPR",3,"21101680521","Modulated","DIY products","Large non-electric, non-combustion items and machines, and their accessories","Glass >90%","≥2 kg and <3 kg","€ / unit",0.02,0.02,{"$f":"_xlfn.XLOOKUP(K1511,'Codes éco-part'!$C$6:$C$923,'Codes éco-part'!$B$6:$B$923)","v":"047"},0.02]
["DIY and gardening products EPR",3,"21101680530",null,"DIY products","Large non-electric, non-combustion items and machines, and their accessories","Glass >90%","≥3 kg and <5 kg","€ / unit",0.04,0.04,{"$f":"_xlfn.XLOOKUP(K1512,'Codes éco-part'!$C$6:$C$923,'Codes éco-part'!$B$6:$B$923)","v":"002"},0.05]
["DIY and gardening products EPR",3,"21101680531","Modulated","DIY products","Large non-electric, non-combustion items and machines, and their accessories","Glass >90%","≥3 kg and <5 kg","€ / unit",0.04,0.04,{"$f":"_xlfn.XLOOKUP(K1513,'Codes éco-part'!$C$6:$C$923,'Codes éco-part'!$B$6:$B$923)","v":"002"},0.05]
["DIY and gardening products EPR",3,"21101680540",null,"DIY products","Large non-electric, non-combustion items and machines, and their accessories","Glass >90%","≥5 kg and <7 kg","€ / unit",0.06,0.06,{"$f":"_xlfn.XLOOKUP(K1514,'Codes éco-part'!$C$6:$C$923,'Codes éco-part'!$B$6:$B$923)","v":"096"},7.0000000000000007E-2]
["DIY and gardening products EPR",3,"21101680541","Modulated","DIY products","Large non-electric, non-combustion items and machines, and their accessories","Glass >90%","≥5 kg and <7 kg","€ / unit",0.05,0.05,{"$f":"_xlfn.XLOOKUP(K1515,'Codes éco-part'!$C$6:$C$923,'Codes éco-part'!$B$6:$B$923)","v":"048"},0.06]
["DIY and gardening products EPR",3,"21101680550",null,"DIY products","Large non-electric, non-combustion items and machines, and their accessories","Glass >90%","≥7 kg and <10 kg","€ / unit",0.09,0.09,{"$f":"_xlfn.XLOOKUP(K1516,'Codes éco-part'!$C$6:$C$923,'Codes éco-part'!$B$6:$B$923)","v":"049"},0.11]
["DIY and gardening products EPR",3,"21101680551","Modulated","DIY products","Large non-electric, non-combustion items and machines, and their accessories","Glass >90%","≥7 kg and <10 kg","€ / unit",0.08,0.08,{"$f":"_xlfn.XLOOKUP(K1517,'Codes éco-part'!$C$6:$C$923,'Codes éco-part'!$B$6:$B$923)","v":"003"},0.1]
["DIY and gardening products EPR",3,"21101680560",null,"DIY products","Large non-electric, non-combustion items and machines, and their accessories","Glass >90%","≥10 kg and <15 kg","€ / unit",0.13,0.13,{"$f":"_xlfn.XLOOKUP(K1518,'Codes éco-part'!$C$6:$C$923,'Codes éco-part'!$B$6:$B$923)","v":"004"},0.16]
["DIY and gardening products EPR",3,"21101680561","Modulated","DIY products","Large non-electric, non-combustion items and machines, and their accessories","Glass >90%","≥10 kg and <15 kg","€ / unit",0.12,0.12,{"$f":"_xlfn.XLOOKUP(K1519,'Codes éco-part'!$C$6:$C$923,'Codes éco-part'!$B$6:$B$923)","v":"097"},0.14000000000000001]
["DIY and gardening products EPR",3,"21101680570",null,"DIY products","Large non-electric, non-combustion items and machines, and their accessories","Glass >90%","≥15 kg and <20 kg","€ / unit",0.18,0.18,{"$f":"_xlfn.XLOOKUP(K1520,'Codes éco-part'!$C$6:$C$923,'Codes éco-part'!$B$6:$B$923)","v":"100"},0.22]
["DIY and gardening products EPR",3,"21101680571","Modulated","DIY products","Large non-electric, non-combustion items and machines, and their accessories","Glass >90%","≥15 kg and <20 kg","€ / unit",0.16,0.16,{"$f":"_xlfn.XLOOKUP(K1521,'Codes éco-part'!$C$6:$C$923,'Codes éco-part'!$B$6:$B$923)","v":"099"},0.19]
["DIY and gardening products EPR",3,"21101680580",null,"DIY products","Large non-electric, non-combustion items and machines, and their accessories","Glass >90%","≥20 kg and <25 kg","€ / unit",0.22,0.22,{"$f":"_xlfn.XLOOKUP(K1522,'Codes éco-part'!$C$6:$C$923,'Codes éco-part'!$B$6:$B$923)","v":"263"},0.26]
["DIY and gardening products EPR",3,"21101680581","Modulated","DIY products","Large non-electric, non-combustion items and machines, and their accessories","Glass >90%","≥20 kg and <25 kg","€ / unit",0.2,0.2,{"$f":"_xlfn.XLOOKUP(K1523,'Codes éco-part'!$C$6:$C$923,'Codes éco-part'!$B$6:$B$923)","v":"101"},0.24]
["DIY and gardening products EPR",3,"21101680590",null,"DIY products","Large non-electric, non-combustion items and machines, and their accessories","Glass >90%","≥25 kg and <30 kg","€ / unit",0.26,0.26,{"$f":"_xlfn.XLOOKUP(K1524,'Codes éco-part'!$C$6:$C$923,'Codes éco-part'!$B$6:$B$923)","v":"445"},0.31]
["DIY and gardening products EPR",3,"21101680591","Modulated","DIY products","Large non-electric, non-combustion items and machines, and their accessories","Glass >90%","≥25 kg and <30 kg","€ / unit",0.23,0.23,{"$f":"_xlfn.XLOOKUP(K1525,'Codes éco-part'!$C$6:$C$923,'Codes éco-part'!$B$6:$B$923)","v":"323"},0.28000000000000003]
["DIY and gardening products EPR",3,"21101680600",null,"DIY products","Large non-electric, non-combustion items and machines, and their accessories","Glass >90%","≥40 kg and <50 kg","€ / unit",0.44,0.44,{"$f":"_xlfn.XLOOKUP(K1526,'Codes éco-part'!$C$6:$C$923,'Codes éco-part'!$B$6:$B$923)","v":"281"},0.53]
["DIY and gardening products EPR",3,"21101680601","Modulated","DIY products","Large non-electric, non-combustion items and machines, and their accessories","Glass >90%","≥40 kg and <50 kg","€ / unit",0.4,0.4,{"$f":"_xlfn.XLOOKUP(K1527,'Codes éco-part'!$C$6:$C$923,'Codes éco-part'!$B$6:$B$923)","v":"105"},0.48]
["DIY and gardening products EPR",3,"21101700000",null,"DIY products","Large non-electric, non-combustion items and machines, and their accessories","Assembly of glass >50% and metal","Elements of all sizes and weights","€ / ton",90,90,{"$f":"_xlfn.XLOOKUP(K1528,'Codes éco-part'!$C$6:$C$923,'Codes éco-part'!$B$6:$B$923)","v":"609"},108]
["DIY and gardening products EPR",3,"21101700001","Modulated","DIY products","Large non-electric, non-combustion items and machines, and their accessories","Assembly of glass >50% and metal","Elements of all sizes and weights","€ / ton",81,81,{"$f":"_xlfn.XLOOKUP(K1529,'Codes éco-part'!$C$6:$C$923,'Codes éco-part'!$B$6:$B$923)","v":943},97.2]
["DIY and gardening products EPR",3,"21101700200",null,"DIY products","Large non-electric, non-combustion items and machines, and their accessories","Assembly of glass >50% and metal","Strictly <0.5 kg","€ / unit",0.02,0.02,{"$f":"_xlfn.XLOOKUP(K1530,'Codes éco-part'!$C$6:$C$923,'Codes éco-part'!$B$6:$B$923)","v":"047"},0.02]
["DIY and gardening products EPR",3,"21101700201","Modulated","DIY products","Large non-electric, non-combustion items and machines, and their accessories","Assembly of glass >50% and metal","Strictly <0.5 kg","€ / unit",0.02,0.02,{"$f":"_xlfn.XLOOKUP(K1531,'Codes éco-part'!$C$6:$C$923,'Codes éco-part'!$B$6:$B$923)","v":"047"},0.02]
["DIY and gardening products EPR",3,"21101700210",null,"DIY products","Large non-electric, non-combustion items and machines, and their accessories","Assembly of glass >50% and metal","≥0.5 kg and <1 kg","€ / unit",7.0000000000000007E-2,7.0000000000000007E-2,{"$f":"_xlfn.XLOOKUP(K1532,'Codes éco-part'!$C$6:$C$923,'Codes éco-part'!$B$6:$B$923)","v":"247"},0.08]
["DIY and gardening products EPR",3,"21101700211","Modulated","DIY products","Large non-electric, non-combustion items and machines, and their accessories","Assembly of glass >50% and metal","≥0.5 kg and <1 kg","€ / unit",0.06,0.06,{"$f":"_xlfn.XLOOKUP(K1533,'Codes éco-part'!$C$6:$C$923,'Codes éco-part'!$B$6:$B$923)","v":"096"},7.0000000000000007E-2]
["DIY and gardening products EPR",3,"21101700220",null,"DIY products","Large non-electric, non-combustion items and machines, and their accessories","Assembly of glass >50% and metal","≥1 kg and <2 kg","€ / unit",0.14000000000000001,0.14000000000000001,{"$f":"_xlfn.XLOOKUP(K1534,'Codes éco-part'!$C$6:$C$923,'Codes éco-part'!$B$6:$B$923)","v":"098"},0.17]
["DIY and gardening products EPR",3,"21101700221","Modulated","DIY products","Large non-electric, non-combustion items and machines, and their accessories","Assembly of glass >50% and metal","≥1 kg and <2 kg","€ / unit",0.13,0.13,{"$f":"_xlfn.XLOOKUP(K1535,'Codes éco-part'!$C$6:$C$923,'Codes éco-part'!$B$6:$B$923)","v":"004"},0.16]
["DIY and gardening products EPR",3,"21101700270",null,"DIY products","Large non-electric, non-combustion items and machines, and their accessories","Assembly of glass >50% and metal","≥30 kg and <40 kg","€ / unit",3.6,3.6,{"$f":"_xlfn.XLOOKUP(K1536,'Codes éco-part'!$C$6:$C$923,'Codes éco-part'!$B$6:$B$923)","v":"610"},4.32]
["DIY and gardening products EPR",3,"21101700271","Modulated","DIY products","Large non-electric, non-combustion items and machines, and their accessories","Assembly of glass >50% and metal","≥30 kg and <40 kg","€ / unit",3.24,3.24,{"$f":"_xlfn.XLOOKUP(K1537,'Codes éco-part'!$C$6:$C$923,'Codes éco-part'!$B$6:$B$923)","v":944},3.89]
["DIY and gardening products EPR",3,"21101700520",null,"DIY products","Large non-electric, non-combustion items and machines, and their accessories","Assembly of glass >50% and metal","≥2 kg and <3 kg","€ / unit",0.23,0.23,{"$f":"_xlfn.XLOOKUP(K1538,'Codes éco-part'!$C$6:$C$923,'Codes éco-part'!$B$6:$B$923)","v":"323"},{"$f":"ROUND(K1538*1.2,2)","v":0.28000000000000003}]
["DIY and gardening products EPR",3,"21101700521","Modulated","DIY products","Large non-electric, non-combustion items and machines, and their accessories","Assembly of glass >50% and metal","≥2 kg and <3 kg","€ / unit",0.21,0.21,{"$f":"_xlfn.XLOOKUP(K1539,'Codes éco-part'!$C$6:$C$923,'Codes éco-part'!$B$6:$B$923)","v":"051"},0.25]
["DIY and gardening products EPR",3,"21101700530",null,"DIY products","Large non-electric, non-combustion items and machines, and their accessories","Assembly of glass >50% and metal","≥3 kg and <5 kg","€ / unit",0.36,0.36,{"$f":"_xlfn.XLOOKUP(K1540,'Codes éco-part'!$C$6:$C$923,'Codes éco-part'!$B$6:$B$923)","v":"449"},0.43]
["DIY and gardening products EPR",3,"21101700531","Modulated","DIY products","Large non-electric, non-combustion items and machines, and their accessories","Assembly of glass >50% and metal","≥3 kg and <5 kg","€ / unit",0.32,0.32,{"$f":"_xlfn.XLOOKUP(K1541,'Codes éco-part'!$C$6:$C$923,'Codes éco-part'!$B$6:$B$923)","v":"447"},0.38]
["DIY and gardening products EPR",3,"21101700540",null,"DIY products","Large non-electric, non-combustion items and machines, and their accessories","Assembly of glass >50% and metal","≥5 kg and <7 kg","€ / unit",0.63,0.63,{"$f":"_xlfn.XLOOKUP(K1542,'Codes éco-part'!$C$6:$C$923,'Codes éco-part'!$B$6:$B$923)","v":"297"},0.76]
["DIY and gardening products EPR",3,"21101700541","Modulated","DIY products","Large non-electric, non-combustion items and machines, and their accessories","Assembly of glass >50% and metal","≥5 kg and <7 kg","€ / unit",0.56999999999999995,0.56999999999999995,{"$f":"_xlfn.XLOOKUP(K1543,'Codes éco-part'!$C$6:$C$923,'Codes éco-part'!$B$6:$B$923)","v":"326"},0.68]
["DIY and gardening products EPR",3,"21101700550",null,"DIY products","Large non-electric, non-combustion items and machines, and their accessories","Assembly of glass >50% and metal","≥7 kg and <10 kg","€ / unit",0.9,0.9,{"$f":"_xlfn.XLOOKUP(K1544,'Codes éco-part'!$C$6:$C$923,'Codes éco-part'!$B$6:$B$923)","v":"330"},1.08]
["DIY and gardening products EPR",3,"21101700551","Modulated","DIY products","Large non-electric, non-combustion items and machines, and their accessories","Assembly of glass >50% and metal","≥7 kg and <10 kg","€ / unit",0.81,0.81,{"$f":"_xlfn.XLOOKUP(K1545,'Codes éco-part'!$C$6:$C$923,'Codes éco-part'!$B$6:$B$923)","v":"112"},0.97]
["DIY and gardening products EPR",3,"21101700560",null,"DIY products","Large non-electric, non-combustion items and machines, and their accessories","Assembly of glass >50% and metal","≥10 kg and <15 kg","€ / unit",1.35,1.35,{"$f":"_xlfn.XLOOKUP(K1546,'Codes éco-part'!$C$6:$C$923,'Codes éco-part'!$B$6:$B$923)","v":"332"},1.62]
["DIY and gardening products EPR",3,"21101700561","Modulated","DIY products","Large non-electric, non-combustion items and machines, and their accessories","Assembly of glass >50% and metal","≥10 kg and <15 kg","€ / unit",1.22,1.22,{"$f":"_xlfn.XLOOKUP(K1547,'Codes éco-part'!$C$6:$C$923,'Codes éco-part'!$B$6:$B$923)","v":"636"},1.46]
["DIY and gardening products EPR",3,"21101700570",null,"DIY products","Large non-electric, non-combustion items and machines, and their accessories","Assembly of glass >50% and metal","≥15 kg and <20 kg","€ / unit",1.8,1.8,{"$f":"_xlfn.XLOOKUP(K1548,'Codes éco-part'!$C$6:$C$923,'Codes éco-part'!$B$6:$B$923)","v":"603"},2.16]
["DIY and gardening products EPR",3,"21101700571","Modulated","DIY products","Large non-electric, non-combustion items and machines, and their accessories","Assembly of glass >50% and metal","≥15 kg and <20 kg","€ / unit",1.62,1.62,{"$f":"_xlfn.XLOOKUP(K1549,'Codes éco-part'!$C$6:$C$923,'Codes éco-part'!$B$6:$B$923)","v":"810"},1.94]
["DIY and gardening products EPR",3,"21101700580",null,"DIY products","Large non-electric, non-combustion items and machines, and their accessories","Assembly of glass >50% and metal","≥20 kg and <25 kg","€ / unit",2.25,2.25,{"$f":"_xlfn.XLOOKUP(K1550,'Codes éco-part'!$C$6:$C$923,'Codes éco-part'!$B$6:$B$923)","v":"118"},2.7]
["DIY and gardening products EPR",3,"21101700581","Modulated","DIY products","Large non-electric, non-combustion items and machines, and their accessories","Assembly of glass >50% and metal","≥20 kg and <25 kg","€ / unit",2.0299999999999998,2.0299999999999998,{"$f":"_xlfn.XLOOKUP(K1551,'Codes éco-part'!$C$6:$C$923,'Codes éco-part'!$B$6:$B$923)","v":937},2.44]
["DIY and gardening products EPR",3,"21101700590",null,"DIY products","Large non-electric, non-combustion items and machines, and their accessories","Assembly of glass >50% and metal","≥25 kg and <30 kg","€ / unit",2.7,2.7,{"$f":"_xlfn.XLOOKUP(K1552,'Codes éco-part'!$C$6:$C$923,'Codes éco-part'!$B$6:$B$923)","v":"611"},3.24]
["DIY and gardening products EPR",3,"21101700591","Modulated","DIY products","Large non-electric, non-combustion items and machines, and their accessories","Assembly of glass >50% and metal","≥25 kg and <30 kg","€ / unit",2.4300000000000002,2.4300000000000002,{"$f":"_xlfn.XLOOKUP(K1553,'Codes éco-part'!$C$6:$C$923,'Codes éco-part'!$B$6:$B$923)","v":"471"},2.92]
["DIY and gardening products EPR",3,"21101700600",null,"DIY products","Large non-electric, non-combustion items and machines, and their accessories","Assembly of glass >50% and metal","≥40 kg and <50 kg","€ / unit",4.5,4.5,{"$f":"_xlfn.XLOOKUP(K1554,'Codes éco-part'!$C$6:$C$923,'Codes éco-part'!$B$6:$B$923)","v":"127"},5.4]
["DIY and gardening products EPR",3,"21101700601","Modulated","DIY products","Large non-electric, non-combustion items and machines, and their accessories","Assembly of glass >50% and metal","≥40 kg and <50 kg","€ / unit",4.05,4.05,{"$f":"_xlfn.XLOOKUP(K1555,'Codes éco-part'!$C$6:$C$923,'Codes éco-part'!$B$6:$B$923)","v":"884"},4.8600000000000003]
["DIY and gardening products EPR",3,"21101710000",null,"DIY products","Large non-electric, non-combustion items and machines, and their accessories","Assembly of glass >50% and inert substances","Elements of all sizes and weights","€ / ton",90,90,{"$f":"_xlfn.XLOOKUP(K1556,'Codes éco-part'!$C$6:$C$923,'Codes éco-part'!$B$6:$B$923)","v":"609"},108]
["DIY and gardening products EPR",3,"21101710001","Modulated","DIY products","Large non-electric, non-combustion items and machines, and their accessories","Assembly of glass >50% and inert substances","Elements of all sizes and weights","€ / ton",81,81,{"$f":"_xlfn.XLOOKUP(K1557,'Codes éco-part'!$C$6:$C$923,'Codes éco-part'!$B$6:$B$923)","v":943},97.2]
["DIY and gardening products EPR",3,"21101710200",null,"DIY products","Large non-electric, non-combustion items and machines, and their accessories","Assembly of glass >50% and inert substances","Strictly <0.5 kg","€ / unit",0.02,0.02,{"$f":"_xlfn.XLOOKUP(K1558,'Codes éco-part'!$C$6:$C$923,'Codes éco-part'!$B$6:$B$923)","v":"047"},0.02]
["DIY and gardening products EPR",3,"21101710201","Modulated","DIY products","Large non-electric, non-combustion items and machines, and their accessories","Assembly of glass >50% and inert substances","Strictly <0.5 kg","€ / unit",0.02,0.02,{"$f":"_xlfn.XLOOKUP(K1559,'Codes éco-part'!$C$6:$C$923,'Codes éco-part'!$B$6:$B$923)","v":"047"},0.02]
["DIY and gardening products EPR",3,"21101710210",null,"DIY products","Large non-electric, non-combustion items and machines, and their accessories","Assembly of glass >50% and inert substances","≥0.5 kg and <1 kg","€ / unit",7.0000000000000007E-2,7.0000000000000007E-2,{"$f":"_xlfn.XLOOKUP(K1560,'Codes éco-part'!$C$6:$C$923,'Codes éco-part'!$B$6:$B$923)","v":"247"},0.08]
["DIY and gardening products EPR",3,"21101710211","Modulated","DIY products","Large non-electric, non-combustion items and machines, and their accessories","Assembly of glass >50% and inert substances","≥0.5 kg and <1 kg","€ / unit",0.06,0.06,{"$f":"_xlfn.XLOOKUP(K1561,'Codes éco-part'!$C$6:$C$923,'Codes éco-part'!$B$6:$B$923)","v":"096"},7.0000000000000007E-2]
["DIY and gardening products EPR",3,"21101710220",null,"DIY products","Large non-electric, non-combustion items and machines, and their accessories","Assembly of glass >50% and inert substances","≥1 kg and <2 kg","€ / unit",0.14000000000000001,0.14000000000000001,{"$f":"_xlfn.XLOOKUP(K1562,'Codes éco-part'!$C$6:$C$923,'Codes éco-part'!$B$6:$B$923)","v":"098"},0.17]
["DIY and gardening products EPR",3,"21101710221","Modulated","DIY products","Large non-electric, non-combustion items and machines, and their accessories","Assembly of glass >50% and inert substances","≥1 kg and <2 kg","€ / unit",0.13,0.13,{"$f":"_xlfn.XLOOKUP(K1563,'Codes éco-part'!$C$6:$C$923,'Codes éco-part'!$B$6:$B$923)","v":"004"},0.16]
["DIY and gardening products EPR",3,"21101710270",null,"DIY products","Large non-electric, non-combustion items and machines, and their accessories","Assembly of glass >50% and inert substances","≥30 kg and <40 kg","€ / unit",3.6,3.6,{"$f":"_xlfn.XLOOKUP(K1564,'Codes éco-part'!$C$6:$C$923,'Codes éco-part'!$B$6:$B$923)","v":"610"},4.32]
["DIY and gardening products EPR",3,"21101710271","Modulated","DIY products","Large non-electric, non-combustion items and machines, and their accessories","Assembly of glass >50% and inert substances","≥30 kg and <40 kg","€ / unit",3.24,3.24,{"$f":"_xlfn.XLOOKUP(K1565,'Codes éco-part'!$C$6:$C$923,'Codes éco-part'!$B$6:$B$923)","v":944},3.89]
["DIY and gardening products EPR",3,"21101710520",null,"DIY products","Large non-electric, non-combustion items and machines, and their accessories","Assembly of glass >50% and inert substances","≥2 kg and <3 kg","€ / unit",0.23,0.23,{"$f":"_xlfn.XLOOKUP(K1566,'Codes éco-part'!$C$6:$C$923,'Codes éco-part'!$B$6:$B$923)","v":"323"},0.28000000000000003]
["DIY and gardening products EPR",3,"21101710521","Modulated","DIY products","Large non-electric, non-combustion items and machines, and their accessories","Assembly of glass >50% and inert substances","≥2 kg and <3 kg","€ / unit",0.21,0.21,{"$f":"_xlfn.XLOOKUP(K1567,'Codes éco-part'!$C$6:$C$923,'Codes éco-part'!$B$6:$B$923)","v":"051"},0.25]
["DIY and gardening products EPR",3,"21101710530",null,"DIY products","Large non-electric, non-combustion items and machines, and their accessories","Assembly of glass >50% and inert substances","≥3 kg and <5 kg","€ / unit",0.36,0.36,{"$f":"_xlfn.XLOOKUP(K1568,'Codes éco-part'!$C$6:$C$923,'Codes éco-part'!$B$6:$B$923)","v":"449"},0.43]
["DIY and gardening products EPR",3,"21101710531","Modulated","DIY products","Large non-electric, non-combustion items and machines, and their accessories","Assembly of glass >50% and inert substances","≥3 kg and <5 kg","€ / unit",0.32,0.32,{"$f":"_xlfn.XLOOKUP(K1569,'Codes éco-part'!$C$6:$C$923,'Codes éco-part'!$B$6:$B$923)","v":"447"},0.38]
["DIY and gardening products EPR",3,"21101710540",null,"DIY products","Large non-electric, non-combustion items and machines, and their accessories","Assembly of glass >50% and inert substances","≥5 kg and <7 kg","€ / unit",0.63,0.63,{"$f":"_xlfn.XLOOKUP(K1570,'Codes éco-part'!$C$6:$C$923,'Codes éco-part'!$B$6:$B$923)","v":"297"},0.76]
["DIY and gardening products EPR",3,"21101710541","Modulated","DIY products","Large non-electric, non-combustion items and machines, and their accessories","Assembly of glass >50% and inert substances","≥5 kg and <7 kg","€ / unit",0.56999999999999995,0.56999999999999995,{"$f":"_xlfn.XLOOKUP(K1571,'Codes éco-part'!$C$6:$C$923,'Codes éco-part'!$B$6:$B$923)","v":"326"},0.68]
["DIY and gardening products EPR",3,"21101710550",null,"DIY products","Large non-electric, non-combustion items and machines, and their accessories","Assembly of glass >50% and inert substances","≥7 kg and <10 kg","€ / unit",0.9,0.9,{"$f":"_xlfn.XLOOKUP(K1572,'Codes éco-part'!$C$6:$C$923,'Codes éco-part'!$B$6:$B$923)","v":"330"},1.08]
["DIY and gardening products EPR",3,"21101710551","Modulated","DIY products","Large non-electric, non-combustion items and machines, and their accessories","Assembly of glass >50% and inert substances","≥7 kg and <10 kg","€ / unit",0.81,0.81,{"$f":"_xlfn.XLOOKUP(K1573,'Codes éco-part'!$C$6:$C$923,'Codes éco-part'!$B$6:$B$923)","v":"112"},0.97]
["DIY and gardening products EPR",3,"21101710560",null,"DIY products","Large non-electric, non-combustion items and machines, and their accessories","Assembly of glass >50% and inert substances","≥10 kg and <15 kg","€ / unit",1.35,1.35,{"$f":"_xlfn.XLOOKUP(K1574,'Codes éco-part'!$C$6:$C$923,'Codes éco-part'!$B$6:$B$923)","v":"332"},1.62]
["DIY and gardening products EPR",3,"21101710561","Modulated","DIY products","Large non-electric, non-combustion items and machines, and their accessories","Assembly of glass >50% and inert substances","≥10 kg and <15 kg","€ / unit",1.22,1.22,{"$f":"_xlfn.XLOOKUP(K1575,'Codes éco-part'!$C$6:$C$923,'Codes éco-part'!$B$6:$B$923)","v":"636"},1.46]
["DIY and gardening products EPR",3,"21101710570",null,"DIY products","Large non-electric, non-combustion items and machines, and their accessories","Assembly of glass >50% and inert substances","≥15 kg and <20 kg","€ / unit",1.8,1.8,{"$f":"_xlfn.XLOOKUP(K1576,'Codes éco-part'!$C$6:$C$923,'Codes éco-part'!$B$6:$B$923)","v":"603"},2.16]
["DIY and gardening products EPR",3,"21101710571","Modulated","DIY products","Large non-electric, non-combustion items and machines, and their accessories","Assembly of glass >50% and inert substances","≥15 kg and <20 kg","€ / unit",1.62,1.62,{"$f":"_xlfn.XLOOKUP(K1577,'Codes éco-part'!$C$6:$C$923,'Codes éco-part'!$B$6:$B$923)","v":"810"},1.94]
["DIY and gardening products EPR",3,"21101710580",null,"DIY products","Large non-electric, non-combustion items and machines, and their accessories","Assembly of glass >50% and inert substances","≥20 kg and <25 kg","€ / unit",2.25,2.25,{"$f":"_xlfn.XLOOKUP(K1578,'Codes éco-part'!$C$6:$C$923,'Codes éco-part'!$B$6:$B$923)","v":"118"},2.7]
["DIY and gardening products EPR",3,"21101710581","Modulated","DIY products","Large non-electric, non-combustion items and machines, and their accessories","Assembly of glass >50% and inert substances","≥20 kg and <25 kg","€ / unit",2.0299999999999998,2.0299999999999998,{"$f":"_xlfn.XLOOKUP(K1579,'Codes éco-part'!$C$6:$C$923,'Codes éco-part'!$B$6:$B$923)","v":937},2.44]
["DIY and gardening products EPR",3,"21101710590",null,"DIY products","Large non-electric, non-combustion items and machines, and their accessories","Assembly of glass >50% and inert substances","≥25 kg and <30 kg","€ / unit",2.7,2.7,{"$f":"_xlfn.XLOOKUP(K1580,'Codes éco-part'!$C$6:$C$923,'Codes éco-part'!$B$6:$B$923)","v":"611"},3.24]
["DIY and gardening products EPR",3,"21101710591","Modulated","DIY products","Large non-electric, non-combustion items and machines, and their accessories","Assembly of glass >50% and inert substances","≥25 kg and <30 kg","€ / unit",2.4300000000000002,2.4300000000000002,{"$f":"_xlfn.XLOOKUP(K1581,'Codes éco-part'!$C$6:$C$923,'Codes éco-part'!$B$6:$B$923)","v":"471"},2.92]
["DIY and gardening products EPR",3,"21101710600",null,"DIY products","Large non-electric, non-combustion items and machines, and their accessories","Assembly of glass >50% and inert substances","≥40 kg and <50 kg","€ / unit",4.5,4.5,{"$f":"_xlfn.XLOOKUP(K1582,'Codes éco-part'!$C$6:$C$923,'Codes éco-part'!$B$6:$B$923)","v":"127"},5.4]
["DIY and gardening products EPR",3,"21101710601","Modulated","DIY products","Large non-electric, non-combustion items and machines, and their accessories","Assembly of glass >50% and inert substances","≥40 kg and <50 kg","€ / unit",4.05,4.05,{"$f":"_xlfn.XLOOKUP(K1583,'Codes éco-part'!$C$6:$C$923,'Codes éco-part'!$B$6:$B$923)","v":"884"},4.8600000000000003]
["DIY and gardening products EPR",3,"21101720000",null,"DIY products","Large non-electric, non-combustion items and machines, and their accessories","Assembly of glass >50% and wood or wood derivatives","Elements of all sizes and weights","€ / ton",90,90,{"$f":"_xlfn.XLOOKUP(K1584,'Codes éco-part'!$C$6:$C$923,'Codes éco-part'!$B$6:$B$923)","v":"609"},108]
["DIY and gardening products EPR",3,"21101720001","Modulated","DIY products","Large non-electric, non-combustion items and machines, and their accessories","Assembly of glass >50% and wood or wood derivatives","Elements of all sizes and weights","€ / ton",81,81,{"$f":"_xlfn.XLOOKUP(K1585,'Codes éco-part'!$C$6:$C$923,'Codes éco-part'!$B$6:$B$923)","v":943},97.2]
["DIY and gardening products EPR",3,"21101720200",null,"DIY products","Large non-electric, non-combustion items and machines, and their accessories","Assembly of glass >50% and wood or wood derivatives","Strictly <0.5 kg","€ / unit",0.02,0.02,{"$f":"_xlfn.XLOOKUP(K1586,'Codes éco-part'!$C$6:$C$923,'Codes éco-part'!$B$6:$B$923)","v":"047"},0.02]
["DIY and gardening products EPR",3,"21101720201","Modulated","DIY products","Large non-electric, non-combustion items and machines, and their accessories","Assembly of glass >50% and wood or wood derivatives","Strictly <0.5 kg","€ / unit",0.02,0.02,{"$f":"_xlfn.XLOOKUP(K1587,'Codes éco-part'!$C$6:$C$923,'Codes éco-part'!$B$6:$B$923)","v":"047"},0.02]
["DIY and gardening products EPR",3,"21101720210",null,"DIY products","Large non-electric, non-combustion items and machines, and their accessories","Assembly of glass >50% and wood or wood derivatives","≥0.5 kg and <1 kg","€ / unit",7.0000000000000007E-2,7.0000000000000007E-2,{"$f":"_xlfn.XLOOKUP(K1588,'Codes éco-part'!$C$6:$C$923,'Codes éco-part'!$B$6:$B$923)","v":"247"},0.08]
["DIY and gardening products EPR",3,"21101720211","Modulated","DIY products","Large non-electric, non-combustion items and machines, and their accessories","Assembly of glass >50% and wood or wood derivatives","≥0.5 kg and <1 kg","€ / unit",0.06,0.06,{"$f":"_xlfn.XLOOKUP(K1589,'Codes éco-part'!$C$6:$C$923,'Codes éco-part'!$B$6:$B$923)","v":"096"},7.0000000000000007E-2]
["DIY and gardening products EPR",3,"21101720220",null,"DIY products","Large non-electric, non-combustion items and machines, and their accessories","Assembly of glass >50% and wood or wood derivatives","≥1 kg and <2 kg","€ / unit",0.14000000000000001,0.14000000000000001,{"$f":"_xlfn.XLOOKUP(K1590,'Codes éco-part'!$C$6:$C$923,'Codes éco-part'!$B$6:$B$923)","v":"098"},0.17]
["DIY and gardening products EPR",3,"21101720221","Modulated","DIY products","Large non-electric, non-combustion items and machines, and their accessories","Assembly of glass >50% and wood or wood derivatives","≥1 kg and <2 kg","€ / unit",0.13,0.13,{"$f":"_xlfn.XLOOKUP(K1591,'Codes éco-part'!$C$6:$C$923,'Codes éco-part'!$B$6:$B$923)","v":"004"},0.16]
["DIY and gardening products EPR",3,"21101720270",null,"DIY products","Large non-electric, non-combustion items and machines, and their accessories","Assembly of glass >50% and wood or wood derivatives","≥30 kg and <40 kg","€ / unit",3.6,3.6,{"$f":"_xlfn.XLOOKUP(K1592,'Codes éco-part'!$C$6:$C$923,'Codes éco-part'!$B$6:$B$923)","v":"610"},4.32]
["DIY and gardening products EPR",3,"21101720271","Modulated","DIY products","Large non-electric, non-combustion items and machines, and their accessories","Assembly of glass >50% and wood or wood derivatives","≥30 kg and <40 kg","€ / unit",3.24,3.24,{"$f":"_xlfn.XLOOKUP(K1593,'Codes éco-part'!$C$6:$C$923,'Codes éco-part'!$B$6:$B$923)","v":944},3.89]
["DIY and gardening products EPR",3,"21101720520",null,"DIY products","Large non-electric, non-combustion items and machines, and their accessories","Assembly of glass >50% and wood or wood derivatives","≥2 kg and <3 kg","€ / unit",0.23,0.23,{"$f":"_xlfn.XLOOKUP(K1594,'Codes éco-part'!$C$6:$C$923,'Codes éco-part'!$B$6:$B$923)","v":"323"},0.28000000000000003]
["DIY and gardening products EPR",3,"21101720521","Modulated","DIY products","Large non-electric, non-combustion items and machines, and their accessories","Assembly of glass >50% and wood or wood derivatives","≥2 kg and <3 kg","€ / unit",0.21,0.21,{"$f":"_xlfn.XLOOKUP(K1595,'Codes éco-part'!$C$6:$C$923,'Codes éco-part'!$B$6:$B$923)","v":"051"},0.25]
["DIY and gardening products EPR",3,"21101720530",null,"DIY products","Large non-electric, non-combustion items and machines, and their accessories","Assembly of glass >50% and wood or wood derivatives","≥3 kg and <5 kg","€ / unit",0.36,0.36,{"$f":"_xlfn.XLOOKUP(K1596,'Codes éco-part'!$C$6:$C$923,'Codes éco-part'!$B$6:$B$923)","v":"449"},0.43]
["DIY and gardening products EPR",3,"21101720531","Modulated","DIY products","Large non-electric, non-combustion items and machines, and their accessories","Assembly of glass >50% and wood or wood derivatives","≥3 kg and <5 kg","€ / unit",0.32,0.32,{"$f":"_xlfn.XLOOKUP(K1597,'Codes éco-part'!$C$6:$C$923,'Codes éco-part'!$B$6:$B$923)","v":"447"},0.38]
["DIY and gardening products EPR",3,"21101720540",null,"DIY products","Large non-electric, non-combustion items and machines, and their accessories","Assembly of glass >50% and wood or wood derivatives","≥5 kg and <7 kg","€ / unit",0.63,0.63,{"$f":"_xlfn.XLOOKUP(K1598,'Codes éco-part'!$C$6:$C$923,'Codes éco-part'!$B$6:$B$923)","v":"297"},0.76]
["DIY and gardening products EPR",3,"21101720541","Modulated","DIY products","Large non-electric, non-combustion items and machines, and their accessories","Assembly of glass >50% and wood or wood derivatives","≥5 kg and <7 kg","€ / unit",0.56999999999999995,0.56999999999999995,{"$f":"_xlfn.XLOOKUP(K1599,'Codes éco-part'!$C$6:$C$923,'Codes éco-part'!$B$6:$B$923)","v":"326"},0.68]
["DIY and gardening products EPR",3,"21101720550",null,"DIY products","Large non-electric, non-combustion items and machines, and their accessories","Assembly of glass >50% and wood or wood derivatives","≥7 kg and <10 kg","€ / unit",0.9,0.9,{"$f":"_xlfn.XLOOKUP(K1600,'Codes éco-part'!$C$6:$C$923,'Codes éco-part'!$B$6:$B$923)","v":"330"},1.08]
["DIY and gardening products EPR",3,"21101720551","Modulated","DIY products","Large non-electric, non-combustion items and machines, and their accessories","Assembly of glass >50% and wood or wood derivatives","≥7 kg and <10 kg","€ / unit",0.81,0.81,{"$f":"_xlfn.XLOOKUP(K1601,'Codes éco-part'!$C$6:$C$923,'Codes éco-part'!$B$6:$B$923)","v":"112"},0.97]
["DIY and gardening products EPR",3,"21101720560",null,"DIY products","Large non-electric, non-combustion items and machines, and their accessories","Assembly of glass >50% and wood or wood derivatives","≥10 kg and <15 kg","€ / unit",1.35,1.35,{"$f":"_xlfn.XLOOKUP(K1602,'Codes éco-part'!$C$6:$C$923,'Codes éco-part'!$B$6:$B$923)","v":"332"},{"$f":"ROUND(K1602*1.2,2)","v":1.62}]
["DIY and gardening products EPR",3,"21101720561","Modulated","DIY products","Large non-electric, non-combustion items and machines, and their accessories","Assembly of glass >50% and wood or wood derivatives","≥10 kg and <15 kg","€ / unit",1.22,1.22,{"$f":"_xlfn.XLOOKUP(K1603,'Codes éco-part'!$C$6:$C$923,'Codes éco-part'!$B$6:$B$923)","v":"636"},1.46]
["DIY and gardening products EPR",3,"21101720570",null,"DIY products","Large non-electric, non-combustion items and machines, and their accessories","Assembly of glass >50% and wood or wood derivatives","≥15 kg and <20 kg","€ / unit",1.8,1.8,{"$f":"_xlfn.XLOOKUP(K1604,'Codes éco-part'!$C$6:$C$923,'Codes éco-part'!$B$6:$B$923)","v":"603"},2.16]
["DIY and gardening products EPR",3,"21101720571","Modulated","DIY products","Large non-electric, non-combustion items and machines, and their accessories","Assembly of glass >50% and wood or wood derivatives","≥15 kg and <20 kg","€ / unit",1.62,1.62,{"$f":"_xlfn.XLOOKUP(K1605,'Codes éco-part'!$C$6:$C$923,'Codes éco-part'!$B$6:$B$923)","v":"810"},1.94]
["DIY and gardening products EPR",3,"21101720580",null,"DIY products","Large non-electric, non-combustion items and machines, and their accessories","Assembly of glass >50% and wood or wood derivatives","≥20 kg and <25 kg","€ / unit",2.25,2.25,{"$f":"_xlfn.XLOOKUP(K1606,'Codes éco-part'!$C$6:$C$923,'Codes éco-part'!$B$6:$B$923)","v":"118"},2.7]
["DIY and gardening products EPR",3,"21101720581","Modulated","DIY products","Large non-electric, non-combustion items and machines, and their accessories","Assembly of glass >50% and wood or wood derivatives","≥20 kg and <25 kg","€ / unit",2.0299999999999998,2.0299999999999998,{"$f":"_xlfn.XLOOKUP(K1607,'Codes éco-part'!$C$6:$C$923,'Codes éco-part'!$B$6:$B$923)","v":937},2.44]
["DIY and gardening products EPR",3,"21101720590",null,"DIY products","Large non-electric, non-combustion items and machines, and their accessories","Assembly of glass >50% and wood or wood derivatives","≥25 kg and <30 kg","€ / unit",2.7,2.7,{"$f":"_xlfn.XLOOKUP(K1608,'Codes éco-part'!$C$6:$C$923,'Codes éco-part'!$B$6:$B$923)","v":"611"},3.24]
["DIY and gardening products EPR",3,"21101720591","Modulated","DIY products","Large non-electric, non-combustion items and machines, and their accessories","Assembly of glass >50% and wood or wood derivatives","≥25 kg and <30 kg","€ / unit",2.4300000000000002,2.4300000000000002,{"$f":"_xlfn.XLOOKUP(K1609,'Codes éco-part'!$C$6:$C$923,'Codes éco-part'!$B$6:$B$923)","v":"471"},2.92]
["DIY and gardening products EPR",3,"21101720600",null,"DIY products","Large non-electric, non-combustion items and machines, and their accessories","Assembly of glass >50% and wood or wood derivatives","≥40 kg and <50 kg","€ / unit",4.5,4.5,{"$f":"_xlfn.XLOOKUP(K1610,'Codes éco-part'!$C$6:$C$923,'Codes éco-part'!$B$6:$B$923)","v":"127"},5.4]
["DIY and gardening products EPR",3,"21101720601","Modulated","DIY products","Large non-electric, non-combustion items and machines, and their accessories","Assembly of glass >50% and wood or wood derivatives","≥40 kg and <50 kg","€ / unit",4.05,4.05,{"$f":"_xlfn.XLOOKUP(K1611,'Codes éco-part'!$C$6:$C$923,'Codes éco-part'!$B$6:$B$923)","v":"884"},4.8600000000000003]
["DIY and gardening products EPR",3,"21101730000",null,"DIY products","Large non-electric, non-combustion items and machines, and their accessories","Assembly of glass >50% and plastic","Elements of all sizes and weights","€ / ton",90,90,{"$f":"_xlfn.XLOOKUP(K1612,'Codes éco-part'!$C$6:$C$923,'Codes éco-part'!$B$6:$B$923)","v":"609"},108]
["DIY and gardening products EPR",3,"21101730001","Modulated","DIY products","Large non-electric, non-combustion items and machines, and their accessories","Assembly of glass >50% and plastic","Elements of all sizes and weights","€ / ton",81,81,{"$f":"_xlfn.XLOOKUP(K1613,'Codes éco-part'!$C$6:$C$923,'Codes éco-part'!$B$6:$B$923)","v":943},97.2]
["DIY and gardening products EPR",3,"21101730200",null,"DIY products","Large non-electric, non-combustion items and machines, and their accessories","Assembly of glass >50% and plastic","Strictly <0.5 kg","€ / unit",0.02,0.02,{"$f":"_xlfn.XLOOKUP(K1614,'Codes éco-part'!$C$6:$C$923,'Codes éco-part'!$B$6:$B$923)","v":"047"},0.02]
["DIY and gardening products EPR",3,"21101730201","Modulated","DIY products","Large non-electric, non-combustion items and machines, and their accessories","Assembly of glass >50% and plastic","Strictly <0.5 kg","€ / unit",0.02,0.02,{"$f":"_xlfn.XLOOKUP(K1615,'Codes éco-part'!$C$6:$C$923,'Codes éco-part'!$B$6:$B$923)","v":"047"},0.02]
["DIY and gardening products EPR",3,"21101730210",null,"DIY products","Large non-electric, non-combustion items and machines, and their accessories","Assembly of glass >50% and plastic","≥0.5 kg and <1 kg","€ / unit",7.0000000000000007E-2,7.0000000000000007E-2,{"$f":"_xlfn.XLOOKUP(K1616,'Codes éco-part'!$C$6:$C$923,'Codes éco-part'!$B$6:$B$923)","v":"247"},0.08]
["DIY and gardening products EPR",3,"21101730211","Modulated","DIY products","Large non-electric, non-combustion items and machines, and their accessories","Assembly of glass >50% and plastic","≥0.5 kg and <1 kg","€ / unit",0.06,0.06,{"$f":"_xlfn.XLOOKUP(K1617,'Codes éco-part'!$C$6:$C$923,'Codes éco-part'!$B$6:$B$923)","v":"096"},7.0000000000000007E-2]
["DIY and gardening products EPR",3,"21101730220",null,"DIY products","Large non-electric, non-combustion items and machines, and their accessories","Assembly of glass >50% and plastic","≥1 kg and <2 kg","€ / unit",0.14000000000000001,0.14000000000000001,{"$f":"_xlfn.XLOOKUP(K1618,'Codes éco-part'!$C$6:$C$923,'Codes éco-part'!$B$6:$B$923)","v":"098"},0.17]
["DIY and gardening products EPR",3,"21101730221","Modulated","DIY products","Large non-electric, non-combustion items and machines, and their accessories","Assembly of glass >50% and plastic","≥1 kg and <2 kg","€ / unit",0.13,0.13,{"$f":"_xlfn.XLOOKUP(K1619,'Codes éco-part'!$C$6:$C$923,'Codes éco-part'!$B$6:$B$923)","v":"004"},0.16]
["DIY and gardening products EPR",3,"21101730270",null,"DIY products","Large non-electric, non-combustion items and machines, and their accessories","Assembly of glass >50% and plastic","≥30 kg and <40 kg","€ / unit",3.6,3.6,{"$f":"_xlfn.XLOOKUP(K1620,'Codes éco-part'!$C$6:$C$923,'Codes éco-part'!$B$6:$B$923)","v":"610"},4.32]
["DIY and gardening products EPR",3,"21101730271","Modulated","DIY products","Large non-electric, non-combustion items and machines, and their accessories","Assembly of glass >50% and plastic","≥30 kg and <40 kg","€ / unit",3.24,3.24,{"$f":"_xlfn.XLOOKUP(K1621,'Codes éco-part'!$C$6:$C$923,'Codes éco-part'!$B$6:$B$923)","v":944},3.89]
["DIY and gardening products EPR",3,"21101730520",null,"DIY products","Large non-electric, non-combustion items and machines, and their accessories","Assembly of glass >50% and plastic","≥2 kg and <3 kg","€ / unit",0.23,0.23,{"$f":"_xlfn.XLOOKUP(K1622,'Codes éco-part'!$C$6:$C$923,'Codes éco-part'!$B$6:$B$923)","v":"323"},0.28000000000000003]
["DIY and gardening products EPR",3,"21101730521","Modulated","DIY products","Large non-electric, non-combustion items and machines, and their accessories","Assembly of glass >50% and plastic","≥2 kg and <3 kg","€ / unit",0.21,0.21,{"$f":"_xlfn.XLOOKUP(K1623,'Codes éco-part'!$C$6:$C$923,'Codes éco-part'!$B$6:$B$923)","v":"051"},0.25]
["DIY and gardening products EPR",3,"21101730530",null,"DIY products","Large non-electric, non-combustion items and machines, and their accessories","Assembly of glass >50% and plastic","≥3 kg and <5 kg","€ / unit",0.36,0.36,{"$f":"_xlfn.XLOOKUP(K1624,'Codes éco-part'!$C$6:$C$923,'Codes éco-part'!$B$6:$B$923)","v":"449"},0.43]
["DIY and gardening products EPR",3,"21101730531","Modulated","DIY products","Large non-electric, non-combustion items and machines, and their accessories","Assembly of glass >50% and plastic","≥3 kg and <5 kg","€ / unit",0.32,0.32,{"$f":"_xlfn.XLOOKUP(K1625,'Codes éco-part'!$C$6:$C$923,'Codes éco-part'!$B$6:$B$923)","v":"447"},0.38]
["DIY and gardening products EPR",3,"21101730540",null,"DIY products","Large non-electric, non-combustion items and machines, and their accessories","Assembly of glass >50% and plastic","≥5 kg and <7 kg","€ / unit",0.63,0.63,{"$f":"_xlfn.XLOOKUP(K1626,'Codes éco-part'!$C$6:$C$923,'Codes éco-part'!$B$6:$B$923)","v":"297"},0.76]
["DIY and gardening products EPR",3,"21101730541","Modulated","DIY products","Large non-electric, non-combustion items and machines, and their accessories","Assembly of glass >50% and plastic","≥5 kg and <7 kg","€ / unit",0.56999999999999995,0.56999999999999995,{"$f":"_xlfn.XLOOKUP(K1627,'Codes éco-part'!$C$6:$C$923,'Codes éco-part'!$B$6:$B$923)","v":"326"},0.68]
["DIY and gardening products EPR",3,"21101730550",null,"DIY products","Large non-electric, non-combustion items and machines, and their accessories","Assembly of glass >50% and plastic","≥7 kg and <10 kg","€ / unit",0.9,0.9,{"$f":"_xlfn.XLOOKUP(K1628,'Codes éco-part'!$C$6:$C$923,'Codes éco-part'!$B$6:$B$923)","v":"330"},1.08]
["DIY and gardening products EPR",3,"21101730551","Modulated","DIY products","Large non-electric, non-combustion items and machines, and their accessories","Assembly of glass >50% and plastic","≥7 kg and <10 kg","€ / unit",0.81,0.81,{"$f":"_xlfn.XLOOKUP(K1629,'Codes éco-part'!$C$6:$C$923,'Codes éco-part'!$B$6:$B$923)","v":"112"},0.97]
["DIY and gardening products EPR",3,"21101730560",null,"DIY products","Large non-electric, non-combustion items and machines, and their accessories","Assembly of glass >50% and plastic","≥10 kg and <15 kg","€ / unit",1.35,1.35,{"$f":"_xlfn.XLOOKUP(K1630,'Codes éco-part'!$C$6:$C$923,'Codes éco-part'!$B$6:$B$923)","v":"332"},1.62]
["DIY and gardening products EPR",3,"21101730561","Modulated","DIY products","Large non-electric, non-combustion items and machines, and their accessories","Assembly of glass >50% and plastic","≥10 kg and <15 kg","€ / unit",1.22,1.22,{"$f":"_xlfn.XLOOKUP(K1631,'Codes éco-part'!$C$6:$C$923,'Codes éco-part'!$B$6:$B$923)","v":"636"},1.46]
["DIY and gardening products EPR",3,"21101730570",null,"DIY products","Large non-electric, non-combustion items and machines, and their accessories","Assembly of glass >50% and plastic","≥15 kg and <20 kg","€ / unit",1.8,1.8,{"$f":"_xlfn.XLOOKUP(K1632,'Codes éco-part'!$C$6:$C$923,'Codes éco-part'!$B$6:$B$923)","v":"603"},2.16]
["DIY and gardening products EPR",3,"21101730571","Modulated","DIY products","Large non-electric, non-combustion items and machines, and their accessories","Assembly of glass >50% and plastic","≥15 kg and <20 kg","€ / unit",1.62,1.62,{"$f":"_xlfn.XLOOKUP(K1633,'Codes éco-part'!$C$6:$C$923,'Codes éco-part'!$B$6:$B$923)","v":"810"},1.94]
["DIY and gardening products EPR",3,"21101730580",null,"DIY products","Large non-electric, non-combustion items and machines, and their accessories","Assembly of glass >50% and plastic","≥20 kg and <25 kg","€ / unit",2.25,2.25,{"$f":"_xlfn.XLOOKUP(K1634,'Codes éco-part'!$C$6:$C$923,'Codes éco-part'!$B$6:$B$923)","v":"118"},2.7]
["DIY and gardening products EPR",3,"21101730581","Modulated","DIY products","Large non-electric, non-combustion items and machines, and their accessories","Assembly of glass >50% and plastic","≥20 kg and <25 kg","€ / unit",2.0299999999999998,2.0299999999999998,{"$f":"_xlfn.XLOOKUP(K1635,'Codes éco-part'!$C$6:$C$923,'Codes éco-part'!$B$6:$B$923)","v":937},2.44]
["DIY and gardening products EPR",3,"21101730590",null,"DIY products","Large non-electric, non-combustion items and machines, and their accessories","Assembly of glass >50% and plastic","≥25 kg and <30 kg","€ / unit",2.7,2.7,{"$f":"_xlfn.XLOOKUP(K1636,'Codes éco-part'!$C$6:$C$923,'Codes éco-part'!$B$6:$B$923)","v":"611"},3.24]
["DIY and gardening products EPR",3,"21101730591","Modulated","DIY products","Large non-electric, non-combustion items and machines, and their accessories","Assembly of glass >50% and plastic","≥25 kg and <30 kg","€ / unit",2.4300000000000002,2.4300000000000002,{"$f":"_xlfn.XLOOKUP(K1637,'Codes éco-part'!$C$6:$C$923,'Codes éco-part'!$B$6:$B$923)","v":"471"},2.92]
["DIY and gardening products EPR",3,"21101730600",null,"DIY products","Large non-electric, non-combustion items and machines, and their accessories","Assembly of glass >50% and plastic","≥40 kg and <50 kg","€ / unit",4.5,4.5,{"$f":"_xlfn.XLOOKUP(K1638,'Codes éco-part'!$C$6:$C$923,'Codes éco-part'!$B$6:$B$923)","v":"127"},5.4]
["DIY and gardening products EPR",3,"21101730601","Modulated","DIY products","Large non-electric, non-combustion items and machines, and their accessories","Assembly of glass >50% and plastic","≥40 kg and <50 kg","€ / unit",4.05,4.05,{"$f":"_xlfn.XLOOKUP(K1639,'Codes éco-part'!$C$6:$C$923,'Codes éco-part'!$B$6:$B$923)","v":"884"},4.8600000000000003]
["DIY and gardening products EPR",3,"21101740000",null,"DIY products","Large non-electric, non-combustion items and machines, and their accessories","Concrete >90%","Elements of all sizes and weights","€ / ton",8.75,8.75,{"$f":"_xlfn.XLOOKUP(K1640,'Codes éco-part'!$C$6:$C$923,'Codes éco-part'!$B$6:$B$923)","v":"069"},10.5]
["DIY and gardening products EPR",3,"21101740001","Modulated","DIY products","Large non-electric, non-combustion items and machines, and their accessories","Concrete >90%","Elements of all sizes and weights","€ / ton",7.88,7.88,{"$f":"_xlfn.XLOOKUP(K1641,'Codes éco-part'!$C$6:$C$923,'Codes éco-part'!$B$6:$B$923)","v":"354"},9.4600000000000009]
["DIY and gardening products EPR",3,"21101740200",null,"DIY products","Large non-electric, non-combustion items and machines, and their accessories","Concrete >90%","Strictly <0.5 kg","€ / unit",0.01,0.01,{"$f":"_xlfn.XLOOKUP(K1642,'Codes éco-part'!$C$6:$C$923,'Codes éco-part'!$B$6:$B$923)","v":"260"},0.01]
["DIY and gardening products EPR",3,"21101740201","Modulated","DIY products","Large non-electric, non-combustion items and machines, and their accessories","Concrete >90%","Strictly <0.5 kg","€ / unit",0.01,0.01,{"$f":"_xlfn.XLOOKUP(K1643,'Codes éco-part'!$C$6:$C$923,'Codes éco-part'!$B$6:$B$923)","v":"260"},0.01]
["DIY and gardening products EPR",3,"21101740210",null,"DIY products","Large non-electric, non-combustion items and machines, and their accessories","Concrete >90%","≥0.5 kg and <1 kg","€ / unit",0.01,0.01,{"$f":"_xlfn.XLOOKUP(K1644,'Codes éco-part'!$C$6:$C$923,'Codes éco-part'!$B$6:$B$923)","v":"260"},0.01]
["DIY and gardening products EPR",3,"21101740211","Modulated","DIY products","Large non-electric, non-combustion items and machines, and their accessories","Concrete >90%","≥0.5 kg and <1 kg","€ / unit",0.01,0.01,{"$f":"_xlfn.XLOOKUP(K1645,'Codes éco-part'!$C$6:$C$923,'Codes éco-part'!$B$6:$B$923)","v":"260"},0.01]
["DIY and gardening products EPR",3,"21101740220",null,"DIY products","Large non-electric, non-combustion items and machines, and their accessories","Concrete >90%","≥1 kg and <2 kg","€ / unit",0.01,0.01,{"$f":"_xlfn.XLOOKUP(K1646,'Codes éco-part'!$C$6:$C$923,'Codes éco-part'!$B$6:$B$923)","v":"260"},0.01]
["DIY and gardening products EPR",3,"21101740221","Modulated","DIY products","Large non-electric, non-combustion items and machines, and their accessories","Concrete >90%","≥1 kg and <2 kg","€ / unit",0.01,0.01,{"$f":"_xlfn.XLOOKUP(K1647,'Codes éco-part'!$C$6:$C$923,'Codes éco-part'!$B$6:$B$923)","v":"260"},0.01]
["DIY and gardening products EPR",3,"21101740270",null,"DIY products","Large non-electric, non-combustion items and machines, and their accessories","Concrete >90%","≥30 kg and <40 kg","€ / unit",0.35,0.35,{"$f":"_xlfn.XLOOKUP(K1648,'Codes éco-part'!$C$6:$C$923,'Codes éco-part'!$B$6:$B$923)","v":"448"},0.42]
["DIY and gardening products EPR",3,"21101740271","Modulated","DIY products","Large non-electric, non-combustion items and machines, and their accessories","Concrete >90%","≥30 kg and <40 kg","€ / unit",0.32,0.32,{"$f":"_xlfn.XLOOKUP(K1649,'Codes éco-part'!$C$6:$C$923,'Codes éco-part'!$B$6:$B$923)","v":"447"},0.38]
["DIY and gardening products EPR",3,"21101740520",null,"DIY products","Large non-electric, non-combustion items and machines, and their accessories","Concrete >90%","≥2 kg and <3 kg","€ / unit",0.02,0.02,{"$f":"_xlfn.XLOOKUP(K1650,'Codes éco-part'!$C$6:$C$923,'Codes éco-part'!$B$6:$B$923)","v":"047"},0.02]
["DIY and gardening products EPR",3,"21101740521","Modulated","DIY products","Large non-electric, non-combustion items and machines, and their accessories","Concrete >90%","≥2 kg and <3 kg","€ / unit",0.02,0.02,{"$f":"_xlfn.XLOOKUP(K1651,'Codes éco-part'!$C$6:$C$923,'Codes éco-part'!$B$6:$B$923)","v":"047"},0.02]
["DIY and gardening products EPR",3,"21101740530",null,"DIY products","Large non-electric, non-combustion items and machines, and their accessories","Concrete >90%","≥3 kg and <5 kg","€ / unit",0.04,0.04,{"$f":"_xlfn.XLOOKUP(K1652,'Codes éco-part'!$C$6:$C$923,'Codes éco-part'!$B$6:$B$923)","v":"002"},0.05]
["DIY and gardening products EPR",3,"21101740531","Modulated","DIY products","Large non-electric, non-combustion items and machines, and their accessories","Concrete >90%","≥3 kg and <5 kg","€ / unit",0.04,0.04,{"$f":"_xlfn.XLOOKUP(K1653,'Codes éco-part'!$C$6:$C$923,'Codes éco-part'!$B$6:$B$923)","v":"002"},0.05]
["DIY and gardening products EPR",3,"21101740540",null,"DIY products","Large non-electric, non-combustion items and machines, and their accessories","Concrete >90%","≥5 kg and <7 kg","€ / unit",0.06,0.06,{"$f":"_xlfn.XLOOKUP(K1654,'Codes éco-part'!$C$6:$C$923,'Codes éco-part'!$B$6:$B$923)","v":"096"},7.0000000000000007E-2]
["DIY and gardening products EPR",3,"21101740541","Modulated","DIY products","Large non-electric, non-combustion items and machines, and their accessories","Concrete >90%","≥5 kg and <7 kg","€ / unit",0.05,0.05,{"$f":"_xlfn.XLOOKUP(K1655,'Codes éco-part'!$C$6:$C$923,'Codes éco-part'!$B$6:$B$923)","v":"048"},0.06]
["DIY and gardening products EPR",3,"21101740550",null,"DIY products","Large non-electric, non-combustion items and machines, and their accessories","Concrete >90%","≥7 kg and <10 kg","€ / unit",0.09,0.09,{"$f":"_xlfn.XLOOKUP(K1656,'Codes éco-part'!$C$6:$C$923,'Codes éco-part'!$B$6:$B$923)","v":"049"},0.11]
["DIY and gardening products EPR",3,"21101740551","Modulated","DIY products","Large non-electric, non-combustion items and machines, and their accessories","Concrete >90%","≥7 kg and <10 kg","€ / unit",0.08,0.08,{"$f":"_xlfn.XLOOKUP(K1657,'Codes éco-part'!$C$6:$C$923,'Codes éco-part'!$B$6:$B$923)","v":"003"},0.1]
["DIY and gardening products EPR",3,"21101740560",null,"DIY products","Large non-electric, non-combustion items and machines, and their accessories","Concrete >90%","≥10 kg and <15 kg","€ / unit",0.13,0.13,{"$f":"_xlfn.XLOOKUP(K1658,'Codes éco-part'!$C$6:$C$923,'Codes éco-part'!$B$6:$B$923)","v":"004"},0.16]
["DIY and gardening products EPR",3,"21101740561","Modulated","DIY products","Large non-electric, non-combustion items and machines, and their accessories","Concrete >90%","≥10 kg and <15 kg","€ / unit",0.12,0.12,{"$f":"_xlfn.XLOOKUP(K1659,'Codes éco-part'!$C$6:$C$923,'Codes éco-part'!$B$6:$B$923)","v":"097"},0.14000000000000001]
["DIY and gardening products EPR",3,"21101740570",null,"DIY products","Large non-electric, non-combustion items and machines, and their accessories","Concrete >90%","≥15 kg and <20 kg","€ / unit",0.18,0.18,{"$f":"_xlfn.XLOOKUP(K1660,'Codes éco-part'!$C$6:$C$923,'Codes éco-part'!$B$6:$B$923)","v":"100"},0.22]
["DIY and gardening products EPR",3,"21101740571","Modulated","DIY products","Large non-electric, non-combustion items and machines, and their accessories","Concrete >90%","≥15 kg and <20 kg","€ / unit",0.16,0.16,{"$f":"_xlfn.XLOOKUP(K1661,'Codes éco-part'!$C$6:$C$923,'Codes éco-part'!$B$6:$B$923)","v":"099"},0.19]
["DIY and gardening products EPR",3,"21101740580",null,"DIY products","Large non-electric, non-combustion items and machines, and their accessories","Concrete >90%","≥20 kg and <25 kg","€ / unit",0.22,0.22,{"$f":"_xlfn.XLOOKUP(K1662,'Codes éco-part'!$C$6:$C$923,'Codes éco-part'!$B$6:$B$923)","v":"263"},0.26]
["DIY and gardening products EPR",3,"21101740581","Modulated","DIY products","Large non-electric, non-combustion items and machines, and their accessories","Concrete >90%","≥20 kg and <25 kg","€ / unit",0.2,0.2,{"$f":"_xlfn.XLOOKUP(K1663,'Codes éco-part'!$C$6:$C$923,'Codes éco-part'!$B$6:$B$923)","v":"101"},0.24]
["DIY and gardening products EPR",3,"21101740590",null,"DIY products","Large non-electric, non-combustion items and machines, and their accessories","Concrete >90%","≥25 kg and <30 kg","€ / unit",0.26,0.26,{"$f":"_xlfn.XLOOKUP(K1664,'Codes éco-part'!$C$6:$C$923,'Codes éco-part'!$B$6:$B$923)","v":"445"},0.31]
["DIY and gardening products EPR",3,"21101740591","Modulated","DIY products","Large non-electric, non-combustion items and machines, and their accessories","Concrete >90%","≥25 kg and <30 kg","€ / unit",0.23,0.23,{"$f":"_xlfn.XLOOKUP(K1665,'Codes éco-part'!$C$6:$C$923,'Codes éco-part'!$B$6:$B$923)","v":"323"},0.28000000000000003]
["DIY and gardening products EPR",3,"21101740600",null,"DIY products","Large non-electric, non-combustion items and machines, and their accessories","Concrete >90%","≥40 kg and <50 kg","€ / unit",0.44,0.44,{"$f":"_xlfn.XLOOKUP(K1666,'Codes éco-part'!$C$6:$C$923,'Codes éco-part'!$B$6:$B$923)","v":"281"},{"$f":"ROUND(K1666*1.2,2)","v":0.53}]
["DIY and gardening products EPR",3,"21101740601","Modulated","DIY products","Large non-electric, non-combustion items and machines, and their accessories","Concrete >90%","≥40 kg and <50 kg","€ / unit",0.4,0.4,{"$f":"_xlfn.XLOOKUP(K1667,'Codes éco-part'!$C$6:$C$923,'Codes éco-part'!$B$6:$B$923)","v":"105"},0.48]
["DIY and gardening products EPR",3,"21101810000",null,"DIY products","Large non-electric, non-combustion items and machines, and their accessories","Assembly of wood, wood derivatives, and metal with a combination representing >90%","Elements of all sizes and weights","€ / ton",13,13,{"$f":"_xlfn.XLOOKUP(K1668,'Codes éco-part'!$C$6:$C$923,'Codes éco-part'!$B$6:$B$923)","v":"486"},15.6]
["DIY and gardening products EPR",3,"21101810001","Modulated","DIY products","Large non-electric, non-combustion items and machines, and their accessories","Assembly of wood, wood derivatives, and metal with a combination representing >90%","Elements of all sizes and weights","€ / ton",11.7,11.7,{"$f":"_xlfn.XLOOKUP(K1669,'Codes éco-part'!$C$6:$C$923,'Codes éco-part'!$B$6:$B$923)","v":945},14.04]
["DIY and gardening products EPR",3,"21101810200",null,"DIY products","Large non-electric, non-combustion items and machines, and their accessories","Assembly of wood, wood derivatives, and metal with a combination representing >90%","Strictly <0.5 kg","€ / unit",0.01,0.01,{"$f":"_xlfn.XLOOKUP(K1670,'Codes éco-part'!$C$6:$C$923,'Codes éco-part'!$B$6:$B$923)","v":"260"},0.01]
["DIY and gardening products EPR",3,"21101810201","Modulated","DIY products","Large non-electric, non-combustion items and machines, and their accessories","Assembly of wood, wood derivatives, and metal with a combination representing >90%","Strictly <0.5 kg","€ / unit",0.01,0.01,{"$f":"_xlfn.XLOOKUP(K1671,'Codes éco-part'!$C$6:$C$923,'Codes éco-part'!$B$6:$B$923)","v":"260"},0.01]
["DIY and gardening products EPR",3,"21101810210",null,"DIY products","Large non-electric, non-combustion items and machines, and their accessories","Assembly of wood, wood derivatives, and metal with a combination representing >90%","≥0.5 kg and <1 kg","€ / unit",0.01,0.01,{"$f":"_xlfn.XLOOKUP(K1672,'Codes éco-part'!$C$6:$C$923,'Codes éco-part'!$B$6:$B$923)","v":"260"},0.01]
["DIY and gardening products EPR",3,"21101810211","Modulated","DIY products","Large non-electric, non-combustion items and machines, and their accessories","Assembly of wood, wood derivatives, and metal with a combination representing >90%","≥0.5 kg and <1 kg","€ / unit",0.01,0.01,{"$f":"_xlfn.XLOOKUP(K1673,'Codes éco-part'!$C$6:$C$923,'Codes éco-part'!$B$6:$B$923)","v":"260"},0.01]
["DIY and gardening products EPR",3,"21101810220",null,"DIY products","Large non-electric, non-combustion items and machines, and their accessories","Assembly of wood, wood derivatives, and metal with a combination representing >90%","≥1 kg and <2 kg","€ / unit",0.02,0.02,{"$f":"_xlfn.XLOOKUP(K1674,'Codes éco-part'!$C$6:$C$923,'Codes éco-part'!$B$6:$B$923)","v":"047"},0.02]
["DIY and gardening products EPR",3,"21101810221","Modulated","DIY products","Large non-electric, non-combustion items and machines, and their accessories","Assembly of wood, wood derivatives, and metal with a combination representing >90%","≥1 kg and <2 kg","€ / unit",0.02,0.02,{"$f":"_xlfn.XLOOKUP(K1675,'Codes éco-part'!$C$6:$C$923,'Codes éco-part'!$B$6:$B$923)","v":"047"},0.02]
["DIY and gardening products EPR",3,"21101810270",null,"DIY products","Large non-electric, non-combustion items and machines, and their accessories","Assembly of wood, wood derivatives, and metal with a combination representing >90%","≥30 kg and <40 kg","€ / unit",0.52,0.52,{"$f":"_xlfn.XLOOKUP(K1676,'Codes éco-part'!$C$6:$C$923,'Codes éco-part'!$B$6:$B$923)","v":"509"},0.62]
["DIY and gardening products EPR",3,"21101810271","Modulated","DIY products","Large non-electric, non-combustion items and machines, and their accessories","Assembly of wood, wood derivatives, and metal with a combination representing >90%","≥30 kg and <40 kg","€ / unit",0.47,0.47,{"$f":"_xlfn.XLOOKUP(K1677,'Codes éco-part'!$C$6:$C$923,'Codes éco-part'!$B$6:$B$923)","v":"107"},0.56000000000000005]
["DIY and gardening products EPR",3,"21101810520",null,"DIY products","Large non-electric, non-combustion items and machines, and their accessories","Assembly of wood, wood derivatives, and metal with a combination representing >90%","≥2 kg and <3 kg","€ / unit",0.03,0.03,{"$f":"_xlfn.XLOOKUP(K1678,'Codes éco-part'!$C$6:$C$923,'Codes éco-part'!$B$6:$B$923)","v":"092"},0.04]
["DIY and gardening products EPR",3,"21101810521","Modulated","DIY products","Large non-electric, non-combustion items and machines, and their accessories","Assembly of wood, wood derivatives, and metal with a combination representing >90%","≥2 kg and <3 kg","€ / unit",0.03,0.03,{"$f":"_xlfn.XLOOKUP(K1679,'Codes éco-part'!$C$6:$C$923,'Codes éco-part'!$B$6:$B$923)","v":"092"},0.04]
["DIY and gardening products EPR",3,"21101810530",null,"DIY products","Large non-electric, non-combustion items and machines, and their accessories","Assembly of wood, wood derivatives, and metal with a combination representing >90%","≥3 kg and <5 kg","€ / unit",0.05,0.05,{"$f":"_xlfn.XLOOKUP(K1680,'Codes éco-part'!$C$6:$C$923,'Codes éco-part'!$B$6:$B$923)","v":"048"},0.06]
["DIY and gardening products EPR",3,"21101810531","Modulated","DIY products","Large non-electric, non-combustion items and machines, and their accessories","Assembly of wood, wood derivatives, and metal with a combination representing >90%","≥3 kg and <5 kg","€ / unit",0.05,0.05,{"$f":"_xlfn.XLOOKUP(K1681,'Codes éco-part'!$C$6:$C$923,'Codes éco-part'!$B$6:$B$923)","v":"048"},0.06]
["DIY and gardening products EPR",3,"21101810540",null,"DIY products","Large non-electric, non-combustion items and machines, and their accessories","Assembly of wood, wood derivatives, and metal with a combination representing >90%","≥5 kg and <7 kg","€ / unit",0.09,0.09,{"$f":"_xlfn.XLOOKUP(K1682,'Codes éco-part'!$C$6:$C$923,'Codes éco-part'!$B$6:$B$923)","v":"049"},0.11]
["DIY and gardening products EPR",3,"21101810541","Modulated","DIY products","Large non-electric, non-combustion items and machines, and their accessories","Assembly of wood, wood derivatives, and metal with a combination representing >90%","≥5 kg and <7 kg","€ / unit",0.08,0.08,{"$f":"_xlfn.XLOOKUP(K1683,'Codes éco-part'!$C$6:$C$923,'Codes éco-part'!$B$6:$B$923)","v":"003"},0.1]
["DIY and gardening products EPR",3,"21101810550",null,"DIY products","Large non-electric, non-combustion items and machines, and their accessories","Assembly of wood, wood derivatives, and metal with a combination representing >90%","≥7 kg and <10 kg","€ / unit",0.13,0.13,{"$f":"_xlfn.XLOOKUP(K1684,'Codes éco-part'!$C$6:$C$923,'Codes éco-part'!$B$6:$B$923)","v":"004"},0.16]
["DIY and gardening products EPR",3,"21101810551","Modulated","DIY products","Large non-electric, non-combustion items and machines, and their accessories","Assembly of wood, wood derivatives, and metal with a combination representing >90%","≥7 kg and <10 kg","€ / unit",0.12,0.12,{"$f":"_xlfn.XLOOKUP(K1685,'Codes éco-part'!$C$6:$C$923,'Codes éco-part'!$B$6:$B$923)","v":"097"},0.14000000000000001]
["DIY and gardening products EPR",3,"21101810560",null,"DIY products","Large non-electric, non-combustion items and machines, and their accessories","Assembly of wood, wood derivatives, and metal with a combination representing >90%","≥10 kg and <15 kg","€ / unit",0.2,0.2,{"$f":"_xlfn.XLOOKUP(K1686,'Codes éco-part'!$C$6:$C$923,'Codes éco-part'!$B$6:$B$923)","v":"101"},0.24]
["DIY and gardening products EPR",3,"21101810561","Modulated","DIY products","Large non-electric, non-combustion items and machines, and their accessories","Assembly of wood, wood derivatives, and metal with a combination representing >90%","≥10 kg and <15 kg","€ / unit",0.18,0.18,{"$f":"_xlfn.XLOOKUP(K1687,'Codes éco-part'!$C$6:$C$923,'Codes éco-part'!$B$6:$B$923)","v":"100"},0.22]
["DIY and gardening products EPR",3,"21101810570",null,"DIY products","Large non-electric, non-combustion items and machines, and their accessories","Assembly of wood, wood derivatives, and metal with a combination representing >90%","≥15 kg and <20 kg","€ / unit",0.26,0.26,{"$f":"_xlfn.XLOOKUP(K1688,'Codes éco-part'!$C$6:$C$923,'Codes éco-part'!$B$6:$B$923)","v":"445"},0.31]
["DIY and gardening products EPR",3,"21101810571","Modulated","DIY products","Large non-electric, non-combustion items and machines, and their accessories","Assembly of wood, wood derivatives, and metal with a combination representing >90%","≥15 kg and <20 kg","€ / unit",0.23,0.23,{"$f":"_xlfn.XLOOKUP(K1689,'Codes éco-part'!$C$6:$C$923,'Codes éco-part'!$B$6:$B$923)","v":"323"},0.28000000000000003]
["DIY and gardening products EPR",3,"21101810580",null,"DIY products","Large non-electric, non-combustion items and machines, and their accessories","Assembly of wood, wood derivatives, and metal with a combination representing >90%","≥20 kg and <25 kg","€ / unit",0.33,0.33,{"$f":"_xlfn.XLOOKUP(K1690,'Codes éco-part'!$C$6:$C$923,'Codes éco-part'!$B$6:$B$923)","v":"006"},0.4]
["DIY and gardening products EPR",3,"21101810581","Modulated","DIY products","Large non-electric, non-combustion items and machines, and their accessories","Assembly of wood, wood derivatives, and metal with a combination representing >90%","≥20 kg and <25 kg","€ / unit",0.3,0.3,{"$f":"_xlfn.XLOOKUP(K1691,'Codes éco-part'!$C$6:$C$923,'Codes éco-part'!$B$6:$B$923)","v":"446"},0.36]
["DIY and gardening products EPR",3,"21101810590",null,"DIY products","Large non-electric, non-combustion items and machines, and their accessories","Assembly of wood, wood derivatives, and metal with a combination representing >90%","≥25 kg and <30 kg","€ / unit",0.39,0.39,{"$f":"_xlfn.XLOOKUP(K1692,'Codes éco-part'!$C$6:$C$923,'Codes éco-part'!$B$6:$B$923)","v":"253"},0.47]
["DIY and gardening products EPR",3,"21101810591","Modulated","DIY products","Large non-electric, non-combustion items and machines, and their accessories","Assembly of wood, wood derivatives, and metal with a combination representing >90%","≥25 kg and <30 kg","€ / unit",0.35,0.35,{"$f":"_xlfn.XLOOKUP(K1693,'Codes éco-part'!$C$6:$C$923,'Codes éco-part'!$B$6:$B$923)","v":"448"},0.42]
["DIY and gardening products EPR",3,"21101810600",null,"DIY products","Large non-electric, non-combustion items and machines, and their accessories","Assembly of wood, wood derivatives, and metal with a combination representing >90%","≥40 kg and <50 kg","€ / unit",0.65,0.65,{"$f":"_xlfn.XLOOKUP(K1694,'Codes éco-part'!$C$6:$C$923,'Codes éco-part'!$B$6:$B$923)","v":"613"},0.78]
["DIY and gardening products EPR",3,"21101810601","Modulated","DIY products","Large non-electric, non-combustion items and machines, and their accessories","Assembly of wood, wood derivatives, and metal with a combination representing >90%","≥40 kg and <50 kg","€ / unit",0.59,0.59,{"$f":"_xlfn.XLOOKUP(K1695,'Codes éco-part'!$C$6:$C$923,'Codes éco-part'!$B$6:$B$923)","v":"254"},0.71]
["DIY and gardening products EPR",3,"21101820000",null,"DIY products","Large non-electric, non-combustion items and machines, and their accessories","Assembly of 3 or more materials, with no material representing >50%","Elements of all sizes and weights","€ / ton",90,90,{"$f":"_xlfn.XLOOKUP(K1696,'Codes éco-part'!$C$6:$C$923,'Codes éco-part'!$B$6:$B$923)","v":"609"},108]
["DIY and gardening products EPR",3,"21101820001","Modulated","DIY products","Large non-electric, non-combustion items and machines, and their accessories","Assembly of 3 or more materials, with no material representing >50%","Elements of all sizes and weights","€ / ton",81,81,{"$f":"_xlfn.XLOOKUP(K1697,'Codes éco-part'!$C$6:$C$923,'Codes éco-part'!$B$6:$B$923)","v":943},97.2]
["DIY and gardening products EPR",3,"21101820200",null,"DIY products","Large non-electric, non-combustion items and machines, and their accessories","Assembly of 3 or more materials, with no material representing >50%","Strictly <0.5 kg","€ / unit",0.02,0.02,{"$f":"_xlfn.XLOOKUP(K1698,'Codes éco-part'!$C$6:$C$923,'Codes éco-part'!$B$6:$B$923)","v":"047"},0.02]
["DIY and gardening products EPR",3,"21101820201","Modulated","DIY products","Large non-electric, non-combustion items and machines, and their accessories","Assembly of 3 or more materials, with no material representing >50%","Strictly <0.5 kg","€ / unit",0.02,0.02,{"$f":"_xlfn.XLOOKUP(K1699,'Codes éco-part'!$C$6:$C$923,'Codes éco-part'!$B$6:$B$923)","v":"047"},0.02]
["DIY and gardening products EPR",3,"21101820210",null,"DIY products","Large non-electric, non-combustion items and machines, and their accessories","Assembly of 3 or more materials, with no material representing >50%","≥0.5 kg and <1 kg","€ / unit",7.0000000000000007E-2,7.0000000000000007E-2,{"$f":"_xlfn.XLOOKUP(K1700,'Codes éco-part'!$C$6:$C$923,'Codes éco-part'!$B$6:$B$923)","v":"247"},0.08]
["DIY and gardening products EPR",3,"21101820211","Modulated","DIY products","Large non-electric, non-combustion items and machines, and their accessories","Assembly of 3 or more materials, with no material representing >50%","≥0.5 kg and <1 kg","€ / unit",0.06,0.06,{"$f":"_xlfn.XLOOKUP(K1701,'Codes éco-part'!$C$6:$C$923,'Codes éco-part'!$B$6:$B$923)","v":"096"},7.0000000000000007E-2]
["DIY and gardening products EPR",3,"21101820220",null,"DIY products","Large non-electric, non-combustion items and machines, and their accessories","Assembly of 3 or more materials, with no material representing >50%","≥1 kg and <2 kg","€ / unit",0.14000000000000001,0.14000000000000001,{"$f":"_xlfn.XLOOKUP(K1702,'Codes éco-part'!$C$6:$C$923,'Codes éco-part'!$B$6:$B$923)","v":"098"},0.17]
["DIY and gardening products EPR",3,"21101820221","Modulated","DIY products","Large non-electric, non-combustion items and machines, and their accessories","Assembly of 3 or more materials, with no material representing >50%","≥1 kg and <2 kg","€ / unit",0.13,0.13,{"$f":"_xlfn.XLOOKUP(K1703,'Codes éco-part'!$C$6:$C$923,'Codes éco-part'!$B$6:$B$923)","v":"004"},0.16]
["DIY and gardening products EPR",3,"21101820270",null,"DIY products","Large non-electric, non-combustion items and machines, and their accessories","Assembly of 3 or more materials, with no material representing >50%","≥30 kg and <40 kg","€ / unit",3.6,3.6,{"$f":"_xlfn.XLOOKUP(K1704,'Codes éco-part'!$C$6:$C$923,'Codes éco-part'!$B$6:$B$923)","v":"610"},4.32]
["DIY and gardening products EPR",3,"21101820271","Modulated","DIY products","Large non-electric, non-combustion items and machines, and their accessories","Assembly of 3 or more materials, with no material representing >50%","≥30 kg and <40 kg","€ / unit",3.24,3.24,{"$f":"_xlfn.XLOOKUP(K1705,'Codes éco-part'!$C$6:$C$923,'Codes éco-part'!$B$6:$B$923)","v":944},3.89]
["DIY and gardening products EPR",3,"21101820520",null,"DIY products","Large non-electric, non-combustion items and machines, and their accessories","Assembly of 3 or more materials, with no material representing >50%","≥2 kg and <3 kg","€ / unit",0.23,0.23,{"$f":"_xlfn.XLOOKUP(K1706,'Codes éco-part'!$C$6:$C$923,'Codes éco-part'!$B$6:$B$923)","v":"323"},0.28000000000000003]
["DIY and gardening products EPR",3,"21101820521","Modulated","DIY products","Large non-electric, non-combustion items and machines, and their accessories","Assembly of 3 or more materials, with no material representing >50%","≥2 kg and <3 kg","€ / unit",0.21,0.21,{"$f":"_xlfn.XLOOKUP(K1707,'Codes éco-part'!$C$6:$C$923,'Codes éco-part'!$B$6:$B$923)","v":"051"},0.25]
["DIY and gardening products EPR",3,"21101820530",null,"DIY products","Large non-electric, non-combustion items and machines, and their accessories","Assembly of 3 or more materials, with no material representing >50%","≥3 kg and <5 kg","€ / unit",0.36,0.36,{"$f":"_xlfn.XLOOKUP(K1708,'Codes éco-part'!$C$6:$C$923,'Codes éco-part'!$B$6:$B$923)","v":"449"},0.43]
["DIY and gardening products EPR",3,"21101820531","Modulated","DIY products","Large non-electric, non-combustion items and machines, and their accessories","Assembly of 3 or more materials, with no material representing >50%","≥3 kg and <5 kg","€ / unit",0.32,0.32,{"$f":"_xlfn.XLOOKUP(K1709,'Codes éco-part'!$C$6:$C$923,'Codes éco-part'!$B$6:$B$923)","v":"447"},0.38]
["DIY and gardening products EPR",3,"21101820540",null,"DIY products","Large non-electric, non-combustion items and machines, and their accessories","Assembly of 3 or more materials, with no material representing >50%","≥5 kg and <7 kg","€ / unit",0.63,0.63,{"$f":"_xlfn.XLOOKUP(K1710,'Codes éco-part'!$C$6:$C$923,'Codes éco-part'!$B$6:$B$923)","v":"297"},0.76]
["DIY and gardening products EPR",3,"21101820541","Modulated","DIY products","Large non-electric, non-combustion items and machines, and their accessories","Assembly of 3 or more materials, with no material representing >50%","≥5 kg and <7 kg","€ / unit",0.56999999999999995,0.56999999999999995,{"$f":"_xlfn.XLOOKUP(K1711,'Codes éco-part'!$C$6:$C$923,'Codes éco-part'!$B$6:$B$923)","v":"326"},0.68]
["DIY and gardening products EPR",3,"21101820550",null,"DIY products","Large non-electric, non-combustion items and machines, and their accessories","Assembly of 3 or more materials, with no material representing >50%","≥7 kg and <10 kg","€ / unit",0.9,0.9,{"$f":"_xlfn.XLOOKUP(K1712,'Codes éco-part'!$C$6:$C$923,'Codes éco-part'!$B$6:$B$923)","v":"330"},1.08]
["DIY and gardening products EPR",3,"21101820551","Modulated","DIY products","Large non-electric, non-combustion items and machines, and their accessories","Assembly of 3 or more materials, with no material representing >50%","≥7 kg and <10 kg","€ / unit",0.81,0.81,{"$f":"_xlfn.XLOOKUP(K1713,'Codes éco-part'!$C$6:$C$923,'Codes éco-part'!$B$6:$B$923)","v":"112"},0.97]
["DIY and gardening products EPR",3,"21101820560",null,"DIY products","Large non-electric, non-combustion items and machines, and their accessories","Assembly of 3 or more materials, with no material representing >50%","≥10 kg and <15 kg","€ / unit",1.35,1.35,{"$f":"_xlfn.XLOOKUP(K1714,'Codes éco-part'!$C$6:$C$923,'Codes éco-part'!$B$6:$B$923)","v":"332"},1.62]
["DIY and gardening products EPR",3,"21101820561","Modulated","DIY products","Large non-electric, non-combustion items and machines, and their accessories","Assembly of 3 or more materials, with no material representing >50%","≥10 kg and <15 kg","€ / unit",1.22,1.22,{"$f":"_xlfn.XLOOKUP(K1715,'Codes éco-part'!$C$6:$C$923,'Codes éco-part'!$B$6:$B$923)","v":"636"},1.46]
["DIY and gardening products EPR",3,"21101820570",null,"DIY products","Large non-electric, non-combustion items and machines, and their accessories","Assembly of 3 or more materials, with no material representing >50%","≥15 kg and <20 kg","€ / unit",1.8,1.8,{"$f":"_xlfn.XLOOKUP(K1716,'Codes éco-part'!$C$6:$C$923,'Codes éco-part'!$B$6:$B$923)","v":"603"},2.16]
["DIY and gardening products EPR",3,"21101820571","Modulated","DIY products","Large non-electric, non-combustion items and machines, and their accessories","Assembly of 3 or more materials, with no material representing >50%","≥15 kg and <20 kg","€ / unit",1.62,1.62,{"$f":"_xlfn.XLOOKUP(K1717,'Codes éco-part'!$C$6:$C$923,'Codes éco-part'!$B$6:$B$923)","v":"810"},1.94]
["DIY and gardening products EPR",3,"21101820580",null,"DIY products","Large non-electric, non-combustion items and machines, and their accessories","Assembly of 3 or more materials, with no material representing >50%","≥20 kg and <25 kg","€ / unit",2.25,2.25,{"$f":"_xlfn.XLOOKUP(K1718,'Codes éco-part'!$C$6:$C$923,'Codes éco-part'!$B$6:$B$923)","v":"118"},2.7]
["DIY and gardening products EPR",3,"21101820581","Modulated","DIY products","Large non-electric, non-combustion items and machines, and their accessories","Assembly of 3 or more materials, with no material representing >50%","≥20 kg and <25 kg","€ / unit",2.0299999999999998,2.0299999999999998,{"$f":"_xlfn.XLOOKUP(K1719,'Codes éco-part'!$C$6:$C$923,'Codes éco-part'!$B$6:$B$923)","v":937},2.44]
["DIY and gardening products EPR",3,"21101820590",null,"DIY products","Large non-electric, non-combustion items and machines, and their accessories","Assembly of 3 or more materials, with no material representing >50%","≥25 kg and <30 kg","€ / unit",2.7,2.7,{"$f":"_xlfn.XLOOKUP(K1720,'Codes éco-part'!$C$6:$C$923,'Codes éco-part'!$B$6:$B$923)","v":"611"},3.24]
["DIY and gardening products EPR",3,"21101820591","Modulated","DIY products","Large non-electric, non-combustion items and machines, and their accessories","Assembly of 3 or more materials, with no material representing >50%","≥25 kg and <30 kg","€ / unit",2.4300000000000002,2.4300000000000002,{"$f":"_xlfn.XLOOKUP(K1721,'Codes éco-part'!$C$6:$C$923,'Codes éco-part'!$B$6:$B$923)","v":"471"},2.92]
["DIY and gardening products EPR",3,"21101820600",null,"DIY products","Large non-electric, non-combustion items and machines, and their accessories","Assembly of 3 or more materials, with no material representing >50%","≥40 kg and <50 kg","€ / unit",4.5,4.5,{"$f":"_xlfn.XLOOKUP(K1722,'Codes éco-part'!$C$6:$C$923,'Codes éco-part'!$B$6:$B$923)","v":"127"},5.4]
["DIY and gardening products EPR",3,"21101820601","Modulated","DIY products","Large non-electric, non-combustion items and machines, and their accessories","Assembly of 3 or more materials, with no material representing >50%","≥40 kg and <50 kg","€ / unit",4.05,4.05,{"$f":"_xlfn.XLOOKUP(K1723,'Codes éco-part'!$C$6:$C$923,'Codes éco-part'!$B$6:$B$923)","v":"884"},4.8600000000000003]
["DIY and gardening products EPR",3,"21101840000",null,"DIY products","Large non-electric, non-combustion items and machines, and their accessories","Slate >90%","Elements of all sizes and weights","€ / ton",8.75,8.75,{"$f":"_xlfn.XLOOKUP(K1724,'Codes éco-part'!$C$6:$C$923,'Codes éco-part'!$B$6:$B$923)","v":"069"},10.5]
["DIY and gardening products EPR",3,"21101840001","Modulated","DIY products","Large non-electric, non-combustion items and machines, and their accessories","Slate >90%","Elements of all sizes and weights","€ / ton",7.88,7.88,{"$f":"_xlfn.XLOOKUP(K1725,'Codes éco-part'!$C$6:$C$923,'Codes éco-part'!$B$6:$B$923)","v":"354"},9.4600000000000009]
["DIY and gardening products EPR",3,"21101840200",null,"DIY products","Large non-electric, non-combustion items and machines, and their accessories","Slate >90%","Strictly <0.5 kg","€ / unit",0.01,0.01,{"$f":"_xlfn.XLOOKUP(K1726,'Codes éco-part'!$C$6:$C$923,'Codes éco-part'!$B$6:$B$923)","v":"260"},0.01]
["DIY and gardening products EPR",3,"21101840201","Modulated","DIY products","Large non-electric, non-combustion items and machines, and their accessories","Slate >90%","Strictly <0.5 kg","€ / unit",0.01,0.01,{"$f":"_xlfn.XLOOKUP(K1727,'Codes éco-part'!$C$6:$C$923,'Codes éco-part'!$B$6:$B$923)","v":"260"},0.01]
["DIY and gardening products EPR",3,"21101840210",null,"DIY products","Large non-electric, non-combustion items and machines, and their accessories","Slate >90%","≥0.5 kg and <1 kg","€ / unit",0.01,0.01,{"$f":"_xlfn.XLOOKUP(K1728,'Codes éco-part'!$C$6:$C$923,'Codes éco-part'!$B$6:$B$923)","v":"260"},0.01]
["DIY and gardening products EPR",3,"21101840211","Modulated","DIY products","Large non-electric, non-combustion items and machines, and their accessories","Slate >90%","≥0.5 kg and <1 kg","€ / unit",0.01,0.01,{"$f":"_xlfn.XLOOKUP(K1729,'Codes éco-part'!$C$6:$C$923,'Codes éco-part'!$B$6:$B$923)","v":"260"},0.01]
["DIY and gardening products EPR",3,"21101840220",null,"DIY products","Large non-electric, non-combustion items and machines, and their accessories","Slate >90%","≥1 kg and <2 kg","€ / unit",0.01,0.01,{"$f":"_xlfn.XLOOKUP(K1730,'Codes éco-part'!$C$6:$C$923,'Codes éco-part'!$B$6:$B$923)","v":"260"},{"$f":"ROUND(K1730*1.2,2)","v":0.01}]
["DIY and gardening products EPR",3,"21101840221","Modulated","DIY products","Large non-electric, non-combustion items and machines, and their accessories","Slate >90%","≥1 kg and <2 kg","€ / unit",0.01,0.01,{"$f":"_xlfn.XLOOKUP(K1731,'Codes éco-part'!$C$6:$C$923,'Codes éco-part'!$B$6:$B$923)","v":"260"},0.01]
["DIY and gardening products EPR",3,"21101840270",null,"DIY products","Large non-electric, non-combustion items and machines, and their accessories","Slate >90%","≥30 kg and <40 kg","€ / unit",0.35,0.35,{"$f":"_xlfn.XLOOKUP(K1732,'Codes éco-part'!$C$6:$C$923,'Codes éco-part'!$B$6:$B$923)","v":"448"},0.42]
["DIY and gardening products EPR",3,"21101840271","Modulated","DIY products","Large non-electric, non-combustion items and machines, and their accessories","Slate >90%","≥30 kg and <40 kg","€ / unit",0.32,0.32,{"$f":"_xlfn.XLOOKUP(K1733,'Codes éco-part'!$C$6:$C$923,'Codes éco-part'!$B$6:$B$923)","v":"447"},0.38]
["DIY and gardening products EPR",3,"21101840520",null,"DIY products","Large non-electric, non-combustion items and machines, and their accessories","Slate >90%","≥2 kg and <3 kg","€ / unit",0.02,0.02,{"$f":"_xlfn.XLOOKUP(K1734,'Codes éco-part'!$C$6:$C$923,'Codes éco-part'!$B$6:$B$923)","v":"047"},0.02]
["DIY and gardening products EPR",3,"21101840521","Modulated","DIY products","Large non-electric, non-combustion items and machines, and their accessories","Slate >90%","≥2 kg and <3 kg","€ / unit",0.02,0.02,{"$f":"_xlfn.XLOOKUP(K1735,'Codes éco-part'!$C$6:$C$923,'Codes éco-part'!$B$6:$B$923)","v":"047"},0.02]
["DIY and gardening products EPR",3,"21101840530",null,"DIY products","Large non-electric, non-combustion items and machines, and their accessories","Slate >90%","≥3 kg and <5 kg","€ / unit",0.04,0.04,{"$f":"_xlfn.XLOOKUP(K1736,'Codes éco-part'!$C$6:$C$923,'Codes éco-part'!$B$6:$B$923)","v":"002"},0.05]
["DIY and gardening products EPR",3,"21101840531","Modulated","DIY products","Large non-electric, non-combustion items and machines, and their accessories","Slate >90%","≥3 kg and <5 kg","€ / unit",0.04,0.04,{"$f":"_xlfn.XLOOKUP(K1737,'Codes éco-part'!$C$6:$C$923,'Codes éco-part'!$B$6:$B$923)","v":"002"},0.05]
["DIY and gardening products EPR",3,"21101840540",null,"DIY products","Large non-electric, non-combustion items and machines, and their accessories","Slate >90%","≥5 kg and <7 kg","€ / unit",0.06,0.06,{"$f":"_xlfn.XLOOKUP(K1738,'Codes éco-part'!$C$6:$C$923,'Codes éco-part'!$B$6:$B$923)","v":"096"},7.0000000000000007E-2]
["DIY and gardening products EPR",3,"21101840541","Modulated","DIY products","Large non-electric, non-combustion items and machines, and their accessories","Slate >90%","≥5 kg and <7 kg","€ / unit",0.05,0.05,{"$f":"_xlfn.XLOOKUP(K1739,'Codes éco-part'!$C$6:$C$923,'Codes éco-part'!$B$6:$B$923)","v":"048"},0.06]
["DIY and gardening products EPR",3,"21101840550",null,"DIY products","Large non-electric, non-combustion items and machines, and their accessories","Slate >90%","≥7 kg and <10 kg","€ / unit",0.09,0.09,{"$f":"_xlfn.XLOOKUP(K1740,'Codes éco-part'!$C$6:$C$923,'Codes éco-part'!$B$6:$B$923)","v":"049"},0.11]
["DIY and gardening products EPR",3,"21101840551","Modulated","DIY products","Large non-electric, non-combustion items and machines, and their accessories","Slate >90%","≥7 kg and <10 kg","€ / unit",0.08,0.08,{"$f":"_xlfn.XLOOKUP(K1741,'Codes éco-part'!$C$6:$C$923,'Codes éco-part'!$B$6:$B$923)","v":"003"},0.1]
["DIY and gardening products EPR",3,"21101840560",null,"DIY products","Large non-electric, non-combustion items and machines, and their accessories","Slate >90%","≥10 kg and <15 kg","€ / unit",0.13,0.13,{"$f":"_xlfn.XLOOKUP(K1742,'Codes éco-part'!$C$6:$C$923,'Codes éco-part'!$B$6:$B$923)","v":"004"},0.16]
["DIY and gardening products EPR",3,"21101840561","Modulated","DIY products","Large non-electric, non-combustion items and machines, and their accessories","Slate >90%","≥10 kg and <15 kg","€ / unit",0.12,0.12,{"$f":"_xlfn.XLOOKUP(K1743,'Codes éco-part'!$C$6:$C$923,'Codes éco-part'!$B$6:$B$923)","v":"097"},0.14000000000000001]
["DIY and gardening products EPR",3,"21101840570",null,"DIY products","Large non-electric, non-combustion items and machines, and their accessories","Slate >90%","≥15 kg and <20 kg","€ / unit",0.18,0.18,{"$f":"_xlfn.XLOOKUP(K1744,'Codes éco-part'!$C$6:$C$923,'Codes éco-part'!$B$6:$B$923)","v":"100"},0.22]
["DIY and gardening products EPR",3,"21101840571","Modulated","DIY products","Large non-electric, non-combustion items and machines, and their accessories","Slate >90%","≥15 kg and <20 kg","€ / unit",0.16,0.16,{"$f":"_xlfn.XLOOKUP(K1745,'Codes éco-part'!$C$6:$C$923,'Codes éco-part'!$B$6:$B$923)","v":"099"},0.19]
["DIY and gardening products EPR",3,"21101840580",null,"DIY products","Large non-electric, non-combustion items and machines, and their accessories","Slate >90%","≥20 kg and <25 kg","€ / unit",0.22,0.22,{"$f":"_xlfn.XLOOKUP(K1746,'Codes éco-part'!$C$6:$C$923,'Codes éco-part'!$B$6:$B$923)","v":"263"},0.26]
["DIY and gardening products EPR",3,"21101840581","Modulated","DIY products","Large non-electric, non-combustion items and machines, and their accessories","Slate >90%","≥20 kg and <25 kg","€ / unit",0.2,0.2,{"$f":"_xlfn.XLOOKUP(K1747,'Codes éco-part'!$C$6:$C$923,'Codes éco-part'!$B$6:$B$923)","v":"101"},0.24]
["DIY and gardening products EPR",3,"21101840590",null,"DIY products","Large non-electric, non-combustion items and machines, and their accessories","Slate >90%","≥25 kg and <30 kg","€ / unit",0.26,0.26,{"$f":"_xlfn.XLOOKUP(K1748,'Codes éco-part'!$C$6:$C$923,'Codes éco-part'!$B$6:$B$923)","v":"445"},0.31]
["DIY and gardening products EPR",3,"21101840591","Modulated","DIY products","Large non-electric, non-combustion items and machines, and their accessories","Slate >90%","≥25 kg and <30 kg","€ / unit",0.23,0.23,{"$f":"_xlfn.XLOOKUP(K1749,'Codes éco-part'!$C$6:$C$923,'Codes éco-part'!$B$6:$B$923)","v":"323"},0.28000000000000003]
["DIY and gardening products EPR",3,"21101840600",null,"DIY products","Large non-electric, non-combustion items and machines, and their accessories","Slate >90%","≥40 kg and <50 kg","€ / unit",0.44,0.44,{"$f":"_xlfn.XLOOKUP(K1750,'Codes éco-part'!$C$6:$C$923,'Codes éco-part'!$B$6:$B$923)","v":"281"},0.53]
["DIY and gardening products EPR",3,"21101840601","Modulated","DIY products","Large non-electric, non-combustion items and machines, and their accessories","Slate >90%","≥40 kg and <50 kg","€ / unit",0.4,0.4,{"$f":"_xlfn.XLOOKUP(K1751,'Codes éco-part'!$C$6:$C$923,'Codes éco-part'!$B$6:$B$923)","v":"105"},0.48]
["DIY and gardening products EPR",3,"21101860000",null,"DIY products","Large non-electric, non-combustion items and machines, and their accessories","Limestone >90%","Elements of all sizes and weights","€ / ton",8.75,8.75,{"$f":"_xlfn.XLOOKUP(K1752,'Codes éco-part'!$C$6:$C$923,'Codes éco-part'!$B$6:$B$923)","v":"069"},10.5]
["DIY and gardening products EPR",3,"21101860001","Modulated","DIY products","Large non-electric, non-combustion items and machines, and their accessories","Limestone >90%","Elements of all sizes and weights","€ / ton",7.88,7.88,{"$f":"_xlfn.XLOOKUP(K1753,'Codes éco-part'!$C$6:$C$923,'Codes éco-part'!$B$6:$B$923)","v":"354"},9.4600000000000009]
["DIY and gardening products EPR",3,"21101860200",null,"DIY products","Large non-electric, non-combustion items and machines, and their accessories","Limestone >90%","Strictly <0.5 kg","€ / unit",0.01,0.01,{"$f":"_xlfn.XLOOKUP(K1754,'Codes éco-part'!$C$6:$C$923,'Codes éco-part'!$B$6:$B$923)","v":"260"},0.01]
["DIY and gardening products EPR",3,"21101860201","Modulated","DIY products","Large non-electric, non-combustion items and machines, and their accessories","Limestone >90%","Strictly <0.5 kg","€ / unit",0.01,0.01,{"$f":"_xlfn.XLOOKUP(K1755,'Codes éco-part'!$C$6:$C$923,'Codes éco-part'!$B$6:$B$923)","v":"260"},0.01]
["DIY and gardening products EPR",3,"21101860210",null,"DIY products","Large non-electric, non-combustion items and machines, and their accessories","Limestone >90%","≥0.5 kg and <1 kg","€ / unit",0.01,0.01,{"$f":"_xlfn.XLOOKUP(K1756,'Codes éco-part'!$C$6:$C$923,'Codes éco-part'!$B$6:$B$923)","v":"260"},0.01]
["DIY and gardening products EPR",3,"21101860211","Modulated","DIY products","Large non-electric, non-combustion items and machines, and their accessories","Limestone >90%","≥0.5 kg and <1 kg","€ / unit",0.01,0.01,{"$f":"_xlfn.XLOOKUP(K1757,'Codes éco-part'!$C$6:$C$923,'Codes éco-part'!$B$6:$B$923)","v":"260"},0.01]
["DIY and gardening products EPR",3,"21101860220",null,"DIY products","Large non-electric, non-combustion items and machines, and their accessories","Limestone >90%","≥1 kg and <2 kg","€ / unit",0.01,0.01,{"$f":"_xlfn.XLOOKUP(K1758,'Codes éco-part'!$C$6:$C$923,'Codes éco-part'!$B$6:$B$923)","v":"260"},0.01]
["DIY and gardening products EPR",3,"21101860221","Modulated","DIY products","Large non-electric, non-combustion items and machines, and their accessories","Limestone >90%","≥1 kg and <2 kg","€ / unit",0.01,0.01,{"$f":"_xlfn.XLOOKUP(K1759,'Codes éco-part'!$C$6:$C$923,'Codes éco-part'!$B$6:$B$923)","v":"260"},0.01]
["DIY and gardening products EPR",3,"21101860270",null,"DIY products","Large non-electric, non-combustion items and machines, and their accessories","Limestone >90%","≥30 kg and <40 kg","€ / unit",0.35,0.35,{"$f":"_xlfn.XLOOKUP(K1760,'Codes éco-part'!$C$6:$C$923,'Codes éco-part'!$B$6:$B$923)","v":"448"},0.42]
["DIY and gardening products EPR",3,"21101860271","Modulated","DIY products","Large non-electric, non-combustion items and machines, and their accessories","Limestone >90%","≥30 kg and <40 kg","€ / unit",0.32,0.32,{"$f":"_xlfn.XLOOKUP(K1761,'Codes éco-part'!$C$6:$C$923,'Codes éco-part'!$B$6:$B$923)","v":"447"},0.38]
["DIY and gardening products EPR",3,"21101860520",null,"DIY products","Large non-electric, non-combustion items and machines, and their accessories","Limestone >90%","≥2 kg and <3 kg","€ / unit",0.02,0.02,{"$f":"_xlfn.XLOOKUP(K1762,'Codes éco-part'!$C$6:$C$923,'Codes éco-part'!$B$6:$B$923)","v":"047"},0.02]
["DIY and gardening products EPR",3,"21101860521","Modulated","DIY products","Large non-electric, non-combustion items and machines, and their accessories","Limestone >90%","≥2 kg and <3 kg","€ / unit",0.02,0.02,{"$f":"_xlfn.XLOOKUP(K1763,'Codes éco-part'!$C$6:$C$923,'Codes éco-part'!$B$6:$B$923)","v":"047"},0.02]
["DIY and gardening products EPR",3,"21101860530",null,"DIY products","Large non-electric, non-combustion items and machines, and their accessories","Limestone >90%","≥3 kg and <5 kg","€ / unit",0.04,0.04,{"$f":"_xlfn.XLOOKUP(K1764,'Codes éco-part'!$C$6:$C$923,'Codes éco-part'!$B$6:$B$923)","v":"002"},0.05]
["DIY and gardening products EPR",3,"21101860531","Modulated","DIY products","Large non-electric, non-combustion items and machines, and their accessories","Limestone >90%","≥3 kg and <5 kg","€ / unit",0.04,0.04,{"$f":"_xlfn.XLOOKUP(K1765,'Codes éco-part'!$C$6:$C$923,'Codes éco-part'!$B$6:$B$923)","v":"002"},0.05]
["DIY and gardening products EPR",3,"21101860540",null,"DIY products","Large non-electric, non-combustion items and machines, and their accessories","Limestone >90%","≥5 kg and <7 kg","€ / unit",0.06,0.06,{"$f":"_xlfn.XLOOKUP(K1766,'Codes éco-part'!$C$6:$C$923,'Codes éco-part'!$B$6:$B$923)","v":"096"},7.0000000000000007E-2]
["DIY and gardening products EPR",3,"21101860541","Modulated","DIY products","Large non-electric, non-combustion items and machines, and their accessories","Limestone >90%","≥5 kg and <7 kg","€ / unit",0.05,0.05,{"$f":"_xlfn.XLOOKUP(K1767,'Codes éco-part'!$C$6:$C$923,'Codes éco-part'!$B$6:$B$923)","v":"048"},0.06]
["DIY and gardening products EPR",3,"21101860550",null,"DIY products","Large non-electric, non-combustion items and machines, and their accessories","Limestone >90%","≥7 kg and <10 kg","€ / unit",0.09,0.09,{"$f":"_xlfn.XLOOKUP(K1768,'Codes éco-part'!$C$6:$C$923,'Codes éco-part'!$B$6:$B$923)","v":"049"},0.11]
["DIY and gardening products EPR",3,"21101860551","Modulated","DIY products","Large non-electric, non-combustion items and machines, and their accessories","Limestone >90%","≥7 kg and <10 kg","€ / unit",0.08,0.08,{"$f":"_xlfn.XLOOKUP(K1769,'Codes éco-part'!$C$6:$C$923,'Codes éco-part'!$B$6:$B$923)","v":"003"},0.1]
["DIY and gardening products EPR",3,"21101860560",null,"DIY products","Large non-electric, non-combustion items and machines, and their accessories","Limestone >90%","≥10 kg and <15 kg","€ / unit",0.13,0.13,{"$f":"_xlfn.XLOOKUP(K1770,'Codes éco-part'!$C$6:$C$923,'Codes éco-part'!$B$6:$B$923)","v":"004"},0.16]
["DIY and gardening products EPR",3,"21101860561","Modulated","DIY products","Large non-electric, non-combustion items and machines, and their accessories","Limestone >90%","≥10 kg and <15 kg","€ / unit",0.12,0.12,{"$f":"_xlfn.XLOOKUP(K1771,'Codes éco-part'!$C$6:$C$923,'Codes éco-part'!$B$6:$B$923)","v":"097"},0.14000000000000001]
["DIY and gardening products EPR",3,"21101860570",null,"DIY products","Large non-electric, non-combustion items and machines, and their accessories","Limestone >90%","≥15 kg and <20 kg","€ / unit",0.18,0.18,{"$f":"_xlfn.XLOOKUP(K1772,'Codes éco-part'!$C$6:$C$923,'Codes éco-part'!$B$6:$B$923)","v":"100"},0.22]
["DIY and gardening products EPR",3,"21101860571","Modulated","DIY products","Large non-electric, non-combustion items and machines, and their accessories","Limestone >90%","≥15 kg and <20 kg","€ / unit",0.16,0.16,{"$f":"_xlfn.XLOOKUP(K1773,'Codes éco-part'!$C$6:$C$923,'Codes éco-part'!$B$6:$B$923)","v":"099"},0.19]
["DIY and gardening products EPR",3,"21101860580",null,"DIY products","Large non-electric, non-combustion items and machines, and their accessories","Limestone >90%","≥20 kg and <25 kg","€ / unit",0.22,0.22,{"$f":"_xlfn.XLOOKUP(K1774,'Codes éco-part'!$C$6:$C$923,'Codes éco-part'!$B$6:$B$923)","v":"263"},0.26]
["DIY and gardening products EPR",3,"21101860581","Modulated","DIY products","Large non-electric, non-combustion items and machines, and their accessories","Limestone >90%","≥20 kg and <25 kg","€ / unit",0.2,0.2,{"$f":"_xlfn.XLOOKUP(K1775,'Codes éco-part'!$C$6:$C$923,'Codes éco-part'!$B$6:$B$923)","v":"101"},0.24]
["DIY and gardening products EPR",3,"21101860590",null,"DIY products","Large non-electric, non-combustion items and machines, and their accessories","Limestone >90%","≥25 kg and <30 kg","€ / unit",0.26,0.26,{"$f":"_xlfn.XLOOKUP(K1776,'Codes éco-part'!$C$6:$C$923,'Codes éco-part'!$B$6:$B$923)","v":"445"},0.31]
["DIY and gardening products EPR",3,"21101860591","Modulated","DIY products","Large non-electric, non-combustion items and machines, and their accessories","Limestone >90%","≥25 kg and <30 kg","€ / unit",0.23,0.23,{"$f":"_xlfn.XLOOKUP(K1777,'Codes éco-part'!$C$6:$C$923,'Codes éco-part'!$B$6:$B$923)","v":"323"},0.28000000000000003]
["DIY and gardening products EPR",3,"21101860600",null,"DIY products","Large non-electric, non-combustion items and machines, and their accessories","Limestone >90%","≥40 kg and <50 kg","€ / unit",0.44,0.44,{"$f":"_xlfn.XLOOKUP(K1778,'Codes éco-part'!$C$6:$C$923,'Codes éco-part'!$B$6:$B$923)","v":"281"},0.53]
["DIY and gardening products EPR",3,"21101860601","Modulated","DIY products","Large non-electric, non-combustion items and machines, and their accessories","Limestone >90%","≥40 kg and <50 kg","€ / unit",0.4,0.4,{"$f":"_xlfn.XLOOKUP(K1779,'Codes éco-part'!$C$6:$C$923,'Codes éco-part'!$B$6:$B$923)","v":"105"},0.48]
["DIY and gardening products EPR",3,"21101870000",null,"DIY products","Large non-electric, non-combustion items and machines, and their accessories","Lava stone >90%","Elements of all sizes and weights","€ / ton",8.75,8.75,{"$f":"_xlfn.XLOOKUP(K1780,'Codes éco-part'!$C$6:$C$923,'Codes éco-part'!$B$6:$B$923)","v":"069"},10.5]
["DIY and gardening products EPR",3,"21101870001","Modulated","DIY products","Large non-electric, non-combustion items and machines, and their accessories","Lava stone >90%","Elements of all sizes and weights","€ / ton",7.88,7.88,{"$f":"_xlfn.XLOOKUP(K1781,'Codes éco-part'!$C$6:$C$923,'Codes éco-part'!$B$6:$B$923)","v":"354"},9.4600000000000009]
["DIY and gardening products EPR",3,"21101870200",null,"DIY products","Large non-electric, non-combustion items and machines, and their accessories","Lava stone >90%","Strictly <0.5 kg","€ / unit",0.01,0.01,{"$f":"_xlfn.XLOOKUP(K1782,'Codes éco-part'!$C$6:$C$923,'Codes éco-part'!$B$6:$B$923)","v":"260"},0.01]
["DIY and gardening products EPR",3,"21101870201","Modulated","DIY products","Large non-electric, non-combustion items and machines, and their accessories","Lava stone >90%","Strictly <0.5 kg","€ / unit",0.01,0.01,{"$f":"_xlfn.XLOOKUP(K1783,'Codes éco-part'!$C$6:$C$923,'Codes éco-part'!$B$6:$B$923)","v":"260"},0.01]
["DIY and gardening products EPR",3,"21101870210",null,"DIY products","Large non-electric, non-combustion items and machines, and their accessories","Lava stone >90%","≥0.5 kg and <1 kg","€ / unit",0.01,0.01,{"$f":"_xlfn.XLOOKUP(K1784,'Codes éco-part'!$C$6:$C$923,'Codes éco-part'!$B$6:$B$923)","v":"260"},0.01]
["DIY and gardening products EPR",3,"21101870211","Modulated","DIY products","Large non-electric, non-combustion items and machines, and their accessories","Lava stone >90%","≥0.5 kg and <1 kg","€ / unit",0.01,0.01,{"$f":"_xlfn.XLOOKUP(K1785,'Codes éco-part'!$C$6:$C$923,'Codes éco-part'!$B$6:$B$923)","v":"260"},0.01]
["DIY and gardening products EPR",3,"21101870220",null,"DIY products","Large non-electric, non-combustion items and machines, and their accessories","Lava stone >90%","≥1 kg and <2 kg","€ / unit",0.01,0.01,{"$f":"_xlfn.XLOOKUP(K1786,'Codes éco-part'!$C$6:$C$923,'Codes éco-part'!$B$6:$B$923)","v":"260"},0.01]
["DIY and gardening products EPR",3,"21101870221","Modulated","DIY products","Large non-electric, non-combustion items and machines, and their accessories","Lava stone >90%","≥1 kg and <2 kg","€ / unit",0.01,0.01,{"$f":"_xlfn.XLOOKUP(K1787,'Codes éco-part'!$C$6:$C$923,'Codes éco-part'!$B$6:$B$923)","v":"260"},0.01]
["DIY and gardening products EPR",3,"21101870270",null,"DIY products","Large non-electric, non-combustion items and machines, and their accessories","Lava stone >90%","≥30 kg and <40 kg","€ / unit",0.35,0.35,{"$f":"_xlfn.XLOOKUP(K1788,'Codes éco-part'!$C$6:$C$923,'Codes éco-part'!$B$6:$B$923)","v":"448"},0.42]
["DIY and gardening products EPR",3,"21101870271","Modulated","DIY products","Large non-electric, non-combustion items and machines, and their accessories","Lava stone >90%","≥30 kg and <40 kg","€ / unit",0.32,0.32,{"$f":"_xlfn.XLOOKUP(K1789,'Codes éco-part'!$C$6:$C$923,'Codes éco-part'!$B$6:$B$923)","v":"447"},0.38]
["DIY and gardening products EPR",3,"21101870520",null,"DIY products","Large non-electric, non-combustion items and machines, and their accessories","Lava stone >90%","≥2 kg and <3 kg","€ / unit",0.02,0.02,{"$f":"_xlfn.XLOOKUP(K1790,'Codes éco-part'!$C$6:$C$923,'Codes éco-part'!$B$6:$B$923)","v":"047"},0.02]
["DIY and gardening products EPR",3,"21101870521","Modulated","DIY products","Large non-electric, non-combustion items and machines, and their accessories","Lava stone >90%","≥2 kg and <3 kg","€ / unit",0.02,0.02,{"$f":"_xlfn.XLOOKUP(K1791,'Codes éco-part'!$C$6:$C$923,'Codes éco-part'!$B$6:$B$923)","v":"047"},0.02]
["DIY and gardening products EPR",3,"21101870530",null,"DIY products","Large non-electric, non-combustion items and machines, and their accessories","Lava stone >90%","≥3 kg and <5 kg","€ / unit",0.04,0.04,{"$f":"_xlfn.XLOOKUP(K1792,'Codes éco-part'!$C$6:$C$923,'Codes éco-part'!$B$6:$B$923)","v":"002"},0.05]
["DIY and gardening products EPR",3,"21101870531","Modulated","DIY products","Large non-electric, non-combustion items and machines, and their accessories","Lava stone >90%","≥3 kg and <5 kg","€ / unit",0.04,0.04,{"$f":"_xlfn.XLOOKUP(K1793,'Codes éco-part'!$C$6:$C$923,'Codes éco-part'!$B$6:$B$923)","v":"002"},0.05]
["DIY and gardening products EPR",3,"21101870540",null,"DIY products","Large non-electric, non-combustion items and machines, and their accessories","Lava stone >90%","≥5 kg and <7 kg","€ / unit",0.06,0.06,{"$f":"_xlfn.XLOOKUP(K1794,'Codes éco-part'!$C$6:$C$923,'Codes éco-part'!$B$6:$B$923)","v":"096"},{"$f":"ROUND(K1794*1.2,2)","v":7.0000000000000007E-2}]
["DIY and gardening products EPR",3,"21101870541","Modulated","DIY products","Large non-electric, non-combustion items and machines, and their accessories","Lava stone >90%","≥5 kg and <7 kg","€ / unit",0.05,0.05,{"$f":"_xlfn.XLOOKUP(K1795,'Codes éco-part'!$C$6:$C$923,'Codes éco-part'!$B$6:$B$923)","v":"048"},0.06]
["DIY and gardening products EPR",3,"21101870550",null,"DIY products","Large non-electric, non-combustion items and machines, and their accessories","Lava stone >90%","≥7 kg and <10 kg","€ / unit",0.09,0.09,{"$f":"_xlfn.XLOOKUP(K1796,'Codes éco-part'!$C$6:$C$923,'Codes éco-part'!$B$6:$B$923)","v":"049"},0.11]
["DIY and gardening products EPR",3,"21101870551","Modulated","DIY products","Large non-electric, non-combustion items and machines, and their accessories","Lava stone >90%","≥7 kg and <10 kg","€ / unit",0.08,0.08,{"$f":"_xlfn.XLOOKUP(K1797,'Codes éco-part'!$C$6:$C$923,'Codes éco-part'!$B$6:$B$923)","v":"003"},0.1]
["DIY and gardening products EPR",3,"21101870560",null,"DIY products","Large non-electric, non-combustion items and machines, and their accessories","Lava stone >90%","≥10 kg and <15 kg","€ / unit",0.13,0.13,{"$f":"_xlfn.XLOOKUP(K1798,'Codes éco-part'!$C$6:$C$923,'Codes éco-part'!$B$6:$B$923)","v":"004"},0.16]
["DIY and gardening products EPR",3,"21101870561","Modulated","DIY products","Large non-electric, non-combustion items and machines, and their accessories","Lava stone >90%","≥10 kg and <15 kg","€ / unit",0.12,0.12,{"$f":"_xlfn.XLOOKUP(K1799,'Codes éco-part'!$C$6:$C$923,'Codes éco-part'!$B$6:$B$923)","v":"097"},0.14000000000000001]
["DIY and gardening products EPR",3,"21101870570",null,"DIY products","Large non-electric, non-combustion items and machines, and their accessories","Lava stone >90%","≥15 kg and <20 kg","€ / unit",0.18,0.18,{"$f":"_xlfn.XLOOKUP(K1800,'Codes éco-part'!$C$6:$C$923,'Codes éco-part'!$B$6:$B$923)","v":"100"},0.22]
["DIY and gardening products EPR",3,"21101870571","Modulated","DIY products","Large non-electric, non-combustion items and machines, and their accessories","Lava stone >90%","≥15 kg and <20 kg","€ / unit",0.16,0.16,{"$f":"_xlfn.XLOOKUP(K1801,'Codes éco-part'!$C$6:$C$923,'Codes éco-part'!$B$6:$B$923)","v":"099"},0.19]
["DIY and gardening products EPR",3,"21101870580",null,"DIY products","Large non-electric, non-combustion items and machines, and their accessories","Lava stone >90%","≥20 kg and <25 kg","€ / unit",0.22,0.22,{"$f":"_xlfn.XLOOKUP(K1802,'Codes éco-part'!$C$6:$C$923,'Codes éco-part'!$B$6:$B$923)","v":"263"},0.26]
["DIY and gardening products EPR",3,"21101870581","Modulated","DIY products","Large non-electric, non-combustion items and machines, and their accessories","Lava stone >90%","≥20 kg and <25 kg","€ / unit",0.2,0.2,{"$f":"_xlfn.XLOOKUP(K1803,'Codes éco-part'!$C$6:$C$923,'Codes éco-part'!$B$6:$B$923)","v":"101"},0.24]
["DIY and gardening products EPR",3,"21101870590",null,"DIY products","Large non-electric, non-combustion items and machines, and their accessories","Lava stone >90%","≥25 kg and <30 kg","€ / unit",0.26,0.26,{"$f":"_xlfn.XLOOKUP(K1804,'Codes éco-part'!$C$6:$C$923,'Codes éco-part'!$B$6:$B$923)","v":"445"},0.31]
["DIY and gardening products EPR",3,"21101870591","Modulated","DIY products","Large non-electric, non-combustion items and machines, and their accessories","Lava stone >90%","≥25 kg and <30 kg","€ / unit",0.23,0.23,{"$f":"_xlfn.XLOOKUP(K1805,'Codes éco-part'!$C$6:$C$923,'Codes éco-part'!$B$6:$B$923)","v":"323"},0.28000000000000003]
["DIY and gardening products EPR",3,"21101870600",null,"DIY products","Large non-electric, non-combustion items and machines, and their accessories","Lava stone >90%","≥40 kg and <50 kg","€ / unit",0.44,0.44,{"$f":"_xlfn.XLOOKUP(K1806,'Codes éco-part'!$C$6:$C$923,'Codes éco-part'!$B$6:$B$923)","v":"281"},0.53]
["DIY and gardening products EPR",3,"21101870601","Modulated","DIY products","Large non-electric, non-combustion items and machines, and their accessories","Lava stone >90%","≥40 kg and <50 kg","€ / unit",0.4,0.4,{"$f":"_xlfn.XLOOKUP(K1807,'Codes éco-part'!$C$6:$C$923,'Codes éco-part'!$B$6:$B$923)","v":"105"},0.48]
["DIY and gardening products EPR",3,"21101890000",null,"DIY products","Large non-electric, non-combustion items and machines, and their accessories","Raw earth or terracotta >90%","Elements of all sizes and weights","€ / ton",8.75,8.75,{"$f":"_xlfn.XLOOKUP(K1808,'Codes éco-part'!$C$6:$C$923,'Codes éco-part'!$B$6:$B$923)","v":"069"},10.5]
["DIY and gardening products EPR",3,"21101890001","Modulated","DIY products","Large non-electric, non-combustion items and machines, and their accessories","Raw earth or terracotta >90%","Elements of all sizes and weights","€ / ton",7.88,7.88,{"$f":"_xlfn.XLOOKUP(K1809,'Codes éco-part'!$C$6:$C$923,'Codes éco-part'!$B$6:$B$923)","v":"354"},9.4600000000000009]
["DIY and gardening products EPR",3,"21101890200",null,"DIY products","Large non-electric, non-combustion items and machines, and their accessories","Raw earth or terracotta >90%","Strictly <0.5 kg","€ / unit",0.01,0.01,{"$f":"_xlfn.XLOOKUP(K1810,'Codes éco-part'!$C$6:$C$923,'Codes éco-part'!$B$6:$B$923)","v":"260"},0.01]
["DIY and gardening products EPR",3,"21101890201","Modulated","DIY products","Large non-electric, non-combustion items and machines, and their accessories","Raw earth or terracotta >90%","Strictly <0.5 kg","€ / unit",0.01,0.01,{"$f":"_xlfn.XLOOKUP(K1811,'Codes éco-part'!$C$6:$C$923,'Codes éco-part'!$B$6:$B$923)","v":"260"},0.01]
["DIY and gardening products EPR",3,"21101890210",null,"DIY products","Large non-electric, non-combustion items and machines, and their accessories","Raw earth or terracotta >90%","≥0.5 kg and <1 kg","€ / unit",0.01,0.01,{"$f":"_xlfn.XLOOKUP(K1812,'Codes éco-part'!$C$6:$C$923,'Codes éco-part'!$B$6:$B$923)","v":"260"},0.01]
["DIY and gardening products EPR",3,"21101890211","Modulated","DIY products","Large non-electric, non-combustion items and machines, and their accessories","Raw earth or terracotta >90%","≥0.5 kg and <1 kg","€ / unit",0.01,0.01,{"$f":"_xlfn.XLOOKUP(K1813,'Codes éco-part'!$C$6:$C$923,'Codes éco-part'!$B$6:$B$923)","v":"260"},0.01]
["DIY and gardening products EPR",3,"21101890220",null,"DIY products","Large non-electric, non-combustion items and machines, and their accessories","Raw earth or terracotta >90%","≥1 kg and <2 kg","€ / unit",0.01,0.01,{"$f":"_xlfn.XLOOKUP(K1814,'Codes éco-part'!$C$6:$C$923,'Codes éco-part'!$B$6:$B$923)","v":"260"},0.01]
["DIY and gardening products EPR",3,"21101890221","Modulated","DIY products","Large non-electric, non-combustion items and machines, and their accessories","Raw earth or terracotta >90%","≥1 kg and <2 kg","€ / unit",0.01,0.01,{"$f":"_xlfn.XLOOKUP(K1815,'Codes éco-part'!$C$6:$C$923,'Codes éco-part'!$B$6:$B$923)","v":"260"},0.01]
["DIY and gardening products EPR",3,"21101890270",null,"DIY products","Large non-electric, non-combustion items and machines, and their accessories","Raw earth or terracotta >90%","≥30 kg and <40 kg","€ / unit",0.35,0.35,{"$f":"_xlfn.XLOOKUP(K1816,'Codes éco-part'!$C$6:$C$923,'Codes éco-part'!$B$6:$B$923)","v":"448"},0.42]
["DIY and gardening products EPR",3,"21101890271","Modulated","DIY products","Large non-electric, non-combustion items and machines, and their accessories","Raw earth or terracotta >90%","≥30 kg and <40 kg","€ / unit",0.32,0.32,{"$f":"_xlfn.XLOOKUP(K1817,'Codes éco-part'!$C$6:$C$923,'Codes éco-part'!$B$6:$B$923)","v":"447"},0.38]
["DIY and gardening products EPR",3,"21101890520",null,"DIY products","Large non-electric, non-combustion items and machines, and their accessories","Raw earth or terracotta >90%","≥2 kg and <3 kg","€ / unit",0.02,0.02,{"$f":"_xlfn.XLOOKUP(K1818,'Codes éco-part'!$C$6:$C$923,'Codes éco-part'!$B$6:$B$923)","v":"047"},0.02]
["DIY and gardening products EPR",3,"21101890521","Modulated","DIY products","Large non-electric, non-combustion items and machines, and their accessories","Raw earth or terracotta >90%","≥2 kg and <3 kg","€ / unit",0.02,0.02,{"$f":"_xlfn.XLOOKUP(K1819,'Codes éco-part'!$C$6:$C$923,'Codes éco-part'!$B$6:$B$923)","v":"047"},0.02]
["DIY and gardening products EPR",3,"21101890530",null,"DIY products","Large non-electric, non-combustion items and machines, and their accessories","Raw earth or terracotta >90%","≥3 kg and <5 kg","€ / unit",0.04,0.04,{"$f":"_xlfn.XLOOKUP(K1820,'Codes éco-part'!$C$6:$C$923,'Codes éco-part'!$B$6:$B$923)","v":"002"},0.05]
["DIY and gardening products EPR",3,"21101890531","Modulated","DIY products","Large non-electric, non-combustion items and machines, and their accessories","Raw earth or terracotta >90%","≥3 kg and <5 kg","€ / unit",0.04,0.04,{"$f":"_xlfn.XLOOKUP(K1821,'Codes éco-part'!$C$6:$C$923,'Codes éco-part'!$B$6:$B$923)","v":"002"},0.05]
["DIY and gardening products EPR",3,"21101890540",null,"DIY products","Large non-electric, non-combustion items and machines, and their accessories","Raw earth or terracotta >90%","≥5 kg and <7 kg","€ / unit",0.06,0.06,{"$f":"_xlfn.XLOOKUP(K1822,'Codes éco-part'!$C$6:$C$923,'Codes éco-part'!$B$6:$B$923)","v":"096"},7.0000000000000007E-2]
["DIY and gardening products EPR",3,"21101890541","Modulated","DIY products","Large non-electric, non-combustion items and machines, and their accessories","Raw earth or terracotta >90%","≥5 kg and <7 kg","€ / unit",0.05,0.05,{"$f":"_xlfn.XLOOKUP(K1823,'Codes éco-part'!$C$6:$C$923,'Codes éco-part'!$B$6:$B$923)","v":"048"},0.06]
["DIY and gardening products EPR",3,"21101890550",null,"DIY products","Large non-electric, non-combustion items and machines, and their accessories","Raw earth or terracotta >90%","≥7 kg and <10 kg","€ / unit",0.09,0.09,{"$f":"_xlfn.XLOOKUP(K1824,'Codes éco-part'!$C$6:$C$923,'Codes éco-part'!$B$6:$B$923)","v":"049"},0.11]
["DIY and gardening products EPR",3,"21101890551","Modulated","DIY products","Large non-electric, non-combustion items and machines, and their accessories","Raw earth or terracotta >90%","≥7 kg and <10 kg","€ / unit",0.08,0.08,{"$f":"_xlfn.XLOOKUP(K1825,'Codes éco-part'!$C$6:$C$923,'Codes éco-part'!$B$6:$B$923)","v":"003"},0.1]
["DIY and gardening products EPR",3,"21101890560",null,"DIY products","Large non-electric, non-combustion items and machines, and their accessories","Raw earth or terracotta >90%","≥10 kg and <15 kg","€ / unit",0.13,0.13,{"$f":"_xlfn.XLOOKUP(K1826,'Codes éco-part'!$C$6:$C$923,'Codes éco-part'!$B$6:$B$923)","v":"004"},0.16]
["DIY and gardening products EPR",3,"21101890561","Modulated","DIY products","Large non-electric, non-combustion items and machines, and their accessories","Raw earth or terracotta >90%","≥10 kg and <15 kg","€ / unit",0.12,0.12,{"$f":"_xlfn.XLOOKUP(K1827,'Codes éco-part'!$C$6:$C$923,'Codes éco-part'!$B$6:$B$923)","v":"097"},0.14000000000000001]
["DIY and gardening products EPR",3,"21101890570",null,"DIY products","Large non-electric, non-combustion items and machines, and their accessories","Raw earth or terracotta >90%","≥15 kg and <20 kg","€ / unit",0.18,0.18,{"$f":"_xlfn.XLOOKUP(K1828,'Codes éco-part'!$C$6:$C$923,'Codes éco-part'!$B$6:$B$923)","v":"100"},0.22]
["DIY and gardening products EPR",3,"21101890571","Modulated","DIY products","Large non-electric, non-combustion items and machines, and their accessories","Raw earth or terracotta >90%","≥15 kg and <20 kg","€ / unit",0.16,0.16,{"$f":"_xlfn.XLOOKUP(K1829,'Codes éco-part'!$C$6:$C$923,'Codes éco-part'!$B$6:$B$923)","v":"099"},0.19]
["DIY and gardening products EPR",3,"21101890580",null,"DIY products","Large non-electric, non-combustion items and machines, and their accessories","Raw earth or terracotta >90%","≥20 kg and <25 kg","€ / unit",0.22,0.22,{"$f":"_xlfn.XLOOKUP(K1830,'Codes éco-part'!$C$6:$C$923,'Codes éco-part'!$B$6:$B$923)","v":"263"},0.26]
["DIY and gardening products EPR",3,"21101890581","Modulated","DIY products","Large non-electric, non-combustion items and machines, and their accessories","Raw earth or terracotta >90%","≥20 kg and <25 kg","€ / unit",0.2,0.2,{"$f":"_xlfn.XLOOKUP(K1831,'Codes éco-part'!$C$6:$C$923,'Codes éco-part'!$B$6:$B$923)","v":"101"},0.24]
["DIY and gardening products EPR",3,"21101890590",null,"DIY products","Large non-electric, non-combustion items and machines, and their accessories","Raw earth or terracotta >90%","≥25 kg and <30 kg","€ / unit",0.26,0.26,{"$f":"_xlfn.XLOOKUP(K1832,'Codes éco-part'!$C$6:$C$923,'Codes éco-part'!$B$6:$B$923)","v":"445"},0.31]
["DIY and gardening products EPR",3,"21101890591","Modulated","DIY products","Large non-electric, non-combustion items and machines, and their accessories","Raw earth or terracotta >90%","≥25 kg and <30 kg","€ / unit",0.23,0.23,{"$f":"_xlfn.XLOOKUP(K1833,'Codes éco-part'!$C$6:$C$923,'Codes éco-part'!$B$6:$B$923)","v":"323"},0.28000000000000003]
["DIY and gardening products EPR",3,"21101890600",null,"DIY products","Large non-electric, non-combustion items and machines, and their accessories","Raw earth or terracotta >90%","≥40 kg and <50 kg","€ / unit",0.44,0.44,{"$f":"_xlfn.XLOOKUP(K1834,'Codes éco-part'!$C$6:$C$923,'Codes éco-part'!$B$6:$B$923)","v":"281"},0.53]
["DIY and gardening products EPR",3,"21101890601","Modulated","DIY products","Large non-electric, non-combustion items and machines, and their accessories","Raw earth or terracotta >90%","≥40 kg and <50 kg","€ / unit",0.4,0.4,{"$f":"_xlfn.XLOOKUP(K1835,'Codes éco-part'!$C$6:$C$923,'Codes éco-part'!$B$6:$B$923)","v":"105"},0.48]
["DIY and gardening products EPR",3,"21101900000",null,"DIY products","Large non-electric, non-combustion items and machines, and their accessories","Cement >90%","Elements of all sizes and weights","€ / ton",8.75,8.75,{"$f":"_xlfn.XLOOKUP(K1836,'Codes éco-part'!$C$6:$C$923,'Codes éco-part'!$B$6:$B$923)","v":"069"},10.5]
["DIY and gardening products EPR",3,"21101900001","Modulated","DIY products","Large non-electric, non-combustion items and machines, and their accessories","Cement >90%","Elements of all sizes and weights","€ / ton",7.88,7.88,{"$f":"_xlfn.XLOOKUP(K1837,'Codes éco-part'!$C$6:$C$923,'Codes éco-part'!$B$6:$B$923)","v":"354"},9.4600000000000009]
["DIY and gardening products EPR",3,"21101900200",null,"DIY products","Large non-electric, non-combustion items and machines, and their accessories","Cement >90%","Strictly <0.5 kg","€ / unit",0.01,0.01,{"$f":"_xlfn.XLOOKUP(K1838,'Codes éco-part'!$C$6:$C$923,'Codes éco-part'!$B$6:$B$923)","v":"260"},0.01]
["DIY and gardening products EPR",3,"21101900201","Modulated","DIY products","Large non-electric, non-combustion items and machines, and their accessories","Cement >90%","Strictly <0.5 kg","€ / unit",0.01,0.01,{"$f":"_xlfn.XLOOKUP(K1839,'Codes éco-part'!$C$6:$C$923,'Codes éco-part'!$B$6:$B$923)","v":"260"},0.01]
["DIY and gardening products EPR",3,"21101900210",null,"DIY products","Large non-electric, non-combustion items and machines, and their accessories","Cement >90%","≥0.5 kg and <1 kg","€ / unit",0.01,0.01,{"$f":"_xlfn.XLOOKUP(K1840,'Codes éco-part'!$C$6:$C$923,'Codes éco-part'!$B$6:$B$923)","v":"260"},0.01]
["DIY and gardening products EPR",3,"21101900211","Modulated","DIY products","Large non-electric, non-combustion items and machines, and their accessories","Cement >90%","≥0.5 kg and <1 kg","€ / unit",0.01,0.01,{"$f":"_xlfn.XLOOKUP(K1841,'Codes éco-part'!$C$6:$C$923,'Codes éco-part'!$B$6:$B$923)","v":"260"},0.01]
["DIY and gardening products EPR",3,"21101900220",null,"DIY products","Large non-electric, non-combustion items and machines, and their accessories","Cement >90%","≥1 kg and <2 kg","€ / unit",0.01,0.01,{"$f":"_xlfn.XLOOKUP(K1842,'Codes éco-part'!$C$6:$C$923,'Codes éco-part'!$B$6:$B$923)","v":"260"},0.01]
["DIY and gardening products EPR",3,"21101900221","Modulated","DIY products","Large non-electric, non-combustion items and machines, and their accessories","Cement >90%","≥1 kg and <2 kg","€ / unit",0.01,0.01,{"$f":"_xlfn.XLOOKUP(K1843,'Codes éco-part'!$C$6:$C$923,'Codes éco-part'!$B$6:$B$923)","v":"260"},0.01]
["DIY and gardening products EPR",3,"21101900270",null,"DIY products","Large non-electric, non-combustion items and machines, and their accessories","Cement >90%","≥30 kg and <40 kg","€ / unit",0.35,0.35,{"$f":"_xlfn.XLOOKUP(K1844,'Codes éco-part'!$C$6:$C$923,'Codes éco-part'!$B$6:$B$923)","v":"448"},0.42]
["DIY and gardening products EPR",3,"21101900271","Modulated","DIY products","Large non-electric, non-combustion items and machines, and their accessories","Cement >90%","≥30 kg and <40 kg","€ / unit",0.32,0.32,{"$f":"_xlfn.XLOOKUP(K1845,'Codes éco-part'!$C$6:$C$923,'Codes éco-part'!$B$6:$B$923)","v":"447"},0.38]
["DIY and gardening products EPR",3,"21101900520",null,"DIY products","Large non-electric, non-combustion items and machines, and their accessories","Cement >90%","≥2 kg and <3 kg","€ / unit",0.02,0.02,{"$f":"_xlfn.XLOOKUP(K1846,'Codes éco-part'!$C$6:$C$923,'Codes éco-part'!$B$6:$B$923)","v":"047"},0.02]
["DIY and gardening products EPR",3,"21101900521","Modulated","DIY products","Large non-electric, non-combustion items and machines, and their accessories","Cement >90%","≥2 kg and <3 kg","€ / unit",0.02,0.02,{"$f":"_xlfn.XLOOKUP(K1847,'Codes éco-part'!$C$6:$C$923,'Codes éco-part'!$B$6:$B$923)","v":"047"},0.02]
["DIY and gardening products EPR",3,"21101900530",null,"DIY products","Large non-electric, non-combustion items and machines, and their accessories","Cement >90%","≥3 kg and <5 kg","€ / unit",0.04,0.04,{"$f":"_xlfn.XLOOKUP(K1848,'Codes éco-part'!$C$6:$C$923,'Codes éco-part'!$B$6:$B$923)","v":"002"},0.05]
["DIY and gardening products EPR",3,"21101900531","Modulated","DIY products","Large non-electric, non-combustion items and machines, and their accessories","Cement >90%","≥3 kg and <5 kg","€ / unit",0.04,0.04,{"$f":"_xlfn.XLOOKUP(K1849,'Codes éco-part'!$C$6:$C$923,'Codes éco-part'!$B$6:$B$923)","v":"002"},0.05]
["DIY and gardening products EPR",3,"21101900540",null,"DIY products","Large non-electric, non-combustion items and machines, and their accessories","Cement >90%","≥5 kg and <7 kg","€ / unit",0.06,0.06,{"$f":"_xlfn.XLOOKUP(K1850,'Codes éco-part'!$C$6:$C$923,'Codes éco-part'!$B$6:$B$923)","v":"096"},7.0000000000000007E-2]
["DIY and gardening products EPR",3,"21101900541","Modulated","DIY products","Large non-electric, non-combustion items and machines, and their accessories","Cement >90%","≥5 kg and <7 kg","€ / unit",0.05,0.05,{"$f":"_xlfn.XLOOKUP(K1851,'Codes éco-part'!$C$6:$C$923,'Codes éco-part'!$B$6:$B$923)","v":"048"},0.06]
["DIY and gardening products EPR",3,"21101900550",null,"DIY products","Large non-electric, non-combustion items and machines, and their accessories","Cement >90%","≥7 kg and <10 kg","€ / unit",0.09,0.09,{"$f":"_xlfn.XLOOKUP(K1852,'Codes éco-part'!$C$6:$C$923,'Codes éco-part'!$B$6:$B$923)","v":"049"},0.11]
["DIY and gardening products EPR",3,"21101900551","Modulated","DIY products","Large non-electric, non-combustion items and machines, and their accessories","Cement >90%","≥7 kg and <10 kg","€ / unit",0.08,0.08,{"$f":"_xlfn.XLOOKUP(K1853,'Codes éco-part'!$C$6:$C$923,'Codes éco-part'!$B$6:$B$923)","v":"003"},0.1]
["DIY and gardening products EPR",3,"21101900560",null,"DIY products","Large non-electric, non-combustion items and machines, and their accessories","Cement >90%","≥10 kg and <15 kg","€ / unit",0.13,0.13,{"$f":"_xlfn.XLOOKUP(K1854,'Codes éco-part'!$C$6:$C$923,'Codes éco-part'!$B$6:$B$923)","v":"004"},0.16]
["DIY and gardening products EPR",3,"21101900561","Modulated","DIY products","Large non-electric, non-combustion items and machines, and their accessories","Cement >90%","≥10 kg and <15 kg","€ / unit",0.12,0.12,{"$f":"_xlfn.XLOOKUP(K1855,'Codes éco-part'!$C$6:$C$923,'Codes éco-part'!$B$6:$B$923)","v":"097"},0.14000000000000001]
["DIY and gardening products EPR",3,"21101900570",null,"DIY products","Large non-electric, non-combustion items and machines, and their accessories","Cement >90%","≥15 kg and <20 kg","€ / unit",0.18,0.18,{"$f":"_xlfn.XLOOKUP(K1856,'Codes éco-part'!$C$6:$C$923,'Codes éco-part'!$B$6:$B$923)","v":"100"},0.22]
["DIY and gardening products EPR",3,"21101900571","Modulated","DIY products","Large non-electric, non-combustion items and machines, and their accessories","Cement >90%","≥15 kg and <20 kg","€ / unit",0.16,0.16,{"$f":"_xlfn.XLOOKUP(K1857,'Codes éco-part'!$C$6:$C$923,'Codes éco-part'!$B$6:$B$923)","v":"099"},0.19]
["DIY and gardening products EPR",3,"21101900580",null,"DIY products","Large non-electric, non-combustion items and machines, and their accessories","Cement >90%","≥20 kg and <25 kg","€ / unit",0.22,0.22,{"$f":"_xlfn.XLOOKUP(K1858,'Codes éco-part'!$C$6:$C$923,'Codes éco-part'!$B$6:$B$923)","v":"263"},{"$f":"ROUND(K1858*1.2,2)","v":0.26}]
["DIY and gardening products EPR",3,"21101900581","Modulated","DIY products","Large non-electric, non-combustion items and machines, and their accessories","Cement >90%","≥20 kg and <25 kg","€ / unit",0.2,0.2,{"$f":"_xlfn.XLOOKUP(K1859,'Codes éco-part'!$C$6:$C$923,'Codes éco-part'!$B$6:$B$923)","v":"101"},0.24]
["DIY and gardening products EPR",3,"21101900590",null,"DIY products","Large non-electric, non-combustion items and machines, and their accessories","Cement >90%","≥25 kg and <30 kg","€ / unit",0.26,0.26,{"$f":"_xlfn.XLOOKUP(K1860,'Codes éco-part'!$C$6:$C$923,'Codes éco-part'!$B$6:$B$923)","v":"445"},0.31]
["DIY and gardening products EPR",3,"21101900591","Modulated","DIY products","Large non-electric, non-combustion items and machines, and their accessories","Cement >90%","≥25 kg and <30 kg","€ / unit",0.23,0.23,{"$f":"_xlfn.XLOOKUP(K1861,'Codes éco-part'!$C$6:$C$923,'Codes éco-part'!$B$6:$B$923)","v":"323"},0.28000000000000003]
["DIY and gardening products EPR",3,"21101900600",null,"DIY products","Large non-electric, non-combustion items and machines, and their accessories","Cement >90%","≥40 kg and <50 kg","€ / unit",0.44,0.44,{"$f":"_xlfn.XLOOKUP(K1862,'Codes éco-part'!$C$6:$C$923,'Codes éco-part'!$B$6:$B$923)","v":"281"},0.53]
["DIY and gardening products EPR",3,"21101900601","Modulated","DIY products","Large non-electric, non-combustion items and machines, and their accessories","Cement >90%","≥40 kg and <50 kg","€ / unit",0.4,0.4,{"$f":"_xlfn.XLOOKUP(K1863,'Codes éco-part'!$C$6:$C$923,'Codes éco-part'!$B$6:$B$923)","v":"105"},0.48]
["DIY and gardening products EPR",3,"21101910000",null,"DIY products","Large non-electric, non-combustion items and machines, and their accessories","Granite >90%","Elements of all sizes and weights","€ / ton",8.75,8.75,{"$f":"_xlfn.XLOOKUP(K1864,'Codes éco-part'!$C$6:$C$923,'Codes éco-part'!$B$6:$B$923)","v":"069"},10.5]
["DIY and gardening products EPR",3,"21101910001","Modulated","DIY products","Large non-electric, non-combustion items and machines, and their accessories","Granite >90%","Elements of all sizes and weights","€ / ton",7.88,7.88,{"$f":"_xlfn.XLOOKUP(K1865,'Codes éco-part'!$C$6:$C$923,'Codes éco-part'!$B$6:$B$923)","v":"354"},9.4600000000000009]
["DIY and gardening products EPR",3,"21101910200",null,"DIY products","Large non-electric, non-combustion items and machines, and their accessories","Granite >90%","Strictly <0.5 kg","€ / unit",0.01,0.01,{"$f":"_xlfn.XLOOKUP(K1866,'Codes éco-part'!$C$6:$C$923,'Codes éco-part'!$B$6:$B$923)","v":"260"},0.01]
["DIY and gardening products EPR",3,"21101910201","Modulated","DIY products","Large non-electric, non-combustion items and machines, and their accessories","Granite >90%","Strictly <0.5 kg","€ / unit",0.01,0.01,{"$f":"_xlfn.XLOOKUP(K1867,'Codes éco-part'!$C$6:$C$923,'Codes éco-part'!$B$6:$B$923)","v":"260"},0.01]
["DIY and gardening products EPR",3,"21101910210",null,"DIY products","Large non-electric, non-combustion items and machines, and their accessories","Granite >90%","≥0.5 kg and <1 kg","€ / unit",0.01,0.01,{"$f":"_xlfn.XLOOKUP(K1868,'Codes éco-part'!$C$6:$C$923,'Codes éco-part'!$B$6:$B$923)","v":"260"},0.01]
["DIY and gardening products EPR",3,"21101910211","Modulated","DIY products","Large non-electric, non-combustion items and machines, and their accessories","Granite >90%","≥0.5 kg and <1 kg","€ / unit",0.01,0.01,{"$f":"_xlfn.XLOOKUP(K1869,'Codes éco-part'!$C$6:$C$923,'Codes éco-part'!$B$6:$B$923)","v":"260"},0.01]
["DIY and gardening products EPR",3,"21101910220",null,"DIY products","Large non-electric, non-combustion items and machines, and their accessories","Granite >90%","≥1 kg and <2 kg","€ / unit",0.01,0.01,{"$f":"_xlfn.XLOOKUP(K1870,'Codes éco-part'!$C$6:$C$923,'Codes éco-part'!$B$6:$B$923)","v":"260"},0.01]
["DIY and gardening products EPR",3,"21101910221","Modulated","DIY products","Large non-electric, non-combustion items and machines, and their accessories","Granite >90%","≥1 kg and <2 kg","€ / unit",0.01,0.01,{"$f":"_xlfn.XLOOKUP(K1871,'Codes éco-part'!$C$6:$C$923,'Codes éco-part'!$B$6:$B$923)","v":"260"},0.01]
["DIY and gardening products EPR",3,"21101910270",null,"DIY products","Large non-electric, non-combustion items and machines, and their accessories","Granite >90%","≥30 kg and <40 kg","€ / unit",0.35,0.35,{"$f":"_xlfn.XLOOKUP(K1872,'Codes éco-part'!$C$6:$C$923,'Codes éco-part'!$B$6:$B$923)","v":"448"},0.42]
["DIY and gardening products EPR",3,"21101910271","Modulated","DIY products","Large non-electric, non-combustion items and machines, and their accessories","Granite >90%","≥30 kg and <40 kg","€ / unit",0.32,0.32,{"$f":"_xlfn.XLOOKUP(K1873,'Codes éco-part'!$C$6:$C$923,'Codes éco-part'!$B$6:$B$923)","v":"447"},0.38]
["DIY and gardening products EPR",3,"21101910520",null,"DIY products","Large non-electric, non-combustion items and machines, and their accessories","Granite >90%","≥2 kg and <3 kg","€ / unit",0.02,0.02,{"$f":"_xlfn.XLOOKUP(K1874,'Codes éco-part'!$C$6:$C$923,'Codes éco-part'!$B$6:$B$923)","v":"047"},0.02]
["DIY and gardening products EPR",3,"21101910521","Modulated","DIY products","Large non-electric, non-combustion items and machines, and their accessories","Granite >90%","≥2 kg and <3 kg","€ / unit",0.02,0.02,{"$f":"_xlfn.XLOOKUP(K1875,'Codes éco-part'!$C$6:$C$923,'Codes éco-part'!$B$6:$B$923)","v":"047"},0.02]
["DIY and gardening products EPR",3,"21101910530",null,"DIY products","Large non-electric, non-combustion items and machines, and their accessories","Granite >90%","≥3 kg and <5 kg","€ / unit",0.04,0.04,{"$f":"_xlfn.XLOOKUP(K1876,'Codes éco-part'!$C$6:$C$923,'Codes éco-part'!$B$6:$B$923)","v":"002"},0.05]
["DIY and gardening products EPR",3,"21101910531","Modulated","DIY products","Large non-electric, non-combustion items and machines, and their accessories","Granite >90%","≥3 kg and <5 kg","€ / unit",0.04,0.04,{"$f":"_xlfn.XLOOKUP(K1877,'Codes éco-part'!$C$6:$C$923,'Codes éco-part'!$B$6:$B$923)","v":"002"},0.05]
["DIY and gardening products EPR",3,"21101910540",null,"DIY products","Large non-electric, non-combustion items and machines, and their accessories","Granite >90%","≥5 kg and <7 kg","€ / unit",0.06,0.06,{"$f":"_xlfn.XLOOKUP(K1878,'Codes éco-part'!$C$6:$C$923,'Codes éco-part'!$B$6:$B$923)","v":"096"},7.0000000000000007E-2]
["DIY and gardening products EPR",3,"21101910541","Modulated","DIY products","Large non-electric, non-combustion items and machines, and their accessories","Granite >90%","≥5 kg and <7 kg","€ / unit",0.05,0.05,{"$f":"_xlfn.XLOOKUP(K1879,'Codes éco-part'!$C$6:$C$923,'Codes éco-part'!$B$6:$B$923)","v":"048"},0.06]
["DIY and gardening products EPR",3,"21101910550",null,"DIY products","Large non-electric, non-combustion items and machines, and their accessories","Granite >90%","≥7 kg and <10 kg","€ / unit",0.09,0.09,{"$f":"_xlfn.XLOOKUP(K1880,'Codes éco-part'!$C$6:$C$923,'Codes éco-part'!$B$6:$B$923)","v":"049"},0.11]
["DIY and gardening products EPR",3,"21101910551","Modulated","DIY products","Large non-electric, non-combustion items and machines, and their accessories","Granite >90%","≥7 kg and <10 kg","€ / unit",0.08,0.08,{"$f":"_xlfn.XLOOKUP(K1881,'Codes éco-part'!$C$6:$C$923,'Codes éco-part'!$B$6:$B$923)","v":"003"},0.1]
["DIY and gardening products EPR",3,"21101910560",null,"DIY products","Large non-electric, non-combustion items and machines, and their accessories","Granite >90%","≥10 kg and <15 kg","€ / unit",0.13,0.13,{"$f":"_xlfn.XLOOKUP(K1882,'Codes éco-part'!$C$6:$C$923,'Codes éco-part'!$B$6:$B$923)","v":"004"},0.16]
["DIY and gardening products EPR",3,"21101910561","Modulated","DIY products","Large non-electric, non-combustion items and machines, and their accessories","Granite >90%","≥10 kg and <15 kg","€ / unit",0.12,0.12,{"$f":"_xlfn.XLOOKUP(K1883,'Codes éco-part'!$C$6:$C$923,'Codes éco-part'!$B$6:$B$923)","v":"097"},0.14000000000000001]
["DIY and gardening products EPR",3,"21101910570",null,"DIY products","Large non-electric, non-combustion items and machines, and their accessories","Granite >90%","≥15 kg and <20 kg","€ / unit",0.18,0.18,{"$f":"_xlfn.XLOOKUP(K1884,'Codes éco-part'!$C$6:$C$923,'Codes éco-part'!$B$6:$B$923)","v":"100"},0.22]
["DIY and gardening products EPR",3,"21101910571","Modulated","DIY products","Large non-electric, non-combustion items and machines, and their accessories","Granite >90%","≥15 kg and <20 kg","€ / unit",0.16,0.16,{"$f":"_xlfn.XLOOKUP(K1885,'Codes éco-part'!$C$6:$C$923,'Codes éco-part'!$B$6:$B$923)","v":"099"},0.19]
["DIY and gardening products EPR",3,"21101910580",null,"DIY products","Large non-electric, non-combustion items and machines, and their accessories","Granite >90%","≥20 kg and <25 kg","€ / unit",0.22,0.22,{"$f":"_xlfn.XLOOKUP(K1886,'Codes éco-part'!$C$6:$C$923,'Codes éco-part'!$B$6:$B$923)","v":"263"},0.26]
["DIY and gardening products EPR",3,"21101910581","Modulated","DIY products","Large non-electric, non-combustion items and machines, and their accessories","Granite >90%","≥20 kg and <25 kg","€ / unit",0.2,0.2,{"$f":"_xlfn.XLOOKUP(K1887,'Codes éco-part'!$C$6:$C$923,'Codes éco-part'!$B$6:$B$923)","v":"101"},0.24]
["DIY and gardening products EPR",3,"21101910590",null,"DIY products","Large non-electric, non-combustion items and machines, and their accessories","Granite >90%","≥25 kg and <30 kg","€ / unit",0.26,0.26,{"$f":"_xlfn.XLOOKUP(K1888,'Codes éco-part'!$C$6:$C$923,'Codes éco-part'!$B$6:$B$923)","v":"445"},0.31]
["DIY and gardening products EPR",3,"21101910591","Modulated","DIY products","Large non-electric, non-combustion items and machines, and their accessories","Granite >90%","≥25 kg and <30 kg","€ / unit",0.23,0.23,{"$f":"_xlfn.XLOOKUP(K1889,'Codes éco-part'!$C$6:$C$923,'Codes éco-part'!$B$6:$B$923)","v":"323"},0.28000000000000003]
["DIY and gardening products EPR",3,"21101910600",null,"DIY products","Large non-electric, non-combustion items and machines, and their accessories","Granite >90%","≥40 kg and <50 kg","€ / unit",0.44,0.44,{"$f":"_xlfn.XLOOKUP(K1890,'Codes éco-part'!$C$6:$C$923,'Codes éco-part'!$B$6:$B$923)","v":"281"},0.53]
["DIY and gardening products EPR",3,"21101910601","Modulated","DIY products","Large non-electric, non-combustion items and machines, and their accessories","Granite >90%","≥40 kg and <50 kg","€ / unit",0.4,0.4,{"$f":"_xlfn.XLOOKUP(K1891,'Codes éco-part'!$C$6:$C$923,'Codes éco-part'!$B$6:$B$923)","v":"105"},0.48]
["DIY and gardening products EPR",3,"21101940000",null,"DIY products","Large non-electric, non-combustion items and machines, and their accessories","Sandstone >90%","Elements of all sizes and weights","€ / ton",8.75,8.75,{"$f":"_xlfn.XLOOKUP(K1892,'Codes éco-part'!$C$6:$C$923,'Codes éco-part'!$B$6:$B$923)","v":"069"},10.5]
["DIY and gardening products EPR",3,"21101940001","Modulated","DIY products","Large non-electric, non-combustion items and machines, and their accessories","Sandstone >90%","Elements of all sizes and weights","€ / ton",7.88,7.88,{"$f":"_xlfn.XLOOKUP(K1893,'Codes éco-part'!$C$6:$C$923,'Codes éco-part'!$B$6:$B$923)","v":"354"},9.4600000000000009]
["DIY and gardening products EPR",3,"21101940200",null,"DIY products","Large non-electric, non-combustion items and machines, and their accessories","Sandstone >90%","Strictly <0.5 kg","€ / unit",0.01,0.01,{"$f":"_xlfn.XLOOKUP(K1894,'Codes éco-part'!$C$6:$C$923,'Codes éco-part'!$B$6:$B$923)","v":"260"},0.01]
["DIY and gardening products EPR",3,"21101940201","Modulated","DIY products","Large non-electric, non-combustion items and machines, and their accessories","Sandstone >90%","Strictly <0.5 kg","€ / unit",0.01,0.01,{"$f":"_xlfn.XLOOKUP(K1895,'Codes éco-part'!$C$6:$C$923,'Codes éco-part'!$B$6:$B$923)","v":"260"},0.01]
["DIY and gardening products EPR",3,"21101940210",null,"DIY products","Large non-electric, non-combustion items and machines, and their accessories","Sandstone >90%","≥0.5 kg and <1 kg","€ / unit",0.01,0.01,{"$f":"_xlfn.XLOOKUP(K1896,'Codes éco-part'!$C$6:$C$923,'Codes éco-part'!$B$6:$B$923)","v":"260"},0.01]
["DIY and gardening products EPR",3,"21101940211","Modulated","DIY products","Large non-electric, non-combustion items and machines, and their accessories","Sandstone >90%","≥0.5 kg and <1 kg","€ / unit",0.01,0.01,{"$f":"_xlfn.XLOOKUP(K1897,'Codes éco-part'!$C$6:$C$923,'Codes éco-part'!$B$6:$B$923)","v":"260"},0.01]
["DIY and gardening products EPR",3,"21101940220",null,"DIY products","Large non-electric, non-combustion items and machines, and their accessories","Sandstone >90%","≥1 kg and <2 kg","€ / unit",0.01,0.01,{"$f":"_xlfn.XLOOKUP(K1898,'Codes éco-part'!$C$6:$C$923,'Codes éco-part'!$B$6:$B$923)","v":"260"},0.01]
["DIY and gardening products EPR",3,"21101940221","Modulated","DIY products","Large non-electric, non-combustion items and machines, and their accessories","Sandstone >90%","≥1 kg and <2 kg","€ / unit",0.01,0.01,{"$f":"_xlfn.XLOOKUP(K1899,'Codes éco-part'!$C$6:$C$923,'Codes éco-part'!$B$6:$B$923)","v":"260"},0.01]
["DIY and gardening products EPR",3,"21101940270",null,"DIY products","Large non-electric, non-combustion items and machines, and their accessories","Sandstone >90%","≥30 kg and <40 kg","€ / unit",0.35,0.35,{"$f":"_xlfn.XLOOKUP(K1900,'Codes éco-part'!$C$6:$C$923,'Codes éco-part'!$B$6:$B$923)","v":"448"},0.42]
["DIY and gardening products EPR",3,"21101940271","Modulated","DIY products","Large non-electric, non-combustion items and machines, and their accessories","Sandstone >90%","≥30 kg and <40 kg","€ / unit",0.32,0.32,{"$f":"_xlfn.XLOOKUP(K1901,'Codes éco-part'!$C$6:$C$923,'Codes éco-part'!$B$6:$B$923)","v":"447"},0.38]
["DIY and gardening products EPR",3,"21101940520",null,"DIY products","Large non-electric, non-combustion items and machines, and their accessories","Sandstone >90%","≥2 kg and <3 kg","€ / unit",0.02,0.02,{"$f":"_xlfn.XLOOKUP(K1902,'Codes éco-part'!$C$6:$C$923,'Codes éco-part'!$B$6:$B$923)","v":"047"},0.02]
["DIY and gardening products EPR",3,"21101940521","Modulated","DIY products","Large non-electric, non-combustion items and machines, and their accessories","Sandstone >90%","≥2 kg and <3 kg","€ / unit",0.02,0.02,{"$f":"_xlfn.XLOOKUP(K1903,'Codes éco-part'!$C$6:$C$923,'Codes éco-part'!$B$6:$B$923)","v":"047"},0.02]
["DIY and gardening products EPR",3,"21101940530",null,"DIY products","Large non-electric, non-combustion items and machines, and their accessories","Sandstone >90%","≥3 kg and <5 kg","€ / unit",0.04,0.04,{"$f":"_xlfn.XLOOKUP(K1904,'Codes éco-part'!$C$6:$C$923,'Codes éco-part'!$B$6:$B$923)","v":"002"},0.05]
["DIY and gardening products EPR",3,"21101940531","Modulated","DIY products","Large non-electric, non-combustion items and machines, and their accessories","Sandstone >90%","≥3 kg and <5 kg","€ / unit",0.04,0.04,{"$f":"_xlfn.XLOOKUP(K1905,'Codes éco-part'!$C$6:$C$923,'Codes éco-part'!$B$6:$B$923)","v":"002"},0.05]
["DIY and gardening products EPR",3,"21101940540",null,"DIY products","Large non-electric, non-combustion items and machines, and their accessories","Sandstone >90%","≥5 kg and <7 kg","€ / unit",0.06,0.06,{"$f":"_xlfn.XLOOKUP(K1906,'Codes éco-part'!$C$6:$C$923,'Codes éco-part'!$B$6:$B$923)","v":"096"},7.0000000000000007E-2]
["DIY and gardening products EPR",3,"21101940541","Modulated","DIY products","Large non-electric, non-combustion items and machines, and their accessories","Sandstone >90%","≥5 kg and <7 kg","€ / unit",0.05,0.05,{"$f":"_xlfn.XLOOKUP(K1907,'Codes éco-part'!$C$6:$C$923,'Codes éco-part'!$B$6:$B$923)","v":"048"},0.06]
["DIY and gardening products EPR",3,"21101940550",null,"DIY products","Large non-electric, non-combustion items and machines, and their accessories","Sandstone >90%","≥7 kg and <10 kg","€ / unit",0.09,0.09,{"$f":"_xlfn.XLOOKUP(K1908,'Codes éco-part'!$C$6:$C$923,'Codes éco-part'!$B$6:$B$923)","v":"049"},0.11]
["DIY and gardening products EPR",3,"21101940551","Modulated","DIY products","Large non-electric, non-combustion items and machines, and their accessories","Sandstone >90%","≥7 kg and <10 kg","€ / unit",0.08,0.08,{"$f":"_xlfn.XLOOKUP(K1909,'Codes éco-part'!$C$6:$C$923,'Codes éco-part'!$B$6:$B$923)","v":"003"},0.1]
["DIY and gardening products EPR",3,"21101940560",null,"DIY products","Large non-electric, non-combustion items and machines, and their accessories","Sandstone >90%","≥10 kg and <15 kg","€ / unit",0.13,0.13,{"$f":"_xlfn.XLOOKUP(K1910,'Codes éco-part'!$C$6:$C$923,'Codes éco-part'!$B$6:$B$923)","v":"004"},0.16]
["DIY and gardening products EPR",3,"21101940561","Modulated","DIY products","Large non-electric, non-combustion items and machines, and their accessories","Sandstone >90%","≥10 kg and <15 kg","€ / unit",0.12,0.12,{"$f":"_xlfn.XLOOKUP(K1911,'Codes éco-part'!$C$6:$C$923,'Codes éco-part'!$B$6:$B$923)","v":"097"},0.14000000000000001]
["DIY and gardening products EPR",3,"21101940570",null,"DIY products","Large non-electric, non-combustion items and machines, and their accessories","Sandstone >90%","≥15 kg and <20 kg","€ / unit",0.18,0.18,{"$f":"_xlfn.XLOOKUP(K1912,'Codes éco-part'!$C$6:$C$923,'Codes éco-part'!$B$6:$B$923)","v":"100"},0.22]
["DIY and gardening products EPR",3,"21101940571","Modulated","DIY products","Large non-electric, non-combustion items and machines, and their accessories","Sandstone >90%","≥15 kg and <20 kg","€ / unit",0.16,0.16,{"$f":"_xlfn.XLOOKUP(K1913,'Codes éco-part'!$C$6:$C$923,'Codes éco-part'!$B$6:$B$923)","v":"099"},0.19]
["DIY and gardening products EPR",3,"21101940580",null,"DIY products","Large non-electric, non-combustion items and machines, and their accessories","Sandstone >90%","≥20 kg and <25 kg","€ / unit",0.22,0.22,{"$f":"_xlfn.XLOOKUP(K1914,'Codes éco-part'!$C$6:$C$923,'Codes éco-part'!$B$6:$B$923)","v":"263"},0.26]
["DIY and gardening products EPR",3,"21101940581","Modulated","DIY products","Large non-electric, non-combustion items and machines, and their accessories","Sandstone >90%","≥20 kg and <25 kg","€ / unit",0.2,0.2,{"$f":"_xlfn.XLOOKUP(K1915,'Codes éco-part'!$C$6:$C$923,'Codes éco-part'!$B$6:$B$923)","v":"101"},0.24]
["DIY and gardening products EPR",3,"21101940590",null,"DIY products","Large non-electric, non-combustion items and machines, and their accessories","Sandstone >90%","≥25 kg and <30 kg","€ / unit",0.26,0.26,{"$f":"_xlfn.XLOOKUP(K1916,'Codes éco-part'!$C$6:$C$923,'Codes éco-part'!$B$6:$B$923)","v":"445"},0.31]
["DIY and gardening products EPR",3,"21101940591","Modulated","DIY products","Large non-electric, non-combustion items and machines, and their accessories","Sandstone >90%","≥25 kg and <30 kg","€ / unit",0.23,0.23,{"$f":"_xlfn.XLOOKUP(K1917,'Codes éco-part'!$C$6:$C$923,'Codes éco-part'!$B$6:$B$923)","v":"323"},0.28000000000000003]
["DIY and gardening products EPR",3,"21101940600",null,"DIY products","Large non-electric, non-combustion items and machines, and their accessories","Sandstone >90%","≥40 kg and <50 kg","€ / unit",0.44,0.44,{"$f":"_xlfn.XLOOKUP(K1918,'Codes éco-part'!$C$6:$C$923,'Codes éco-part'!$B$6:$B$923)","v":"281"},0.53]
["DIY and gardening products EPR",3,"21101940601","Modulated","DIY products","Large non-electric, non-combustion items and machines, and their accessories","Sandstone >90%","≥40 kg and <50 kg","€ / unit",0.4,0.4,{"$f":"_xlfn.XLOOKUP(K1919,'Codes éco-part'!$C$6:$C$923,'Codes éco-part'!$B$6:$B$923)","v":"105"},0.48]
["DIY and gardening products EPR",3,"21101970000",null,"DIY products","Large non-electric, non-combustion items and machines, and their accessories","Ceramic >90%","Elements of all sizes and weights","€ / ton",12,12,{"$f":"_xlfn.XLOOKUP(K1920,'Codes éco-part'!$C$6:$C$923,'Codes éco-part'!$B$6:$B$923)","v":"485"},14.4]
["DIY and gardening products EPR",3,"21101970001","Modulated","DIY products","Large non-electric, non-combustion items and machines, and their accessories","Ceramic >90%","Elements of all sizes and weights","€ / ton",10.8,10.8,{"$f":"_xlfn.XLOOKUP(K1921,'Codes éco-part'!$C$6:$C$923,'Codes éco-part'!$B$6:$B$923)","v":948},12.96]
["DIY and gardening products EPR",3,"21101970200",null,"DIY products","Large non-electric, non-combustion items and machines, and their accessories","Ceramic >90%","Strictly <0.5 kg","€ / unit",0.01,0.01,{"$f":"_xlfn.XLOOKUP(K1922,'Codes éco-part'!$C$6:$C$923,'Codes éco-part'!$B$6:$B$923)","v":"260"},{"$f":"ROUND(K1922*1.2,2)","v":0.01}]
["DIY and gardening products EPR",3,"21101970201","Modulated","DIY products","Large non-electric, non-combustion items and machines, and their accessories","Ceramic >90%","Strictly <0.5 kg","€ / unit",0.01,0.01,{"$f":"_xlfn.XLOOKUP(K1923,'Codes éco-part'!$C$6:$C$923,'Codes éco-part'!$B$6:$B$923)","v":"260"},0.01]
["DIY and gardening products EPR",3,"21101970210",null,"DIY products","Large non-electric, non-combustion items and machines, and their accessories","Ceramic >90%","≥0.5 kg and <1 kg","€ / unit",0.01,0.01,{"$f":"_xlfn.XLOOKUP(K1924,'Codes éco-part'!$C$6:$C$923,'Codes éco-part'!$B$6:$B$923)","v":"260"},0.01]
["DIY and gardening products EPR",3,"21101970211","Modulated","DIY products","Large non-electric, non-combustion items and machines, and their accessories","Ceramic >90%","≥0.5 kg and <1 kg","€ / unit",0.01,0.01,{"$f":"_xlfn.XLOOKUP(K1925,'Codes éco-part'!$C$6:$C$923,'Codes éco-part'!$B$6:$B$923)","v":"260"},0.01]
["DIY and gardening products EPR",3,"21101970220",null,"DIY products","Large non-electric, non-combustion items and machines, and their accessories","Ceramic >90%","≥1 kg and <2 kg","€ / unit",0.02,0.02,{"$f":"_xlfn.XLOOKUP(K1926,'Codes éco-part'!$C$6:$C$923,'Codes éco-part'!$B$6:$B$923)","v":"047"},0.02]
["DIY and gardening products EPR",3,"21101970221","Modulated","DIY products","Large non-electric, non-combustion items and machines, and their accessories","Ceramic >90%","≥1 kg and <2 kg","€ / unit",0.02,0.02,{"$f":"_xlfn.XLOOKUP(K1927,'Codes éco-part'!$C$6:$C$923,'Codes éco-part'!$B$6:$B$923)","v":"047"},0.02]
["DIY and gardening products EPR",3,"21101970270",null,"DIY products","Large non-electric, non-combustion items and machines, and their accessories","Ceramic >90%","≥30 kg and <40 kg","€ / unit",0.48,0.48,{"$f":"_xlfn.XLOOKUP(K1928,'Codes éco-part'!$C$6:$C$923,'Codes éco-part'!$B$6:$B$923)","v":"606"},0.57999999999999996]
["DIY and gardening products EPR",3,"21101970271","Modulated","DIY products","Large non-electric, non-combustion items and machines, and their accessories","Ceramic >90%","≥30 kg and <40 kg","€ / unit",0.43,0.43,{"$f":"_xlfn.XLOOKUP(K1929,'Codes éco-part'!$C$6:$C$923,'Codes éco-part'!$B$6:$B$923)","v":"506"},0.52]
["DIY and gardening products EPR",3,"21101970520",null,"DIY products","Large non-electric, non-combustion items and machines, and their accessories","Ceramic >90%","≥2 kg and <3 kg","€ / unit",0.03,0.03,{"$f":"_xlfn.XLOOKUP(K1930,'Codes éco-part'!$C$6:$C$923,'Codes éco-part'!$B$6:$B$923)","v":"092"},0.04]
["DIY and gardening products EPR",3,"21101970521","Modulated","DIY products","Large non-electric, non-combustion items and machines, and their accessories","Ceramic >90%","≥2 kg and <3 kg","€ / unit",0.03,0.03,{"$f":"_xlfn.XLOOKUP(K1931,'Codes éco-part'!$C$6:$C$923,'Codes éco-part'!$B$6:$B$923)","v":"092"},0.04]
["DIY and gardening products EPR",3,"21101970530",null,"DIY products","Large non-electric, non-combustion items and machines, and their accessories","Ceramic >90%","≥3 kg and <5 kg","€ / unit",0.05,0.05,{"$f":"_xlfn.XLOOKUP(K1932,'Codes éco-part'!$C$6:$C$923,'Codes éco-part'!$B$6:$B$923)","v":"048"},0.06]
["DIY and gardening products EPR",3,"21101970531","Modulated","DIY products","Large non-electric, non-combustion items and machines, and their accessories","Ceramic >90%","≥3 kg and <5 kg","€ / unit",0.05,0.05,{"$f":"_xlfn.XLOOKUP(K1933,'Codes éco-part'!$C$6:$C$923,'Codes éco-part'!$B$6:$B$923)","v":"048"},0.06]
["DIY and gardening products EPR",3,"21101970540",null,"DIY products","Large non-electric, non-combustion items and machines, and their accessories","Ceramic >90%","≥5 kg and <7 kg","€ / unit",0.08,0.08,{"$f":"_xlfn.XLOOKUP(K1934,'Codes éco-part'!$C$6:$C$923,'Codes éco-part'!$B$6:$B$923)","v":"003"},0.1]
["DIY and gardening products EPR",3,"21101970541","Modulated","DIY products","Large non-electric, non-combustion items and machines, and their accessories","Ceramic >90%","≥5 kg and <7 kg","€ / unit",7.0000000000000007E-2,7.0000000000000007E-2,{"$f":"_xlfn.XLOOKUP(K1935,'Codes éco-part'!$C$6:$C$923,'Codes éco-part'!$B$6:$B$923)","v":"247"},0.08]
["DIY and gardening products EPR",3,"21101970550",null,"DIY products","Large non-electric, non-combustion items and machines, and their accessories","Ceramic >90%","≥7 kg and <10 kg","€ / unit",0.12,0.12,{"$f":"_xlfn.XLOOKUP(K1936,'Codes éco-part'!$C$6:$C$923,'Codes éco-part'!$B$6:$B$923)","v":"097"},0.14000000000000001]
["DIY and gardening products EPR",3,"21101970551","Modulated","DIY products","Large non-electric, non-combustion items and machines, and their accessories","Ceramic >90%","≥7 kg and <10 kg","€ / unit",0.11,0.11,{"$f":"_xlfn.XLOOKUP(K1937,'Codes éco-part'!$C$6:$C$923,'Codes éco-part'!$B$6:$B$923)","v":"262"},0.13]
["DIY and gardening products EPR",3,"21101970560",null,"DIY products","Large non-electric, non-combustion items and machines, and their accessories","Ceramic >90%","≥10 kg and <15 kg","€ / unit",0.18,0.18,{"$f":"_xlfn.XLOOKUP(K1938,'Codes éco-part'!$C$6:$C$923,'Codes éco-part'!$B$6:$B$923)","v":"100"},0.22]
["DIY and gardening products EPR",3,"21101970561","Modulated","DIY products","Large non-electric, non-combustion items and machines, and their accessories","Ceramic >90%","≥10 kg and <15 kg","€ / unit",0.16,0.16,{"$f":"_xlfn.XLOOKUP(K1939,'Codes éco-part'!$C$6:$C$923,'Codes éco-part'!$B$6:$B$923)","v":"099"},0.19]
["DIY and gardening products EPR",3,"21101970570",null,"DIY products","Large non-electric, non-combustion items and machines, and their accessories","Ceramic >90%","≥15 kg and <20 kg","€ / unit",0.24,0.24,{"$f":"_xlfn.XLOOKUP(K1940,'Codes éco-part'!$C$6:$C$923,'Codes éco-part'!$B$6:$B$923)","v":"248"},0.28999999999999998]
["DIY and gardening products EPR",3,"21101970571","Modulated","DIY products","Large non-electric, non-combustion items and machines, and their accessories","Ceramic >90%","≥15 kg and <20 kg","€ / unit",0.22,0.22,{"$f":"_xlfn.XLOOKUP(K1941,'Codes éco-part'!$C$6:$C$923,'Codes éco-part'!$B$6:$B$923)","v":"263"},0.26]
["DIY and gardening products EPR",3,"21101970580",null,"DIY products","Large non-electric, non-combustion items and machines, and their accessories","Ceramic >90%","≥20 kg and <25 kg","€ / unit",0.3,0.3,{"$f":"_xlfn.XLOOKUP(K1942,'Codes éco-part'!$C$6:$C$923,'Codes éco-part'!$B$6:$B$923)","v":"446"},0.36]
["DIY and gardening products EPR",3,"21101970581","Modulated","DIY products","Large non-electric, non-combustion items and machines, and their accessories","Ceramic >90%","≥20 kg and <25 kg","€ / unit",0.27,0.27,{"$f":"_xlfn.XLOOKUP(K1943,'Codes éco-part'!$C$6:$C$923,'Codes éco-part'!$B$6:$B$923)","v":"103"},0.32]
["DIY and gardening products EPR",3,"21101970590",null,"DIY products","Large non-electric, non-combustion items and machines, and their accessories","Ceramic >90%","≥25 kg and <30 kg","€ / unit",0.36,0.36,{"$f":"_xlfn.XLOOKUP(K1944,'Codes éco-part'!$C$6:$C$923,'Codes éco-part'!$B$6:$B$923)","v":"449"},0.43]
["DIY and gardening products EPR",3,"21101970591","Modulated","DIY products","Large non-electric, non-combustion items and machines, and their accessories","Ceramic >90%","≥25 kg and <30 kg","€ / unit",0.32,0.32,{"$f":"_xlfn.XLOOKUP(K1945,'Codes éco-part'!$C$6:$C$923,'Codes éco-part'!$B$6:$B$923)","v":"447"},0.38]
["DIY and gardening products EPR",3,"21101970600",null,"DIY products","Large non-electric, non-combustion items and machines, and their accessories","Ceramic >90%","≥40 kg and <50 kg","€ / unit",0.6,0.6,{"$f":"_xlfn.XLOOKUP(K1946,'Codes éco-part'!$C$6:$C$923,'Codes éco-part'!$B$6:$B$923)","v":"327"},0.72]
["DIY and gardening products EPR",3,"21101970601","Modulated","DIY products","Large non-electric, non-combustion items and machines, and their accessories","Ceramic >90%","≥40 kg and <50 kg","€ / unit",0.54,0.54,{"$f":"_xlfn.XLOOKUP(K1947,'Codes éco-part'!$C$6:$C$923,'Codes éco-part'!$B$6:$B$923)","v":"500"},0.65]
["DIY and gardening products EPR",3,"21101980000",null,"DIY products","Large non-electric, non-combustion items and machines, and their accessories","Artificial stone >90%","Elements of all sizes and weights","€ / ton",8.75,8.75,{"$f":"_xlfn.XLOOKUP(K1948,'Codes éco-part'!$C$6:$C$923,'Codes éco-part'!$B$6:$B$923)","v":"069"},10.5]
["DIY and gardening products EPR",3,"21101980001","Modulated","DIY products","Large non-electric, non-combustion items and machines, and their accessories","Artificial stone >90%","Elements of all sizes and weights","€ / ton",7.88,7.88,{"$f":"_xlfn.XLOOKUP(K1949,'Codes éco-part'!$C$6:$C$923,'Codes éco-part'!$B$6:$B$923)","v":"354"},9.4600000000000009]
["DIY and gardening products EPR",3,"21101980200",null,"DIY products","Large non-electric, non-combustion items and machines, and their accessories","Artificial stone >90%","Strictly <0.5 kg","€ / unit",0.01,0.01,{"$f":"_xlfn.XLOOKUP(K1950,'Codes éco-part'!$C$6:$C$923,'Codes éco-part'!$B$6:$B$923)","v":"260"},0.01]
["DIY and gardening products EPR",3,"21101980201","Modulated","DIY products","Large non-electric, non-combustion items and machines, and their accessories","Artificial stone >90%","Strictly <0.5 kg","€ / unit",0.01,0.01,{"$f":"_xlfn.XLOOKUP(K1951,'Codes éco-part'!$C$6:$C$923,'Codes éco-part'!$B$6:$B$923)","v":"260"},0.01]
["DIY and gardening products EPR",3,"21101980210",null,"DIY products","Large non-electric, non-combustion items and machines, and their accessories","Artificial stone >90%","≥0.5 kg and <1 kg","€ / unit",0.01,0.01,{"$f":"_xlfn.XLOOKUP(K1952,'Codes éco-part'!$C$6:$C$923,'Codes éco-part'!$B$6:$B$923)","v":"260"},0.01]
["DIY and gardening products EPR",3,"21101980211","Modulated","DIY products","Large non-electric, non-combustion items and machines, and their accessories","Artificial stone >90%","≥0.5 kg and <1 kg","€ / unit",0.01,0.01,{"$f":"_xlfn.XLOOKUP(K1953,'Codes éco-part'!$C$6:$C$923,'Codes éco-part'!$B$6:$B$923)","v":"260"},0.01]
["DIY and gardening products EPR",3,"21101980220",null,"DIY products","Large non-electric, non-combustion items and machines, and their accessories","Artificial stone >90%","≥1 kg and <2 kg","€ / unit",0.01,0.01,{"$f":"_xlfn.XLOOKUP(K1954,'Codes éco-part'!$C$6:$C$923,'Codes éco-part'!$B$6:$B$923)","v":"260"},0.01]
["DIY and gardening products EPR",3,"21101980221","Modulated","DIY products","Large non-electric, non-combustion items and machines, and their accessories","Artificial stone >90%","≥1 kg and <2 kg","€ / unit",0.01,0.01,{"$f":"_xlfn.XLOOKUP(K1955,'Codes éco-part'!$C$6:$C$923,'Codes éco-part'!$B$6:$B$923)","v":"260"},0.01]
["DIY and gardening products EPR",3,"21101980270",null,"DIY products","Large non-electric, non-combustion items and machines, and their accessories","Artificial stone >90%","≥30 kg and <40 kg","€ / unit",0.35,0.35,{"$f":"_xlfn.XLOOKUP(K1956,'Codes éco-part'!$C$6:$C$923,'Codes éco-part'!$B$6:$B$923)","v":"448"},0.42]
["DIY and gardening products EPR",3,"21101980271","Modulated","DIY products","Large non-electric, non-combustion items and machines, and their accessories","Artificial stone >90%","≥30 kg and <40 kg","€ / unit",0.32,0.32,{"$f":"_xlfn.XLOOKUP(K1957,'Codes éco-part'!$C$6:$C$923,'Codes éco-part'!$B$6:$B$923)","v":"447"},0.38]
["DIY and gardening products EPR",3,"21101980520",null,"DIY products","Large non-electric, non-combustion items and machines, and their accessories","Artificial stone >90%","≥2 kg and <3 kg","€ / unit",0.02,0.02,{"$f":"_xlfn.XLOOKUP(K1958,'Codes éco-part'!$C$6:$C$923,'Codes éco-part'!$B$6:$B$923)","v":"047"},0.02]
["DIY and gardening products EPR",3,"21101980521","Modulated","DIY products","Large non-electric, non-combustion items and machines, and their accessories","Artificial stone >90%","≥2 kg and <3 kg","€ / unit",0.02,0.02,{"$f":"_xlfn.XLOOKUP(K1959,'Codes éco-part'!$C$6:$C$923,'Codes éco-part'!$B$6:$B$923)","v":"047"},0.02]
["DIY and gardening products EPR",3,"21101980530",null,"DIY products","Large non-electric, non-combustion items and machines, and their accessories","Artificial stone >90%","≥3 kg and <5 kg","€ / unit",0.04,0.04,{"$f":"_xlfn.XLOOKUP(K1960,'Codes éco-part'!$C$6:$C$923,'Codes éco-part'!$B$6:$B$923)","v":"002"},0.05]
["DIY and gardening products EPR",3,"21101980531","Modulated","DIY products","Large non-electric, non-combustion items and machines, and their accessories","Artificial stone >90%","≥3 kg and <5 kg","€ / unit",0.04,0.04,{"$f":"_xlfn.XLOOKUP(K1961,'Codes éco-part'!$C$6:$C$923,'Codes éco-part'!$B$6:$B$923)","v":"002"},0.05]
["DIY and gardening products EPR",3,"21101980540",null,"DIY products","Large non-electric, non-combustion items and machines, and their accessories","Artificial stone >90%","≥5 kg and <7 kg","€ / unit",0.06,0.06,{"$f":"_xlfn.XLOOKUP(K1962,'Codes éco-part'!$C$6:$C$923,'Codes éco-part'!$B$6:$B$923)","v":"096"},7.0000000000000007E-2]
["DIY and gardening products EPR",3,"21101980541","Modulated","DIY products","Large non-electric, non-combustion items and machines, and their accessories","Artificial stone >90%","≥5 kg and <7 kg","€ / unit",0.05,0.05,{"$f":"_xlfn.XLOOKUP(K1963,'Codes éco-part'!$C$6:$C$923,'Codes éco-part'!$B$6:$B$923)","v":"048"},0.06]
["DIY and gardening products EPR",3,"21101980550",null,"DIY products","Large non-electric, non-combustion items and machines, and their accessories","Artificial stone >90%","≥7 kg and <10 kg","€ / unit",0.09,0.09,{"$f":"_xlfn.XLOOKUP(K1964,'Codes éco-part'!$C$6:$C$923,'Codes éco-part'!$B$6:$B$923)","v":"049"},0.11]
["DIY and gardening products EPR",3,"21101980551","Modulated","DIY products","Large non-electric, non-combustion items and machines, and their accessories","Artificial stone >90%","≥7 kg and <10 kg","€ / unit",0.08,0.08,{"$f":"_xlfn.XLOOKUP(K1965,'Codes éco-part'!$C$6:$C$923,'Codes éco-part'!$B$6:$B$923)","v":"003"},0.1]
["DIY and gardening products EPR",3,"21101980560",null,"DIY products","Large non-electric, non-combustion items and machines, and their accessories","Artificial stone >90%","≥10 kg and <15 kg","€ / unit",0.13,0.13,{"$f":"_xlfn.XLOOKUP(K1966,'Codes éco-part'!$C$6:$C$923,'Codes éco-part'!$B$6:$B$923)","v":"004"},0.16]
["DIY and gardening products EPR",3,"21101980561","Modulated","DIY products","Large non-electric, non-combustion items and machines, and their accessories","Artificial stone >90%","≥10 kg and <15 kg","€ / unit",0.12,0.12,{"$f":"_xlfn.XLOOKUP(K1967,'Codes éco-part'!$C$6:$C$923,'Codes éco-part'!$B$6:$B$923)","v":"097"},0.14000000000000001]
["DIY and gardening products EPR",3,"21101980570",null,"DIY products","Large non-electric, non-combustion items and machines, and their accessories","Artificial stone >90%","≥15 kg and <20 kg","€ / unit",0.18,0.18,{"$f":"_xlfn.XLOOKUP(K1968,'Codes éco-part'!$C$6:$C$923,'Codes éco-part'!$B$6:$B$923)","v":"100"},0.22]
["DIY and gardening products EPR",3,"21101980571","Modulated","DIY products","Large non-electric, non-combustion items and machines, and their accessories","Artificial stone >90%","≥15 kg and <20 kg","€ / unit",0.16,0.16,{"$f":"_xlfn.XLOOKUP(K1969,'Codes éco-part'!$C$6:$C$923,'Codes éco-part'!$B$6:$B$923)","v":"099"},0.19]
["DIY and gardening products EPR",3,"21101980580",null,"DIY products","Large non-electric, non-combustion items and machines, and their accessories","Artificial stone >90%","≥20 kg and <25 kg","€ / unit",0.22,0.22,{"$f":"_xlfn.XLOOKUP(K1970,'Codes éco-part'!$C$6:$C$923,'Codes éco-part'!$B$6:$B$923)","v":"263"},0.26]
["DIY and gardening products EPR",3,"21101980581","Modulated","DIY products","Large non-electric, non-combustion items and machines, and their accessories","Artificial stone >90%","≥20 kg and <25 kg","€ / unit",0.2,0.2,{"$f":"_xlfn.XLOOKUP(K1971,'Codes éco-part'!$C$6:$C$923,'Codes éco-part'!$B$6:$B$923)","v":"101"},0.24]
["DIY and gardening products EPR",3,"21101980590",null,"DIY products","Large non-electric, non-combustion items and machines, and their accessories","Artificial stone >90%","≥25 kg and <30 kg","€ / unit",0.26,0.26,{"$f":"_xlfn.XLOOKUP(K1972,'Codes éco-part'!$C$6:$C$923,'Codes éco-part'!$B$6:$B$923)","v":"445"},0.31]
["DIY and gardening products EPR",3,"21101980591","Modulated","DIY products","Large non-electric, non-combustion items and machines, and their accessories","Artificial stone >90%","≥25 kg and <30 kg","€ / unit",0.23,0.23,{"$f":"_xlfn.XLOOKUP(K1973,'Codes éco-part'!$C$6:$C$923,'Codes éco-part'!$B$6:$B$923)","v":"323"},0.28000000000000003]
["DIY and gardening products EPR",3,"21101980600",null,"DIY products","Large non-electric, non-combustion items and machines, and their accessories","Artificial stone >90%","≥40 kg and <50 kg","€ / unit",0.44,0.44,{"$f":"_xlfn.XLOOKUP(K1974,'Codes éco-part'!$C$6:$C$923,'Codes éco-part'!$B$6:$B$923)","v":"281"},0.53]
["DIY and gardening products EPR",3,"21101980601","Modulated","DIY products","Large non-electric, non-combustion items and machines, and their accessories","Artificial stone >90%","≥40 kg and <50 kg","€ / unit",0.4,0.4,{"$f":"_xlfn.XLOOKUP(K1975,'Codes éco-part'!$C$6:$C$923,'Codes éco-part'!$B$6:$B$923)","v":"105"},0.48]
["DIY and gardening products EPR",3,"21102000000",null,"DIY products","Tools and supports for working at height","Unknown or unspecified by the company","Elements of all sizes and weights","€ / ton",90,90,{"$f":"_xlfn.XLOOKUP(K1976,'Codes éco-part'!$C$6:$C$923,'Codes éco-part'!$B$6:$B$923)","v":"609"},108]
["DIY and gardening products EPR",3,"21102000001","Modulated","DIY products","Tools and supports for working at height","Unknown or unspecified by the company","Elements of all sizes and weights","€ / ton",81,81,{"$f":"_xlfn.XLOOKUP(K1977,'Codes éco-part'!$C$6:$C$923,'Codes éco-part'!$B$6:$B$923)","v":943},97.2]
["DIY and gardening products EPR",3,"21102000200",null,"DIY products","Tools and supports for working at height","Unknown or unspecified by the company","Strictly <0.5 kg","€ / unit",0.02,0.02,{"$f":"_xlfn.XLOOKUP(K1978,'Codes éco-part'!$C$6:$C$923,'Codes éco-part'!$B$6:$B$923)","v":"047"},0.02]
["DIY and gardening products EPR",3,"21102000201","Modulated","DIY products","Tools and supports for working at height","Unknown or unspecified by the company","Strictly <0.5 kg","€ / unit",0.02,0.02,{"$f":"_xlfn.XLOOKUP(K1979,'Codes éco-part'!$C$6:$C$923,'Codes éco-part'!$B$6:$B$923)","v":"047"},0.02]
["DIY and gardening products EPR",3,"21102000210",null,"DIY products","Tools and supports for working at height","Unknown or unspecified by the company","≥0.5 kg and <1 kg","€ / unit",7.0000000000000007E-2,7.0000000000000007E-2,{"$f":"_xlfn.XLOOKUP(K1980,'Codes éco-part'!$C$6:$C$923,'Codes éco-part'!$B$6:$B$923)","v":"247"},0.08]
["DIY and gardening products EPR",3,"21102000211","Modulated","DIY products","Tools and supports for working at height","Unknown or unspecified by the company","≥0.5 kg and <1 kg","€ / unit",0.06,0.06,{"$f":"_xlfn.XLOOKUP(K1981,'Codes éco-part'!$C$6:$C$923,'Codes éco-part'!$B$6:$B$923)","v":"096"},7.0000000000000007E-2]
["DIY and gardening products EPR",3,"21102000220",null,"DIY products","Tools and supports for working at height","Unknown or unspecified by the company","≥1 kg and <2 kg","€ / unit",0.14000000000000001,0.14000000000000001,{"$f":"_xlfn.XLOOKUP(K1982,'Codes éco-part'!$C$6:$C$923,'Codes éco-part'!$B$6:$B$923)","v":"098"},0.17]
["DIY and gardening products EPR",3,"21102000221","Modulated","DIY products","Tools and supports for working at height","Unknown or unspecified by the company","≥1 kg and <2 kg","€ / unit",0.13,0.13,{"$f":"_xlfn.XLOOKUP(K1983,'Codes éco-part'!$C$6:$C$923,'Codes éco-part'!$B$6:$B$923)","v":"004"},0.16]
["DIY and gardening products EPR",3,"21102000270",null,"DIY products","Tools and supports for working at height","Unknown or unspecified by the company","≥30 kg and <40 kg","€ / unit",3.6,3.6,{"$f":"_xlfn.XLOOKUP(K1984,'Codes éco-part'!$C$6:$C$923,'Codes éco-part'!$B$6:$B$923)","v":"610"},4.32]
["DIY and gardening products EPR",3,"21102000271","Modulated","DIY products","Tools and supports for working at height","Unknown or unspecified by the company","≥30 kg and <40 kg","€ / unit",3.24,3.24,{"$f":"_xlfn.XLOOKUP(K1985,'Codes éco-part'!$C$6:$C$923,'Codes éco-part'!$B$6:$B$923)","v":944},3.89]
["DIY and gardening products EPR",3,"21102000520",null,"DIY products","Tools and supports for working at height","Unknown or unspecified by the company","≥2 kg and <3 kg","€ / unit",0.23,0.23,{"$f":"_xlfn.XLOOKUP(K1986,'Codes éco-part'!$C$6:$C$923,'Codes éco-part'!$B$6:$B$923)","v":"323"},{"$f":"ROUND(K1986*1.2,2)","v":0.28000000000000003}]
["DIY and gardening products EPR",3,"21102000521","Modulated","DIY products","Tools and supports for working at height","Unknown or unspecified by the company","≥2 kg and <3 kg","€ / unit",0.21,0.21,{"$f":"_xlfn.XLOOKUP(K1987,'Codes éco-part'!$C$6:$C$923,'Codes éco-part'!$B$6:$B$923)","v":"051"},0.25]
["DIY and gardening products EPR",3,"21102000530",null,"DIY products","Tools and supports for working at height","Unknown or unspecified by the company","≥3 kg and <5 kg","€ / unit",0.36,0.36,{"$f":"_xlfn.XLOOKUP(K1988,'Codes éco-part'!$C$6:$C$923,'Codes éco-part'!$B$6:$B$923)","v":"449"},0.43]
["DIY and gardening products EPR",3,"21102000531","Modulated","DIY products","Tools and supports for working at height","Unknown or unspecified by the company","≥3 kg and <5 kg","€ / unit",0.32,0.32,{"$f":"_xlfn.XLOOKUP(K1989,'Codes éco-part'!$C$6:$C$923,'Codes éco-part'!$B$6:$B$923)","v":"447"},0.38]
["DIY and gardening products EPR",3,"21102000540",null,"DIY products","Tools and supports for working at height","Unknown or unspecified by the company","≥5 kg and <7 kg","€ / unit",0.63,0.63,{"$f":"_xlfn.XLOOKUP(K1990,'Codes éco-part'!$C$6:$C$923,'Codes éco-part'!$B$6:$B$923)","v":"297"},0.76]
["DIY and gardening products EPR",3,"21102000541","Modulated","DIY products","Tools and supports for working at height","Unknown or unspecified by the company","≥5 kg and <7 kg","€ / unit",0.56999999999999995,0.56999999999999995,{"$f":"_xlfn.XLOOKUP(K1991,'Codes éco-part'!$C$6:$C$923,'Codes éco-part'!$B$6:$B$923)","v":"326"},0.68]
["DIY and gardening products EPR",3,"21102000550",null,"DIY products","Tools and supports for working at height","Unknown or unspecified by the company","≥7 kg and <10 kg","€ / unit",0.9,0.9,{"$f":"_xlfn.XLOOKUP(K1992,'Codes éco-part'!$C$6:$C$923,'Codes éco-part'!$B$6:$B$923)","v":"330"},1.08]
["DIY and gardening products EPR",3,"21102000551","Modulated","DIY products","Tools and supports for working at height","Unknown or unspecified by the company","≥7 kg and <10 kg","€ / unit",0.81,0.81,{"$f":"_xlfn.XLOOKUP(K1993,'Codes éco-part'!$C$6:$C$923,'Codes éco-part'!$B$6:$B$923)","v":"112"},0.97]
["DIY and gardening products EPR",3,"21102000560",null,"DIY products","Tools and supports for working at height","Unknown or unspecified by the company","≥10 kg and <15 kg","€ / unit",1.35,1.35,{"$f":"_xlfn.XLOOKUP(K1994,'Codes éco-part'!$C$6:$C$923,'Codes éco-part'!$B$6:$B$923)","v":"332"},1.62]
["DIY and gardening products EPR",3,"21102000561","Modulated","DIY products","Tools and supports for working at height","Unknown or unspecified by the company","≥10 kg and <15 kg","€ / unit",1.22,1.22,{"$f":"_xlfn.XLOOKUP(K1995,'Codes éco-part'!$C$6:$C$923,'Codes éco-part'!$B$6:$B$923)","v":"636"},1.46]
["DIY and gardening products EPR",3,"21102000570",null,"DIY products","Tools and supports for working at height","Unknown or unspecified by the company","≥15 kg and <20 kg","€ / unit",1.8,1.8,{"$f":"_xlfn.XLOOKUP(K1996,'Codes éco-part'!$C$6:$C$923,'Codes éco-part'!$B$6:$B$923)","v":"603"},2.16]
["DIY and gardening products EPR",3,"21102000571","Modulated","DIY products","Tools and supports for working at height","Unknown or unspecified by the company","≥15 kg and <20 kg","€ / unit",1.62,1.62,{"$f":"_xlfn.XLOOKUP(K1997,'Codes éco-part'!$C$6:$C$923,'Codes éco-part'!$B$6:$B$923)","v":"810"},1.94]
["DIY and gardening products EPR",3,"21102000580",null,"DIY products","Tools and supports for working at height","Unknown or unspecified by the company","≥20 kg and <25 kg","€ / unit",2.25,2.25,{"$f":"_xlfn.XLOOKUP(K1998,'Codes éco-part'!$C$6:$C$923,'Codes éco-part'!$B$6:$B$923)","v":"118"},2.7]
["DIY and gardening products EPR",3,"21102000581","Modulated","DIY products","Tools and supports for working at height","Unknown or unspecified by the company","≥20 kg and <25 kg","€ / unit",2.0299999999999998,2.0299999999999998,{"$f":"_xlfn.XLOOKUP(K1999,'Codes éco-part'!$C$6:$C$923,'Codes éco-part'!$B$6:$B$923)","v":937},2.44]
["DIY and gardening products EPR",3,"21102000590",null,"DIY products","Tools and supports for working at height","Unknown or unspecified by the company","≥25 kg and <30 kg","€ / unit",2.7,2.7,{"$f":"_xlfn.XLOOKUP(K2000,'Codes éco-part'!$C$6:$C$923,'Codes éco-part'!$B$6:$B$923)","v":"611"},3.24]
["DIY and gardening products EPR",3,"21102000591","Modulated","DIY products","Tools and supports for working at height","Unknown or unspecified by the company","≥25 kg and <30 kg","€ / unit",2.4300000000000002,2.4300000000000002,{"$f":"_xlfn.XLOOKUP(K2001,'Codes éco-part'!$C$6:$C$923,'Codes éco-part'!$B$6:$B$923)","v":"471"},2.92]
["DIY and gardening products EPR",3,"21102010200",null,"DIY products","Tools and supports for working at height","Assembly of wood and/or wood derivatives >50% and other materials or composite wood (excl. glass)","Strictly <0.5 kg","€ / unit",0.01,0.01,{"$f":"_xlfn.XLOOKUP(K2006,'Codes éco-part'!$C$6:$C$923,'Codes éco-part'!$B$6:$B$923)","v":"260"},0.01]
["DIY and gardening products EPR",3,"21102010221","Modulated","DIY products","Tools and supports for working at height","Assembly of wood and/or wood derivatives >50% and other materials or composite wood (excl. glass)","≥1 kg and <2 kg","€ / unit",0.02,0.02,{"$f":"_xlfn.XLOOKUP(K2011,'Codes éco-part'!$C$6:$C$923,'Codes éco-part'!$B$6:$B$923)","v":"047"},0.02]
["DIY and gardening products EPR",3,"21102010270",null,"DIY products","Tools and supports for working at height","Assembly of wood and/or wood derivatives >50% and other materials or composite wood (excl. glass)","≥30 kg and <40 kg","€ / unit",0.52,0.52,{"$f":"_xlfn.XLOOKUP(K2012,'Codes éco-part'!$C$6:$C$923,'Codes éco-part'!$B$6:$B$923)","v":"509"},0.62]
["DIY and gardening products EPR",3,"21102010531","Modulated","DIY products","Tools and supports for working at height","Assembly of wood and/or wood derivatives >50% and other materials or composite wood (excl. glass)","≥3 kg and <5 kg","€ / unit",0.05,0.05,{"$f":"_xlfn.XLOOKUP(K2017,'Codes éco-part'!$C$6:$C$923,'Codes éco-part'!$B$6:$B$923)","v":"048"},0.06]
["DIY and gardening products EPR",3,"21102010560",null,"DIY products","Tools and supports for working at height","Assembly of wood and/or wood derivatives >50% and other materials or composite wood (excl. glass)","≥10 kg and <15 kg","€ / unit",0.2,0.2,{"$f":"_xlfn.XLOOKUP(K2022,'Codes éco-part'!$C$6:$C$923,'Codes éco-part'!$B$6:$B$923)","v":"101"},0.24]
["DIY and gardening products EPR",3,"21102010581","Modulated","DIY products","Tools and supports for working at height","Assembly of wood and/or wood derivatives >50% and other materials or composite wood (excl. glass)","≥20 kg and <25 kg","€ / unit",0.3,0.3,{"$f":"_xlfn.XLOOKUP(K2027,'Codes éco-part'!$C$6:$C$923,'Codes éco-part'!$B$6:$B$923)","v":"446"},0.36]
["DIY and gardening products EPR",3,"21102010590",null,"DIY products","Tools and supports for working at height","Assembly of wood and/or wood derivatives >50% and other materials or composite wood (excl. glass)","≥25 kg and <30 kg","€ / unit",0.39,0.39,{"$f":"_xlfn.XLOOKUP(K2028,'Codes éco-part'!$C$6:$C$923,'Codes éco-part'!$B$6:$B$923)","v":"253"},0.47]
["DIY and gardening products EPR",3,"21102020001","Modulated","DIY products","Tools and supports for working at height","Assembly of metal >50% and other materials","Elements of all sizes and weights","€ / ton",4.05,4.05,{"$f":"_xlfn.XLOOKUP(K2033,'Codes éco-part'!$C$6:$C$923,'Codes éco-part'!$B$6:$B$923)","v":"884"},4.8600000000000003]
["DIY and gardening products EPR",3,"21102020220",null,"DIY products","Tools and supports for working at height","Assembly of metal >50% and other materials","≥1 kg and <2 kg","€ / unit",0.01,0.01,{"$f":"_xlfn.XLOOKUP(K2038,'Codes éco-part'!$C$6:$C$923,'Codes éco-part'!$B$6:$B$923)","v":"260"},0.01]
["DIY and gardening products EPR",3,"21102020521","Modulated","DIY products","Tools and supports for working at height","Assembly of metal >50% and other materials","≥2 kg and <3 kg","€ / unit",0.01,0.01,{"$f":"_xlfn.XLOOKUP(K2043,'Codes éco-part'!$C$6:$C$923,'Codes éco-part'!$B$6:$B$923)","v":"260"},0.01]
["DIY and gardening products EPR",3,"21102020530",null,"DIY products","Tools and supports for working at height","Assembly of metal >50% and other materials","≥3 kg and <5 kg","€ / unit",0.02,0.02,{"$f":"_xlfn.XLOOKUP(K2044,'Codes éco-part'!$C$6:$C$923,'Codes éco-part'!$B$6:$B$923)","v":"047"},0.02]
["DIY and gardening products EPR",3,"21102020551","Modulated","DIY products","Tools and supports for working at height","Assembly of metal >50% and other materials","≥7 kg and <10 kg","€ / unit",0.05,0.05,{"$f":"_xlfn.XLOOKUP(K2049,'Codes éco-part'!$C$6:$C$923,'Codes éco-part'!$B$6:$B$923)","v":"048"},0.06]
["DIY and gardening products EPR",3,"21102020580",null,"DIY products","Tools and supports for working at height","Assembly of metal >50% and other materials","≥20 kg and <25 kg","€ / unit",0.11,0.11,{"$f":"_xlfn.XLOOKUP(K2054,'Codes éco-part'!$C$6:$C$923,'Codes éco-part'!$B$6:$B$923)","v":"262"},0.13]
["DIY and gardening products EPR",3,"21102020601","Modulated","DIY products","Tools and supports for working at height","Assembly of metal >50% and other materials","≥40 kg and <50 kg","€ / unit",0.21,0.21,{"$f":"_xlfn.XLOOKUP(K2059,'Codes éco-part'!$C$6:$C$923,'Codes éco-part'!$B$6:$B$923)","v":"051"},0.25]
["DIY and gardening products EPR",3,"21102040000",null,"DIY products","Tools and supports for working at height","Biosourced materials or non-synthetic textiles >50%","Elements of all sizes and weights","€ / ton",90,90,{"$f":"_xlfn.XLOOKUP(K2060,'Codes éco-part'!$C$6:$C$923,'Codes éco-part'!$B$6:$B$923)","v":"609"},108]
["DIY and gardening products EPR",3,"21102040211","Modulated","DIY products","Tools and supports for working at height","Biosourced materials or non-synthetic textiles >50%","≥0.5 kg and <1 kg","€ / unit",0.06,0.06,{"$f":"_xlfn.XLOOKUP(K2065,'Codes éco-part'!$C$6:$C$923,'Codes éco-part'!$B$6:$B$923)","v":"096"},7.0000000000000007E-2]
["DIY and gardening products EPR",3,"21102040520",null,"DIY products","Tools and supports for working at height","Biosourced materials or non-synthetic textiles >50%","≥2 kg and <3 kg","€ / unit",0.23,0.23,{"$f":"_xlfn.XLOOKUP(K2070,'Codes éco-part'!$C$6:$C$923,'Codes éco-part'!$B$6:$B$923)","v":"323"},0.28000000000000003]
["DIY and gardening products EPR",3,"21102040541","Modulated","DIY products","Tools and supports for working at height","Biosourced materials or non-synthetic textiles >50%","≥5 kg and <7 kg","€ / unit",0.56999999999999995,0.56999999999999995,{"$f":"_xlfn.XLOOKUP(K2075,'Codes éco-part'!$C$6:$C$923,'Codes éco-part'!$B$6:$B$923)","v":"326"},0.68]
["DIY and gardening products EPR",3,"21102040550",null,"DIY products","Tools and supports for working at height","Biosourced materials or non-synthetic textiles >50%","≥7 kg and <10 kg","€ / unit",0.9,0.9,{"$f":"_xlfn.XLOOKUP(K2076,'Codes éco-part'!$C$6:$C$923,'Codes éco-part'!$B$6:$B$923)","v":"330"},1.08]
["DIY and gardening products EPR",3,"21102040571","Modulated","DIY products","Tools and supports for working at height","Biosourced materials or non-synthetic textiles >50%","≥15 kg and <20 kg","€ / unit",1.62,1.62,{"$f":"_xlfn.XLOOKUP(K2081,'Codes éco-part'!$C$6:$C$923,'Codes éco-part'!$B$6:$B$923)","v":"810"},1.94]
["DIY and gardening products EPR",3,"21102040600",null,"DIY products","Tools and supports for working at height","Biosourced materials or non-synthetic textiles >50%","≥40 kg and <50 kg","€ / unit",4.5,4.5,{"$f":"_xlfn.XLOOKUP(K2086,'Codes éco-part'!$C$6:$C$923,'Codes éco-part'!$B$6:$B$923)","v":"127"},5.4]
["DIY and gardening products EPR",3,"21102050201","Modulated","DIY products","Tools and supports for working at height","Plastics or other synthetic materials >50%","Strictly <0.5 kg","€ / unit",0.02,0.02,{"$f":"_xlfn.XLOOKUP(K2091,'Codes éco-part'!$C$6:$C$923,'Codes éco-part'!$B$6:$B$923)","v":"047"},0.02]
["DIY and gardening products EPR",3,"21102050210",null,"DIY products","Tools and supports for working at height","Plastics or other synthetic materials >50%","≥0.5 kg and <1 kg","€ / unit",7.0000000000000007E-2,7.0000000000000007E-2,{"$f":"_xlfn.XLOOKUP(K2092,'Codes éco-part'!$C$6:$C$923,'Codes éco-part'!$B$6:$B$923)","v":"247"},0.08]
["DIY and gardening products EPR",3,"21102050271","Modulated","DIY products","Tools and supports for working at height","Plastics or other synthetic materials >50%","≥30 kg and <40 kg","€ / unit",3.24,3.24,{"$f":"_xlfn.XLOOKUP(K2097,'Codes éco-part'!$C$6:$C$923,'Codes éco-part'!$B$6:$B$923)","v":944},3.89]
["DIY and gardening products EPR",3,"21102050540",null,"DIY products","Tools and supports for working at height","Plastics or other synthetic materials >50%","≥5 kg and <7 kg","€ / unit",0.63,0.63,{"$f":"_xlfn.XLOOKUP(K2102,'Codes éco-part'!$C$6:$C$923,'Codes éco-part'!$B$6:$B$923)","v":"297"},0.76]
["DIY and gardening products EPR",3,"21102050561","Modulated","DIY products","Tools and supports for working at height","Plastics or other synthetic materials >50%","≥10 kg and <15 kg","€ / unit",1.22,1.22,{"$f":"_xlfn.XLOOKUP(K2107,'Codes éco-part'!$C$6:$C$923,'Codes éco-part'!$B$6:$B$923)","v":"636"},1.46]
["DIY and gardening products EPR",3,"21102050570",null,"DIY products","Tools and supports for working at height","Plastics or other synthetic materials >50%","≥15 kg and <20 kg","€ / unit",1.8,1.8,{"$f":"_xlfn.XLOOKUP(K2108,'Codes éco-part'!$C$6:$C$923,'Codes éco-part'!$B$6:$B$923)","v":"603"},2.16]
["DIY and gardening products EPR",3,"21102050591","Modulated","DIY products","Tools and supports for working at height","Plastics or other synthetic materials >50%","≥25 kg and <30 kg","€ / unit",2.4300000000000002,2.4300000000000002,{"$f":"_xlfn.XLOOKUP(K2113,'Codes éco-part'!$C$6:$C$923,'Codes éco-part'!$B$6:$B$923)","v":"471"},2.92]
["DIY and gardening products EPR",3,"21102060200",null,"DIY products","Tools and supports for working at height","Materials of animal origin >50%","Strictly <0.5 kg","€ / unit",0.02,0.02,{"$f":"_xlfn.XLOOKUP(K2118,'Codes éco-part'!$C$6:$C$923,'Codes éco-part'!$B$6:$B$923)","v":"047"},0.02]
["DIY and gardening products EPR",3,"21102060221","Modulated","DIY products","Tools and supports for working at height","Materials of animal origin >50%","≥1 kg and <2 kg","€ / unit",0.13,0.13,{"$f":"_xlfn.XLOOKUP(K2123,'Codes éco-part'!$C$6:$C$923,'Codes éco-part'!$B$6:$B$923)","v":"004"},0.16]
["DIY and gardening products EPR",3,"21102060270",null,"DIY products","Tools and supports for working at height","Materials of animal origin >50%","≥30 kg and <40 kg","€ / unit",3.6,3.6,{"$f":"_xlfn.XLOOKUP(K2124,'Codes éco-part'!$C$6:$C$923,'Codes éco-part'!$B$6:$B$923)","v":"610"},4.32]
["DIY and gardening products EPR",3,"21102060531","Modulated","DIY products","Tools and supports for working at height","Materials of animal origin >50%","≥3 kg and <5 kg","€ / unit",0.32,0.32,{"$f":"_xlfn.XLOOKUP(K2129,'Codes éco-part'!$C$6:$C$923,'Codes éco-part'!$B$6:$B$923)","v":"447"},0.38]
["DIY and gardening products EPR",3,"21102060560",null,"DIY products","Tools and supports for working at height","Materials of animal origin >50%","≥10 kg and <15 kg","€ / unit",1.35,1.35,{"$f":"_xlfn.XLOOKUP(K2134,'Codes éco-part'!$C$6:$C$923,'Codes éco-part'!$B$6:$B$923)","v":"332"},1.62]
["DIY and gardening products EPR",3,"21102060581","Modulated","DIY products","Tools and supports for working at height","Materials of animal origin >50%","≥20 kg and <25 kg","€ / unit",2.0299999999999998,2.0299999999999998,{"$f":"_xlfn.XLOOKUP(K2139,'Codes éco-part'!$C$6:$C$923,'Codes éco-part'!$B$6:$B$923)","v":937},2.44]
["DIY and gardening products EPR",3,"21102060590",null,"DIY products","Tools and supports for working at height","Materials of animal origin >50%","≥25 kg and <30 kg","€ / unit",2.7,2.7,{"$f":"_xlfn.XLOOKUP(K2140,'Codes éco-part'!$C$6:$C$923,'Codes éco-part'!$B$6:$B$923)","v":"611"},3.24]
["DIY and gardening products EPR",3,"21102080001","Modulated","DIY products","Tools and supports for working at height","Assembly of materials with inert substances >50%","Elements of all sizes and weights","€ / ton",81,81,{"$f":"_xlfn.XLOOKUP(K2145,'Codes éco-part'!$C$6:$C$923,'Codes éco-part'!$B$6:$B$923)","v":943},97.2]
["DIY and gardening products EPR",3,"21102080220",null,"DIY products","Tools and supports for working at height","Assembly of materials with inert substances >50%","≥1 kg and <2 kg","€ / unit",0.14000000000000001,0.14000000000000001,{"$f":"_xlfn.XLOOKUP(K2150,'Codes éco-part'!$C$6:$C$923,'Codes éco-part'!$B$6:$B$923)","v":"098"},0.17]
["DIY and gardening products EPR",3,"21102080521","Modulated","DIY products","Tools and supports for working at height","Assembly of materials with inert substances >50%","≥2 kg and <3 kg","€ / unit",0.21,0.21,{"$f":"_xlfn.XLOOKUP(K2155,'Codes éco-part'!$C$6:$C$923,'Codes éco-part'!$B$6:$B$923)","v":"051"},0.25]
["DIY and gardening products EPR",3,"21102080530",null,"DIY products","Tools and supports for working at height","Assembly of materials with inert substances >50%","≥3 kg and <5 kg","€ / unit",0.36,0.36,{"$f":"_xlfn.XLOOKUP(K2156,'Codes éco-part'!$C$6:$C$923,'Codes éco-part'!$B$6:$B$923)","v":"449"},0.43]
["DIY and gardening products EPR",3,"21102080551","Modulated","DIY products","Tools and supports for working at height","Assembly of materials with inert substances >50%","≥7 kg and <10 kg","€ / unit",0.81,0.81,{"$f":"_xlfn.XLOOKUP(K2161,'Codes éco-part'!$C$6:$C$923,'Codes éco-part'!$B$6:$B$923)","v":"112"},0.97]
["DIY and gardening products EPR",3,"21102080580",null,"DIY products","Tools and supports for working at height","Assembly of materials with inert substances >50%","≥20 kg and <25 kg","€ / unit",2.25,2.25,{"$f":"_xlfn.XLOOKUP(K2166,'Codes éco-part'!$C$6:$C$923,'Codes éco-part'!$B$6:$B$923)","v":"118"},2.7]
["DIY and gardening products EPR",3,"21102080601","Modulated","DIY products","Tools and supports for working at height","Assembly of materials with inert substances >50%","≥40 kg and <50 kg","€ / unit",4.05,4.05,{"$f":"_xlfn.XLOOKUP(K2171,'Codes éco-part'!$C$6:$C$923,'Codes éco-part'!$B$6:$B$923)","v":"884"},4.8600000000000003]
["DIY and gardening products EPR",3,"21102150000",null,"DIY products","Tools and supports for working at height","Composites and other reconstituted mineral materials >50%","Elements of all sizes and weights","€ / ton",90,90,{"$f":"_xlfn.XLOOKUP(K2172,'Codes éco-part'!$C$6:$C$923,'Codes éco-part'!$B$6:$B$923)","v":"609"},108]
["DIY and gardening products EPR",3,"21102150211","Modulated","DIY products","Tools and supports for working at height","Composites and other reconstituted mineral materials >50%","≥0.5 kg and <1 kg","€ / unit",0.06,0.06,{"$f":"_xlfn.XLOOKUP(K2177,'Codes éco-part'!$C$6:$C$923,'Codes éco-part'!$B$6:$B$923)","v":"096"},7.0000000000000007E-2]
["DIY and gardening products EPR",3,"21102150520",null,"DIY products","Tools and supports for working at height","Composites and other reconstituted mineral materials >50%","≥2 kg and <3 kg","€ / unit",0.23,0.23,{"$f":"_xlfn.XLOOKUP(K2182,'Codes éco-part'!$C$6:$C$923,'Codes éco-part'!$B$6:$B$923)","v":"323"},0.28000000000000003]
["DIY and gardening products EPR",3,"21102150541","Modulated","DIY products","Tools and supports for working at height","Composites and other reconstituted mineral materials >50%","≥5 kg and <7 kg","€ / unit",0.56999999999999995,0.56999999999999995,{"$f":"_xlfn.XLOOKUP(K2187,'Codes éco-part'!$C$6:$C$923,'Codes éco-part'!$B$6:$B$923)","v":"326"},0.68]
["DIY and gardening products EPR",3,"21102150550",null,"DIY products","Tools and supports for working at height","Composites and other reconstituted mineral materials >50%","≥7 kg and <10 kg","€ / unit",0.9,0.9,{"$f":"_xlfn.XLOOKUP(K2188,'Codes éco-part'!$C$6:$C$923,'Codes éco-part'!$B$6:$B$923)","v":"330"},1.08]
["DIY and gardening products EPR",3,"21102150571","Modulated","DIY products","Tools and supports for working at height","Composites and other reconstituted mineral materials >50%","≥15 kg and <20 kg","€ / unit",1.62,1.62,{"$f":"_xlfn.XLOOKUP(K2193,'Codes éco-part'!$C$6:$C$923,'Codes éco-part'!$B$6:$B$923)","v":"810"},1.94]
["DIY and gardening products EPR",3,"21102150600",null,"DIY products","Tools and supports for working at height","Composites and other reconstituted mineral materials >50%","≥40 kg and <50 kg","€ / unit",4.5,4.5,{"$f":"_xlfn.XLOOKUP(K2198,'Codes éco-part'!$C$6:$C$923,'Codes éco-part'!$B$6:$B$923)","v":"127"},5.4]
["DIY and gardening products EPR",3,"21102190201","Modulated","DIY products","Tools and supports for working at height","Cardboard >50% and other materials (excl. glass)","Strictly <0.5 kg","€ / unit",0.02,0.02,{"$f":"_xlfn.XLOOKUP(K2203,'Codes éco-part'!$C$6:$C$923,'Codes éco-part'!$B$6:$B$923)","v":"047"},0.02]
["DIY and gardening products EPR",3,"21102190210",null,"DIY products","Tools and supports for working at height","Cardboard >50% and other materials (excl. glass)","≥0.5 kg and <1 kg","€ / unit",7.0000000000000007E-2,7.0000000000000007E-2,{"$f":"_xlfn.XLOOKUP(K2204,'Codes éco-part'!$C$6:$C$923,'Codes éco-part'!$B$6:$B$923)","v":"247"},0.08]
["DIY and gardening products EPR",3,"21102190271","Modulated","DIY products","Tools and supports for working at height","Cardboard >50% and other materials (excl. glass)","≥30 kg and <40 kg","€ / unit",3.24,3.24,{"$f":"_xlfn.XLOOKUP(K2209,'Codes éco-part'!$C$6:$C$923,'Codes éco-part'!$B$6:$B$923)","v":944},3.89]
["DIY and gardening products EPR",3,"21102190540",null,"DIY products","Tools and supports for working at height","Cardboard >50% and other materials (excl. glass)","≥5 kg and <7 kg","€ / unit",0.63,0.63,{"$f":"_xlfn.XLOOKUP(K2214,'Codes éco-part'!$C$6:$C$923,'Codes éco-part'!$B$6:$B$923)","v":"297"},0.76]
["DIY and gardening products EPR",3,"21102190561","Modulated","DIY products","Tools and supports for working at height","Cardboard >50% and other materials (excl. glass)","≥10 kg and <15 kg","€ / unit",1.22,1.22,{"$f":"_xlfn.XLOOKUP(K2219,'Codes éco-part'!$C$6:$C$923,'Codes éco-part'!$B$6:$B$923)","v":"636"},1.46]
["DIY and gardening products EPR",3,"21102190570",null,"DIY products","Tools and supports for working at height","Cardboard >50% and other materials (excl. glass)","≥15 kg and <20 kg","€ / unit",1.8,1.8,{"$f":"_xlfn.XLOOKUP(K2220,'Codes éco-part'!$C$6:$C$923,'Codes éco-part'!$B$6:$B$923)","v":"603"},2.16]
["DIY and gardening products EPR",3,"21102190591","Modulated","DIY products","Tools and supports for working at height","Cardboard >50% and other materials (excl. glass)","≥25 kg and <30 kg","€ / unit",2.4300000000000002,2.4300000000000002,{"$f":"_xlfn.XLOOKUP(K2225,'Codes éco-part'!$C$6:$C$923,'Codes éco-part'!$B$6:$B$923)","v":"471"},2.92]
["DIY and gardening products EPR",3,"21102200200",null,"DIY products","Tools and supports for working at height","Solid wood and related products certified >75%","Strictly <0.5 kg","€ / unit",0.01,0.01,{"$f":"_xlfn.XLOOKUP(K2230,'Codes éco-part'!$C$6:$C$923,'Codes éco-part'!$B$6:$B$923)","v":"260"},0.01]
["DIY and gardening products EPR",3,"21102200221","Modulated","DIY products","Tools and supports for working at height","Solid wood and related products certified >75%","≥1 kg and <2 kg","€ / unit",0.02,0.02,{"$f":"_xlfn.XLOOKUP(K2235,'Codes éco-part'!$C$6:$C$923,'Codes éco-part'!$B$6:$B$923)","v":"047"},0.02]
["DIY and gardening products EPR",3,"21102200270",null,"DIY products","Tools and supports for working at height","Solid wood and related products certified >75%","≥30 kg and <40 kg","€ / unit",0.52,0.52,{"$f":"_xlfn.XLOOKUP(K2236,'Codes éco-part'!$C$6:$C$923,'Codes éco-part'!$B$6:$B$923)","v":"509"},0.62]
["DIY and gardening products EPR",3,"21102200531","Modulated","DIY products","Tools and supports for working at height","Solid wood and related products certified >75%","≥3 kg and <5 kg","€ / unit",0.05,0.05,{"$f":"_xlfn.XLOOKUP(K2241,'Codes éco-part'!$C$6:$C$923,'Codes éco-part'!$B$6:$B$923)","v":"048"},0.06]
["DIY and gardening products EPR",3,"21102200560",null,"DIY products","Tools and supports for working at height","Solid wood and related products certified >75%","≥10 kg and <15 kg","€ / unit",0.2,0.2,{"$f":"_xlfn.XLOOKUP(K2246,'Codes éco-part'!$C$6:$C$923,'Codes éco-part'!$B$6:$B$923)","v":"101"},0.24]
["DIY and gardening products EPR",3,"21102200581","Modulated","DIY products","Tools and supports for working at height","Solid wood and related products certified >75%","≥20 kg and <25 kg","€ / unit",0.3,0.3,{"$f":"_xlfn.XLOOKUP(K2251,'Codes éco-part'!$C$6:$C$923,'Codes éco-part'!$B$6:$B$923)","v":"446"},0.36]
["DIY and gardening products EPR",3,"21102200590",null,"DIY products","Tools and supports for working at height","Solid wood and related products certified >75%","≥25 kg and <30 kg","€ / unit",0.39,0.39,{"$f":"_xlfn.XLOOKUP(K2252,'Codes éco-part'!$C$6:$C$923,'Codes éco-part'!$B$6:$B$923)","v":"253"},0.47]
["DIY and gardening products EPR",3,"21102210001","Modulated","DIY products","Tools and supports for working at height","Solid wood and related products >75%","Elements of all sizes and weights","€ / ton",23.4,23.4,{"$f":"_xlfn.XLOOKUP(K2257,'Codes éco-part'!$C$6:$C$923,'Codes éco-part'!$B$6:$B$923)","v":946},28.08]
["DIY and gardening products EPR",3,"21102210211","Modulated","DIY products","Tools and supports for working at height","Solid wood and related products >75%","≥0.5 kg and <1 kg","€ / unit",0.02,0.02,{"$f":"_xlfn.XLOOKUP(K2261,'Codes éco-part'!$C$6:$C$923,'Codes éco-part'!$B$6:$B$923)","v":"047"},0.02]
["DIY and gardening products EPR",3,"21102210520",null,"DIY products","Tools and supports for working at height","Solid wood and related products >75%","≥2 kg and <3 kg","€ / unit",0.06,0.06,{"$f":"_xlfn.XLOOKUP(K2266,'Codes éco-part'!$C$6:$C$923,'Codes éco-part'!$B$6:$B$923)","v":"096"},7.0000000000000007E-2]
["DIY and gardening products EPR",3,"21102210521","Modulated","DIY products","Tools and supports for working at height","Solid wood and related products >75%","≥2 kg and <3 kg","€ / unit",0.05,0.05,{"$f":"_xlfn.XLOOKUP(K2267,'Codes éco-part'!$C$6:$C$923,'Codes éco-part'!$B$6:$B$923)","v":"048"},0.06]
["DIY and gardening products EPR",3,"21102210550",null,"DIY products","Tools and supports for working at height","Solid wood and related products >75%","≥7 kg and <10 kg","€ / unit",0.26,0.26,{"$f":"_xlfn.XLOOKUP(K2272,'Codes éco-part'!$C$6:$C$923,'Codes éco-part'!$B$6:$B$923)","v":"445"},0.31]
["DIY and gardening products EPR",3,"21102210571","Modulated","DIY products","Tools and supports for working at height","Solid wood and related products >75%","≥15 kg and <20 kg","€ / unit",0.47,0.47,{"$f":"_xlfn.XLOOKUP(K2277,'Codes éco-part'!$C$6:$C$923,'Codes éco-part'!$B$6:$B$923)","v":"107"},0.56000000000000005]
["DIY and gardening products EPR",3,"21102210600",null,"DIY products","Tools and supports for working at height","Solid wood and related products >75%","≥40 kg and <50 kg","€ / unit",1.3,1.3,{"$f":"_xlfn.XLOOKUP(K2282,'Codes éco-part'!$C$6:$C$923,'Codes éco-part'!$B$6:$B$923)","v":"511"},1.56]
["DIY and gardening products EPR",3,"21102210601","Modulated","DIY products","Tools and supports for working at height","Solid wood and related products >75%","≥40 kg and <50 kg","€ / unit",1.17,1.17,{"$f":"_xlfn.XLOOKUP(K2283,'Codes éco-part'!$C$6:$C$923,'Codes éco-part'!$B$6:$B$923)","v":"537"},1.4]
["DIY and gardening products EPR",3,"21102250210",null,"DIY products","Tools and supports for working at height","Chipboard or OSB >75%","≥0.5 kg and <1 kg","€ / unit",0.02,0.02,{"$f":"_xlfn.XLOOKUP(K2288,'Codes éco-part'!$C$6:$C$923,'Codes éco-part'!$B$6:$B$923)","v":"047"},0.02]
["DIY and gardening products EPR",3,"21102250271","Modulated","DIY products","Tools and supports for working at height","Chipboard or OSB >75%","≥30 kg and <40 kg","€ / unit",0.94,0.94,{"$f":"_xlfn.XLOOKUP(K2293,'Codes éco-part'!$C$6:$C$923,'Codes éco-part'!$B$6:$B$923)","v":"458"},1.1299999999999999]
["DIY and gardening products EPR",3,"21102250540",null,"DIY products","Tools and supports for working at height","Chipboard or OSB >75%","≥5 kg and <7 kg","€ / unit",0.18,0.18,{"$f":"_xlfn.XLOOKUP(K2298,'Codes éco-part'!$C$6:$C$923,'Codes éco-part'!$B$6:$B$923)","v":"100"},0.22]
["DIY and gardening products EPR",3,"21102250541","Modulated","DIY products","Tools and supports for working at height","Chipboard or OSB >75%","≥5 kg and <7 kg","€ / unit",0.16,0.16,{"$f":"_xlfn.XLOOKUP(K2299,'Codes éco-part'!$C$6:$C$923,'Codes éco-part'!$B$6:$B$923)","v":"099"},0.19]
["DIY and gardening products EPR",3,"21102250570",null,"DIY products","Tools and supports for working at height","Chipboard or OSB >75%","≥15 kg and <20 kg","€ / unit",0.52,0.52,{"$f":"_xlfn.XLOOKUP(K2304,'Codes éco-part'!$C$6:$C$923,'Codes éco-part'!$B$6:$B$923)","v":"509"},0.62]
["DIY and gardening products EPR",3,"21102250591","Modulated","DIY products","Tools and supports for working at height","Chipboard or OSB >75%","≥25 kg and <30 kg","€ / unit",0.7,0.7,{"$f":"_xlfn.XLOOKUP(K2309,'Codes éco-part'!$C$6:$C$923,'Codes éco-part'!$B$6:$B$923)","v":"282"},0.84]
["DIY and gardening products EPR",3,"21102280200",null,"DIY products","Tools and supports for working at height","Metal >90%","Strictly <0.5 kg","€ / unit",0.01,0.01,{"$f":"_xlfn.XLOOKUP(K2314,'Codes éco-part'!$C$6:$C$923,'Codes éco-part'!$B$6:$B$923)","v":"260"},0.01]
["DIY and gardening products EPR",3,"21102280201","Modulated","DIY products","Tools and supports for working at height","Metal >90%","Strictly <0.5 kg","€ / unit",0.01,0.01,{"$f":"_xlfn.XLOOKUP(K2315,'Codes éco-part'!$C$6:$C$923,'Codes éco-part'!$B$6:$B$923)","v":"260"},0.01]
["DIY and gardening products EPR",3,"21102280270",null,"DIY products","Tools and supports for working at height","Metal >90%","≥30 kg and <40 kg","€ / unit",0.18,0.18,{"$f":"_xlfn.XLOOKUP(K2320,'Codes éco-part'!$C$6:$C$923,'Codes éco-part'!$B$6:$B$923)","v":"100"},0.22]
["DIY and gardening products EPR",3,"21102280531","Modulated","DIY products","Tools and supports for working at height","Metal >90%","≥3 kg and <5 kg","€ / unit",0.02,0.02,{"$f":"_xlfn.XLOOKUP(K2325,'Codes éco-part'!$C$6:$C$923,'Codes éco-part'!$B$6:$B$923)","v":"047"},0.02]
["DIY and gardening products EPR",3,"21102280560",null,"DIY products","Tools and supports for working at height","Metal >90%","≥10 kg and <15 kg","€ / unit",7.0000000000000007E-2,7.0000000000000007E-2,{"$f":"_xlfn.XLOOKUP(K2330,'Codes éco-part'!$C$6:$C$923,'Codes éco-part'!$B$6:$B$923)","v":"247"},0.08]
["DIY and gardening products EPR",3,"21102280561","Modulated","DIY products","Tools and supports for working at height","Metal >90%","≥10 kg and <15 kg","€ / unit",0.06,0.06,{"$f":"_xlfn.XLOOKUP(K2331,'Codes éco-part'!$C$6:$C$923,'Codes éco-part'!$B$6:$B$923)","v":"096"},7.0000000000000007E-2]
["DIY and gardening products EPR",3,"21102280590",null,"DIY products","Tools and supports for working at height","Metal >90%","≥25 kg and <30 kg","€ / unit",0.14000000000000001,0.14000000000000001,{"$f":"_xlfn.XLOOKUP(K2336,'Codes éco-part'!$C$6:$C$923,'Codes éco-part'!$B$6:$B$923)","v":"098"},0.17]
["DIY and gardening products EPR",3,"21102400001","Modulated","DIY products","Tools and supports for working at height","Assembly of synthetic rubber or latex >50% and other materials","Elements of all sizes and weights","€ / ton",81,81,{"$f":"_xlfn.XLOOKUP(K2341,'Codes éco-part'!$C$6:$C$923,'Codes éco-part'!$B$6:$B$923)","v":943},97.2]
["DIY and gardening products EPR",3,"21102400220",null,"DIY products","Tools and supports for working at height","Assembly of synthetic rubber or latex >50% and other materials","≥1 kg and <2 kg","€ / unit",0.14000000000000001,0.14000000000000001,{"$f":"_xlfn.XLOOKUP(K2346,'Codes éco-part'!$C$6:$C$923,'Codes éco-part'!$B$6:$B$923)","v":"098"},0.17]
["DIY and gardening products EPR",3,"21102400221","Modulated","DIY products","Tools and supports for working at height","Assembly of synthetic rubber or latex >50% and other materials","≥1 kg and <2 kg","€ / unit",0.13,0.13,{"$f":"_xlfn.XLOOKUP(K2347,'Codes éco-part'!$C$6:$C$923,'Codes éco-part'!$B$6:$B$923)","v":"004"},0.16]
["DIY and gardening products EPR",3,"21102400530",null,"DIY products","Tools and supports for working at height","Assembly of synthetic rubber or latex >50% and other materials","≥3 kg and <5 kg","€ / unit",0.36,0.36,{"$f":"_xlfn.XLOOKUP(K2352,'Codes éco-part'!$C$6:$C$923,'Codes éco-part'!$B$6:$B$923)","v":"449"},0.43]
["DIY and gardening products EPR",3,"21102400551","Modulated","DIY products","Tools and supports for working at height","Assembly of synthetic rubber or latex >50% and other materials","≥7 kg and <10 kg","€ / unit",0.81,0.81,{"$f":"_xlfn.XLOOKUP(K2357,'Codes éco-part'!$C$6:$C$923,'Codes éco-part'!$B$6:$B$923)","v":"112"},0.97]
["DIY and gardening products EPR",3,"21102400580",null,"DIY products","Tools and supports for working at height","Assembly of synthetic rubber or latex >50% and other materials","≥20 kg and <25 kg","€ / unit",2.25,2.25,{"$f":"_xlfn.XLOOKUP(K2362,'Codes éco-part'!$C$6:$C$923,'Codes éco-part'!$B$6:$B$923)","v":"118"},2.7]
["DIY and gardening products EPR",3,"21102400581","Modulated","DIY products","Tools and supports for working at height","Assembly of synthetic rubber or latex >50% and other materials","≥20 kg and <25 kg","€ / unit",2.0299999999999998,2.0299999999999998,{"$f":"_xlfn.XLOOKUP(K2363,'Codes éco-part'!$C$6:$C$923,'Codes éco-part'!$B$6:$B$923)","v":937},2.44]
["DIY and gardening products EPR",3,"21102410000",null,"DIY products","Tools and supports for working at height","Plastic (single-resin) >90%","Elements of all sizes and weights","€ / ton",60,60,{"$f":"_xlfn.XLOOKUP(K2368,'Codes éco-part'!$C$6:$C$923,'Codes éco-part'!$B$6:$B$923)","v":"180"},72]
["DIY and gardening products EPR",3,"21102410211","Modulated","DIY products","Tools and supports for working at height","Plastic (single-resin) >90%","≥0.5 kg and <1 kg","€ / unit",0.05,0.05,{"$f":"_xlfn.XLOOKUP(K2373,'Codes éco-part'!$C$6:$C$923,'Codes éco-part'!$B$6:$B$923)","v":"048"},0.06]
["DIY and gardening products EPR",3,"21102410520",null,"DIY products","Tools and supports for working at height","Plastic (single-resin) >90%","≥2 kg and <3 kg","€ / unit",0.15,0.15,{"$f":"_xlfn.XLOOKUP(K2378,'Codes éco-part'!$C$6:$C$923,'Codes éco-part'!$B$6:$B$923)","v":"050"},0.18]
["DIY and gardening products EPR",3,"21102410521","Modulated","DIY products","Tools and supports for working at height","Plastic (single-resin) >90%","≥2 kg and <3 kg","€ / unit",0.14000000000000001,0.14000000000000001,{"$f":"_xlfn.XLOOKUP(K2379,'Codes éco-part'!$C$6:$C$923,'Codes éco-part'!$B$6:$B$923)","v":"098"},0.17]
["DIY and gardening products EPR",3,"21102410550",null,"DIY products","Tools and supports for working at height","Plastic (single-resin) >90%","≥7 kg and <10 kg","€ / unit",0.6,0.6,{"$f":"_xlfn.XLOOKUP(K2384,'Codes éco-part'!$C$6:$C$923,'Codes éco-part'!$B$6:$B$923)","v":"327"},0.72]
["DIY and gardening products EPR",3,"21102410571","Modulated","DIY products","Tools and supports for working at height","Plastic (single-resin) >90%","≥15 kg and <20 kg","€ / unit",1.08,1.08,{"$f":"_xlfn.XLOOKUP(K2389,'Codes éco-part'!$C$6:$C$923,'Codes éco-part'!$B$6:$B$923)","v":"113"},1.3]
["DIY and gardening products EPR",3,"21102410600",null,"DIY products","Tools and supports for working at height","Plastic (single-resin) >90%","≥40 kg and <50 kg","€ / unit",3,3,{"$f":"_xlfn.XLOOKUP(K2394,'Codes éco-part'!$C$6:$C$923,'Codes éco-part'!$B$6:$B$923)","v":"474"},3.6]
["DIY and gardening products EPR",3,"21102410601","Modulated","DIY products","Tools and supports for working at height","Plastic (single-resin) >90%","≥40 kg and <50 kg","€ / unit",2.7,2.7,{"$f":"_xlfn.XLOOKUP(K2395,'Codes éco-part'!$C$6:$C$923,'Codes éco-part'!$B$6:$B$923)","v":"611"},3.24]
["DIY and gardening products EPR",3,"21102420210",null,"DIY products","Tools and supports for working at height","Polyethylene terephthalate (PET) >90%","≥0.5 kg and <1 kg","€ / unit",0.05,0.05,{"$f":"_xlfn.XLOOKUP(K2400,'Codes éco-part'!$C$6:$C$923,'Codes éco-part'!$B$6:$B$923)","v":"048"},0.06]
["DIY and gardening products EPR",3,"21102420271","Modulated","DIY products","Tools and supports for working at height","Polyethylene terephthalate (PET) >90%","≥30 kg and <40 kg","€ / unit",2.16,2.16,{"$f":"_xlfn.XLOOKUP(K2405,'Codes éco-part'!$C$6:$C$923,'Codes éco-part'!$B$6:$B$923)","v":"622"},2.59]
["DIY and gardening products EPR",3,"21102420540",null,"DIY products","Tools and supports for working at height","Polyethylene terephthalate (PET) >90%","≥5 kg and <7 kg","€ / unit",0.42,0.42,{"$f":"_xlfn.XLOOKUP(K2410,'Codes éco-part'!$C$6:$C$923,'Codes éco-part'!$B$6:$B$923)","v":"450"},0.5]
["DIY and gardening products EPR",3,"21102420541","Modulated","DIY products","Tools and supports for working at height","Polyethylene terephthalate (PET) >90%","≥5 kg and <7 kg","€ / unit",0.38,0.38,{"$f":"_xlfn.XLOOKUP(K2411,'Codes éco-part'!$C$6:$C$923,'Codes éco-part'!$B$6:$B$923)","v":"292"},0.46]
["DIY and gardening products EPR",3,"21102420570",null,"DIY products","Tools and supports for working at height","Polyethylene terephthalate (PET) >90%","≥15 kg and <20 kg","€ / unit",1.2,1.2,{"$f":"_xlfn.XLOOKUP(K2416,'Codes éco-part'!$C$6:$C$923,'Codes éco-part'!$B$6:$B$923)","v":"505"},1.44]
["DIY and gardening products EPR",3,"21102420591","Modulated","DIY products","Tools and supports for working at height","Polyethylene terephthalate (PET) >90%","≥25 kg and <30 kg","€ / unit",1.62,1.62,{"$f":"_xlfn.XLOOKUP(K2421,'Codes éco-part'!$C$6:$C$923,'Codes éco-part'!$B$6:$B$923)","v":"810"},1.94]
["DIY and gardening products EPR",3,"21102450200",null,"DIY products","Tools and supports for working at height","PE or PP or PP/PE mix >90%","Strictly <0.5 kg","€ / unit",0.02,0.02,{"$f":"_xlfn.XLOOKUP(K2426,'Codes éco-part'!$C$6:$C$923,'Codes éco-part'!$B$6:$B$923)","v":"047"},0.02]
["DIY and gardening products EPR",3,"21102450201","Modulated","DIY products","Tools and supports for working at height","PE or PP or PP/PE mix >90%","Strictly <0.5 kg","€ / unit",0.02,0.02,{"$f":"_xlfn.XLOOKUP(K2427,'Codes éco-part'!$C$6:$C$923,'Codes éco-part'!$B$6:$B$923)","v":"047"},0.02]
["DIY and gardening products EPR",3,"21102450270",null,"DIY products","Tools and supports for working at height","PE or PP or PP/PE mix >90%","≥30 kg and <40 kg","€ / unit",2.4,2.4,{"$f":"_xlfn.XLOOKUP(K2432,'Codes éco-part'!$C$6:$C$923,'Codes éco-part'!$B$6:$B$923)","v":"602"},2.88]
["DIY and gardening products EPR",3,"21102450531","Modulated","DIY products","Tools and supports for working at height","PE or PP or PP/PE mix >90%","≥3 kg and <5 kg","€ / unit",0.22,0.22,{"$f":"_xlfn.XLOOKUP(K2437,'Codes éco-part'!$C$6:$C$923,'Codes éco-part'!$B$6:$B$923)","v":"263"},0.26]
["DIY and gardening products EPR",3,"21102450560",null,"DIY products","Tools and supports for working at height","PE or PP or PP/PE mix >90%","≥10 kg and <15 kg","€ / unit",0.9,0.9,{"$f":"_xlfn.XLOOKUP(K2442,'Codes éco-part'!$C$6:$C$923,'Codes éco-part'!$B$6:$B$923)","v":"330"},1.08]
["DIY and gardening products EPR",3,"21102450561","Modulated","DIY products","Tools and supports for working at height","PE or PP or PP/PE mix >90%","≥10 kg and <15 kg","€ / unit",0.81,0.81,{"$f":"_xlfn.XLOOKUP(K2443,'Codes éco-part'!$C$6:$C$923,'Codes éco-part'!$B$6:$B$923)","v":"112"},0.97]
["DIY and gardening products EPR",3,"21102450590",null,"DIY products","Tools and supports for working at height","PE or PP or PP/PE mix >90%","≥25 kg and <30 kg","€ / unit",1.8,1.8,{"$f":"_xlfn.XLOOKUP(K2448,'Codes éco-part'!$C$6:$C$923,'Codes éco-part'!$B$6:$B$923)","v":"603"},2.16]
["DIY and gardening products EPR",3,"21102460001","Modulated","DIY products","Tools and supports for working at height","ABS >90%","Elements of all sizes and weights","€ / ton",54,54,{"$f":"_xlfn.XLOOKUP(K2453,'Codes éco-part'!$C$6:$C$923,'Codes éco-part'!$B$6:$B$923)","v":947},64.8]
["DIY and gardening products EPR",3,"21102460220",null,"DIY products","Tools and supports for working at height","ABS >90%","≥1 kg and <2 kg","€ / unit",0.09,0.09,{"$f":"_xlfn.XLOOKUP(K2458,'Codes éco-part'!$C$6:$C$923,'Codes éco-part'!$B$6:$B$923)","v":"049"},0.11]
["DIY and gardening products EPR",3,"21102460221","Modulated","DIY products","Tools and supports for working at height","ABS >90%","≥1 kg and <2 kg","€ / unit",0.08,0.08,{"$f":"_xlfn.XLOOKUP(K2459,'Codes éco-part'!$C$6:$C$923,'Codes éco-part'!$B$6:$B$923)","v":"003"},0.1]
["DIY and gardening products EPR",3,"21102460530",null,"DIY products","Tools and supports for working at height","ABS >90%","≥3 kg and <5 kg","€ / unit",0.24,0.24,{"$f":"_xlfn.XLOOKUP(K2464,'Codes éco-part'!$C$6:$C$923,'Codes éco-part'!$B$6:$B$923)","v":"248"},0.28999999999999998]
["DIY and gardening products EPR",3,"21102460551","Modulated","DIY products","Tools and supports for working at height","ABS >90%","≥7 kg and <10 kg","€ / unit",0.54,0.54,{"$f":"_xlfn.XLOOKUP(K2469,'Codes éco-part'!$C$6:$C$923,'Codes éco-part'!$B$6:$B$923)","v":"500"},0.65]
["DIY and gardening products EPR",3,"21102460580",null,"DIY products","Tools and supports for working at height","ABS >90%","≥20 kg and <25 kg","€ / unit",1.5,1.5,{"$f":"_xlfn.XLOOKUP(K2474,'Codes éco-part'!$C$6:$C$923,'Codes éco-part'!$B$6:$B$923)","v":"059"},1.8]
["DIY and gardening products EPR",3,"21102460581","Modulated","DIY products","Tools and supports for working at height","ABS >90%","≥20 kg and <25 kg","€ / unit",1.35,1.35,{"$f":"_xlfn.XLOOKUP(K2475,'Codes éco-part'!$C$6:$C$923,'Codes éco-part'!$B$6:$B$923)","v":"332"},1.62]
["DIY and gardening products EPR",3,"21102470000",null,"DIY products","Tools and supports for working at height","Polystyrene >90%","Elements of all sizes and weights","€ / ton",60,60,{"$f":"_xlfn.XLOOKUP(K2480,'Codes éco-part'!$C$6:$C$923,'Codes éco-part'!$B$6:$B$923)","v":"180"},72]
["DIY and gardening products EPR",3,"21102470211","Modulated","DIY products","Tools and supports for working at height","Polystyrene >90%","≥0.5 kg and <1 kg","€ / unit",0.05,0.05,{"$f":"_xlfn.XLOOKUP(K2485,'Codes éco-part'!$C$6:$C$923,'Codes éco-part'!$B$6:$B$923)","v":"048"},0.06]
["DIY and gardening products EPR",3,"21102470520",null,"DIY products","Tools and supports for working at height","Polystyrene >90%","≥2 kg and <3 kg","€ / unit",0.15,0.15,{"$f":"_xlfn.XLOOKUP(K2490,'Codes éco-part'!$C$6:$C$923,'Codes éco-part'!$B$6:$B$923)","v":"050"},0.18]
["DIY and gardening products EPR",3,"21102470521","Modulated","DIY products","Tools and supports for working at height","Polystyrene >90%","≥2 kg and <3 kg","€ / unit",0.14000000000000001,0.14000000000000001,{"$f":"_xlfn.XLOOKUP(K2491,'Codes éco-part'!$C$6:$C$923,'Codes éco-part'!$B$6:$B$923)","v":"098"},0.17]
["DIY and gardening products EPR",3,"21102470550",null,"DIY products","Tools and supports for working at height","Polystyrene >90%","≥7 kg and <10 kg","€ / unit",0.6,0.6,{"$f":"_xlfn.XLOOKUP(K2496,'Codes éco-part'!$C$6:$C$923,'Codes éco-part'!$B$6:$B$923)","v":"327"},0.72]
["DIY and gardening products EPR",3,"21102470571","Modulated","DIY products","Tools and supports for working at height","Polystyrene >90%","≥15 kg and <20 kg","€ / unit",1.08,1.08,{"$f":"_xlfn.XLOOKUP(K2501,'Codes éco-part'!$C$6:$C$923,'Codes éco-part'!$B$6:$B$923)","v":"113"},1.3]
["DIY and gardening products EPR",3,"21102470600",null,"DIY products","Tools and supports for working at height","Polystyrene >90%","≥40 kg and <50 kg","€ / unit",3,3,{"$f":"_xlfn.XLOOKUP(K2506,'Codes éco-part'!$C$6:$C$923,'Codes éco-part'!$B$6:$B$923)","v":"474"},3.6]
["DIY and gardening products EPR",3,"21102470601","Modulated","DIY products","Tools and supports for working at height","Polystyrene >90%","≥40 kg and <50 kg","€ / unit",2.7,2.7,{"$f":"_xlfn.XLOOKUP(K2507,'Codes éco-part'!$C$6:$C$923,'Codes éco-part'!$B$6:$B$923)","v":"611"},3.24]
["DIY and gardening products EPR",3,"21102480210",null,"DIY products","Tools and supports for working at height","PVC >90%","≥0.5 kg and <1 kg","€ / unit",0.05,0.05,{"$f":"_xlfn.XLOOKUP(K2512,'Codes éco-part'!$C$6:$C$923,'Codes éco-part'!$B$6:$B$923)","v":"048"},0.06]
["DIY and gardening products EPR",3,"21102480271","Modulated","DIY products","Tools and supports for working at height","PVC >90%","≥30 kg and <40 kg","€ / unit",2.16,2.16,{"$f":"_xlfn.XLOOKUP(K2517,'Codes éco-part'!$C$6:$C$923,'Codes éco-part'!$B$6:$B$923)","v":"622"},2.59]
["DIY and gardening products EPR",3,"21102480531","Modulated","DIY products","Tools and supports for working at height","PVC >90%","≥3 kg and <5 kg","€ / unit",0.22,0.22,{"$f":"_xlfn.XLOOKUP(K2521,'Codes éco-part'!$C$6:$C$923,'Codes éco-part'!$B$6:$B$923)","v":"263"},0.26]
["DIY and gardening products EPR",3,"21102480540",null,"DIY products","Tools and supports for working at height","PVC >90%","≥5 kg and <7 kg","€ / unit",0.42,0.42,{"$f":"_xlfn.XLOOKUP(K2522,'Codes éco-part'!$C$6:$C$923,'Codes éco-part'!$B$6:$B$923)","v":"450"},0.5]
["DIY and gardening products EPR",3,"21102480561","Modulated","DIY products","Tools and supports for working at height","PVC >90%","≥10 kg and <15 kg","€ / unit",0.81,0.81,{"$f":"_xlfn.XLOOKUP(K2527,'Codes éco-part'!$C$6:$C$923,'Codes éco-part'!$B$6:$B$923)","v":"112"},0.97]
["DIY and gardening products EPR",3,"21102480590",null,"DIY products","Tools and supports for working at height","PVC >90%","≥25 kg and <30 kg","€ / unit",1.8,1.8,{"$f":"_xlfn.XLOOKUP(K2532,'Codes éco-part'!$C$6:$C$923,'Codes éco-part'!$B$6:$B$923)","v":"603"},2.16]
["DIY and gardening products EPR",3,"21102490001","Modulated","DIY products","Tools and supports for working at height","Synthetic rubber >90%","Elements of all sizes and weights","€ / ton",54,54,{"$f":"_xlfn.XLOOKUP(K2537,'Codes éco-part'!$C$6:$C$923,'Codes éco-part'!$B$6:$B$923)","v":947},64.8]
["DIY and gardening products EPR",3,"21102490200",null,"DIY products","Tools and supports for working at height","Synthetic rubber >90%","Strictly <0.5 kg","€ / unit",0.02,0.02,{"$f":"_xlfn.XLOOKUP(K2538,'Codes éco-part'!$C$6:$C$923,'Codes éco-part'!$B$6:$B$923)","v":"047"},0.02]
["DIY and gardening products EPR",3,"21102490221","Modulated","DIY products","Tools and supports for working at height","Synthetic rubber >90%","≥1 kg and <2 kg","€ / unit",0.08,0.08,{"$f":"_xlfn.XLOOKUP(K2543,'Codes éco-part'!$C$6:$C$923,'Codes éco-part'!$B$6:$B$923)","v":"003"},0.1]
["DIY and gardening products EPR",3,"21102490530",null,"DIY products","Tools and supports for working at height","Synthetic rubber >90%","≥3 kg and <5 kg","€ / unit",0.24,0.24,{"$f":"_xlfn.XLOOKUP(K2548,'Codes éco-part'!$C$6:$C$923,'Codes éco-part'!$B$6:$B$923)","v":"248"},0.28999999999999998]
["DIY and gardening products EPR",3,"21102490551","Modulated","DIY products","Tools and supports for working at height","Synthetic rubber >90%","≥7 kg and <10 kg","€ / unit",0.54,0.54,{"$f":"_xlfn.XLOOKUP(K2553,'Codes éco-part'!$C$6:$C$923,'Codes éco-part'!$B$6:$B$923)","v":"500"},0.65]
["DIY and gardening products EPR",3,"21102490560",null,"DIY products","Tools and supports for working at height","Synthetic rubber >90%","≥10 kg and <15 kg","€ / unit",0.9,0.9,{"$f":"_xlfn.XLOOKUP(K2554,'Codes éco-part'!$C$6:$C$923,'Codes éco-part'!$B$6:$B$923)","v":"330"},1.08]
["DIY and gardening products EPR",3,"21102490581","Modulated","DIY products","Tools and supports for working at height","Synthetic rubber >90%","≥20 kg and <25 kg","€ / unit",1.35,1.35,{"$f":"_xlfn.XLOOKUP(K2559,'Codes éco-part'!$C$6:$C$923,'Codes éco-part'!$B$6:$B$923)","v":"332"},1.62]
["DIY and gardening products EPR",3,"21102510000",null,"DIY products","Tools and supports for working at height","Assembly of non-certified wood and/or wood derivatives >50% and other materials or composite wood (excl. glass)","Elements of all sizes and weights","€ / ton",26,26,{"$f":"_xlfn.XLOOKUP(K2564,'Codes éco-part'!$C$6:$C$923,'Codes éco-part'!$B$6:$B$923)","v":"582"},31.2]
["DIY and gardening products EPR",3,"21102510211","Modulated","DIY products","Tools and supports for working at height","Assembly of non-certified wood and/or wood derivatives >50% and other materials or composite wood (excl. glass)","≥0.5 kg and <1 kg","€ / unit",0.02,0.02,{"$f":"_xlfn.XLOOKUP(K2569,'Codes éco-part'!$C$6:$C$923,'Codes éco-part'!$B$6:$B$923)","v":"047"},0.02]
["DIY and gardening products EPR",3,"21102510220",null,"DIY products","Tools and supports for working at height","Assembly of non-certified wood and/or wood derivatives >50% and other materials or composite wood (excl. glass)","≥1 kg and <2 kg","€ / unit",0.04,0.04,{"$f":"_xlfn.XLOOKUP(K2570,'Codes éco-part'!$C$6:$C$923,'Codes éco-part'!$B$6:$B$923)","v":"002"},0.05]
["DIY and gardening products EPR",3,"21102510521","Modulated","DIY products","Tools and supports for working at height","Assembly of non-certified wood and/or wood derivatives >50% and other materials or composite wood (excl. glass)","≥2 kg and <3 kg","€ / unit",0.05,0.05,{"$f":"_xlfn.XLOOKUP(K2575,'Codes éco-part'!$C$6:$C$923,'Codes éco-part'!$B$6:$B$923)","v":"048"},0.06]
["DIY and gardening products EPR",3,"21102510550",null,"DIY products","Tools and supports for working at height","Assembly of non-certified wood and/or wood derivatives >50% and other materials or composite wood (excl. glass)","≥7 kg and <10 kg","€ / unit",0.26,0.26,{"$f":"_xlfn.XLOOKUP(K2580,'Codes éco-part'!$C$6:$C$923,'Codes éco-part'!$B$6:$B$923)","v":"445"},0.31]
["DIY and gardening products EPR",3,"21102510571","Modulated","DIY products","Tools and supports for working at height","Assembly of non-certified wood and/or wood derivatives >50% and other materials or composite wood (excl. glass)","≥15 kg and <20 kg","€ / unit",0.47,0.47,{"$f":"_xlfn.XLOOKUP(K2585,'Codes éco-part'!$C$6:$C$923,'Codes éco-part'!$B$6:$B$923)","v":"107"},0.56000000000000005]
["DIY and gardening products EPR",3,"21102510580",null,"DIY products","Tools and supports for working at height","Assembly of non-certified wood and/or wood derivatives >50% and other materials or composite wood (excl. glass)","≥20 kg and <25 kg","€ / unit",0.66,0.66,{"$f":"_xlfn.XLOOKUP(K2586,'Codes éco-part'!$C$6:$C$923,'Codes éco-part'!$B$6:$B$923)","v":"453"},0.79]
["DIY and gardening products EPR",3,"21102510601","Modulated","DIY products","Tools and supports for working at height","Assembly of non-certified wood and/or wood derivatives >50% and other materials or composite wood (excl. glass)","≥40 kg and <50 kg","€ / unit",1.17,1.17,{"$f":"_xlfn.XLOOKUP(K2591,'Codes éco-part'!$C$6:$C$923,'Codes éco-part'!$B$6:$B$923)","v":"537"},1.4]
["DIY and gardening products EPR",3,"21102520210",null,"DIY products","Tools and supports for working at height","Solid wood and related products certified >90%","≥0.5 kg and <1 kg","€ / unit",0.01,0.01,{"$f":"_xlfn.XLOOKUP(K2596,'Codes éco-part'!$C$6:$C$923,'Codes éco-part'!$B$6:$B$923)","v":"260"},0.01]
["DIY and gardening products EPR",3,"21102520271","Modulated","DIY products","Tools and supports for working at height","Solid wood and related products certified >90%","≥30 kg and <40 kg","€ / unit",0.47,0.47,{"$f":"_xlfn.XLOOKUP(K2601,'Codes éco-part'!$C$6:$C$923,'Codes éco-part'!$B$6:$B$923)","v":"107"},0.56000000000000005]
["DIY and gardening products EPR",3,"21102520520",null,"DIY products","Tools and supports for working at height","Solid wood and related products certified >90%","≥2 kg and <3 kg","€ / unit",0.03,0.03,{"$f":"_xlfn.XLOOKUP(K2602,'Codes éco-part'!$C$6:$C$923,'Codes éco-part'!$B$6:$B$923)","v":"092"},0.04]
["DIY and gardening products EPR",3,"21102520541","Modulated","DIY products","Tools and supports for working at height","Solid wood and related products certified >90%","≥5 kg and <7 kg","€ / unit",0.08,0.08,{"$f":"_xlfn.XLOOKUP(K2607,'Codes éco-part'!$C$6:$C$923,'Codes éco-part'!$B$6:$B$923)","v":"003"},0.1]
["DIY and gardening products EPR",3,"21102520570",null,"DIY products","Tools and supports for working at height","Solid wood and related products certified >90%","≥15 kg and <20 kg","€ / unit",0.26,0.26,{"$f":"_xlfn.XLOOKUP(K2612,'Codes éco-part'!$C$6:$C$923,'Codes éco-part'!$B$6:$B$923)","v":"445"},0.31]
["DIY and gardening products EPR",3,"21102520591","Modulated","DIY products","Tools and supports for working at height","Solid wood and related products certified >90%","≥25 kg and <30 kg","€ / unit",0.35,0.35,{"$f":"_xlfn.XLOOKUP(K2617,'Codes éco-part'!$C$6:$C$923,'Codes éco-part'!$B$6:$B$923)","v":"448"},0.42]
["DIY and gardening products EPR",3,"21102520600",null,"DIY products","Tools and supports for working at height","Solid wood and related products certified >90%","≥40 kg and <50 kg","€ / unit",0.65,0.65,{"$f":"_xlfn.XLOOKUP(K2618,'Codes éco-part'!$C$6:$C$923,'Codes éco-part'!$B$6:$B$923)","v":"613"},0.78]
["DIY and gardening products EPR",3,"21102530201","Modulated","DIY products","Tools and supports for working at height","Solid wood and related products >90%","Strictly <0.5 kg","€ / unit",0.02,0.02,{"$f":"_xlfn.XLOOKUP(K2623,'Codes éco-part'!$C$6:$C$923,'Codes éco-part'!$B$6:$B$923)","v":"047"},0.02]
["DIY and gardening products EPR",3,"21102530270",null,"DIY products","Tools and supports for working at height","Solid wood and related products >90%","≥30 kg and <40 kg","€ / unit",1.04,1.04,{"$f":"_xlfn.XLOOKUP(K2628,'Codes éco-part'!$C$6:$C$923,'Codes éco-part'!$B$6:$B$923)","v":"616"},1.25]
["DIY and gardening products EPR",3,"21102530531","Modulated","DIY products","Tools and supports for working at height","Solid wood and related products >90%","≥3 kg and <5 kg","€ / unit",0.09,0.09,{"$f":"_xlfn.XLOOKUP(K2633,'Codes éco-part'!$C$6:$C$923,'Codes éco-part'!$B$6:$B$923)","v":"049"},0.11]
["DIY and gardening products EPR",3,"21102530540",null,"DIY products","Tools and supports for working at height","Solid wood and related products >90%","≥5 kg and <7 kg","€ / unit",0.18,0.18,{"$f":"_xlfn.XLOOKUP(K2634,'Codes éco-part'!$C$6:$C$923,'Codes éco-part'!$B$6:$B$923)","v":"100"},0.22]
["DIY and gardening products EPR",3,"21102530561","Modulated","DIY products","Tools and supports for working at height","Solid wood and related products >90%","≥10 kg and <15 kg","€ / unit",0.36,0.36,{"$f":"_xlfn.XLOOKUP(K2639,'Codes éco-part'!$C$6:$C$923,'Codes éco-part'!$B$6:$B$923)","v":"449"},0.43]
["DIY and gardening products EPR",3,"21102530590",null,"DIY products","Tools and supports for working at height","Solid wood and related products >90%","≥25 kg and <30 kg","€ / unit",0.78,0.78,{"$f":"_xlfn.XLOOKUP(K2644,'Codes éco-part'!$C$6:$C$923,'Codes éco-part'!$B$6:$B$923)","v":"312"},0.94]
["DIY and gardening products EPR",3,"21102540001","Modulated","DIY products","Tools and supports for working at height","Non-certified wood derivatives >90%","Elements of all sizes and weights","€ / ton",23.4,23.4,{"$f":"_xlfn.XLOOKUP(K2649,'Codes éco-part'!$C$6:$C$923,'Codes éco-part'!$B$6:$B$923)","v":946},28.08]
["DIY and gardening products EPR",3,"21102540200",null,"DIY products","Tools and supports for working at height","Non-certified wood derivatives >90%","Strictly <0.5 kg","€ / unit",0.02,0.02,{"$f":"_xlfn.XLOOKUP(K2650,'Codes éco-part'!$C$6:$C$923,'Codes éco-part'!$B$6:$B$923)","v":"047"},0.02]
["DIY and gardening products EPR",3,"21102540221","Modulated","DIY products","Tools and supports for working at height","Non-certified wood derivatives >90%","≥1 kg and <2 kg","€ / unit",0.04,0.04,{"$f":"_xlfn.XLOOKUP(K2655,'Codes éco-part'!$C$6:$C$923,'Codes éco-part'!$B$6:$B$923)","v":"002"},0.05]
["DIY and gardening products EPR",3,"21102540530",null,"DIY products","Tools and supports for working at height","Non-certified wood derivatives >90%","≥3 kg and <5 kg","€ / unit",0.1,0.1,{"$f":"_xlfn.XLOOKUP(K2660,'Codes éco-part'!$C$6:$C$923,'Codes éco-part'!$B$6:$B$923)","v":"094"},0.12]
["DIY and gardening products EPR",3,"21102540551","Modulated","DIY products","Tools and supports for working at height","Non-certified wood derivatives >90%","≥7 kg and <10 kg","€ / unit",0.23,0.23,{"$f":"_xlfn.XLOOKUP(K2665,'Codes éco-part'!$C$6:$C$923,'Codes éco-part'!$B$6:$B$923)","v":"323"},0.28000000000000003]
["DIY and gardening products EPR",3,"21102540560",null,"DIY products","Tools and supports for working at height","Non-certified wood derivatives >90%","≥10 kg and <15 kg","€ / unit",0.4,0.4,{"$f":"_xlfn.XLOOKUP(K2666,'Codes éco-part'!$C$6:$C$923,'Codes éco-part'!$B$6:$B$923)","v":"105"},0.48]
["DIY and gardening products EPR",3,"21102540581","Modulated","DIY products","Tools and supports for working at height","Non-certified wood derivatives >90%","≥20 kg and <25 kg","€ / unit",0.59,0.59,{"$f":"_xlfn.XLOOKUP(K2671,'Codes éco-part'!$C$6:$C$923,'Codes éco-part'!$B$6:$B$923)","v":"254"},0.71]
["DIY and gardening products EPR",3,"21102550000",null,"DIY products","Tools and supports for working at height","Biosourced materials or non-synthetic textiles >90%","Elements of all sizes and weights","€ / ton",40,40,{"$f":"_xlfn.XLOOKUP(K2676,'Codes éco-part'!$C$6:$C$923,'Codes éco-part'!$B$6:$B$923)","v":"029"},48]
["DIY and gardening products EPR",3,"21102550211","Modulated","DIY products","Tools and supports for working at height","Biosourced materials or non-synthetic textiles >90%","≥0.5 kg and <1 kg","€ / unit",0.03,0.03,{"$f":"_xlfn.XLOOKUP(K2681,'Codes éco-part'!$C$6:$C$923,'Codes éco-part'!$B$6:$B$923)","v":"092"},0.04]
["DIY and gardening products EPR",3,"21102550220",null,"DIY products","Tools and supports for working at height","Biosourced materials or non-synthetic textiles >90%","≥1 kg and <2 kg","€ / unit",0.06,0.06,{"$f":"_xlfn.XLOOKUP(K2682,'Codes éco-part'!$C$6:$C$923,'Codes éco-part'!$B$6:$B$923)","v":"096"},7.0000000000000007E-2]
["DIY and gardening products EPR",3,"21102550521","Modulated","DIY products","Tools and supports for working at height","Biosourced materials or non-synthetic textiles >90%","≥2 kg and <3 kg","€ / unit",0.09,0.09,{"$f":"_xlfn.XLOOKUP(K2687,'Codes éco-part'!$C$6:$C$923,'Codes éco-part'!$B$6:$B$923)","v":"049"},0.11]
["DIY and gardening products EPR",3,"21102550550",null,"DIY products","Tools and supports for working at height","Biosourced materials or non-synthetic textiles >90%","≥7 kg and <10 kg","€ / unit",0.4,0.4,{"$f":"_xlfn.XLOOKUP(K2692,'Codes éco-part'!$C$6:$C$923,'Codes éco-part'!$B$6:$B$923)","v":"105"},0.48]
["DIY and gardening products EPR",3,"21102550571","Modulated","DIY products","Tools and supports for working at height","Biosourced materials or non-synthetic textiles >90%","≥15 kg and <20 kg","€ / unit",0.72,0.72,{"$f":"_xlfn.XLOOKUP(K2697,'Codes éco-part'!$C$6:$C$923,'Codes éco-part'!$B$6:$B$923)","v":"454"},0.86]
["DIY and gardening products EPR",3,"21102550580",null,"DIY products","Tools and supports for working at height","Biosourced materials or non-synthetic textiles >90%","≥20 kg and <25 kg","€ / unit",1,1,{"$f":"_xlfn.XLOOKUP(K2698,'Codes éco-part'!$C$6:$C$923,'Codes éco-part'!$B$6:$B$923)","v":"056"},1.2]
["DIY and gardening products EPR",3,"21102550601","Modulated","DIY products","Tools and supports for working at height","Biosourced materials or non-synthetic textiles >90%","≥40 kg and <50 kg","€ / unit",1.8,1.8,{"$f":"_xlfn.XLOOKUP(K2703,'Codes éco-part'!$C$6:$C$923,'Codes éco-part'!$B$6:$B$923)","v":"603"},2.16]
["DIY and gardening products EPR",3,"21102590210",null,"DIY products","Tools and supports for working at height","Certified chipboard or OSB >90%","≥0.5 kg and <1 kg","€ / unit",0.01,0.01,{"$f":"_xlfn.XLOOKUP(K2708,'Codes éco-part'!$C$6:$C$923,'Codes éco-part'!$B$6:$B$923)","v":"260"},0.01]
["DIY and gardening products EPR",3,"21102590271","Modulated","DIY products","Tools and supports for working at height","Certified chipboard or OSB >90%","≥30 kg and <40 kg","€ / unit",0.47,0.47,{"$f":"_xlfn.XLOOKUP(K2713,'Codes éco-part'!$C$6:$C$923,'Codes éco-part'!$B$6:$B$923)","v":"107"},0.56000000000000005]
["DIY and gardening products EPR",3,"21102590520",null,"DIY products","Tools and supports for working at height","Certified chipboard or OSB >90%","≥2 kg and <3 kg","€ / unit",0.03,0.03,{"$f":"_xlfn.XLOOKUP(K2714,'Codes éco-part'!$C$6:$C$923,'Codes éco-part'!$B$6:$B$923)","v":"092"},0.04]
["DIY and gardening products EPR",3,"21102590541","Modulated","DIY products","Tools and supports for working at height","Certified chipboard or OSB >90%","≥5 kg and <7 kg","€ / unit",0.08,0.08,{"$f":"_xlfn.XLOOKUP(K2719,'Codes éco-part'!$C$6:$C$923,'Codes éco-part'!$B$6:$B$923)","v":"003"},0.1]
["DIY and gardening products EPR",3,"21102590570",null,"DIY products","Tools and supports for working at height","Certified chipboard or OSB >90%","≥15 kg and <20 kg","€ / unit",0.26,0.26,{"$f":"_xlfn.XLOOKUP(K2724,'Codes éco-part'!$C$6:$C$923,'Codes éco-part'!$B$6:$B$923)","v":"445"},0.31]
["DIY and gardening products EPR",3,"21102590591","Modulated","DIY products","Tools and supports for working at height","Certified chipboard or OSB >90%","≥25 kg and <30 kg","€ / unit",0.35,0.35,{"$f":"_xlfn.XLOOKUP(K2729,'Codes éco-part'!$C$6:$C$923,'Codes éco-part'!$B$6:$B$923)","v":"448"},0.42]
["DIY and gardening products EPR",3,"21102590600",null,"DIY products","Tools and supports for working at height","Certified chipboard or OSB >90%","≥40 kg and <50 kg","€ / unit",0.65,0.65,{"$f":"_xlfn.XLOOKUP(K2730,'Codes éco-part'!$C$6:$C$923,'Codes éco-part'!$B$6:$B$923)","v":"613"},0.78]
["DIY and gardening products EPR",3,"21102600201","Modulated","DIY products","Tools and supports for working at height","Certified chipboard or OSB >75%","Strictly <0.5 kg","€ / unit",0.01,0.01,{"$f":"_xlfn.XLOOKUP(K2735,'Codes éco-part'!$C$6:$C$923,'Codes éco-part'!$B$6:$B$923)","v":"260"},0.01]
["DIY and gardening products EPR",3,"21102600270",null,"DIY products","Tools and supports for working at height","Certified chipboard or OSB >75%","≥30 kg and <40 kg","€ / unit",0.52,0.52,{"$f":"_xlfn.XLOOKUP(K2740,'Codes éco-part'!$C$6:$C$923,'Codes éco-part'!$B$6:$B$923)","v":"509"},0.62]
["DIY and gardening products EPR",3,"21102600531","Modulated","DIY products","Tools and supports for working at height","Certified chipboard or OSB >75%","≥3 kg and <5 kg","€ / unit",0.05,0.05,{"$f":"_xlfn.XLOOKUP(K2745,'Codes éco-part'!$C$6:$C$923,'Codes éco-part'!$B$6:$B$923)","v":"048"},0.06]
["DIY and gardening products EPR",3,"21102600540",null,"DIY products","Tools and supports for working at height","Certified chipboard or OSB >75%","≥5 kg and <7 kg","€ / unit",0.09,0.09,{"$f":"_xlfn.XLOOKUP(K2746,'Codes éco-part'!$C$6:$C$923,'Codes éco-part'!$B$6:$B$923)","v":"049"},0.11]
["DIY and gardening products EPR",3,"21102600561","Modulated","DIY products","Tools and supports for working at height","Certified chipboard or OSB >75%","≥10 kg and <15 kg","€ / unit",0.18,0.18,{"$f":"_xlfn.XLOOKUP(K2751,'Codes éco-part'!$C$6:$C$923,'Codes éco-part'!$B$6:$B$923)","v":"100"},0.22]
["DIY and gardening products EPR",3,"21102600590",null,"DIY products","Tools and supports for working at height","Certified chipboard or OSB >75%","≥25 kg and <30 kg","€ / unit",0.39,0.39,{"$f":"_xlfn.XLOOKUP(K2756,'Codes éco-part'!$C$6:$C$923,'Codes éco-part'!$B$6:$B$923)","v":"253"},0.47]
["DIY and gardening products EPR",3,"21102610001","Modulated","DIY products","Tools and supports for working at height","Chipboard or OSB >90%","Elements of all sizes and weights","€ / ton",23.4,23.4,{"$f":"_xlfn.XLOOKUP(K2761,'Codes éco-part'!$C$6:$C$923,'Codes éco-part'!$B$6:$B$923)","v":946},28.08]
["DIY and gardening products EPR",3,"21102610200",null,"DIY products","Tools and supports for working at height","Chipboard or OSB >90%","Strictly <0.5 kg","€ / unit",0.02,0.02,{"$f":"_xlfn.XLOOKUP(K2762,'Codes éco-part'!$C$6:$C$923,'Codes éco-part'!$B$6:$B$923)","v":"047"},0.02]
["DIY and gardening products EPR",3,"21102610221","Modulated","DIY products","Tools and supports for working at height","Chipboard or OSB >90%","≥1 kg and <2 kg","€ / unit",0.04,0.04,{"$f":"_xlfn.XLOOKUP(K2767,'Codes éco-part'!$C$6:$C$923,'Codes éco-part'!$B$6:$B$923)","v":"002"},0.05]
["DIY and gardening products EPR",3,"21102610530",null,"DIY products","Tools and supports for working at height","Chipboard or OSB >90%","≥3 kg and <5 kg","€ / unit",0.1,0.1,{"$f":"_xlfn.XLOOKUP(K2772,'Codes éco-part'!$C$6:$C$923,'Codes éco-part'!$B$6:$B$923)","v":"094"},0.12]
["DIY and gardening products EPR",3,"21102610550",null,"DIY products","Tools and supports for working at height","Chipboard or OSB >90%","≥7 kg and <10 kg","€ / unit",0.26,0.26,{"$f":"_xlfn.XLOOKUP(K2776,'Codes éco-part'!$C$6:$C$923,'Codes éco-part'!$B$6:$B$923)","v":"445"},0.31]
["DIY and gardening products EPR",3,"21102610551","Modulated","DIY products","Tools and supports for working at height","Chipboard or OSB >90%","≥7 kg and <10 kg","€ / unit",0.23,0.23,{"$f":"_xlfn.XLOOKUP(K2777,'Codes éco-part'!$C$6:$C$923,'Codes éco-part'!$B$6:$B$923)","v":"323"},0.28000000000000003]
["DIY and gardening products EPR",3,"21102610580",null,"DIY products","Tools and supports for working at height","Chipboard or OSB >90%","≥20 kg and <25 kg","€ / unit",0.66,0.66,{"$f":"_xlfn.XLOOKUP(K2782,'Codes éco-part'!$C$6:$C$923,'Codes éco-part'!$B$6:$B$923)","v":"453"},0.79]
["DIY and gardening products EPR",3,"21102610601","Modulated","DIY products","Tools and supports for working at height","Chipboard or OSB >90%","≥40 kg and <50 kg","€ / unit",1.17,1.17,{"$f":"_xlfn.XLOOKUP(K2787,'Codes éco-part'!$C$6:$C$923,'Codes éco-part'!$B$6:$B$923)","v":"537"},1.4]
["DIY and gardening products EPR",3,"21102620210",null,"DIY products","Tools and supports for working at height","Wood derivatives >90%","≥0.5 kg and <1 kg","€ / unit",0.01,0.01,{"$f":"_xlfn.XLOOKUP(K2792,'Codes éco-part'!$C$6:$C$923,'Codes éco-part'!$B$6:$B$923)","v":"260"},0.01]
["DIY and gardening products EPR",3,"21102620211","Modulated","DIY products","Tools and supports for working at height","Wood derivatives >90%","≥0.5 kg and <1 kg","€ / unit",0.01,0.01,{"$f":"_xlfn.XLOOKUP(K2793,'Codes éco-part'!$C$6:$C$923,'Codes éco-part'!$B$6:$B$923)","v":"260"},0.01]
["DIY and gardening products EPR",3,"21102620520",null,"DIY products","Tools and supports for working at height","Wood derivatives >90%","≥2 kg and <3 kg","€ / unit",0.03,0.03,{"$f":"_xlfn.XLOOKUP(K2798,'Codes éco-part'!$C$6:$C$923,'Codes éco-part'!$B$6:$B$923)","v":"092"},0.04]
["DIY and gardening products EPR",3,"21102620541","Modulated","DIY products","Tools and supports for working at height","Wood derivatives >90%","≥5 kg and <7 kg","€ / unit",0.08,0.08,{"$f":"_xlfn.XLOOKUP(K2803,'Codes éco-part'!$C$6:$C$923,'Codes éco-part'!$B$6:$B$923)","v":"003"},0.1]
["DIY and gardening products EPR",3,"21102620570",null,"DIY products","Tools and supports for working at height","Wood derivatives >90%","≥15 kg and <20 kg","€ / unit",0.26,0.26,{"$f":"_xlfn.XLOOKUP(K2808,'Codes éco-part'!$C$6:$C$923,'Codes éco-part'!$B$6:$B$923)","v":"445"},0.31]
["DIY and gardening products EPR",3,"21102620571","Modulated","DIY products","Tools and supports for working at height","Wood derivatives >90%","≥15 kg and <20 kg","€ / unit",0.23,0.23,{"$f":"_xlfn.XLOOKUP(K2809,'Codes éco-part'!$C$6:$C$923,'Codes éco-part'!$B$6:$B$923)","v":"323"},0.28000000000000003]
["DIY and gardening products EPR",3,"21102620600",null,"DIY products","Tools and supports for working at height","Wood derivatives >90%","≥40 kg and <50 kg","€ / unit",0.65,0.65,{"$f":"_xlfn.XLOOKUP(K2814,'Codes éco-part'!$C$6:$C$923,'Codes éco-part'!$B$6:$B$923)","v":"613"},0.78]
["DIY and gardening products EPR",3,"21102630201","Modulated","DIY products","Tools and supports for working at height","Natural rubber >90%","Strictly <0.5 kg","€ / unit",0.01,0.01,{"$f":"_xlfn.XLOOKUP(K2819,'Codes éco-part'!$C$6:$C$923,'Codes éco-part'!$B$6:$B$923)","v":"260"},0.01]
["DIY and gardening products EPR",3,"21102630270",null,"DIY products","Tools and supports for working at height","Natural rubber >90%","≥30 kg and <40 kg","€ / unit",1.6,1.6,{"$f":"_xlfn.XLOOKUP(K2824,'Codes éco-part'!$C$6:$C$923,'Codes éco-part'!$B$6:$B$923)","v":"595"},1.92]
["DIY and gardening products EPR",3,"21102630271","Modulated","DIY products","Tools and supports for working at height","Natural rubber >90%","≥30 kg and <40 kg","€ / unit",1.44,1.44,{"$f":"_xlfn.XLOOKUP(K2825,'Codes éco-part'!$C$6:$C$923,'Codes éco-part'!$B$6:$B$923)","v":"566"},1.73]
["DIY and gardening products EPR",3,"21102630540",null,"DIY products","Tools and supports for working at height","Natural rubber >90%","≥5 kg and <7 kg","€ / unit",0.28000000000000003,0.28000000000000003,{"$f":"_xlfn.XLOOKUP(K2830,'Codes éco-part'!$C$6:$C$923,'Codes éco-part'!$B$6:$B$923)","v":"542"},0.34]
["DIY and gardening products EPR",3,"21102630561","Modulated","DIY products","Tools and supports for working at height","Natural rubber >90%","≥10 kg and <15 kg","€ / unit",0.54,0.54,{"$f":"_xlfn.XLOOKUP(K2835,'Codes éco-part'!$C$6:$C$923,'Codes éco-part'!$B$6:$B$923)","v":"500"},0.65]
["DIY and gardening products EPR",3,"21102630590",null,"DIY products","Tools and supports for working at height","Natural rubber >90%","≥25 kg and <30 kg","€ / unit",1.2,1.2,{"$f":"_xlfn.XLOOKUP(K2840,'Codes éco-part'!$C$6:$C$923,'Codes éco-part'!$B$6:$B$923)","v":"505"},1.44]
["DIY and gardening products EPR",3,"21102630591","Modulated","DIY products","Tools and supports for working at height","Natural rubber >90%","≥25 kg and <30 kg","€ / unit",1.08,1.08,{"$f":"_xlfn.XLOOKUP(K2841,'Codes éco-part'!$C$6:$C$923,'Codes éco-part'!$B$6:$B$923)","v":"113"},1.3]
["DIY and gardening products EPR",3,"21102640200",null,"DIY products","Tools and supports for working at height","Natural rubber >50%","Strictly <0.5 kg","€ / unit",0.02,0.02,{"$f":"_xlfn.XLOOKUP(K2846,'Codes éco-part'!$C$6:$C$923,'Codes éco-part'!$B$6:$B$923)","v":"047"},0.02]
["DIY and gardening products EPR",3,"21102640221","Modulated","DIY products","Tools and supports for working at height","Natural rubber >50%","≥1 kg and <2 kg","€ / unit",0.13,0.13,{"$f":"_xlfn.XLOOKUP(K2851,'Codes éco-part'!$C$6:$C$923,'Codes éco-part'!$B$6:$B$923)","v":"004"},0.16]
["DIY and gardening products EPR",3,"21102640530",null,"DIY products","Tools and supports for working at height","Natural rubber >50%","≥3 kg and <5 kg","€ / unit",0.36,0.36,{"$f":"_xlfn.XLOOKUP(K2856,'Codes éco-part'!$C$6:$C$923,'Codes éco-part'!$B$6:$B$923)","v":"449"},0.43]
["DIY and gardening products EPR",3,"21102640531","Modulated","DIY products","Tools and supports for working at height","Natural rubber >50%","≥3 kg and <5 kg","€ / unit",0.32,0.32,{"$f":"_xlfn.XLOOKUP(K2857,'Codes éco-part'!$C$6:$C$923,'Codes éco-part'!$B$6:$B$923)","v":"447"},0.38]
["DIY and gardening products EPR",3,"21102640560",null,"DIY products","Tools and supports for working at height","Natural rubber >50%","≥10 kg and <15 kg","€ / unit",1.35,1.35,{"$f":"_xlfn.XLOOKUP(K2862,'Codes éco-part'!$C$6:$C$923,'Codes éco-part'!$B$6:$B$923)","v":"332"},1.62]
["DIY and gardening products EPR",3,"21102640581","Modulated","DIY products","Tools and supports for working at height","Natural rubber >50%","≥20 kg and <25 kg","€ / unit",2.0299999999999998,2.0299999999999998,{"$f":"_xlfn.XLOOKUP(K2867,'Codes éco-part'!$C$6:$C$923,'Codes éco-part'!$B$6:$B$923)","v":937},2.44]
["DIY and gardening products EPR",3,"21102650000",null,"DIY products","Tools and supports for working at height","Synthetic fibres or materials >90%","Elements of all sizes and weights","€ / ton",60,60,{"$f":"_xlfn.XLOOKUP(K2872,'Codes éco-part'!$C$6:$C$923,'Codes éco-part'!$B$6:$B$923)","v":"180"},72]
["DIY and gardening products EPR",3,"21102650001","Modulated","DIY products","Tools and supports for working at height","Synthetic fibres or materials >90%","Elements of all sizes and weights","€ / ton",54,54,{"$f":"_xlfn.XLOOKUP(K2873,'Codes éco-part'!$C$6:$C$923,'Codes éco-part'!$B$6:$B$923)","v":947},64.8]
["DIY and gardening products EPR",3,"21102650220",null,"DIY products","Tools and supports for working at height","Synthetic fibres or materials >90%","≥1 kg and <2 kg","€ / unit",0.09,0.09,{"$f":"_xlfn.XLOOKUP(K2878,'Codes éco-part'!$C$6:$C$923,'Codes éco-part'!$B$6:$B$923)","v":"049"},0.11]
["DIY and gardening products EPR",3,"21102650521","Modulated","DIY products","Tools and supports for working at height","Synthetic fibres or materials >90%","≥2 kg and <3 kg","€ / unit",0.14000000000000001,0.14000000000000001,{"$f":"_xlfn.XLOOKUP(K2883,'Codes éco-part'!$C$6:$C$923,'Codes éco-part'!$B$6:$B$923)","v":"098"},0.17]
["DIY and gardening products EPR",3,"21102650550",null,"DIY products","Tools and supports for working at height","Synthetic fibres or materials >90%","≥7 kg and <10 kg","€ / unit",0.6,0.6,{"$f":"_xlfn.XLOOKUP(K2888,'Codes éco-part'!$C$6:$C$923,'Codes éco-part'!$B$6:$B$923)","v":"327"},0.72]
["DIY and gardening products EPR",3,"21102650551","Modulated","DIY products","Tools and supports for working at height","Synthetic fibres or materials >90%","≥7 kg and <10 kg","€ / unit",0.54,0.54,{"$f":"_xlfn.XLOOKUP(K2889,'Codes éco-part'!$C$6:$C$923,'Codes éco-part'!$B$6:$B$923)","v":"500"},0.65]
["DIY and gardening products EPR",3,"21102650580",null,"DIY products","Tools and supports for working at height","Synthetic fibres or materials >90%","≥20 kg and <25 kg","€ / unit",1.5,1.5,{"$f":"_xlfn.XLOOKUP(K2894,'Codes éco-part'!$C$6:$C$923,'Codes éco-part'!$B$6:$B$923)","v":"059"},1.8]
["DIY and gardening products EPR",3,"21102650601","Modulated","DIY products","Tools and supports for working at height","Synthetic fibres or materials >90%","≥40 kg and <50 kg","€ / unit",2.7,2.7,{"$f":"_xlfn.XLOOKUP(K2899,'Codes éco-part'!$C$6:$C$923,'Codes éco-part'!$B$6:$B$923)","v":"611"},3.24]
["DIY and gardening products EPR",3,"21102670210",null,"DIY products","Tools and supports for working at height","Assembly of synthetic fibres and/or materials >50% and other materials","≥0.5 kg and <1 kg","€ / unit",7.0000000000000007E-2,7.0000000000000007E-2,{"$f":"_xlfn.XLOOKUP(K2904,'Codes éco-part'!$C$6:$C$923,'Codes éco-part'!$B$6:$B$923)","v":"247"},0.08]
["DIY and gardening products EPR",3,"21102670211","Modulated","DIY products","Tools and supports for working at height","Assembly of synthetic fibres and/or materials >50% and other materials","≥0.5 kg and <1 kg","€ / unit",0.06,0.06,{"$f":"_xlfn.XLOOKUP(K2905,'Codes éco-part'!$C$6:$C$923,'Codes éco-part'!$B$6:$B$923)","v":"096"},7.0000000000000007E-2]
["DIY and gardening products EPR",3,"21102670520",null,"DIY products","Tools and supports for working at height","Assembly of synthetic fibres and/or materials >50% and other materials","≥2 kg and <3 kg","€ / unit",0.23,0.23,{"$f":"_xlfn.XLOOKUP(K2910,'Codes éco-part'!$C$6:$C$923,'Codes éco-part'!$B$6:$B$923)","v":"323"},0.28000000000000003]
["DIY and gardening products EPR",3,"21102670541","Modulated","DIY products","Tools and supports for working at height","Assembly of synthetic fibres and/or materials >50% and other materials","≥5 kg and <7 kg","€ / unit",0.56999999999999995,0.56999999999999995,{"$f":"_xlfn.XLOOKUP(K2915,'Codes éco-part'!$C$6:$C$923,'Codes éco-part'!$B$6:$B$923)","v":"326"},0.68]
["DIY and gardening products EPR",3,"21102670570",null,"DIY products","Tools and supports for working at height","Assembly of synthetic fibres and/or materials >50% and other materials","≥15 kg and <20 kg","€ / unit",1.8,1.8,{"$f":"_xlfn.XLOOKUP(K2920,'Codes éco-part'!$C$6:$C$923,'Codes éco-part'!$B$6:$B$923)","v":"603"},2.16]
["DIY and gardening products EPR",3,"21102670571","Modulated","DIY products","Tools and supports for working at height","Assembly of synthetic fibres and/or materials >50% and other materials","≥15 kg and <20 kg","€ / unit",1.62,1.62,{"$f":"_xlfn.XLOOKUP(K2921,'Codes éco-part'!$C$6:$C$923,'Codes éco-part'!$B$6:$B$923)","v":"810"},1.94]
["DIY and gardening products EPR",3,"21102670600",null,"DIY products","Tools and supports for working at height","Assembly of synthetic fibres and/or materials >50% and other materials","≥40 kg and <50 kg","€ / unit",4.5,4.5,{"$f":"_xlfn.XLOOKUP(K2926,'Codes éco-part'!$C$6:$C$923,'Codes éco-part'!$B$6:$B$923)","v":"127"},5.4]
["DIY and gardening products EPR",3,"21102680201","Modulated","DIY products","Tools and supports for working at height","Glass >90%","Strictly <0.5 kg","€ / unit",0.01,0.01,{"$f":"_xlfn.XLOOKUP(K2931,'Codes éco-part'!$C$6:$C$923,'Codes éco-part'!$B$6:$B$923)","v":"260"},0.01]
["DIY and gardening products EPR",3,"21102680270",null,"DIY products","Tools and supports for working at height","Glass >90%","≥30 kg and <40 kg","€ / unit",0.35,0.35,{"$f":"_xlfn.XLOOKUP(K2936,'Codes éco-part'!$C$6:$C$923,'Codes éco-part'!$B$6:$B$923)","v":"448"},0.42]
["DIY and gardening products EPR",3,"21102680271","Modulated","DIY products","Tools and supports for working at height","Glass >90%","≥30 kg and <40 kg","€ / unit",0.32,0.32,{"$f":"_xlfn.XLOOKUP(K2937,'Codes éco-part'!$C$6:$C$923,'Codes éco-part'!$B$6:$B$923)","v":"447"},0.38]
["DIY and gardening products EPR",3,"21102680540",null,"DIY products","Tools and supports for working at height","Glass >90%","≥5 kg and <7 kg","€ / unit",0.06,0.06,{"$f":"_xlfn.XLOOKUP(K2942,'Codes éco-part'!$C$6:$C$923,'Codes éco-part'!$B$6:$B$923)","v":"096"},7.0000000000000007E-2]
["DIY and gardening products EPR",3,"21102680561","Modulated","DIY products","Tools and supports for working at height","Glass >90%","≥10 kg and <15 kg","€ / unit",0.12,0.12,{"$f":"_xlfn.XLOOKUP(K2947,'Codes éco-part'!$C$6:$C$923,'Codes éco-part'!$B$6:$B$923)","v":"097"},0.14000000000000001]
["DIY and gardening products EPR",3,"21102680590",null,"DIY products","Tools and supports for working at height","Glass >90%","≥25 kg and <30 kg","€ / unit",0.26,0.26,{"$f":"_xlfn.XLOOKUP(K2952,'Codes éco-part'!$C$6:$C$923,'Codes éco-part'!$B$6:$B$923)","v":"445"},0.31]
["DIY and gardening products EPR",3,"21102680591","Modulated","DIY products","Tools and supports for working at height","Glass >90%","≥25 kg and <30 kg","€ / unit",0.23,0.23,{"$f":"_xlfn.XLOOKUP(K2953,'Codes éco-part'!$C$6:$C$923,'Codes éco-part'!$B$6:$B$923)","v":"323"},0.28000000000000003]
["DIY and gardening products EPR",3,"21102700200",null,"DIY products","Tools and supports for working at height","Assembly of glass >50% and metal","Strictly <0.5 kg","€ / unit",0.02,0.02,{"$f":"_xlfn.XLOOKUP(K2958,'Codes éco-part'!$C$6:$C$923,'Codes éco-part'!$B$6:$B$923)","v":"047"},0.02]
["DIY and gardening products EPR",3,"21102700221","Modulated","DIY products","Tools and supports for working at height","Assembly of glass >50% and metal","≥1 kg and <2 kg","€ / unit",0.13,0.13,{"$f":"_xlfn.XLOOKUP(K2963,'Codes éco-part'!$C$6:$C$923,'Codes éco-part'!$B$6:$B$923)","v":"004"},0.16]
["DIY and gardening products EPR",3,"21102700530",null,"DIY products","Tools and supports for working at height","Assembly of glass >50% and metal","≥3 kg and <5 kg","€ / unit",0.36,0.36,{"$f":"_xlfn.XLOOKUP(K2968,'Codes éco-part'!$C$6:$C$923,'Codes éco-part'!$B$6:$B$923)","v":"449"},0.43]
["DIY and gardening products EPR",3,"21102700531","Modulated","DIY products","Tools and supports for working at height","Assembly of glass >50% and metal","≥3 kg and <5 kg","€ / unit",0.32,0.32,{"$f":"_xlfn.XLOOKUP(K2969,'Codes éco-part'!$C$6:$C$923,'Codes éco-part'!$B$6:$B$923)","v":"447"},0.38]
["DIY and gardening products EPR",3,"21102700560",null,"DIY products","Tools and supports for working at height","Assembly of glass >50% and metal","≥10 kg and <15 kg","€ / unit",1.35,1.35,{"$f":"_xlfn.XLOOKUP(K2974,'Codes éco-part'!$C$6:$C$923,'Codes éco-part'!$B$6:$B$923)","v":"332"},1.62]
["DIY and gardening products EPR",3,"21102700581","Modulated","DIY products","Tools and supports for working at height","Assembly of glass >50% and metal","≥20 kg and <25 kg","€ / unit",2.0299999999999998,2.0299999999999998,{"$f":"_xlfn.XLOOKUP(K2979,'Codes éco-part'!$C$6:$C$923,'Codes éco-part'!$B$6:$B$923)","v":937},2.44]
["DIY and gardening products EPR",3,"21102710000",null,"DIY products","Tools and supports for working at height","Assembly of glass >50% and inert substances","Elements of all sizes and weights","€ / ton",90,90,{"$f":"_xlfn.XLOOKUP(K2984,'Codes éco-part'!$C$6:$C$923,'Codes éco-part'!$B$6:$B$923)","v":"609"},108]
["DIY and gardening products EPR",3,"21102710001","Modulated","DIY products","Tools and supports for working at height","Assembly of glass >50% and inert substances","Elements of all sizes and weights","€ / ton",81,81,{"$f":"_xlfn.XLOOKUP(K2985,'Codes éco-part'!$C$6:$C$923,'Codes éco-part'!$B$6:$B$923)","v":943},97.2]
["DIY and gardening products EPR",3,"21102710220",null,"DIY products","Tools and supports for working at height","Assembly of glass >50% and inert substances","≥1 kg and <2 kg","€ / unit",0.14000000000000001,0.14000000000000001,{"$f":"_xlfn.XLOOKUP(K2990,'Codes éco-part'!$C$6:$C$923,'Codes éco-part'!$B$6:$B$923)","v":"098"},0.17]
["DIY and gardening products EPR",3,"21102710521","Modulated","DIY products","Tools and supports for working at height","Assembly of glass >50% and inert substances","≥2 kg and <3 kg","€ / unit",0.21,0.21,{"$f":"_xlfn.XLOOKUP(K2995,'Codes éco-part'!$C$6:$C$923,'Codes éco-part'!$B$6:$B$923)","v":"051"},0.25]
["DIY and gardening products EPR",3,"21102710550",null,"DIY products","Tools and supports for working at height","Assembly of glass >50% and inert substances","≥7 kg and <10 kg","€ / unit",0.9,0.9,{"$f":"_xlfn.XLOOKUP(K3000,'Codes éco-part'!$C$6:$C$923,'Codes éco-part'!$B$6:$B$923)","v":"330"},1.08]
["DIY and gardening products EPR",3,"21102710551","Modulated","DIY products","Tools and supports for working at height","Assembly of glass >50% and inert substances","≥7 kg and <10 kg","€ / unit",0.81,0.81,{"$f":"_xlfn.XLOOKUP(K3001,'Codes éco-part'!$C$6:$C$923,'Codes éco-part'!$B$6:$B$923)","v":"112"},0.97]
["DIY and gardening products EPR",3,"21102710580",null,"DIY products","Tools and supports for working at height","Assembly of glass >50% and inert substances","≥20 kg and <25 kg","€ / unit",2.25,2.25,{"$f":"_xlfn.XLOOKUP(K3006,'Codes éco-part'!$C$6:$C$923,'Codes éco-part'!$B$6:$B$923)","v":"118"},2.7]
["DIY and gardening products EPR",3,"21102710601","Modulated","DIY products","Tools and supports for working at height","Assembly of glass >50% and inert substances","≥40 kg and <50 kg","€ / unit",4.05,4.05,{"$f":"_xlfn.XLOOKUP(K3011,'Codes éco-part'!$C$6:$C$923,'Codes éco-part'!$B$6:$B$923)","v":"884"},4.8600000000000003]
["DIY and gardening products EPR",3,"21102720210",null,"DIY products","Tools and supports for working at height","Assembly of glass >50% and wood or wood derivatives","≥0.5 kg and <1 kg","€ / unit",7.0000000000000007E-2,7.0000000000000007E-2,{"$f":"_xlfn.XLOOKUP(K3016,'Codes éco-part'!$C$6:$C$923,'Codes éco-part'!$B$6:$B$923)","v":"247"},0.08]
["DIY and gardening products EPR",3,"21102720211","Modulated","DIY products","Tools and supports for working at height","Assembly of glass >50% and wood or wood derivatives","≥0.5 kg and <1 kg","€ / unit",0.06,0.06,{"$f":"_xlfn.XLOOKUP(K3017,'Codes éco-part'!$C$6:$C$923,'Codes éco-part'!$B$6:$B$923)","v":"096"},7.0000000000000007E-2]
["DIY and gardening products EPR",3,"21102720520",null,"DIY products","Tools and supports for working at height","Assembly of glass >50% and wood or wood derivatives","≥2 kg and <3 kg","€ / unit",0.23,0.23,{"$f":"_xlfn.XLOOKUP(K3022,'Codes éco-part'!$C$6:$C$923,'Codes éco-part'!$B$6:$B$923)","v":"323"},0.28000000000000003]
["DIY and gardening products EPR",3,"21102720541","Modulated","DIY products","Tools and supports for working at height","Assembly of glass >50% and wood or wood derivatives","≥5 kg and <7 kg","€ / unit",0.56999999999999995,0.56999999999999995,{"$f":"_xlfn.XLOOKUP(K3027,'Codes éco-part'!$C$6:$C$923,'Codes éco-part'!$B$6:$B$923)","v":"326"},0.68]
["DIY and gardening products EPR",3,"21102720551","Modulated","DIY products","Tools and supports for working at height","Assembly of glass >50% and wood or wood derivatives","≥7 kg and <10 kg","€ / unit",0.81,0.81,{"$f":"_xlfn.XLOOKUP(K3029,'Codes éco-part'!$C$6:$C$923,'Codes éco-part'!$B$6:$B$923)","v":"112"},0.97]
["DIY and gardening products EPR",3,"21102720570",null,"DIY products","Tools and supports for working at height","Assembly of glass >50% and wood or wood derivatives","≥15 kg and <20 kg","€ / unit",1.8,1.8,{"$f":"_xlfn.XLOOKUP(K3032,'Codes éco-part'!$C$6:$C$923,'Codes éco-part'!$B$6:$B$923)","v":"603"},2.16]
["DIY and gardening products EPR",3,"21102720591","Modulated","DIY products","Tools and supports for working at height","Assembly of glass >50% and wood or wood derivatives","≥25 kg and <30 kg","€ / unit",2.4300000000000002,2.4300000000000002,{"$f":"_xlfn.XLOOKUP(K3037,'Codes éco-part'!$C$6:$C$923,'Codes éco-part'!$B$6:$B$923)","v":"471"},2.92]
["DIY and gardening products EPR",3,"21102730200",null,"DIY products","Tools and supports for working at height","Assembly of glass >50% and plastic","Strictly <0.5 kg","€ / unit",0.02,0.02,{"$f":"_xlfn.XLOOKUP(K3042,'Codes éco-part'!$C$6:$C$923,'Codes éco-part'!$B$6:$B$923)","v":"047"},0.02]
["DIY and gardening products EPR",3,"21102730221","Modulated","DIY products","Tools and supports for working at height","Assembly of glass >50% and plastic","≥1 kg and <2 kg","€ / unit",0.13,0.13,{"$f":"_xlfn.XLOOKUP(K3047,'Codes éco-part'!$C$6:$C$923,'Codes éco-part'!$B$6:$B$923)","v":"004"},0.16]
["DIY and gardening products EPR",3,"21102730270",null,"DIY products","Tools and supports for working at height","Assembly of glass >50% and plastic","≥30 kg and <40 kg","€ / unit",3.6,3.6,{"$f":"_xlfn.XLOOKUP(K3048,'Codes éco-part'!$C$6:$C$923,'Codes éco-part'!$B$6:$B$923)","v":"610"},4.32]
["DIY and gardening products EPR",3,"21102730531","Modulated","DIY products","Tools and supports for working at height","Assembly of glass >50% and plastic","≥3 kg and <5 kg","€ / unit",0.32,0.32,{"$f":"_xlfn.XLOOKUP(K3053,'Codes éco-part'!$C$6:$C$923,'Codes éco-part'!$B$6:$B$923)","v":"447"},0.38]
["DIY and gardening products EPR",3,"21102730560",null,"DIY products","Tools and supports for working at height","Assembly of glass >50% and plastic","≥10 kg and <15 kg","€ / unit",1.35,1.35,{"$f":"_xlfn.XLOOKUP(K3058,'Codes éco-part'!$C$6:$C$923,'Codes éco-part'!$B$6:$B$923)","v":"332"},1.62]
["DIY and gardening products EPR",3,"21102730581","Modulated","DIY products","Tools and supports for working at height","Assembly of glass >50% and plastic","≥20 kg and <25 kg","€ / unit",2.0299999999999998,2.0299999999999998,{"$f":"_xlfn.XLOOKUP(K3063,'Codes éco-part'!$C$6:$C$923,'Codes éco-part'!$B$6:$B$923)","v":937},2.44]
["DIY and gardening products EPR",3,"21102730590",null,"DIY products","Tools and supports for working at height","Assembly of glass >50% and plastic","≥25 kg and <30 kg","€ / unit",2.7,2.7,{"$f":"_xlfn.XLOOKUP(K3064,'Codes éco-part'!$C$6:$C$923,'Codes éco-part'!$B$6:$B$923)","v":"611"},3.24]
["DIY and gardening products EPR",3,"21102740001","Modulated","DIY products","Tools and supports for working at height","Concrete >90%","Elements of all sizes and weights","€ / ton",7.88,7.88,{"$f":"_xlfn.XLOOKUP(K3069,'Codes éco-part'!$C$6:$C$923,'Codes éco-part'!$B$6:$B$923)","v":"354"},9.4600000000000009]
["DIY and gardening products EPR",3,"21102740220",null,"DIY products","Tools and supports for working at height","Concrete >90%","≥1 kg and <2 kg","€ / unit",0.01,0.01,{"$f":"_xlfn.XLOOKUP(K3074,'Codes éco-part'!$C$6:$C$923,'Codes éco-part'!$B$6:$B$923)","v":"260"},{"$f":"ROUND(K3074*1.2,2)","v":0.01}]
["DIY and gardening products EPR",3,"21102740521","Modulated","DIY products","Tools and supports for working at height","Concrete >90%","≥2 kg and <3 kg","€ / unit",0.02,0.02,{"$f":"_xlfn.XLOOKUP(K3079,'Codes éco-part'!$C$6:$C$923,'Codes éco-part'!$B$6:$B$923)","v":"047"},0.02]
["DIY and gardening products EPR",3,"21102740530",null,"DIY products","Tools and supports for working at height","Concrete >90%","≥3 kg and <5 kg","€ / unit",0.04,0.04,{"$f":"_xlfn.XLOOKUP(K3080,'Codes éco-part'!$C$6:$C$923,'Codes éco-part'!$B$6:$B$923)","v":"002"},0.05]
["DIY and gardening products EPR",3,"21102740551","Modulated","DIY products","Tools and supports for working at height","Concrete >90%","≥7 kg and <10 kg","€ / unit",0.08,0.08,{"$f":"_xlfn.XLOOKUP(K3085,'Codes éco-part'!$C$6:$C$923,'Codes éco-part'!$B$6:$B$923)","v":"003"},0.1]
["DIY and gardening products EPR",3,"21102740580",null,"DIY products","Tools and supports for working at height","Concrete >90%","≥20 kg and <25 kg","€ / unit",0.22,0.22,{"$f":"_xlfn.XLOOKUP(K3090,'Codes éco-part'!$C$6:$C$923,'Codes éco-part'!$B$6:$B$923)","v":"263"},0.26]
["DIY and gardening products EPR",3,"21102740601","Modulated","DIY products","Tools and supports for working at height","Concrete >90%","≥40 kg and <50 kg","€ / unit",0.4,0.4,{"$f":"_xlfn.XLOOKUP(K3095,'Codes éco-part'!$C$6:$C$923,'Codes éco-part'!$B$6:$B$923)","v":"105"},0.48]
["DIY and gardening products EPR",3,"21102810000",null,"DIY products","Tools and supports for working at height","Assembly of wood, wood derivatives, and metal with a combination representing >90%","Elements of all sizes and weights","€ / ton",13,13,{"$f":"_xlfn.XLOOKUP(K3096,'Codes éco-part'!$C$6:$C$923,'Codes éco-part'!$B$6:$B$923)","v":"486"},15.6]
["DIY and gardening products EPR",3,"21102810211","Modulated","DIY products","Tools and supports for working at height","Assembly of wood, wood derivatives, and metal with a combination representing >90%","≥0.5 kg and <1 kg","€ / unit",0.01,0.01,{"$f":"_xlfn.XLOOKUP(K3101,'Codes éco-part'!$C$6:$C$923,'Codes éco-part'!$B$6:$B$923)","v":"260"},0.01]
["DIY and gardening products EPR",3,"21102810520",null,"DIY products","Tools and supports for working at height","Assembly of wood, wood derivatives, and metal with a combination representing >90%","≥2 kg and <3 kg","€ / unit",0.03,0.03,{"$f":"_xlfn.XLOOKUP(K3106,'Codes éco-part'!$C$6:$C$923,'Codes éco-part'!$B$6:$B$923)","v":"092"},0.04]
["DIY and gardening products EPR",3,"21102810541","Modulated","DIY products","Tools and supports for working at height","Assembly of wood, wood derivatives, and metal with a combination representing >90%","≥5 kg and <7 kg","€ / unit",0.08,0.08,{"$f":"_xlfn.XLOOKUP(K3111,'Codes éco-part'!$C$6:$C$923,'Codes éco-part'!$B$6:$B$923)","v":"003"},0.1]
["DIY and gardening products EPR",3,"21102810550",null,"DIY products","Tools and supports for working at height","Assembly of wood, wood derivatives, and metal with a combination representing >90%","≥7 kg and <10 kg","€ / unit",0.13,0.13,{"$f":"_xlfn.XLOOKUP(K3112,'Codes éco-part'!$C$6:$C$923,'Codes éco-part'!$B$6:$B$923)","v":"004"},0.16]
["DIY and gardening products EPR",3,"21102810571","Modulated","DIY products","Tools and supports for working at height","Assembly of wood, wood derivatives, and metal with a combination representing >90%","≥15 kg and <20 kg","€ / unit",0.23,0.23,{"$f":"_xlfn.XLOOKUP(K3117,'Codes éco-part'!$C$6:$C$923,'Codes éco-part'!$B$6:$B$923)","v":"323"},0.28000000000000003]
["DIY and gardening products EPR",3,"21102810600",null,"DIY products","Tools and supports for working at height","Assembly of wood, wood derivatives, and metal with a combination representing >90%","≥40 kg and <50 kg","€ / unit",0.65,0.65,{"$f":"_xlfn.XLOOKUP(K3122,'Codes éco-part'!$C$6:$C$923,'Codes éco-part'!$B$6:$B$923)","v":"613"},0.78]
["DIY and gardening products EPR",3,"21102820201","Modulated","DIY products","Tools and supports for working at height","Assembly of 3 or more materials, with no material representing >50%","Strictly <0.5 kg","€ / unit",0.02,0.02,{"$f":"_xlfn.XLOOKUP(K3127,'Codes éco-part'!$C$6:$C$923,'Codes éco-part'!$B$6:$B$923)","v":"047"},0.02]
["DIY and gardening products EPR",3,"21102820210",null,"DIY products","Tools and supports for working at height","Assembly of 3 or more materials, with no material representing >50%","≥0.5 kg and <1 kg","€ / unit",7.0000000000000007E-2,7.0000000000000007E-2,{"$f":"_xlfn.XLOOKUP(K3128,'Codes éco-part'!$C$6:$C$923,'Codes éco-part'!$B$6:$B$923)","v":"247"},0.08]
["DIY and gardening products EPR",3,"21102820271","Modulated","DIY products","Tools and supports for working at height","Assembly of 3 or more materials, with no material representing >50%","≥30 kg and <40 kg","€ / unit",3.24,3.24,{"$f":"_xlfn.XLOOKUP(K3133,'Codes éco-part'!$C$6:$C$923,'Codes éco-part'!$B$6:$B$923)","v":944},3.89]
["DIY and gardening products EPR",3,"21102820540",null,"DIY products","Tools and supports for working at height","Assembly of 3 or more materials, with no material representing >50%","≥5 kg and <7 kg","€ / unit",0.63,0.63,{"$f":"_xlfn.XLOOKUP(K3138,'Codes éco-part'!$C$6:$C$923,'Codes éco-part'!$B$6:$B$923)","v":"297"},{"$f":"ROUND(K3138*1.2,2)","v":0.76}]
["DIY and gardening products EPR",3,"21102820561","Modulated","DIY products","Tools and supports for working at height","Assembly of 3 or more materials, with no material representing >50%","≥10 kg and <15 kg","€ / unit",1.22,1.22,{"$f":"_xlfn.XLOOKUP(K3143,'Codes éco-part'!$C$6:$C$923,'Codes éco-part'!$B$6:$B$923)","v":"636"},1.46]
["DIY and gardening products EPR",3,"21102820570",null,"DIY products","Tools and supports for working at height","Assembly of 3 or more materials, with no material representing >50%","≥15 kg and <20 kg","€ / unit",1.8,1.8,{"$f":"_xlfn.XLOOKUP(K3144,'Codes éco-part'!$C$6:$C$923,'Codes éco-part'!$B$6:$B$923)","v":"603"},2.16]
["DIY and gardening products EPR",3,"21102820591","Modulated","DIY products","Tools and supports for working at height","Assembly of 3 or more materials, with no material representing >50%","≥25 kg and <30 kg","€ / unit",2.4300000000000002,2.4300000000000002,{"$f":"_xlfn.XLOOKUP(K3149,'Codes éco-part'!$C$6:$C$923,'Codes éco-part'!$B$6:$B$923)","v":"471"},2.92]
["DIY and gardening products EPR",3,"21102840200",null,"DIY products","Tools and supports for working at height","Slate >90%","Strictly <0.5 kg","€ / unit",0.01,0.01,{"$f":"_xlfn.XLOOKUP(K3154,'Codes éco-part'!$C$6:$C$923,'Codes éco-part'!$B$6:$B$923)","v":"260"},0.01]
["DIY and gardening products EPR",3,"21102840221","Modulated","DIY products","Tools and supports for working at height","Slate >90%","≥1 kg and <2 kg","€ / unit",0.01,0.01,{"$f":"_xlfn.XLOOKUP(K3159,'Codes éco-part'!$C$6:$C$923,'Codes éco-part'!$B$6:$B$923)","v":"260"},0.01]
["DIY and gardening products EPR",3,"21102840270",null,"DIY products","Tools and supports for working at height","Slate >90%","≥30 kg and <40 kg","€ / unit",0.35,0.35,{"$f":"_xlfn.XLOOKUP(K3160,'Codes éco-part'!$C$6:$C$923,'Codes éco-part'!$B$6:$B$923)","v":"448"},0.42]
["DIY and gardening products EPR",3,"21102840531","Modulated","DIY products","Tools and supports for working at height","Slate >90%","≥3 kg and <5 kg","€ / unit",0.04,0.04,{"$f":"_xlfn.XLOOKUP(K3165,'Codes éco-part'!$C$6:$C$923,'Codes éco-part'!$B$6:$B$923)","v":"002"},0.05]
["DIY and gardening products EPR",3,"21102840560",null,"DIY products","Tools and supports for working at height","Slate >90%","≥10 kg and <15 kg","€ / unit",0.13,0.13,{"$f":"_xlfn.XLOOKUP(K3170,'Codes éco-part'!$C$6:$C$923,'Codes éco-part'!$B$6:$B$923)","v":"004"},0.16]
["DIY and gardening products EPR",3,"21102840581","Modulated","DIY products","Tools and supports for working at height","Slate >90%","≥20 kg and <25 kg","€ / unit",0.2,0.2,{"$f":"_xlfn.XLOOKUP(K3175,'Codes éco-part'!$C$6:$C$923,'Codes éco-part'!$B$6:$B$923)","v":"101"},0.24]
["DIY and gardening products EPR",3,"21102840590",null,"DIY products","Tools and supports for working at height","Slate >90%","≥25 kg and <30 kg","€ / unit",0.26,0.26,{"$f":"_xlfn.XLOOKUP(K3176,'Codes éco-part'!$C$6:$C$923,'Codes éco-part'!$B$6:$B$923)","v":"445"},0.31]
["DIY and gardening products EPR",3,"21102860001","Modulated","DIY products","Tools and supports for working at height","Limestone >90%","Elements of all sizes and weights","€ / ton",7.88,7.88,{"$f":"_xlfn.XLOOKUP(K3181,'Codes éco-part'!$C$6:$C$923,'Codes éco-part'!$B$6:$B$923)","v":"354"},9.4600000000000009]
["DIY and gardening products EPR",3,"21102860220",null,"DIY products","Tools and supports for working at height","Limestone >90%","≥1 kg and <2 kg","€ / unit",0.01,0.01,{"$f":"_xlfn.XLOOKUP(K3186,'Codes éco-part'!$C$6:$C$923,'Codes éco-part'!$B$6:$B$923)","v":"260"},0.01]
["DIY and gardening products EPR",3,"21102860521","Modulated","DIY products","Tools and supports for working at height","Limestone >90%","≥2 kg and <3 kg","€ / unit",0.02,0.02,{"$f":"_xlfn.XLOOKUP(K3191,'Codes éco-part'!$C$6:$C$923,'Codes éco-part'!$B$6:$B$923)","v":"047"},0.02]
["DIY and gardening products EPR",3,"21102860530",null,"DIY products","Tools and supports for working at height","Limestone >90%","≥3 kg and <5 kg","€ / unit",0.04,0.04,{"$f":"_xlfn.XLOOKUP(K3192,'Codes éco-part'!$C$6:$C$923,'Codes éco-part'!$B$6:$B$923)","v":"002"},0.05]
["DIY and gardening products EPR",3,"21102860551","Modulated","DIY products","Tools and supports for working at height","Limestone >90%","≥7 kg and <10 kg","€ / unit",0.08,0.08,{"$f":"_xlfn.XLOOKUP(K3197,'Codes éco-part'!$C$6:$C$923,'Codes éco-part'!$B$6:$B$923)","v":"003"},0.1]
["DIY and gardening products EPR",3,"21102860580",null,"DIY products","Tools and supports for working at height","Limestone >90%","≥20 kg and <25 kg","€ / unit",0.22,0.22,{"$f":"_xlfn.XLOOKUP(K3202,'Codes éco-part'!$C$6:$C$923,'Codes éco-part'!$B$6:$B$923)","v":"263"},{"$f":"ROUND(K3202*1.2,2)","v":0.26}]
["DIY and gardening products EPR",3,"21102860601","Modulated","DIY products","Tools and supports for working at height","Limestone >90%","≥40 kg and <50 kg","€ / unit",0.4,0.4,{"$f":"_xlfn.XLOOKUP(K3207,'Codes éco-part'!$C$6:$C$923,'Codes éco-part'!$B$6:$B$923)","v":"105"},0.48]
["DIY and gardening products EPR",3,"21102870000",null,"DIY products","Tools and supports for working at height","Lava stone >90%","Elements of all sizes and weights","€ / ton",8.75,8.75,{"$f":"_xlfn.XLOOKUP(K3208,'Codes éco-part'!$C$6:$C$923,'Codes éco-part'!$B$6:$B$923)","v":"069"},10.5]
["DIY and gardening products EPR",3,"21102870211","Modulated","DIY products","Tools and supports for working at height","Lava stone >90%","≥0.5 kg and <1 kg","€ / unit",0.01,0.01,{"$f":"_xlfn.XLOOKUP(K3213,'Codes éco-part'!$C$6:$C$923,'Codes éco-part'!$B$6:$B$923)","v":"260"},0.01]
["DIY and gardening products EPR",3,"21102870520",null,"DIY products","Tools and supports for working at height","Lava stone >90%","≥2 kg and <3 kg","€ / unit",0.02,0.02,{"$f":"_xlfn.XLOOKUP(K3218,'Codes éco-part'!$C$6:$C$923,'Codes éco-part'!$B$6:$B$923)","v":"047"},0.02]
["DIY and gardening products EPR",3,"21102870541","Modulated","DIY products","Tools and supports for working at height","Lava stone >90%","≥5 kg and <7 kg","€ / unit",0.05,0.05,{"$f":"_xlfn.XLOOKUP(K3223,'Codes éco-part'!$C$6:$C$923,'Codes éco-part'!$B$6:$B$923)","v":"048"},0.06]
["DIY and gardening products EPR",3,"21102870550",null,"DIY products","Tools and supports for working at height","Lava stone >90%","≥7 kg and <10 kg","€ / unit",0.09,0.09,{"$f":"_xlfn.XLOOKUP(K3224,'Codes éco-part'!$C$6:$C$923,'Codes éco-part'!$B$6:$B$923)","v":"049"},0.11]
["DIY and gardening products EPR",3,"21102870571","Modulated","DIY products","Tools and supports for working at height","Lava stone >90%","≥15 kg and <20 kg","€ / unit",0.16,0.16,{"$f":"_xlfn.XLOOKUP(K3229,'Codes éco-part'!$C$6:$C$923,'Codes éco-part'!$B$6:$B$923)","v":"099"},0.19]
["DIY and gardening products EPR",3,"21102870600",null,"DIY products","Tools and supports for working at height","Lava stone >90%","≥40 kg and <50 kg","€ / unit",0.44,0.44,{"$f":"_xlfn.XLOOKUP(K3234,'Codes éco-part'!$C$6:$C$923,'Codes éco-part'!$B$6:$B$923)","v":"281"},0.53]
["DIY and gardening products EPR",3,"21102890201","Modulated","DIY products","Tools and supports for working at height","Raw earth or terracotta >90%","Strictly <0.5 kg","€ / unit",0.01,0.01,{"$f":"_xlfn.XLOOKUP(K3239,'Codes éco-part'!$C$6:$C$923,'Codes éco-part'!$B$6:$B$923)","v":"260"},0.01]
["DIY and gardening products EPR",3,"21102890210",null,"DIY products","Tools and supports for working at height","Raw earth or terracotta >90%","≥0.5 kg and <1 kg","€ / unit",0.01,0.01,{"$f":"_xlfn.XLOOKUP(K3240,'Codes éco-part'!$C$6:$C$923,'Codes éco-part'!$B$6:$B$923)","v":"260"},0.01]
["DIY and gardening products EPR",3,"21102890271","Modulated","DIY products","Tools and supports for working at height","Raw earth or terracotta >90%","≥30 kg and <40 kg","€ / unit",0.32,0.32,{"$f":"_xlfn.XLOOKUP(K3245,'Codes éco-part'!$C$6:$C$923,'Codes éco-part'!$B$6:$B$923)","v":"447"},0.38]
["DIY and gardening products EPR",3,"21102890540",null,"DIY products","Tools and supports for working at height","Raw earth or terracotta >90%","≥5 kg and <7 kg","€ / unit",0.06,0.06,{"$f":"_xlfn.XLOOKUP(K3250,'Codes éco-part'!$C$6:$C$923,'Codes éco-part'!$B$6:$B$923)","v":"096"},7.0000000000000007E-2]
["DIY and gardening products EPR",3,"21102890561","Modulated","DIY products","Tools and supports for working at height","Raw earth or terracotta >90%","≥10 kg and <15 kg","€ / unit",0.12,0.12,{"$f":"_xlfn.XLOOKUP(K3255,'Codes éco-part'!$C$6:$C$923,'Codes éco-part'!$B$6:$B$923)","v":"097"},0.14000000000000001]
["DIY and gardening products EPR",3,"21102890570",null,"DIY products","Tools and supports for working at height","Raw earth or terracotta >90%","≥15 kg and <20 kg","€ / unit",0.18,0.18,{"$f":"_xlfn.XLOOKUP(K3256,'Codes éco-part'!$C$6:$C$923,'Codes éco-part'!$B$6:$B$923)","v":"100"},0.22]
["DIY and gardening products EPR",3,"21102890591","Modulated","DIY products","Tools and supports for working at height","Raw earth or terracotta >90%","≥25 kg and <30 kg","€ / unit",0.23,0.23,{"$f":"_xlfn.XLOOKUP(K3261,'Codes éco-part'!$C$6:$C$923,'Codes éco-part'!$B$6:$B$923)","v":"323"},0.28000000000000003]
["DIY and gardening products EPR",3,"21102900200",null,"DIY products","Tools and supports for working at height","Cement >90%","Strictly <0.5 kg","€ / unit",0.01,0.01,{"$f":"_xlfn.XLOOKUP(K3266,'Codes éco-part'!$C$6:$C$923,'Codes éco-part'!$B$6:$B$923)","v":"260"},{"$f":"ROUND(K3266*1.2,2)","v":0.01}]
["DIY and gardening products EPR",3,"21102900221","Modulated","DIY products","Tools and supports for working at height","Cement >90%","≥1 kg and <2 kg","€ / unit",0.01,0.01,{"$f":"_xlfn.XLOOKUP(K3271,'Codes éco-part'!$C$6:$C$923,'Codes éco-part'!$B$6:$B$923)","v":"260"},0.01]
["DIY and gardening products EPR",3,"21102900270",null,"DIY products","Tools and supports for working at height","Cement >90%","≥30 kg and <40 kg","€ / unit",0.35,0.35,{"$f":"_xlfn.XLOOKUP(K3272,'Codes éco-part'!$C$6:$C$923,'Codes éco-part'!$B$6:$B$923)","v":"448"},0.42]
["DIY and gardening products EPR",3,"21102900531","Modulated","DIY products","Tools and supports for working at height","Cement >90%","≥3 kg and <5 kg","€ / unit",0.04,0.04,{"$f":"_xlfn.XLOOKUP(K3277,'Codes éco-part'!$C$6:$C$923,'Codes éco-part'!$B$6:$B$923)","v":"002"},0.05]
["DIY and gardening products EPR",3,"21102900560",null,"DIY products","Tools and supports for working at height","Cement >90%","≥10 kg and <15 kg","€ / unit",0.13,0.13,{"$f":"_xlfn.XLOOKUP(K3282,'Codes éco-part'!$C$6:$C$923,'Codes éco-part'!$B$6:$B$923)","v":"004"},0.16]
["DIY and gardening products EPR",3,"21102900570",null,"DIY products","Tools and supports for working at height","Cement >90%","≥15 kg and <20 kg","€ / unit",0.18,0.18,{"$f":"_xlfn.XLOOKUP(K3284,'Codes éco-part'!$C$6:$C$923,'Codes éco-part'!$B$6:$B$923)","v":"100"},0.22]
["DIY and gardening products EPR",3,"21102900581","Modulated","DIY products","Tools and supports for working at height","Cement >90%","≥20 kg and <25 kg","€ / unit",0.2,0.2,{"$f":"_xlfn.XLOOKUP(K3287,'Codes éco-part'!$C$6:$C$923,'Codes éco-part'!$B$6:$B$923)","v":"101"},0.24]
["DIY and gardening products EPR",3,"21102910000",null,"DIY products","Tools and supports for working at height","Granite >90%","Elements of all sizes and weights","€ / ton",8.75,8.75,{"$f":"_xlfn.XLOOKUP(K3292,'Codes éco-part'!$C$6:$C$923,'Codes éco-part'!$B$6:$B$923)","v":"069"},10.5]
["DIY and gardening products EPR",3,"21102910211","Modulated","DIY products","Tools and supports for working at height","Granite >90%","≥0.5 kg and <1 kg","€ / unit",0.01,0.01,{"$f":"_xlfn.XLOOKUP(K3297,'Codes éco-part'!$C$6:$C$923,'Codes éco-part'!$B$6:$B$923)","v":"260"},0.01]
["DIY and gardening products EPR",3,"21102910520",null,"DIY products","Tools and supports for working at height","Granite >90%","≥2 kg and <3 kg","€ / unit",0.02,0.02,{"$f":"_xlfn.XLOOKUP(K3302,'Codes éco-part'!$C$6:$C$923,'Codes éco-part'!$B$6:$B$923)","v":"047"},0.02]
["DIY and gardening products EPR",3,"21102910521","Modulated","DIY products","Tools and supports for working at height","Granite >90%","≥2 kg and <3 kg","€ / unit",0.02,0.02,{"$f":"_xlfn.XLOOKUP(K3303,'Codes éco-part'!$C$6:$C$923,'Codes éco-part'!$B$6:$B$923)","v":"047"},0.02]
["DIY and gardening products EPR",3,"21102910550",null,"DIY products","Tools and supports for working at height","Granite >90%","≥7 kg and <10 kg","€ / unit",0.09,0.09,{"$f":"_xlfn.XLOOKUP(K3308,'Codes éco-part'!$C$6:$C$923,'Codes éco-part'!$B$6:$B$923)","v":"049"},0.11]
["DIY and gardening products EPR",3,"21102910571","Modulated","DIY products","Tools and supports for working at height","Granite >90%","≥15 kg and <20 kg","€ / unit",0.16,0.16,{"$f":"_xlfn.XLOOKUP(K3313,'Codes éco-part'!$C$6:$C$923,'Codes éco-part'!$B$6:$B$923)","v":"099"},0.19]
["DIY and gardening products EPR",3,"21102910600",null,"DIY products","Tools and supports for working at height","Granite >90%","≥40 kg and <50 kg","€ / unit",0.44,0.44,{"$f":"_xlfn.XLOOKUP(K3318,'Codes éco-part'!$C$6:$C$923,'Codes éco-part'!$B$6:$B$923)","v":"281"},0.53]
["DIY and gardening products EPR",3,"21102910601","Modulated","DIY products","Tools and supports for working at height","Granite >90%","≥40 kg and <50 kg","€ / unit",0.4,0.4,{"$f":"_xlfn.XLOOKUP(K3319,'Codes éco-part'!$C$6:$C$923,'Codes éco-part'!$B$6:$B$923)","v":"105"},0.48]
["DIY and gardening products EPR",3,"21102940210",null,"DIY products","Tools and supports for working at height","Sandstone >90%","≥0.5 kg and <1 kg","€ / unit",0.01,0.01,{"$f":"_xlfn.XLOOKUP(K3324,'Codes éco-part'!$C$6:$C$923,'Codes éco-part'!$B$6:$B$923)","v":"260"},0.01]
["DIY and gardening products EPR",3,"21102940271","Modulated","DIY products","Tools and supports for working at height","Sandstone >90%","≥30 kg and <40 kg","€ / unit",0.32,0.32,{"$f":"_xlfn.XLOOKUP(K3329,'Codes éco-part'!$C$6:$C$923,'Codes éco-part'!$B$6:$B$923)","v":"447"},0.38]
["DIY and gardening products EPR",3,"21102940540",null,"DIY products","Tools and supports for working at height","Sandstone >90%","≥5 kg and <7 kg","€ / unit",0.06,0.06,{"$f":"_xlfn.XLOOKUP(K3334,'Codes éco-part'!$C$6:$C$923,'Codes éco-part'!$B$6:$B$923)","v":"096"},7.0000000000000007E-2]
["DIY and gardening products EPR",3,"21102940541","Modulated","DIY products","Tools and supports for working at height","Sandstone >90%","≥5 kg and <7 kg","€ / unit",0.05,0.05,{"$f":"_xlfn.XLOOKUP(K3335,'Codes éco-part'!$C$6:$C$923,'Codes éco-part'!$B$6:$B$923)","v":"048"},0.06]
["DIY and gardening products EPR",3,"21102940570",null,"DIY products","Tools and supports for working at height","Sandstone >90%","≥15 kg and <20 kg","€ / unit",0.18,0.18,{"$f":"_xlfn.XLOOKUP(K3340,'Codes éco-part'!$C$6:$C$923,'Codes éco-part'!$B$6:$B$923)","v":"100"},0.22]
["DIY and gardening products EPR",3,"21102940591","Modulated","DIY products","Tools and supports for working at height","Sandstone >90%","≥25 kg and <30 kg","€ / unit",0.23,0.23,{"$f":"_xlfn.XLOOKUP(K3345,'Codes éco-part'!$C$6:$C$923,'Codes éco-part'!$B$6:$B$923)","v":"323"},0.28000000000000003]
["DIY and gardening products EPR",3,"21102970200",null,"DIY products","Tools and supports for working at height","Ceramic >90%","Strictly <0.5 kg","€ / unit",0.01,0.01,{"$f":"_xlfn.XLOOKUP(K3350,'Codes éco-part'!$C$6:$C$923,'Codes éco-part'!$B$6:$B$923)","v":"260"},0.01]
["DIY and gardening products EPR",3,"21102970201","Modulated","DIY products","Tools and supports for working at height","Ceramic >90%","Strictly <0.5 kg","€ / unit",0.01,0.01,{"$f":"_xlfn.XLOOKUP(K3351,'Codes éco-part'!$C$6:$C$923,'Codes éco-part'!$B$6:$B$923)","v":"260"},0.01]
["DIY and gardening products EPR",3,"21102970270",null,"DIY products","Tools and supports for working at height","Ceramic >90%","≥30 kg and <40 kg","€ / unit",0.48,0.48,{"$f":"_xlfn.XLOOKUP(K3356,'Codes éco-part'!$C$6:$C$923,'Codes éco-part'!$B$6:$B$923)","v":"606"},0.57999999999999996]
["DIY and gardening products EPR",3,"21102970531","Modulated","DIY products","Tools and supports for working at height","Ceramic >90%","≥3 kg and <5 kg","€ / unit",0.05,0.05,{"$f":"_xlfn.XLOOKUP(K3361,'Codes éco-part'!$C$6:$C$923,'Codes éco-part'!$B$6:$B$923)","v":"048"},0.06]
["DIY and gardening products EPR",3,"21102970560",null,"DIY products","Tools and supports for working at height","Ceramic >90%","≥10 kg and <15 kg","€ / unit",0.18,0.18,{"$f":"_xlfn.XLOOKUP(K3366,'Codes éco-part'!$C$6:$C$923,'Codes éco-part'!$B$6:$B$923)","v":"100"},0.22]
["DIY and gardening products EPR",3,"21102970561","Modulated","DIY products","Tools and supports for working at height","Ceramic >90%","≥10 kg and <15 kg","€ / unit",0.16,0.16,{"$f":"_xlfn.XLOOKUP(K3367,'Codes éco-part'!$C$6:$C$923,'Codes éco-part'!$B$6:$B$923)","v":"099"},0.19]
["DIY and gardening products EPR",3,"21102970590",null,"DIY products","Tools and supports for working at height","Ceramic >90%","≥25 kg and <30 kg","€ / unit",0.36,0.36,{"$f":"_xlfn.XLOOKUP(K3372,'Codes éco-part'!$C$6:$C$923,'Codes éco-part'!$B$6:$B$923)","v":"449"},0.43]
["DIY and gardening products EPR",3,"21102980001","Modulated","DIY products","Tools and supports for working at height","Artificial stone >90%","Elements of all sizes and weights","€ / ton",7.88,7.88,{"$f":"_xlfn.XLOOKUP(K3377,'Codes éco-part'!$C$6:$C$923,'Codes éco-part'!$B$6:$B$923)","v":"354"},9.4600000000000009]
["DIY and gardening products EPR",3,"21102980220",null,"DIY products","Tools and supports for working at height","Artificial stone >90%","≥1 kg and <2 kg","€ / unit",0.01,0.01,{"$f":"_xlfn.XLOOKUP(K3382,'Codes éco-part'!$C$6:$C$923,'Codes éco-part'!$B$6:$B$923)","v":"260"},0.01]
["DIY and gardening products EPR",3,"21102980221","Modulated","DIY products","Tools and supports for working at height","Artificial stone >90%","≥1 kg and <2 kg","€ / unit",0.01,0.01,{"$f":"_xlfn.XLOOKUP(K3383,'Codes éco-part'!$C$6:$C$923,'Codes éco-part'!$B$6:$B$923)","v":"260"},0.01]
["DIY and gardening products EPR",3,"21102980530",null,"DIY products","Tools and supports for working at height","Artificial stone >90%","≥3 kg and <5 kg","€ / unit",0.04,0.04,{"$f":"_xlfn.XLOOKUP(K3388,'Codes éco-part'!$C$6:$C$923,'Codes éco-part'!$B$6:$B$923)","v":"002"},0.05]
["DIY and gardening products EPR",3,"21102980551","Modulated","DIY products","Tools and supports for working at height","Artificial stone >90%","≥7 kg and <10 kg","€ / unit",0.08,0.08,{"$f":"_xlfn.XLOOKUP(K3393,'Codes éco-part'!$C$6:$C$923,'Codes éco-part'!$B$6:$B$923)","v":"003"},0.1]
["DIY and gardening products EPR",3,"21102980580",null,"DIY products","Tools and supports for working at height","Artificial stone >90%","≥20 kg and <25 kg","€ / unit",0.22,0.22,{"$f":"_xlfn.XLOOKUP(K3398,'Codes éco-part'!$C$6:$C$923,'Codes éco-part'!$B$6:$B$923)","v":"263"},0.26]
["DIY and gardening products EPR",3,"21102980581","Modulated","DIY products","Tools and supports for working at height","Artificial stone >90%","≥20 kg and <25 kg","€ / unit",0.2,0.2,{"$f":"_xlfn.XLOOKUP(K3399,'Codes éco-part'!$C$6:$C$923,'Codes éco-part'!$B$6:$B$923)","v":"101"},0.24]
["DIY and gardening products EPR",3,"21103000000",null,"DIY products","Personal protection equipment and accessories for DIY","Unknown or unspecified by the company","Elements of all sizes and weights","€ / ton",322,322,{"$f":"_xlfn.XLOOKUP(K3404,'Codes éco-part'!$C$6:$C$923,'Codes éco-part'!$B$6:$B$923)","v":"607"},386.4]
["DIY and gardening products EPR",3,"21103000211","Modulated","DIY products","Personal protection equipment and accessories for DIY","Unknown or unspecified by the company","≥0.5 kg and <1 kg","€ / unit",0.22,0.22,{"$f":"_xlfn.XLOOKUP(K3409,'Codes éco-part'!$C$6:$C$923,'Codes éco-part'!$B$6:$B$923)","v":"263"},0.26]
["DIY and gardening products EPR",3,"21103000530",null,"DIY products","Personal protection equipment and accessories for DIY","Unknown or unspecified by the company","≥3 kg and <5 kg","€ / unit",1.29,1.29,{"$f":"_xlfn.XLOOKUP(K3414,'Codes éco-part'!$C$6:$C$923,'Codes éco-part'!$B$6:$B$923)","v":"608"},1.55]
["DIY and gardening products EPR",3,"21103000531","Modulated","DIY products","Personal protection equipment and accessories for DIY","Unknown or unspecified by the company","≥3 kg and <5 kg","€ / unit",1.1599999999999999,1.1599999999999999,{"$f":"_xlfn.XLOOKUP(K3415,'Codes éco-part'!$C$6:$C$923,'Codes éco-part'!$B$6:$B$923)","v":"504"},1.39]
["DIY and gardening products EPR",3,"21103010200",null,"DIY products","Personal protection equipment and accessories for DIY","Assembly of wood and/or wood derivatives >50% and other materials or composite wood (excl. glass)","Strictly <0.5 kg","€ / unit",0.01,0.01,{"$f":"_xlfn.XLOOKUP(K3420,'Codes éco-part'!$C$6:$C$923,'Codes éco-part'!$B$6:$B$923)","v":"260"},0.01]
["DIY and gardening products EPR",3,"21103010221","Modulated","DIY products","Personal protection equipment and accessories for DIY","Assembly of wood and/or wood derivatives >50% and other materials or composite wood (excl. glass)","≥1 kg and <2 kg","€ / unit",7.0000000000000007E-2,7.0000000000000007E-2,{"$f":"_xlfn.XLOOKUP(K3425,'Codes éco-part'!$C$6:$C$923,'Codes éco-part'!$B$6:$B$923)","v":"247"},0.08]
["DIY and gardening products EPR",3,"21103010540",null,"DIY products","Personal protection equipment and accessories for DIY","Assembly of wood and/or wood derivatives >50% and other materials or composite wood (excl. glass)","≥5 kg and <7 kg","€ / unit",0.39,0.39,{"$f":"_xlfn.XLOOKUP(K3430,'Codes éco-part'!$C$6:$C$923,'Codes éco-part'!$B$6:$B$923)","v":"253"},0.47]
["DIY and gardening products EPR",3,"21103010541","Modulated","DIY products","Personal protection equipment and accessories for DIY","Assembly of wood and/or wood derivatives >50% and other materials or composite wood (excl. glass)","≥5 kg and <7 kg","€ / unit",0.35,0.35,{"$f":"_xlfn.XLOOKUP(K3431,'Codes éco-part'!$C$6:$C$923,'Codes éco-part'!$B$6:$B$923)","v":"448"},0.42]
["DIY and gardening products EPR",3,"21103020210",null,"DIY products","Personal protection equipment and accessories for DIY","Assembly of metal >50% and other materials","≥0.5 kg and <1 kg","€ / unit",0.01,0.01,{"$f":"_xlfn.XLOOKUP(K3436,'Codes éco-part'!$C$6:$C$923,'Codes éco-part'!$B$6:$B$923)","v":"260"},0.01]
["DIY and gardening products EPR",3,"21103020521","Modulated","DIY products","Personal protection equipment and accessories for DIY","Assembly of metal >50% and other materials","≥2 kg and <3 kg","€ / unit",0.04,0.04,{"$f":"_xlfn.XLOOKUP(K3441,'Codes éco-part'!$C$6:$C$923,'Codes éco-part'!$B$6:$B$923)","v":"002"},0.05]
["DIY and gardening products EPR",3,"21103040000",null,"DIY products","Personal protection equipment and accessories for DIY","Biosourced materials or non-synthetic textiles >50%","Elements of all sizes and weights","€ / ton",322,322,{"$f":"_xlfn.XLOOKUP(K3446,'Codes éco-part'!$C$6:$C$923,'Codes éco-part'!$B$6:$B$923)","v":"607"},386.4]
["DIY and gardening products EPR",3,"21103040001","Modulated","DIY products","Personal protection equipment and accessories for DIY","Biosourced materials or non-synthetic textiles >50%","Elements of all sizes and weights","€ / ton",289.8,289.8,{"$f":"_xlfn.XLOOKUP(K3447,'Codes éco-part'!$C$6:$C$923,'Codes éco-part'!$B$6:$B$923)","v":936},347.76]
["DIY and gardening products EPR",3,"21103040220",null,"DIY products","Personal protection equipment and accessories for DIY","Biosourced materials or non-synthetic textiles >50%","≥1 kg and <2 kg","€ / unit",0.48,0.48,{"$f":"_xlfn.XLOOKUP(K3452,'Codes éco-part'!$C$6:$C$923,'Codes éco-part'!$B$6:$B$923)","v":"606"},0.57999999999999996]
["DIY and gardening products EPR",3,"21103040531","Modulated","DIY products","Personal protection equipment and accessories for DIY","Biosourced materials or non-synthetic textiles >50%","≥3 kg and <5 kg","€ / unit",1.1599999999999999,1.1599999999999999,{"$f":"_xlfn.XLOOKUP(K3457,'Codes éco-part'!$C$6:$C$923,'Codes éco-part'!$B$6:$B$923)","v":"504"},1.39]
["DIY and gardening products EPR",3,"21103050200",null,"DIY products","Personal protection equipment and accessories for DIY","Plastics or other synthetic materials >50%","Strictly <0.5 kg","€ / unit",0.08,0.08,{"$f":"_xlfn.XLOOKUP(K3462,'Codes éco-part'!$C$6:$C$923,'Codes éco-part'!$B$6:$B$923)","v":"003"},0.1]
["DIY and gardening products EPR",3,"21103050201","Modulated","DIY products","Personal protection equipment and accessories for DIY","Plastics or other synthetic materials >50%","Strictly <0.5 kg","€ / unit",7.0000000000000007E-2,7.0000000000000007E-2,{"$f":"_xlfn.XLOOKUP(K3463,'Codes éco-part'!$C$6:$C$923,'Codes éco-part'!$B$6:$B$923)","v":"247"},0.08]
["DIY and gardening products EPR",3,"21103050520",null,"DIY products","Personal protection equipment and accessories for DIY","Plastics or other synthetic materials >50%","≥2 kg and <3 kg","€ / unit",0.81,0.81,{"$f":"_xlfn.XLOOKUP(K3468,'Codes éco-part'!$C$6:$C$923,'Codes éco-part'!$B$6:$B$923)","v":"112"},0.97]
["DIY and gardening products EPR",3,"21103050541","Modulated","DIY products","Personal protection equipment and accessories for DIY","Plastics or other synthetic materials >50%","≥5 kg and <7 kg","€ / unit",2.0299999999999998,2.0299999999999998,{"$f":"_xlfn.XLOOKUP(K3473,'Codes éco-part'!$C$6:$C$923,'Codes éco-part'!$B$6:$B$923)","v":937},2.44]
["DIY and gardening products EPR",3,"21103060210",null,"DIY products","Personal protection equipment and accessories for DIY","Materials of animal origin >50%","≥0.5 kg and <1 kg","€ / unit",0.24,0.24,{"$f":"_xlfn.XLOOKUP(K3478,'Codes éco-part'!$C$6:$C$923,'Codes éco-part'!$B$6:$B$923)","v":"248"},0.28999999999999998]
["DIY and gardening products EPR",3,"21103060211","Modulated","DIY products","Personal protection equipment and accessories for DIY","Materials of animal origin >50%","≥0.5 kg and <1 kg","€ / unit",0.22,0.22,{"$f":"_xlfn.XLOOKUP(K3479,'Codes éco-part'!$C$6:$C$923,'Codes éco-part'!$B$6:$B$923)","v":"263"},0.26]
["DIY and gardening products EPR",3,"21103060530",null,"DIY products","Personal protection equipment and accessories for DIY","Materials of animal origin >50%","≥3 kg and <5 kg","€ / unit",1.29,1.29,{"$f":"_xlfn.XLOOKUP(K3484,'Codes éco-part'!$C$6:$C$923,'Codes éco-part'!$B$6:$B$923)","v":"608"},1.55]
["DIY and gardening products EPR",3,"21103190001","Modulated","DIY products","Personal protection equipment and accessories for DIY","Cardboard >50% and other materials (excl. glass)","Elements of all sizes and weights","€ / ton",289.8,289.8,{"$f":"_xlfn.XLOOKUP(K3489,'Codes éco-part'!$C$6:$C$923,'Codes éco-part'!$B$6:$B$923)","v":936},347.76]
["DIY and gardening products EPR",3,"21103190220",null,"DIY products","Personal protection equipment and accessories for DIY","Cardboard >50% and other materials (excl. glass)","≥1 kg and <2 kg","€ / unit",0.48,0.48,{"$f":"_xlfn.XLOOKUP(K3494,'Codes éco-part'!$C$6:$C$923,'Codes éco-part'!$B$6:$B$923)","v":"606"},0.57999999999999996]
["DIY and gardening products EPR",3,"21103190221","Modulated","DIY products","Personal protection equipment and accessories for DIY","Cardboard >50% and other materials (excl. glass)","≥1 kg and <2 kg","€ / unit",0.43,0.43,{"$f":"_xlfn.XLOOKUP(K3495,'Codes éco-part'!$C$6:$C$923,'Codes éco-part'!$B$6:$B$923)","v":"506"},0.52]
["DIY and gardening products EPR",3,"21103190540",null,"DIY products","Personal protection equipment and accessories for DIY","Cardboard >50% and other materials (excl. glass)","≥5 kg and <7 kg","€ / unit",2.25,2.25,{"$f":"_xlfn.XLOOKUP(K3500,'Codes éco-part'!$C$6:$C$923,'Codes éco-part'!$B$6:$B$923)","v":"118"},2.7]
["DIY and gardening products EPR",3,"21103200201","Modulated","DIY products","Personal protection equipment and accessories for DIY","Solid wood and related products certified >75%","Strictly <0.5 kg","€ / unit",0.01,0.01,{"$f":"_xlfn.XLOOKUP(K3505,'Codes éco-part'!$C$6:$C$923,'Codes éco-part'!$B$6:$B$923)","v":"260"},0.01]
["DIY and gardening products EPR",3,"21103200520",null,"DIY products","Personal protection equipment and accessories for DIY","Solid wood and related products certified >75%","≥2 kg and <3 kg","€ / unit",0.14000000000000001,0.14000000000000001,{"$f":"_xlfn.XLOOKUP(K3510,'Codes éco-part'!$C$6:$C$923,'Codes éco-part'!$B$6:$B$923)","v":"098"},0.17]
["DIY and gardening products EPR",3,"21103200521","Modulated","DIY products","Personal protection equipment and accessories for DIY","Solid wood and related products certified >75%","≥2 kg and <3 kg","€ / unit",0.13,0.13,{"$f":"_xlfn.XLOOKUP(K3511,'Codes éco-part'!$C$6:$C$923,'Codes éco-part'!$B$6:$B$923)","v":"004"},0.16]
["DIY and gardening products EPR",3,"21103210000",null,"DIY products","Personal protection equipment and accessories for DIY","Solid wood and related products >75%","Elements of all sizes and weights","€ / ton",110,110,{"$f":"_xlfn.XLOOKUP(K3516,'Codes éco-part'!$C$6:$C$923,'Codes éco-part'!$B$6:$B$923)","v":"615"},132]
["DIY and gardening products EPR",3,"21103210211","Modulated","DIY products","Personal protection equipment and accessories for DIY","Solid wood and related products >75%","≥0.5 kg and <1 kg","€ / unit",7.0000000000000007E-2,7.0000000000000007E-2,{"$f":"_xlfn.XLOOKUP(K3521,'Codes éco-part'!$C$6:$C$923,'Codes éco-part'!$B$6:$B$923)","v":"247"},0.08]
["DIY and gardening products EPR",3,"21103210530",null,"DIY products","Personal protection equipment and accessories for DIY","Solid wood and related products >75%","≥3 kg and <5 kg","€ / unit",0.44,0.44,{"$f":"_xlfn.XLOOKUP(K3526,'Codes éco-part'!$C$6:$C$923,'Codes éco-part'!$B$6:$B$923)","v":"281"},0.53]
["DIY and gardening products EPR",3,"21103210531","Modulated","DIY products","Personal protection equipment and accessories for DIY","Solid wood and related products >75%","≥3 kg and <5 kg","€ / unit",0.4,0.4,{"$f":"_xlfn.XLOOKUP(K3527,'Codes éco-part'!$C$6:$C$923,'Codes éco-part'!$B$6:$B$923)","v":"105"},0.48]
["DIY and gardening products EPR",3,"21103250200",null,"DIY products","Personal protection equipment and accessories for DIY","Chipboard or OSB >75%","Strictly <0.5 kg","€ / unit",0.02,0.02,{"$f":"_xlfn.XLOOKUP(K3532,'Codes éco-part'!$C$6:$C$923,'Codes éco-part'!$B$6:$B$923)","v":"047"},0.02]
["DIY and gardening products EPR",3,"21103250221","Modulated","DIY products","Personal protection equipment and accessories for DIY","Chipboard or OSB >75%","≥1 kg and <2 kg","€ / unit",0.14000000000000001,0.14000000000000001,{"$f":"_xlfn.XLOOKUP(K3537,'Codes éco-part'!$C$6:$C$923,'Codes éco-part'!$B$6:$B$923)","v":"098"},0.17]
["DIY and gardening products EPR",3,"21103250540",null,"DIY products","Personal protection equipment and accessories for DIY","Chipboard or OSB >75%","≥5 kg and <7 kg","€ / unit",0.78,0.78,{"$f":"_xlfn.XLOOKUP(K3542,'Codes éco-part'!$C$6:$C$923,'Codes éco-part'!$B$6:$B$923)","v":"312"},0.94]
["DIY and gardening products EPR",3,"21103280000",null,"DIY products","Personal protection equipment and accessories for DIY","Metal >90%","Elements of all sizes and weights","€ / ton",14,14,{"$f":"_xlfn.XLOOKUP(K3544,'Codes éco-part'!$C$6:$C$923,'Codes éco-part'!$B$6:$B$923)","v":"532"},16.8]
["DIY and gardening products EPR",3,"21103280201","Modulated","DIY products","Personal protection equipment and accessories for DIY","Metal >90%","Strictly <0.5 kg","€ / unit",0.01,0.01,{"$f":"_xlfn.XLOOKUP(K3547,'Codes éco-part'!$C$6:$C$923,'Codes éco-part'!$B$6:$B$923)","v":"260"},0.01]
["DIY and gardening products EPR",3,"21103280520",null,"DIY products","Personal protection equipment and accessories for DIY","Metal >90%","≥2 kg and <3 kg","€ / unit",0.04,0.04,{"$f":"_xlfn.XLOOKUP(K3552,'Codes éco-part'!$C$6:$C$923,'Codes éco-part'!$B$6:$B$923)","v":"002"},0.05]
["DIY and gardening products EPR",3,"21103280541","Modulated","DIY products","Personal protection equipment and accessories for DIY","Metal >90%","≥5 kg and <7 kg","€ / unit",0.09,0.09,{"$f":"_xlfn.XLOOKUP(K3557,'Codes éco-part'!$C$6:$C$923,'Codes éco-part'!$B$6:$B$923)","v":"049"},0.11]
["DIY and gardening products EPR",3,"21103400000",null,"DIY products","Personal protection equipment and accessories for DIY","Assembly of synthetic rubber or latex >50% and other materials","Elements of all sizes and weights","€ / ton",322,322,{"$f":"_xlfn.XLOOKUP(K3558,'Codes éco-part'!$C$6:$C$923,'Codes éco-part'!$B$6:$B$923)","v":"607"},386.4]
["DIY and gardening products EPR",3,"21103400211","Modulated","DIY products","Personal protection equipment and accessories for DIY","Assembly of synthetic rubber or latex >50% and other materials","≥0.5 kg and <1 kg","€ / unit",0.22,0.22,{"$f":"_xlfn.XLOOKUP(K3563,'Codes éco-part'!$C$6:$C$923,'Codes éco-part'!$B$6:$B$923)","v":"263"},0.26]
["DIY and gardening products EPR",3,"21103400530",null,"DIY products","Personal protection equipment and accessories for DIY","Assembly of synthetic rubber or latex >50% and other materials","≥3 kg and <5 kg","€ / unit",1.29,1.29,{"$f":"_xlfn.XLOOKUP(K3568,'Codes éco-part'!$C$6:$C$923,'Codes éco-part'!$B$6:$B$923)","v":"608"},1.55]
["DIY and gardening products EPR",3,"21103410001","Modulated","DIY products","Personal protection equipment and accessories for DIY","Plastic (single-resin) >90%","Elements of all sizes and weights","€ / ton",180,180,{"$f":"_xlfn.XLOOKUP(K3573,'Codes éco-part'!$C$6:$C$923,'Codes éco-part'!$B$6:$B$923)","v":941},216]
["DIY and gardening products EPR",3,"21103410200",null,"DIY products","Personal protection equipment and accessories for DIY","Plastic (single-resin) >90%","Strictly <0.5 kg","€ / unit",0.05,0.05,{"$f":"_xlfn.XLOOKUP(K3574,'Codes éco-part'!$C$6:$C$923,'Codes éco-part'!$B$6:$B$923)","v":"048"},0.06]
["DIY and gardening products EPR",3,"21103410221","Modulated","DIY products","Personal protection equipment and accessories for DIY","Plastic (single-resin) >90%","≥1 kg and <2 kg","€ / unit",0.27,0.27,{"$f":"_xlfn.XLOOKUP(K3579,'Codes éco-part'!$C$6:$C$923,'Codes éco-part'!$B$6:$B$923)","v":"103"},0.32]
["DIY and gardening products EPR",3,"21103410540",null,"DIY products","Personal protection equipment and accessories for DIY","Plastic (single-resin) >90%","≥5 kg and <7 kg","€ / unit",1.4,1.4,{"$f":"_xlfn.XLOOKUP(K3584,'Codes éco-part'!$C$6:$C$923,'Codes éco-part'!$B$6:$B$923)","v":"463"},1.68]
["DIY and gardening products EPR",3,"21103420201","Modulated","DIY products","Personal protection equipment and accessories for DIY","Polyethylene terephthalate (PET) >90%","Strictly <0.5 kg","€ / unit",0.05,0.05,{"$f":"_xlfn.XLOOKUP(K3589,'Codes éco-part'!$C$6:$C$923,'Codes éco-part'!$B$6:$B$923)","v":"048"},0.06]
["DIY and gardening products EPR",3,"21103420210",null,"DIY products","Personal protection equipment and accessories for DIY","Polyethylene terephthalate (PET) >90%","≥0.5 kg and <1 kg","€ / unit",0.15,0.15,{"$f":"_xlfn.XLOOKUP(K3590,'Codes éco-part'!$C$6:$C$923,'Codes éco-part'!$B$6:$B$923)","v":"050"},0.18]
["DIY and gardening products EPR",3,"21103420521","Modulated","DIY products","Personal protection equipment and accessories for DIY","Polyethylene terephthalate (PET) >90%","≥2 kg and <3 kg","€ / unit",0.45,0.45,{"$f":"_xlfn.XLOOKUP(K3595,'Codes éco-part'!$C$6:$C$923,'Codes éco-part'!$B$6:$B$923)","v":"325"},0.54]
["DIY and gardening products EPR",3,"21103450000",null,"DIY products","Personal protection equipment and accessories for DIY","PE or PP or PP/PE mix >90%","Elements of all sizes and weights","€ / ton",200,200,{"$f":"_xlfn.XLOOKUP(K3600,'Codes éco-part'!$C$6:$C$923,'Codes éco-part'!$B$6:$B$923)","v":"601"},240]
["DIY and gardening products EPR",3,"21103450211","Modulated","DIY products","Personal protection equipment and accessories for DIY","PE or PP or PP/PE mix >90%","≥0.5 kg and <1 kg","€ / unit",0.14000000000000001,0.14000000000000001,{"$f":"_xlfn.XLOOKUP(K3605,'Codes éco-part'!$C$6:$C$923,'Codes éco-part'!$B$6:$B$923)","v":"098"},0.17]
["DIY and gardening products EPR",3,"21103450220",null,"DIY products","Personal protection equipment and accessories for DIY","PE or PP or PP/PE mix >90%","≥1 kg and <2 kg","€ / unit",0.3,0.3,{"$f":"_xlfn.XLOOKUP(K3606,'Codes éco-part'!$C$6:$C$923,'Codes éco-part'!$B$6:$B$923)","v":"446"},0.36]
["DIY and gardening products EPR",3,"21103450531","Modulated","DIY products","Personal protection equipment and accessories for DIY","PE or PP or PP/PE mix >90%","≥3 kg and <5 kg","€ / unit",0.72,0.72,{"$f":"_xlfn.XLOOKUP(K3611,'Codes éco-part'!$C$6:$C$923,'Codes éco-part'!$B$6:$B$923)","v":"454"},0.86]
["DIY and gardening products EPR",3,"21103460200",null,"DIY products","Personal protection equipment and accessories for DIY","ABS >90%","Strictly <0.5 kg","€ / unit",0.05,0.05,{"$f":"_xlfn.XLOOKUP(K3616,'Codes éco-part'!$C$6:$C$923,'Codes éco-part'!$B$6:$B$923)","v":"048"},0.06]
["DIY and gardening products EPR",3,"21103460221","Modulated","DIY products","Personal protection equipment and accessories for DIY","ABS >90%","≥1 kg and <2 kg","€ / unit",0.27,0.27,{"$f":"_xlfn.XLOOKUP(K3621,'Codes éco-part'!$C$6:$C$923,'Codes éco-part'!$B$6:$B$923)","v":"103"},0.32]
["DIY and gardening products EPR",3,"21103460520",null,"DIY products","Personal protection equipment and accessories for DIY","ABS >90%","≥2 kg and <3 kg","€ / unit",0.5,0.5,{"$f":"_xlfn.XLOOKUP(K3622,'Codes éco-part'!$C$6:$C$923,'Codes éco-part'!$B$6:$B$923)","v":"053"},0.6]
["DIY and gardening products EPR",3,"21103460541","Modulated","DIY products","Personal protection equipment and accessories for DIY","ABS >90%","≥5 kg and <7 kg","€ / unit",1.26,1.26,{"$f":"_xlfn.XLOOKUP(K3627,'Codes éco-part'!$C$6:$C$923,'Codes éco-part'!$B$6:$B$923)","v":"568"},1.51]
["DIY and gardening products EPR",3,"21103470210",null,"DIY products","Personal protection equipment and accessories for DIY","Polystyrene >90%","≥0.5 kg and <1 kg","€ / unit",0.15,0.15,{"$f":"_xlfn.XLOOKUP(K3632,'Codes éco-part'!$C$6:$C$923,'Codes éco-part'!$B$6:$B$923)","v":"050"},0.18]
["DIY and gardening products EPR",3,"21103470521","Modulated","DIY products","Personal protection equipment and accessories for DIY","Polystyrene >90%","≥2 kg and <3 kg","€ / unit",0.45,0.45,{"$f":"_xlfn.XLOOKUP(K3637,'Codes éco-part'!$C$6:$C$923,'Codes éco-part'!$B$6:$B$923)","v":"325"},0.54]
["DIY and gardening products EPR",3,"21103470530",null,"DIY products","Personal protection equipment and accessories for DIY","Polystyrene >90%","≥3 kg and <5 kg","€ / unit",0.8,0.8,{"$f":"_xlfn.XLOOKUP(K3638,'Codes éco-part'!$C$6:$C$923,'Codes éco-part'!$B$6:$B$923)","v":"456"},0.96]
["DIY and gardening products EPR",3,"21103480001","Modulated","DIY products","Personal protection equipment and accessories for DIY","PVC >90%","Elements of all sizes and weights","€ / ton",180,180,{"$f":"_xlfn.XLOOKUP(K3643,'Codes éco-part'!$C$6:$C$923,'Codes éco-part'!$B$6:$B$923)","v":941},216]
["DIY and gardening products EPR",3,"21103480220",null,"DIY products","Personal protection equipment and accessories for DIY","PVC >90%","≥1 kg and <2 kg","€ / unit",0.3,0.3,{"$f":"_xlfn.XLOOKUP(K3648,'Codes éco-part'!$C$6:$C$923,'Codes éco-part'!$B$6:$B$923)","v":"446"},0.36]
["DIY and gardening products EPR",3,"21103480531","Modulated","DIY products","Personal protection equipment and accessories for DIY","PVC >90%","≥3 kg and <5 kg","€ / unit",0.72,0.72,{"$f":"_xlfn.XLOOKUP(K3653,'Codes éco-part'!$C$6:$C$923,'Codes éco-part'!$B$6:$B$923)","v":"454"},0.86]
["DIY and gardening products EPR",3,"21103480540",null,"DIY products","Personal protection equipment and accessories for DIY","PVC >90%","≥5 kg and <7 kg","€ / unit",1.4,1.4,{"$f":"_xlfn.XLOOKUP(K3654,'Codes éco-part'!$C$6:$C$923,'Codes éco-part'!$B$6:$B$923)","v":"463"},1.68]
["DIY and gardening products EPR",3,"21103490201","Modulated","DIY products","Personal protection equipment and accessories for DIY","Synthetic rubber >90%","Strictly <0.5 kg","€ / unit",0.05,0.05,{"$f":"_xlfn.XLOOKUP(K3659,'Codes éco-part'!$C$6:$C$923,'Codes éco-part'!$B$6:$B$923)","v":"048"},0.06]
["DIY and gardening products EPR",3,"21103490520",null,"DIY products","Personal protection equipment and accessories for DIY","Synthetic rubber >90%","≥2 kg and <3 kg","€ / unit",0.5,0.5,{"$f":"_xlfn.XLOOKUP(K3664,'Codes éco-part'!$C$6:$C$923,'Codes éco-part'!$B$6:$B$923)","v":"053"},0.6]
["DIY and gardening products EPR",3,"21103490541","Modulated","DIY products","Personal protection equipment and accessories for DIY","Synthetic rubber >90%","≥5 kg and <7 kg","€ / unit",1.26,1.26,{"$f":"_xlfn.XLOOKUP(K3669,'Codes éco-part'!$C$6:$C$923,'Codes éco-part'!$B$6:$B$923)","v":"568"},1.51]
["DIY and gardening products EPR",3,"21103510000",null,"DIY products","Personal protection equipment and accessories for DIY","Assembly of non-certified wood and/or wood derivatives >50% and other materials or composite wood (excl. glass)","Elements of all sizes and weights","€ / ton",110,110,{"$f":"_xlfn.XLOOKUP(K3670,'Codes éco-part'!$C$6:$C$923,'Codes éco-part'!$B$6:$B$923)","v":"615"},132]
["DIY and gardening products EPR",3,"21103510211","Modulated","DIY products","Personal protection equipment and accessories for DIY","Assembly of non-certified wood and/or wood derivatives >50% and other materials or composite wood (excl. glass)","≥0.5 kg and <1 kg","€ / unit",7.0000000000000007E-2,7.0000000000000007E-2,{"$f":"_xlfn.XLOOKUP(K3675,'Codes éco-part'!$C$6:$C$923,'Codes éco-part'!$B$6:$B$923)","v":"247"},0.08]
["DIY and gardening products EPR",3,"21103510530",null,"DIY products","Personal protection equipment and accessories for DIY","Assembly of non-certified wood and/or wood derivatives >50% and other materials or composite wood (excl. glass)","≥3 kg and <5 kg","€ / unit",0.44,0.44,{"$f":"_xlfn.XLOOKUP(K3680,'Codes éco-part'!$C$6:$C$923,'Codes éco-part'!$B$6:$B$923)","v":"281"},0.53]
["DIY and gardening products EPR",3,"21103520001","Modulated","DIY products","Personal protection equipment and accessories for DIY","Solid wood and related products certified >90%","Elements of all sizes and weights","€ / ton",49.5,49.5,{"$f":"_xlfn.XLOOKUP(K3685,'Codes éco-part'!$C$6:$C$923,'Codes éco-part'!$B$6:$B$923)","v":938},59.4]
["DIY and gardening products EPR",3,"21103520200",null,"DIY products","Personal protection equipment and accessories for DIY","Solid wood and related products certified >90%","Strictly <0.5 kg","€ / unit",0.01,0.01,{"$f":"_xlfn.XLOOKUP(K3686,'Codes éco-part'!$C$6:$C$923,'Codes éco-part'!$B$6:$B$923)","v":"260"},0.01]
["DIY and gardening products EPR",3,"21103520221","Modulated","DIY products","Personal protection equipment and accessories for DIY","Solid wood and related products certified >90%","≥1 kg and <2 kg","€ / unit",7.0000000000000007E-2,7.0000000000000007E-2,{"$f":"_xlfn.XLOOKUP(K3691,'Codes éco-part'!$C$6:$C$923,'Codes éco-part'!$B$6:$B$923)","v":"247"},0.08]
["DIY and gardening products EPR",3,"21103520540",null,"DIY products","Personal protection equipment and accessories for DIY","Solid wood and related products certified >90%","≥5 kg and <7 kg","€ / unit",0.39,0.39,{"$f":"_xlfn.XLOOKUP(K3696,'Codes éco-part'!$C$6:$C$923,'Codes éco-part'!$B$6:$B$923)","v":"253"},0.47]
["DIY and gardening products EPR",3,"21103530201","Modulated","DIY products","Personal protection equipment and accessories for DIY","Solid wood and related products >90%","Strictly <0.5 kg","€ / unit",0.02,0.02,{"$f":"_xlfn.XLOOKUP(K3701,'Codes éco-part'!$C$6:$C$923,'Codes éco-part'!$B$6:$B$923)","v":"047"},0.02]
["DIY and gardening products EPR",3,"21103530210",null,"DIY products","Personal protection equipment and accessories for DIY","Solid wood and related products >90%","≥0.5 kg and <1 kg","€ / unit",0.08,0.08,{"$f":"_xlfn.XLOOKUP(K3702,'Codes éco-part'!$C$6:$C$923,'Codes éco-part'!$B$6:$B$923)","v":"003"},0.1]
["DIY and gardening products EPR",3,"21103530521","Modulated","DIY products","Personal protection equipment and accessories for DIY","Solid wood and related products >90%","≥2 kg and <3 kg","€ / unit",0.25,0.25,{"$f":"_xlfn.XLOOKUP(K3707,'Codes éco-part'!$C$6:$C$923,'Codes éco-part'!$B$6:$B$923)","v":"095"},0.3]
["DIY and gardening products EPR",3,"21103540000",null,"DIY products","Personal protection equipment and accessories for DIY","Non-certified wood derivatives >90%","Elements of all sizes and weights","€ / ton",110,110,{"$f":"_xlfn.XLOOKUP(K3712,'Codes éco-part'!$C$6:$C$923,'Codes éco-part'!$B$6:$B$923)","v":"615"},132]
["DIY and gardening products EPR",3,"21103540211","Modulated","DIY products","Personal protection equipment and accessories for DIY","Non-certified wood derivatives >90%","≥0.5 kg and <1 kg","€ / unit",7.0000000000000007E-2,7.0000000000000007E-2,{"$f":"_xlfn.XLOOKUP(K3717,'Codes éco-part'!$C$6:$C$923,'Codes éco-part'!$B$6:$B$923)","v":"247"},0.08]
["DIY and gardening products EPR",3,"21103540220",null,"DIY products","Personal protection equipment and accessories for DIY","Non-certified wood derivatives >90%","≥1 kg and <2 kg","€ / unit",0.16,0.16,{"$f":"_xlfn.XLOOKUP(K3718,'Codes éco-part'!$C$6:$C$923,'Codes éco-part'!$B$6:$B$923)","v":"099"},0.19]
["DIY and gardening products EPR",3,"21103540531","Modulated","DIY products","Personal protection equipment and accessories for DIY","Non-certified wood derivatives >90%","≥3 kg and <5 kg","€ / unit",0.4,0.4,{"$f":"_xlfn.XLOOKUP(K3723,'Codes éco-part'!$C$6:$C$923,'Codes éco-part'!$B$6:$B$923)","v":"105"},0.48]
["DIY and gardening products EPR",3,"21103550200",null,"DIY products","Personal protection equipment and accessories for DIY","Biosourced materials or non-synthetic textiles >90%","Strictly <0.5 kg","€ / unit",0.02,0.02,{"$f":"_xlfn.XLOOKUP(K3728,'Codes éco-part'!$C$6:$C$923,'Codes éco-part'!$B$6:$B$923)","v":"047"},0.02]
["DIY and gardening products EPR",3,"21103550221","Modulated","DIY products","Personal protection equipment and accessories for DIY","Biosourced materials or non-synthetic textiles >90%","≥1 kg and <2 kg","€ / unit",0.09,0.09,{"$f":"_xlfn.XLOOKUP(K3733,'Codes éco-part'!$C$6:$C$923,'Codes éco-part'!$B$6:$B$923)","v":"049"},0.11]
["DIY and gardening products EPR",3,"21103550520",null,"DIY products","Personal protection equipment and accessories for DIY","Biosourced materials or non-synthetic textiles >90%","≥2 kg and <3 kg","€ / unit",0.16,0.16,{"$f":"_xlfn.XLOOKUP(K3734,'Codes éco-part'!$C$6:$C$923,'Codes éco-part'!$B$6:$B$923)","v":"099"},0.19]
["DIY and gardening products EPR",3,"21103550541","Modulated","DIY products","Personal protection equipment and accessories for DIY","Biosourced materials or non-synthetic textiles >90%","≥5 kg and <7 kg","€ / unit",0.41,0.41,{"$f":"_xlfn.XLOOKUP(K3739,'Codes éco-part'!$C$6:$C$923,'Codes éco-part'!$B$6:$B$923)","v":"503"},0.49]
["DIY and gardening products EPR",3,"21103590210",null,"DIY products","Personal protection equipment and accessories for DIY","Certified chipboard or OSB >90%","≥0.5 kg and <1 kg","€ / unit",0.04,0.04,{"$f":"_xlfn.XLOOKUP(K3744,'Codes éco-part'!$C$6:$C$923,'Codes éco-part'!$B$6:$B$923)","v":"002"},0.05]
["DIY and gardening products EPR",3,"21103590521","Modulated","DIY products","Personal protection equipment and accessories for DIY","Certified chipboard or OSB >90%","≥2 kg and <3 kg","€ / unit",0.13,0.13,{"$f":"_xlfn.XLOOKUP(K3749,'Codes éco-part'!$C$6:$C$923,'Codes éco-part'!$B$6:$B$923)","v":"004"},0.16]
["DIY and gardening products EPR",3,"21103590530",null,"DIY products","Personal protection equipment and accessories for DIY","Certified chipboard or OSB >90%","≥3 kg and <5 kg","€ / unit",0.22,0.22,{"$f":"_xlfn.XLOOKUP(K3750,'Codes éco-part'!$C$6:$C$923,'Codes éco-part'!$B$6:$B$923)","v":"263"},0.26]
["DIY and gardening products EPR",3,"21103600001","Modulated","DIY products","Personal protection equipment and accessories for DIY","Certified chipboard or OSB >75%","Elements of all sizes and weights","€ / ton",49.5,49.5,{"$f":"_xlfn.XLOOKUP(K3755,'Codes éco-part'!$C$6:$C$923,'Codes éco-part'!$B$6:$B$923)","v":938},59.4]
["DIY and gardening products EPR",3,"21103600220",null,"DIY products","Personal protection equipment and accessories for DIY","Certified chipboard or OSB >75%","≥1 kg and <2 kg","€ / unit",0.08,0.08,{"$f":"_xlfn.XLOOKUP(K3760,'Codes éco-part'!$C$6:$C$923,'Codes éco-part'!$B$6:$B$923)","v":"003"},0.1]
["DIY and gardening products EPR",3,"21103600531","Modulated","DIY products","Personal protection equipment and accessories for DIY","Certified chipboard or OSB >75%","≥3 kg and <5 kg","€ / unit",0.2,0.2,{"$f":"_xlfn.XLOOKUP(K3765,'Codes éco-part'!$C$6:$C$923,'Codes éco-part'!$B$6:$B$923)","v":"101"},0.24]
["DIY and gardening products EPR",3,"21103600540",null,"DIY products","Personal protection equipment and accessories for DIY","Certified chipboard or OSB >75%","≥5 kg and <7 kg","€ / unit",0.39,0.39,{"$f":"_xlfn.XLOOKUP(K3766,'Codes éco-part'!$C$6:$C$923,'Codes éco-part'!$B$6:$B$923)","v":"253"},0.47]
["DIY and gardening products EPR",3,"21103610201","Modulated","DIY products","Personal protection equipment and accessories for DIY","Chipboard or OSB >90%","Strictly <0.5 kg","€ / unit",0.02,0.02,{"$f":"_xlfn.XLOOKUP(K3771,'Codes éco-part'!$C$6:$C$923,'Codes éco-part'!$B$6:$B$923)","v":"047"},0.02]
["DIY and gardening products EPR",3,"21103610520",null,"DIY products","Personal protection equipment and accessories for DIY","Chipboard or OSB >90%","≥2 kg and <3 kg","€ / unit",0.28000000000000003,0.28000000000000003,{"$f":"_xlfn.XLOOKUP(K3776,'Codes éco-part'!$C$6:$C$923,'Codes éco-part'!$B$6:$B$923)","v":"542"},0.34]
["DIY and gardening products EPR",3,"21103610541","Modulated","DIY products","Personal protection equipment and accessories for DIY","Chipboard or OSB >90%","≥5 kg and <7 kg","€ / unit",0.7,0.7,{"$f":"_xlfn.XLOOKUP(K3781,'Codes éco-part'!$C$6:$C$923,'Codes éco-part'!$B$6:$B$923)","v":"282"},0.84]
["DIY and gardening products EPR",3,"21103620000",null,"DIY products","Personal protection equipment and accessories for DIY","Wood derivatives >90%","Elements of all sizes and weights","€ / ton",55,55,{"$f":"_xlfn.XLOOKUP(K3782,'Codes éco-part'!$C$6:$C$923,'Codes éco-part'!$B$6:$B$923)","v":"490"},66]
["DIY and gardening products EPR",3,"21103620211","Modulated","DIY products","Personal protection equipment and accessories for DIY","Wood derivatives >90%","≥0.5 kg and <1 kg","€ / unit",0.04,0.04,{"$f":"_xlfn.XLOOKUP(K3787,'Codes éco-part'!$C$6:$C$923,'Codes éco-part'!$B$6:$B$923)","v":"002"},0.05]
["DIY and gardening products EPR",3,"21103620530",null,"DIY products","Personal protection equipment and accessories for DIY","Wood derivatives >90%","≥3 kg and <5 kg","€ / unit",0.22,0.22,{"$f":"_xlfn.XLOOKUP(K3792,'Codes éco-part'!$C$6:$C$923,'Codes éco-part'!$B$6:$B$923)","v":"263"},0.26]
["DIY and gardening products EPR",3,"21103630001","Modulated","DIY products","Personal protection equipment and accessories for DIY","Natural rubber >90%","Elements of all sizes and weights","€ / ton",58.5,58.5,{"$f":"_xlfn.XLOOKUP(K3797,'Codes éco-part'!$C$6:$C$923,'Codes éco-part'!$B$6:$B$923)","v":942},70.2]
["DIY and gardening products EPR",3,"21103630210",null,"DIY products","Personal protection equipment and accessories for DIY","Natural rubber >90%","≥0.5 kg and <1 kg","€ / unit",0.05,0.05,{"$f":"_xlfn.XLOOKUP(K3800,'Codes éco-part'!$C$6:$C$923,'Codes éco-part'!$B$6:$B$923)","v":"048"},0.06]
["DIY and gardening products EPR",3,"21103630220",null,"DIY products","Personal protection equipment and accessories for DIY","Natural rubber >90%","≥1 kg and <2 kg","€ / unit",0.1,0.1,{"$f":"_xlfn.XLOOKUP(K3802,'Codes éco-part'!$C$6:$C$923,'Codes éco-part'!$B$6:$B$923)","v":"094"},0.12]
["DIY and gardening products EPR",3,"21103630531","Modulated","DIY products","Personal protection equipment and accessories for DIY","Natural rubber >90%","≥3 kg and <5 kg","€ / unit",0.23,0.23,{"$f":"_xlfn.XLOOKUP(K3807,'Codes éco-part'!$C$6:$C$923,'Codes éco-part'!$B$6:$B$923)","v":"323"},0.28000000000000003]
["DIY and gardening products EPR",3,"21103640200",null,"DIY products","Personal protection equipment and accessories for DIY","Natural rubber >50%","Strictly <0.5 kg","€ / unit",0.08,0.08,{"$f":"_xlfn.XLOOKUP(K3812,'Codes éco-part'!$C$6:$C$923,'Codes éco-part'!$B$6:$B$923)","v":"003"},0.1]
["DIY and gardening products EPR",3,"21103640201","Modulated","DIY products","Personal protection equipment and accessories for DIY","Natural rubber >50%","Strictly <0.5 kg","€ / unit",7.0000000000000007E-2,7.0000000000000007E-2,{"$f":"_xlfn.XLOOKUP(K3813,'Codes éco-part'!$C$6:$C$923,'Codes éco-part'!$B$6:$B$923)","v":"247"},0.08]
["DIY and gardening products EPR",3,"21103640520",null,"DIY products","Personal protection equipment and accessories for DIY","Natural rubber >50%","≥2 kg and <3 kg","€ / unit",0.81,0.81,{"$f":"_xlfn.XLOOKUP(K3818,'Codes éco-part'!$C$6:$C$923,'Codes éco-part'!$B$6:$B$923)","v":"112"},0.97]
["DIY and gardening products EPR",3,"21103640541","Modulated","DIY products","Personal protection equipment and accessories for DIY","Natural rubber >50%","≥5 kg and <7 kg","€ / unit",2.0299999999999998,2.0299999999999998,{"$f":"_xlfn.XLOOKUP(K3823,'Codes éco-part'!$C$6:$C$923,'Codes éco-part'!$B$6:$B$923)","v":937},2.44]
["DIY and gardening products EPR",3,"21103650210",null,"DIY products","Personal protection equipment and accessories for DIY","Synthetic fibres or materials >90%","≥0.5 kg and <1 kg","€ / unit",0.15,0.15,{"$f":"_xlfn.XLOOKUP(K3828,'Codes éco-part'!$C$6:$C$923,'Codes éco-part'!$B$6:$B$923)","v":"050"},0.18]
["DIY and gardening products EPR",3,"21103650211","Modulated","DIY products","Personal protection equipment and accessories for DIY","Synthetic fibres or materials >90%","≥0.5 kg and <1 kg","€ / unit",0.14000000000000001,0.14000000000000001,{"$f":"_xlfn.XLOOKUP(K3829,'Codes éco-part'!$C$6:$C$923,'Codes éco-part'!$B$6:$B$923)","v":"098"},0.17]
["DIY and gardening products EPR",3,"21103650530",null,"DIY products","Personal protection equipment and accessories for DIY","Synthetic fibres or materials >90%","≥3 kg and <5 kg","€ / unit",0.8,0.8,{"$f":"_xlfn.XLOOKUP(K3834,'Codes éco-part'!$C$6:$C$923,'Codes éco-part'!$B$6:$B$923)","v":"456"},0.96]
["DIY and gardening products EPR",3,"21103670001","Modulated","DIY products","Personal protection equipment and accessories for DIY","Assembly of synthetic fibres and/or materials >50% and other materials","Elements of all sizes and weights","€ / ton",289.8,289.8,{"$f":"_xlfn.XLOOKUP(K3839,'Codes éco-part'!$C$6:$C$923,'Codes éco-part'!$B$6:$B$923)","v":936},347.76]
["DIY and gardening products EPR",3,"21103670220",null,"DIY products","Personal protection equipment and accessories for DIY","Assembly of synthetic fibres and/or materials >50% and other materials","≥1 kg and <2 kg","€ / unit",0.48,0.48,{"$f":"_xlfn.XLOOKUP(K3844,'Codes éco-part'!$C$6:$C$923,'Codes éco-part'!$B$6:$B$923)","v":"606"},0.57999999999999996]
["DIY and gardening products EPR",3,"21103670221","Modulated","DIY products","Personal protection equipment and accessories for DIY","Assembly of synthetic fibres and/or materials >50% and other materials","≥1 kg and <2 kg","€ / unit",0.43,0.43,{"$f":"_xlfn.XLOOKUP(K3845,'Codes éco-part'!$C$6:$C$923,'Codes éco-part'!$B$6:$B$923)","v":"506"},0.52]
["DIY and gardening products EPR",3,"21103670540",null,"DIY products","Personal protection equipment and accessories for DIY","Assembly of synthetic fibres and/or materials >50% and other materials","≥5 kg and <7 kg","€ / unit",2.25,2.25,{"$f":"_xlfn.XLOOKUP(K3850,'Codes éco-part'!$C$6:$C$923,'Codes éco-part'!$B$6:$B$923)","v":"118"},2.7]
["DIY and gardening products EPR",3,"21103680201","Modulated","DIY products","Personal protection equipment and accessories for DIY","Glass >90%","Strictly <0.5 kg","€ / unit",0.01,0.01,{"$f":"_xlfn.XLOOKUP(K3855,'Codes éco-part'!$C$6:$C$923,'Codes éco-part'!$B$6:$B$923)","v":"260"},0.01]
["DIY and gardening products EPR",3,"21103680520",null,"DIY products","Personal protection equipment and accessories for DIY","Glass >90%","≥2 kg and <3 kg","€ / unit",0.02,0.02,{"$f":"_xlfn.XLOOKUP(K3860,'Codes éco-part'!$C$6:$C$923,'Codes éco-part'!$B$6:$B$923)","v":"047"},0.02]
["DIY and gardening products EPR",3,"21103680521","Modulated","DIY products","Personal protection equipment and accessories for DIY","Glass >90%","≥2 kg and <3 kg","€ / unit",0.02,0.02,{"$f":"_xlfn.XLOOKUP(K3861,'Codes éco-part'!$C$6:$C$923,'Codes éco-part'!$B$6:$B$923)","v":"047"},0.02]
["DIY and gardening products EPR",3,"21103700000",null,"DIY products","Personal protection equipment and accessories for DIY","Assembly of glass >50% and metal","Elements of all sizes and weights","€ / ton",322,322,{"$f":"_xlfn.XLOOKUP(K3866,'Codes éco-part'!$C$6:$C$923,'Codes éco-part'!$B$6:$B$923)","v":"607"},386.4]
["DIY and gardening products EPR",3,"21103700211","Modulated","DIY products","Personal protection equipment and accessories for DIY","Assembly of glass >50% and metal","≥0.5 kg and <1 kg","€ / unit",0.22,0.22,{"$f":"_xlfn.XLOOKUP(K3871,'Codes éco-part'!$C$6:$C$923,'Codes éco-part'!$B$6:$B$923)","v":"263"},0.26]
["DIY and gardening products EPR",3,"21103700530",null,"DIY products","Personal protection equipment and accessories for DIY","Assembly of glass >50% and metal","≥3 kg and <5 kg","€ / unit",1.29,1.29,{"$f":"_xlfn.XLOOKUP(K3876,'Codes éco-part'!$C$6:$C$923,'Codes éco-part'!$B$6:$B$923)","v":"608"},1.55]
["DIY and gardening products EPR",3,"21103700531","Modulated","DIY products","Personal protection equipment and accessories for DIY","Assembly of glass >50% and metal","≥3 kg and <5 kg","€ / unit",1.1599999999999999,1.1599999999999999,{"$f":"_xlfn.XLOOKUP(K3877,'Codes éco-part'!$C$6:$C$923,'Codes éco-part'!$B$6:$B$923)","v":"504"},1.39]
["DIY and gardening products EPR",3,"21103710200",null,"DIY products","Personal protection equipment and accessories for DIY","Assembly of glass >50% and inert substances","Strictly <0.5 kg","€ / unit",0.08,0.08,{"$f":"_xlfn.XLOOKUP(K3882,'Codes éco-part'!$C$6:$C$923,'Codes éco-part'!$B$6:$B$923)","v":"003"},0.1]
["DIY and gardening products EPR",3,"21103710221","Modulated","DIY products","Personal protection equipment and accessories for DIY","Assembly of glass >50% and inert substances","≥1 kg and <2 kg","€ / unit",0.43,0.43,{"$f":"_xlfn.XLOOKUP(K3887,'Codes éco-part'!$C$6:$C$923,'Codes éco-part'!$B$6:$B$923)","v":"506"},0.52]
["DIY and gardening products EPR",3,"21103710540",null,"DIY products","Personal protection equipment and accessories for DIY","Assembly of glass >50% and inert substances","≥5 kg and <7 kg","€ / unit",2.25,2.25,{"$f":"_xlfn.XLOOKUP(K3892,'Codes éco-part'!$C$6:$C$923,'Codes éco-part'!$B$6:$B$923)","v":"118"},2.7]
["DIY and gardening products EPR",3,"21103710541","Modulated","DIY products","Personal protection equipment and accessories for DIY","Assembly of glass >50% and inert substances","≥5 kg and <7 kg","€ / unit",2.0299999999999998,2.0299999999999998,{"$f":"_xlfn.XLOOKUP(K3893,'Codes éco-part'!$C$6:$C$923,'Codes éco-part'!$B$6:$B$923)","v":937},2.44]
["DIY and gardening products EPR",3,"21103720210",null,"DIY products","Personal protection equipment and accessories for DIY","Assembly of glass >50% and wood or wood derivatives","≥0.5 kg and <1 kg","€ / unit",0.24,0.24,{"$f":"_xlfn.XLOOKUP(K3898,'Codes éco-part'!$C$6:$C$923,'Codes éco-part'!$B$6:$B$923)","v":"248"},0.28999999999999998]
["DIY and gardening products EPR",3,"21103720521","Modulated","DIY products","Personal protection equipment and accessories for DIY","Assembly of glass >50% and wood or wood derivatives","≥2 kg and <3 kg","€ / unit",0.73,0.73,{"$f":"_xlfn.XLOOKUP(K3903,'Codes éco-part'!$C$6:$C$923,'Codes éco-part'!$B$6:$B$923)","v":"255"},0.88]
["DIY and gardening products EPR",3,"21103730000",null,"DIY products","Personal protection equipment and accessories for DIY","Assembly of glass >50% and plastic","Elements of all sizes and weights","€ / ton",322,322,{"$f":"_xlfn.XLOOKUP(K3908,'Codes éco-part'!$C$6:$C$923,'Codes éco-part'!$B$6:$B$923)","v":"607"},386.4]
["DIY and gardening products EPR",3,"21103730001","Modulated","DIY products","Personal protection equipment and accessories for DIY","Assembly of glass >50% and plastic","Elements of all sizes and weights","€ / ton",289.8,289.8,{"$f":"_xlfn.XLOOKUP(K3909,'Codes éco-part'!$C$6:$C$923,'Codes éco-part'!$B$6:$B$923)","v":936},347.76]
["DIY and gardening products EPR",3,"21103730220",null,"DIY products","Personal protection equipment and accessories for DIY","Assembly of glass >50% and plastic","≥1 kg and <2 kg","€ / unit",0.48,0.48,{"$f":"_xlfn.XLOOKUP(K3914,'Codes éco-part'!$C$6:$C$923,'Codes éco-part'!$B$6:$B$923)","v":"606"},0.57999999999999996]
["DIY and gardening products EPR",3,"21103730531","Modulated","DIY products","Personal protection equipment and accessories for DIY","Assembly of glass >50% and plastic","≥3 kg and <5 kg","€ / unit",1.1599999999999999,1.1599999999999999,{"$f":"_xlfn.XLOOKUP(K3919,'Codes éco-part'!$C$6:$C$923,'Codes éco-part'!$B$6:$B$923)","v":"504"},1.39]
["DIY and gardening products EPR",3,"21103810200",null,"DIY products","Personal protection equipment and accessories for DIY","Assembly of wood, wood derivatives, and metal with a combination representing >90%","Strictly <0.5 kg","€ / unit",0.01,0.01,{"$f":"_xlfn.XLOOKUP(K3924,'Codes éco-part'!$C$6:$C$923,'Codes éco-part'!$B$6:$B$923)","v":"260"},0.01]
["DIY and gardening products EPR",3,"21103810201","Modulated","DIY products","Personal protection equipment and accessories for DIY","Assembly of wood, wood derivatives, and metal with a combination representing >90%","Strictly <0.5 kg","€ / unit",0.01,0.01,{"$f":"_xlfn.XLOOKUP(K3925,'Codes éco-part'!$C$6:$C$923,'Codes éco-part'!$B$6:$B$923)","v":"260"},0.01]
["DIY and gardening products EPR",3,"21103810520",null,"DIY products","Personal protection equipment and accessories for DIY","Assembly of wood, wood derivatives, and metal with a combination representing >90%","≥2 kg and <3 kg","€ / unit",0.14000000000000001,0.14000000000000001,{"$f":"_xlfn.XLOOKUP(K3930,'Codes éco-part'!$C$6:$C$923,'Codes éco-part'!$B$6:$B$923)","v":"098"},0.17]
["DIY and gardening products EPR",3,"21103810541","Modulated","DIY products","Personal protection equipment and accessories for DIY","Assembly of wood, wood derivatives, and metal with a combination representing >90%","≥5 kg and <7 kg","€ / unit",0.35,0.35,{"$f":"_xlfn.XLOOKUP(K3935,'Codes éco-part'!$C$6:$C$923,'Codes éco-part'!$B$6:$B$923)","v":"448"},0.42]
["DIY and gardening products EPR",3,"21103820210",null,"DIY products","Personal protection equipment and accessories for DIY","Assembly of 3 or more materials, with no material representing >50%","≥0.5 kg and <1 kg","€ / unit",0.24,0.24,{"$f":"_xlfn.XLOOKUP(K3940,'Codes éco-part'!$C$6:$C$923,'Codes éco-part'!$B$6:$B$923)","v":"248"},0.28999999999999998]
["DIY and gardening products EPR",3,"21103820211","Modulated","DIY products","Personal protection equipment and accessories for DIY","Assembly of 3 or more materials, with no material representing >50%","≥0.5 kg and <1 kg","€ / unit",0.22,0.22,{"$f":"_xlfn.XLOOKUP(K3941,'Codes éco-part'!$C$6:$C$923,'Codes éco-part'!$B$6:$B$923)","v":"263"},0.26]
["DIY and gardening products EPR",3,"21103820530",null,"DIY products","Personal protection equipment and accessories for DIY","Assembly of 3 or more materials, with no material representing >50%","≥3 kg and <5 kg","€ / unit",1.29,1.29,{"$f":"_xlfn.XLOOKUP(K3946,'Codes éco-part'!$C$6:$C$923,'Codes éco-part'!$B$6:$B$923)","v":"608"},1.55]
["DIY and gardening products EPR",3,"21104000001","Modulated","DIY products","Tarpaulins, covers, nets, and films for DIY","Unknown or unspecified by the company","Elements of all sizes and weights","€ / ton",289.8,289.8,{"$f":"_xlfn.XLOOKUP(K3951,'Codes éco-part'!$C$6:$C$923,'Codes éco-part'!$B$6:$B$923)","v":936},347.76]
["DIY and gardening products EPR",3,"21104000220",null,"DIY products","Tarpaulins, covers, nets, and films for DIY","Unknown or unspecified by the company","≥1 kg and <2 kg","€ / unit",0.48,0.48,{"$f":"_xlfn.XLOOKUP(K3956,'Codes éco-part'!$C$6:$C$923,'Codes éco-part'!$B$6:$B$923)","v":"606"},0.57999999999999996]
["DIY and gardening products EPR",3,"21104000221","Modulated","DIY products","Tarpaulins, covers, nets, and films for DIY","Unknown or unspecified by the company","≥1 kg and <2 kg","€ / unit",0.43,0.43,{"$f":"_xlfn.XLOOKUP(K3957,'Codes éco-part'!$C$6:$C$923,'Codes éco-part'!$B$6:$B$923)","v":"506"},0.52]
["DIY and gardening products EPR",3,"21104000540",null,"DIY products","Tarpaulins, covers, nets, and films for DIY","Unknown or unspecified by the company","≥5 kg and <7 kg","€ / unit",2.25,2.25,{"$f":"_xlfn.XLOOKUP(K3962,'Codes éco-part'!$C$6:$C$923,'Codes éco-part'!$B$6:$B$923)","v":"118"},2.7]
["DIY and gardening products EPR",3,"21104040201","Modulated","DIY products","Tarpaulins, covers, nets, and films for DIY","Biosourced materials or non-synthetic textiles >50%","Strictly <0.5 kg","€ / unit",7.0000000000000007E-2,7.0000000000000007E-2,{"$f":"_xlfn.XLOOKUP(K3967,'Codes éco-part'!$C$6:$C$923,'Codes éco-part'!$B$6:$B$923)","v":"247"},0.08]
["DIY and gardening products EPR",3,"21104040520",null,"DIY products","Tarpaulins, covers, nets, and films for DIY","Biosourced materials or non-synthetic textiles >50%","≥2 kg and <3 kg","€ / unit",0.81,0.81,{"$f":"_xlfn.XLOOKUP(K3972,'Codes éco-part'!$C$6:$C$923,'Codes éco-part'!$B$6:$B$923)","v":"112"},0.97]
["DIY and gardening products EPR",3,"21104040521","Modulated","DIY products","Tarpaulins, covers, nets, and films for DIY","Biosourced materials or non-synthetic textiles >50%","≥2 kg and <3 kg","€ / unit",0.73,0.73,{"$f":"_xlfn.XLOOKUP(K3973,'Codes éco-part'!$C$6:$C$923,'Codes éco-part'!$B$6:$B$923)","v":"255"},0.88]
["DIY and gardening products EPR",3,"21104050000",null,"DIY products","Tarpaulins, covers, nets, and films for DIY","Plastics or other synthetic materials >50%","Elements of all sizes and weights","€ / ton",322,322,{"$f":"_xlfn.XLOOKUP(K3978,'Codes éco-part'!$C$6:$C$923,'Codes éco-part'!$B$6:$B$923)","v":"607"},386.4]
["DIY and gardening products EPR",3,"21104050211","Modulated","DIY products","Tarpaulins, covers, nets, and films for DIY","Plastics or other synthetic materials >50%","≥0.5 kg and <1 kg","€ / unit",0.22,0.22,{"$f":"_xlfn.XLOOKUP(K3983,'Codes éco-part'!$C$6:$C$923,'Codes éco-part'!$B$6:$B$923)","v":"263"},0.26]
["DIY and gardening products EPR",3,"21104050530",null,"DIY products","Tarpaulins, covers, nets, and films for DIY","Plastics or other synthetic materials >50%","≥3 kg and <5 kg","€ / unit",1.29,1.29,{"$f":"_xlfn.XLOOKUP(K3988,'Codes éco-part'!$C$6:$C$923,'Codes éco-part'!$B$6:$B$923)","v":"608"},1.55]
["DIY and gardening products EPR",3,"21104050531","Modulated","DIY products","Tarpaulins, covers, nets, and films for DIY","Plastics or other synthetic materials >50%","≥3 kg and <5 kg","€ / unit",1.1599999999999999,1.1599999999999999,{"$f":"_xlfn.XLOOKUP(K3989,'Codes éco-part'!$C$6:$C$923,'Codes éco-part'!$B$6:$B$923)","v":"504"},1.39]
["DIY and gardening products EPR",3,"21104060200",null,"DIY products","Tarpaulins, covers, nets, and films for DIY","Materials of animal origin >50%","Strictly <0.5 kg","€ / unit",0.08,0.08,{"$f":"_xlfn.XLOOKUP(K3994,'Codes éco-part'!$C$6:$C$923,'Codes éco-part'!$B$6:$B$923)","v":"003"},0.1]
["DIY and gardening products EPR",3,"21104060221","Modulated","DIY products","Tarpaulins, covers, nets, and films for DIY","Materials of animal origin >50%","≥1 kg and <2 kg","€ / unit",0.43,0.43,{"$f":"_xlfn.XLOOKUP(K3999,'Codes éco-part'!$C$6:$C$923,'Codes éco-part'!$B$6:$B$923)","v":"506"},0.52]
["DIY and gardening products EPR",3,"21104060540",null,"DIY products","Tarpaulins, covers, nets, and films for DIY","Materials of animal origin >50%","≥5 kg and <7 kg","€ / unit",2.25,2.25,{"$f":"_xlfn.XLOOKUP(K4004,'Codes éco-part'!$C$6:$C$923,'Codes éco-part'!$B$6:$B$923)","v":"118"},2.7]
["DIY and gardening products EPR",3,"21104060541","Modulated","DIY products","Tarpaulins, covers, nets, and films for DIY","Materials of animal origin >50%","≥5 kg and <7 kg","€ / unit",2.0299999999999998,2.0299999999999998,{"$f":"_xlfn.XLOOKUP(K4005,'Codes éco-part'!$C$6:$C$923,'Codes éco-part'!$B$6:$B$923)","v":937},2.44]
["DIY and gardening products EPR",3,"21104190210",null,"DIY products","Tarpaulins, covers, nets, and films for DIY","Cardboard >50% and other materials (excl. glass)","≥0.5 kg and <1 kg","€ / unit",0.24,0.24,{"$f":"_xlfn.XLOOKUP(K4010,'Codes éco-part'!$C$6:$C$923,'Codes éco-part'!$B$6:$B$923)","v":"248"},0.28999999999999998]
["DIY and gardening products EPR",3,"21104190521","Modulated","DIY products","Tarpaulins, covers, nets, and films for DIY","Cardboard >50% and other materials (excl. glass)","≥2 kg and <3 kg","€ / unit",0.73,0.73,{"$f":"_xlfn.XLOOKUP(K4015,'Codes éco-part'!$C$6:$C$923,'Codes éco-part'!$B$6:$B$923)","v":"255"},0.88]
["DIY and gardening products EPR",3,"21104400000",null,"DIY products","Tarpaulins, covers, nets, and films for DIY","Assembly of synthetic rubber or latex >50% and other materials","Elements of all sizes and weights","€ / ton",322,322,{"$f":"_xlfn.XLOOKUP(K4020,'Codes éco-part'!$C$6:$C$923,'Codes éco-part'!$B$6:$B$923)","v":"607"},386.4]
["DIY and gardening products EPR",3,"21104400001","Modulated","DIY products","Tarpaulins, covers, nets, and films for DIY","Assembly of synthetic rubber or latex >50% and other materials","Elements of all sizes and weights","€ / ton",289.8,289.8,{"$f":"_xlfn.XLOOKUP(K4021,'Codes éco-part'!$C$6:$C$923,'Codes éco-part'!$B$6:$B$923)","v":936},347.76]
["DIY and gardening products EPR",3,"21104400220",null,"DIY products","Tarpaulins, covers, nets, and films for DIY","Assembly of synthetic rubber or latex >50% and other materials","≥1 kg and <2 kg","€ / unit",0.48,0.48,{"$f":"_xlfn.XLOOKUP(K4026,'Codes éco-part'!$C$6:$C$923,'Codes éco-part'!$B$6:$B$923)","v":"606"},0.57999999999999996]
["DIY and gardening products EPR",3,"21104400531","Modulated","DIY products","Tarpaulins, covers, nets, and films for DIY","Assembly of synthetic rubber or latex >50% and other materials","≥3 kg and <5 kg","€ / unit",1.1599999999999999,1.1599999999999999,{"$f":"_xlfn.XLOOKUP(K4031,'Codes éco-part'!$C$6:$C$923,'Codes éco-part'!$B$6:$B$923)","v":"504"},1.39]
["DIY and gardening products EPR",3,"21104410200",null,"DIY products","Tarpaulins, covers, nets, and films for DIY","Plastic (single-resin) >90%","Strictly <0.5 kg","€ / unit",0.05,0.05,{"$f":"_xlfn.XLOOKUP(K4036,'Codes éco-part'!$C$6:$C$923,'Codes éco-part'!$B$6:$B$923)","v":"048"},0.06]
["DIY and gardening products EPR",3,"21104410201","Modulated","DIY products","Tarpaulins, covers, nets, and films for DIY","Plastic (single-resin) >90%","Strictly <0.5 kg","€ / unit",0.05,0.05,{"$f":"_xlfn.XLOOKUP(K4037,'Codes éco-part'!$C$6:$C$923,'Codes éco-part'!$B$6:$B$923)","v":"048"},0.06]
["DIY and gardening products EPR",3,"21104410520",null,"DIY products","Tarpaulins, covers, nets, and films for DIY","Plastic (single-resin) >90%","≥2 kg and <3 kg","€ / unit",0.5,0.5,{"$f":"_xlfn.XLOOKUP(K4042,'Codes éco-part'!$C$6:$C$923,'Codes éco-part'!$B$6:$B$923)","v":"053"},0.6]
["DIY and gardening products EPR",3,"21104410541","Modulated","DIY products","Tarpaulins, covers, nets, and films for DIY","Plastic (single-resin) >90%","≥5 kg and <7 kg","€ / unit",1.26,1.26,{"$f":"_xlfn.XLOOKUP(K4047,'Codes éco-part'!$C$6:$C$923,'Codes éco-part'!$B$6:$B$923)","v":"568"},1.51]
["DIY and gardening products EPR",3,"21104420210",null,"DIY products","Tarpaulins, covers, nets, and films for DIY","Polyethylene terephthalate (PET) >90%","≥0.5 kg and <1 kg","€ / unit",0.15,0.15,{"$f":"_xlfn.XLOOKUP(K4052,'Codes éco-part'!$C$6:$C$923,'Codes éco-part'!$B$6:$B$923)","v":"050"},0.18]
["DIY and gardening products EPR",3,"21104420211","Modulated","DIY products","Tarpaulins, covers, nets, and films for DIY","Polyethylene terephthalate (PET) >90%","≥0.5 kg and <1 kg","€ / unit",0.14000000000000001,0.14000000000000001,{"$f":"_xlfn.XLOOKUP(K4053,'Codes éco-part'!$C$6:$C$923,'Codes éco-part'!$B$6:$B$923)","v":"098"},0.17]
["DIY and gardening products EPR",3,"21104420521","Modulated","DIY products","Tarpaulins, covers, nets, and films for DIY","Polyethylene terephthalate (PET) >90%","≥2 kg and <3 kg","€ / unit",0.45,0.45,{"$f":"_xlfn.XLOOKUP(K4057,'Codes éco-part'!$C$6:$C$923,'Codes éco-part'!$B$6:$B$923)","v":"325"},0.54]
["DIY and gardening products EPR",3,"21104450000",null,"DIY products","Tarpaulins, covers, nets, and films for DIY","PE or PP or PP/PE mix >90%","Elements of all sizes and weights","€ / ton",200,200,{"$f":"_xlfn.XLOOKUP(K4062,'Codes éco-part'!$C$6:$C$923,'Codes éco-part'!$B$6:$B$923)","v":"601"},240]
["DIY and gardening products EPR",3,"21104450211","Modulated","DIY products","Tarpaulins, covers, nets, and films for DIY","PE or PP or PP/PE mix >90%","≥0.5 kg and <1 kg","€ / unit",0.14000000000000001,0.14000000000000001,{"$f":"_xlfn.XLOOKUP(K4067,'Codes éco-part'!$C$6:$C$923,'Codes éco-part'!$B$6:$B$923)","v":"098"},0.17]
["DIY and gardening products EPR",3,"21104450220",null,"DIY products","Tarpaulins, covers, nets, and films for DIY","PE or PP or PP/PE mix >90%","≥1 kg and <2 kg","€ / unit",0.3,0.3,{"$f":"_xlfn.XLOOKUP(K4068,'Codes éco-part'!$C$6:$C$923,'Codes éco-part'!$B$6:$B$923)","v":"446"},0.36]
["DIY and gardening products EPR",3,"21104450531","Modulated","DIY products","Tarpaulins, covers, nets, and films for DIY","PE or PP or PP/PE mix >90%","≥3 kg and <5 kg","€ / unit",0.72,0.72,{"$f":"_xlfn.XLOOKUP(K4073,'Codes éco-part'!$C$6:$C$923,'Codes éco-part'!$B$6:$B$923)","v":"454"},0.86]
["DIY and gardening products EPR",3,"21104460200",null,"DIY products","Tarpaulins, covers, nets, and films for DIY","ABS >90%","Strictly <0.5 kg","€ / unit",0.05,0.05,{"$f":"_xlfn.XLOOKUP(K4078,'Codes éco-part'!$C$6:$C$923,'Codes éco-part'!$B$6:$B$923)","v":"048"},0.06]
["DIY and gardening products EPR",3,"21104460221","Modulated","DIY products","Tarpaulins, covers, nets, and films for DIY","ABS >90%","≥1 kg and <2 kg","€ / unit",0.27,0.27,{"$f":"_xlfn.XLOOKUP(K4083,'Codes éco-part'!$C$6:$C$923,'Codes éco-part'!$B$6:$B$923)","v":"103"},0.32]
["DIY and gardening products EPR",3,"21104460520",null,"DIY products","Tarpaulins, covers, nets, and films for DIY","ABS >90%","≥2 kg and <3 kg","€ / unit",0.5,0.5,{"$f":"_xlfn.XLOOKUP(K4084,'Codes éco-part'!$C$6:$C$923,'Codes éco-part'!$B$6:$B$923)","v":"053"},0.6]
["DIY and gardening products EPR",3,"21104460541","Modulated","DIY products","Tarpaulins, covers, nets, and films for DIY","ABS >90%","≥5 kg and <7 kg","€ / unit",1.26,1.26,{"$f":"_xlfn.XLOOKUP(K4089,'Codes éco-part'!$C$6:$C$923,'Codes éco-part'!$B$6:$B$923)","v":"568"},1.51]
["DIY and gardening products EPR",3,"21104470210",null,"DIY products","Tarpaulins, covers, nets, and films for DIY","Polystyrene >90%","≥0.5 kg and <1 kg","€ / unit",0.15,0.15,{"$f":"_xlfn.XLOOKUP(K4094,'Codes éco-part'!$C$6:$C$923,'Codes éco-part'!$B$6:$B$923)","v":"050"},0.18]
["DIY and gardening products EPR",3,"21104470521","Modulated","DIY products","Tarpaulins, covers, nets, and films for DIY","Polystyrene >90%","≥2 kg and <3 kg","€ / unit",0.45,0.45,{"$f":"_xlfn.XLOOKUP(K4099,'Codes éco-part'!$C$6:$C$923,'Codes éco-part'!$B$6:$B$923)","v":"325"},0.54]
["DIY and gardening products EPR",3,"21104470530",null,"DIY products","Tarpaulins, covers, nets, and films for DIY","Polystyrene >90%","≥3 kg and <5 kg","€ / unit",0.8,0.8,{"$f":"_xlfn.XLOOKUP(K4100,'Codes éco-part'!$C$6:$C$923,'Codes éco-part'!$B$6:$B$923)","v":"456"},0.96]
["DIY and gardening products EPR",3,"21104480001","Modulated","DIY products","Tarpaulins, covers, nets, and films for DIY","PVC >90%","Elements of all sizes and weights","€ / ton",180,180,{"$f":"_xlfn.XLOOKUP(K4105,'Codes éco-part'!$C$6:$C$923,'Codes éco-part'!$B$6:$B$923)","v":941},216]
["DIY and gardening products EPR",3,"21104480220",null,"DIY products","Tarpaulins, covers, nets, and films for DIY","PVC >90%","≥1 kg and <2 kg","€ / unit",0.3,0.3,{"$f":"_xlfn.XLOOKUP(K4110,'Codes éco-part'!$C$6:$C$923,'Codes éco-part'!$B$6:$B$923)","v":"446"},0.36]
["DIY and gardening products EPR",3,"21104480531","Modulated","DIY products","Tarpaulins, covers, nets, and films for DIY","PVC >90%","≥3 kg and <5 kg","€ / unit",0.72,0.72,{"$f":"_xlfn.XLOOKUP(K4115,'Codes éco-part'!$C$6:$C$923,'Codes éco-part'!$B$6:$B$923)","v":"454"},0.86]
["DIY and gardening products EPR",3,"21104480540",null,"DIY products","Tarpaulins, covers, nets, and films for DIY","PVC >90%","≥5 kg and <7 kg","€ / unit",1.4,1.4,{"$f":"_xlfn.XLOOKUP(K4116,'Codes éco-part'!$C$6:$C$923,'Codes éco-part'!$B$6:$B$923)","v":"463"},1.68]
["DIY and gardening products EPR",3,"21104490201","Modulated","DIY products","Tarpaulins, covers, nets, and films for DIY","Synthetic rubber >90%","Strictly <0.5 kg","€ / unit",0.05,0.05,{"$f":"_xlfn.XLOOKUP(K4121,'Codes éco-part'!$C$6:$C$923,'Codes éco-part'!$B$6:$B$923)","v":"048"},0.06]
["DIY and gardening products EPR",3,"21104490520",null,"DIY products","Tarpaulins, covers, nets, and films for DIY","Synthetic rubber >90%","≥2 kg and <3 kg","€ / unit",0.5,0.5,{"$f":"_xlfn.XLOOKUP(K4126,'Codes éco-part'!$C$6:$C$923,'Codes éco-part'!$B$6:$B$923)","v":"053"},0.6]
["DIY and gardening products EPR",3,"21104490541","Modulated","DIY products","Tarpaulins, covers, nets, and films for DIY","Synthetic rubber >90%","≥5 kg and <7 kg","€ / unit",1.26,1.26,{"$f":"_xlfn.XLOOKUP(K4131,'Codes éco-part'!$C$6:$C$923,'Codes éco-part'!$B$6:$B$923)","v":"568"},1.51]
["DIY and gardening products EPR",3,"21104550000",null,"DIY products","Tarpaulins, covers, nets, and films for DIY","Biosourced materials or non-synthetic textiles >90%","Elements of all sizes and weights","€ / ton",65,65,{"$f":"_xlfn.XLOOKUP(K4132,'Codes éco-part'!$C$6:$C$923,'Codes éco-part'!$B$6:$B$923)","v":"614"},78]
["DIY and gardening products EPR",3,"21104550211","Modulated","DIY products","Tarpaulins, covers, nets, and films for DIY","Biosourced materials or non-synthetic textiles >90%","≥0.5 kg and <1 kg","€ / unit",0.05,0.05,{"$f":"_xlfn.XLOOKUP(K4137,'Codes éco-part'!$C$6:$C$923,'Codes éco-part'!$B$6:$B$923)","v":"048"},0.06]
["DIY and gardening products EPR",3,"21104550530",null,"DIY products","Tarpaulins, covers, nets, and films for DIY","Biosourced materials or non-synthetic textiles >90%","≥3 kg and <5 kg","€ / unit",0.26,0.26,{"$f":"_xlfn.XLOOKUP(K4142,'Codes éco-part'!$C$6:$C$923,'Codes éco-part'!$B$6:$B$923)","v":"445"},0.31]
["DIY and gardening products EPR",3,"21104630001","Modulated","DIY products","Tarpaulins, covers, nets, and films for DIY","Natural rubber >90%","Elements of all sizes and weights","€ / ton",58.5,58.5,{"$f":"_xlfn.XLOOKUP(K4147,'Codes éco-part'!$C$6:$C$923,'Codes éco-part'!$B$6:$B$923)","v":942},70.2]
["DIY and gardening products EPR",3,"21104630200",null,"DIY products","Tarpaulins, covers, nets, and films for DIY","Natural rubber >90%","Strictly <0.5 kg","€ / unit",0.02,0.02,{"$f":"_xlfn.XLOOKUP(K4148,'Codes éco-part'!$C$6:$C$923,'Codes éco-part'!$B$6:$B$923)","v":"047"},0.02]
["DIY and gardening products EPR",3,"21104630221","Modulated","DIY products","Tarpaulins, covers, nets, and films for DIY","Natural rubber >90%","≥1 kg and <2 kg","€ / unit",0.09,0.09,{"$f":"_xlfn.XLOOKUP(K4153,'Codes éco-part'!$C$6:$C$923,'Codes éco-part'!$B$6:$B$923)","v":"049"},0.11]
["DIY and gardening products EPR",3,"21104630540",null,"DIY products","Tarpaulins, covers, nets, and films for DIY","Natural rubber >90%","≥5 kg and <7 kg","€ / unit",0.46,0.46,{"$f":"_xlfn.XLOOKUP(K4158,'Codes éco-part'!$C$6:$C$923,'Codes éco-part'!$B$6:$B$923)","v":"106"},0.55000000000000004]
["DIY and gardening products EPR",3,"21104640201","Modulated","DIY products","Tarpaulins, covers, nets, and films for DIY","Natural rubber >50%","Strictly <0.5 kg","€ / unit",7.0000000000000007E-2,7.0000000000000007E-2,{"$f":"_xlfn.XLOOKUP(K4163,'Codes éco-part'!$C$6:$C$923,'Codes éco-part'!$B$6:$B$923)","v":"247"},0.08]
["DIY and gardening products EPR",3,"21104640210",null,"DIY products","Tarpaulins, covers, nets, and films for DIY","Natural rubber >50%","≥0.5 kg and <1 kg","€ / unit",0.24,0.24,{"$f":"_xlfn.XLOOKUP(K4164,'Codes éco-part'!$C$6:$C$923,'Codes éco-part'!$B$6:$B$923)","v":"248"},0.28999999999999998]
["DIY and gardening products EPR",3,"21104640521","Modulated","DIY products","Tarpaulins, covers, nets, and films for DIY","Natural rubber >50%","≥2 kg and <3 kg","€ / unit",0.73,0.73,{"$f":"_xlfn.XLOOKUP(K4169,'Codes éco-part'!$C$6:$C$923,'Codes éco-part'!$B$6:$B$923)","v":"255"},0.88]
["DIY and gardening products EPR",3,"21104650000",null,"DIY products","Tarpaulins, covers, nets, and films for DIY","Synthetic fibres or materials >90%","Elements of all sizes and weights","€ / ton",200,200,{"$f":"_xlfn.XLOOKUP(K4174,'Codes éco-part'!$C$6:$C$923,'Codes éco-part'!$B$6:$B$923)","v":"601"},240]
["DIY and gardening products EPR",3,"21104650211","Modulated","DIY products","Tarpaulins, covers, nets, and films for DIY","Synthetic fibres or materials >90%","≥0.5 kg and <1 kg","€ / unit",0.14000000000000001,0.14000000000000001,{"$f":"_xlfn.XLOOKUP(K4179,'Codes éco-part'!$C$6:$C$923,'Codes éco-part'!$B$6:$B$923)","v":"098"},0.17]
["DIY and gardening products EPR",3,"21104650220",null,"DIY products","Tarpaulins, covers, nets, and films for DIY","Synthetic fibres or materials >90%","≥1 kg and <2 kg","€ / unit",0.3,0.3,{"$f":"_xlfn.XLOOKUP(K4180,'Codes éco-part'!$C$6:$C$923,'Codes éco-part'!$B$6:$B$923)","v":"446"},0.36]
["DIY and gardening products EPR",3,"21104650531","Modulated","DIY products","Tarpaulins, covers, nets, and films for DIY","Synthetic fibres or materials >90%","≥3 kg and <5 kg","€ / unit",0.72,0.72,{"$f":"_xlfn.XLOOKUP(K4185,'Codes éco-part'!$C$6:$C$923,'Codes éco-part'!$B$6:$B$923)","v":"454"},0.86]
["DIY and gardening products EPR",3,"21104670200",null,"DIY products","Tarpaulins, covers, nets, and films for DIY","Assembly of synthetic fibres and/or materials >50% and other materials","Strictly <0.5 kg","€ / unit",0.08,0.08,{"$f":"_xlfn.XLOOKUP(K4190,'Codes éco-part'!$C$6:$C$923,'Codes éco-part'!$B$6:$B$923)","v":"003"},0.1]
["DIY and gardening products EPR",3,"21104670221","Modulated","DIY products","Tarpaulins, covers, nets, and films for DIY","Assembly of synthetic fibres and/or materials >50% and other materials","≥1 kg and <2 kg","€ / unit",0.43,0.43,{"$f":"_xlfn.XLOOKUP(K4195,'Codes éco-part'!$C$6:$C$923,'Codes éco-part'!$B$6:$B$923)","v":"506"},0.52]
["DIY and gardening products EPR",3,"21104670520",null,"DIY products","Tarpaulins, covers, nets, and films for DIY","Assembly of synthetic fibres and/or materials >50% and other materials","≥2 kg and <3 kg","€ / unit",0.81,0.81,{"$f":"_xlfn.XLOOKUP(K4196,'Codes éco-part'!$C$6:$C$923,'Codes éco-part'!$B$6:$B$923)","v":"112"},0.97]
["DIY and gardening products EPR",3,"21104670541","Modulated","DIY products","Tarpaulins, covers, nets, and films for DIY","Assembly of synthetic fibres and/or materials >50% and other materials","≥5 kg and <7 kg","€ / unit",2.0299999999999998,2.0299999999999998,{"$f":"_xlfn.XLOOKUP(K4201,'Codes éco-part'!$C$6:$C$923,'Codes éco-part'!$B$6:$B$923)","v":937},2.44]
["DIY and gardening products EPR",3,"21104820210",null,"DIY products","Tarpaulins, covers, nets, and films for DIY","Assembly of 3 or more materials, with no material representing >50%","≥0.5 kg and <1 kg","€ / unit",0.24,0.24,{"$f":"_xlfn.XLOOKUP(K4206,'Codes éco-part'!$C$6:$C$923,'Codes éco-part'!$B$6:$B$923)","v":"248"},0.28999999999999998]
["DIY and gardening products EPR",3,"21104820521","Modulated","DIY products","Tarpaulins, covers, nets, and films for DIY","Assembly of 3 or more materials, with no material representing >50%","≥2 kg and <3 kg","€ / unit",0.73,0.73,{"$f":"_xlfn.XLOOKUP(K4211,'Codes éco-part'!$C$6:$C$923,'Codes éco-part'!$B$6:$B$923)","v":"255"},0.88]
["DIY and gardening products EPR",3,"21104820530",null,"DIY products","Tarpaulins, covers, nets, and films for DIY","Assembly of 3 or more materials, with no material representing >50%","≥3 kg and <5 kg","€ / unit",1.29,1.29,{"$f":"_xlfn.XLOOKUP(K4212,'Codes éco-part'!$C$6:$C$923,'Codes éco-part'!$B$6:$B$923)","v":"608"},1.55]
["DIY and gardening products EPR",3,"21105000001","Modulated","DIY products","Buckets, troughs, and containers","Unknown or unspecified by the company","Elements of all sizes and weights","€ / ton",225,225,{"$f":"_xlfn.XLOOKUP(K4217,'Codes éco-part'!$C$6:$C$923,'Codes éco-part'!$B$6:$B$923)","v":949},270]
["DIY and gardening products EPR",3,"21105000220",null,"DIY products","Buckets, troughs, and containers","Unknown or unspecified by the company","≥1 kg and <2 kg","€ / unit",0.38,0.38,{"$f":"_xlfn.XLOOKUP(K4222,'Codes éco-part'!$C$6:$C$923,'Codes éco-part'!$B$6:$B$923)","v":"292"},0.46]
["DIY and gardening products EPR",3,"21105000531","Modulated","DIY products","Buckets, troughs, and containers","Unknown or unspecified by the company","≥3 kg and <5 kg","€ / unit",0.9,0.9,{"$f":"_xlfn.XLOOKUP(K4227,'Codes éco-part'!$C$6:$C$923,'Codes éco-part'!$B$6:$B$923)","v":"330"},1.08]
["DIY and gardening products EPR",3,"21105000540",null,"DIY products","Buckets, troughs, and containers","Unknown or unspecified by the company","≥5 kg and <7 kg","€ / unit",1.75,1.75,{"$f":"_xlfn.XLOOKUP(K4228,'Codes éco-part'!$C$6:$C$923,'Codes éco-part'!$B$6:$B$923)","v":"538"},2.1]
["DIY and gardening products EPR",3,"21105000561","Modulated","DIY products","Buckets, troughs, and containers","Unknown or unspecified by the company","≥10 kg and <15 kg","€ / unit",3.38,3.38,{"$f":"_xlfn.XLOOKUP(K4233,'Codes éco-part'!$C$6:$C$923,'Codes éco-part'!$B$6:$B$923)","v":"343"},4.0599999999999996]
["DIY and gardening products EPR",3,"21105010200",null,"DIY products","Buckets, troughs, and containers","Assembly of wood and/or wood derivatives >50% and other materials or composite wood (excl. glass)","Strictly <0.5 kg","€ / unit",0.01,0.01,{"$f":"_xlfn.XLOOKUP(K4238,'Codes éco-part'!$C$6:$C$923,'Codes éco-part'!$B$6:$B$923)","v":"260"},0.01]
["DIY and gardening products EPR",3,"21105010221","Modulated","DIY products","Buckets, troughs, and containers","Assembly of wood and/or wood derivatives >50% and other materials or composite wood (excl. glass)","≥1 kg and <2 kg","€ / unit",0.04,0.04,{"$f":"_xlfn.XLOOKUP(K4243,'Codes éco-part'!$C$6:$C$923,'Codes éco-part'!$B$6:$B$923)","v":"002"},0.05]
["DIY and gardening products EPR",3,"21105010520",null,"DIY products","Buckets, troughs, and containers","Assembly of wood and/or wood derivatives >50% and other materials or composite wood (excl. glass)","≥2 kg and <3 kg","€ / unit",7.0000000000000007E-2,7.0000000000000007E-2,{"$f":"_xlfn.XLOOKUP(K4244,'Codes éco-part'!$C$6:$C$923,'Codes éco-part'!$B$6:$B$923)","v":"247"},0.08]
["DIY and gardening products EPR",3,"21105010541","Modulated","DIY products","Buckets, troughs, and containers","Assembly of wood and/or wood derivatives >50% and other materials or composite wood (excl. glass)","≥5 kg and <7 kg","€ / unit",0.16,0.16,{"$f":"_xlfn.XLOOKUP(K4249,'Codes éco-part'!$C$6:$C$923,'Codes éco-part'!$B$6:$B$923)","v":"099"},0.19]
["DIY and gardening products EPR",3,"21105010570",null,"DIY products","Buckets, troughs, and containers","Assembly of wood and/or wood derivatives >50% and other materials or composite wood (excl. glass)","≥15 kg and <20 kg","€ / unit",0.52,0.52,{"$f":"_xlfn.XLOOKUP(K4254,'Codes éco-part'!$C$6:$C$923,'Codes éco-part'!$B$6:$B$923)","v":"509"},0.62]
["DIY and gardening products EPR",3,"21105020201","Modulated","DIY products","Buckets, troughs, and containers","Assembly of metal >50% and other materials","Strictly <0.5 kg","€ / unit",0.01,0.01,{"$f":"_xlfn.XLOOKUP(K4259,'Codes éco-part'!$C$6:$C$923,'Codes éco-part'!$B$6:$B$923)","v":"260"},0.01]
["DIY and gardening products EPR",3,"21105020210",null,"DIY products","Buckets, troughs, and containers","Assembly of metal >50% and other materials","≥0.5 kg and <1 kg","€ / unit",0.01,0.01,{"$f":"_xlfn.XLOOKUP(K4260,'Codes éco-part'!$C$6:$C$923,'Codes éco-part'!$B$6:$B$923)","v":"260"},0.01]
["DIY and gardening products EPR",3,"21105020521","Modulated","DIY products","Buckets, troughs, and containers","Assembly of metal >50% and other materials","≥2 kg and <3 kg","€ / unit",0.04,0.04,{"$f":"_xlfn.XLOOKUP(K4265,'Codes éco-part'!$C$6:$C$923,'Codes éco-part'!$B$6:$B$923)","v":"002"},0.05]
["DIY and gardening products EPR",3,"21105020550",null,"DIY products","Buckets, troughs, and containers","Assembly of metal >50% and other materials","≥7 kg and <10 kg","€ / unit",0.14000000000000001,0.14000000000000001,{"$f":"_xlfn.XLOOKUP(K4270,'Codes éco-part'!$C$6:$C$923,'Codes éco-part'!$B$6:$B$923)","v":"098"},0.17]
["DIY and gardening products EPR",3,"21105020571","Modulated","DIY products","Buckets, troughs, and containers","Assembly of metal >50% and other materials","≥15 kg and <20 kg","€ / unit",0.25,0.25,{"$f":"_xlfn.XLOOKUP(K4275,'Codes éco-part'!$C$6:$C$923,'Codes éco-part'!$B$6:$B$923)","v":"095"},0.3]
["DIY and gardening products EPR",3,"21105040000",null,"DIY products","Buckets, troughs, and containers","Biosourced materials or non-synthetic textiles >50%","Elements of all sizes and weights","€ / ton",250,250,{"$f":"_xlfn.XLOOKUP(K4276,'Codes éco-part'!$C$6:$C$923,'Codes éco-part'!$B$6:$B$923)","v":"612"},300]
["DIY and gardening products EPR",3,"21105040211","Modulated","DIY products","Buckets, troughs, and containers","Biosourced materials or non-synthetic textiles >50%","≥0.5 kg and <1 kg","€ / unit",0.17,0.17,{"$f":"_xlfn.XLOOKUP(K4281,'Codes éco-part'!$C$6:$C$923,'Codes éco-part'!$B$6:$B$923)","v":"005"},0.2]
["DIY and gardening products EPR",3,"21105040530",null,"DIY products","Buckets, troughs, and containers","Biosourced materials or non-synthetic textiles >50%","≥3 kg and <5 kg","€ / unit",1,1,{"$f":"_xlfn.XLOOKUP(K4286,'Codes éco-part'!$C$6:$C$923,'Codes éco-part'!$B$6:$B$923)","v":"056"},1.2]
["DIY and gardening products EPR",3,"21105040551","Modulated","DIY products","Buckets, troughs, and containers","Biosourced materials or non-synthetic textiles >50%","≥7 kg and <10 kg","€ / unit",2.25,2.25,{"$f":"_xlfn.XLOOKUP(K4291,'Codes éco-part'!$C$6:$C$923,'Codes éco-part'!$B$6:$B$923)","v":"118"},2.7]
["DIY and gardening products EPR",3,"21105040560",null,"DIY products","Buckets, troughs, and containers","Biosourced materials or non-synthetic textiles >50%","≥10 kg and <15 kg","€ / unit",3.75,3.75,{"$f":"_xlfn.XLOOKUP(K4292,'Codes éco-part'!$C$6:$C$923,'Codes éco-part'!$B$6:$B$923)","v":"015"},4.5]
["DIY and gardening products EPR",3,"21105050001","Modulated","DIY products","Buckets, troughs, and containers","Plastics or other synthetic materials >50%","Elements of all sizes and weights","€ / ton",225,225,{"$f":"_xlfn.XLOOKUP(K4297,'Codes éco-part'!$C$6:$C$923,'Codes éco-part'!$B$6:$B$923)","v":949},270]
["DIY and gardening products EPR",3,"21105050220",null,"DIY products","Buckets, troughs, and containers","Plastics or other synthetic materials >50%","≥1 kg and <2 kg","€ / unit",0.38,0.38,{"$f":"_xlfn.XLOOKUP(K4302,'Codes éco-part'!$C$6:$C$923,'Codes éco-part'!$B$6:$B$923)","v":"292"},0.46]
["DIY and gardening products EPR",3,"21105050531","Modulated","DIY products","Buckets, troughs, and containers","Plastics or other synthetic materials >50%","≥3 kg and <5 kg","€ / unit",0.9,0.9,{"$f":"_xlfn.XLOOKUP(K4307,'Codes éco-part'!$C$6:$C$923,'Codes éco-part'!$B$6:$B$923)","v":"330"},1.08]
["DIY and gardening products EPR",3,"21105050540",null,"DIY products","Buckets, troughs, and containers","Plastics or other synthetic materials >50%","≥5 kg and <7 kg","€ / unit",1.75,1.75,{"$f":"_xlfn.XLOOKUP(K4308,'Codes éco-part'!$C$6:$C$923,'Codes éco-part'!$B$6:$B$923)","v":"538"},2.1]
["DIY and gardening products EPR",3,"21105050560",null,"DIY products","Buckets, troughs, and containers","Plastics or other synthetic materials >50%","≥10 kg and <15 kg","€ / unit",3.75,3.75,{"$f":"_xlfn.XLOOKUP(K4312,'Codes éco-part'!$C$6:$C$923,'Codes éco-part'!$B$6:$B$923)","v":"015"},4.5]
["DIY and gardening products EPR",3,"21105060001","Modulated","DIY products","Buckets, troughs, and containers","Materials of animal origin >50%","Elements of all sizes and weights","€ / ton",225,225,{"$f":"_xlfn.XLOOKUP(K4317,'Codes éco-part'!$C$6:$C$923,'Codes éco-part'!$B$6:$B$923)","v":949},270]
["DIY and gardening products EPR",3,"21105060220",null,"DIY products","Buckets, troughs, and containers","Materials of animal origin >50%","≥1 kg and <2 kg","€ / unit",0.38,0.38,{"$f":"_xlfn.XLOOKUP(K4322,'Codes éco-part'!$C$6:$C$923,'Codes éco-part'!$B$6:$B$923)","v":"292"},0.46]
["DIY and gardening products EPR",3,"21105060221","Modulated","DIY products","Buckets, troughs, and containers","Materials of animal origin >50%","≥1 kg and <2 kg","€ / unit",0.34,0.34,{"$f":"_xlfn.XLOOKUP(K4323,'Codes éco-part'!$C$6:$C$923,'Codes éco-part'!$B$6:$B$923)","v":"043"},0.41]
["DIY and gardening products EPR",3,"21105060540",null,"DIY products","Buckets, troughs, and containers","Materials of animal origin >50%","≥5 kg and <7 kg","€ / unit",1.75,1.75,{"$f":"_xlfn.XLOOKUP(K4328,'Codes éco-part'!$C$6:$C$923,'Codes éco-part'!$B$6:$B$923)","v":"538"},2.1]
["DIY and gardening products EPR",3,"21105060561","Modulated","DIY products","Buckets, troughs, and containers","Materials of animal origin >50%","≥10 kg and <15 kg","€ / unit",3.38,3.38,{"$f":"_xlfn.XLOOKUP(K4333,'Codes éco-part'!$C$6:$C$923,'Codes éco-part'!$B$6:$B$923)","v":"343"},4.0599999999999996]
["DIY and gardening products EPR",3,"21105080200",null,"DIY products","Buckets, troughs, and containers","Assembly of materials with inert substances >50%","Strictly <0.5 kg","€ / unit",0.06,0.06,{"$f":"_xlfn.XLOOKUP(K4338,'Codes éco-part'!$C$6:$C$923,'Codes éco-part'!$B$6:$B$923)","v":"096"},7.0000000000000007E-2]
["DIY and gardening products EPR",3,"21105080201","Modulated","DIY products","Buckets, troughs, and containers","Assembly of materials with inert substances >50%","Strictly <0.5 kg","€ / unit",0.05,0.05,{"$f":"_xlfn.XLOOKUP(K4339,'Codes éco-part'!$C$6:$C$923,'Codes éco-part'!$B$6:$B$923)","v":"048"},0.06]
["DIY and gardening products EPR",3,"21105080520",null,"DIY products","Buckets, troughs, and containers","Assembly of materials with inert substances >50%","≥2 kg and <3 kg","€ / unit",0.63,0.63,{"$f":"_xlfn.XLOOKUP(K4344,'Codes éco-part'!$C$6:$C$923,'Codes éco-part'!$B$6:$B$923)","v":"297"},0.76]
["DIY and gardening products EPR",3,"21105080541","Modulated","DIY products","Buckets, troughs, and containers","Assembly of materials with inert substances >50%","≥5 kg and <7 kg","€ / unit",1.58,1.58,{"$f":"_xlfn.XLOOKUP(K4349,'Codes éco-part'!$C$6:$C$923,'Codes éco-part'!$B$6:$B$923)","v":618},1.9]
["DIY and gardening products EPR",3,"21105080570",null,"DIY products","Buckets, troughs, and containers","Assembly of materials with inert substances >50%","≥15 kg and <20 kg","€ / unit",5,5,{"$f":"_xlfn.XLOOKUP(K4354,'Codes éco-part'!$C$6:$C$923,'Codes éco-part'!$B$6:$B$923)","v":"042"},{"$f":"ROUND(K4354*1.2,2)","v":6}]
["DIY and gardening products EPR",3,"21105080571","Modulated","DIY products","Buckets, troughs, and containers","Assembly of materials with inert substances >50%","≥15 kg and <20 kg","€ / unit",4.5,4.5,{"$f":"_xlfn.XLOOKUP(K4355,'Codes éco-part'!$C$6:$C$923,'Codes éco-part'!$B$6:$B$923)","v":"127"},5.4]
["DIY and gardening products EPR",3,"21105150210",null,"DIY products","Buckets, troughs, and containers","Composites and other reconstituted mineral materials >50%","≥0.5 kg and <1 kg","€ / unit",0.19,0.19,{"$f":"_xlfn.XLOOKUP(K4360,'Codes éco-part'!$C$6:$C$923,'Codes éco-part'!$B$6:$B$923)","v":"291"},0.23]
["DIY and gardening products EPR",3,"21105150521","Modulated","DIY products","Buckets, troughs, and containers","Composites and other reconstituted mineral materials >50%","≥2 kg and <3 kg","€ / unit",0.56999999999999995,0.56999999999999995,{"$f":"_xlfn.XLOOKUP(K4365,'Codes éco-part'!$C$6:$C$923,'Codes éco-part'!$B$6:$B$923)","v":"326"},0.68]
["DIY and gardening products EPR",3,"21105150550",null,"DIY products","Buckets, troughs, and containers","Composites and other reconstituted mineral materials >50%","≥7 kg and <10 kg","€ / unit",2.5,2.5,{"$f":"_xlfn.XLOOKUP(K4370,'Codes éco-part'!$C$6:$C$923,'Codes éco-part'!$B$6:$B$923)","v":"012"},3]
["DIY and gardening products EPR",3,"21105150551","Modulated","DIY products","Buckets, troughs, and containers","Composites and other reconstituted mineral materials >50%","≥7 kg and <10 kg","€ / unit",2.25,2.25,{"$f":"_xlfn.XLOOKUP(K4371,'Codes éco-part'!$C$6:$C$923,'Codes éco-part'!$B$6:$B$923)","v":"118"},2.7]
["DIY and gardening products EPR",3,"21105190000",null,"DIY products","Buckets, troughs, and containers","Cardboard >50% and other materials (excl. glass)","Elements of all sizes and weights","€ / ton",250,250,{"$f":"_xlfn.XLOOKUP(K4376,'Codes éco-part'!$C$6:$C$923,'Codes éco-part'!$B$6:$B$923)","v":"612"},300]
["DIY and gardening products EPR",3,"21105190211","Modulated","DIY products","Buckets, troughs, and containers","Cardboard >50% and other materials (excl. glass)","≥0.5 kg and <1 kg","€ / unit",0.17,0.17,{"$f":"_xlfn.XLOOKUP(K4381,'Codes éco-part'!$C$6:$C$923,'Codes éco-part'!$B$6:$B$923)","v":"005"},0.2]
["DIY and gardening products EPR",3,"21105190530",null,"DIY products","Buckets, troughs, and containers","Cardboard >50% and other materials (excl. glass)","≥3 kg and <5 kg","€ / unit",1,1,{"$f":"_xlfn.XLOOKUP(K4386,'Codes éco-part'!$C$6:$C$923,'Codes éco-part'!$B$6:$B$923)","v":"056"},1.2]
["DIY and gardening products EPR",3,"21105190531","Modulated","DIY products","Buckets, troughs, and containers","Cardboard >50% and other materials (excl. glass)","≥3 kg and <5 kg","€ / unit",0.9,0.9,{"$f":"_xlfn.XLOOKUP(K4387,'Codes éco-part'!$C$6:$C$923,'Codes éco-part'!$B$6:$B$923)","v":"330"},1.08]
["DIY and gardening products EPR",3,"21105190560",null,"DIY products","Buckets, troughs, and containers","Cardboard >50% and other materials (excl. glass)","≥10 kg and <15 kg","€ / unit",3.75,3.75,{"$f":"_xlfn.XLOOKUP(K4392,'Codes éco-part'!$C$6:$C$923,'Codes éco-part'!$B$6:$B$923)","v":"015"},4.5]
["DIY and gardening products EPR",3,"21105200001","Modulated","DIY products","Buckets, troughs, and containers","Solid wood and related products certified >75%","Elements of all sizes and weights","€ / ton",23.4,23.4,{"$f":"_xlfn.XLOOKUP(K4397,'Codes éco-part'!$C$6:$C$923,'Codes éco-part'!$B$6:$B$923)","v":946},28.08]
["DIY and gardening products EPR",3,"21105200220",null,"DIY products","Buckets, troughs, and containers","Solid wood and related products certified >75%","≥1 kg and <2 kg","€ / unit",0.04,0.04,{"$f":"_xlfn.XLOOKUP(K4402,'Codes éco-part'!$C$6:$C$923,'Codes éco-part'!$B$6:$B$923)","v":"002"},0.05]
["DIY and gardening products EPR",3,"21105200221","Modulated","DIY products","Buckets, troughs, and containers","Solid wood and related products certified >75%","≥1 kg and <2 kg","€ / unit",0.04,0.04,{"$f":"_xlfn.XLOOKUP(K4403,'Codes éco-part'!$C$6:$C$923,'Codes éco-part'!$B$6:$B$923)","v":"002"},0.05]
["DIY and gardening products EPR",3,"21105200540",null,"DIY products","Buckets, troughs, and containers","Solid wood and related products certified >75%","≥5 kg and <7 kg","€ / unit",0.18,0.18,{"$f":"_xlfn.XLOOKUP(K4408,'Codes éco-part'!$C$6:$C$923,'Codes éco-part'!$B$6:$B$923)","v":"100"},0.22]
["DIY and gardening products EPR",3,"21105200561","Modulated","DIY products","Buckets, troughs, and containers","Solid wood and related products certified >75%","≥10 kg and <15 kg","€ / unit",0.35,0.35,{"$f":"_xlfn.XLOOKUP(K4413,'Codes éco-part'!$C$6:$C$923,'Codes éco-part'!$B$6:$B$923)","v":"448"},0.42]
["DIY and gardening products EPR",3,"21105210200",null,"DIY products","Buckets, troughs, and containers","Solid wood and related products >75%","Strictly <0.5 kg","€ / unit",0.02,0.02,{"$f":"_xlfn.XLOOKUP(K4418,'Codes éco-part'!$C$6:$C$923,'Codes éco-part'!$B$6:$B$923)","v":"047"},{"$f":"ROUND(K4418*1.2,2)","v":0.02}]
["DIY and gardening products EPR",3,"21105210201","Modulated","DIY products","Buckets, troughs, and containers","Solid wood and related products >75%","Strictly <0.5 kg","€ / unit",0.02,0.02,{"$f":"_xlfn.XLOOKUP(K4419,'Codes éco-part'!$C$6:$C$923,'Codes éco-part'!$B$6:$B$923)","v":"047"},0.02]
["DIY and gardening products EPR",3,"21105210520",null,"DIY products","Buckets, troughs, and containers","Solid wood and related products >75%","≥2 kg and <3 kg","€ / unit",0.14000000000000001,0.14000000000000001,{"$f":"_xlfn.XLOOKUP(K4424,'Codes éco-part'!$C$6:$C$923,'Codes éco-part'!$B$6:$B$923)","v":"098"},0.17]
["DIY and gardening products EPR",3,"21105210541","Modulated","DIY products","Buckets, troughs, and containers","Solid wood and related products >75%","≥5 kg and <7 kg","€ / unit",0.32,0.32,{"$f":"_xlfn.XLOOKUP(K4429,'Codes éco-part'!$C$6:$C$923,'Codes éco-part'!$B$6:$B$923)","v":"447"},0.38]
["DIY and gardening products EPR",3,"21105210570",null,"DIY products","Buckets, troughs, and containers","Solid wood and related products >75%","≥15 kg and <20 kg","€ / unit",1.04,1.04,{"$f":"_xlfn.XLOOKUP(K4434,'Codes éco-part'!$C$6:$C$923,'Codes éco-part'!$B$6:$B$923)","v":"616"},1.25]
["DIY and gardening products EPR",3,"21105210571","Modulated","DIY products","Buckets, troughs, and containers","Solid wood and related products >75%","≥15 kg and <20 kg","€ / unit",0.94,0.94,{"$f":"_xlfn.XLOOKUP(K4435,'Codes éco-part'!$C$6:$C$923,'Codes éco-part'!$B$6:$B$923)","v":"458"},1.1299999999999999]
["DIY and gardening products EPR",3,"21105250210",null,"DIY products","Buckets, troughs, and containers","Chipboard or OSB >75%","≥0.5 kg and <1 kg","€ / unit",0.04,0.04,{"$f":"_xlfn.XLOOKUP(K4440,'Codes éco-part'!$C$6:$C$923,'Codes éco-part'!$B$6:$B$923)","v":"002"},0.05]
["DIY and gardening products EPR",3,"21105250521","Modulated","DIY products","Buckets, troughs, and containers","Chipboard or OSB >75%","≥2 kg and <3 kg","€ / unit",0.13,0.13,{"$f":"_xlfn.XLOOKUP(K4445,'Codes éco-part'!$C$6:$C$923,'Codes éco-part'!$B$6:$B$923)","v":"004"},0.16]
["DIY and gardening products EPR",3,"21105250550",null,"DIY products","Buckets, troughs, and containers","Chipboard or OSB >75%","≥7 kg and <10 kg","€ / unit",0.52,0.52,{"$f":"_xlfn.XLOOKUP(K4450,'Codes éco-part'!$C$6:$C$923,'Codes éco-part'!$B$6:$B$923)","v":"509"},0.62]
["DIY and gardening products EPR",3,"21105250551","Modulated","DIY products","Buckets, troughs, and containers","Chipboard or OSB >75%","≥7 kg and <10 kg","€ / unit",0.47,0.47,{"$f":"_xlfn.XLOOKUP(K4451,'Codes éco-part'!$C$6:$C$923,'Codes éco-part'!$B$6:$B$923)","v":"107"},0.56000000000000005]
["DIY and gardening products EPR",3,"21105280000",null,"DIY products","Buckets, troughs, and containers","Metal >90%","Elements of all sizes and weights","€ / ton",14,14,{"$f":"_xlfn.XLOOKUP(K4456,'Codes éco-part'!$C$6:$C$923,'Codes éco-part'!$B$6:$B$923)","v":"532"},16.8]
["DIY and gardening products EPR",3,"21105280211","Modulated","DIY products","Buckets, troughs, and containers","Metal >90%","≥0.5 kg and <1 kg","€ / unit",0.01,0.01,{"$f":"_xlfn.XLOOKUP(K4461,'Codes éco-part'!$C$6:$C$923,'Codes éco-part'!$B$6:$B$923)","v":"260"},0.01]
["DIY and gardening products EPR",3,"21105280530",null,"DIY products","Buckets, troughs, and containers","Metal >90%","≥3 kg and <5 kg","€ / unit",0.06,0.06,{"$f":"_xlfn.XLOOKUP(K4466,'Codes éco-part'!$C$6:$C$923,'Codes éco-part'!$B$6:$B$923)","v":"096"},7.0000000000000007E-2]
["DIY and gardening products EPR",3,"21105280531","Modulated","DIY products","Buckets, troughs, and containers","Metal >90%","≥3 kg and <5 kg","€ / unit",0.05,0.05,{"$f":"_xlfn.XLOOKUP(K4467,'Codes éco-part'!$C$6:$C$923,'Codes éco-part'!$B$6:$B$923)","v":"048"},0.06]
["DIY and gardening products EPR",3,"21105280560",null,"DIY products","Buckets, troughs, and containers","Metal >90%","≥10 kg and <15 kg","€ / unit",0.21,0.21,{"$f":"_xlfn.XLOOKUP(K4472,'Codes éco-part'!$C$6:$C$923,'Codes éco-part'!$B$6:$B$923)","v":"051"},0.25]
["DIY and gardening products EPR",3,"21105400001","Modulated","DIY products","Buckets, troughs, and containers","Assembly of synthetic rubber or latex >50% and other materials","Elements of all sizes and weights","€ / ton",225,225,{"$f":"_xlfn.XLOOKUP(K4477,'Codes éco-part'!$C$6:$C$923,'Codes éco-part'!$B$6:$B$923)","v":949},270]
["DIY and gardening products EPR",3,"21105400220",null,"DIY products","Buckets, troughs, and containers","Assembly of synthetic rubber or latex >50% and other materials","≥1 kg and <2 kg","€ / unit",0.38,0.38,{"$f":"_xlfn.XLOOKUP(K4482,'Codes éco-part'!$C$6:$C$923,'Codes éco-part'!$B$6:$B$923)","v":"292"},{"$f":"ROUND(K4482*1.2,2)","v":0.46}]
["DIY and gardening products EPR",3,"21105400221","Modulated","DIY products","Buckets, troughs, and containers","Assembly of synthetic rubber or latex >50% and other materials","≥1 kg and <2 kg","€ / unit",0.34,0.34,{"$f":"_xlfn.XLOOKUP(K4483,'Codes éco-part'!$C$6:$C$923,'Codes éco-part'!$B$6:$B$923)","v":"043"},0.41]
["DIY and gardening products EPR",3,"21105400540",null,"DIY products","Buckets, troughs, and containers","Assembly of synthetic rubber or latex >50% and other materials","≥5 kg and <7 kg","€ / unit",1.75,1.75,{"$f":"_xlfn.XLOOKUP(K4488,'Codes éco-part'!$C$6:$C$923,'Codes éco-part'!$B$6:$B$923)","v":"538"},2.1]
["DIY and gardening products EPR",3,"21105400561","Modulated","DIY products","Buckets, troughs, and containers","Assembly of synthetic rubber or latex >50% and other materials","≥10 kg and <15 kg","€ / unit",3.38,3.38,{"$f":"_xlfn.XLOOKUP(K4493,'Codes éco-part'!$C$6:$C$923,'Codes éco-part'!$B$6:$B$923)","v":"343"},4.0599999999999996]
["DIY and gardening products EPR",3,"21105410200",null,"DIY products","Buckets, troughs, and containers","Plastic (single-resin) >90%","Strictly <0.5 kg","€ / unit",0.04,0.04,{"$f":"_xlfn.XLOOKUP(K4498,'Codes éco-part'!$C$6:$C$923,'Codes éco-part'!$B$6:$B$923)","v":"002"},0.05]
["DIY and gardening products EPR",3,"21105410201","Modulated","DIY products","Buckets, troughs, and containers","Plastic (single-resin) >90%","Strictly <0.5 kg","€ / unit",0.04,0.04,{"$f":"_xlfn.XLOOKUP(K4499,'Codes éco-part'!$C$6:$C$923,'Codes éco-part'!$B$6:$B$923)","v":"002"},0.05]
["DIY and gardening products EPR",3,"21105410520",null,"DIY products","Buckets, troughs, and containers","Plastic (single-resin) >90%","≥2 kg and <3 kg","€ / unit",0.4,0.4,{"$f":"_xlfn.XLOOKUP(K4504,'Codes éco-part'!$C$6:$C$923,'Codes éco-part'!$B$6:$B$923)","v":"105"},0.48]
["DIY and gardening products EPR",3,"21105410541","Modulated","DIY products","Buckets, troughs, and containers","Plastic (single-resin) >90%","≥5 kg and <7 kg","€ / unit",1.01,1.01,{"$f":"_xlfn.XLOOKUP(K4509,'Codes éco-part'!$C$6:$C$923,'Codes éco-part'!$B$6:$B$923)","v":"298"},1.21]
["DIY and gardening products EPR",3,"21105410570",null,"DIY products","Buckets, troughs, and containers","Plastic (single-resin) >90%","≥15 kg and <20 kg","€ / unit",3.2,3.2,{"$f":"_xlfn.XLOOKUP(K4514,'Codes éco-part'!$C$6:$C$923,'Codes éco-part'!$B$6:$B$923)","v":"476"},3.84]
["DIY and gardening products EPR",3,"21105410571","Modulated","DIY products","Buckets, troughs, and containers","Plastic (single-resin) >90%","≥15 kg and <20 kg","€ / unit",2.88,2.88,{"$f":"_xlfn.XLOOKUP(K4515,'Codes éco-part'!$C$6:$C$923,'Codes éco-part'!$B$6:$B$923)","v":"400"},3.46]
["DIY and gardening products EPR",3,"21105420210",null,"DIY products","Buckets, troughs, and containers","Polyethylene terephthalate (PET) >90%","≥0.5 kg and <1 kg","€ / unit",0.12,0.12,{"$f":"_xlfn.XLOOKUP(K4520,'Codes éco-part'!$C$6:$C$923,'Codes éco-part'!$B$6:$B$923)","v":"097"},0.14000000000000001]
["DIY and gardening products EPR",3,"21105420521","Modulated","DIY products","Buckets, troughs, and containers","Polyethylene terephthalate (PET) >90%","≥2 kg and <3 kg","€ / unit",0.36,0.36,{"$f":"_xlfn.XLOOKUP(K4525,'Codes éco-part'!$C$6:$C$923,'Codes éco-part'!$B$6:$B$923)","v":"449"},0.43]
["DIY and gardening products EPR",3,"21105420550",null,"DIY products","Buckets, troughs, and containers","Polyethylene terephthalate (PET) >90%","≥7 kg and <10 kg","€ / unit",1.6,1.6,{"$f":"_xlfn.XLOOKUP(K4530,'Codes éco-part'!$C$6:$C$923,'Codes éco-part'!$B$6:$B$923)","v":"595"},1.92]
["DIY and gardening products EPR",3,"21105420551","Modulated","DIY products","Buckets, troughs, and containers","Polyethylene terephthalate (PET) >90%","≥7 kg and <10 kg","€ / unit",1.44,1.44,{"$f":"_xlfn.XLOOKUP(K4531,'Codes éco-part'!$C$6:$C$923,'Codes éco-part'!$B$6:$B$923)","v":"566"},1.73]
["DIY and gardening products EPR",3,"21105450000",null,"DIY products","Buckets, troughs, and containers","PE or PP or PP/PE mix >90%","Elements of all sizes and weights","€ / ton",160,160,{"$f":"_xlfn.XLOOKUP(K4536,'Codes éco-part'!$C$6:$C$923,'Codes éco-part'!$B$6:$B$923)","v":"604"},192]
["DIY and gardening products EPR",3,"21105450211","Modulated","DIY products","Buckets, troughs, and containers","PE or PP or PP/PE mix >90%","≥0.5 kg and <1 kg","€ / unit",0.11,0.11,{"$f":"_xlfn.XLOOKUP(K4541,'Codes éco-part'!$C$6:$C$923,'Codes éco-part'!$B$6:$B$923)","v":"262"},0.13]
["DIY and gardening products EPR",3,"21105450530",null,"DIY products","Buckets, troughs, and containers","PE or PP or PP/PE mix >90%","≥3 kg and <5 kg","€ / unit",0.64,0.64,{"$f":"_xlfn.XLOOKUP(K4546,'Codes éco-part'!$C$6:$C$923,'Codes éco-part'!$B$6:$B$923)","v":"452"},{"$f":"ROUND(K4546*1.2,2)","v":0.77}]
["DIY and gardening products EPR",3,"21105450531","Modulated","DIY products","Buckets, troughs, and containers","PE or PP or PP/PE mix >90%","≥3 kg and <5 kg","€ / unit",0.57999999999999996,0.57999999999999996,{"$f":"_xlfn.XLOOKUP(K4547,'Codes éco-part'!$C$6:$C$923,'Codes éco-part'!$B$6:$B$923)","v":"535"},0.7]
["DIY and gardening products EPR",3,"21105450560",null,"DIY products","Buckets, troughs, and containers","PE or PP or PP/PE mix >90%","≥10 kg and <15 kg","€ / unit",2.4,2.4,{"$f":"_xlfn.XLOOKUP(K4552,'Codes éco-part'!$C$6:$C$923,'Codes éco-part'!$B$6:$B$923)","v":"602"},2.88]
["DIY and gardening products EPR",3,"21105460001","Modulated","DIY products","Buckets, troughs, and containers","ABS >90%","Elements of all sizes and weights","€ / ton",144,144,{"$f":"_xlfn.XLOOKUP(K4557,'Codes éco-part'!$C$6:$C$923,'Codes éco-part'!$B$6:$B$923)","v":951},172.8]
["DIY and gardening products EPR",3,"21105460220",null,"DIY products","Buckets, troughs, and containers","ABS >90%","≥1 kg and <2 kg","€ / unit",0.24,0.24,{"$f":"_xlfn.XLOOKUP(K4562,'Codes éco-part'!$C$6:$C$923,'Codes éco-part'!$B$6:$B$923)","v":"248"},0.28999999999999998]
["DIY and gardening products EPR",3,"21105460221","Modulated","DIY products","Buckets, troughs, and containers","ABS >90%","≥1 kg and <2 kg","€ / unit",0.22,0.22,{"$f":"_xlfn.XLOOKUP(K4563,'Codes éco-part'!$C$6:$C$923,'Codes éco-part'!$B$6:$B$923)","v":"263"},0.26]
["DIY and gardening products EPR",3,"21105460540",null,"DIY products","Buckets, troughs, and containers","ABS >90%","≥5 kg and <7 kg","€ / unit",1.1200000000000001,1.1200000000000001,{"$f":"_xlfn.XLOOKUP(K4568,'Codes éco-part'!$C$6:$C$923,'Codes éco-part'!$B$6:$B$923)","v":"605"},1.34]
["DIY and gardening products EPR",3,"21105460560",null,"DIY products","Buckets, troughs, and containers","ABS >90%","≥10 kg and <15 kg","€ / unit",2.4,2.4,{"$f":"_xlfn.XLOOKUP(K4572,'Codes éco-part'!$C$6:$C$923,'Codes éco-part'!$B$6:$B$923)","v":"602"},2.88]
["DIY and gardening products EPR",3,"21105470001","Modulated","DIY products","Buckets, troughs, and containers","Polystyrene >90%","Elements of all sizes and weights","€ / ton",144,144,{"$f":"_xlfn.XLOOKUP(K4577,'Codes éco-part'!$C$6:$C$923,'Codes éco-part'!$B$6:$B$923)","v":951},172.8]
["DIY and gardening products EPR",3,"21105470200",null,"DIY products","Buckets, troughs, and containers","Polystyrene >90%","Strictly <0.5 kg","€ / unit",0.04,0.04,{"$f":"_xlfn.XLOOKUP(K4578,'Codes éco-part'!$C$6:$C$923,'Codes éco-part'!$B$6:$B$923)","v":"002"},0.05]
["DIY and gardening products EPR",3,"21105470221","Modulated","DIY products","Buckets, troughs, and containers","Polystyrene >90%","≥1 kg and <2 kg","€ / unit",0.22,0.22,{"$f":"_xlfn.XLOOKUP(K4583,'Codes éco-part'!$C$6:$C$923,'Codes éco-part'!$B$6:$B$923)","v":"263"},0.26]
["DIY and gardening products EPR",3,"21105470540",null,"DIY products","Buckets, troughs, and containers","Polystyrene >90%","≥5 kg and <7 kg","€ / unit",1.1200000000000001,1.1200000000000001,{"$f":"_xlfn.XLOOKUP(K4588,'Codes éco-part'!$C$6:$C$923,'Codes éco-part'!$B$6:$B$923)","v":"605"},1.34]
["DIY and gardening products EPR",3,"21105470561","Modulated","DIY products","Buckets, troughs, and containers","Polystyrene >90%","≥10 kg and <15 kg","€ / unit",2.16,2.16,{"$f":"_xlfn.XLOOKUP(K4593,'Codes éco-part'!$C$6:$C$923,'Codes éco-part'!$B$6:$B$923)","v":"622"},2.59]
["DIY and gardening products EPR",3,"21105470570",null,"DIY products","Buckets, troughs, and containers","Polystyrene >90%","≥15 kg and <20 kg","€ / unit",3.2,3.2,{"$f":"_xlfn.XLOOKUP(K4594,'Codes éco-part'!$C$6:$C$923,'Codes éco-part'!$B$6:$B$923)","v":"476"},3.84]
["DIY and gardening products EPR",3,"21105480201","Modulated","DIY products","Buckets, troughs, and containers","PVC >90%","Strictly <0.5 kg","€ / unit",0.04,0.04,{"$f":"_xlfn.XLOOKUP(K4599,'Codes éco-part'!$C$6:$C$923,'Codes éco-part'!$B$6:$B$923)","v":"002"},0.05]
["DIY and gardening products EPR",3,"21105480520",null,"DIY products","Buckets, troughs, and containers","PVC >90%","≥2 kg and <3 kg","€ / unit",0.4,0.4,{"$f":"_xlfn.XLOOKUP(K4604,'Codes éco-part'!$C$6:$C$923,'Codes éco-part'!$B$6:$B$923)","v":"105"},0.48]
["DIY and gardening products EPR",3,"21105480541","Modulated","DIY products","Buckets, troughs, and containers","PVC >90%","≥5 kg and <7 kg","€ / unit",1.01,1.01,{"$f":"_xlfn.XLOOKUP(K4609,'Codes éco-part'!$C$6:$C$923,'Codes éco-part'!$B$6:$B$923)","v":"298"},1.21]
["DIY and gardening products EPR",3,"21105480550",null,"DIY products","Buckets, troughs, and containers","PVC >90%","≥7 kg and <10 kg","€ / unit",1.6,1.6,{"$f":"_xlfn.XLOOKUP(K4610,'Codes éco-part'!$C$6:$C$923,'Codes éco-part'!$B$6:$B$923)","v":"595"},{"$f":"ROUND(K4610*1.2,2)","v":1.92}]
["DIY and gardening products EPR",3,"21105480571","Modulated","DIY products","Buckets, troughs, and containers","PVC >90%","≥15 kg and <20 kg","€ / unit",2.88,2.88,{"$f":"_xlfn.XLOOKUP(K4615,'Codes éco-part'!$C$6:$C$923,'Codes éco-part'!$B$6:$B$923)","v":"400"},3.46]
["DIY and gardening products EPR",3,"21105490210",null,"DIY products","Buckets, troughs, and containers","Synthetic rubber >90%","≥0.5 kg and <1 kg","€ / unit",0.12,0.12,{"$f":"_xlfn.XLOOKUP(K4620,'Codes éco-part'!$C$6:$C$923,'Codes éco-part'!$B$6:$B$923)","v":"097"},0.14000000000000001]
["DIY and gardening products EPR",3,"21105490521","Modulated","DIY products","Buckets, troughs, and containers","Synthetic rubber >90%","≥2 kg and <3 kg","€ / unit",0.36,0.36,{"$f":"_xlfn.XLOOKUP(K4625,'Codes éco-part'!$C$6:$C$923,'Codes éco-part'!$B$6:$B$923)","v":"449"},0.43]
["DIY and gardening products EPR",3,"21105490530",null,"DIY products","Buckets, troughs, and containers","Synthetic rubber >90%","≥3 kg and <5 kg","€ / unit",0.64,0.64,{"$f":"_xlfn.XLOOKUP(K4626,'Codes éco-part'!$C$6:$C$923,'Codes éco-part'!$B$6:$B$923)","v":"452"},0.77]
["DIY and gardening products EPR",3,"21105490551","Modulated","DIY products","Buckets, troughs, and containers","Synthetic rubber >90%","≥7 kg and <10 kg","€ / unit",1.44,1.44,{"$f":"_xlfn.XLOOKUP(K4631,'Codes éco-part'!$C$6:$C$923,'Codes éco-part'!$B$6:$B$923)","v":"566"},1.73]
["DIY and gardening products EPR",3,"21105510000",null,"DIY products","Buckets, troughs, and containers","Assembly of non-certified wood and/or wood derivatives >50% and other materials or composite wood (excl. glass)","Elements of all sizes and weights","€ / ton",52,52,{"$f":"_xlfn.XLOOKUP(K4636,'Codes éco-part'!$C$6:$C$923,'Codes éco-part'!$B$6:$B$923)","v":"617"},62.4]
["DIY and gardening products EPR",3,"21105510211","Modulated","DIY products","Buckets, troughs, and containers","Assembly of non-certified wood and/or wood derivatives >50% and other materials or composite wood (excl. glass)","≥0.5 kg and <1 kg","€ / unit",0.04,0.04,{"$f":"_xlfn.XLOOKUP(K4641,'Codes éco-part'!$C$6:$C$923,'Codes éco-part'!$B$6:$B$923)","v":"002"},0.05]
["DIY and gardening products EPR",3,"21105510220",null,"DIY products","Buckets, troughs, and containers","Assembly of non-certified wood and/or wood derivatives >50% and other materials or composite wood (excl. glass)","≥1 kg and <2 kg","€ / unit",0.08,0.08,{"$f":"_xlfn.XLOOKUP(K4642,'Codes éco-part'!$C$6:$C$923,'Codes éco-part'!$B$6:$B$923)","v":"003"},0.1]
["DIY and gardening products EPR",3,"21105510531","Modulated","DIY products","Buckets, troughs, and containers","Assembly of non-certified wood and/or wood derivatives >50% and other materials or composite wood (excl. glass)","≥3 kg and <5 kg","€ / unit",0.18,0.18,{"$f":"_xlfn.XLOOKUP(K4647,'Codes éco-part'!$C$6:$C$923,'Codes éco-part'!$B$6:$B$923)","v":"100"},0.22]
["DIY and gardening products EPR",3,"21105510560",null,"DIY products","Buckets, troughs, and containers","Assembly of non-certified wood and/or wood derivatives >50% and other materials or composite wood (excl. glass)","≥10 kg and <15 kg","€ / unit",0.78,0.78,{"$f":"_xlfn.XLOOKUP(K4652,'Codes éco-part'!$C$6:$C$923,'Codes éco-part'!$B$6:$B$923)","v":"312"},0.94]
["DIY and gardening products EPR",3,"21105520001","Modulated","DIY products","Buckets, troughs, and containers","Solid wood and related products certified >90%","Elements of all sizes and weights","€ / ton",23.4,23.4,{"$f":"_xlfn.XLOOKUP(K4657,'Codes éco-part'!$C$6:$C$923,'Codes éco-part'!$B$6:$B$923)","v":946},28.08]
["DIY and gardening products EPR",3,"21105520200",null,"DIY products","Buckets, troughs, and containers","Solid wood and related products certified >90%","Strictly <0.5 kg","€ / unit",0.01,0.01,{"$f":"_xlfn.XLOOKUP(K4658,'Codes éco-part'!$C$6:$C$923,'Codes éco-part'!$B$6:$B$923)","v":"260"},0.01]
["DIY and gardening products EPR",3,"21105520221","Modulated","DIY products","Buckets, troughs, and containers","Solid wood and related products certified >90%","≥1 kg and <2 kg","€ / unit",0.04,0.04,{"$f":"_xlfn.XLOOKUP(K4663,'Codes éco-part'!$C$6:$C$923,'Codes éco-part'!$B$6:$B$923)","v":"002"},0.05]
["DIY and gardening products EPR",3,"21105520540",null,"DIY products","Buckets, troughs, and containers","Solid wood and related products certified >90%","≥5 kg and <7 kg","€ / unit",0.18,0.18,{"$f":"_xlfn.XLOOKUP(K4668,'Codes éco-part'!$C$6:$C$923,'Codes éco-part'!$B$6:$B$923)","v":"100"},0.22]
["DIY and gardening products EPR",3,"21105520561","Modulated","DIY products","Buckets, troughs, and containers","Solid wood and related products certified >90%","≥10 kg and <15 kg","€ / unit",0.35,0.35,{"$f":"_xlfn.XLOOKUP(K4673,'Codes éco-part'!$C$6:$C$923,'Codes éco-part'!$B$6:$B$923)","v":"448"},0.42]
["DIY and gardening products EPR",3,"21105520570",null,"DIY products","Buckets, troughs, and containers","Solid wood and related products certified >90%","≥15 kg and <20 kg","€ / unit",0.52,0.52,{"$f":"_xlfn.XLOOKUP(K4674,'Codes éco-part'!$C$6:$C$923,'Codes éco-part'!$B$6:$B$923)","v":"509"},{"$f":"ROUND(K4674*1.2,2)","v":0.62}]
["DIY and gardening products EPR",3,"21105530201","Modulated","DIY products","Buckets, troughs, and containers","Solid wood and related products >90%","Strictly <0.5 kg","€ / unit",0.02,0.02,{"$f":"_xlfn.XLOOKUP(K4679,'Codes éco-part'!$C$6:$C$923,'Codes éco-part'!$B$6:$B$923)","v":"047"},0.02]
["DIY and gardening products EPR",3,"21105530520",null,"DIY products","Buckets, troughs, and containers","Solid wood and related products >90%","≥2 kg and <3 kg","€ / unit",0.14000000000000001,0.14000000000000001,{"$f":"_xlfn.XLOOKUP(K4684,'Codes éco-part'!$C$6:$C$923,'Codes éco-part'!$B$6:$B$923)","v":"098"},0.17]
["DIY and gardening products EPR",3,"21105530541","Modulated","DIY products","Buckets, troughs, and containers","Solid wood and related products >90%","≥5 kg and <7 kg","€ / unit",0.32,0.32,{"$f":"_xlfn.XLOOKUP(K4689,'Codes éco-part'!$C$6:$C$923,'Codes éco-part'!$B$6:$B$923)","v":"447"},0.38]
["DIY and gardening products EPR",3,"21105530550",null,"DIY products","Buckets, troughs, and containers","Solid wood and related products >90%","≥7 kg and <10 kg","€ / unit",0.52,0.52,{"$f":"_xlfn.XLOOKUP(K4690,'Codes éco-part'!$C$6:$C$923,'Codes éco-part'!$B$6:$B$923)","v":"509"},0.62]
["DIY and gardening products EPR",3,"21105530571","Modulated","DIY products","Buckets, troughs, and containers","Solid wood and related products >90%","≥15 kg and <20 kg","€ / unit",0.94,0.94,{"$f":"_xlfn.XLOOKUP(K4695,'Codes éco-part'!$C$6:$C$923,'Codes éco-part'!$B$6:$B$923)","v":"458"},1.1299999999999999]
["DIY and gardening products EPR",3,"21105540210",null,"DIY products","Buckets, troughs, and containers","Non-certified wood derivatives >90%","≥0.5 kg and <1 kg","€ / unit",0.04,0.04,{"$f":"_xlfn.XLOOKUP(K4700,'Codes éco-part'!$C$6:$C$923,'Codes éco-part'!$B$6:$B$923)","v":"002"},0.05]
["DIY and gardening products EPR",3,"21105540521","Modulated","DIY products","Buckets, troughs, and containers","Non-certified wood derivatives >90%","≥2 kg and <3 kg","€ / unit",0.13,0.13,{"$f":"_xlfn.XLOOKUP(K4705,'Codes éco-part'!$C$6:$C$923,'Codes éco-part'!$B$6:$B$923)","v":"004"},0.16]
["DIY and gardening products EPR",3,"21105540530",null,"DIY products","Buckets, troughs, and containers","Non-certified wood derivatives >90%","≥3 kg and <5 kg","€ / unit",0.2,0.2,{"$f":"_xlfn.XLOOKUP(K4706,'Codes éco-part'!$C$6:$C$923,'Codes éco-part'!$B$6:$B$923)","v":"101"},0.24]
["DIY and gardening products EPR",3,"21105540551","Modulated","DIY products","Buckets, troughs, and containers","Non-certified wood derivatives >90%","≥7 kg and <10 kg","€ / unit",0.47,0.47,{"$f":"_xlfn.XLOOKUP(K4711,'Codes éco-part'!$C$6:$C$923,'Codes éco-part'!$B$6:$B$923)","v":"107"},0.56000000000000005]
["DIY and gardening products EPR",3,"21105550000",null,"DIY products","Buckets, troughs, and containers","Biosourced materials or non-synthetic textiles >90%","Elements of all sizes and weights","€ / ton",65,65,{"$f":"_xlfn.XLOOKUP(K4716,'Codes éco-part'!$C$6:$C$923,'Codes éco-part'!$B$6:$B$923)","v":"614"},78]
["DIY and gardening products EPR",3,"21105550211","Modulated","DIY products","Buckets, troughs, and containers","Biosourced materials or non-synthetic textiles >90%","≥0.5 kg and <1 kg","€ / unit",0.05,0.05,{"$f":"_xlfn.XLOOKUP(K4721,'Codes éco-part'!$C$6:$C$923,'Codes éco-part'!$B$6:$B$923)","v":"048"},0.06]
["DIY and gardening products EPR",3,"21105550220",null,"DIY products","Buckets, troughs, and containers","Biosourced materials or non-synthetic textiles >90%","≥1 kg and <2 kg","€ / unit",0.1,0.1,{"$f":"_xlfn.XLOOKUP(K4722,'Codes éco-part'!$C$6:$C$923,'Codes éco-part'!$B$6:$B$923)","v":"094"},0.12]
["DIY and gardening products EPR",3,"21105550531","Modulated","DIY products","Buckets, troughs, and containers","Biosourced materials or non-synthetic textiles >90%","≥3 kg and <5 kg","€ / unit",0.23,0.23,{"$f":"_xlfn.XLOOKUP(K4727,'Codes éco-part'!$C$6:$C$923,'Codes éco-part'!$B$6:$B$923)","v":"323"},0.28000000000000003]
["DIY and gardening products EPR",3,"21105550560",null,"DIY products","Buckets, troughs, and containers","Biosourced materials or non-synthetic textiles >90%","≥10 kg and <15 kg","€ / unit",0.98,0.98,{"$f":"_xlfn.XLOOKUP(K4732,'Codes éco-part'!$C$6:$C$923,'Codes éco-part'!$B$6:$B$923)","v":"459"},1.18]
["DIY and gardening products EPR",3,"21105590001","Modulated","DIY products","Buckets, troughs, and containers","Certified chipboard or OSB >90%","Elements of all sizes and weights","€ / ton",23.4,23.4,{"$f":"_xlfn.XLOOKUP(K4737,'Codes éco-part'!$C$6:$C$923,'Codes éco-part'!$B$6:$B$923)","v":946},28.08]
["DIY and gardening products EPR",3,"21105590200",null,"DIY products","Buckets, troughs, and containers","Certified chipboard or OSB >90%","Strictly <0.5 kg","€ / unit",0.01,0.01,{"$f":"_xlfn.XLOOKUP(K4738,'Codes éco-part'!$C$6:$C$923,'Codes éco-part'!$B$6:$B$923)","v":"260"},{"$f":"ROUND(K4738*1.2,2)","v":0.01}]
["DIY and gardening products EPR",3,"21105590221","Modulated","DIY products","Buckets, troughs, and containers","Certified chipboard or OSB >90%","≥1 kg and <2 kg","€ / unit",0.04,0.04,{"$f":"_xlfn.XLOOKUP(K4743,'Codes éco-part'!$C$6:$C$923,'Codes éco-part'!$B$6:$B$923)","v":"002"},0.05]
["DIY and gardening products EPR",3,"21105590540",null,"DIY products","Buckets, troughs, and containers","Certified chipboard or OSB >90%","≥5 kg and <7 kg","€ / unit",0.18,0.18,{"$f":"_xlfn.XLOOKUP(K4748,'Codes éco-part'!$C$6:$C$923,'Codes éco-part'!$B$6:$B$923)","v":"100"},0.22]
["DIY and gardening products EPR",3,"21105590561","Modulated","DIY products","Buckets, troughs, and containers","Certified chipboard or OSB >90%","≥10 kg and <15 kg","€ / unit",0.35,0.35,{"$f":"_xlfn.XLOOKUP(K4753,'Codes éco-part'!$C$6:$C$923,'Codes éco-part'!$B$6:$B$923)","v":"448"},0.42]
["DIY and gardening products EPR",3,"21105590570",null,"DIY products","Buckets, troughs, and containers","Certified chipboard or OSB >90%","≥15 kg and <20 kg","€ / unit",0.52,0.52,{"$f":"_xlfn.XLOOKUP(K4754,'Codes éco-part'!$C$6:$C$923,'Codes éco-part'!$B$6:$B$923)","v":"509"},0.62]
["DIY and gardening products EPR",3,"21105600201","Modulated","DIY products","Buckets, troughs, and containers","Certified chipboard or OSB >75%","Strictly <0.5 kg","€ / unit",0.01,0.01,{"$f":"_xlfn.XLOOKUP(K4759,'Codes éco-part'!$C$6:$C$923,'Codes éco-part'!$B$6:$B$923)","v":"260"},0.01]
["DIY and gardening products EPR",3,"21105600520",null,"DIY products","Buckets, troughs, and containers","Certified chipboard or OSB >75%","≥2 kg and <3 kg","€ / unit",7.0000000000000007E-2,7.0000000000000007E-2,{"$f":"_xlfn.XLOOKUP(K4764,'Codes éco-part'!$C$6:$C$923,'Codes éco-part'!$B$6:$B$923)","v":"247"},0.08]
["DIY and gardening products EPR",3,"21105600541","Modulated","DIY products","Buckets, troughs, and containers","Certified chipboard or OSB >75%","≥5 kg and <7 kg","€ / unit",0.16,0.16,{"$f":"_xlfn.XLOOKUP(K4769,'Codes éco-part'!$C$6:$C$923,'Codes éco-part'!$B$6:$B$923)","v":"099"},0.19]
["DIY and gardening products EPR",3,"21105600550",null,"DIY products","Buckets, troughs, and containers","Certified chipboard or OSB >75%","≥7 kg and <10 kg","€ / unit",0.26,0.26,{"$f":"_xlfn.XLOOKUP(K4770,'Codes éco-part'!$C$6:$C$923,'Codes éco-part'!$B$6:$B$923)","v":"445"},0.31]
["DIY and gardening products EPR",3,"21105600571","Modulated","DIY products","Buckets, troughs, and containers","Certified chipboard or OSB >75%","≥15 kg and <20 kg","€ / unit",0.47,0.47,{"$f":"_xlfn.XLOOKUP(K4775,'Codes éco-part'!$C$6:$C$923,'Codes éco-part'!$B$6:$B$923)","v":"107"},0.56000000000000005]
["DIY and gardening products EPR",3,"21105610210",null,"DIY products","Buckets, troughs, and containers","Chipboard or OSB >90%","≥0.5 kg and <1 kg","€ / unit",0.04,0.04,{"$f":"_xlfn.XLOOKUP(K4780,'Codes éco-part'!$C$6:$C$923,'Codes éco-part'!$B$6:$B$923)","v":"002"},0.05]
["DIY and gardening products EPR",3,"21105610521","Modulated","DIY products","Buckets, troughs, and containers","Chipboard or OSB >90%","≥2 kg and <3 kg","€ / unit",0.13,0.13,{"$f":"_xlfn.XLOOKUP(K4785,'Codes éco-part'!$C$6:$C$923,'Codes éco-part'!$B$6:$B$923)","v":"004"},0.16]
["DIY and gardening products EPR",3,"21105610530",null,"DIY products","Buckets, troughs, and containers","Chipboard or OSB >90%","≥3 kg and <5 kg","€ / unit",0.2,0.2,{"$f":"_xlfn.XLOOKUP(K4786,'Codes éco-part'!$C$6:$C$923,'Codes éco-part'!$B$6:$B$923)","v":"101"},0.24]
["DIY and gardening products EPR",3,"21105610551","Modulated","DIY products","Buckets, troughs, and containers","Chipboard or OSB >90%","≥7 kg and <10 kg","€ / unit",0.47,0.47,{"$f":"_xlfn.XLOOKUP(K4791,'Codes éco-part'!$C$6:$C$923,'Codes éco-part'!$B$6:$B$923)","v":"107"},0.56000000000000005]
["DIY and gardening products EPR",3,"21105620000",null,"DIY products","Buckets, troughs, and containers","Wood derivatives >90%","Elements of all sizes and weights","€ / ton",26,26,{"$f":"_xlfn.XLOOKUP(K4796,'Codes éco-part'!$C$6:$C$923,'Codes éco-part'!$B$6:$B$923)","v":"582"},31.2]
["DIY and gardening products EPR",3,"21105620211","Modulated","DIY products","Buckets, troughs, and containers","Wood derivatives >90%","≥0.5 kg and <1 kg","€ / unit",0.02,0.02,{"$f":"_xlfn.XLOOKUP(K4801,'Codes éco-part'!$C$6:$C$923,'Codes éco-part'!$B$6:$B$923)","v":"047"},0.02]
["DIY and gardening products EPR",3,"21105620220",null,"DIY products","Buckets, troughs, and containers","Wood derivatives >90%","≥1 kg and <2 kg","€ / unit",0.04,0.04,{"$f":"_xlfn.XLOOKUP(K4802,'Codes éco-part'!$C$6:$C$923,'Codes éco-part'!$B$6:$B$923)","v":"002"},{"$f":"ROUND(K4802*1.2,2)","v":0.05}]
["DIY and gardening products EPR",3,"21105620531","Modulated","DIY products","Buckets, troughs, and containers","Wood derivatives >90%","≥3 kg and <5 kg","€ / unit",0.09,0.09,{"$f":"_xlfn.XLOOKUP(K4807,'Codes éco-part'!$C$6:$C$923,'Codes éco-part'!$B$6:$B$923)","v":"049"},0.11]
["DIY and gardening products EPR",3,"21105620560",null,"DIY products","Buckets, troughs, and containers","Wood derivatives >90%","≥10 kg and <15 kg","€ / unit",0.39,0.39,{"$f":"_xlfn.XLOOKUP(K4812,'Codes éco-part'!$C$6:$C$923,'Codes éco-part'!$B$6:$B$923)","v":"253"},0.47]
["DIY and gardening products EPR",3,"21105630001","Modulated","DIY products","Buckets, troughs, and containers","Natural rubber >90%","Elements of all sizes and weights","€ / ton",58.5,58.5,{"$f":"_xlfn.XLOOKUP(K4817,'Codes éco-part'!$C$6:$C$923,'Codes éco-part'!$B$6:$B$923)","v":942},70.2]
["DIY and gardening products EPR",3,"21105630200",null,"DIY products","Buckets, troughs, and containers","Natural rubber >90%","Strictly <0.5 kg","€ / unit",0.02,0.02,{"$f":"_xlfn.XLOOKUP(K4818,'Codes éco-part'!$C$6:$C$923,'Codes éco-part'!$B$6:$B$923)","v":"047"},0.02]
["DIY and gardening products EPR",3,"21105630221","Modulated","DIY products","Buckets, troughs, and containers","Natural rubber >90%","≥1 kg and <2 kg","€ / unit",0.09,0.09,{"$f":"_xlfn.XLOOKUP(K4823,'Codes éco-part'!$C$6:$C$923,'Codes éco-part'!$B$6:$B$923)","v":"049"},0.11]
["DIY and gardening products EPR",3,"21105630531","Modulated","DIY products","Buckets, troughs, and containers","Natural rubber >90%","≥3 kg and <5 kg","€ / unit",0.23,0.23,{"$f":"_xlfn.XLOOKUP(K4827,'Codes éco-part'!$C$6:$C$923,'Codes éco-part'!$B$6:$B$923)","v":"323"},0.28000000000000003]
["DIY and gardening products EPR",3,"21105630560",null,"DIY products","Buckets, troughs, and containers","Natural rubber >90%","≥10 kg and <15 kg","€ / unit",0.98,0.98,{"$f":"_xlfn.XLOOKUP(K4832,'Codes éco-part'!$C$6:$C$923,'Codes éco-part'!$B$6:$B$923)","v":"459"},1.18]
["DIY and gardening products EPR",3,"21105630561","Modulated","DIY products","Buckets, troughs, and containers","Natural rubber >90%","≥10 kg and <15 kg","€ / unit",0.88,0.88,{"$f":"_xlfn.XLOOKUP(K4833,'Codes éco-part'!$C$6:$C$923,'Codes éco-part'!$B$6:$B$923)","v":"269"},1.06]
["DIY and gardening products EPR",3,"21105640200",null,"DIY products","Buckets, troughs, and containers","Natural rubber >50%","Strictly <0.5 kg","€ / unit",0.06,0.06,{"$f":"_xlfn.XLOOKUP(K4838,'Codes éco-part'!$C$6:$C$923,'Codes éco-part'!$B$6:$B$923)","v":"096"},7.0000000000000007E-2]
["DIY and gardening products EPR",3,"21105640221","Modulated","DIY products","Buckets, troughs, and containers","Natural rubber >50%","≥1 kg and <2 kg","€ / unit",0.34,0.34,{"$f":"_xlfn.XLOOKUP(K4843,'Codes éco-part'!$C$6:$C$923,'Codes éco-part'!$B$6:$B$923)","v":"043"},0.41]
["DIY and gardening products EPR",3,"21105640540",null,"DIY products","Buckets, troughs, and containers","Natural rubber >50%","≥5 kg and <7 kg","€ / unit",1.75,1.75,{"$f":"_xlfn.XLOOKUP(K4848,'Codes éco-part'!$C$6:$C$923,'Codes éco-part'!$B$6:$B$923)","v":"538"},2.1]
["DIY and gardening products EPR",3,"21105640541","Modulated","DIY products","Buckets, troughs, and containers","Natural rubber >50%","≥5 kg and <7 kg","€ / unit",1.58,1.58,{"$f":"_xlfn.XLOOKUP(K4849,'Codes éco-part'!$C$6:$C$923,'Codes éco-part'!$B$6:$B$923)","v":618},1.9]
["DIY and gardening products EPR",3,"21105640570",null,"DIY products","Buckets, troughs, and containers","Natural rubber >50%","≥15 kg and <20 kg","€ / unit",5,5,{"$f":"_xlfn.XLOOKUP(K4854,'Codes éco-part'!$C$6:$C$923,'Codes éco-part'!$B$6:$B$923)","v":"042"},6]
["DIY and gardening products EPR",3,"21105650201","Modulated","DIY products","Buckets, troughs, and containers","Synthetic fibres or materials >90%","Strictly <0.5 kg","€ / unit",0.04,0.04,{"$f":"_xlfn.XLOOKUP(K4859,'Codes éco-part'!$C$6:$C$923,'Codes éco-part'!$B$6:$B$923)","v":"002"},0.05]
["DIY and gardening products EPR",3,"21105650520",null,"DIY products","Buckets, troughs, and containers","Synthetic fibres or materials >90%","≥2 kg and <3 kg","€ / unit",0.4,0.4,{"$f":"_xlfn.XLOOKUP(K4864,'Codes éco-part'!$C$6:$C$923,'Codes éco-part'!$B$6:$B$923)","v":"105"},0.48]
["DIY and gardening products EPR",3,"21105650521","Modulated","DIY products","Buckets, troughs, and containers","Synthetic fibres or materials >90%","≥2 kg and <3 kg","€ / unit",0.36,0.36,{"$f":"_xlfn.XLOOKUP(K4865,'Codes éco-part'!$C$6:$C$923,'Codes éco-part'!$B$6:$B$923)","v":"449"},0.43]
["DIY and gardening products EPR",3,"21105650550",null,"DIY products","Buckets, troughs, and containers","Synthetic fibres or materials >90%","≥7 kg and <10 kg","€ / unit",1.6,1.6,{"$f":"_xlfn.XLOOKUP(K4870,'Codes éco-part'!$C$6:$C$923,'Codes éco-part'!$B$6:$B$923)","v":"595"},1.92]
["DIY and gardening products EPR",3,"21105650571","Modulated","DIY products","Buckets, troughs, and containers","Synthetic fibres or materials >90%","≥15 kg and <20 kg","€ / unit",2.88,2.88,{"$f":"_xlfn.XLOOKUP(K4875,'Codes éco-part'!$C$6:$C$923,'Codes éco-part'!$B$6:$B$923)","v":"400"},3.46]
["DIY and gardening products EPR",3,"21105670210",null,"DIY products","Buckets, troughs, and containers","Assembly of synthetic fibres and/or materials >50% and other materials","≥0.5 kg and <1 kg","€ / unit",0.19,0.19,{"$f":"_xlfn.XLOOKUP(K4880,'Codes éco-part'!$C$6:$C$923,'Codes éco-part'!$B$6:$B$923)","v":"291"},0.23]
["DIY and gardening products EPR",3,"21105670211","Modulated","DIY products","Buckets, troughs, and containers","Assembly of synthetic fibres and/or materials >50% and other materials","≥0.5 kg and <1 kg","€ / unit",0.17,0.17,{"$f":"_xlfn.XLOOKUP(K4881,'Codes éco-part'!$C$6:$C$923,'Codes éco-part'!$B$6:$B$923)","v":"005"},0.2]
["DIY and gardening products EPR",3,"21105670530",null,"DIY products","Buckets, troughs, and containers","Assembly of synthetic fibres and/or materials >50% and other materials","≥3 kg and <5 kg","€ / unit",1,1,{"$f":"_xlfn.XLOOKUP(K4886,'Codes éco-part'!$C$6:$C$923,'Codes éco-part'!$B$6:$B$923)","v":"056"},1.2]
["DIY and gardening products EPR",3,"21105670551","Modulated","DIY products","Buckets, troughs, and containers","Assembly of synthetic fibres and/or materials >50% and other materials","≥7 kg and <10 kg","€ / unit",2.25,2.25,{"$f":"_xlfn.XLOOKUP(K4891,'Codes éco-part'!$C$6:$C$923,'Codes éco-part'!$B$6:$B$923)","v":"118"},2.7]
["DIY and gardening products EPR",3,"21105680000",null,"DIY products","Buckets, troughs, and containers","Glass >90%","Elements of all sizes and weights","€ / ton",8.75,8.75,{"$f":"_xlfn.XLOOKUP(K4896,'Codes éco-part'!$C$6:$C$923,'Codes éco-part'!$B$6:$B$923)","v":"069"},10.5]
["DIY and gardening products EPR",3,"21105680001","Modulated","DIY products","Buckets, troughs, and containers","Glass >90%","Elements of all sizes and weights","€ / ton",7.88,7.88,{"$f":"_xlfn.XLOOKUP(K4897,'Codes éco-part'!$C$6:$C$923,'Codes éco-part'!$B$6:$B$923)","v":"354"},9.4600000000000009]
["DIY and gardening products EPR",3,"21105680220",null,"DIY products","Buckets, troughs, and containers","Glass >90%","≥1 kg and <2 kg","€ / unit",0.01,0.01,{"$f":"_xlfn.XLOOKUP(K4902,'Codes éco-part'!$C$6:$C$923,'Codes éco-part'!$B$6:$B$923)","v":"260"},0.01]
["DIY and gardening products EPR",3,"21105680531","Modulated","DIY products","Buckets, troughs, and containers","Glass >90%","≥3 kg and <5 kg","€ / unit",0.04,0.04,{"$f":"_xlfn.XLOOKUP(K4907,'Codes éco-part'!$C$6:$C$923,'Codes éco-part'!$B$6:$B$923)","v":"002"},0.05]
["DIY and gardening products EPR",3,"21105680560",null,"DIY products","Buckets, troughs, and containers","Glass >90%","≥10 kg and <15 kg","€ / unit",0.13,0.13,{"$f":"_xlfn.XLOOKUP(K4912,'Codes éco-part'!$C$6:$C$923,'Codes éco-part'!$B$6:$B$923)","v":"004"},0.16]
["DIY and gardening products EPR",3,"21105680561","Modulated","DIY products","Buckets, troughs, and containers","Glass >90%","≥10 kg and <15 kg","€ / unit",0.12,0.12,{"$f":"_xlfn.XLOOKUP(K4913,'Codes éco-part'!$C$6:$C$923,'Codes éco-part'!$B$6:$B$923)","v":"097"},0.14000000000000001]
["DIY and gardening products EPR",3,"21105700200",null,"DIY products","Buckets, troughs, and containers","Assembly of glass >50% and metal","Strictly <0.5 kg","€ / unit",0.06,0.06,{"$f":"_xlfn.XLOOKUP(K4918,'Codes éco-part'!$C$6:$C$923,'Codes éco-part'!$B$6:$B$923)","v":"096"},7.0000000000000007E-2]
["DIY and gardening products EPR",3,"21105700221","Modulated","DIY products","Buckets, troughs, and containers","Assembly of glass >50% and metal","≥1 kg and <2 kg","€ / unit",0.34,0.34,{"$f":"_xlfn.XLOOKUP(K4923,'Codes éco-part'!$C$6:$C$923,'Codes éco-part'!$B$6:$B$923)","v":"043"},0.41]
["DIY and gardening products EPR",3,"21105700540",null,"DIY products","Buckets, troughs, and containers","Assembly of glass >50% and metal","≥5 kg and <7 kg","€ / unit",1.75,1.75,{"$f":"_xlfn.XLOOKUP(K4928,'Codes éco-part'!$C$6:$C$923,'Codes éco-part'!$B$6:$B$923)","v":"538"},2.1]
["DIY and gardening products EPR",3,"21105700541","Modulated","DIY products","Buckets, troughs, and containers","Assembly of glass >50% and metal","≥5 kg and <7 kg","€ / unit",1.58,1.58,{"$f":"_xlfn.XLOOKUP(K4929,'Codes éco-part'!$C$6:$C$923,'Codes éco-part'!$B$6:$B$923)","v":618},1.9]
["DIY and gardening products EPR",3,"21105700570",null,"DIY products","Buckets, troughs, and containers","Assembly of glass >50% and metal","≥15 kg and <20 kg","€ / unit",5,5,{"$f":"_xlfn.XLOOKUP(K4934,'Codes éco-part'!$C$6:$C$923,'Codes éco-part'!$B$6:$B$923)","v":"042"},6]
["DIY and gardening products EPR",3,"21105710201","Modulated","DIY products","Buckets, troughs, and containers","Assembly of glass >50% and inert substances","Strictly <0.5 kg","€ / unit",0.05,0.05,{"$f":"_xlfn.XLOOKUP(K4939,'Codes éco-part'!$C$6:$C$923,'Codes éco-part'!$B$6:$B$923)","v":"048"},0.06]
["DIY and gardening products EPR",3,"21105710520",null,"DIY products","Buckets, troughs, and containers","Assembly of glass >50% and inert substances","≥2 kg and <3 kg","€ / unit",0.63,0.63,{"$f":"_xlfn.XLOOKUP(K4944,'Codes éco-part'!$C$6:$C$923,'Codes éco-part'!$B$6:$B$923)","v":"297"},0.76]
["DIY and gardening products EPR",3,"21105710521","Modulated","DIY products","Buckets, troughs, and containers","Assembly of glass >50% and inert substances","≥2 kg and <3 kg","€ / unit",0.56999999999999995,0.56999999999999995,{"$f":"_xlfn.XLOOKUP(K4945,'Codes éco-part'!$C$6:$C$923,'Codes éco-part'!$B$6:$B$923)","v":"326"},0.68]
["DIY and gardening products EPR",3,"21105710550",null,"DIY products","Buckets, troughs, and containers","Assembly of glass >50% and inert substances","≥7 kg and <10 kg","€ / unit",2.5,2.5,{"$f":"_xlfn.XLOOKUP(K4950,'Codes éco-part'!$C$6:$C$923,'Codes éco-part'!$B$6:$B$923)","v":"012"},3]
["DIY and gardening products EPR",3,"21105710571","Modulated","DIY products","Buckets, troughs, and containers","Assembly of glass >50% and inert substances","≥15 kg and <20 kg","€ / unit",4.5,4.5,{"$f":"_xlfn.XLOOKUP(K4955,'Codes éco-part'!$C$6:$C$923,'Codes éco-part'!$B$6:$B$923)","v":"127"},5.4]
["DIY and gardening products EPR",3,"21105720210",null,"DIY products","Buckets, troughs, and containers","Assembly of glass >50% and wood or wood derivatives","≥0.5 kg and <1 kg","€ / unit",0.19,0.19,{"$f":"_xlfn.XLOOKUP(K4960,'Codes éco-part'!$C$6:$C$923,'Codes éco-part'!$B$6:$B$923)","v":"291"},0.23]
["DIY and gardening products EPR",3,"21105720211","Modulated","DIY products","Buckets, troughs, and containers","Assembly of glass >50% and wood or wood derivatives","≥0.5 kg and <1 kg","€ / unit",0.17,0.17,{"$f":"_xlfn.XLOOKUP(K4961,'Codes éco-part'!$C$6:$C$923,'Codes éco-part'!$B$6:$B$923)","v":"005"},0.2]
["DIY and gardening products EPR",3,"21105720530",null,"DIY products","Buckets, troughs, and containers","Assembly of glass >50% and wood or wood derivatives","≥3 kg and <5 kg","€ / unit",1,1,{"$f":"_xlfn.XLOOKUP(K4966,'Codes éco-part'!$C$6:$C$923,'Codes éco-part'!$B$6:$B$923)","v":"056"},1.2]
["DIY and gardening products EPR",3,"21105720551","Modulated","DIY products","Buckets, troughs, and containers","Assembly of glass >50% and wood or wood derivatives","≥7 kg and <10 kg","€ / unit",2.25,2.25,{"$f":"_xlfn.XLOOKUP(K4971,'Codes éco-part'!$C$6:$C$923,'Codes éco-part'!$B$6:$B$923)","v":"118"},2.7]
["DIY and gardening products EPR",3,"21105730000",null,"DIY products","Buckets, troughs, and containers","Assembly of glass >50% and plastic","Elements of all sizes and weights","€ / ton",250,250,{"$f":"_xlfn.XLOOKUP(K4976,'Codes éco-part'!$C$6:$C$923,'Codes éco-part'!$B$6:$B$923)","v":"612"},300]
["DIY and gardening products EPR",3,"21105730001","Modulated","DIY products","Buckets, troughs, and containers","Assembly of glass >50% and plastic","Elements of all sizes and weights","€ / ton",225,225,{"$f":"_xlfn.XLOOKUP(K4977,'Codes éco-part'!$C$6:$C$923,'Codes éco-part'!$B$6:$B$923)","v":949},270]
["DIY and gardening products EPR",3,"21105730220",null,"DIY products","Buckets, troughs, and containers","Assembly of glass >50% and plastic","≥1 kg and <2 kg","€ / unit",0.38,0.38,{"$f":"_xlfn.XLOOKUP(K4982,'Codes éco-part'!$C$6:$C$923,'Codes éco-part'!$B$6:$B$923)","v":"292"},0.46]
["DIY and gardening products EPR",3,"21105730531","Modulated","DIY products","Buckets, troughs, and containers","Assembly of glass >50% and plastic","≥3 kg and <5 kg","€ / unit",0.9,0.9,{"$f":"_xlfn.XLOOKUP(K4987,'Codes éco-part'!$C$6:$C$923,'Codes éco-part'!$B$6:$B$923)","v":"330"},1.08]
["DIY and gardening products EPR",3,"21105730560",null,"DIY products","Buckets, troughs, and containers","Assembly of glass >50% and plastic","≥10 kg and <15 kg","€ / unit",3.75,3.75,{"$f":"_xlfn.XLOOKUP(K4992,'Codes éco-part'!$C$6:$C$923,'Codes éco-part'!$B$6:$B$923)","v":"015"},4.5]
["DIY and gardening products EPR",3,"21105730561","Modulated","DIY products","Buckets, troughs, and containers","Assembly of glass >50% and plastic","≥10 kg and <15 kg","€ / unit",3.38,3.38,{"$f":"_xlfn.XLOOKUP(K4993,'Codes éco-part'!$C$6:$C$923,'Codes éco-part'!$B$6:$B$923)","v":"343"},4.0599999999999996]
["DIY and gardening products EPR",3,"21105740200",null,"DIY products","Buckets, troughs, and containers","Concrete >90%","Strictly <0.5 kg","€ / unit",0.01,0.01,{"$f":"_xlfn.XLOOKUP(K4998,'Codes éco-part'!$C$6:$C$923,'Codes éco-part'!$B$6:$B$923)","v":"260"},0.01]
["DIY and gardening products EPR",3,"21105740221","Modulated","DIY products","Buckets, troughs, and containers","Concrete >90%","≥1 kg and <2 kg","€ / unit",0.01,0.01,{"$f":"_xlfn.XLOOKUP(K5003,'Codes éco-part'!$C$6:$C$923,'Codes éco-part'!$B$6:$B$923)","v":"260"},0.01]
["DIY and gardening products EPR",3,"21105740540",null,"DIY products","Buckets, troughs, and containers","Concrete >90%","≥5 kg and <7 kg","€ / unit",0.06,0.06,{"$f":"_xlfn.XLOOKUP(K5008,'Codes éco-part'!$C$6:$C$923,'Codes éco-part'!$B$6:$B$923)","v":"096"},7.0000000000000007E-2]
["DIY and gardening products EPR",3,"21105740541","Modulated","DIY products","Buckets, troughs, and containers","Concrete >90%","≥5 kg and <7 kg","€ / unit",0.05,0.05,{"$f":"_xlfn.XLOOKUP(K5009,'Codes éco-part'!$C$6:$C$923,'Codes éco-part'!$B$6:$B$923)","v":"048"},0.06]
["DIY and gardening products EPR",3,"21105740570",null,"DIY products","Buckets, troughs, and containers","Concrete >90%","≥15 kg and <20 kg","€ / unit",0.18,0.18,{"$f":"_xlfn.XLOOKUP(K5014,'Codes éco-part'!$C$6:$C$923,'Codes éco-part'!$B$6:$B$923)","v":"100"},0.22]
["DIY and gardening products EPR",3,"21105810201","Modulated","DIY products","Buckets, troughs, and containers","Assembly of wood, wood derivatives, and metal with a combination representing >90%","Strictly <0.5 kg","€ / unit",0.01,0.01,{"$f":"_xlfn.XLOOKUP(K5019,'Codes éco-part'!$C$6:$C$923,'Codes éco-part'!$B$6:$B$923)","v":"260"},0.01]
["DIY and gardening products EPR",3,"21105810520",null,"DIY products","Buckets, troughs, and containers","Assembly of wood, wood derivatives, and metal with a combination representing >90%","≥2 kg and <3 kg","€ / unit",7.0000000000000007E-2,7.0000000000000007E-2,{"$f":"_xlfn.XLOOKUP(K5024,'Codes éco-part'!$C$6:$C$923,'Codes éco-part'!$B$6:$B$923)","v":"247"},0.08]
["DIY and gardening products EPR",3,"21105810521","Modulated","DIY products","Buckets, troughs, and containers","Assembly of wood, wood derivatives, and metal with a combination representing >90%","≥2 kg and <3 kg","€ / unit",0.06,0.06,{"$f":"_xlfn.XLOOKUP(K5025,'Codes éco-part'!$C$6:$C$923,'Codes éco-part'!$B$6:$B$923)","v":"096"},7.0000000000000007E-2]
["DIY and gardening products EPR",3,"21105810550",null,"DIY products","Buckets, troughs, and containers","Assembly of wood, wood derivatives, and metal with a combination representing >90%","≥7 kg and <10 kg","€ / unit",0.26,0.26,{"$f":"_xlfn.XLOOKUP(K5030,'Codes éco-part'!$C$6:$C$923,'Codes éco-part'!$B$6:$B$923)","v":"445"},0.31]
["DIY and gardening products EPR",3,"21105810571","Modulated","DIY products","Buckets, troughs, and containers","Assembly of wood, wood derivatives, and metal with a combination representing >90%","≥15 kg and <20 kg","€ / unit",0.47,0.47,{"$f":"_xlfn.XLOOKUP(K5035,'Codes éco-part'!$C$6:$C$923,'Codes éco-part'!$B$6:$B$923)","v":"107"},0.56000000000000005]
["DIY and gardening products EPR",3,"21105820210",null,"DIY products","Buckets, troughs, and containers","Assembly of 3 or more materials, with no material representing >50%","≥0.5 kg and <1 kg","€ / unit",0.19,0.19,{"$f":"_xlfn.XLOOKUP(K5040,'Codes éco-part'!$C$6:$C$923,'Codes éco-part'!$B$6:$B$923)","v":"291"},0.23]
["DIY and gardening products EPR",3,"21105820211","Modulated","DIY products","Buckets, troughs, and containers","Assembly of 3 or more materials, with no material representing >50%","≥0.5 kg and <1 kg","€ / unit",0.17,0.17,{"$f":"_xlfn.XLOOKUP(K5041,'Codes éco-part'!$C$6:$C$923,'Codes éco-part'!$B$6:$B$923)","v":"005"},0.2]
["DIY and gardening products EPR",3,"21105820530",null,"DIY products","Buckets, troughs, and containers","Assembly of 3 or more materials, with no material representing >50%","≥3 kg and <5 kg","€ / unit",1,1,{"$f":"_xlfn.XLOOKUP(K5046,'Codes éco-part'!$C$6:$C$923,'Codes éco-part'!$B$6:$B$923)","v":"056"},1.2]
["DIY and gardening products EPR",3,"21105820551","Modulated","DIY products","Buckets, troughs, and containers","Assembly of 3 or more materials, with no material representing >50%","≥7 kg and <10 kg","€ / unit",2.25,2.25,{"$f":"_xlfn.XLOOKUP(K5051,'Codes éco-part'!$C$6:$C$923,'Codes éco-part'!$B$6:$B$923)","v":"118"},2.7]
["DIY and gardening products EPR",3,"21105840000",null,"DIY products","Buckets, troughs, and containers","Slate >90%","Elements of all sizes and weights","€ / ton",8.75,8.75,{"$f":"_xlfn.XLOOKUP(K5056,'Codes éco-part'!$C$6:$C$923,'Codes éco-part'!$B$6:$B$923)","v":"069"},10.5]
["DIY and gardening products EPR",3,"21105840001","Modulated","DIY products","Buckets, troughs, and containers","Slate >90%","Elements of all sizes and weights","€ / ton",7.88,7.88,{"$f":"_xlfn.XLOOKUP(K5057,'Codes éco-part'!$C$6:$C$923,'Codes éco-part'!$B$6:$B$923)","v":"354"},9.4600000000000009]
["DIY and gardening products EPR",3,"21105840220",null,"DIY products","Buckets, troughs, and containers","Slate >90%","≥1 kg and <2 kg","€ / unit",0.01,0.01,{"$f":"_xlfn.XLOOKUP(K5062,'Codes éco-part'!$C$6:$C$923,'Codes éco-part'!$B$6:$B$923)","v":"260"},0.01]
["DIY and gardening products EPR",3,"21105840531","Modulated","DIY products","Buckets, troughs, and containers","Slate >90%","≥3 kg and <5 kg","€ / unit",0.04,0.04,{"$f":"_xlfn.XLOOKUP(K5067,'Codes éco-part'!$C$6:$C$923,'Codes éco-part'!$B$6:$B$923)","v":"002"},0.05]
["DIY and gardening products EPR",3,"21105840560",null,"DIY products","Buckets, troughs, and containers","Slate >90%","≥10 kg and <15 kg","€ / unit",0.13,0.13,{"$f":"_xlfn.XLOOKUP(K5072,'Codes éco-part'!$C$6:$C$923,'Codes éco-part'!$B$6:$B$923)","v":"004"},0.16]
["DIY and gardening products EPR",3,"21105840561","Modulated","DIY products","Buckets, troughs, and containers","Slate >90%","≥10 kg and <15 kg","€ / unit",0.12,0.12,{"$f":"_xlfn.XLOOKUP(K5073,'Codes éco-part'!$C$6:$C$923,'Codes éco-part'!$B$6:$B$923)","v":"097"},0.14000000000000001]
["DIY and gardening products EPR",3,"21105860200",null,"DIY products","Buckets, troughs, and containers","Limestone >90%","Strictly <0.5 kg","€ / unit",0.01,0.01,{"$f":"_xlfn.XLOOKUP(K5078,'Codes éco-part'!$C$6:$C$923,'Codes éco-part'!$B$6:$B$923)","v":"260"},0.01]
["DIY and gardening products EPR",3,"21105860221","Modulated","DIY products","Buckets, troughs, and containers","Limestone >90%","≥1 kg and <2 kg","€ / unit",0.01,0.01,{"$f":"_xlfn.XLOOKUP(K5083,'Codes éco-part'!$C$6:$C$923,'Codes éco-part'!$B$6:$B$923)","v":"260"},0.01]
["DIY and gardening products EPR",3,"21105860531","Modulated","DIY products","Buckets, troughs, and containers","Limestone >90%","≥3 kg and <5 kg","€ / unit",0.04,0.04,{"$f":"_xlfn.XLOOKUP(K5087,'Codes éco-part'!$C$6:$C$923,'Codes éco-part'!$B$6:$B$923)","v":"002"},0.05]
["DIY and gardening products EPR",3,"21105860540",null,"DIY products","Buckets, troughs, and containers","Limestone >90%","≥5 kg and <7 kg","€ / unit",0.06,0.06,{"$f":"_xlfn.XLOOKUP(K5088,'Codes éco-part'!$C$6:$C$923,'Codes éco-part'!$B$6:$B$923)","v":"096"},7.0000000000000007E-2]
["DIY and gardening products EPR",3,"21105860561","Modulated","DIY products","Buckets, troughs, and containers","Limestone >90%","≥10 kg and <15 kg","€ / unit",0.12,0.12,{"$f":"_xlfn.XLOOKUP(K5093,'Codes éco-part'!$C$6:$C$923,'Codes éco-part'!$B$6:$B$923)","v":"097"},0.14000000000000001]
["DIY and gardening products EPR",3,"21105870200",null,"DIY products","Buckets, troughs, and containers","Lava stone >90%","Strictly <0.5 kg","€ / unit",0.01,0.01,{"$f":"_xlfn.XLOOKUP(K5098,'Codes éco-part'!$C$6:$C$923,'Codes éco-part'!$B$6:$B$923)","v":"260"},0.01]
["DIY and gardening products EPR",3,"21105870221","Modulated","DIY products","Buckets, troughs, and containers","Lava stone >90%","≥1 kg and <2 kg","€ / unit",0.01,0.01,{"$f":"_xlfn.XLOOKUP(K5103,'Codes éco-part'!$C$6:$C$923,'Codes éco-part'!$B$6:$B$923)","v":"260"},0.01]
["DIY and gardening products EPR",3,"21105870520",null,"DIY products","Buckets, troughs, and containers","Lava stone >90%","≥2 kg and <3 kg","€ / unit",0.02,0.02,{"$f":"_xlfn.XLOOKUP(K5104,'Codes éco-part'!$C$6:$C$923,'Codes éco-part'!$B$6:$B$923)","v":"047"},0.02]
["DIY and gardening products EPR",3,"21105870541","Modulated","DIY products","Buckets, troughs, and containers","Lava stone >90%","≥5 kg and <7 kg","€ / unit",0.05,0.05,{"$f":"_xlfn.XLOOKUP(K5109,'Codes éco-part'!$C$6:$C$923,'Codes éco-part'!$B$6:$B$923)","v":"048"},0.06]
["DIY and gardening products EPR",3,"21105870570",null,"DIY products","Buckets, troughs, and containers","Lava stone >90%","≥15 kg and <20 kg","€ / unit",0.18,0.18,{"$f":"_xlfn.XLOOKUP(K5114,'Codes éco-part'!$C$6:$C$923,'Codes éco-part'!$B$6:$B$923)","v":"100"},0.22]
["DIY and gardening products EPR",3,"21105890201","Modulated","DIY products","Buckets, troughs, and containers","Raw earth or terracotta >90%","Strictly <0.5 kg","€ / unit",0.01,0.01,{"$f":"_xlfn.XLOOKUP(K5119,'Codes éco-part'!$C$6:$C$923,'Codes éco-part'!$B$6:$B$923)","v":"260"},0.01]
["DIY and gardening products EPR",3,"21105890210",null,"DIY products","Buckets, troughs, and containers","Raw earth or terracotta >90%","≥0.5 kg and <1 kg","€ / unit",0.01,0.01,{"$f":"_xlfn.XLOOKUP(K5120,'Codes éco-part'!$C$6:$C$923,'Codes éco-part'!$B$6:$B$923)","v":"260"},0.01]
["DIY and gardening products EPR",3,"21105890521","Modulated","DIY products","Buckets, troughs, and containers","Raw earth or terracotta >90%","≥2 kg and <3 kg","€ / unit",0.02,0.02,{"$f":"_xlfn.XLOOKUP(K5125,'Codes éco-part'!$C$6:$C$923,'Codes éco-part'!$B$6:$B$923)","v":"047"},0.02]
["DIY and gardening products EPR",3,"21105890550",null,"DIY products","Buckets, troughs, and containers","Raw earth or terracotta >90%","≥7 kg and <10 kg","€ / unit",0.09,0.09,{"$f":"_xlfn.XLOOKUP(K5130,'Codes éco-part'!$C$6:$C$923,'Codes éco-part'!$B$6:$B$923)","v":"049"},0.11]
["DIY and gardening products EPR",3,"21105890571","Modulated","DIY products","Buckets, troughs, and containers","Raw earth or terracotta >90%","≥15 kg and <20 kg","€ / unit",0.16,0.16,{"$f":"_xlfn.XLOOKUP(K5135,'Codes éco-part'!$C$6:$C$923,'Codes éco-part'!$B$6:$B$923)","v":"099"},0.19]
["DIY and gardening products EPR",3,"21105900000",null,"DIY products","Buckets, troughs, and containers","Cement >90%","Elements of all sizes and weights","€ / ton",8.75,8.75,{"$f":"_xlfn.XLOOKUP(K5136,'Codes éco-part'!$C$6:$C$923,'Codes éco-part'!$B$6:$B$923)","v":"069"},10.5]
["DIY and gardening products EPR",3,"21105900211","Modulated","DIY products","Buckets, troughs, and containers","Cement >90%","≥0.5 kg and <1 kg","€ / unit",0.01,0.01,{"$f":"_xlfn.XLOOKUP(K5141,'Codes éco-part'!$C$6:$C$923,'Codes éco-part'!$B$6:$B$923)","v":"260"},0.01]
["DIY and gardening products EPR",3,"21105900530",null,"DIY products","Buckets, troughs, and containers","Cement >90%","≥3 kg and <5 kg","€ / unit",0.04,0.04,{"$f":"_xlfn.XLOOKUP(K5146,'Codes éco-part'!$C$6:$C$923,'Codes éco-part'!$B$6:$B$923)","v":"002"},0.05]
["DIY and gardening products EPR",3,"21105900551","Modulated","DIY products","Buckets, troughs, and containers","Cement >90%","≥7 kg and <10 kg","€ / unit",0.08,0.08,{"$f":"_xlfn.XLOOKUP(K5151,'Codes éco-part'!$C$6:$C$923,'Codes éco-part'!$B$6:$B$923)","v":"003"},0.1]
["DIY and gardening products EPR",3,"21105900560",null,"DIY products","Buckets, troughs, and containers","Cement >90%","≥10 kg and <15 kg","€ / unit",0.13,0.13,{"$f":"_xlfn.XLOOKUP(K5152,'Codes éco-part'!$C$6:$C$923,'Codes éco-part'!$B$6:$B$923)","v":"004"},0.16]
["DIY and gardening products EPR",3,"21105910001","Modulated","DIY products","Buckets, troughs, and containers","Granite >90%","Elements of all sizes and weights","€ / ton",7.88,7.88,{"$f":"_xlfn.XLOOKUP(K5157,'Codes éco-part'!$C$6:$C$923,'Codes éco-part'!$B$6:$B$923)","v":"354"},9.4600000000000009]
["DIY and gardening products EPR",3,"21105910220",null,"DIY products","Buckets, troughs, and containers","Granite >90%","≥1 kg and <2 kg","€ / unit",0.01,0.01,{"$f":"_xlfn.XLOOKUP(K5162,'Codes éco-part'!$C$6:$C$923,'Codes éco-part'!$B$6:$B$923)","v":"260"},0.01]
["DIY and gardening products EPR",3,"21105910531","Modulated","DIY products","Buckets, troughs, and containers","Granite >90%","≥3 kg and <5 kg","€ / unit",0.04,0.04,{"$f":"_xlfn.XLOOKUP(K5167,'Codes éco-part'!$C$6:$C$923,'Codes éco-part'!$B$6:$B$923)","v":"002"},0.05]
["DIY and gardening products EPR",3,"21105910540",null,"DIY products","Buckets, troughs, and containers","Granite >90%","≥5 kg and <7 kg","€ / unit",0.06,0.06,{"$f":"_xlfn.XLOOKUP(K5168,'Codes éco-part'!$C$6:$C$923,'Codes éco-part'!$B$6:$B$923)","v":"096"},7.0000000000000007E-2]
["DIY and gardening products EPR",3,"21105910561","Modulated","DIY products","Buckets, troughs, and containers","Granite >90%","≥10 kg and <15 kg","€ / unit",0.12,0.12,{"$f":"_xlfn.XLOOKUP(K5173,'Codes éco-part'!$C$6:$C$923,'Codes éco-part'!$B$6:$B$923)","v":"097"},0.14000000000000001]
["DIY and gardening products EPR",3,"21105940200",null,"DIY products","Buckets, troughs, and containers","Sandstone >90%","Strictly <0.5 kg","€ / unit",0.01,0.01,{"$f":"_xlfn.XLOOKUP(K5178,'Codes éco-part'!$C$6:$C$923,'Codes éco-part'!$B$6:$B$923)","v":"260"},0.01]
["DIY and gardening products EPR",3,"21105940221","Modulated","DIY products","Buckets, troughs, and containers","Sandstone >90%","≥1 kg and <2 kg","€ / unit",0.01,0.01,{"$f":"_xlfn.XLOOKUP(K5183,'Codes éco-part'!$C$6:$C$923,'Codes éco-part'!$B$6:$B$923)","v":"260"},0.01]
["DIY and gardening products EPR",3,"21105940520",null,"DIY products","Buckets, troughs, and containers","Sandstone >90%","≥2 kg and <3 kg","€ / unit",0.02,0.02,{"$f":"_xlfn.XLOOKUP(K5184,'Codes éco-part'!$C$6:$C$923,'Codes éco-part'!$B$6:$B$923)","v":"047"},0.02]
["DIY and gardening products EPR",3,"21105940541","Modulated","DIY products","Buckets, troughs, and containers","Sandstone >90%","≥5 kg and <7 kg","€ / unit",0.05,0.05,{"$f":"_xlfn.XLOOKUP(K5189,'Codes éco-part'!$C$6:$C$923,'Codes éco-part'!$B$6:$B$923)","v":"048"},0.06]
["DIY and gardening products EPR",3,"21105940570",null,"DIY products","Buckets, troughs, and containers","Sandstone >90%","≥15 kg and <20 kg","€ / unit",0.18,0.18,{"$f":"_xlfn.XLOOKUP(K5194,'Codes éco-part'!$C$6:$C$923,'Codes éco-part'!$B$6:$B$923)","v":"100"},0.22]
["DIY and gardening products EPR",3,"21105970201","Modulated","DIY products","Buckets, troughs, and containers","Ceramic >90%","Strictly <0.5 kg","€ / unit",0.01,0.01,{"$f":"_xlfn.XLOOKUP(K5199,'Codes éco-part'!$C$6:$C$923,'Codes éco-part'!$B$6:$B$923)","v":"260"},0.01]
["DIY and gardening products EPR",3,"21105970210",null,"DIY products","Buckets, troughs, and containers","Ceramic >90%","≥0.5 kg and <1 kg","€ / unit",0.01,0.01,{"$f":"_xlfn.XLOOKUP(K5200,'Codes éco-part'!$C$6:$C$923,'Codes éco-part'!$B$6:$B$923)","v":"260"},0.01]
["DIY and gardening products EPR",3,"21105970521","Modulated","DIY products","Buckets, troughs, and containers","Ceramic >90%","≥2 kg and <3 kg","€ / unit",0.04,0.04,{"$f":"_xlfn.XLOOKUP(K5205,'Codes éco-part'!$C$6:$C$923,'Codes éco-part'!$B$6:$B$923)","v":"002"},0.05]
["DIY and gardening products EPR",3,"21105970550",null,"DIY products","Buckets, troughs, and containers","Ceramic >90%","≥7 kg and <10 kg","€ / unit",0.15,0.15,{"$f":"_xlfn.XLOOKUP(K5210,'Codes éco-part'!$C$6:$C$923,'Codes éco-part'!$B$6:$B$923)","v":"050"},0.18]
["DIY and gardening products EPR",3,"21105970571","Modulated","DIY products","Buckets, troughs, and containers","Ceramic >90%","≥15 kg and <20 kg","€ / unit",0.27,0.27,{"$f":"_xlfn.XLOOKUP(K5215,'Codes éco-part'!$C$6:$C$923,'Codes éco-part'!$B$6:$B$923)","v":"103"},0.32]
["DIY and gardening products EPR",3,"21105980000",null,"DIY products","Buckets, troughs, and containers","Artificial stone >90%","Elements of all sizes and weights","€ / ton",8.75,8.75,{"$f":"_xlfn.XLOOKUP(K5216,'Codes éco-part'!$C$6:$C$923,'Codes éco-part'!$B$6:$B$923)","v":"069"},10.5]
["DIY and gardening products EPR",3,"21105980211","Modulated","DIY products","Buckets, troughs, and containers","Artificial stone >90%","≥0.5 kg and <1 kg","€ / unit",0.01,0.01,{"$f":"_xlfn.XLOOKUP(K5221,'Codes éco-part'!$C$6:$C$923,'Codes éco-part'!$B$6:$B$923)","v":"260"},0.01]
["DIY and gardening products EPR",3,"21105980530",null,"DIY products","Buckets, troughs, and containers","Artificial stone >90%","≥3 kg and <5 kg","€ / unit",0.04,0.04,{"$f":"_xlfn.XLOOKUP(K5226,'Codes éco-part'!$C$6:$C$923,'Codes éco-part'!$B$6:$B$923)","v":"002"},0.05]
["DIY and gardening products EPR",3,"21105980551","Modulated","DIY products","Buckets, troughs, and containers","Artificial stone >90%","≥7 kg and <10 kg","€ / unit",0.08,0.08,{"$f":"_xlfn.XLOOKUP(K5231,'Codes éco-part'!$C$6:$C$923,'Codes éco-part'!$B$6:$B$923)","v":"003"},0.1]
["DIY and gardening products EPR",3,"21105980560",null,"DIY products","Buckets, troughs, and containers","Artificial stone >90%","≥10 kg and <15 kg","€ / unit",0.13,0.13,{"$f":"_xlfn.XLOOKUP(K5232,'Codes éco-part'!$C$6:$C$923,'Codes éco-part'!$B$6:$B$923)","v":"004"},0.16]
["DIY and gardening products EPR",4,"22150000001","Modulated","Garden upkeep and landscaping","Garden upkeep hand tools and small accessories","Unknown or unspecified by the company","Elements of all sizes and weights","€ / ton",289.8,289.8,{"$f":"_xlfn.XLOOKUP(K5237,'Codes éco-part'!$C$6:$C$923,'Codes éco-part'!$B$6:$B$923)","v":936},347.76]
["DIY and gardening products EPR",4,"22150000220",null,"Garden upkeep and landscaping","Garden upkeep hand tools and small accessories","Unknown or unspecified by the company","≥1 kg and <2 kg","€ / unit",0.48,0.48,{"$f":"_xlfn.XLOOKUP(K5242,'Codes éco-part'!$C$6:$C$923,'Codes éco-part'!$B$6:$B$923)","v":"606"},0.57999999999999996]
["DIY and gardening products EPR",4,"22150000531","Modulated","Garden upkeep and landscaping","Garden upkeep hand tools and small accessories","Unknown or unspecified by the company","≥3 kg and <5 kg","€ / unit",1.1599999999999999,1.1599999999999999,{"$f":"_xlfn.XLOOKUP(K5247,'Codes éco-part'!$C$6:$C$923,'Codes éco-part'!$B$6:$B$923)","v":"504"},1.39]
["DIY and gardening products EPR",4,"22150000540",null,"Garden upkeep and landscaping","Garden upkeep hand tools and small accessories","Unknown or unspecified by the company","≥5 kg and <7 kg","€ / unit",2.25,2.25,{"$f":"_xlfn.XLOOKUP(K5248,'Codes éco-part'!$C$6:$C$923,'Codes éco-part'!$B$6:$B$923)","v":"118"},2.7]
["DIY and gardening products EPR",4,"22150010201","Modulated","Garden upkeep and landscaping","Garden upkeep hand tools and small accessories","Assembly of wood and/or wood derivatives >50% and other materials or composite wood (excl. glass)","Strictly <0.5 kg","€ / unit",0.01,0.01,{"$f":"_xlfn.XLOOKUP(K5253,'Codes éco-part'!$C$6:$C$923,'Codes éco-part'!$B$6:$B$923)","v":"260"},0.01]
["DIY and gardening products EPR",4,"22150010520",null,"Garden upkeep and landscaping","Garden upkeep hand tools and small accessories","Assembly of wood and/or wood derivatives >50% and other materials or composite wood (excl. glass)","≥2 kg and <3 kg","€ / unit",0.14000000000000001,0.14000000000000001,{"$f":"_xlfn.XLOOKUP(K5258,'Codes éco-part'!$C$6:$C$923,'Codes éco-part'!$B$6:$B$923)","v":"098"},0.17]
["DIY and gardening products EPR",4,"22150010541","Modulated","Garden upkeep and landscaping","Garden upkeep hand tools and small accessories","Assembly of wood and/or wood derivatives >50% and other materials or composite wood (excl. glass)","≥5 kg and <7 kg","€ / unit",0.35,0.35,{"$f":"_xlfn.XLOOKUP(K5263,'Codes éco-part'!$C$6:$C$923,'Codes éco-part'!$B$6:$B$923)","v":"448"},0.42]
["DIY and gardening products EPR",4,"22150020000",null,"Garden upkeep and landscaping","Garden upkeep hand tools and small accessories","Assembly of metal >50% and other materials","Elements of all sizes and weights","€ / ton",14,14,{"$f":"_xlfn.XLOOKUP(K5264,'Codes éco-part'!$C$6:$C$923,'Codes éco-part'!$B$6:$B$923)","v":"532"},16.8]
["DIY and gardening products EPR",4,"22150020211","Modulated","Garden upkeep and landscaping","Garden upkeep hand tools and small accessories","Assembly of metal >50% and other materials","≥0.5 kg and <1 kg","€ / unit",0.01,0.01,{"$f":"_xlfn.XLOOKUP(K5269,'Codes éco-part'!$C$6:$C$923,'Codes éco-part'!$B$6:$B$923)","v":"260"},0.01]
["DIY and gardening products EPR",4,"22150020530",null,"Garden upkeep and landscaping","Garden upkeep hand tools and small accessories","Assembly of metal >50% and other materials","≥3 kg and <5 kg","€ / unit",0.06,0.06,{"$f":"_xlfn.XLOOKUP(K5274,'Codes éco-part'!$C$6:$C$923,'Codes éco-part'!$B$6:$B$923)","v":"096"},7.0000000000000007E-2]
["DIY and gardening products EPR",4,"22150040001","Modulated","Garden upkeep and landscaping","Garden upkeep hand tools and small accessories","Biosourced materials or non-synthetic textiles >50%","Elements of all sizes and weights","€ / ton",289.8,289.8,{"$f":"_xlfn.XLOOKUP(K5279,'Codes éco-part'!$C$6:$C$923,'Codes éco-part'!$B$6:$B$923)","v":936},347.76]
["DIY and gardening products EPR",4,"22150040200",null,"Garden upkeep and landscaping","Garden upkeep hand tools and small accessories","Biosourced materials or non-synthetic textiles >50%","Strictly <0.5 kg","€ / unit",0.08,0.08,{"$f":"_xlfn.XLOOKUP(K5280,'Codes éco-part'!$C$6:$C$923,'Codes éco-part'!$B$6:$B$923)","v":"003"},0.1]
["DIY and gardening products EPR",4,"22150040221","Modulated","Garden upkeep and landscaping","Garden upkeep hand tools and small accessories","Biosourced materials or non-synthetic textiles >50%","≥1 kg and <2 kg","€ / unit",0.43,0.43,{"$f":"_xlfn.XLOOKUP(K5285,'Codes éco-part'!$C$6:$C$923,'Codes éco-part'!$B$6:$B$923)","v":"506"},0.52]
["DIY and gardening products EPR",4,"22150040540",null,"Garden upkeep and landscaping","Garden upkeep hand tools and small accessories","Biosourced materials or non-synthetic textiles >50%","≥5 kg and <7 kg","€ / unit",2.25,2.25,{"$f":"_xlfn.XLOOKUP(K5290,'Codes éco-part'!$C$6:$C$923,'Codes éco-part'!$B$6:$B$923)","v":"118"},2.7]
["DIY and gardening products EPR",4,"22150050201","Modulated","Garden upkeep and landscaping","Garden upkeep hand tools and small accessories","Plastics or other synthetic materials >50%","Strictly <0.5 kg","€ / unit",7.0000000000000007E-2,7.0000000000000007E-2,{"$f":"_xlfn.XLOOKUP(K5295,'Codes éco-part'!$C$6:$C$923,'Codes éco-part'!$B$6:$B$923)","v":"247"},0.08]
["DIY and gardening products EPR",4,"22150050210",null,"Garden upkeep and landscaping","Garden upkeep hand tools and small accessories","Plastics or other synthetic materials >50%","≥0.5 kg and <1 kg","€ / unit",0.24,0.24,{"$f":"_xlfn.XLOOKUP(K5296,'Codes éco-part'!$C$6:$C$923,'Codes éco-part'!$B$6:$B$923)","v":"248"},0.28999999999999998]
["DIY and gardening products EPR",4,"22150050521","Modulated","Garden upkeep and landscaping","Garden upkeep hand tools and small accessories","Plastics or other synthetic materials >50%","≥2 kg and <3 kg","€ / unit",0.73,0.73,{"$f":"_xlfn.XLOOKUP(K5301,'Codes éco-part'!$C$6:$C$923,'Codes éco-part'!$B$6:$B$923)","v":"255"},0.88]
["DIY and gardening products EPR",4,"22150060000",null,"Garden upkeep and landscaping","Garden upkeep hand tools and small accessories","Materials of animal origin >50%","Elements of all sizes and weights","€ / ton",322,322,{"$f":"_xlfn.XLOOKUP(K5306,'Codes éco-part'!$C$6:$C$923,'Codes éco-part'!$B$6:$B$923)","v":"607"},386.4]
["DIY and gardening products EPR",4,"22150060211","Modulated","Garden upkeep and landscaping","Garden upkeep hand tools and small accessories","Materials of animal origin >50%","≥0.5 kg and <1 kg","€ / unit",0.22,0.22,{"$f":"_xlfn.XLOOKUP(K5311,'Codes éco-part'!$C$6:$C$923,'Codes éco-part'!$B$6:$B$923)","v":"263"},0.26]
["DIY and gardening products EPR",4,"22150060220",null,"Garden upkeep and landscaping","Garden upkeep hand tools and small accessories","Materials of animal origin >50%","≥1 kg and <2 kg","€ / unit",0.48,0.48,{"$f":"_xlfn.XLOOKUP(K5312,'Codes éco-part'!$C$6:$C$923,'Codes éco-part'!$B$6:$B$923)","v":"606"},0.57999999999999996]
["DIY and gardening products EPR",4,"22150060531","Modulated","Garden upkeep and landscaping","Garden upkeep hand tools and small accessories","Materials of animal origin >50%","≥3 kg and <5 kg","€ / unit",1.1599999999999999,1.1599999999999999,{"$f":"_xlfn.XLOOKUP(K5317,'Codes éco-part'!$C$6:$C$923,'Codes éco-part'!$B$6:$B$923)","v":"504"},1.39]
["DIY and gardening products EPR",4,"22150190200",null,"Garden upkeep and landscaping","Garden upkeep hand tools and small accessories","Cardboard >50% and other materials (excl. glass)","Strictly <0.5 kg","€ / unit",0.08,0.08,{"$f":"_xlfn.XLOOKUP(K5322,'Codes éco-part'!$C$6:$C$923,'Codes éco-part'!$B$6:$B$923)","v":"003"},0.1]
["DIY and gardening products EPR",4,"22150190221","Modulated","Garden upkeep and landscaping","Garden upkeep hand tools and small accessories","Cardboard >50% and other materials (excl. glass)","≥1 kg and <2 kg","€ / unit",0.43,0.43,{"$f":"_xlfn.XLOOKUP(K5327,'Codes éco-part'!$C$6:$C$923,'Codes éco-part'!$B$6:$B$923)","v":"506"},0.52]
["DIY and gardening products EPR",4,"22150190520",null,"Garden upkeep and landscaping","Garden upkeep hand tools and small accessories","Cardboard >50% and other materials (excl. glass)","≥2 kg and <3 kg","€ / unit",0.81,0.81,{"$f":"_xlfn.XLOOKUP(K5328,'Codes éco-part'!$C$6:$C$923,'Codes éco-part'!$B$6:$B$923)","v":"112"},0.97]
["DIY and gardening products EPR",4,"22150190541","Modulated","Garden upkeep and landscaping","Garden upkeep hand tools and small accessories","Cardboard >50% and other materials (excl. glass)","≥5 kg and <7 kg","€ / unit",2.0299999999999998,2.0299999999999998,{"$f":"_xlfn.XLOOKUP(K5333,'Codes éco-part'!$C$6:$C$923,'Codes éco-part'!$B$6:$B$923)","v":937},2.44]
["DIY and gardening products EPR",4,"22150200210",null,"Garden upkeep and landscaping","Garden upkeep hand tools and small accessories","Solid wood and related products certified >75%","≥0.5 kg and <1 kg","€ / unit",0.04,0.04,{"$f":"_xlfn.XLOOKUP(K5338,'Codes éco-part'!$C$6:$C$923,'Codes éco-part'!$B$6:$B$923)","v":"002"},0.05]
["DIY and gardening products EPR",4,"22150200220",null,"Garden upkeep and landscaping","Garden upkeep hand tools and small accessories","Solid wood and related products certified >75%","≥1 kg and <2 kg","€ / unit",0.08,0.08,{"$f":"_xlfn.XLOOKUP(K5340,'Codes éco-part'!$C$6:$C$923,'Codes éco-part'!$B$6:$B$923)","v":"003"},0.1]
["DIY and gardening products EPR",4,"22150200521","Modulated","Garden upkeep and landscaping","Garden upkeep hand tools and small accessories","Solid wood and related products certified >75%","≥2 kg and <3 kg","€ / unit",0.13,0.13,{"$f":"_xlfn.XLOOKUP(K5343,'Codes éco-part'!$C$6:$C$923,'Codes éco-part'!$B$6:$B$923)","v":"004"},0.16]
["DIY and gardening products EPR",4,"22150210000",null,"Garden upkeep and landscaping","Garden upkeep hand tools and small accessories","Solid wood and related products >75%","Elements of all sizes and weights","€ / ton",110,110,{"$f":"_xlfn.XLOOKUP(K5348,'Codes éco-part'!$C$6:$C$923,'Codes éco-part'!$B$6:$B$923)","v":"615"},132]
["DIY and gardening products EPR",4,"22150210211","Modulated","Garden upkeep and landscaping","Garden upkeep hand tools and small accessories","Solid wood and related products >75%","≥0.5 kg and <1 kg","€ / unit",7.0000000000000007E-2,7.0000000000000007E-2,{"$f":"_xlfn.XLOOKUP(K5353,'Codes éco-part'!$C$6:$C$923,'Codes éco-part'!$B$6:$B$923)","v":"247"},0.08]
["DIY and gardening products EPR",4,"22150210530",null,"Garden upkeep and landscaping","Garden upkeep hand tools and small accessories","Solid wood and related products >75%","≥3 kg and <5 kg","€ / unit",0.44,0.44,{"$f":"_xlfn.XLOOKUP(K5358,'Codes éco-part'!$C$6:$C$923,'Codes éco-part'!$B$6:$B$923)","v":"281"},0.53]
["DIY and gardening products EPR",4,"22150210531","Modulated","Garden upkeep and landscaping","Garden upkeep hand tools and small accessories","Solid wood and related products >75%","≥3 kg and <5 kg","€ / unit",0.4,0.4,{"$f":"_xlfn.XLOOKUP(K5359,'Codes éco-part'!$C$6:$C$923,'Codes éco-part'!$B$6:$B$923)","v":"105"},0.48]
["DIY and gardening products EPR",4,"22150250200",null,"Garden upkeep and landscaping","Garden upkeep hand tools and small accessories","Chipboard or OSB >75%","Strictly <0.5 kg","€ / unit",0.02,0.02,{"$f":"_xlfn.XLOOKUP(K5364,'Codes éco-part'!$C$6:$C$923,'Codes éco-part'!$B$6:$B$923)","v":"047"},0.02]
["DIY and gardening products EPR",4,"22150250221","Modulated","Garden upkeep and landscaping","Garden upkeep hand tools and small accessories","Chipboard or OSB >75%","≥1 kg and <2 kg","€ / unit",0.14000000000000001,0.14000000000000001,{"$f":"_xlfn.XLOOKUP(K5369,'Codes éco-part'!$C$6:$C$923,'Codes éco-part'!$B$6:$B$923)","v":"098"},0.17]
["DIY and gardening products EPR",4,"22150250540",null,"Garden upkeep and landscaping","Garden upkeep hand tools and small accessories","Chipboard or OSB >75%","≥5 kg and <7 kg","€ / unit",0.78,0.78,{"$f":"_xlfn.XLOOKUP(K5374,'Codes éco-part'!$C$6:$C$923,'Codes éco-part'!$B$6:$B$923)","v":"312"},0.94]
["DIY and gardening products EPR",4,"22150250541","Modulated","Garden upkeep and landscaping","Garden upkeep hand tools and small accessories","Chipboard or OSB >75%","≥5 kg and <7 kg","€ / unit",0.7,0.7,{"$f":"_xlfn.XLOOKUP(K5375,'Codes éco-part'!$C$6:$C$923,'Codes éco-part'!$B$6:$B$923)","v":"282"},0.84]
["DIY and gardening products EPR",4,"22150280210",null,"Garden upkeep and landscaping","Garden upkeep hand tools and small accessories","Metal >90%","≥0.5 kg and <1 kg","€ / unit",0.01,0.01,{"$f":"_xlfn.XLOOKUP(K5380,'Codes éco-part'!$C$6:$C$923,'Codes éco-part'!$B$6:$B$923)","v":"260"},0.01]
["DIY and gardening products EPR",4,"22150280521","Modulated","Garden upkeep and landscaping","Garden upkeep hand tools and small accessories","Metal >90%","≥2 kg and <3 kg","€ / unit",0.04,0.04,{"$f":"_xlfn.XLOOKUP(K5385,'Codes éco-part'!$C$6:$C$923,'Codes éco-part'!$B$6:$B$923)","v":"002"},0.05]
["DIY and gardening products EPR",4,"22150400000",null,"Garden upkeep and landscaping","Garden upkeep hand tools and small accessories","Assembly of synthetic rubber or latex >50% and other materials","Elements of all sizes and weights","€ / ton",322,322,{"$f":"_xlfn.XLOOKUP(K5390,'Codes éco-part'!$C$6:$C$923,'Codes éco-part'!$B$6:$B$923)","v":"607"},386.4]
["DIY and gardening products EPR",4,"22150400001","Modulated","Garden upkeep and landscaping","Garden upkeep hand tools and small accessories","Assembly of synthetic rubber or latex >50% and other materials","Elements of all sizes and weights","€ / ton",289.8,289.8,{"$f":"_xlfn.XLOOKUP(K5391,'Codes éco-part'!$C$6:$C$923,'Codes éco-part'!$B$6:$B$923)","v":936},347.76]
["DIY and gardening products EPR",4,"22150400220",null,"Garden upkeep and landscaping","Garden upkeep hand tools and small accessories","Assembly of synthetic rubber or latex >50% and other materials","≥1 kg and <2 kg","€ / unit",0.48,0.48,{"$f":"_xlfn.XLOOKUP(K5396,'Codes éco-part'!$C$6:$C$923,'Codes éco-part'!$B$6:$B$923)","v":"606"},0.57999999999999996]
["DIY and gardening products EPR",4,"22150400531","Modulated","Garden upkeep and landscaping","Garden upkeep hand tools and small accessories","Assembly of synthetic rubber or latex >50% and other materials","≥3 kg and <5 kg","€ / unit",1.1599999999999999,1.1599999999999999,{"$f":"_xlfn.XLOOKUP(K5401,'Codes éco-part'!$C$6:$C$923,'Codes éco-part'!$B$6:$B$923)","v":"504"},1.39]
["DIY and gardening products EPR",4,"22150410200",null,"Garden upkeep and landscaping","Garden upkeep hand tools and small accessories","Plastic (single-resin) >90%","Strictly <0.5 kg","€ / unit",0.05,0.05,{"$f":"_xlfn.XLOOKUP(K5406,'Codes éco-part'!$C$6:$C$923,'Codes éco-part'!$B$6:$B$923)","v":"048"},0.06]
["DIY and gardening products EPR",4,"22150410201","Modulated","Garden upkeep and landscaping","Garden upkeep hand tools and small accessories","Plastic (single-resin) >90%","Strictly <0.5 kg","€ / unit",0.05,0.05,{"$f":"_xlfn.XLOOKUP(K5407,'Codes éco-part'!$C$6:$C$923,'Codes éco-part'!$B$6:$B$923)","v":"048"},0.06]
["DIY and gardening products EPR",4,"22150410520",null,"Garden upkeep and landscaping","Garden upkeep hand tools and small accessories","Plastic (single-resin) >90%","≥2 kg and <3 kg","€ / unit",0.5,0.5,{"$f":"_xlfn.XLOOKUP(K5412,'Codes éco-part'!$C$6:$C$923,'Codes éco-part'!$B$6:$B$923)","v":"053"},0.6]
["DIY and gardening products EPR",4,"22150410541","Modulated","Garden upkeep and landscaping","Garden upkeep hand tools and small accessories","Plastic (single-resin) >90%","≥5 kg and <7 kg","€ / unit",1.26,1.26,{"$f":"_xlfn.XLOOKUP(K5417,'Codes éco-part'!$C$6:$C$923,'Codes éco-part'!$B$6:$B$923)","v":"568"},1.51]
["DIY and gardening products EPR",4,"22150420210",null,"Garden upkeep and landscaping","Garden upkeep hand tools and small accessories","Polyethylene terephthalate (PET) >90%","≥0.5 kg and <1 kg","€ / unit",0.15,0.15,{"$f":"_xlfn.XLOOKUP(K5422,'Codes éco-part'!$C$6:$C$923,'Codes éco-part'!$B$6:$B$923)","v":"050"},0.18]
["DIY and gardening products EPR",4,"22150420211","Modulated","Garden upkeep and landscaping","Garden upkeep hand tools and small accessories","Polyethylene terephthalate (PET) >90%","≥0.5 kg and <1 kg","€ / unit",0.14000000000000001,0.14000000000000001,{"$f":"_xlfn.XLOOKUP(K5423,'Codes éco-part'!$C$6:$C$923,'Codes éco-part'!$B$6:$B$923)","v":"098"},0.17]
["DIY and gardening products EPR",4,"22150420530",null,"Garden upkeep and landscaping","Garden upkeep hand tools and small accessories","Polyethylene terephthalate (PET) >90%","≥3 kg and <5 kg","€ / unit",0.8,0.8,{"$f":"_xlfn.XLOOKUP(K5428,'Codes éco-part'!$C$6:$C$923,'Codes éco-part'!$B$6:$B$923)","v":"456"},0.96]
["DIY and gardening products EPR",4,"22150450001","Modulated","Garden upkeep and landscaping","Garden upkeep hand tools and small accessories","PE or PP or PP/PE mix >90%","Elements of all sizes and weights","€ / ton",180,180,{"$f":"_xlfn.XLOOKUP(K5433,'Codes éco-part'!$C$6:$C$923,'Codes éco-part'!$B$6:$B$923)","v":941},216]
["DIY and gardening products EPR",4,"22150450220",null,"Garden upkeep and landscaping","Garden upkeep hand tools and small accessories","PE or PP or PP/PE mix >90%","≥1 kg and <2 kg","€ / unit",0.3,0.3,{"$f":"_xlfn.XLOOKUP(K5438,'Codes éco-part'!$C$6:$C$923,'Codes éco-part'!$B$6:$B$923)","v":"446"},0.36]
["DIY and gardening products EPR",4,"22150450221","Modulated","Garden upkeep and landscaping","Garden upkeep hand tools and small accessories","PE or PP or PP/PE mix >90%","≥1 kg and <2 kg","€ / unit",0.27,0.27,{"$f":"_xlfn.XLOOKUP(K5439,'Codes éco-part'!$C$6:$C$923,'Codes éco-part'!$B$6:$B$923)","v":"103"},0.32]
["DIY and gardening products EPR",4,"22150450540",null,"Garden upkeep and landscaping","Garden upkeep hand tools and small accessories","PE or PP or PP/PE mix >90%","≥5 kg and <7 kg","€ / unit",1.4,1.4,{"$f":"_xlfn.XLOOKUP(K5444,'Codes éco-part'!$C$6:$C$923,'Codes éco-part'!$B$6:$B$923)","v":"463"},1.68]
["DIY and gardening products EPR",4,"22150460201","Modulated","Garden upkeep and landscaping","Garden upkeep hand tools and small accessories","ABS >90%","Strictly <0.5 kg","€ / unit",0.05,0.05,{"$f":"_xlfn.XLOOKUP(K5449,'Codes éco-part'!$C$6:$C$923,'Codes éco-part'!$B$6:$B$923)","v":"048"},0.06]
["DIY and gardening products EPR",4,"22150460520",null,"Garden upkeep and landscaping","Garden upkeep hand tools and small accessories","ABS >90%","≥2 kg and <3 kg","€ / unit",0.5,0.5,{"$f":"_xlfn.XLOOKUP(K5454,'Codes éco-part'!$C$6:$C$923,'Codes éco-part'!$B$6:$B$923)","v":"053"},0.6]
["DIY and gardening products EPR",4,"22150460521","Modulated","Garden upkeep and landscaping","Garden upkeep hand tools and small accessories","ABS >90%","≥2 kg and <3 kg","€ / unit",0.45,0.45,{"$f":"_xlfn.XLOOKUP(K5455,'Codes éco-part'!$C$6:$C$923,'Codes éco-part'!$B$6:$B$923)","v":"325"},0.54]
["DIY and gardening products EPR",4,"22150470000",null,"Garden upkeep and landscaping","Garden upkeep hand tools and small accessories","Polystyrene >90%","Elements of all sizes and weights","€ / ton",200,200,{"$f":"_xlfn.XLOOKUP(K5460,'Codes éco-part'!$C$6:$C$923,'Codes éco-part'!$B$6:$B$923)","v":"601"},240]
["DIY and gardening products EPR",4,"22150470211","Modulated","Garden upkeep and landscaping","Garden upkeep hand tools and small accessories","Polystyrene >90%","≥0.5 kg and <1 kg","€ / unit",0.14000000000000001,0.14000000000000001,{"$f":"_xlfn.XLOOKUP(K5465,'Codes éco-part'!$C$6:$C$923,'Codes éco-part'!$B$6:$B$923)","v":"098"},0.17]
["DIY and gardening products EPR",4,"22150470530",null,"Garden upkeep and landscaping","Garden upkeep hand tools and small accessories","Polystyrene >90%","≥3 kg and <5 kg","€ / unit",0.8,0.8,{"$f":"_xlfn.XLOOKUP(K5470,'Codes éco-part'!$C$6:$C$923,'Codes éco-part'!$B$6:$B$923)","v":"456"},0.96]
["DIY and gardening products EPR",4,"22150470531","Modulated","Garden upkeep and landscaping","Garden upkeep hand tools and small accessories","Polystyrene >90%","≥3 kg and <5 kg","€ / unit",0.72,0.72,{"$f":"_xlfn.XLOOKUP(K5471,'Codes éco-part'!$C$6:$C$923,'Codes éco-part'!$B$6:$B$923)","v":"454"},0.86]
["DIY and gardening products EPR",4,"22150480200",null,"Garden upkeep and landscaping","Garden upkeep hand tools and small accessories","PVC >90%","Strictly <0.5 kg","€ / unit",0.05,0.05,{"$f":"_xlfn.XLOOKUP(K5476,'Codes éco-part'!$C$6:$C$923,'Codes éco-part'!$B$6:$B$923)","v":"048"},0.06]
["DIY and gardening products EPR",4,"22150480221","Modulated","Garden upkeep and landscaping","Garden upkeep hand tools and small accessories","PVC >90%","≥1 kg and <2 kg","€ / unit",0.27,0.27,{"$f":"_xlfn.XLOOKUP(K5481,'Codes éco-part'!$C$6:$C$923,'Codes éco-part'!$B$6:$B$923)","v":"103"},0.32]
["DIY and gardening products EPR",4,"22150480540",null,"Garden upkeep and landscaping","Garden upkeep hand tools and small accessories","PVC >90%","≥5 kg and <7 kg","€ / unit",1.4,1.4,{"$f":"_xlfn.XLOOKUP(K5486,'Codes éco-part'!$C$6:$C$923,'Codes éco-part'!$B$6:$B$923)","v":"463"},1.68]
["DIY and gardening products EPR",4,"22150480541","Modulated","Garden upkeep and landscaping","Garden upkeep hand tools and small accessories","PVC >90%","≥5 kg and <7 kg","€ / unit",1.26,1.26,{"$f":"_xlfn.XLOOKUP(K5487,'Codes éco-part'!$C$6:$C$923,'Codes éco-part'!$B$6:$B$923)","v":"568"},1.51]
["DIY and gardening products EPR",4,"22150490210",null,"Garden upkeep and landscaping","Garden upkeep hand tools and small accessories","Synthetic rubber >90%","≥0.5 kg and <1 kg","€ / unit",0.15,0.15,{"$f":"_xlfn.XLOOKUP(K5492,'Codes éco-part'!$C$6:$C$923,'Codes éco-part'!$B$6:$B$923)","v":"050"},0.18]
["DIY and gardening products EPR",4,"22150490521","Modulated","Garden upkeep and landscaping","Garden upkeep hand tools and small accessories","Synthetic rubber >90%","≥2 kg and <3 kg","€ / unit",0.45,0.45,{"$f":"_xlfn.XLOOKUP(K5497,'Codes éco-part'!$C$6:$C$923,'Codes éco-part'!$B$6:$B$923)","v":"325"},0.54]
["DIY and gardening products EPR",4,"22150510000",null,"Garden upkeep and landscaping","Garden upkeep hand tools and small accessories","Assembly of non-certified wood and/or wood derivatives >50% and other materials or composite wood (excl. glass)","Elements of all sizes and weights","€ / ton",110,110,{"$f":"_xlfn.XLOOKUP(K5502,'Codes éco-part'!$C$6:$C$923,'Codes éco-part'!$B$6:$B$923)","v":"615"},132]
["DIY and gardening products EPR",4,"22150510001","Modulated","Garden upkeep and landscaping","Garden upkeep hand tools and small accessories","Assembly of non-certified wood and/or wood derivatives >50% and other materials or composite wood (excl. glass)","Elements of all sizes and weights","€ / ton",99,99,{"$f":"_xlfn.XLOOKUP(K5503,'Codes éco-part'!$C$6:$C$923,'Codes éco-part'!$B$6:$B$923)","v":940},118.8]
["DIY and gardening products EPR",4,"22150510220",null,"Garden upkeep and landscaping","Garden upkeep hand tools and small accessories","Assembly of non-certified wood and/or wood derivatives >50% and other materials or composite wood (excl. glass)","≥1 kg and <2 kg","€ / unit",0.16,0.16,{"$f":"_xlfn.XLOOKUP(K5508,'Codes éco-part'!$C$6:$C$923,'Codes éco-part'!$B$6:$B$923)","v":"099"},0.19]
["DIY and gardening products EPR",4,"22150510531","Modulated","Garden upkeep and landscaping","Garden upkeep hand tools and small accessories","Assembly of non-certified wood and/or wood derivatives >50% and other materials or composite wood (excl. glass)","≥3 kg and <5 kg","€ / unit",0.4,0.4,{"$f":"_xlfn.XLOOKUP(K5513,'Codes éco-part'!$C$6:$C$923,'Codes éco-part'!$B$6:$B$923)","v":"105"},0.48]
["DIY and gardening products EPR",4,"22150520200",null,"Garden upkeep and landscaping","Garden upkeep hand tools and small accessories","Solid wood and related products certified >90%","Strictly <0.5 kg","€ / unit",0.01,0.01,{"$f":"_xlfn.XLOOKUP(K5518,'Codes éco-part'!$C$6:$C$923,'Codes éco-part'!$B$6:$B$923)","v":"260"},0.01]
["DIY and gardening products EPR",4,"22150520201","Modulated","Garden upkeep and landscaping","Garden upkeep hand tools and small accessories","Solid wood and related products certified >90%","Strictly <0.5 kg","€ / unit",0.01,0.01,{"$f":"_xlfn.XLOOKUP(K5519,'Codes éco-part'!$C$6:$C$923,'Codes éco-part'!$B$6:$B$923)","v":"260"},0.01]
["DIY and gardening products EPR",4,"22150520520",null,"Garden upkeep and landscaping","Garden upkeep hand tools and small accessories","Solid wood and related products certified >90%","≥2 kg and <3 kg","€ / unit",0.14000000000000001,0.14000000000000001,{"$f":"_xlfn.XLOOKUP(K5524,'Codes éco-part'!$C$6:$C$923,'Codes éco-part'!$B$6:$B$923)","v":"098"},0.17]
["DIY and gardening products EPR",4,"22150520541","Modulated","Garden upkeep and landscaping","Garden upkeep hand tools and small accessories","Solid wood and related products certified >90%","≥5 kg and <7 kg","€ / unit",0.35,0.35,{"$f":"_xlfn.XLOOKUP(K5529,'Codes éco-part'!$C$6:$C$923,'Codes éco-part'!$B$6:$B$923)","v":"448"},0.42]
["DIY and gardening products EPR",4,"22150530210",null,"Garden upkeep and landscaping","Garden upkeep hand tools and small accessories","Solid wood and related products >90%","≥0.5 kg and <1 kg","€ / unit",0.08,0.08,{"$f":"_xlfn.XLOOKUP(K5534,'Codes éco-part'!$C$6:$C$923,'Codes éco-part'!$B$6:$B$923)","v":"003"},0.1]
["DIY and gardening products EPR",4,"22150530211","Modulated","Garden upkeep and landscaping","Garden upkeep hand tools and small accessories","Solid wood and related products >90%","≥0.5 kg and <1 kg","€ / unit",7.0000000000000007E-2,7.0000000000000007E-2,{"$f":"_xlfn.XLOOKUP(K5535,'Codes éco-part'!$C$6:$C$923,'Codes éco-part'!$B$6:$B$923)","v":"247"},0.08]
["DIY and gardening products EPR",4,"22150530530",null,"Garden upkeep and landscaping","Garden upkeep hand tools and small accessories","Solid wood and related products >90%","≥3 kg and <5 kg","€ / unit",0.44,0.44,{"$f":"_xlfn.XLOOKUP(K5540,'Codes éco-part'!$C$6:$C$923,'Codes éco-part'!$B$6:$B$923)","v":"281"},0.53]
["DIY and gardening products EPR",4,"22150540001","Modulated","Garden upkeep and landscaping","Garden upkeep hand tools and small accessories","Non-certified wood derivatives >90%","Elements of all sizes and weights","€ / ton",99,99,{"$f":"_xlfn.XLOOKUP(K5545,'Codes éco-part'!$C$6:$C$923,'Codes éco-part'!$B$6:$B$923)","v":940},118.8]
["DIY and gardening products EPR",4,"22150540220",null,"Garden upkeep and landscaping","Garden upkeep hand tools and small accessories","Non-certified wood derivatives >90%","≥1 kg and <2 kg","€ / unit",0.16,0.16,{"$f":"_xlfn.XLOOKUP(K5550,'Codes éco-part'!$C$6:$C$923,'Codes éco-part'!$B$6:$B$923)","v":"099"},0.19]
["DIY and gardening products EPR",4,"22150540221","Modulated","Garden upkeep and landscaping","Garden upkeep hand tools and small accessories","Non-certified wood derivatives >90%","≥1 kg and <2 kg","€ / unit",0.14000000000000001,0.14000000000000001,{"$f":"_xlfn.XLOOKUP(K5551,'Codes éco-part'!$C$6:$C$923,'Codes éco-part'!$B$6:$B$923)","v":"098"},0.17]
["DIY and gardening products EPR",4,"22150540540",null,"Garden upkeep and landscaping","Garden upkeep hand tools and small accessories","Non-certified wood derivatives >90%","≥5 kg and <7 kg","€ / unit",0.78,0.78,{"$f":"_xlfn.XLOOKUP(K5556,'Codes éco-part'!$C$6:$C$923,'Codes éco-part'!$B$6:$B$923)","v":"312"},0.94]
["DIY and gardening products EPR",4,"22150550201","Modulated","Garden upkeep and landscaping","Garden upkeep hand tools and small accessories","Biosourced materials or non-synthetic textiles >90%","Strictly <0.5 kg","€ / unit",0.02,0.02,{"$f":"_xlfn.XLOOKUP(K5561,'Codes éco-part'!$C$6:$C$923,'Codes éco-part'!$B$6:$B$923)","v":"047"},0.02]
["DIY and gardening products EPR",4,"22150550520",null,"Garden upkeep and landscaping","Garden upkeep hand tools and small accessories","Biosourced materials or non-synthetic textiles >90%","≥2 kg and <3 kg","€ / unit",0.16,0.16,{"$f":"_xlfn.XLOOKUP(K5566,'Codes éco-part'!$C$6:$C$923,'Codes éco-part'!$B$6:$B$923)","v":"099"},0.19]
["DIY and gardening products EPR",4,"22150550521","Modulated","Garden upkeep and landscaping","Garden upkeep hand tools and small accessories","Biosourced materials or non-synthetic textiles >90%","≥2 kg and <3 kg","€ / unit",0.14000000000000001,0.14000000000000001,{"$f":"_xlfn.XLOOKUP(K5567,'Codes éco-part'!$C$6:$C$923,'Codes éco-part'!$B$6:$B$923)","v":"098"},0.17]
["DIY and gardening products EPR",4,"22150590000",null,"Garden upkeep and landscaping","Garden upkeep hand tools and small accessories","Certified chipboard or OSB >90%","Elements of all sizes and weights","€ / ton",55,55,{"$f":"_xlfn.XLOOKUP(K5572,'Codes éco-part'!$C$6:$C$923,'Codes éco-part'!$B$6:$B$923)","v":"490"},66]
["DIY and gardening products EPR",4,"22150590211","Modulated","Garden upkeep and landscaping","Garden upkeep hand tools and small accessories","Certified chipboard or OSB >90%","≥0.5 kg and <1 kg","€ / unit",0.04,0.04,{"$f":"_xlfn.XLOOKUP(K5577,'Codes éco-part'!$C$6:$C$923,'Codes éco-part'!$B$6:$B$923)","v":"002"},0.05]
["DIY and gardening products EPR",4,"22150590530",null,"Garden upkeep and landscaping","Garden upkeep hand tools and small accessories","Certified chipboard or OSB >90%","≥3 kg and <5 kg","€ / unit",0.22,0.22,{"$f":"_xlfn.XLOOKUP(K5582,'Codes éco-part'!$C$6:$C$923,'Codes éco-part'!$B$6:$B$923)","v":"263"},0.26]
["DIY and gardening products EPR",4,"22150590531","Modulated","Garden upkeep and landscaping","Garden upkeep hand tools and small accessories","Certified chipboard or OSB >90%","≥3 kg and <5 kg","€ / unit",0.2,0.2,{"$f":"_xlfn.XLOOKUP(K5583,'Codes éco-part'!$C$6:$C$923,'Codes éco-part'!$B$6:$B$923)","v":"101"},0.24]
["DIY and gardening products EPR",4,"22150600200",null,"Garden upkeep and landscaping","Garden upkeep hand tools and small accessories","Certified chipboard or OSB >75%","Strictly <0.5 kg","€ / unit",0.01,0.01,{"$f":"_xlfn.XLOOKUP(K5588,'Codes éco-part'!$C$6:$C$923,'Codes éco-part'!$B$6:$B$923)","v":"260"},0.01]
["DIY and gardening products EPR",4,"22150600221","Modulated","Garden upkeep and landscaping","Garden upkeep hand tools and small accessories","Certified chipboard or OSB >75%","≥1 kg and <2 kg","€ / unit",7.0000000000000007E-2,7.0000000000000007E-2,{"$f":"_xlfn.XLOOKUP(K5593,'Codes éco-part'!$C$6:$C$923,'Codes éco-part'!$B$6:$B$923)","v":"247"},0.08]
["DIY and gardening products EPR",4,"22150600540",null,"Garden upkeep and landscaping","Garden upkeep hand tools and small accessories","Certified chipboard or OSB >75%","≥5 kg and <7 kg","€ / unit",0.39,0.39,{"$f":"_xlfn.XLOOKUP(K5598,'Codes éco-part'!$C$6:$C$923,'Codes éco-part'!$B$6:$B$923)","v":"253"},0.47]
["DIY and gardening products EPR",4,"22150600541","Modulated","Garden upkeep and landscaping","Garden upkeep hand tools and small accessories","Certified chipboard or OSB >75%","≥5 kg and <7 kg","€ / unit",0.35,0.35,{"$f":"_xlfn.XLOOKUP(K5599,'Codes éco-part'!$C$6:$C$923,'Codes éco-part'!$B$6:$B$923)","v":"448"},0.42]
["DIY and gardening products EPR",4,"22150610201","Modulated","Garden upkeep and landscaping","Garden upkeep hand tools and small accessories","Chipboard or OSB >90%","Strictly <0.5 kg","€ / unit",0.02,0.02,{"$f":"_xlfn.XLOOKUP(K5603,'Codes éco-part'!$C$6:$C$923,'Codes éco-part'!$B$6:$B$923)","v":"047"},0.02]
["DIY and gardening products EPR",4,"22150610520",null,"Garden upkeep and landscaping","Garden upkeep hand tools and small accessories","Chipboard or OSB >90%","≥2 kg and <3 kg","€ / unit",0.28000000000000003,0.28000000000000003,{"$f":"_xlfn.XLOOKUP(K5608,'Codes éco-part'!$C$6:$C$923,'Codes éco-part'!$B$6:$B$923)","v":"542"},0.34]
["DIY and gardening products EPR",4,"22150610541","Modulated","Garden upkeep and landscaping","Garden upkeep hand tools and small accessories","Chipboard or OSB >90%","≥5 kg and <7 kg","€ / unit",0.7,0.7,{"$f":"_xlfn.XLOOKUP(K5613,'Codes éco-part'!$C$6:$C$923,'Codes éco-part'!$B$6:$B$923)","v":"282"},0.84]
["DIY and gardening products EPR",4,"22150620000",null,"Garden upkeep and landscaping","Garden upkeep hand tools and small accessories","Wood derivatives >90%","Elements of all sizes and weights","€ / ton",55,55,{"$f":"_xlfn.XLOOKUP(K5614,'Codes éco-part'!$C$6:$C$923,'Codes éco-part'!$B$6:$B$923)","v":"490"},66]
["DIY and gardening products EPR",4,"22150620211","Modulated","Garden upkeep and landscaping","Garden upkeep hand tools and small accessories","Wood derivatives >90%","≥0.5 kg and <1 kg","€ / unit",0.04,0.04,{"$f":"_xlfn.XLOOKUP(K5619,'Codes éco-part'!$C$6:$C$923,'Codes éco-part'!$B$6:$B$923)","v":"002"},0.05]
["DIY and gardening products EPR",4,"22150620530",null,"Garden upkeep and landscaping","Garden upkeep hand tools and small accessories","Wood derivatives >90%","≥3 kg and <5 kg","€ / unit",0.22,0.22,{"$f":"_xlfn.XLOOKUP(K5624,'Codes éco-part'!$C$6:$C$923,'Codes éco-part'!$B$6:$B$923)","v":"263"},0.26]
["DIY and gardening products EPR",4,"22150630001","Modulated","Garden upkeep and landscaping","Garden upkeep hand tools and small accessories","Natural rubber >90%","Elements of all sizes and weights","€ / ton",58.5,58.5,{"$f":"_xlfn.XLOOKUP(K5629,'Codes éco-part'!$C$6:$C$923,'Codes éco-part'!$B$6:$B$923)","v":942},70.2]
["DIY and gardening products EPR",4,"22150630200",null,"Garden upkeep and landscaping","Garden upkeep hand tools and small accessories","Natural rubber >90%","Strictly <0.5 kg","€ / unit",0.02,0.02,{"$f":"_xlfn.XLOOKUP(K5630,'Codes éco-part'!$C$6:$C$923,'Codes éco-part'!$B$6:$B$923)","v":"047"},0.02]
["DIY and gardening products EPR",4,"22150630221","Modulated","Garden upkeep and landscaping","Garden upkeep hand tools and small accessories","Natural rubber >90%","≥1 kg and <2 kg","€ / unit",0.09,0.09,{"$f":"_xlfn.XLOOKUP(K5635,'Codes éco-part'!$C$6:$C$923,'Codes éco-part'!$B$6:$B$923)","v":"049"},0.11]
["DIY and gardening products EPR",4,"22150630540",null,"Garden upkeep and landscaping","Garden upkeep hand tools and small accessories","Natural rubber >90%","≥5 kg and <7 kg","€ / unit",0.46,0.46,{"$f":"_xlfn.XLOOKUP(K5640,'Codes éco-part'!$C$6:$C$923,'Codes éco-part'!$B$6:$B$923)","v":"106"},0.55000000000000004]
["DIY and gardening products EPR",4,"22150640201","Modulated","Garden upkeep and landscaping","Garden upkeep hand tools and small accessories","Natural rubber >50%","Strictly <0.5 kg","€ / unit",7.0000000000000007E-2,7.0000000000000007E-2,{"$f":"_xlfn.XLOOKUP(K5645,'Codes éco-part'!$C$6:$C$923,'Codes éco-part'!$B$6:$B$923)","v":"247"},0.08]
["DIY and gardening products EPR",4,"22150640210",null,"Garden upkeep and landscaping","Garden upkeep hand tools and small accessories","Natural rubber >50%","≥0.5 kg and <1 kg","€ / unit",0.24,0.24,{"$f":"_xlfn.XLOOKUP(K5646,'Codes éco-part'!$C$6:$C$923,'Codes éco-part'!$B$6:$B$923)","v":"248"},0.28999999999999998]
["DIY and gardening products EPR",4,"22150640521","Modulated","Garden upkeep and landscaping","Garden upkeep hand tools and small accessories","Natural rubber >50%","≥2 kg and <3 kg","€ / unit",0.73,0.73,{"$f":"_xlfn.XLOOKUP(K5651,'Codes éco-part'!$C$6:$C$923,'Codes éco-part'!$B$6:$B$923)","v":"255"},0.88]
["DIY and gardening products EPR",4,"22150650000",null,"Garden upkeep and landscaping","Garden upkeep hand tools and small accessories","Synthetic fibres or materials >90%","Elements of all sizes and weights","€ / ton",200,200,{"$f":"_xlfn.XLOOKUP(K5656,'Codes éco-part'!$C$6:$C$923,'Codes éco-part'!$B$6:$B$923)","v":"601"},240]
["DIY and gardening products EPR",4,"22150650211","Modulated","Garden upkeep and landscaping","Garden upkeep hand tools and small accessories","Synthetic fibres or materials >90%","≥0.5 kg and <1 kg","€ / unit",0.14000000000000001,0.14000000000000001,{"$f":"_xlfn.XLOOKUP(K5661,'Codes éco-part'!$C$6:$C$923,'Codes éco-part'!$B$6:$B$923)","v":"098"},0.17]
["DIY and gardening products EPR",4,"22150650220",null,"Garden upkeep and landscaping","Garden upkeep hand tools and small accessories","Synthetic fibres or materials >90%","≥1 kg and <2 kg","€ / unit",0.3,0.3,{"$f":"_xlfn.XLOOKUP(K5662,'Codes éco-part'!$C$6:$C$923,'Codes éco-part'!$B$6:$B$923)","v":"446"},0.36]
["DIY and gardening products EPR",4,"22150650531","Modulated","Garden upkeep and landscaping","Garden upkeep hand tools and small accessories","Synthetic fibres or materials >90%","≥3 kg and <5 kg","€ / unit",0.72,0.72,{"$f":"_xlfn.XLOOKUP(K5667,'Codes éco-part'!$C$6:$C$923,'Codes éco-part'!$B$6:$B$923)","v":"454"},0.86]
["DIY and gardening products EPR",4,"22150670200",null,"Garden upkeep and landscaping","Garden upkeep hand tools and small accessories","Assembly of synthetic fibres and/or materials >50% and other materials","Strictly <0.5 kg","€ / unit",0.08,0.08,{"$f":"_xlfn.XLOOKUP(K5672,'Codes éco-part'!$C$6:$C$923,'Codes éco-part'!$B$6:$B$923)","v":"003"},0.1]
["DIY and gardening products EPR",4,"22150670221","Modulated","Garden upkeep and landscaping","Garden upkeep hand tools and small accessories","Assembly of synthetic fibres and/or materials >50% and other materials","≥1 kg and <2 kg","€ / unit",0.43,0.43,{"$f":"_xlfn.XLOOKUP(K5677,'Codes éco-part'!$C$6:$C$923,'Codes éco-part'!$B$6:$B$923)","v":"506"},0.52]
["DIY and gardening products EPR",4,"22150670520",null,"Garden upkeep and landscaping","Garden upkeep hand tools and small accessories","Assembly of synthetic fibres and/or materials >50% and other materials","≥2 kg and <3 kg","€ / unit",0.81,0.81,{"$f":"_xlfn.XLOOKUP(K5678,'Codes éco-part'!$C$6:$C$923,'Codes éco-part'!$B$6:$B$923)","v":"112"},0.97]
["DIY and gardening products EPR",4,"22150670541","Modulated","Garden upkeep and landscaping","Garden upkeep hand tools and small accessories","Assembly of synthetic fibres and/or materials >50% and other materials","≥5 kg and <7 kg","€ / unit",2.0299999999999998,2.0299999999999998,{"$f":"_xlfn.XLOOKUP(K5683,'Codes éco-part'!$C$6:$C$923,'Codes éco-part'!$B$6:$B$923)","v":937},2.44]
["DIY and gardening products EPR",4,"22150680210",null,"Garden upkeep and landscaping","Garden upkeep hand tools and small accessories","Glass >90%","≥0.5 kg and <1 kg","€ / unit",0.01,0.01,{"$f":"_xlfn.XLOOKUP(K5688,'Codes éco-part'!$C$6:$C$923,'Codes éco-part'!$B$6:$B$923)","v":"260"},0.01]
["DIY and gardening products EPR",4,"22150680521","Modulated","Garden upkeep and landscaping","Garden upkeep hand tools and small accessories","Glass >90%","≥2 kg and <3 kg","€ / unit",0.02,0.02,{"$f":"_xlfn.XLOOKUP(K5693,'Codes éco-part'!$C$6:$C$923,'Codes éco-part'!$B$6:$B$923)","v":"047"},0.02]
["DIY and gardening products EPR",4,"22150680530",null,"Garden upkeep and landscaping","Garden upkeep hand tools and small accessories","Glass >90%","≥3 kg and <5 kg","€ / unit",0.04,0.04,{"$f":"_xlfn.XLOOKUP(K5694,'Codes éco-part'!$C$6:$C$923,'Codes éco-part'!$B$6:$B$923)","v":"002"},0.05]
["DIY and gardening products EPR",4,"22150700001","Modulated","Garden upkeep and landscaping","Garden upkeep hand tools and small accessories","Assembly of glass >50% and metal","Elements of all sizes and weights","€ / ton",289.8,289.8,{"$f":"_xlfn.XLOOKUP(K5699,'Codes éco-part'!$C$6:$C$923,'Codes éco-part'!$B$6:$B$923)","v":936},347.76]
["DIY and gardening products EPR",4,"22150700220",null,"Garden upkeep and landscaping","Garden upkeep hand tools and small accessories","Assembly of glass >50% and metal","≥1 kg and <2 kg","€ / unit",0.48,0.48,{"$f":"_xlfn.XLOOKUP(K5704,'Codes éco-part'!$C$6:$C$923,'Codes éco-part'!$B$6:$B$923)","v":"606"},0.57999999999999996]
["DIY and gardening products EPR",4,"22150700531","Modulated","Garden upkeep and landscaping","Garden upkeep hand tools and small accessories","Assembly of glass >50% and metal","≥3 kg and <5 kg","€ / unit",1.1599999999999999,1.1599999999999999,{"$f":"_xlfn.XLOOKUP(K5709,'Codes éco-part'!$C$6:$C$923,'Codes éco-part'!$B$6:$B$923)","v":"504"},1.39]
["DIY and gardening products EPR",4,"22150700540",null,"Garden upkeep and landscaping","Garden upkeep hand tools and small accessories","Assembly of glass >50% and metal","≥5 kg and <7 kg","€ / unit",2.25,2.25,{"$f":"_xlfn.XLOOKUP(K5710,'Codes éco-part'!$C$6:$C$923,'Codes éco-part'!$B$6:$B$923)","v":"118"},2.7]
["DIY and gardening products EPR",4,"22150710201","Modulated","Garden upkeep and landscaping","Garden upkeep hand tools and small accessories","Assembly of glass >50% and inert substances","Strictly <0.5 kg","€ / unit",7.0000000000000007E-2,7.0000000000000007E-2,{"$f":"_xlfn.XLOOKUP(K5715,'Codes éco-part'!$C$6:$C$923,'Codes éco-part'!$B$6:$B$923)","v":"247"},0.08]
["DIY and gardening products EPR",4,"22150710520",null,"Garden upkeep and landscaping","Garden upkeep hand tools and small accessories","Assembly of glass >50% and inert substances","≥2 kg and <3 kg","€ / unit",0.81,0.81,{"$f":"_xlfn.XLOOKUP(K5720,'Codes éco-part'!$C$6:$C$923,'Codes éco-part'!$B$6:$B$923)","v":"112"},0.97]
["DIY and gardening products EPR",4,"22150710541","Modulated","Garden upkeep and landscaping","Garden upkeep hand tools and small accessories","Assembly of glass >50% and inert substances","≥5 kg and <7 kg","€ / unit",2.0299999999999998,2.0299999999999998,{"$f":"_xlfn.XLOOKUP(K5725,'Codes éco-part'!$C$6:$C$923,'Codes éco-part'!$B$6:$B$923)","v":937},2.44]
["DIY and gardening products EPR",4,"22150720000",null,"Garden upkeep and landscaping","Garden upkeep hand tools and small accessories","Assembly of glass >50% and wood or wood derivatives","Elements of all sizes and weights","€ / ton",322,322,{"$f":"_xlfn.XLOOKUP(K5726,'Codes éco-part'!$C$6:$C$923,'Codes éco-part'!$B$6:$B$923)","v":"607"},386.4]
["DIY and gardening products EPR",4,"22150720211","Modulated","Garden upkeep and landscaping","Garden upkeep hand tools and small accessories","Assembly of glass >50% and wood or wood derivatives","≥0.5 kg and <1 kg","€ / unit",0.22,0.22,{"$f":"_xlfn.XLOOKUP(K5731,'Codes éco-part'!$C$6:$C$923,'Codes éco-part'!$B$6:$B$923)","v":"263"},0.26]
["DIY and gardening products EPR",4,"22150720530",null,"Garden upkeep and landscaping","Garden upkeep hand tools and small accessories","Assembly of glass >50% and wood or wood derivatives","≥3 kg and <5 kg","€ / unit",1.29,1.29,{"$f":"_xlfn.XLOOKUP(K5736,'Codes éco-part'!$C$6:$C$923,'Codes éco-part'!$B$6:$B$923)","v":"608"},1.55]
["DIY and gardening products EPR",4,"22150730001","Modulated","Garden upkeep and landscaping","Garden upkeep hand tools and small accessories","Assembly of glass >50% and plastic","Elements of all sizes and weights","€ / ton",289.8,289.8,{"$f":"_xlfn.XLOOKUP(K5741,'Codes éco-part'!$C$6:$C$923,'Codes éco-part'!$B$6:$B$923)","v":936},347.76]
["DIY and gardening products EPR",4,"22150730200",null,"Garden upkeep and landscaping","Garden upkeep hand tools and small accessories","Assembly of glass >50% and plastic","Strictly <0.5 kg","€ / unit",0.08,0.08,{"$f":"_xlfn.XLOOKUP(K5742,'Codes éco-part'!$C$6:$C$923,'Codes éco-part'!$B$6:$B$923)","v":"003"},0.1]
["DIY and gardening products EPR",4,"22150730221","Modulated","Garden upkeep and landscaping","Garden upkeep hand tools and small accessories","Assembly of glass >50% and plastic","≥1 kg and <2 kg","€ / unit",0.43,0.43,{"$f":"_xlfn.XLOOKUP(K5747,'Codes éco-part'!$C$6:$C$923,'Codes éco-part'!$B$6:$B$923)","v":"506"},0.52]
["DIY and gardening products EPR",4,"22150730540",null,"Garden upkeep and landscaping","Garden upkeep hand tools and small accessories","Assembly of glass >50% and plastic","≥5 kg and <7 kg","€ / unit",2.25,2.25,{"$f":"_xlfn.XLOOKUP(K5752,'Codes éco-part'!$C$6:$C$923,'Codes éco-part'!$B$6:$B$923)","v":"118"},2.7]
["DIY and gardening products EPR",4,"22150810201","Modulated","Garden upkeep and landscaping","Garden upkeep hand tools and small accessories","Assembly of wood, wood derivatives, and metal with a combination representing >90%","Strictly <0.5 kg","€ / unit",0.01,0.01,{"$f":"_xlfn.XLOOKUP(K5757,'Codes éco-part'!$C$6:$C$923,'Codes éco-part'!$B$6:$B$923)","v":"260"},0.01]
["DIY and gardening products EPR",4,"22150810210",null,"Garden upkeep and landscaping","Garden upkeep hand tools and small accessories","Assembly of wood, wood derivatives, and metal with a combination representing >90%","≥0.5 kg and <1 kg","€ / unit",0.04,0.04,{"$f":"_xlfn.XLOOKUP(K5758,'Codes éco-part'!$C$6:$C$923,'Codes éco-part'!$B$6:$B$923)","v":"002"},0.05]
["DIY and gardening products EPR",4,"22150810521","Modulated","Garden upkeep and landscaping","Garden upkeep hand tools and small accessories","Assembly of wood, wood derivatives, and metal with a combination representing >90%","≥2 kg and <3 kg","€ / unit",0.13,0.13,{"$f":"_xlfn.XLOOKUP(K5763,'Codes éco-part'!$C$6:$C$923,'Codes éco-part'!$B$6:$B$923)","v":"004"},0.16]
["DIY and gardening products EPR",4,"22150820000",null,"Garden upkeep and landscaping","Garden upkeep hand tools and small accessories","Assembly of 3 or more materials, with no material representing >50%","Elements of all sizes and weights","€ / ton",322,322,{"$f":"_xlfn.XLOOKUP(K5768,'Codes éco-part'!$C$6:$C$923,'Codes éco-part'!$B$6:$B$923)","v":"607"},386.4]
["DIY and gardening products EPR",4,"22150820211","Modulated","Garden upkeep and landscaping","Garden upkeep hand tools and small accessories","Assembly of 3 or more materials, with no material representing >50%","≥0.5 kg and <1 kg","€ / unit",0.22,0.22,{"$f":"_xlfn.XLOOKUP(K5773,'Codes éco-part'!$C$6:$C$923,'Codes éco-part'!$B$6:$B$923)","v":"263"},0.26]
["DIY and gardening products EPR",4,"22150820220",null,"Garden upkeep and landscaping","Garden upkeep hand tools and small accessories","Assembly of 3 or more materials, with no material representing >50%","≥1 kg and <2 kg","€ / unit",0.48,0.48,{"$f":"_xlfn.XLOOKUP(K5774,'Codes éco-part'!$C$6:$C$923,'Codes éco-part'!$B$6:$B$923)","v":"606"},0.57999999999999996]
["DIY and gardening products EPR",4,"22150820531","Modulated","Garden upkeep and landscaping","Garden upkeep hand tools and small accessories","Assembly of 3 or more materials, with no material representing >50%","≥3 kg and <5 kg","€ / unit",1.1599999999999999,1.1599999999999999,{"$f":"_xlfn.XLOOKUP(K5779,'Codes éco-part'!$C$6:$C$923,'Codes éco-part'!$B$6:$B$923)","v":"504"},1.39]
["DIY and gardening products EPR",4,"22151000200",null,"Garden upkeep and landscaping","Personal protection equipment and accessories for gardening","Unknown or unspecified by the company","Strictly <0.5 kg","€ / unit",0.08,0.08,{"$f":"_xlfn.XLOOKUP(K5784,'Codes éco-part'!$C$6:$C$923,'Codes éco-part'!$B$6:$B$923)","v":"003"},0.1]
["DIY and gardening products EPR",4,"22151000221","Modulated","Garden upkeep and landscaping","Personal protection equipment and accessories for gardening","Unknown or unspecified by the company","≥1 kg and <2 kg","€ / unit",0.43,0.43,{"$f":"_xlfn.XLOOKUP(K5789,'Codes éco-part'!$C$6:$C$923,'Codes éco-part'!$B$6:$B$923)","v":"506"},0.52]
["DIY and gardening products EPR",4,"22151000520",null,"Garden upkeep and landscaping","Personal protection equipment and accessories for gardening","Unknown or unspecified by the company","≥2 kg and <3 kg","€ / unit",0.81,0.81,{"$f":"_xlfn.XLOOKUP(K5790,'Codes éco-part'!$C$6:$C$923,'Codes éco-part'!$B$6:$B$923)","v":"112"},0.97]
["DIY and gardening products EPR",4,"22151000541","Modulated","Garden upkeep and landscaping","Personal protection equipment and accessories for gardening","Unknown or unspecified by the company","≥5 kg and <7 kg","€ / unit",2.0299999999999998,2.0299999999999998,{"$f":"_xlfn.XLOOKUP(K5795,'Codes éco-part'!$C$6:$C$923,'Codes éco-part'!$B$6:$B$923)","v":937},2.44]
["DIY and gardening products EPR",4,"22151010210",null,"Garden upkeep and landscaping","Personal protection equipment and accessories for gardening","Assembly of wood and/or wood derivatives >50% and other materials or composite wood (excl. glass)","≥0.5 kg and <1 kg","€ / unit",0.04,0.04,{"$f":"_xlfn.XLOOKUP(K5800,'Codes éco-part'!$C$6:$C$923,'Codes éco-part'!$B$6:$B$923)","v":"002"},0.05]
["DIY and gardening products EPR",4,"22151010521","Modulated","Garden upkeep and landscaping","Personal protection equipment and accessories for gardening","Assembly of wood and/or wood derivatives >50% and other materials or composite wood (excl. glass)","≥2 kg and <3 kg","€ / unit",0.13,0.13,{"$f":"_xlfn.XLOOKUP(K5805,'Codes éco-part'!$C$6:$C$923,'Codes éco-part'!$B$6:$B$923)","v":"004"},0.16]
["DIY and gardening products EPR",4,"22151010530",null,"Garden upkeep and landscaping","Personal protection equipment and accessories for gardening","Assembly of wood and/or wood derivatives >50% and other materials or composite wood (excl. glass)","≥3 kg and <5 kg","€ / unit",0.22,0.22,{"$f":"_xlfn.XLOOKUP(K5806,'Codes éco-part'!$C$6:$C$923,'Codes éco-part'!$B$6:$B$923)","v":"263"},0.26]
["DIY and gardening products EPR",4,"22151020001","Modulated","Garden upkeep and landscaping","Personal protection equipment and accessories for gardening","Assembly of metal >50% and other materials","Elements of all sizes and weights","€ / ton",12.6,12.6,{"$f":"_xlfn.XLOOKUP(K5811,'Codes éco-part'!$C$6:$C$923,'Codes éco-part'!$B$6:$B$923)","v":939},15.12]
["DIY and gardening products EPR",4,"22151020220",null,"Garden upkeep and landscaping","Personal protection equipment and accessories for gardening","Assembly of metal >50% and other materials","≥1 kg and <2 kg","€ / unit",0.02,0.02,{"$f":"_xlfn.XLOOKUP(K5816,'Codes éco-part'!$C$6:$C$923,'Codes éco-part'!$B$6:$B$923)","v":"047"},0.02]
["DIY and gardening products EPR",4,"22151020531","Modulated","Garden upkeep and landscaping","Personal protection equipment and accessories for gardening","Assembly of metal >50% and other materials","≥3 kg and <5 kg","€ / unit",0.05,0.05,{"$f":"_xlfn.XLOOKUP(K5821,'Codes éco-part'!$C$6:$C$923,'Codes éco-part'!$B$6:$B$923)","v":"048"},0.06]
["DIY and gardening products EPR",4,"22151020540",null,"Garden upkeep and landscaping","Personal protection equipment and accessories for gardening","Assembly of metal >50% and other materials","≥5 kg and <7 kg","€ / unit",0.1,0.1,{"$f":"_xlfn.XLOOKUP(K5822,'Codes éco-part'!$C$6:$C$923,'Codes éco-part'!$B$6:$B$923)","v":"094"},0.12]
["DIY and gardening products EPR",4,"22151040201","Modulated","Garden upkeep and landscaping","Personal protection equipment and accessories for gardening","Biosourced materials or non-synthetic textiles >50%","Strictly <0.5 kg","€ / unit",7.0000000000000007E-2,7.0000000000000007E-2,{"$f":"_xlfn.XLOOKUP(K5827,'Codes éco-part'!$C$6:$C$923,'Codes éco-part'!$B$6:$B$923)","v":"247"},0.08]
["DIY and gardening products EPR",4,"22151040520",null,"Garden upkeep and landscaping","Personal protection equipment and accessories for gardening","Biosourced materials or non-synthetic textiles >50%","≥2 kg and <3 kg","€ / unit",0.81,0.81,{"$f":"_xlfn.XLOOKUP(K5832,'Codes éco-part'!$C$6:$C$923,'Codes éco-part'!$B$6:$B$923)","v":"112"},0.97]
["DIY and gardening products EPR",4,"22151040541","Modulated","Garden upkeep and landscaping","Personal protection equipment and accessories for gardening","Biosourced materials or non-synthetic textiles >50%","≥5 kg and <7 kg","€ / unit",2.0299999999999998,2.0299999999999998,{"$f":"_xlfn.XLOOKUP(K5837,'Codes éco-part'!$C$6:$C$923,'Codes éco-part'!$B$6:$B$923)","v":937},2.44]
["DIY and gardening products EPR",4,"22151050000",null,"Garden upkeep and landscaping","Personal protection equipment and accessories for gardening","Plastics or other synthetic materials >50%","Elements of all sizes and weights","€ / ton",322,322,{"$f":"_xlfn.XLOOKUP(K5838,'Codes éco-part'!$C$6:$C$923,'Codes éco-part'!$B$6:$B$923)","v":"607"},386.4]
["DIY and gardening products EPR",4,"22151050211","Modulated","Garden upkeep and landscaping","Personal protection equipment and accessories for gardening","Plastics or other synthetic materials >50%","≥0.5 kg and <1 kg","€ / unit",0.22,0.22,{"$f":"_xlfn.XLOOKUP(K5843,'Codes éco-part'!$C$6:$C$923,'Codes éco-part'!$B$6:$B$923)","v":"263"},0.26]
["DIY and gardening products EPR",4,"22151050530",null,"Garden upkeep and landscaping","Personal protection equipment and accessories for gardening","Plastics or other synthetic materials >50%","≥3 kg and <5 kg","€ / unit",1.29,1.29,{"$f":"_xlfn.XLOOKUP(K5848,'Codes éco-part'!$C$6:$C$923,'Codes éco-part'!$B$6:$B$923)","v":"608"},1.55]
["DIY and gardening products EPR",4,"22151060001","Modulated","Garden upkeep and landscaping","Personal protection equipment and accessories for gardening","Materials of animal origin >50%","Elements of all sizes and weights","€ / ton",289.8,289.8,{"$f":"_xlfn.XLOOKUP(K5853,'Codes éco-part'!$C$6:$C$923,'Codes éco-part'!$B$6:$B$923)","v":936},347.76]
["DIY and gardening products EPR",4,"22151060201","Modulated","Garden upkeep and landscaping","Personal protection equipment and accessories for gardening","Materials of animal origin >50%","Strictly <0.5 kg","€ / unit",7.0000000000000007E-2,7.0000000000000007E-2,{"$f":"_xlfn.XLOOKUP(K5855,'Codes éco-part'!$C$6:$C$923,'Codes éco-part'!$B$6:$B$923)","v":"247"},0.08]
["DIY and gardening products EPR",4,"22151060220",null,"Garden upkeep and landscaping","Personal protection equipment and accessories for gardening","Materials of animal origin >50%","≥1 kg and <2 kg","€ / unit",0.48,0.48,{"$f":"_xlfn.XLOOKUP(K5858,'Codes éco-part'!$C$6:$C$923,'Codes éco-part'!$B$6:$B$923)","v":"606"},0.57999999999999996]
["DIY and gardening products EPR",4,"22151060531","Modulated","Garden upkeep and landscaping","Personal protection equipment and accessories for gardening","Materials of animal origin >50%","≥3 kg and <5 kg","€ / unit",1.1599999999999999,1.1599999999999999,{"$f":"_xlfn.XLOOKUP(K5863,'Codes éco-part'!$C$6:$C$923,'Codes éco-part'!$B$6:$B$923)","v":"504"},1.39]
["DIY and gardening products EPR",4,"22151190200",null,"Garden upkeep and landscaping","Personal protection equipment and accessories for gardening","Cardboard >50% and other materials (excl. glass)","Strictly <0.5 kg","€ / unit",0.08,0.08,{"$f":"_xlfn.XLOOKUP(K5868,'Codes éco-part'!$C$6:$C$923,'Codes éco-part'!$B$6:$B$923)","v":"003"},0.1]
["DIY and gardening products EPR",4,"22151190201","Modulated","Garden upkeep and landscaping","Personal protection equipment and accessories for gardening","Cardboard >50% and other materials (excl. glass)","Strictly <0.5 kg","€ / unit",7.0000000000000007E-2,7.0000000000000007E-2,{"$f":"_xlfn.XLOOKUP(K5869,'Codes éco-part'!$C$6:$C$923,'Codes éco-part'!$B$6:$B$923)","v":"247"},0.08]
["DIY and gardening products EPR",4,"22151190520",null,"Garden upkeep and landscaping","Personal protection equipment and accessories for gardening","Cardboard >50% and other materials (excl. glass)","≥2 kg and <3 kg","€ / unit",0.81,0.81,{"$f":"_xlfn.XLOOKUP(K5874,'Codes éco-part'!$C$6:$C$923,'Codes éco-part'!$B$6:$B$923)","v":"112"},0.97]
["DIY and gardening products EPR",4,"22151190541","Modulated","Garden upkeep and landscaping","Personal protection equipment and accessories for gardening","Cardboard >50% and other materials (excl. glass)","≥5 kg and <7 kg","€ / unit",2.0299999999999998,2.0299999999999998,{"$f":"_xlfn.XLOOKUP(K5879,'Codes éco-part'!$C$6:$C$923,'Codes éco-part'!$B$6:$B$923)","v":937},2.44]
["DIY and gardening products EPR",4,"22151200210",null,"Garden upkeep and landscaping","Personal protection equipment and accessories for gardening","Solid wood and related products certified >75%","≥0.5 kg and <1 kg","€ / unit",0.04,0.04,{"$f":"_xlfn.XLOOKUP(K5884,'Codes éco-part'!$C$6:$C$923,'Codes éco-part'!$B$6:$B$923)","v":"002"},0.05]
["DIY and gardening products EPR",4,"22151200211","Modulated","Garden upkeep and landscaping","Personal protection equipment and accessories for gardening","Solid wood and related products certified >75%","≥0.5 kg and <1 kg","€ / unit",0.04,0.04,{"$f":"_xlfn.XLOOKUP(K5885,'Codes éco-part'!$C$6:$C$923,'Codes éco-part'!$B$6:$B$923)","v":"002"},0.05]
["DIY and gardening products EPR",4,"22151200530",null,"Garden upkeep and landscaping","Personal protection equipment and accessories for gardening","Solid wood and related products certified >75%","≥3 kg and <5 kg","€ / unit",0.22,0.22,{"$f":"_xlfn.XLOOKUP(K5890,'Codes éco-part'!$C$6:$C$923,'Codes éco-part'!$B$6:$B$923)","v":"263"},{"$f":"ROUND(K5890*1.2,2)","v":0.26}]
["DIY and gardening products EPR",4,"22151210001","Modulated","Garden upkeep and landscaping","Personal protection equipment and accessories for gardening","Solid wood and related products >75%","Elements of all sizes and weights","€ / ton",99,99,{"$f":"_xlfn.XLOOKUP(K5895,'Codes éco-part'!$C$6:$C$923,'Codes éco-part'!$B$6:$B$923)","v":940},118.8]
["DIY and gardening products EPR",4,"22151210220",null,"Garden upkeep and landscaping","Personal protection equipment and accessories for gardening","Solid wood and related products >75%","≥1 kg and <2 kg","€ / unit",0.16,0.16,{"$f":"_xlfn.XLOOKUP(K5900,'Codes éco-part'!$C$6:$C$923,'Codes éco-part'!$B$6:$B$923)","v":"099"},0.19]
["DIY and gardening products EPR",4,"22151210221","Modulated","Garden upkeep and landscaping","Personal protection equipment and accessories for gardening","Solid wood and related products >75%","≥1 kg and <2 kg","€ / unit",0.14000000000000001,0.14000000000000001,{"$f":"_xlfn.XLOOKUP(K5901,'Codes éco-part'!$C$6:$C$923,'Codes éco-part'!$B$6:$B$923)","v":"098"},0.17]
["DIY and gardening products EPR",4,"22151210540",null,"Garden upkeep and landscaping","Personal protection equipment and accessories for gardening","Solid wood and related products >75%","≥5 kg and <7 kg","€ / unit",0.78,0.78,{"$f":"_xlfn.XLOOKUP(K5906,'Codes éco-part'!$C$6:$C$923,'Codes éco-part'!$B$6:$B$923)","v":"312"},0.94]
["DIY and gardening products EPR",4,"22151250201","Modulated","Garden upkeep and landscaping","Personal protection equipment and accessories for gardening","Chipboard or OSB >75%","Strictly <0.5 kg","€ / unit",0.02,0.02,{"$f":"_xlfn.XLOOKUP(K5911,'Codes éco-part'!$C$6:$C$923,'Codes éco-part'!$B$6:$B$923)","v":"047"},0.02]
["DIY and gardening products EPR",4,"22151250520",null,"Garden upkeep and landscaping","Personal protection equipment and accessories for gardening","Chipboard or OSB >75%","≥2 kg and <3 kg","€ / unit",0.28000000000000003,0.28000000000000003,{"$f":"_xlfn.XLOOKUP(K5916,'Codes éco-part'!$C$6:$C$923,'Codes éco-part'!$B$6:$B$923)","v":"542"},0.34]
["DIY and gardening products EPR",4,"22151250521","Modulated","Garden upkeep and landscaping","Personal protection equipment and accessories for gardening","Chipboard or OSB >75%","≥2 kg and <3 kg","€ / unit",0.25,0.25,{"$f":"_xlfn.XLOOKUP(K5917,'Codes éco-part'!$C$6:$C$923,'Codes éco-part'!$B$6:$B$923)","v":"095"},0.3]
["DIY and gardening products EPR",4,"22151280000",null,"Garden upkeep and landscaping","Personal protection equipment and accessories for gardening","Metal >90%","Elements of all sizes and weights","€ / ton",14,14,{"$f":"_xlfn.XLOOKUP(K5922,'Codes éco-part'!$C$6:$C$923,'Codes éco-part'!$B$6:$B$923)","v":"532"},16.8]
["DIY and gardening products EPR",4,"22151280211","Modulated","Garden upkeep and landscaping","Personal protection equipment and accessories for gardening","Metal >90%","≥0.5 kg and <1 kg","€ / unit",0.01,0.01,{"$f":"_xlfn.XLOOKUP(K5927,'Codes éco-part'!$C$6:$C$923,'Codes éco-part'!$B$6:$B$923)","v":"260"},0.01]
["DIY and gardening products EPR",4,"22151280530",null,"Garden upkeep and landscaping","Personal protection equipment and accessories for gardening","Metal >90%","≥3 kg and <5 kg","€ / unit",0.06,0.06,{"$f":"_xlfn.XLOOKUP(K5932,'Codes éco-part'!$C$6:$C$923,'Codes éco-part'!$B$6:$B$923)","v":"096"},7.0000000000000007E-2]
["DIY and gardening products EPR",4,"22151280531","Modulated","Garden upkeep and landscaping","Personal protection equipment and accessories for gardening","Metal >90%","≥3 kg and <5 kg","€ / unit",0.05,0.05,{"$f":"_xlfn.XLOOKUP(K5933,'Codes éco-part'!$C$6:$C$923,'Codes éco-part'!$B$6:$B$923)","v":"048"},0.06]
["DIY and gardening products EPR",4,"22151400200",null,"Garden upkeep and landscaping","Personal protection equipment and accessories for gardening","Assembly of synthetic rubber or latex >50% and other materials","Strictly <0.5 kg","€ / unit",0.08,0.08,{"$f":"_xlfn.XLOOKUP(K5938,'Codes éco-part'!$C$6:$C$923,'Codes éco-part'!$B$6:$B$923)","v":"003"},0.1]
["DIY and gardening products EPR",4,"22151400221","Modulated","Garden upkeep and landscaping","Personal protection equipment and accessories for gardening","Assembly of synthetic rubber or latex >50% and other materials","≥1 kg and <2 kg","€ / unit",0.43,0.43,{"$f":"_xlfn.XLOOKUP(K5943,'Codes éco-part'!$C$6:$C$923,'Codes éco-part'!$B$6:$B$923)","v":"506"},0.52]
["DIY and gardening products EPR",4,"22151400540",null,"Garden upkeep and landscaping","Personal protection equipment and accessories for gardening","Assembly of synthetic rubber or latex >50% and other materials","≥5 kg and <7 kg","€ / unit",2.25,2.25,{"$f":"_xlfn.XLOOKUP(K5948,'Codes éco-part'!$C$6:$C$923,'Codes éco-part'!$B$6:$B$923)","v":"118"},2.7]
["DIY and gardening products EPR",4,"22151400541","Modulated","Garden upkeep and landscaping","Personal protection equipment and accessories for gardening","Assembly of synthetic rubber or latex >50% and other materials","≥5 kg and <7 kg","€ / unit",2.0299999999999998,2.0299999999999998,{"$f":"_xlfn.XLOOKUP(K5949,'Codes éco-part'!$C$6:$C$923,'Codes éco-part'!$B$6:$B$923)","v":937},2.44]
["DIY and gardening products EPR",4,"22151410210",null,"Garden upkeep and landscaping","Personal protection equipment and accessories for gardening","Plastic (single-resin) >90%","≥0.5 kg and <1 kg","€ / unit",0.15,0.15,{"$f":"_xlfn.XLOOKUP(K5954,'Codes éco-part'!$C$6:$C$923,'Codes éco-part'!$B$6:$B$923)","v":"050"},{"$f":"ROUND(K5954*1.2,2)","v":0.18}]
["DIY and gardening products EPR",4,"22151410521","Modulated","Garden upkeep and landscaping","Personal protection equipment and accessories for gardening","Plastic (single-resin) >90%","≥2 kg and <3 kg","€ / unit",0.45,0.45,{"$f":"_xlfn.XLOOKUP(K5959,'Codes éco-part'!$C$6:$C$923,'Codes éco-part'!$B$6:$B$923)","v":"325"},0.54]
["DIY and gardening products EPR",4,"22151420000",null,"Garden upkeep and landscaping","Personal protection equipment and accessories for gardening","Polyethylene terephthalate (PET) >90%","Elements of all sizes and weights","€ / ton",200,200,{"$f":"_xlfn.XLOOKUP(K5964,'Codes éco-part'!$C$6:$C$923,'Codes éco-part'!$B$6:$B$923)","v":"601"},240]
["DIY and gardening products EPR",4,"22151420001","Modulated","Garden upkeep and landscaping","Personal protection equipment and accessories for gardening","Polyethylene terephthalate (PET) >90%","Elements of all sizes and weights","€ / ton",180,180,{"$f":"_xlfn.XLOOKUP(K5965,'Codes éco-part'!$C$6:$C$923,'Codes éco-part'!$B$6:$B$923)","v":941},216]
["DIY and gardening products EPR",4,"22151420220",null,"Garden upkeep and landscaping","Personal protection equipment and accessories for gardening","Polyethylene terephthalate (PET) >90%","≥1 kg and <2 kg","€ / unit",0.3,0.3,{"$f":"_xlfn.XLOOKUP(K5970,'Codes éco-part'!$C$6:$C$923,'Codes éco-part'!$B$6:$B$923)","v":"446"},0.36]
["DIY and gardening products EPR",4,"22151420531","Modulated","Garden upkeep and landscaping","Personal protection equipment and accessories for gardening","Polyethylene terephthalate (PET) >90%","≥3 kg and <5 kg","€ / unit",0.72,0.72,{"$f":"_xlfn.XLOOKUP(K5975,'Codes éco-part'!$C$6:$C$923,'Codes éco-part'!$B$6:$B$923)","v":"454"},0.86]
["DIY and gardening products EPR",4,"22151450200",null,"Garden upkeep and landscaping","Personal protection equipment and accessories for gardening","PE or PP or PP/PE mix >90%","Strictly <0.5 kg","€ / unit",0.05,0.05,{"$f":"_xlfn.XLOOKUP(K5980,'Codes éco-part'!$C$6:$C$923,'Codes éco-part'!$B$6:$B$923)","v":"048"},0.06]
["DIY and gardening products EPR",4,"22151450201","Modulated","Garden upkeep and landscaping","Personal protection equipment and accessories for gardening","PE or PP or PP/PE mix >90%","Strictly <0.5 kg","€ / unit",0.05,0.05,{"$f":"_xlfn.XLOOKUP(K5981,'Codes éco-part'!$C$6:$C$923,'Codes éco-part'!$B$6:$B$923)","v":"048"},0.06]
["DIY and gardening products EPR",4,"22151450520",null,"Garden upkeep and landscaping","Personal protection equipment and accessories for gardening","PE or PP or PP/PE mix >90%","≥2 kg and <3 kg","€ / unit",0.5,0.5,{"$f":"_xlfn.XLOOKUP(K5986,'Codes éco-part'!$C$6:$C$923,'Codes éco-part'!$B$6:$B$923)","v":"053"},0.6]
["DIY and gardening products EPR",4,"22151450541","Modulated","Garden upkeep and landscaping","Personal protection equipment and accessories for gardening","PE or PP or PP/PE mix >90%","≥5 kg and <7 kg","€ / unit",1.26,1.26,{"$f":"_xlfn.XLOOKUP(K5991,'Codes éco-part'!$C$6:$C$923,'Codes éco-part'!$B$6:$B$923)","v":"568"},1.51]
["DIY and gardening products EPR",4,"22151460210",null,"Garden upkeep and landscaping","Personal protection equipment and accessories for gardening","ABS >90%","≥0.5 kg and <1 kg","€ / unit",0.15,0.15,{"$f":"_xlfn.XLOOKUP(K5996,'Codes éco-part'!$C$6:$C$923,'Codes éco-part'!$B$6:$B$923)","v":"050"},0.18]
["DIY and gardening products EPR",4,"22151460211","Modulated","Garden upkeep and landscaping","Personal protection equipment and accessories for gardening","ABS >90%","≥0.5 kg and <1 kg","€ / unit",0.14000000000000001,0.14000000000000001,{"$f":"_xlfn.XLOOKUP(K5997,'Codes éco-part'!$C$6:$C$923,'Codes éco-part'!$B$6:$B$923)","v":"098"},0.17]
["DIY and gardening products EPR",4,"22151460530",null,"Garden upkeep and landscaping","Personal protection equipment and accessories for gardening","ABS >90%","≥3 kg and <5 kg","€ / unit",0.8,0.8,{"$f":"_xlfn.XLOOKUP(K6002,'Codes éco-part'!$C$6:$C$923,'Codes éco-part'!$B$6:$B$923)","v":"456"},0.96]
["DIY and gardening products EPR",4,"22151470001","Modulated","Garden upkeep and landscaping","Personal protection equipment and accessories for gardening","Polystyrene >90%","Elements of all sizes and weights","€ / ton",180,180,{"$f":"_xlfn.XLOOKUP(K6007,'Codes éco-part'!$C$6:$C$923,'Codes éco-part'!$B$6:$B$923)","v":941},216]
["DIY and gardening products EPR",4,"22151470220",null,"Garden upkeep and landscaping","Personal protection equipment and accessories for gardening","Polystyrene >90%","≥1 kg and <2 kg","€ / unit",0.3,0.3,{"$f":"_xlfn.XLOOKUP(K6012,'Codes éco-part'!$C$6:$C$923,'Codes éco-part'!$B$6:$B$923)","v":"446"},0.36]
["DIY and gardening products EPR",4,"22151470221","Modulated","Garden upkeep and landscaping","Personal protection equipment and accessories for gardening","Polystyrene >90%","≥1 kg and <2 kg","€ / unit",0.27,0.27,{"$f":"_xlfn.XLOOKUP(K6013,'Codes éco-part'!$C$6:$C$923,'Codes éco-part'!$B$6:$B$923)","v":"103"},0.32]
["DIY and gardening products EPR",4,"22151470540",null,"Garden upkeep and landscaping","Personal protection equipment and accessories for gardening","Polystyrene >90%","≥5 kg and <7 kg","€ / unit",1.4,1.4,{"$f":"_xlfn.XLOOKUP(K6018,'Codes éco-part'!$C$6:$C$923,'Codes éco-part'!$B$6:$B$923)","v":"463"},{"$f":"ROUND(K6018*1.2,2)","v":1.68}]
["DIY and gardening products EPR",4,"22151480201","Modulated","Garden upkeep and landscaping","Personal protection equipment and accessories for gardening","PVC >90%","Strictly <0.5 kg","€ / unit",0.05,0.05,{"$f":"_xlfn.XLOOKUP(K6023,'Codes éco-part'!$C$6:$C$923,'Codes éco-part'!$B$6:$B$923)","v":"048"},0.06]
["DIY and gardening products EPR",4,"22151480520",null,"Garden upkeep and landscaping","Personal protection equipment and accessories for gardening","PVC >90%","≥2 kg and <3 kg","€ / unit",0.5,0.5,{"$f":"_xlfn.XLOOKUP(K6028,'Codes éco-part'!$C$6:$C$923,'Codes éco-part'!$B$6:$B$923)","v":"053"},0.6]
["DIY and gardening products EPR",4,"22151480521","Modulated","Garden upkeep and landscaping","Personal protection equipment and accessories for gardening","PVC >90%","≥2 kg and <3 kg","€ / unit",0.45,0.45,{"$f":"_xlfn.XLOOKUP(K6029,'Codes éco-part'!$C$6:$C$923,'Codes éco-part'!$B$6:$B$923)","v":"325"},0.54]
["DIY and gardening products EPR",4,"22151490000",null,"Garden upkeep and landscaping","Personal protection equipment and accessories for gardening","Synthetic rubber >90%","Elements of all sizes and weights","€ / ton",200,200,{"$f":"_xlfn.XLOOKUP(K6034,'Codes éco-part'!$C$6:$C$923,'Codes éco-part'!$B$6:$B$923)","v":"601"},240]
["DIY and gardening products EPR",4,"22151490211","Modulated","Garden upkeep and landscaping","Personal protection equipment and accessories for gardening","Synthetic rubber >90%","≥0.5 kg and <1 kg","€ / unit",0.14000000000000001,0.14000000000000001,{"$f":"_xlfn.XLOOKUP(K6039,'Codes éco-part'!$C$6:$C$923,'Codes éco-part'!$B$6:$B$923)","v":"098"},0.17]
["DIY and gardening products EPR",4,"22151490530",null,"Garden upkeep and landscaping","Personal protection equipment and accessories for gardening","Synthetic rubber >90%","≥3 kg and <5 kg","€ / unit",0.8,0.8,{"$f":"_xlfn.XLOOKUP(K6044,'Codes éco-part'!$C$6:$C$923,'Codes éco-part'!$B$6:$B$923)","v":"456"},0.96]
["DIY and gardening products EPR",4,"22151490531","Modulated","Garden upkeep and landscaping","Personal protection equipment and accessories for gardening","Synthetic rubber >90%","≥3 kg and <5 kg","€ / unit",0.72,0.72,{"$f":"_xlfn.XLOOKUP(K6045,'Codes éco-part'!$C$6:$C$923,'Codes éco-part'!$B$6:$B$923)","v":"454"},0.86]
["DIY and gardening products EPR",4,"22151510200",null,"Garden upkeep and landscaping","Personal protection equipment and accessories for gardening","Assembly of non-certified wood and/or wood derivatives >50% and other materials or composite wood (excl. glass)","Strictly <0.5 kg","€ / unit",0.02,0.02,{"$f":"_xlfn.XLOOKUP(K6050,'Codes éco-part'!$C$6:$C$923,'Codes éco-part'!$B$6:$B$923)","v":"047"},0.02]
["DIY and gardening products EPR",4,"22151510221","Modulated","Garden upkeep and landscaping","Personal protection equipment and accessories for gardening","Assembly of non-certified wood and/or wood derivatives >50% and other materials or composite wood (excl. glass)","≥1 kg and <2 kg","€ / unit",0.14000000000000001,0.14000000000000001,{"$f":"_xlfn.XLOOKUP(K6055,'Codes éco-part'!$C$6:$C$923,'Codes éco-part'!$B$6:$B$923)","v":"098"},0.17]
["DIY and gardening products EPR",4,"22151510540",null,"Garden upkeep and landscaping","Personal protection equipment and accessories for gardening","Assembly of non-certified wood and/or wood derivatives >50% and other materials or composite wood (excl. glass)","≥5 kg and <7 kg","€ / unit",0.78,0.78,{"$f":"_xlfn.XLOOKUP(K6060,'Codes éco-part'!$C$6:$C$923,'Codes éco-part'!$B$6:$B$923)","v":"312"},0.94]
["DIY and gardening products EPR",4,"22151510541","Modulated","Garden upkeep and landscaping","Personal protection equipment and accessories for gardening","Assembly of non-certified wood and/or wood derivatives >50% and other materials or composite wood (excl. glass)","≥5 kg and <7 kg","€ / unit",0.7,0.7,{"$f":"_xlfn.XLOOKUP(K6061,'Codes éco-part'!$C$6:$C$923,'Codes éco-part'!$B$6:$B$923)","v":"282"},0.84]
["DIY and gardening products EPR",4,"22151520210",null,"Garden upkeep and landscaping","Personal protection equipment and accessories for gardening","Solid wood and related products certified >90%","≥0.5 kg and <1 kg","€ / unit",0.04,0.04,{"$f":"_xlfn.XLOOKUP(K6066,'Codes éco-part'!$C$6:$C$923,'Codes éco-part'!$B$6:$B$923)","v":"002"},0.05]
["DIY and gardening products EPR",4,"22151520521","Modulated","Garden upkeep and landscaping","Personal protection equipment and accessories for gardening","Solid wood and related products certified >90%","≥2 kg and <3 kg","€ / unit",0.13,0.13,{"$f":"_xlfn.XLOOKUP(K6071,'Codes éco-part'!$C$6:$C$923,'Codes éco-part'!$B$6:$B$923)","v":"004"},0.16]
["DIY and gardening products EPR",4,"22151530000",null,"Garden upkeep and landscaping","Personal protection equipment and accessories for gardening","Solid wood and related products >90%","Elements of all sizes and weights","€ / ton",110,110,{"$f":"_xlfn.XLOOKUP(K6076,'Codes éco-part'!$C$6:$C$923,'Codes éco-part'!$B$6:$B$923)","v":"615"},132]
["DIY and gardening products EPR",4,"22151530001","Modulated","Garden upkeep and landscaping","Personal protection equipment and accessories for gardening","Solid wood and related products >90%","Elements of all sizes and weights","€ / ton",99,99,{"$f":"_xlfn.XLOOKUP(K6077,'Codes éco-part'!$C$6:$C$923,'Codes éco-part'!$B$6:$B$923)","v":940},118.8]
["DIY and gardening products EPR",4,"22151530220",null,"Garden upkeep and landscaping","Personal protection equipment and accessories for gardening","Solid wood and related products >90%","≥1 kg and <2 kg","€ / unit",0.16,0.16,{"$f":"_xlfn.XLOOKUP(K6082,'Codes éco-part'!$C$6:$C$923,'Codes éco-part'!$B$6:$B$923)","v":"099"},{"$f":"ROUND(K6082*1.2,2)","v":0.19}]
["DIY and gardening products EPR",4,"22151530531","Modulated","Garden upkeep and landscaping","Personal protection equipment and accessories for gardening","Solid wood and related products >90%","≥3 kg and <5 kg","€ / unit",0.4,0.4,{"$f":"_xlfn.XLOOKUP(K6087,'Codes éco-part'!$C$6:$C$923,'Codes éco-part'!$B$6:$B$923)","v":"105"},0.48]
["DIY and gardening products EPR",4,"22151540200",null,"Garden upkeep and landscaping","Personal protection equipment and accessories for gardening","Non-certified wood derivatives >90%","Strictly <0.5 kg","€ / unit",0.02,0.02,{"$f":"_xlfn.XLOOKUP(K6092,'Codes éco-part'!$C$6:$C$923,'Codes éco-part'!$B$6:$B$923)","v":"047"},0.02]
["DIY and gardening products EPR",4,"22151540201","Modulated","Garden upkeep and landscaping","Personal protection equipment and accessories for gardening","Non-certified wood derivatives >90%","Strictly <0.5 kg","€ / unit",0.02,0.02,{"$f":"_xlfn.XLOOKUP(K6093,'Codes éco-part'!$C$6:$C$923,'Codes éco-part'!$B$6:$B$923)","v":"047"},0.02]
["DIY and gardening products EPR",4,"22151540520",null,"Garden upkeep and landscaping","Personal protection equipment and accessories for gardening","Non-certified wood derivatives >90%","≥2 kg and <3 kg","€ / unit",0.28000000000000003,0.28000000000000003,{"$f":"_xlfn.XLOOKUP(K6098,'Codes éco-part'!$C$6:$C$923,'Codes éco-part'!$B$6:$B$923)","v":"542"},0.34]
["DIY and gardening products EPR",4,"22151540541","Modulated","Garden upkeep and landscaping","Personal protection equipment and accessories for gardening","Non-certified wood derivatives >90%","≥5 kg and <7 kg","€ / unit",0.7,0.7,{"$f":"_xlfn.XLOOKUP(K6103,'Codes éco-part'!$C$6:$C$923,'Codes éco-part'!$B$6:$B$923)","v":"282"},0.84]
["DIY and gardening products EPR",4,"22151550210",null,"Garden upkeep and landscaping","Personal protection equipment and accessories for gardening","Biosourced materials or non-synthetic textiles >90%","≥0.5 kg and <1 kg","€ / unit",0.05,0.05,{"$f":"_xlfn.XLOOKUP(K6108,'Codes éco-part'!$C$6:$C$923,'Codes éco-part'!$B$6:$B$923)","v":"048"},0.06]
["DIY and gardening products EPR",4,"22151550211","Modulated","Garden upkeep and landscaping","Personal protection equipment and accessories for gardening","Biosourced materials or non-synthetic textiles >90%","≥0.5 kg and <1 kg","€ / unit",0.05,0.05,{"$f":"_xlfn.XLOOKUP(K6109,'Codes éco-part'!$C$6:$C$923,'Codes éco-part'!$B$6:$B$923)","v":"048"},0.06]
["DIY and gardening products EPR",4,"22151550531","Modulated","Garden upkeep and landscaping","Personal protection equipment and accessories for gardening","Biosourced materials or non-synthetic textiles >90%","≥3 kg and <5 kg","€ / unit",0.23,0.23,{"$f":"_xlfn.XLOOKUP(K6115,'Codes éco-part'!$C$6:$C$923,'Codes éco-part'!$B$6:$B$923)","v":"323"},0.28000000000000003]
["DIY and gardening products EPR",4,"22151590000",null,"Garden upkeep and landscaping","Personal protection equipment and accessories for gardening","Certified chipboard or OSB >90%","Elements of all sizes and weights","€ / ton",55,55,{"$f":"_xlfn.XLOOKUP(K6118,'Codes éco-part'!$C$6:$C$923,'Codes éco-part'!$B$6:$B$923)","v":"490"},66]
["DIY and gardening products EPR",4,"22151590211","Modulated","Garden upkeep and landscaping","Personal protection equipment and accessories for gardening","Certified chipboard or OSB >90%","≥0.5 kg and <1 kg","€ / unit",0.04,0.04,{"$f":"_xlfn.XLOOKUP(K6123,'Codes éco-part'!$C$6:$C$923,'Codes éco-part'!$B$6:$B$923)","v":"002"},0.05]
["DIY and gardening products EPR",4,"22151590220",null,"Garden upkeep and landscaping","Personal protection equipment and accessories for gardening","Certified chipboard or OSB >90%","≥1 kg and <2 kg","€ / unit",0.08,0.08,{"$f":"_xlfn.XLOOKUP(K6124,'Codes éco-part'!$C$6:$C$923,'Codes éco-part'!$B$6:$B$923)","v":"003"},0.1]
["DIY and gardening products EPR",4,"22151590531","Modulated","Garden upkeep and landscaping","Personal protection equipment and accessories for gardening","Certified chipboard or OSB >90%","≥3 kg and <5 kg","€ / unit",0.2,0.2,{"$f":"_xlfn.XLOOKUP(K6129,'Codes éco-part'!$C$6:$C$923,'Codes éco-part'!$B$6:$B$923)","v":"101"},0.24]
["DIY and gardening products EPR",4,"22151600200",null,"Garden upkeep and landscaping","Personal protection equipment and accessories for gardening","Certified chipboard or OSB >75%","Strictly <0.5 kg","€ / unit",0.01,0.01,{"$f":"_xlfn.XLOOKUP(K6134,'Codes éco-part'!$C$6:$C$923,'Codes éco-part'!$B$6:$B$923)","v":"260"},0.01]
["DIY and gardening products EPR",4,"22151600221","Modulated","Garden upkeep and landscaping","Personal protection equipment and accessories for gardening","Certified chipboard or OSB >75%","≥1 kg and <2 kg","€ / unit",7.0000000000000007E-2,7.0000000000000007E-2,{"$f":"_xlfn.XLOOKUP(K6139,'Codes éco-part'!$C$6:$C$923,'Codes éco-part'!$B$6:$B$923)","v":"247"},0.08]
["DIY and gardening products EPR",4,"22151600520",null,"Garden upkeep and landscaping","Personal protection equipment and accessories for gardening","Certified chipboard or OSB >75%","≥2 kg and <3 kg","€ / unit",0.14000000000000001,0.14000000000000001,{"$f":"_xlfn.XLOOKUP(K6140,'Codes éco-part'!$C$6:$C$923,'Codes éco-part'!$B$6:$B$923)","v":"098"},0.17]
["DIY and gardening products EPR",4,"22151600541","Modulated","Garden upkeep and landscaping","Personal protection equipment and accessories for gardening","Certified chipboard or OSB >75%","≥5 kg and <7 kg","€ / unit",0.35,0.35,{"$f":"_xlfn.XLOOKUP(K6145,'Codes éco-part'!$C$6:$C$923,'Codes éco-part'!$B$6:$B$923)","v":"448"},0.42]
["DIY and gardening products EPR",4,"22151610210",null,"Garden upkeep and landscaping","Personal protection equipment and accessories for gardening","Chipboard or OSB >90%","≥0.5 kg and <1 kg","€ / unit",0.08,0.08,{"$f":"_xlfn.XLOOKUP(K6150,'Codes éco-part'!$C$6:$C$923,'Codes éco-part'!$B$6:$B$923)","v":"003"},0.1]
["DIY and gardening products EPR",4,"22151610521","Modulated","Garden upkeep and landscaping","Personal protection equipment and accessories for gardening","Chipboard or OSB >90%","≥2 kg and <3 kg","€ / unit",0.25,0.25,{"$f":"_xlfn.XLOOKUP(K6155,'Codes éco-part'!$C$6:$C$923,'Codes éco-part'!$B$6:$B$923)","v":"095"},0.3]
["DIY and gardening products EPR",4,"22151610530",null,"Garden upkeep and landscaping","Personal protection equipment and accessories for gardening","Chipboard or OSB >90%","≥3 kg and <5 kg","€ / unit",0.44,0.44,{"$f":"_xlfn.XLOOKUP(K6156,'Codes éco-part'!$C$6:$C$923,'Codes éco-part'!$B$6:$B$923)","v":"281"},0.53]
["DIY and gardening products EPR",4,"22151620001","Modulated","Garden upkeep and landscaping","Personal protection equipment and accessories for gardening","Wood derivatives >90%","Elements of all sizes and weights","€ / ton",49.5,49.5,{"$f":"_xlfn.XLOOKUP(K6161,'Codes éco-part'!$C$6:$C$923,'Codes éco-part'!$B$6:$B$923)","v":938},59.4]
["DIY and gardening products EPR",4,"22151620220",null,"Garden upkeep and landscaping","Personal protection equipment and accessories for gardening","Wood derivatives >90%","≥1 kg and <2 kg","€ / unit",0.08,0.08,{"$f":"_xlfn.XLOOKUP(K6166,'Codes éco-part'!$C$6:$C$923,'Codes éco-part'!$B$6:$B$923)","v":"003"},0.1]
["DIY and gardening products EPR",4,"22151620531","Modulated","Garden upkeep and landscaping","Personal protection equipment and accessories for gardening","Wood derivatives >90%","≥3 kg and <5 kg","€ / unit",0.2,0.2,{"$f":"_xlfn.XLOOKUP(K6171,'Codes éco-part'!$C$6:$C$923,'Codes éco-part'!$B$6:$B$923)","v":"101"},0.24]
["DIY and gardening products EPR",4,"22151620540",null,"Garden upkeep and landscaping","Personal protection equipment and accessories for gardening","Wood derivatives >90%","≥5 kg and <7 kg","€ / unit",0.39,0.39,{"$f":"_xlfn.XLOOKUP(K6172,'Codes éco-part'!$C$6:$C$923,'Codes éco-part'!$B$6:$B$923)","v":"253"},0.47]
["DIY and gardening products EPR",4,"22151630201","Modulated","Garden upkeep and landscaping","Personal protection equipment and accessories for gardening","Natural rubber >90%","Strictly <0.5 kg","€ / unit",0.02,0.02,{"$f":"_xlfn.XLOOKUP(K6177,'Codes éco-part'!$C$6:$C$923,'Codes éco-part'!$B$6:$B$923)","v":"047"},0.02]
["DIY and gardening products EPR",4,"22151630520",null,"Garden upkeep and landscaping","Personal protection equipment and accessories for gardening","Natural rubber >90%","≥2 kg and <3 kg","€ / unit",0.16,0.16,{"$f":"_xlfn.XLOOKUP(K6182,'Codes éco-part'!$C$6:$C$923,'Codes éco-part'!$B$6:$B$923)","v":"099"},0.19]
["DIY and gardening products EPR",4,"22151630541","Modulated","Garden upkeep and landscaping","Personal protection equipment and accessories for gardening","Natural rubber >90%","≥5 kg and <7 kg","€ / unit",0.41,0.41,{"$f":"_xlfn.XLOOKUP(K6187,'Codes éco-part'!$C$6:$C$923,'Codes éco-part'!$B$6:$B$923)","v":"503"},0.49]
["DIY and gardening products EPR",4,"22151640000",null,"Garden upkeep and landscaping","Personal protection equipment and accessories for gardening","Natural rubber >50%","Elements of all sizes and weights","€ / ton",322,322,{"$f":"_xlfn.XLOOKUP(K6188,'Codes éco-part'!$C$6:$C$923,'Codes éco-part'!$B$6:$B$923)","v":"607"},386.4]
["DIY and gardening products EPR",4,"22151640211","Modulated","Garden upkeep and landscaping","Personal protection equipment and accessories for gardening","Natural rubber >50%","≥0.5 kg and <1 kg","€ / unit",0.22,0.22,{"$f":"_xlfn.XLOOKUP(K6193,'Codes éco-part'!$C$6:$C$923,'Codes éco-part'!$B$6:$B$923)","v":"263"},0.26]
["DIY and gardening products EPR",4,"22151640530",null,"Garden upkeep and landscaping","Personal protection equipment and accessories for gardening","Natural rubber >50%","≥3 kg and <5 kg","€ / unit",1.29,1.29,{"$f":"_xlfn.XLOOKUP(K6198,'Codes éco-part'!$C$6:$C$923,'Codes éco-part'!$B$6:$B$923)","v":"608"},1.55]
["DIY and gardening products EPR",4,"22151650001","Modulated","Garden upkeep and landscaping","Personal protection equipment and accessories for gardening","Synthetic fibres or materials >90%","Elements of all sizes and weights","€ / ton",180,180,{"$f":"_xlfn.XLOOKUP(K6203,'Codes éco-part'!$C$6:$C$923,'Codes éco-part'!$B$6:$B$923)","v":941},216]
["DIY and gardening products EPR",4,"22151650200",null,"Garden upkeep and landscaping","Personal protection equipment and accessories for gardening","Synthetic fibres or materials >90%","Strictly <0.5 kg","€ / unit",0.05,0.05,{"$f":"_xlfn.XLOOKUP(K6204,'Codes éco-part'!$C$6:$C$923,'Codes éco-part'!$B$6:$B$923)","v":"048"},0.06]
["DIY and gardening products EPR",4,"22151650221","Modulated","Garden upkeep and landscaping","Personal protection equipment and accessories for gardening","Synthetic fibres or materials >90%","≥1 kg and <2 kg","€ / unit",0.27,0.27,{"$f":"_xlfn.XLOOKUP(K6209,'Codes éco-part'!$C$6:$C$923,'Codes éco-part'!$B$6:$B$923)","v":"103"},0.32]
["DIY and gardening products EPR",4,"22151650540",null,"Garden upkeep and landscaping","Personal protection equipment and accessories for gardening","Synthetic fibres or materials >90%","≥5 kg and <7 kg","€ / unit",1.4,1.4,{"$f":"_xlfn.XLOOKUP(K6214,'Codes éco-part'!$C$6:$C$923,'Codes éco-part'!$B$6:$B$923)","v":"463"},1.68]
["DIY and gardening products EPR",4,"22151670201","Modulated","Garden upkeep and landscaping","Personal protection equipment and accessories for gardening","Assembly of synthetic fibres and/or materials >50% and other materials","Strictly <0.5 kg","€ / unit",7.0000000000000007E-2,7.0000000000000007E-2,{"$f":"_xlfn.XLOOKUP(K6219,'Codes éco-part'!$C$6:$C$923,'Codes éco-part'!$B$6:$B$923)","v":"247"},0.08]
["DIY and gardening products EPR",4,"22151670210",null,"Garden upkeep and landscaping","Personal protection equipment and accessories for gardening","Assembly of synthetic fibres and/or materials >50% and other materials","≥0.5 kg and <1 kg","€ / unit",0.24,0.24,{"$f":"_xlfn.XLOOKUP(K6220,'Codes éco-part'!$C$6:$C$923,'Codes éco-part'!$B$6:$B$923)","v":"248"},0.28999999999999998]
["DIY and gardening products EPR",4,"22151670521","Modulated","Garden upkeep and landscaping","Personal protection equipment and accessories for gardening","Assembly of synthetic fibres and/or materials >50% and other materials","≥2 kg and <3 kg","€ / unit",0.73,0.73,{"$f":"_xlfn.XLOOKUP(K6225,'Codes éco-part'!$C$6:$C$923,'Codes éco-part'!$B$6:$B$923)","v":"255"},0.88]
["DIY and gardening products EPR",4,"22151680000",null,"Garden upkeep and landscaping","Personal protection equipment and accessories for gardening","Glass >90%","Elements of all sizes and weights","€ / ton",8.75,8.75,{"$f":"_xlfn.XLOOKUP(K6230,'Codes éco-part'!$C$6:$C$923,'Codes éco-part'!$B$6:$B$923)","v":"069"},10.5]
["DIY and gardening products EPR",4,"22151680211","Modulated","Garden upkeep and landscaping","Personal protection equipment and accessories for gardening","Glass >90%","≥0.5 kg and <1 kg","€ / unit",0.01,0.01,{"$f":"_xlfn.XLOOKUP(K6235,'Codes éco-part'!$C$6:$C$923,'Codes éco-part'!$B$6:$B$923)","v":"260"},0.01]
["DIY and gardening products EPR",4,"22151680220",null,"Garden upkeep and landscaping","Personal protection equipment and accessories for gardening","Glass >90%","≥1 kg and <2 kg","€ / unit",0.01,0.01,{"$f":"_xlfn.XLOOKUP(K6236,'Codes éco-part'!$C$6:$C$923,'Codes éco-part'!$B$6:$B$923)","v":"260"},0.01]
["DIY and gardening products EPR",4,"22151680531","Modulated","Garden upkeep and landscaping","Personal protection equipment and accessories for gardening","Glass >90%","≥3 kg and <5 kg","€ / unit",0.04,0.04,{"$f":"_xlfn.XLOOKUP(K6241,'Codes éco-part'!$C$6:$C$923,'Codes éco-part'!$B$6:$B$923)","v":"002"},0.05]
["DIY and gardening products EPR",4,"22151700200",null,"Garden upkeep and landscaping","Personal protection equipment and accessories for gardening","Assembly of glass >50% and metal","Strictly <0.5 kg","€ / unit",0.08,0.08,{"$f":"_xlfn.XLOOKUP(K6246,'Codes éco-part'!$C$6:$C$923,'Codes éco-part'!$B$6:$B$923)","v":"003"},0.1]
["DIY and gardening products EPR",4,"22151700221","Modulated","Garden upkeep and landscaping","Personal protection equipment and accessories for gardening","Assembly of glass >50% and metal","≥1 kg and <2 kg","€ / unit",0.43,0.43,{"$f":"_xlfn.XLOOKUP(K6251,'Codes éco-part'!$C$6:$C$923,'Codes éco-part'!$B$6:$B$923)","v":"506"},0.52]
["DIY and gardening products EPR",4,"22151700520",null,"Garden upkeep and landscaping","Personal protection equipment and accessories for gardening","Assembly of glass >50% and metal","≥2 kg and <3 kg","€ / unit",0.81,0.81,{"$f":"_xlfn.XLOOKUP(K6252,'Codes éco-part'!$C$6:$C$923,'Codes éco-part'!$B$6:$B$923)","v":"112"},0.97]
["DIY and gardening products EPR",4,"22151700541","Modulated","Garden upkeep and landscaping","Personal protection equipment and accessories for gardening","Assembly of glass >50% and metal","≥5 kg and <7 kg","€ / unit",2.0299999999999998,2.0299999999999998,{"$f":"_xlfn.XLOOKUP(K6257,'Codes éco-part'!$C$6:$C$923,'Codes éco-part'!$B$6:$B$923)","v":937},2.44]
["DIY and gardening products EPR",4,"22151710210",null,"Garden upkeep and landscaping","Personal protection equipment and accessories for gardening","Assembly of glass >50% and inert substances","≥0.5 kg and <1 kg","€ / unit",0.24,0.24,{"$f":"_xlfn.XLOOKUP(K6262,'Codes éco-part'!$C$6:$C$923,'Codes éco-part'!$B$6:$B$923)","v":"248"},0.28999999999999998]
["DIY and gardening products EPR",4,"22151710521","Modulated","Garden upkeep and landscaping","Personal protection equipment and accessories for gardening","Assembly of glass >50% and inert substances","≥2 kg and <3 kg","€ / unit",0.73,0.73,{"$f":"_xlfn.XLOOKUP(K6267,'Codes éco-part'!$C$6:$C$923,'Codes éco-part'!$B$6:$B$923)","v":"255"},0.88]
["DIY and gardening products EPR",4,"22151710530",null,"Garden upkeep and landscaping","Personal protection equipment and accessories for gardening","Assembly of glass >50% and inert substances","≥3 kg and <5 kg","€ / unit",1.29,1.29,{"$f":"_xlfn.XLOOKUP(K6268,'Codes éco-part'!$C$6:$C$923,'Codes éco-part'!$B$6:$B$923)","v":"608"},1.55]
["DIY and gardening products EPR",4,"22151720001","Modulated","Garden upkeep and landscaping","Personal protection equipment and accessories for gardening","Assembly of glass >50% and wood or wood derivatives","Elements of all sizes and weights","€ / ton",289.8,289.8,{"$f":"_xlfn.XLOOKUP(K6273,'Codes éco-part'!$C$6:$C$923,'Codes éco-part'!$B$6:$B$923)","v":936},347.76]
["DIY and gardening products EPR",4,"22151720220",null,"Garden upkeep and landscaping","Personal protection equipment and accessories for gardening","Assembly of glass >50% and wood or wood derivatives","≥1 kg and <2 kg","€ / unit",0.48,0.48,{"$f":"_xlfn.XLOOKUP(K6278,'Codes éco-part'!$C$6:$C$923,'Codes éco-part'!$B$6:$B$923)","v":"606"},0.57999999999999996]
["DIY and gardening products EPR",4,"22151720531","Modulated","Garden upkeep and landscaping","Personal protection equipment and accessories for gardening","Assembly of glass >50% and wood or wood derivatives","≥3 kg and <5 kg","€ / unit",1.1599999999999999,1.1599999999999999,{"$f":"_xlfn.XLOOKUP(K6283,'Codes éco-part'!$C$6:$C$923,'Codes éco-part'!$B$6:$B$923)","v":"504"},1.39]
["DIY and gardening products EPR",4,"22151720540",null,"Garden upkeep and landscaping","Personal protection equipment and accessories for gardening","Assembly of glass >50% and wood or wood derivatives","≥5 kg and <7 kg","€ / unit",2.25,2.25,{"$f":"_xlfn.XLOOKUP(K6284,'Codes éco-part'!$C$6:$C$923,'Codes éco-part'!$B$6:$B$923)","v":"118"},2.7]
["DIY and gardening products EPR",4,"22151730201","Modulated","Garden upkeep and landscaping","Personal protection equipment and accessories for gardening","Assembly of glass >50% and plastic","Strictly <0.5 kg","€ / unit",7.0000000000000007E-2,7.0000000000000007E-2,{"$f":"_xlfn.XLOOKUP(K6289,'Codes éco-part'!$C$6:$C$923,'Codes éco-part'!$B$6:$B$923)","v":"247"},0.08]
["DIY and gardening products EPR",4,"22151730520",null,"Garden upkeep and landscaping","Personal protection equipment and accessories for gardening","Assembly of glass >50% and plastic","≥2 kg and <3 kg","€ / unit",0.81,0.81,{"$f":"_xlfn.XLOOKUP(K6294,'Codes éco-part'!$C$6:$C$923,'Codes éco-part'!$B$6:$B$923)","v":"112"},0.97]
["DIY and gardening products EPR",4,"22151730541","Modulated","Garden upkeep and landscaping","Personal protection equipment and accessories for gardening","Assembly of glass >50% and plastic","≥5 kg and <7 kg","€ / unit",2.0299999999999998,2.0299999999999998,{"$f":"_xlfn.XLOOKUP(K6299,'Codes éco-part'!$C$6:$C$923,'Codes éco-part'!$B$6:$B$923)","v":937},2.44]
["DIY and gardening products EPR",4,"22151810000",null,"Garden upkeep and landscaping","Personal protection equipment and accessories for gardening","Assembly of wood, wood derivatives, and metal with a combination representing >90%","Elements of all sizes and weights","€ / ton",55,55,{"$f":"_xlfn.XLOOKUP(K6300,'Codes éco-part'!$C$6:$C$923,'Codes éco-part'!$B$6:$B$923)","v":"490"},66]
["DIY and gardening products EPR",4,"22151810211","Modulated","Garden upkeep and landscaping","Personal protection equipment and accessories for gardening","Assembly of wood, wood derivatives, and metal with a combination representing >90%","≥0.5 kg and <1 kg","€ / unit",0.04,0.04,{"$f":"_xlfn.XLOOKUP(K6305,'Codes éco-part'!$C$6:$C$923,'Codes éco-part'!$B$6:$B$923)","v":"002"},0.05]
["DIY and gardening products EPR",4,"22151810530",null,"Garden upkeep and landscaping","Personal protection equipment and accessories for gardening","Assembly of wood, wood derivatives, and metal with a combination representing >90%","≥3 kg and <5 kg","€ / unit",0.22,0.22,{"$f":"_xlfn.XLOOKUP(K6310,'Codes éco-part'!$C$6:$C$923,'Codes éco-part'!$B$6:$B$923)","v":"263"},0.26]
["DIY and gardening products EPR",4,"22151820001","Modulated","Garden upkeep and landscaping","Personal protection equipment and accessories for gardening","Assembly of 3 or more materials, with no material representing >50%","Elements of all sizes and weights","€ / ton",289.8,289.8,{"$f":"_xlfn.XLOOKUP(K6315,'Codes éco-part'!$C$6:$C$923,'Codes éco-part'!$B$6:$B$923)","v":936},347.76]
["DIY and gardening products EPR",4,"22151820200",null,"Garden upkeep and landscaping","Personal protection equipment and accessories for gardening","Assembly of 3 or more materials, with no material representing >50%","Strictly <0.5 kg","€ / unit",0.08,0.08,{"$f":"_xlfn.XLOOKUP(K6316,'Codes éco-part'!$C$6:$C$923,'Codes éco-part'!$B$6:$B$923)","v":"003"},0.1]
["DIY and gardening products EPR",4,"22151820221","Modulated","Garden upkeep and landscaping","Personal protection equipment and accessories for gardening","Assembly of 3 or more materials, with no material representing >50%","≥1 kg and <2 kg","€ / unit",0.43,0.43,{"$f":"_xlfn.XLOOKUP(K6321,'Codes éco-part'!$C$6:$C$923,'Codes éco-part'!$B$6:$B$923)","v":"506"},0.52]
["DIY and gardening products EPR",4,"22151820540",null,"Garden upkeep and landscaping","Personal protection equipment and accessories for gardening","Assembly of 3 or more materials, with no material representing >50%","≥5 kg and <7 kg","€ / unit",2.25,2.25,{"$f":"_xlfn.XLOOKUP(K6326,'Codes éco-part'!$C$6:$C$923,'Codes éco-part'!$B$6:$B$923)","v":"118"},2.7]
["DIY and gardening products EPR",4,"22152000201","Modulated","Garden upkeep and landscaping","Flower pots and containers","Unknown or unspecified by the company","Strictly <0.5 kg","€ / unit",0.05,0.05,{"$f":"_xlfn.XLOOKUP(K6331,'Codes éco-part'!$C$6:$C$923,'Codes éco-part'!$B$6:$B$923)","v":"048"},0.06]
["DIY and gardening products EPR",4,"22152000210",null,"Garden upkeep and landscaping","Flower pots and containers","Unknown or unspecified by the company","≥0.5 kg and <1 kg","€ / unit",0.19,0.19,{"$f":"_xlfn.XLOOKUP(K6332,'Codes éco-part'!$C$6:$C$923,'Codes éco-part'!$B$6:$B$923)","v":"291"},0.23]
["DIY and gardening products EPR",4,"22152000521","Modulated","Garden upkeep and landscaping","Flower pots and containers","Unknown or unspecified by the company","≥2 kg and <3 kg","€ / unit",0.56999999999999995,0.56999999999999995,{"$f":"_xlfn.XLOOKUP(K6337,'Codes éco-part'!$C$6:$C$923,'Codes éco-part'!$B$6:$B$923)","v":"326"},0.68]
["DIY and gardening products EPR",4,"22152000550",null,"Garden upkeep and landscaping","Flower pots and containers","Unknown or unspecified by the company","≥7 kg and <10 kg","€ / unit",2.5,2.5,{"$f":"_xlfn.XLOOKUP(K6342,'Codes éco-part'!$C$6:$C$923,'Codes éco-part'!$B$6:$B$923)","v":"012"},3]
["DIY and gardening products EPR",4,"22152000571","Modulated","Garden upkeep and landscaping","Flower pots and containers","Unknown or unspecified by the company","≥15 kg and <20 kg","€ / unit",4.5,4.5,{"$f":"_xlfn.XLOOKUP(K6347,'Codes éco-part'!$C$6:$C$923,'Codes éco-part'!$B$6:$B$923)","v":"127"},5.4]
["DIY and gardening products EPR",4,"22152010000",null,"Garden upkeep and landscaping","Flower pots and containers","Assembly of wood and/or wood derivatives >50% and other materials or composite wood (excl. glass)","Elements of all sizes and weights","€ / ton",26,26,{"$f":"_xlfn.XLOOKUP(K6348,'Codes éco-part'!$C$6:$C$923,'Codes éco-part'!$B$6:$B$923)","v":"582"},31.2]
["DIY and gardening products EPR",4,"22152010211","Modulated","Garden upkeep and landscaping","Flower pots and containers","Assembly of wood and/or wood derivatives >50% and other materials or composite wood (excl. glass)","≥0.5 kg and <1 kg","€ / unit",0.02,0.02,{"$f":"_xlfn.XLOOKUP(K6353,'Codes éco-part'!$C$6:$C$923,'Codes éco-part'!$B$6:$B$923)","v":"047"},0.02]
["DIY and gardening products EPR",4,"22152010530",null,"Garden upkeep and landscaping","Flower pots and containers","Assembly of wood and/or wood derivatives >50% and other materials or composite wood (excl. glass)","≥3 kg and <5 kg","€ / unit",0.1,0.1,{"$f":"_xlfn.XLOOKUP(K6358,'Codes éco-part'!$C$6:$C$923,'Codes éco-part'!$B$6:$B$923)","v":"094"},0.12]
["DIY and gardening products EPR",4,"22152010551","Modulated","Garden upkeep and landscaping","Flower pots and containers","Assembly of wood and/or wood derivatives >50% and other materials or composite wood (excl. glass)","≥7 kg and <10 kg","€ / unit",0.23,0.23,{"$f":"_xlfn.XLOOKUP(K6363,'Codes éco-part'!$C$6:$C$923,'Codes éco-part'!$B$6:$B$923)","v":"323"},0.28000000000000003]
["DIY and gardening products EPR",4,"22152010560",null,"Garden upkeep and landscaping","Flower pots and containers","Assembly of wood and/or wood derivatives >50% and other materials or composite wood (excl. glass)","≥10 kg and <15 kg","€ / unit",0.39,0.39,{"$f":"_xlfn.XLOOKUP(K6364,'Codes éco-part'!$C$6:$C$923,'Codes éco-part'!$B$6:$B$923)","v":"253"},0.47]
["DIY and gardening products EPR",4,"22152020200",null,"Garden upkeep and landscaping","Flower pots and containers","Assembly of metal >50% and other materials","Strictly <0.5 kg","€ / unit",0.01,0.01,{"$f":"_xlfn.XLOOKUP(K6370,'Codes éco-part'!$C$6:$C$923,'Codes éco-part'!$B$6:$B$923)","v":"260"},0.01]
["DIY and gardening products EPR",4,"22152020211","Modulated","Garden upkeep and landscaping","Flower pots and containers","Assembly of metal >50% and other materials","≥0.5 kg and <1 kg","€ / unit",0.01,0.01,{"$f":"_xlfn.XLOOKUP(K6373,'Codes éco-part'!$C$6:$C$923,'Codes éco-part'!$B$6:$B$923)","v":"260"},0.01]
["DIY and gardening products EPR",4,"22152020530",null,"Garden upkeep and landscaping","Flower pots and containers","Assembly of metal >50% and other materials","≥3 kg and <5 kg","€ / unit",0.06,0.06,{"$f":"_xlfn.XLOOKUP(K6378,'Codes éco-part'!$C$6:$C$923,'Codes éco-part'!$B$6:$B$923)","v":"096"},7.0000000000000007E-2]
["DIY and gardening products EPR",4,"22152020531","Modulated","Garden upkeep and landscaping","Flower pots and containers","Assembly of metal >50% and other materials","≥3 kg and <5 kg","€ / unit",0.05,0.05,{"$f":"_xlfn.XLOOKUP(K6379,'Codes éco-part'!$C$6:$C$923,'Codes éco-part'!$B$6:$B$923)","v":"048"},0.06]
["DIY and gardening products EPR",4,"22152020560",null,"Garden upkeep and landscaping","Flower pots and containers","Assembly of metal >50% and other materials","≥10 kg and <15 kg","€ / unit",0.21,0.21,{"$f":"_xlfn.XLOOKUP(K6384,'Codes éco-part'!$C$6:$C$923,'Codes éco-part'!$B$6:$B$923)","v":"051"},0.25]
["DIY and gardening products EPR",4,"22152040001","Modulated","Garden upkeep and landscaping","Flower pots and containers","Biosourced materials or non-synthetic textiles >50%","Elements of all sizes and weights","€ / ton",225,225,{"$f":"_xlfn.XLOOKUP(K6389,'Codes éco-part'!$C$6:$C$923,'Codes éco-part'!$B$6:$B$923)","v":949},270]
["DIY and gardening products EPR",4,"22152040220",null,"Garden upkeep and landscaping","Flower pots and containers","Biosourced materials or non-synthetic textiles >50%","≥1 kg and <2 kg","€ / unit",0.38,0.38,{"$f":"_xlfn.XLOOKUP(K6394,'Codes éco-part'!$C$6:$C$923,'Codes éco-part'!$B$6:$B$923)","v":"292"},0.46]
["DIY and gardening products EPR",4,"22152040221","Modulated","Garden upkeep and landscaping","Flower pots and containers","Biosourced materials or non-synthetic textiles >50%","≥1 kg and <2 kg","€ / unit",0.34,0.34,{"$f":"_xlfn.XLOOKUP(K6395,'Codes éco-part'!$C$6:$C$923,'Codes éco-part'!$B$6:$B$923)","v":"043"},0.41]
["DIY and gardening products EPR",4,"22152040540",null,"Garden upkeep and landscaping","Flower pots and containers","Biosourced materials or non-synthetic textiles >50%","≥5 kg and <7 kg","€ / unit",1.75,1.75,{"$f":"_xlfn.XLOOKUP(K6400,'Codes éco-part'!$C$6:$C$923,'Codes éco-part'!$B$6:$B$923)","v":"538"},2.1]
["DIY and gardening products EPR",4,"22152040561","Modulated","Garden upkeep and landscaping","Flower pots and containers","Biosourced materials or non-synthetic textiles >50%","≥10 kg and <15 kg","€ / unit",3.38,3.38,{"$f":"_xlfn.XLOOKUP(K6405,'Codes éco-part'!$C$6:$C$923,'Codes éco-part'!$B$6:$B$923)","v":"343"},4.0599999999999996]
["DIY and gardening products EPR",4,"22152050200",null,"Garden upkeep and landscaping","Flower pots and containers","Plastics or other synthetic materials >50%","Strictly <0.5 kg","€ / unit",0.06,0.06,{"$f":"_xlfn.XLOOKUP(K6410,'Codes éco-part'!$C$6:$C$923,'Codes éco-part'!$B$6:$B$923)","v":"096"},7.0000000000000007E-2]
["DIY and gardening products EPR",4,"22152050201","Modulated","Garden upkeep and landscaping","Flower pots and containers","Plastics or other synthetic materials >50%","Strictly <0.5 kg","€ / unit",0.05,0.05,{"$f":"_xlfn.XLOOKUP(K6411,'Codes éco-part'!$C$6:$C$923,'Codes éco-part'!$B$6:$B$923)","v":"048"},0.06]
["DIY and gardening products EPR",4,"22152050520",null,"Garden upkeep and landscaping","Flower pots and containers","Plastics or other synthetic materials >50%","≥2 kg and <3 kg","€ / unit",0.63,0.63,{"$f":"_xlfn.XLOOKUP(K6416,'Codes éco-part'!$C$6:$C$923,'Codes éco-part'!$B$6:$B$923)","v":"297"},0.76]
["DIY and gardening products EPR",4,"22152050541","Modulated","Garden upkeep and landscaping","Flower pots and containers","Plastics or other synthetic materials >50%","≥5 kg and <7 kg","€ / unit",1.58,1.58,{"$f":"_xlfn.XLOOKUP(K6421,'Codes éco-part'!$C$6:$C$923,'Codes éco-part'!$B$6:$B$923)","v":618},1.9]
["DIY and gardening products EPR",4,"22152050570",null,"Garden upkeep and landscaping","Flower pots and containers","Plastics or other synthetic materials >50%","≥15 kg and <20 kg","€ / unit",5,5,{"$f":"_xlfn.XLOOKUP(K6426,'Codes éco-part'!$C$6:$C$923,'Codes éco-part'!$B$6:$B$923)","v":"042"},6]
["DIY and gardening products EPR",4,"22152050571","Modulated","Garden upkeep and landscaping","Flower pots and containers","Plastics or other synthetic materials >50%","≥15 kg and <20 kg","€ / unit",4.5,4.5,{"$f":"_xlfn.XLOOKUP(K6427,'Codes éco-part'!$C$6:$C$923,'Codes éco-part'!$B$6:$B$923)","v":"127"},5.4]
["DIY and gardening products EPR",4,"22152060210",null,"Garden upkeep and landscaping","Flower pots and containers","Materials of animal origin >50%","≥0.5 kg and <1 kg","€ / unit",0.19,0.19,{"$f":"_xlfn.XLOOKUP(K6432,'Codes éco-part'!$C$6:$C$923,'Codes éco-part'!$B$6:$B$923)","v":"291"},0.23]
["DIY and gardening products EPR",4,"22152060521","Modulated","Garden upkeep and landscaping","Flower pots and containers","Materials of animal origin >50%","≥2 kg and <3 kg","€ / unit",0.56999999999999995,0.56999999999999995,{"$f":"_xlfn.XLOOKUP(K6437,'Codes éco-part'!$C$6:$C$923,'Codes éco-part'!$B$6:$B$923)","v":"326"},0.68]
["DIY and gardening products EPR",4,"22152060550",null,"Garden upkeep and landscaping","Flower pots and containers","Materials of animal origin >50%","≥7 kg and <10 kg","€ / unit",2.5,2.5,{"$f":"_xlfn.XLOOKUP(K6442,'Codes éco-part'!$C$6:$C$923,'Codes éco-part'!$B$6:$B$923)","v":"012"},3]
["DIY and gardening products EPR",4,"22152060551","Modulated","Garden upkeep and landscaping","Flower pots and containers","Materials of animal origin >50%","≥7 kg and <10 kg","€ / unit",2.25,2.25,{"$f":"_xlfn.XLOOKUP(K6443,'Codes éco-part'!$C$6:$C$923,'Codes éco-part'!$B$6:$B$923)","v":"118"},2.7]
["DIY and gardening products EPR",4,"22152080000",null,"Garden upkeep and landscaping","Flower pots and containers","Assembly of materials with inert substances >50%","Elements of all sizes and weights","€ / ton",250,250,{"$f":"_xlfn.XLOOKUP(K6448,'Codes éco-part'!$C$6:$C$923,'Codes éco-part'!$B$6:$B$923)","v":"612"},300]
["DIY and gardening products EPR",4,"22152080211","Modulated","Garden upkeep and landscaping","Flower pots and containers","Assembly of materials with inert substances >50%","≥0.5 kg and <1 kg","€ / unit",0.17,0.17,{"$f":"_xlfn.XLOOKUP(K6453,'Codes éco-part'!$C$6:$C$923,'Codes éco-part'!$B$6:$B$923)","v":"005"},0.2]
["DIY and gardening products EPR",4,"22152080530",null,"Garden upkeep and landscaping","Flower pots and containers","Assembly of materials with inert substances >50%","≥3 kg and <5 kg","€ / unit",1,1,{"$f":"_xlfn.XLOOKUP(K6458,'Codes éco-part'!$C$6:$C$923,'Codes éco-part'!$B$6:$B$923)","v":"056"},1.2]
["DIY and gardening products EPR",4,"22152080531","Modulated","Garden upkeep and landscaping","Flower pots and containers","Assembly of materials with inert substances >50%","≥3 kg and <5 kg","€ / unit",0.9,0.9,{"$f":"_xlfn.XLOOKUP(K6459,'Codes éco-part'!$C$6:$C$923,'Codes éco-part'!$B$6:$B$923)","v":"330"},1.08]
["DIY and gardening products EPR",4,"22152080560",null,"Garden upkeep and landscaping","Flower pots and containers","Assembly of materials with inert substances >50%","≥10 kg and <15 kg","€ / unit",3.75,3.75,{"$f":"_xlfn.XLOOKUP(K6464,'Codes éco-part'!$C$6:$C$923,'Codes éco-part'!$B$6:$B$923)","v":"015"},4.5]
["DIY and gardening products EPR",4,"22152150001","Modulated","Garden upkeep and landscaping","Flower pots and containers","Composites and other reconstituted mineral materials >50%","Elements of all sizes and weights","€ / ton",225,225,{"$f":"_xlfn.XLOOKUP(K6469,'Codes éco-part'!$C$6:$C$923,'Codes éco-part'!$B$6:$B$923)","v":949},270]
["DIY and gardening products EPR",4,"22152150220",null,"Garden upkeep and landscaping","Flower pots and containers","Composites and other reconstituted mineral materials >50%","≥1 kg and <2 kg","€ / unit",0.38,0.38,{"$f":"_xlfn.XLOOKUP(K6474,'Codes éco-part'!$C$6:$C$923,'Codes éco-part'!$B$6:$B$923)","v":"292"},0.46]
["DIY and gardening products EPR",4,"22152150221","Modulated","Garden upkeep and landscaping","Flower pots and containers","Composites and other reconstituted mineral materials >50%","≥1 kg and <2 kg","€ / unit",0.34,0.34,{"$f":"_xlfn.XLOOKUP(K6475,'Codes éco-part'!$C$6:$C$923,'Codes éco-part'!$B$6:$B$923)","v":"043"},0.41]
["DIY and gardening products EPR",4,"22152150540",null,"Garden upkeep and landscaping","Flower pots and containers","Composites and other reconstituted mineral materials >50%","≥5 kg and <7 kg","€ / unit",1.75,1.75,{"$f":"_xlfn.XLOOKUP(K6480,'Codes éco-part'!$C$6:$C$923,'Codes éco-part'!$B$6:$B$923)","v":"538"},2.1]
["DIY and gardening products EPR",4,"22152150561","Modulated","Garden upkeep and landscaping","Flower pots and containers","Composites and other reconstituted mineral materials >50%","≥10 kg and <15 kg","€ / unit",3.38,3.38,{"$f":"_xlfn.XLOOKUP(K6485,'Codes éco-part'!$C$6:$C$923,'Codes éco-part'!$B$6:$B$923)","v":"343"},4.0599999999999996]
["DIY and gardening products EPR",4,"22152190200",null,"Garden upkeep and landscaping","Flower pots and containers","Cardboard >50% and other materials (excl. glass)","Strictly <0.5 kg","€ / unit",0.06,0.06,{"$f":"_xlfn.XLOOKUP(K6490,'Codes éco-part'!$C$6:$C$923,'Codes éco-part'!$B$6:$B$923)","v":"096"},7.0000000000000007E-2]
["DIY and gardening products EPR",4,"22152190201","Modulated","Garden upkeep and landscaping","Flower pots and containers","Cardboard >50% and other materials (excl. glass)","Strictly <0.5 kg","€ / unit",0.05,0.05,{"$f":"_xlfn.XLOOKUP(K6491,'Codes éco-part'!$C$6:$C$923,'Codes éco-part'!$B$6:$B$923)","v":"048"},0.06]
["DIY and gardening products EPR",4,"22152190520",null,"Garden upkeep and landscaping","Flower pots and containers","Cardboard >50% and other materials (excl. glass)","≥2 kg and <3 kg","€ / unit",0.63,0.63,{"$f":"_xlfn.XLOOKUP(K6496,'Codes éco-part'!$C$6:$C$923,'Codes éco-part'!$B$6:$B$923)","v":"297"},0.76]
["DIY and gardening products EPR",4,"22152190541","Modulated","Garden upkeep and landscaping","Flower pots and containers","Cardboard >50% and other materials (excl. glass)","≥5 kg and <7 kg","€ / unit",1.58,1.58,{"$f":"_xlfn.XLOOKUP(K6501,'Codes éco-part'!$C$6:$C$923,'Codes éco-part'!$B$6:$B$923)","v":618},1.9]
["DIY and gardening products EPR",4,"22152190570",null,"Garden upkeep and landscaping","Flower pots and containers","Cardboard >50% and other materials (excl. glass)","≥15 kg and <20 kg","€ / unit",5,5,{"$f":"_xlfn.XLOOKUP(K6506,'Codes éco-part'!$C$6:$C$923,'Codes éco-part'!$B$6:$B$923)","v":"042"},6]
["DIY and gardening products EPR",4,"22152190571","Modulated","Garden upkeep and landscaping","Flower pots and containers","Cardboard >50% and other materials (excl. glass)","≥15 kg and <20 kg","€ / unit",4.5,4.5,{"$f":"_xlfn.XLOOKUP(K6507,'Codes éco-part'!$C$6:$C$923,'Codes éco-part'!$B$6:$B$923)","v":"127"},5.4]
["DIY and gardening products EPR",4,"22152200210",null,"Garden upkeep and landscaping","Flower pots and containers","Solid wood and related products certified >75%","≥0.5 kg and <1 kg","€ / unit",0.02,0.02,{"$f":"_xlfn.XLOOKUP(K6512,'Codes éco-part'!$C$6:$C$923,'Codes éco-part'!$B$6:$B$923)","v":"047"},0.02]
["DIY and gardening products EPR",4,"22152200521","Modulated","Garden upkeep and landscaping","Flower pots and containers","Solid wood and related products certified >75%","≥2 kg and <3 kg","€ / unit",0.06,0.06,{"$f":"_xlfn.XLOOKUP(K6517,'Codes éco-part'!$C$6:$C$923,'Codes éco-part'!$B$6:$B$923)","v":"096"},7.0000000000000007E-2]
["DIY and gardening products EPR",4,"22152200550",null,"Garden upkeep and landscaping","Flower pots and containers","Solid wood and related products certified >75%","≥7 kg and <10 kg","€ / unit",0.26,0.26,{"$f":"_xlfn.XLOOKUP(K6522,'Codes éco-part'!$C$6:$C$923,'Codes éco-part'!$B$6:$B$923)","v":"445"},0.31]
["DIY and gardening products EPR",4,"22152200551","Modulated","Garden upkeep and landscaping","Flower pots and containers","Solid wood and related products certified >75%","≥7 kg and <10 kg","€ / unit",0.23,0.23,{"$f":"_xlfn.XLOOKUP(K6523,'Codes éco-part'!$C$6:$C$923,'Codes éco-part'!$B$6:$B$923)","v":"323"},0.28000000000000003]
["DIY and gardening products EPR",4,"22152210000",null,"Garden upkeep and landscaping","Flower pots and containers","Solid wood and related products >75%","Elements of all sizes and weights","€ / ton",52,52,{"$f":"_xlfn.XLOOKUP(K6528,'Codes éco-part'!$C$6:$C$923,'Codes éco-part'!$B$6:$B$923)","v":"617"},62.4]
["DIY and gardening products EPR",4,"22152210211","Modulated","Garden upkeep and landscaping","Flower pots and containers","Solid wood and related products >75%","≥0.5 kg and <1 kg","€ / unit",0.04,0.04,{"$f":"_xlfn.XLOOKUP(K6533,'Codes éco-part'!$C$6:$C$923,'Codes éco-part'!$B$6:$B$923)","v":"002"},0.05]
["DIY and gardening products EPR",4,"22152210530",null,"Garden upkeep and landscaping","Flower pots and containers","Solid wood and related products >75%","≥3 kg and <5 kg","€ / unit",0.2,0.2,{"$f":"_xlfn.XLOOKUP(K6538,'Codes éco-part'!$C$6:$C$923,'Codes éco-part'!$B$6:$B$923)","v":"101"},0.24]
["DIY and gardening products EPR",4,"22152210531","Modulated","Garden upkeep and landscaping","Flower pots and containers","Solid wood and related products >75%","≥3 kg and <5 kg","€ / unit",0.18,0.18,{"$f":"_xlfn.XLOOKUP(K6539,'Codes éco-part'!$C$6:$C$923,'Codes éco-part'!$B$6:$B$923)","v":"100"},0.22]
["DIY and gardening products EPR",4,"22152210560",null,"Garden upkeep and landscaping","Flower pots and containers","Solid wood and related products >75%","≥10 kg and <15 kg","€ / unit",0.78,0.78,{"$f":"_xlfn.XLOOKUP(K6544,'Codes éco-part'!$C$6:$C$923,'Codes éco-part'!$B$6:$B$923)","v":"312"},0.94]
["DIY and gardening products EPR",4,"22152250001","Modulated","Garden upkeep and landscaping","Flower pots and containers","Chipboard or OSB >75%","Elements of all sizes and weights","€ / ton",46.8,46.8,{"$f":"_xlfn.XLOOKUP(K6549,'Codes éco-part'!$C$6:$C$923,'Codes éco-part'!$B$6:$B$923)","v":950},56.16]
["DIY and gardening products EPR",4,"22152250220",null,"Garden upkeep and landscaping","Flower pots and containers","Chipboard or OSB >75%","≥1 kg and <2 kg","€ / unit",0.08,0.08,{"$f":"_xlfn.XLOOKUP(K6554,'Codes éco-part'!$C$6:$C$923,'Codes éco-part'!$B$6:$B$923)","v":"003"},0.1]
["DIY and gardening products EPR",4,"22152250221","Modulated","Garden upkeep and landscaping","Flower pots and containers","Chipboard or OSB >75%","≥1 kg and <2 kg","€ / unit",7.0000000000000007E-2,7.0000000000000007E-2,{"$f":"_xlfn.XLOOKUP(K6555,'Codes éco-part'!$C$6:$C$923,'Codes éco-part'!$B$6:$B$923)","v":"247"},0.08]
["DIY and gardening products EPR",4,"22152250540",null,"Garden upkeep and landscaping","Flower pots and containers","Chipboard or OSB >75%","≥5 kg and <7 kg","€ / unit",0.36,0.36,{"$f":"_xlfn.XLOOKUP(K6560,'Codes éco-part'!$C$6:$C$923,'Codes éco-part'!$B$6:$B$923)","v":"449"},0.43]
["DIY and gardening products EPR",4,"22152250561","Modulated","Garden upkeep and landscaping","Flower pots and containers","Chipboard or OSB >75%","≥10 kg and <15 kg","€ / unit",0.7,0.7,{"$f":"_xlfn.XLOOKUP(K6565,'Codes éco-part'!$C$6:$C$923,'Codes éco-part'!$B$6:$B$923)","v":"282"},0.84]
["DIY and gardening products EPR",4,"22152280200",null,"Garden upkeep and landscaping","Flower pots and containers","Metal >90%","Strictly <0.5 kg","€ / unit",0.01,0.01,{"$f":"_xlfn.XLOOKUP(K6570,'Codes éco-part'!$C$6:$C$923,'Codes éco-part'!$B$6:$B$923)","v":"260"},0.01]
["DIY and gardening products EPR",4,"22152280201","Modulated","Garden upkeep and landscaping","Flower pots and containers","Metal >90%","Strictly <0.5 kg","€ / unit",0.01,0.01,{"$f":"_xlfn.XLOOKUP(K6571,'Codes éco-part'!$C$6:$C$923,'Codes éco-part'!$B$6:$B$923)","v":"260"},0.01]
["DIY and gardening products EPR",4,"22152280520",null,"Garden upkeep and landscaping","Flower pots and containers","Metal >90%","≥2 kg and <3 kg","€ / unit",0.04,0.04,{"$f":"_xlfn.XLOOKUP(K6576,'Codes éco-part'!$C$6:$C$923,'Codes éco-part'!$B$6:$B$923)","v":"002"},0.05]
["DIY and gardening products EPR",4,"22152280541","Modulated","Garden upkeep and landscaping","Flower pots and containers","Metal >90%","≥5 kg and <7 kg","€ / unit",0.09,0.09,{"$f":"_xlfn.XLOOKUP(K6581,'Codes éco-part'!$C$6:$C$923,'Codes éco-part'!$B$6:$B$923)","v":"049"},0.11]
["DIY and gardening products EPR",4,"22152280570",null,"Garden upkeep and landscaping","Flower pots and containers","Metal >90%","≥15 kg and <20 kg","€ / unit",0.28000000000000003,0.28000000000000003,{"$f":"_xlfn.XLOOKUP(K6586,'Codes éco-part'!$C$6:$C$923,'Codes éco-part'!$B$6:$B$923)","v":"542"},0.34]
["DIY and gardening products EPR",4,"22152280571","Modulated","Garden upkeep and landscaping","Flower pots and containers","Metal >90%","≥15 kg and <20 kg","€ / unit",0.25,0.25,{"$f":"_xlfn.XLOOKUP(K6587,'Codes éco-part'!$C$6:$C$923,'Codes éco-part'!$B$6:$B$923)","v":"095"},0.3]
["DIY and gardening products EPR",4,"22152400210",null,"Garden upkeep and landscaping","Flower pots and containers","Assembly of synthetic rubber or latex >50% and other materials","≥0.5 kg and <1 kg","€ / unit",0.19,0.19,{"$f":"_xlfn.XLOOKUP(K6592,'Codes éco-part'!$C$6:$C$923,'Codes éco-part'!$B$6:$B$923)","v":"291"},0.23]
["DIY and gardening products EPR",4,"22152400521","Modulated","Garden upkeep and landscaping","Flower pots and containers","Assembly of synthetic rubber or latex >50% and other materials","≥2 kg and <3 kg","€ / unit",0.56999999999999995,0.56999999999999995,{"$f":"_xlfn.XLOOKUP(K6597,'Codes éco-part'!$C$6:$C$923,'Codes éco-part'!$B$6:$B$923)","v":"326"},0.68]
["DIY and gardening products EPR",4,"22152400550",null,"Garden upkeep and landscaping","Flower pots and containers","Assembly of synthetic rubber or latex >50% and other materials","≥7 kg and <10 kg","€ / unit",2.5,2.5,{"$f":"_xlfn.XLOOKUP(K6602,'Codes éco-part'!$C$6:$C$923,'Codes éco-part'!$B$6:$B$923)","v":"012"},3]
["DIY and gardening products EPR",4,"22152400551","Modulated","Garden upkeep and landscaping","Flower pots and containers","Assembly of synthetic rubber or latex >50% and other materials","≥7 kg and <10 kg","€ / unit",2.25,2.25,{"$f":"_xlfn.XLOOKUP(K6603,'Codes éco-part'!$C$6:$C$923,'Codes éco-part'!$B$6:$B$923)","v":"118"},2.7]
["DIY and gardening products EPR",4,"22152410000",null,"Garden upkeep and landscaping","Flower pots and containers","Plastic (single-resin) >90%","Elements of all sizes and weights","€ / ton",160,160,{"$f":"_xlfn.XLOOKUP(K6608,'Codes éco-part'!$C$6:$C$923,'Codes éco-part'!$B$6:$B$923)","v":"604"},192]
["DIY and gardening products EPR",4,"22152410211","Modulated","Garden upkeep and landscaping","Flower pots and containers","Plastic (single-resin) >90%","≥0.5 kg and <1 kg","€ / unit",0.11,0.11,{"$f":"_xlfn.XLOOKUP(K6613,'Codes éco-part'!$C$6:$C$923,'Codes éco-part'!$B$6:$B$923)","v":"262"},0.13]
["DIY and gardening products EPR",4,"22152410530",null,"Garden upkeep and landscaping","Flower pots and containers","Plastic (single-resin) >90%","≥3 kg and <5 kg","€ / unit",0.64,0.64,{"$f":"_xlfn.XLOOKUP(K6618,'Codes éco-part'!$C$6:$C$923,'Codes éco-part'!$B$6:$B$923)","v":"452"},0.77]
["DIY and gardening products EPR",4,"22152410531","Modulated","Garden upkeep and landscaping","Flower pots and containers","Plastic (single-resin) >90%","≥3 kg and <5 kg","€ / unit",0.57999999999999996,0.57999999999999996,{"$f":"_xlfn.XLOOKUP(K6619,'Codes éco-part'!$C$6:$C$923,'Codes éco-part'!$B$6:$B$923)","v":"535"},0.7]
["DIY and gardening products EPR",4,"22152410560",null,"Garden upkeep and landscaping","Flower pots and containers","Plastic (single-resin) >90%","≥10 kg and <15 kg","€ / unit",2.4,2.4,{"$f":"_xlfn.XLOOKUP(K6624,'Codes éco-part'!$C$6:$C$923,'Codes éco-part'!$B$6:$B$923)","v":"602"},2.88]
["DIY and gardening products EPR",4,"22152410571","Modulated","Garden upkeep and landscaping","Flower pots and containers","Plastic (single-resin) >90%","≥15 kg and <20 kg","€ / unit",2.88,2.88,{"$f":"_xlfn.XLOOKUP(K6627,'Codes éco-part'!$C$6:$C$923,'Codes éco-part'!$B$6:$B$923)","v":"400"},3.46]
["DIY and gardening products EPR",4,"22152420211","Modulated","Garden upkeep and landscaping","Flower pots and containers","Polyethylene terephthalate (PET) >90%","≥0.5 kg and <1 kg","€ / unit",0.11,0.11,{"$f":"_xlfn.XLOOKUP(K6633,'Codes éco-part'!$C$6:$C$923,'Codes éco-part'!$B$6:$B$923)","v":"262"},0.13]
["DIY and gardening products EPR",4,"22152420220",null,"Garden upkeep and landscaping","Flower pots and containers","Polyethylene terephthalate (PET) >90%","≥1 kg and <2 kg","€ / unit",0.24,0.24,{"$f":"_xlfn.XLOOKUP(K6634,'Codes éco-part'!$C$6:$C$923,'Codes éco-part'!$B$6:$B$923)","v":"248"},0.28999999999999998]
["DIY and gardening products EPR",4,"22152420531","Modulated","Garden upkeep and landscaping","Flower pots and containers","Polyethylene terephthalate (PET) >90%","≥3 kg and <5 kg","€ / unit",0.57999999999999996,0.57999999999999996,{"$f":"_xlfn.XLOOKUP(K6639,'Codes éco-part'!$C$6:$C$923,'Codes éco-part'!$B$6:$B$923)","v":"535"},0.7]
["DIY and gardening products EPR",4,"22152420560",null,"Garden upkeep and landscaping","Flower pots and containers","Polyethylene terephthalate (PET) >90%","≥10 kg and <15 kg","€ / unit",2.4,2.4,{"$f":"_xlfn.XLOOKUP(K6644,'Codes éco-part'!$C$6:$C$923,'Codes éco-part'!$B$6:$B$923)","v":"602"},2.88]
["DIY and gardening products EPR",4,"22152450001","Modulated","Garden upkeep and landscaping","Flower pots and containers","PE or PP or PP/PE mix >90%","Elements of all sizes and weights","€ / ton",144,144,{"$f":"_xlfn.XLOOKUP(K6649,'Codes éco-part'!$C$6:$C$923,'Codes éco-part'!$B$6:$B$923)","v":951},172.8]
["DIY and gardening products EPR",4,"22152450200",null,"Garden upkeep and landscaping","Flower pots and containers","PE or PP or PP/PE mix >90%","Strictly <0.5 kg","€ / unit",0.04,0.04,{"$f":"_xlfn.XLOOKUP(K6650,'Codes éco-part'!$C$6:$C$923,'Codes éco-part'!$B$6:$B$923)","v":"002"},0.05]
["DIY and gardening products EPR",4,"22152450221","Modulated","Garden upkeep and landscaping","Flower pots and containers","PE or PP or PP/PE mix >90%","≥1 kg and <2 kg","€ / unit",0.22,0.22,{"$f":"_xlfn.XLOOKUP(K6655,'Codes éco-part'!$C$6:$C$923,'Codes éco-part'!$B$6:$B$923)","v":"263"},0.26]
["DIY and gardening products EPR",4,"22152450540",null,"Garden upkeep and landscaping","Flower pots and containers","PE or PP or PP/PE mix >90%","≥5 kg and <7 kg","€ / unit",1.1200000000000001,1.1200000000000001,{"$f":"_xlfn.XLOOKUP(K6660,'Codes éco-part'!$C$6:$C$923,'Codes éco-part'!$B$6:$B$923)","v":"605"},1.34]
["DIY and gardening products EPR",4,"22152450561","Modulated","Garden upkeep and landscaping","Flower pots and containers","PE or PP or PP/PE mix >90%","≥10 kg and <15 kg","€ / unit",2.16,2.16,{"$f":"_xlfn.XLOOKUP(K6665,'Codes éco-part'!$C$6:$C$923,'Codes éco-part'!$B$6:$B$923)","v":"622"},2.59]
["DIY and gardening products EPR",4,"22152450570",null,"Garden upkeep and landscaping","Flower pots and containers","PE or PP or PP/PE mix >90%","≥15 kg and <20 kg","€ / unit",3.2,3.2,{"$f":"_xlfn.XLOOKUP(K6666,'Codes éco-part'!$C$6:$C$923,'Codes éco-part'!$B$6:$B$923)","v":"476"},3.84]
["DIY and gardening products EPR",4,"22152460201","Modulated","Garden upkeep and landscaping","Flower pots and containers","ABS >90%","Strictly <0.5 kg","€ / unit",0.04,0.04,{"$f":"_xlfn.XLOOKUP(K6671,'Codes éco-part'!$C$6:$C$923,'Codes éco-part'!$B$6:$B$923)","v":"002"},0.05]
["DIY and gardening products EPR",4,"22152460520",null,"Garden upkeep and landscaping","Flower pots and containers","ABS >90%","≥2 kg and <3 kg","€ / unit",0.4,0.4,{"$f":"_xlfn.XLOOKUP(K6676,'Codes éco-part'!$C$6:$C$923,'Codes éco-part'!$B$6:$B$923)","v":"105"},0.48]
["DIY and gardening products EPR",4,"22152460541","Modulated","Garden upkeep and landscaping","Flower pots and containers","ABS >90%","≥5 kg and <7 kg","€ / unit",1.01,1.01,{"$f":"_xlfn.XLOOKUP(K6681,'Codes éco-part'!$C$6:$C$923,'Codes éco-part'!$B$6:$B$923)","v":"298"},1.21]
["DIY and gardening products EPR",4,"22152460550",null,"Garden upkeep and landscaping","Flower pots and containers","ABS >90%","≥7 kg and <10 kg","€ / unit",1.6,1.6,{"$f":"_xlfn.XLOOKUP(K6682,'Codes éco-part'!$C$6:$C$923,'Codes éco-part'!$B$6:$B$923)","v":"595"},1.92]
["DIY and gardening products EPR",4,"22152460571","Modulated","Garden upkeep and landscaping","Flower pots and containers","ABS >90%","≥15 kg and <20 kg","€ / unit",2.88,2.88,{"$f":"_xlfn.XLOOKUP(K6687,'Codes éco-part'!$C$6:$C$923,'Codes éco-part'!$B$6:$B$923)","v":"400"},3.46]
["DIY and gardening products EPR",4,"22152470210",null,"Garden upkeep and landscaping","Flower pots and containers","Polystyrene >90%","≥0.5 kg and <1 kg","€ / unit",0.12,0.12,{"$f":"_xlfn.XLOOKUP(K6692,'Codes éco-part'!$C$6:$C$923,'Codes éco-part'!$B$6:$B$923)","v":"097"},0.14000000000000001]
["DIY and gardening products EPR",4,"22152470521","Modulated","Garden upkeep and landscaping","Flower pots and containers","Polystyrene >90%","≥2 kg and <3 kg","€ / unit",0.36,0.36,{"$f":"_xlfn.XLOOKUP(K6697,'Codes éco-part'!$C$6:$C$923,'Codes éco-part'!$B$6:$B$923)","v":"449"},0.43]
["DIY and gardening products EPR",4,"22152470530",null,"Garden upkeep and landscaping","Flower pots and containers","Polystyrene >90%","≥3 kg and <5 kg","€ / unit",0.64,0.64,{"$f":"_xlfn.XLOOKUP(K6698,'Codes éco-part'!$C$6:$C$923,'Codes éco-part'!$B$6:$B$923)","v":"452"},0.77]
["DIY and gardening products EPR",4,"22152470551","Modulated","Garden upkeep and landscaping","Flower pots and containers","Polystyrene >90%","≥7 kg and <10 kg","€ / unit",1.44,1.44,{"$f":"_xlfn.XLOOKUP(K6703,'Codes éco-part'!$C$6:$C$923,'Codes éco-part'!$B$6:$B$923)","v":"566"},1.73]
["DIY and gardening products EPR",4,"22152480000",null,"Garden upkeep and landscaping","Flower pots and containers","PVC >90%","Elements of all sizes and weights","€ / ton",160,160,{"$f":"_xlfn.XLOOKUP(K6708,'Codes éco-part'!$C$6:$C$923,'Codes éco-part'!$B$6:$B$923)","v":"604"},192]
["DIY and gardening products EPR",4,"22152480211","Modulated","Garden upkeep and landscaping","Flower pots and containers","PVC >90%","≥0.5 kg and <1 kg","€ / unit",0.11,0.11,{"$f":"_xlfn.XLOOKUP(K6713,'Codes éco-part'!$C$6:$C$923,'Codes éco-part'!$B$6:$B$923)","v":"262"},0.13]
["DIY and gardening products EPR",4,"22152480220",null,"Garden upkeep and landscaping","Flower pots and containers","PVC >90%","≥1 kg and <2 kg","€ / unit",0.24,0.24,{"$f":"_xlfn.XLOOKUP(K6714,'Codes éco-part'!$C$6:$C$923,'Codes éco-part'!$B$6:$B$923)","v":"248"},0.28999999999999998]
["DIY and gardening products EPR",4,"22152480531","Modulated","Garden upkeep and landscaping","Flower pots and containers","PVC >90%","≥3 kg and <5 kg","€ / unit",0.57999999999999996,0.57999999999999996,{"$f":"_xlfn.XLOOKUP(K6719,'Codes éco-part'!$C$6:$C$923,'Codes éco-part'!$B$6:$B$923)","v":"535"},0.7]
["DIY and gardening products EPR",4,"22152480560",null,"Garden upkeep and landscaping","Flower pots and containers","PVC >90%","≥10 kg and <15 kg","€ / unit",2.4,2.4,{"$f":"_xlfn.XLOOKUP(K6724,'Codes éco-part'!$C$6:$C$923,'Codes éco-part'!$B$6:$B$923)","v":"602"},2.88]
["DIY and gardening products EPR",4,"22152490001","Modulated","Garden upkeep and landscaping","Flower pots and containers","Synthetic rubber >90%","Elements of all sizes and weights","€ / ton",144,144,{"$f":"_xlfn.XLOOKUP(K6729,'Codes éco-part'!$C$6:$C$923,'Codes éco-part'!$B$6:$B$923)","v":951},172.8]
["DIY and gardening products EPR",4,"22152490200",null,"Garden upkeep and landscaping","Flower pots and containers","Synthetic rubber >90%","Strictly <0.5 kg","€ / unit",0.04,0.04,{"$f":"_xlfn.XLOOKUP(K6730,'Codes éco-part'!$C$6:$C$923,'Codes éco-part'!$B$6:$B$923)","v":"002"},0.05]
["DIY and gardening products EPR",4,"22152490221","Modulated","Garden upkeep and landscaping","Flower pots and containers","Synthetic rubber >90%","≥1 kg and <2 kg","€ / unit",0.22,0.22,{"$f":"_xlfn.XLOOKUP(K6735,'Codes éco-part'!$C$6:$C$923,'Codes éco-part'!$B$6:$B$923)","v":"263"},0.26]
["DIY and gardening products EPR",4,"22152490540",null,"Garden upkeep and landscaping","Flower pots and containers","Synthetic rubber >90%","≥5 kg and <7 kg","€ / unit",1.1200000000000001,1.1200000000000001,{"$f":"_xlfn.XLOOKUP(K6740,'Codes éco-part'!$C$6:$C$923,'Codes éco-part'!$B$6:$B$923)","v":"605"},1.34]
["DIY and gardening products EPR",4,"22152490561","Modulated","Garden upkeep and landscaping","Flower pots and containers","Synthetic rubber >90%","≥10 kg and <15 kg","€ / unit",2.16,2.16,{"$f":"_xlfn.XLOOKUP(K6745,'Codes éco-part'!$C$6:$C$923,'Codes éco-part'!$B$6:$B$923)","v":"622"},2.59]
["DIY and gardening products EPR",4,"22152490570",null,"Garden upkeep and landscaping","Flower pots and containers","Synthetic rubber >90%","≥15 kg and <20 kg","€ / unit",3.2,3.2,{"$f":"_xlfn.XLOOKUP(K6746,'Codes éco-part'!$C$6:$C$923,'Codes éco-part'!$B$6:$B$923)","v":"476"},3.84]
["DIY and gardening products EPR",4,"22152510201","Modulated","Garden upkeep and landscaping","Flower pots and containers","Assembly of non-certified wood and/or wood derivatives >50% and other materials or composite wood (excl. glass)","Strictly <0.5 kg","€ / unit",0.02,0.02,{"$f":"_xlfn.XLOOKUP(K6751,'Codes éco-part'!$C$6:$C$923,'Codes éco-part'!$B$6:$B$923)","v":"047"},0.02]
["DIY and gardening products EPR",4,"22152510520",null,"Garden upkeep and landscaping","Flower pots and containers","Assembly of non-certified wood and/or wood derivatives >50% and other materials or composite wood (excl. glass)","≥2 kg and <3 kg","€ / unit",0.14000000000000001,0.14000000000000001,{"$f":"_xlfn.XLOOKUP(K6756,'Codes éco-part'!$C$6:$C$923,'Codes éco-part'!$B$6:$B$923)","v":"098"},0.17]
["DIY and gardening products EPR",4,"22152510541","Modulated","Garden upkeep and landscaping","Flower pots and containers","Assembly of non-certified wood and/or wood derivatives >50% and other materials or composite wood (excl. glass)","≥5 kg and <7 kg","€ / unit",0.32,0.32,{"$f":"_xlfn.XLOOKUP(K6761,'Codes éco-part'!$C$6:$C$923,'Codes éco-part'!$B$6:$B$923)","v":"447"},0.38]
["DIY and gardening products EPR",4,"22152510550",null,"Garden upkeep and landscaping","Flower pots and containers","Assembly of non-certified wood and/or wood derivatives >50% and other materials or composite wood (excl. glass)","≥7 kg and <10 kg","€ / unit",0.52,0.52,{"$f":"_xlfn.XLOOKUP(K6762,'Codes éco-part'!$C$6:$C$923,'Codes éco-part'!$B$6:$B$923)","v":"509"},0.62]
["DIY and gardening products EPR",4,"22152510571","Modulated","Garden upkeep and landscaping","Flower pots and containers","Assembly of non-certified wood and/or wood derivatives >50% and other materials or composite wood (excl. glass)","≥15 kg and <20 kg","€ / unit",0.94,0.94,{"$f":"_xlfn.XLOOKUP(K6767,'Codes éco-part'!$C$6:$C$923,'Codes éco-part'!$B$6:$B$923)","v":"458"},1.1299999999999999]
["DIY and gardening products EPR",4,"22152520210",null,"Garden upkeep and landscaping","Flower pots and containers","Solid wood and related products certified >90%","≥0.5 kg and <1 kg","€ / unit",0.02,0.02,{"$f":"_xlfn.XLOOKUP(K6772,'Codes éco-part'!$C$6:$C$923,'Codes éco-part'!$B$6:$B$923)","v":"047"},0.02]
["DIY and gardening products EPR",4,"22152520521","Modulated","Garden upkeep and landscaping","Flower pots and containers","Solid wood and related products certified >90%","≥2 kg and <3 kg","€ / unit",0.06,0.06,{"$f":"_xlfn.XLOOKUP(K6777,'Codes éco-part'!$C$6:$C$923,'Codes éco-part'!$B$6:$B$923)","v":"096"},7.0000000000000007E-2]
["DIY and gardening products EPR",4,"22152520530",null,"Garden upkeep and landscaping","Flower pots and containers","Solid wood and related products certified >90%","≥3 kg and <5 kg","€ / unit",0.1,0.1,{"$f":"_xlfn.XLOOKUP(K6778,'Codes éco-part'!$C$6:$C$923,'Codes éco-part'!$B$6:$B$923)","v":"094"},0.12]
["DIY and gardening products EPR",4,"22152520551","Modulated","Garden upkeep and landscaping","Flower pots and containers","Solid wood and related products certified >90%","≥7 kg and <10 kg","€ / unit",0.23,0.23,{"$f":"_xlfn.XLOOKUP(K6783,'Codes éco-part'!$C$6:$C$923,'Codes éco-part'!$B$6:$B$923)","v":"323"},0.28000000000000003]
["DIY and gardening products EPR",4,"22152530000",null,"Garden upkeep and landscaping","Flower pots and containers","Solid wood and related products >90%","Elements of all sizes and weights","€ / ton",52,52,{"$f":"_xlfn.XLOOKUP(K6788,'Codes éco-part'!$C$6:$C$923,'Codes éco-part'!$B$6:$B$923)","v":"617"},62.4]
["DIY and gardening products EPR",4,"22152530211","Modulated","Garden upkeep and landscaping","Flower pots and containers","Solid wood and related products >90%","≥0.5 kg and <1 kg","€ / unit",0.04,0.04,{"$f":"_xlfn.XLOOKUP(K6793,'Codes éco-part'!$C$6:$C$923,'Codes éco-part'!$B$6:$B$923)","v":"002"},0.05]
["DIY and gardening products EPR",4,"22152530220",null,"Garden upkeep and landscaping","Flower pots and containers","Solid wood and related products >90%","≥1 kg and <2 kg","€ / unit",0.08,0.08,{"$f":"_xlfn.XLOOKUP(K6794,'Codes éco-part'!$C$6:$C$923,'Codes éco-part'!$B$6:$B$923)","v":"003"},0.1]
["DIY and gardening products EPR",4,"22152530531","Modulated","Garden upkeep and landscaping","Flower pots and containers","Solid wood and related products >90%","≥3 kg and <5 kg","€ / unit",0.18,0.18,{"$f":"_xlfn.XLOOKUP(K6799,'Codes éco-part'!$C$6:$C$923,'Codes éco-part'!$B$6:$B$923)","v":"100"},0.22]
["DIY and gardening products EPR",4,"22152530560",null,"Garden upkeep and landscaping","Flower pots and containers","Solid wood and related products >90%","≥10 kg and <15 kg","€ / unit",0.78,0.78,{"$f":"_xlfn.XLOOKUP(K6804,'Codes éco-part'!$C$6:$C$923,'Codes éco-part'!$B$6:$B$923)","v":"312"},0.94]
["DIY and gardening products EPR",4,"22152540001","Modulated","Garden upkeep and landscaping","Flower pots and containers","Non-certified wood derivatives >90%","Elements of all sizes and weights","€ / ton",46.8,46.8,{"$f":"_xlfn.XLOOKUP(K6809,'Codes éco-part'!$C$6:$C$923,'Codes éco-part'!$B$6:$B$923)","v":950},56.16]
["DIY and gardening products EPR",4,"22152540200",null,"Garden upkeep and landscaping","Flower pots and containers","Non-certified wood derivatives >90%","Strictly <0.5 kg","€ / unit",0.02,0.02,{"$f":"_xlfn.XLOOKUP(K6810,'Codes éco-part'!$C$6:$C$923,'Codes éco-part'!$B$6:$B$923)","v":"047"},0.02]
["DIY and gardening products EPR",4,"22152540221","Modulated","Garden upkeep and landscaping","Flower pots and containers","Non-certified wood derivatives >90%","≥1 kg and <2 kg","€ / unit",7.0000000000000007E-2,7.0000000000000007E-2,{"$f":"_xlfn.XLOOKUP(K6815,'Codes éco-part'!$C$6:$C$923,'Codes éco-part'!$B$6:$B$923)","v":"247"},0.08]
["DIY and gardening products EPR",4,"22152540540",null,"Garden upkeep and landscaping","Flower pots and containers","Non-certified wood derivatives >90%","≥5 kg and <7 kg","€ / unit",0.36,0.36,{"$f":"_xlfn.XLOOKUP(K6820,'Codes éco-part'!$C$6:$C$923,'Codes éco-part'!$B$6:$B$923)","v":"449"},0.43]
["DIY and gardening products EPR",4,"22152540561","Modulated","Garden upkeep and landscaping","Flower pots and containers","Non-certified wood derivatives >90%","≥10 kg and <15 kg","€ / unit",0.7,0.7,{"$f":"_xlfn.XLOOKUP(K6825,'Codes éco-part'!$C$6:$C$923,'Codes éco-part'!$B$6:$B$923)","v":"282"},0.84]
["DIY and gardening products EPR",4,"22152540570",null,"Garden upkeep and landscaping","Flower pots and containers","Non-certified wood derivatives >90%","≥15 kg and <20 kg","€ / unit",1.04,1.04,{"$f":"_xlfn.XLOOKUP(K6826,'Codes éco-part'!$C$6:$C$923,'Codes éco-part'!$B$6:$B$923)","v":"616"},1.25]
["DIY and gardening products EPR",4,"22152550201","Modulated","Garden upkeep and landscaping","Flower pots and containers","Biosourced materials or non-synthetic textiles >90%","Strictly <0.5 kg","€ / unit",0.02,0.02,{"$f":"_xlfn.XLOOKUP(K6831,'Codes éco-part'!$C$6:$C$923,'Codes éco-part'!$B$6:$B$923)","v":"047"},0.02]
["DIY and gardening products EPR",4,"22152550520",null,"Garden upkeep and landscaping","Flower pots and containers","Biosourced materials or non-synthetic textiles >90%","≥2 kg and <3 kg","€ / unit",0.16,0.16,{"$f":"_xlfn.XLOOKUP(K6836,'Codes éco-part'!$C$6:$C$923,'Codes éco-part'!$B$6:$B$923)","v":"099"},0.19]
["DIY and gardening products EPR",4,"22152550541","Modulated","Garden upkeep and landscaping","Flower pots and containers","Biosourced materials or non-synthetic textiles >90%","≥5 kg and <7 kg","€ / unit",0.41,0.41,{"$f":"_xlfn.XLOOKUP(K6841,'Codes éco-part'!$C$6:$C$923,'Codes éco-part'!$B$6:$B$923)","v":"503"},0.49]
["DIY and gardening products EPR",4,"22152550550",null,"Garden upkeep and landscaping","Flower pots and containers","Biosourced materials or non-synthetic textiles >90%","≥7 kg and <10 kg","€ / unit",0.65,0.65,{"$f":"_xlfn.XLOOKUP(K6842,'Codes éco-part'!$C$6:$C$923,'Codes éco-part'!$B$6:$B$923)","v":"613"},0.78]
["DIY and gardening products EPR",4,"22152550571","Modulated","Garden upkeep and landscaping","Flower pots and containers","Biosourced materials or non-synthetic textiles >90%","≥15 kg and <20 kg","€ / unit",1.17,1.17,{"$f":"_xlfn.XLOOKUP(K6847,'Codes éco-part'!$C$6:$C$923,'Codes éco-part'!$B$6:$B$923)","v":"537"},1.4]
["DIY and gardening products EPR",4,"22152590210",null,"Garden upkeep and landscaping","Flower pots and containers","Certified chipboard or OSB >90%","≥0.5 kg and <1 kg","€ / unit",0.02,0.02,{"$f":"_xlfn.XLOOKUP(K6852,'Codes éco-part'!$C$6:$C$923,'Codes éco-part'!$B$6:$B$923)","v":"047"},0.02]
["DIY and gardening products EPR",4,"22152590521","Modulated","Garden upkeep and landscaping","Flower pots and containers","Certified chipboard or OSB >90%","≥2 kg and <3 kg","€ / unit",0.06,0.06,{"$f":"_xlfn.XLOOKUP(K6857,'Codes éco-part'!$C$6:$C$923,'Codes éco-part'!$B$6:$B$923)","v":"096"},7.0000000000000007E-2]
["DIY and gardening products EPR",4,"22152590530",null,"Garden upkeep and landscaping","Flower pots and containers","Certified chipboard or OSB >90%","≥3 kg and <5 kg","€ / unit",0.1,0.1,{"$f":"_xlfn.XLOOKUP(K6858,'Codes éco-part'!$C$6:$C$923,'Codes éco-part'!$B$6:$B$923)","v":"094"},0.12]
["DIY and gardening products EPR",4,"22152590551","Modulated","Garden upkeep and landscaping","Flower pots and containers","Certified chipboard or OSB >90%","≥7 kg and <10 kg","€ / unit",0.23,0.23,{"$f":"_xlfn.XLOOKUP(K6863,'Codes éco-part'!$C$6:$C$923,'Codes éco-part'!$B$6:$B$923)","v":"323"},0.28000000000000003]
["DIY and gardening products EPR",4,"22152600000",null,"Garden upkeep and landscaping","Flower pots and containers","Certified chipboard or OSB >75%","Elements of all sizes and weights","€ / ton",26,26,{"$f":"_xlfn.XLOOKUP(K6868,'Codes éco-part'!$C$6:$C$923,'Codes éco-part'!$B$6:$B$923)","v":"582"},31.2]
["DIY and gardening products EPR",4,"22152600211","Modulated","Garden upkeep and landscaping","Flower pots and containers","Certified chipboard or OSB >75%","≥0.5 kg and <1 kg","€ / unit",0.02,0.02,{"$f":"_xlfn.XLOOKUP(K6873,'Codes éco-part'!$C$6:$C$923,'Codes éco-part'!$B$6:$B$923)","v":"047"},0.02]
["DIY and gardening products EPR",4,"22152600220",null,"Garden upkeep and landscaping","Flower pots and containers","Certified chipboard or OSB >75%","≥1 kg and <2 kg","€ / unit",0.04,0.04,{"$f":"_xlfn.XLOOKUP(K6874,'Codes éco-part'!$C$6:$C$923,'Codes éco-part'!$B$6:$B$923)","v":"002"},0.05]
["DIY and gardening products EPR",4,"22152600531","Modulated","Garden upkeep and landscaping","Flower pots and containers","Certified chipboard or OSB >75%","≥3 kg and <5 kg","€ / unit",0.09,0.09,{"$f":"_xlfn.XLOOKUP(K6879,'Codes éco-part'!$C$6:$C$923,'Codes éco-part'!$B$6:$B$923)","v":"049"},0.11]
["DIY and gardening products EPR",4,"22152600550",null,"Garden upkeep and landscaping","Flower pots and containers","Certified chipboard or OSB >75%","≥7 kg and <10 kg","€ / unit",0.26,0.26,{"$f":"_xlfn.XLOOKUP(K6882,'Codes éco-part'!$C$6:$C$923,'Codes éco-part'!$B$6:$B$923)","v":"445"},0.31]
["DIY and gardening products EPR",4,"22152610000",null,"Garden upkeep and landscaping","Flower pots and containers","Chipboard or OSB >90%","Elements of all sizes and weights","€ / ton",52,52,{"$f":"_xlfn.XLOOKUP(K6888,'Codes éco-part'!$C$6:$C$923,'Codes éco-part'!$B$6:$B$923)","v":"617"},62.4]
["DIY and gardening products EPR",4,"22152610001","Modulated","Garden upkeep and landscaping","Flower pots and containers","Chipboard or OSB >90%","Elements of all sizes and weights","€ / ton",46.8,46.8,{"$f":"_xlfn.XLOOKUP(K6889,'Codes éco-part'!$C$6:$C$923,'Codes éco-part'!$B$6:$B$923)","v":950},56.16]
["DIY and gardening products EPR",4,"22152610220",null,"Garden upkeep and landscaping","Flower pots and containers","Chipboard or OSB >90%","≥1 kg and <2 kg","€ / unit",0.08,0.08,{"$f":"_xlfn.XLOOKUP(K6894,'Codes éco-part'!$C$6:$C$923,'Codes éco-part'!$B$6:$B$923)","v":"003"},0.1]
["DIY and gardening products EPR",4,"22152610531","Modulated","Garden upkeep and landscaping","Flower pots and containers","Chipboard or OSB >90%","≥3 kg and <5 kg","€ / unit",0.18,0.18,{"$f":"_xlfn.XLOOKUP(K6899,'Codes éco-part'!$C$6:$C$923,'Codes éco-part'!$B$6:$B$923)","v":"100"},0.22]
["DIY and gardening products EPR",4,"22152610560",null,"Garden upkeep and landscaping","Flower pots and containers","Chipboard or OSB >90%","≥10 kg and <15 kg","€ / unit",0.78,0.78,{"$f":"_xlfn.XLOOKUP(K6904,'Codes éco-part'!$C$6:$C$923,'Codes éco-part'!$B$6:$B$923)","v":"312"},0.94]
["DIY and gardening products EPR",4,"22152610561","Modulated","Garden upkeep and landscaping","Flower pots and containers","Chipboard or OSB >90%","≥10 kg and <15 kg","€ / unit",0.7,0.7,{"$f":"_xlfn.XLOOKUP(K6905,'Codes éco-part'!$C$6:$C$923,'Codes éco-part'!$B$6:$B$923)","v":"282"},0.84]
["DIY and gardening products EPR",4,"22152620200",null,"Garden upkeep and landscaping","Flower pots and containers","Wood derivatives >90%","Strictly <0.5 kg","€ / unit",0.01,0.01,{"$f":"_xlfn.XLOOKUP(K6910,'Codes éco-part'!$C$6:$C$923,'Codes éco-part'!$B$6:$B$923)","v":"260"},0.01]
["DIY and gardening products EPR",4,"22152620221","Modulated","Garden upkeep and landscaping","Flower pots and containers","Wood derivatives >90%","≥1 kg and <2 kg","€ / unit",0.04,0.04,{"$f":"_xlfn.XLOOKUP(K6915,'Codes éco-part'!$C$6:$C$923,'Codes éco-part'!$B$6:$B$923)","v":"002"},0.05]
["DIY and gardening products EPR",4,"22152620540",null,"Garden upkeep and landscaping","Flower pots and containers","Wood derivatives >90%","≥5 kg and <7 kg","€ / unit",0.18,0.18,{"$f":"_xlfn.XLOOKUP(K6920,'Codes éco-part'!$C$6:$C$923,'Codes éco-part'!$B$6:$B$923)","v":"100"},0.22]
["DIY and gardening products EPR",4,"22152620541","Modulated","Garden upkeep and landscaping","Flower pots and containers","Wood derivatives >90%","≥5 kg and <7 kg","€ / unit",0.16,0.16,{"$f":"_xlfn.XLOOKUP(K6921,'Codes éco-part'!$C$6:$C$923,'Codes éco-part'!$B$6:$B$923)","v":"099"},0.19]
["DIY and gardening products EPR",4,"22152620570",null,"Garden upkeep and landscaping","Flower pots and containers","Wood derivatives >90%","≥15 kg and <20 kg","€ / unit",0.52,0.52,{"$f":"_xlfn.XLOOKUP(K6926,'Codes éco-part'!$C$6:$C$923,'Codes éco-part'!$B$6:$B$923)","v":"509"},0.62]
["DIY and gardening products EPR",4,"22152630201","Modulated","Garden upkeep and landscaping","Flower pots and containers","Natural rubber >90%","Strictly <0.5 kg","€ / unit",0.02,0.02,{"$f":"_xlfn.XLOOKUP(K6931,'Codes éco-part'!$C$6:$C$923,'Codes éco-part'!$B$6:$B$923)","v":"047"},0.02]
["DIY and gardening products EPR",4,"22152630520",null,"Garden upkeep and landscaping","Flower pots and containers","Natural rubber >90%","≥2 kg and <3 kg","€ / unit",0.16,0.16,{"$f":"_xlfn.XLOOKUP(K6936,'Codes éco-part'!$C$6:$C$923,'Codes éco-part'!$B$6:$B$923)","v":"099"},0.19]
["DIY and gardening products EPR",4,"22152630521","Modulated","Garden upkeep and landscaping","Flower pots and containers","Natural rubber >90%","≥2 kg and <3 kg","€ / unit",0.14000000000000001,0.14000000000000001,{"$f":"_xlfn.XLOOKUP(K6937,'Codes éco-part'!$C$6:$C$923,'Codes éco-part'!$B$6:$B$923)","v":"098"},0.17]
["DIY and gardening products EPR",4,"22152630550",null,"Garden upkeep and landscaping","Flower pots and containers","Natural rubber >90%","≥7 kg and <10 kg","€ / unit",0.65,0.65,{"$f":"_xlfn.XLOOKUP(K6942,'Codes éco-part'!$C$6:$C$923,'Codes éco-part'!$B$6:$B$923)","v":"613"},0.78]
["DIY and gardening products EPR",4,"22152630571","Modulated","Garden upkeep and landscaping","Flower pots and containers","Natural rubber >90%","≥15 kg and <20 kg","€ / unit",1.17,1.17,{"$f":"_xlfn.XLOOKUP(K6947,'Codes éco-part'!$C$6:$C$923,'Codes éco-part'!$B$6:$B$923)","v":"537"},1.4]
["DIY and gardening products EPR",4,"22152640210",null,"Garden upkeep and landscaping","Flower pots and containers","Natural rubber >50%","≥0.5 kg and <1 kg","€ / unit",0.19,0.19,{"$f":"_xlfn.XLOOKUP(K6952,'Codes éco-part'!$C$6:$C$923,'Codes éco-part'!$B$6:$B$923)","v":"291"},0.23]
["DIY and gardening products EPR",4,"22152640211","Modulated","Garden upkeep and landscaping","Flower pots and containers","Natural rubber >50%","≥0.5 kg and <1 kg","€ / unit",0.17,0.17,{"$f":"_xlfn.XLOOKUP(K6953,'Codes éco-part'!$C$6:$C$923,'Codes éco-part'!$B$6:$B$923)","v":"005"},0.2]
["DIY and gardening products EPR",4,"22152640530",null,"Garden upkeep and landscaping","Flower pots and containers","Natural rubber >50%","≥3 kg and <5 kg","€ / unit",1,1,{"$f":"_xlfn.XLOOKUP(K6958,'Codes éco-part'!$C$6:$C$923,'Codes éco-part'!$B$6:$B$923)","v":"056"},1.2]
["DIY and gardening products EPR",4,"22152640551","Modulated","Garden upkeep and landscaping","Flower pots and containers","Natural rubber >50%","≥7 kg and <10 kg","€ / unit",2.25,2.25,{"$f":"_xlfn.XLOOKUP(K6963,'Codes éco-part'!$C$6:$C$923,'Codes éco-part'!$B$6:$B$923)","v":"118"},2.7]
["DIY and gardening products EPR",4,"22152650000",null,"Garden upkeep and landscaping","Flower pots and containers","Synthetic fibres or materials >90%","Elements of all sizes and weights","€ / ton",160,160,{"$f":"_xlfn.XLOOKUP(K6968,'Codes éco-part'!$C$6:$C$923,'Codes éco-part'!$B$6:$B$923)","v":"604"},192]
["DIY and gardening products EPR",4,"22152650001","Modulated","Garden upkeep and landscaping","Flower pots and containers","Synthetic fibres or materials >90%","Elements of all sizes and weights","€ / ton",144,144,{"$f":"_xlfn.XLOOKUP(K6969,'Codes éco-part'!$C$6:$C$923,'Codes éco-part'!$B$6:$B$923)","v":951},172.8]
["DIY and gardening products EPR",4,"22152650220",null,"Garden upkeep and landscaping","Flower pots and containers","Synthetic fibres or materials >90%","≥1 kg and <2 kg","€ / unit",0.24,0.24,{"$f":"_xlfn.XLOOKUP(K6974,'Codes éco-part'!$C$6:$C$923,'Codes éco-part'!$B$6:$B$923)","v":"248"},0.28999999999999998]
["DIY and gardening products EPR",4,"22152650531","Modulated","Garden upkeep and landscaping","Flower pots and containers","Synthetic fibres or materials >90%","≥3 kg and <5 kg","€ / unit",0.57999999999999996,0.57999999999999996,{"$f":"_xlfn.XLOOKUP(K6979,'Codes éco-part'!$C$6:$C$923,'Codes éco-part'!$B$6:$B$923)","v":"535"},0.7]
["DIY and gardening products EPR",4,"22152650560",null,"Garden upkeep and landscaping","Flower pots and containers","Synthetic fibres or materials >90%","≥10 kg and <15 kg","€ / unit",2.4,2.4,{"$f":"_xlfn.XLOOKUP(K6984,'Codes éco-part'!$C$6:$C$923,'Codes éco-part'!$B$6:$B$923)","v":"602"},2.88]
["DIY and gardening products EPR",4,"22152650561","Modulated","Garden upkeep and landscaping","Flower pots and containers","Synthetic fibres or materials >90%","≥10 kg and <15 kg","€ / unit",2.16,2.16,{"$f":"_xlfn.XLOOKUP(K6985,'Codes éco-part'!$C$6:$C$923,'Codes éco-part'!$B$6:$B$923)","v":"622"},2.59]
["DIY and gardening products EPR",4,"22152670200",null,"Garden upkeep and landscaping","Flower pots and containers","Assembly of synthetic fibres and/or materials >50% and other materials","Strictly <0.5 kg","€ / unit",0.06,0.06,{"$f":"_xlfn.XLOOKUP(K6990,'Codes éco-part'!$C$6:$C$923,'Codes éco-part'!$B$6:$B$923)","v":"096"},7.0000000000000007E-2]
["DIY and gardening products EPR",4,"22152670221","Modulated","Garden upkeep and landscaping","Flower pots and containers","Assembly of synthetic fibres and/or materials >50% and other materials","≥1 kg and <2 kg","€ / unit",0.34,0.34,{"$f":"_xlfn.XLOOKUP(K6995,'Codes éco-part'!$C$6:$C$923,'Codes éco-part'!$B$6:$B$923)","v":"043"},0.41]
["DIY and gardening products EPR",4,"22152670540",null,"Garden upkeep and landscaping","Flower pots and containers","Assembly of synthetic fibres and/or materials >50% and other materials","≥5 kg and <7 kg","€ / unit",1.75,1.75,{"$f":"_xlfn.XLOOKUP(K7000,'Codes éco-part'!$C$6:$C$923,'Codes éco-part'!$B$6:$B$923)","v":"538"},2.1]
["DIY and gardening products EPR",4,"22152670541","Modulated","Garden upkeep and landscaping","Flower pots and containers","Assembly of synthetic fibres and/or materials >50% and other materials","≥5 kg and <7 kg","€ / unit",1.58,1.58,{"$f":"_xlfn.XLOOKUP(K7001,'Codes éco-part'!$C$6:$C$923,'Codes éco-part'!$B$6:$B$923)","v":618},1.9]
["DIY and gardening products EPR",4,"22152670570",null,"Garden upkeep and landscaping","Flower pots and containers","Assembly of synthetic fibres and/or materials >50% and other materials","≥15 kg and <20 kg","€ / unit",5,5,{"$f":"_xlfn.XLOOKUP(K7006,'Codes éco-part'!$C$6:$C$923,'Codes éco-part'!$B$6:$B$923)","v":"042"},6]
["DIY and gardening products EPR",4,"22152680201","Modulated","Garden upkeep and landscaping","Flower pots and containers","Glass >90%","Strictly <0.5 kg","€ / unit",0.01,0.01,{"$f":"_xlfn.XLOOKUP(K7011,'Codes éco-part'!$C$6:$C$923,'Codes éco-part'!$B$6:$B$923)","v":"260"},0.01]
["DIY and gardening products EPR",4,"22152680520",null,"Garden upkeep and landscaping","Flower pots and containers","Glass >90%","≥2 kg and <3 kg","€ / unit",0.02,0.02,{"$f":"_xlfn.XLOOKUP(K7016,'Codes éco-part'!$C$6:$C$923,'Codes éco-part'!$B$6:$B$923)","v":"047"},0.02]
["DIY and gardening products EPR",4,"22152680521","Modulated","Garden upkeep and landscaping","Flower pots and containers","Glass >90%","≥2 kg and <3 kg","€ / unit",0.02,0.02,{"$f":"_xlfn.XLOOKUP(K7017,'Codes éco-part'!$C$6:$C$923,'Codes éco-part'!$B$6:$B$923)","v":"047"},0.02]
["DIY and gardening products EPR",4,"22152680550",null,"Garden upkeep and landscaping","Flower pots and containers","Glass >90%","≥7 kg and <10 kg","€ / unit",0.09,0.09,{"$f":"_xlfn.XLOOKUP(K7022,'Codes éco-part'!$C$6:$C$923,'Codes éco-part'!$B$6:$B$923)","v":"049"},0.11]
["DIY and gardening products EPR",4,"22152680571","Modulated","Garden upkeep and landscaping","Flower pots and containers","Glass >90%","≥15 kg and <20 kg","€ / unit",0.16,0.16,{"$f":"_xlfn.XLOOKUP(K7027,'Codes éco-part'!$C$6:$C$923,'Codes éco-part'!$B$6:$B$923)","v":"099"},0.19]
["DIY and gardening products EPR",4,"22152700210",null,"Garden upkeep and landscaping","Flower pots and containers","Assembly of glass >50% and metal","≥0.5 kg and <1 kg","€ / unit",0.19,0.19,{"$f":"_xlfn.XLOOKUP(K7032,'Codes éco-part'!$C$6:$C$923,'Codes éco-part'!$B$6:$B$923)","v":"291"},0.23]
["DIY and gardening products EPR",4,"22152700211","Modulated","Garden upkeep and landscaping","Flower pots and containers","Assembly of glass >50% and metal","≥0.5 kg and <1 kg","€ / unit",0.17,0.17,{"$f":"_xlfn.XLOOKUP(K7033,'Codes éco-part'!$C$6:$C$923,'Codes éco-part'!$B$6:$B$923)","v":"005"},0.2]
["DIY and gardening products EPR",4,"22152700530",null,"Garden upkeep and landscaping","Flower pots and containers","Assembly of glass >50% and metal","≥3 kg and <5 kg","€ / unit",1,1,{"$f":"_xlfn.XLOOKUP(K7038,'Codes éco-part'!$C$6:$C$923,'Codes éco-part'!$B$6:$B$923)","v":"056"},1.2]
["DIY and gardening products EPR",4,"22152700551","Modulated","Garden upkeep and landscaping","Flower pots and containers","Assembly of glass >50% and metal","≥7 kg and <10 kg","€ / unit",2.25,2.25,{"$f":"_xlfn.XLOOKUP(K7043,'Codes éco-part'!$C$6:$C$923,'Codes éco-part'!$B$6:$B$923)","v":"118"},2.7]
["DIY and gardening products EPR",4,"22152710000",null,"Garden upkeep and landscaping","Flower pots and containers","Assembly of glass >50% and inert substances","Elements of all sizes and weights","€ / ton",250,250,{"$f":"_xlfn.XLOOKUP(K7048,'Codes éco-part'!$C$6:$C$923,'Codes éco-part'!$B$6:$B$923)","v":"612"},300]
["DIY and gardening products EPR",4,"22152710001","Modulated","Garden upkeep and landscaping","Flower pots and containers","Assembly of glass >50% and inert substances","Elements of all sizes and weights","€ / ton",225,225,{"$f":"_xlfn.XLOOKUP(K7049,'Codes éco-part'!$C$6:$C$923,'Codes éco-part'!$B$6:$B$923)","v":949},270]
["DIY and gardening products EPR",4,"22152710220",null,"Garden upkeep and landscaping","Flower pots and containers","Assembly of glass >50% and inert substances","≥1 kg and <2 kg","€ / unit",0.38,0.38,{"$f":"_xlfn.XLOOKUP(K7054,'Codes éco-part'!$C$6:$C$923,'Codes éco-part'!$B$6:$B$923)","v":"292"},0.46]
["DIY and gardening products EPR",4,"22152710531","Modulated","Garden upkeep and landscaping","Flower pots and containers","Assembly of glass >50% and inert substances","≥3 kg and <5 kg","€ / unit",0.9,0.9,{"$f":"_xlfn.XLOOKUP(K7059,'Codes éco-part'!$C$6:$C$923,'Codes éco-part'!$B$6:$B$923)","v":"330"},1.08]
["DIY and gardening products EPR",4,"22152710560",null,"Garden upkeep and landscaping","Flower pots and containers","Assembly of glass >50% and inert substances","≥10 kg and <15 kg","€ / unit",3.75,3.75,{"$f":"_xlfn.XLOOKUP(K7064,'Codes éco-part'!$C$6:$C$923,'Codes éco-part'!$B$6:$B$923)","v":"015"},4.5]
["DIY and gardening products EPR",4,"22152710561","Modulated","Garden upkeep and landscaping","Flower pots and containers","Assembly of glass >50% and inert substances","≥10 kg and <15 kg","€ / unit",3.38,3.38,{"$f":"_xlfn.XLOOKUP(K7065,'Codes éco-part'!$C$6:$C$923,'Codes éco-part'!$B$6:$B$923)","v":"343"},4.0599999999999996]
["DIY and gardening products EPR",4,"22152720200",null,"Garden upkeep and landscaping","Flower pots and containers","Assembly of glass >50% and wood or wood derivatives","Strictly <0.5 kg","€ / unit",0.06,0.06,{"$f":"_xlfn.XLOOKUP(K7070,'Codes éco-part'!$C$6:$C$923,'Codes éco-part'!$B$6:$B$923)","v":"096"},7.0000000000000007E-2]
["DIY and gardening products EPR",4,"22152720221","Modulated","Garden upkeep and landscaping","Flower pots and containers","Assembly of glass >50% and wood or wood derivatives","≥1 kg and <2 kg","€ / unit",0.34,0.34,{"$f":"_xlfn.XLOOKUP(K7075,'Codes éco-part'!$C$6:$C$923,'Codes éco-part'!$B$6:$B$923)","v":"043"},0.41]
["DIY and gardening products EPR",4,"22152720540",null,"Garden upkeep and landscaping","Flower pots and containers","Assembly of glass >50% and wood or wood derivatives","≥5 kg and <7 kg","€ / unit",1.75,1.75,{"$f":"_xlfn.XLOOKUP(K7080,'Codes éco-part'!$C$6:$C$923,'Codes éco-part'!$B$6:$B$923)","v":"538"},2.1]
["DIY and gardening products EPR",4,"22152720541","Modulated","Garden upkeep and landscaping","Flower pots and containers","Assembly of glass >50% and wood or wood derivatives","≥5 kg and <7 kg","€ / unit",1.58,1.58,{"$f":"_xlfn.XLOOKUP(K7081,'Codes éco-part'!$C$6:$C$923,'Codes éco-part'!$B$6:$B$923)","v":618},1.9]
["DIY and gardening products EPR",4,"22152720570",null,"Garden upkeep and landscaping","Flower pots and containers","Assembly of glass >50% and wood or wood derivatives","≥15 kg and <20 kg","€ / unit",5,5,{"$f":"_xlfn.XLOOKUP(K7086,'Codes éco-part'!$C$6:$C$923,'Codes éco-part'!$B$6:$B$923)","v":"042"},6]
["DIY and gardening products EPR",4,"22152730201","Modulated","Garden upkeep and landscaping","Flower pots and containers","Assembly of glass >50% and plastic","Strictly <0.5 kg","€ / unit",0.05,0.05,{"$f":"_xlfn.XLOOKUP(K7091,'Codes éco-part'!$C$6:$C$923,'Codes éco-part'!$B$6:$B$923)","v":"048"},0.06]
["DIY and gardening products EPR",4,"22152730520",null,"Garden upkeep and landscaping","Flower pots and containers","Assembly of glass >50% and plastic","≥2 kg and <3 kg","€ / unit",0.63,0.63,{"$f":"_xlfn.XLOOKUP(K7096,'Codes éco-part'!$C$6:$C$923,'Codes éco-part'!$B$6:$B$923)","v":"297"},0.76]
["DIY and gardening products EPR",4,"22152730521","Modulated","Garden upkeep and landscaping","Flower pots and containers","Assembly of glass >50% and plastic","≥2 kg and <3 kg","€ / unit",0.56999999999999995,0.56999999999999995,{"$f":"_xlfn.XLOOKUP(K7097,'Codes éco-part'!$C$6:$C$923,'Codes éco-part'!$B$6:$B$923)","v":"326"},0.68]
["DIY and gardening products EPR",4,"22152730550",null,"Garden upkeep and landscaping","Flower pots and containers","Assembly of glass >50% and plastic","≥7 kg and <10 kg","€ / unit",2.5,2.5,{"$f":"_xlfn.XLOOKUP(K7102,'Codes éco-part'!$C$6:$C$923,'Codes éco-part'!$B$6:$B$923)","v":"012"},3]
["DIY and gardening products EPR",4,"22152730571","Modulated","Garden upkeep and landscaping","Flower pots and containers","Assembly of glass >50% and plastic","≥15 kg and <20 kg","€ / unit",4.5,4.5,{"$f":"_xlfn.XLOOKUP(K7107,'Codes éco-part'!$C$6:$C$923,'Codes éco-part'!$B$6:$B$923)","v":"127"},5.4]
["DIY and gardening products EPR",4,"22152740210",null,"Garden upkeep and landscaping","Flower pots and containers","Concrete >90%","≥0.5 kg and <1 kg","€ / unit",0.01,0.01,{"$f":"_xlfn.XLOOKUP(K7112,'Codes éco-part'!$C$6:$C$923,'Codes éco-part'!$B$6:$B$923)","v":"260"},0.01]
["DIY and gardening products EPR",4,"22152740211","Modulated","Garden upkeep and landscaping","Flower pots and containers","Concrete >90%","≥0.5 kg and <1 kg","€ / unit",0.01,0.01,{"$f":"_xlfn.XLOOKUP(K7113,'Codes éco-part'!$C$6:$C$923,'Codes éco-part'!$B$6:$B$923)","v":"260"},0.01]
["DIY and gardening products EPR",4,"22152740530",null,"Garden upkeep and landscaping","Flower pots and containers","Concrete >90%","≥3 kg and <5 kg","€ / unit",0.04,0.04,{"$f":"_xlfn.XLOOKUP(K7118,'Codes éco-part'!$C$6:$C$923,'Codes éco-part'!$B$6:$B$923)","v":"002"},0.05]
["DIY and gardening products EPR",4,"22152740551","Modulated","Garden upkeep and landscaping","Flower pots and containers","Concrete >90%","≥7 kg and <10 kg","€ / unit",0.08,0.08,{"$f":"_xlfn.XLOOKUP(K7123,'Codes éco-part'!$C$6:$C$923,'Codes éco-part'!$B$6:$B$923)","v":"003"},0.1]
["DIY and gardening products EPR",4,"22152810000",null,"Garden upkeep and landscaping","Flower pots and containers","Assembly of wood, wood derivatives, and metal with a combination representing >90%","Elements of all sizes and weights","€ / ton",26,26,{"$f":"_xlfn.XLOOKUP(K7128,'Codes éco-part'!$C$6:$C$923,'Codes éco-part'!$B$6:$B$923)","v":"582"},31.2]
["DIY and gardening products EPR",4,"22152810001","Modulated","Garden upkeep and landscaping","Flower pots and containers","Assembly of wood, wood derivatives, and metal with a combination representing >90%","Elements of all sizes and weights","€ / ton",23.4,23.4,{"$f":"_xlfn.XLOOKUP(K7129,'Codes éco-part'!$C$6:$C$923,'Codes éco-part'!$B$6:$B$923)","v":946},28.08]
["DIY and gardening products EPR",4,"22152810220",null,"Garden upkeep and landscaping","Flower pots and containers","Assembly of wood, wood derivatives, and metal with a combination representing >90%","≥1 kg and <2 kg","€ / unit",0.04,0.04,{"$f":"_xlfn.XLOOKUP(K7134,'Codes éco-part'!$C$6:$C$923,'Codes éco-part'!$B$6:$B$923)","v":"002"},0.05]
["DIY and gardening products EPR",4,"22152810531","Modulated","Garden upkeep and landscaping","Flower pots and containers","Assembly of wood, wood derivatives, and metal with a combination representing >90%","≥3 kg and <5 kg","€ / unit",0.09,0.09,{"$f":"_xlfn.XLOOKUP(K7139,'Codes éco-part'!$C$6:$C$923,'Codes éco-part'!$B$6:$B$923)","v":"049"},0.11]
["DIY and gardening products EPR",4,"22152810550",null,"Garden upkeep and landscaping","Flower pots and containers","Assembly of wood, wood derivatives, and metal with a combination representing >90%","≥7 kg and <10 kg","€ / unit",0.26,0.26,{"$f":"_xlfn.XLOOKUP(K7142,'Codes éco-part'!$C$6:$C$923,'Codes éco-part'!$B$6:$B$923)","v":"445"},0.31]
["DIY and gardening products EPR",4,"22152810560",null,"Garden upkeep and landscaping","Flower pots and containers","Assembly of wood, wood derivatives, and metal with a combination representing >90%","≥10 kg and <15 kg","€ / unit",0.39,0.39,{"$f":"_xlfn.XLOOKUP(K7144,'Codes éco-part'!$C$6:$C$923,'Codes éco-part'!$B$6:$B$923)","v":"253"},0.47]
["DIY and gardening products EPR",4,"22152820001","Modulated","Garden upkeep and landscaping","Flower pots and containers","Assembly of 3 or more materials, with no material representing >50%","Elements of all sizes and weights","€ / ton",225,225,{"$f":"_xlfn.XLOOKUP(K7149,'Codes éco-part'!$C$6:$C$923,'Codes éco-part'!$B$6:$B$923)","v":949},270]
["DIY and gardening products EPR",4,"22152820220",null,"Garden upkeep and landscaping","Flower pots and containers","Assembly of 3 or more materials, with no material representing >50%","≥1 kg and <2 kg","€ / unit",0.38,0.38,{"$f":"_xlfn.XLOOKUP(K7154,'Codes éco-part'!$C$6:$C$923,'Codes éco-part'!$B$6:$B$923)","v":"292"},0.46]
["DIY and gardening products EPR",4,"22152820531","Modulated","Garden upkeep and landscaping","Flower pots and containers","Assembly of 3 or more materials, with no material representing >50%","≥3 kg and <5 kg","€ / unit",0.9,0.9,{"$f":"_xlfn.XLOOKUP(K7159,'Codes éco-part'!$C$6:$C$923,'Codes éco-part'!$B$6:$B$923)","v":"330"},1.08]
["DIY and gardening products EPR",4,"22152820540",null,"Garden upkeep and landscaping","Flower pots and containers","Assembly of 3 or more materials, with no material representing >50%","≥5 kg and <7 kg","€ / unit",1.75,1.75,{"$f":"_xlfn.XLOOKUP(K7160,'Codes éco-part'!$C$6:$C$923,'Codes éco-part'!$B$6:$B$923)","v":"538"},2.1]
["DIY and gardening products EPR",4,"22152820561","Modulated","Garden upkeep and landscaping","Flower pots and containers","Assembly of 3 or more materials, with no material representing >50%","≥10 kg and <15 kg","€ / unit",3.38,3.38,{"$f":"_xlfn.XLOOKUP(K7165,'Codes éco-part'!$C$6:$C$923,'Codes éco-part'!$B$6:$B$923)","v":"343"},4.0599999999999996]
["DIY and gardening products EPR",4,"22152840200",null,"Garden upkeep and landscaping","Flower pots and containers","Slate >90%","Strictly <0.5 kg","€ / unit",0.01,0.01,{"$f":"_xlfn.XLOOKUP(K7170,'Codes éco-part'!$C$6:$C$923,'Codes éco-part'!$B$6:$B$923)","v":"260"},{"$f":"ROUND(K7170*1.2,2)","v":0.01}]
["DIY and gardening products EPR",4,"22152840221","Modulated","Garden upkeep and landscaping","Flower pots and containers","Slate >90%","≥1 kg and <2 kg","€ / unit",0.01,0.01,{"$f":"_xlfn.XLOOKUP(K7175,'Codes éco-part'!$C$6:$C$923,'Codes éco-part'!$B$6:$B$923)","v":"260"},0.01]
["DIY and gardening products EPR",4,"22152840520",null,"Garden upkeep and landscaping","Flower pots and containers","Slate >90%","≥2 kg and <3 kg","€ / unit",0.02,0.02,{"$f":"_xlfn.XLOOKUP(K7176,'Codes éco-part'!$C$6:$C$923,'Codes éco-part'!$B$6:$B$923)","v":"047"},0.02]
["DIY and gardening products EPR",4,"22152840541","Modulated","Garden upkeep and landscaping","Flower pots and containers","Slate >90%","≥5 kg and <7 kg","€ / unit",0.05,0.05,{"$f":"_xlfn.XLOOKUP(K7181,'Codes éco-part'!$C$6:$C$923,'Codes éco-part'!$B$6:$B$923)","v":"048"},0.06]
["DIY and gardening products EPR",4,"22152840570",null,"Garden upkeep and landscaping","Flower pots and containers","Slate >90%","≥15 kg and <20 kg","€ / unit",0.18,0.18,{"$f":"_xlfn.XLOOKUP(K7186,'Codes éco-part'!$C$6:$C$923,'Codes éco-part'!$B$6:$B$923)","v":"100"},0.22]
["DIY and gardening products EPR",4,"22152860201","Modulated","Garden upkeep and landscaping","Flower pots and containers","Limestone >90%","Strictly <0.5 kg","€ / unit",0.01,0.01,{"$f":"_xlfn.XLOOKUP(K7191,'Codes éco-part'!$C$6:$C$923,'Codes éco-part'!$B$6:$B$923)","v":"260"},0.01]
["DIY and gardening products EPR",4,"22152860210",null,"Garden upkeep and landscaping","Flower pots and containers","Limestone >90%","≥0.5 kg and <1 kg","€ / unit",0.01,0.01,{"$f":"_xlfn.XLOOKUP(K7192,'Codes éco-part'!$C$6:$C$923,'Codes éco-part'!$B$6:$B$923)","v":"260"},0.01]
["DIY and gardening products EPR",4,"22152860521","Modulated","Garden upkeep and landscaping","Flower pots and containers","Limestone >90%","≥2 kg and <3 kg","€ / unit",0.02,0.02,{"$f":"_xlfn.XLOOKUP(K7197,'Codes éco-part'!$C$6:$C$923,'Codes éco-part'!$B$6:$B$923)","v":"047"},0.02]
["DIY and gardening products EPR",4,"22152860550",null,"Garden upkeep and landscaping","Flower pots and containers","Limestone >90%","≥7 kg and <10 kg","€ / unit",0.09,0.09,{"$f":"_xlfn.XLOOKUP(K7202,'Codes éco-part'!$C$6:$C$923,'Codes éco-part'!$B$6:$B$923)","v":"049"},0.11]
["DIY and gardening products EPR",4,"22152860571","Modulated","Garden upkeep and landscaping","Flower pots and containers","Limestone >90%","≥15 kg and <20 kg","€ / unit",0.16,0.16,{"$f":"_xlfn.XLOOKUP(K7207,'Codes éco-part'!$C$6:$C$923,'Codes éco-part'!$B$6:$B$923)","v":"099"},0.19]
["DIY and gardening products EPR",4,"22152870000",null,"Garden upkeep and landscaping","Flower pots and containers","Lava stone >90%","Elements of all sizes and weights","€ / ton",8.75,8.75,{"$f":"_xlfn.XLOOKUP(K7208,'Codes éco-part'!$C$6:$C$923,'Codes éco-part'!$B$6:$B$923)","v":"069"},10.5]
["DIY and gardening products EPR",4,"22152870211","Modulated","Garden upkeep and landscaping","Flower pots and containers","Lava stone >90%","≥0.5 kg and <1 kg","€ / unit",0.01,0.01,{"$f":"_xlfn.XLOOKUP(K7213,'Codes éco-part'!$C$6:$C$923,'Codes éco-part'!$B$6:$B$923)","v":"260"},0.01]
["DIY and gardening products EPR",4,"22152870530",null,"Garden upkeep and landscaping","Flower pots and containers","Lava stone >90%","≥3 kg and <5 kg","€ / unit",0.04,0.04,{"$f":"_xlfn.XLOOKUP(K7218,'Codes éco-part'!$C$6:$C$923,'Codes éco-part'!$B$6:$B$923)","v":"002"},0.05]
["DIY and gardening products EPR",4,"22152870551","Modulated","Garden upkeep and landscaping","Flower pots and containers","Lava stone >90%","≥7 kg and <10 kg","€ / unit",0.08,0.08,{"$f":"_xlfn.XLOOKUP(K7223,'Codes éco-part'!$C$6:$C$923,'Codes éco-part'!$B$6:$B$923)","v":"003"},0.1]
["DIY and gardening products EPR",4,"22152870560",null,"Garden upkeep and landscaping","Flower pots and containers","Lava stone >90%","≥10 kg and <15 kg","€ / unit",0.13,0.13,{"$f":"_xlfn.XLOOKUP(K7224,'Codes éco-part'!$C$6:$C$923,'Codes éco-part'!$B$6:$B$923)","v":"004"},0.16]
["DIY and gardening products EPR",4,"22152890001","Modulated","Garden upkeep and landscaping","Flower pots and containers","Raw earth or terracotta >90%","Elements of all sizes and weights","€ / ton",7.88,7.88,{"$f":"_xlfn.XLOOKUP(K7229,'Codes éco-part'!$C$6:$C$923,'Codes éco-part'!$B$6:$B$923)","v":"354"},9.4600000000000009]
["DIY and gardening products EPR",4,"22152890220",null,"Garden upkeep and landscaping","Flower pots and containers","Raw earth or terracotta >90%","≥1 kg and <2 kg","€ / unit",0.01,0.01,{"$f":"_xlfn.XLOOKUP(K7234,'Codes éco-part'!$C$6:$C$923,'Codes éco-part'!$B$6:$B$923)","v":"260"},{"$f":"ROUND(K7234*1.2,2)","v":0.01}]
["DIY and gardening products EPR",4,"22152890531","Modulated","Garden upkeep and landscaping","Flower pots and containers","Raw earth or terracotta >90%","≥3 kg and <5 kg","€ / unit",0.04,0.04,{"$f":"_xlfn.XLOOKUP(K7239,'Codes éco-part'!$C$6:$C$923,'Codes éco-part'!$B$6:$B$923)","v":"002"},0.05]
["DIY and gardening products EPR",4,"22152890540",null,"Garden upkeep and landscaping","Flower pots and containers","Raw earth or terracotta >90%","≥5 kg and <7 kg","€ / unit",0.06,0.06,{"$f":"_xlfn.XLOOKUP(K7240,'Codes éco-part'!$C$6:$C$923,'Codes éco-part'!$B$6:$B$923)","v":"096"},7.0000000000000007E-2]
["DIY and gardening products EPR",4,"22152890561","Modulated","Garden upkeep and landscaping","Flower pots and containers","Raw earth or terracotta >90%","≥10 kg and <15 kg","€ / unit",0.12,0.12,{"$f":"_xlfn.XLOOKUP(K7245,'Codes éco-part'!$C$6:$C$923,'Codes éco-part'!$B$6:$B$923)","v":"097"},0.14000000000000001]
["DIY and gardening products EPR",4,"22152900200",null,"Garden upkeep and landscaping","Flower pots and containers","Cement >90%","Strictly <0.5 kg","€ / unit",0.01,0.01,{"$f":"_xlfn.XLOOKUP(K7250,'Codes éco-part'!$C$6:$C$923,'Codes éco-part'!$B$6:$B$923)","v":"260"},0.01]
["DIY and gardening products EPR",4,"22152900221","Modulated","Garden upkeep and landscaping","Flower pots and containers","Cement >90%","≥1 kg and <2 kg","€ / unit",0.01,0.01,{"$f":"_xlfn.XLOOKUP(K7255,'Codes éco-part'!$C$6:$C$923,'Codes éco-part'!$B$6:$B$923)","v":"260"},0.01]
["DIY and gardening products EPR",4,"22152900520",null,"Garden upkeep and landscaping","Flower pots and containers","Cement >90%","≥2 kg and <3 kg","€ / unit",0.02,0.02,{"$f":"_xlfn.XLOOKUP(K7256,'Codes éco-part'!$C$6:$C$923,'Codes éco-part'!$B$6:$B$923)","v":"047"},0.02]
["DIY and gardening products EPR",4,"22152900541","Modulated","Garden upkeep and landscaping","Flower pots and containers","Cement >90%","≥5 kg and <7 kg","€ / unit",0.05,0.05,{"$f":"_xlfn.XLOOKUP(K7261,'Codes éco-part'!$C$6:$C$923,'Codes éco-part'!$B$6:$B$923)","v":"048"},0.06]
["DIY and gardening products EPR",4,"22152900570",null,"Garden upkeep and landscaping","Flower pots and containers","Cement >90%","≥15 kg and <20 kg","€ / unit",0.18,0.18,{"$f":"_xlfn.XLOOKUP(K7266,'Codes éco-part'!$C$6:$C$923,'Codes éco-part'!$B$6:$B$923)","v":"100"},0.22]
["DIY and gardening products EPR",4,"22152910201","Modulated","Garden upkeep and landscaping","Flower pots and containers","Granite >90%","Strictly <0.5 kg","€ / unit",0.01,0.01,{"$f":"_xlfn.XLOOKUP(K7271,'Codes éco-part'!$C$6:$C$923,'Codes éco-part'!$B$6:$B$923)","v":"260"},0.01]
["DIY and gardening products EPR",4,"22152910210",null,"Garden upkeep and landscaping","Flower pots and containers","Granite >90%","≥0.5 kg and <1 kg","€ / unit",0.01,0.01,{"$f":"_xlfn.XLOOKUP(K7272,'Codes éco-part'!$C$6:$C$923,'Codes éco-part'!$B$6:$B$923)","v":"260"},0.01]
["DIY and gardening products EPR",4,"22152910521","Modulated","Garden upkeep and landscaping","Flower pots and containers","Granite >90%","≥2 kg and <3 kg","€ / unit",0.02,0.02,{"$f":"_xlfn.XLOOKUP(K7277,'Codes éco-part'!$C$6:$C$923,'Codes éco-part'!$B$6:$B$923)","v":"047"},0.02]
["DIY and gardening products EPR",4,"22152910550",null,"Garden upkeep and landscaping","Flower pots and containers","Granite >90%","≥7 kg and <10 kg","€ / unit",0.09,0.09,{"$f":"_xlfn.XLOOKUP(K7282,'Codes éco-part'!$C$6:$C$923,'Codes éco-part'!$B$6:$B$923)","v":"049"},0.11]
["DIY and gardening products EPR",4,"22152910571","Modulated","Garden upkeep and landscaping","Flower pots and containers","Granite >90%","≥15 kg and <20 kg","€ / unit",0.16,0.16,{"$f":"_xlfn.XLOOKUP(K7287,'Codes éco-part'!$C$6:$C$923,'Codes éco-part'!$B$6:$B$923)","v":"099"},0.19]
["DIY and gardening products EPR",4,"22152940000",null,"Garden upkeep and landscaping","Flower pots and containers","Sandstone >90%","Elements of all sizes and weights","€ / ton",8.75,8.75,{"$f":"_xlfn.XLOOKUP(K7288,'Codes éco-part'!$C$6:$C$923,'Codes éco-part'!$B$6:$B$923)","v":"069"},10.5]
["DIY and gardening products EPR",4,"22152940211","Modulated","Garden upkeep and landscaping","Flower pots and containers","Sandstone >90%","≥0.5 kg and <1 kg","€ / unit",0.01,0.01,{"$f":"_xlfn.XLOOKUP(K7293,'Codes éco-part'!$C$6:$C$923,'Codes éco-part'!$B$6:$B$923)","v":"260"},0.01]
["DIY and gardening products EPR",4,"22152940530",null,"Garden upkeep and landscaping","Flower pots and containers","Sandstone >90%","≥3 kg and <5 kg","€ / unit",0.04,0.04,{"$f":"_xlfn.XLOOKUP(K7298,'Codes éco-part'!$C$6:$C$923,'Codes éco-part'!$B$6:$B$923)","v":"002"},{"$f":"ROUND(K7298*1.2,2)","v":0.05}]
["DIY and gardening products EPR",4,"22152940551","Modulated","Garden upkeep and landscaping","Flower pots and containers","Sandstone >90%","≥7 kg and <10 kg","€ / unit",0.08,0.08,{"$f":"_xlfn.XLOOKUP(K7303,'Codes éco-part'!$C$6:$C$923,'Codes éco-part'!$B$6:$B$923)","v":"003"},0.1]
["DIY and gardening products EPR",4,"22152940560",null,"Garden upkeep and landscaping","Flower pots and containers","Sandstone >90%","≥10 kg and <15 kg","€ / unit",0.13,0.13,{"$f":"_xlfn.XLOOKUP(K7304,'Codes éco-part'!$C$6:$C$923,'Codes éco-part'!$B$6:$B$923)","v":"004"},0.16]
["DIY and gardening products EPR",4,"22152970001","Modulated","Garden upkeep and landscaping","Flower pots and containers","Ceramic >90%","Elements of all sizes and weights","€ / ton",13.5,13.5,{"$f":"_xlfn.XLOOKUP(K7309,'Codes éco-part'!$C$6:$C$923,'Codes éco-part'!$B$6:$B$923)","v":952},16.2]
["DIY and gardening products EPR",4,"22152970220",null,"Garden upkeep and landscaping","Flower pots and containers","Ceramic >90%","≥1 kg and <2 kg","€ / unit",0.02,0.02,{"$f":"_xlfn.XLOOKUP(K7314,'Codes éco-part'!$C$6:$C$923,'Codes éco-part'!$B$6:$B$923)","v":"047"},0.02]
["DIY and gardening products EPR",4,"22152970531","Modulated","Garden upkeep and landscaping","Flower pots and containers","Ceramic >90%","≥3 kg and <5 kg","€ / unit",0.05,0.05,{"$f":"_xlfn.XLOOKUP(K7319,'Codes éco-part'!$C$6:$C$923,'Codes éco-part'!$B$6:$B$923)","v":"048"},0.06]
["DIY and gardening products EPR",4,"22152970540",null,"Garden upkeep and landscaping","Flower pots and containers","Ceramic >90%","≥5 kg and <7 kg","€ / unit",0.11,0.11,{"$f":"_xlfn.XLOOKUP(K7320,'Codes éco-part'!$C$6:$C$923,'Codes éco-part'!$B$6:$B$923)","v":"262"},0.13]
["DIY and gardening products EPR",4,"22152970561","Modulated","Garden upkeep and landscaping","Flower pots and containers","Ceramic >90%","≥10 kg and <15 kg","€ / unit",0.21,0.21,{"$f":"_xlfn.XLOOKUP(K7325,'Codes éco-part'!$C$6:$C$923,'Codes éco-part'!$B$6:$B$923)","v":"051"},0.25]
["DIY and gardening products EPR",4,"22152980200",null,"Garden upkeep and landscaping","Flower pots and containers","Artificial stone >90%","Strictly <0.5 kg","€ / unit",0.01,0.01,{"$f":"_xlfn.XLOOKUP(K7330,'Codes éco-part'!$C$6:$C$923,'Codes éco-part'!$B$6:$B$923)","v":"260"},0.01]
["DIY and gardening products EPR",4,"22152980221","Modulated","Garden upkeep and landscaping","Flower pots and containers","Artificial stone >90%","≥1 kg and <2 kg","€ / unit",0.01,0.01,{"$f":"_xlfn.XLOOKUP(K7335,'Codes éco-part'!$C$6:$C$923,'Codes éco-part'!$B$6:$B$923)","v":"260"},0.01]
["DIY and gardening products EPR",4,"22152980520",null,"Garden upkeep and landscaping","Flower pots and containers","Artificial stone >90%","≥2 kg and <3 kg","€ / unit",0.02,0.02,{"$f":"_xlfn.XLOOKUP(K7336,'Codes éco-part'!$C$6:$C$923,'Codes éco-part'!$B$6:$B$923)","v":"047"},0.02]
["DIY and gardening products EPR",4,"22152980541","Modulated","Garden upkeep and landscaping","Flower pots and containers","Artificial stone >90%","≥5 kg and <7 kg","€ / unit",0.05,0.05,{"$f":"_xlfn.XLOOKUP(K7341,'Codes éco-part'!$C$6:$C$923,'Codes éco-part'!$B$6:$B$923)","v":"048"},0.06]
["DIY and gardening products EPR",4,"22152980570",null,"Garden upkeep and landscaping","Flower pots and containers","Artificial stone >90%","≥15 kg and <20 kg","€ / unit",0.18,0.18,{"$f":"_xlfn.XLOOKUP(K7346,'Codes éco-part'!$C$6:$C$923,'Codes éco-part'!$B$6:$B$923)","v":"100"},0.22]
["DIY and gardening products EPR",4,"22153000201","Modulated","Garden upkeep and landscaping","Tarpaulins, covers, nets, and films for gardening","Unknown or unspecified by the company","Strictly <0.5 kg","€ / unit",7.0000000000000007E-2,7.0000000000000007E-2,{"$f":"_xlfn.XLOOKUP(K7351,'Codes éco-part'!$C$6:$C$923,'Codes éco-part'!$B$6:$B$923)","v":"247"},0.08]
["DIY and gardening products EPR",4,"22153000210",null,"Garden upkeep and landscaping","Tarpaulins, covers, nets, and films for gardening","Unknown or unspecified by the company","≥0.5 kg and <1 kg","€ / unit",0.24,0.24,{"$f":"_xlfn.XLOOKUP(K7352,'Codes éco-part'!$C$6:$C$923,'Codes éco-part'!$B$6:$B$923)","v":"248"},0.28999999999999998]
["DIY and gardening products EPR",4,"22153000521","Modulated","Garden upkeep and landscaping","Tarpaulins, covers, nets, and films for gardening","Unknown or unspecified by the company","≥2 kg and <3 kg","€ / unit",0.73,0.73,{"$f":"_xlfn.XLOOKUP(K7357,'Codes éco-part'!$C$6:$C$923,'Codes éco-part'!$B$6:$B$923)","v":"255"},0.88]
["DIY and gardening products EPR",4,"22153040000",null,"Garden upkeep and landscaping","Tarpaulins, covers, nets, and films for gardening","Biosourced materials or non-synthetic textiles >50%","Elements of all sizes and weights","€ / ton",322,322,{"$f":"_xlfn.XLOOKUP(K7362,'Codes éco-part'!$C$6:$C$923,'Codes éco-part'!$B$6:$B$923)","v":"607"},{"$f":"ROUND(K7362*1.2,2)","v":386.4}]
["DIY and gardening products EPR",4,"22153040211","Modulated","Garden upkeep and landscaping","Tarpaulins, covers, nets, and films for gardening","Biosourced materials or non-synthetic textiles >50%","≥0.5 kg and <1 kg","€ / unit",0.22,0.22,{"$f":"_xlfn.XLOOKUP(K7367,'Codes éco-part'!$C$6:$C$923,'Codes éco-part'!$B$6:$B$923)","v":"263"},0.26]
["DIY and gardening products EPR",4,"22153040220",null,"Garden upkeep and landscaping","Tarpaulins, covers, nets, and films for gardening","Biosourced materials or non-synthetic textiles >50%","≥1 kg and <2 kg","€ / unit",0.48,0.48,{"$f":"_xlfn.XLOOKUP(K7368,'Codes éco-part'!$C$6:$C$923,'Codes éco-part'!$B$6:$B$923)","v":"606"},0.57999999999999996]
["DIY and gardening products EPR",4,"22153040531","Modulated","Garden upkeep and landscaping","Tarpaulins, covers, nets, and films for gardening","Biosourced materials or non-synthetic textiles >50%","≥3 kg and <5 kg","€ / unit",1.1599999999999999,1.1599999999999999,{"$f":"_xlfn.XLOOKUP(K7373,'Codes éco-part'!$C$6:$C$923,'Codes éco-part'!$B$6:$B$923)","v":"504"},1.39]
["DIY and gardening products EPR",4,"22153050200",null,"Garden upkeep and landscaping","Tarpaulins, covers, nets, and films for gardening","Plastics or other synthetic materials >50%","Strictly <0.5 kg","€ / unit",0.08,0.08,{"$f":"_xlfn.XLOOKUP(K7378,'Codes éco-part'!$C$6:$C$923,'Codes éco-part'!$B$6:$B$923)","v":"003"},0.1]
["DIY and gardening products EPR",4,"22153050221","Modulated","Garden upkeep and landscaping","Tarpaulins, covers, nets, and films for gardening","Plastics or other synthetic materials >50%","≥1 kg and <2 kg","€ / unit",0.43,0.43,{"$f":"_xlfn.XLOOKUP(K7383,'Codes éco-part'!$C$6:$C$923,'Codes éco-part'!$B$6:$B$923)","v":"506"},0.52]
["DIY and gardening products EPR",4,"22153050520",null,"Garden upkeep and landscaping","Tarpaulins, covers, nets, and films for gardening","Plastics or other synthetic materials >50%","≥2 kg and <3 kg","€ / unit",0.81,0.81,{"$f":"_xlfn.XLOOKUP(K7384,'Codes éco-part'!$C$6:$C$923,'Codes éco-part'!$B$6:$B$923)","v":"112"},0.97]
["DIY and gardening products EPR",4,"22153050541","Modulated","Garden upkeep and landscaping","Tarpaulins, covers, nets, and films for gardening","Plastics or other synthetic materials >50%","≥5 kg and <7 kg","€ / unit",2.0299999999999998,2.0299999999999998,{"$f":"_xlfn.XLOOKUP(K7389,'Codes éco-part'!$C$6:$C$923,'Codes éco-part'!$B$6:$B$923)","v":937},2.44]
["DIY and gardening products EPR",4,"22153060210",null,"Garden upkeep and landscaping","Tarpaulins, covers, nets, and films for gardening","Materials of animal origin >50%","≥0.5 kg and <1 kg","€ / unit",0.24,0.24,{"$f":"_xlfn.XLOOKUP(K7394,'Codes éco-part'!$C$6:$C$923,'Codes éco-part'!$B$6:$B$923)","v":"248"},0.28999999999999998]
["DIY and gardening products EPR",4,"22153060520",null,"Garden upkeep and landscaping","Tarpaulins, covers, nets, and films for gardening","Materials of animal origin >50%","≥2 kg and <3 kg","€ / unit",0.81,0.81,{"$f":"_xlfn.XLOOKUP(K7398,'Codes éco-part'!$C$6:$C$923,'Codes éco-part'!$B$6:$B$923)","v":"112"},0.97]
["DIY and gardening products EPR",4,"22153060521","Modulated","Garden upkeep and landscaping","Tarpaulins, covers, nets, and films for gardening","Materials of animal origin >50%","≥2 kg and <3 kg","€ / unit",0.73,0.73,{"$f":"_xlfn.XLOOKUP(K7399,'Codes éco-part'!$C$6:$C$923,'Codes éco-part'!$B$6:$B$923)","v":"255"},0.88]
["DIY and gardening products EPR",4,"22153190000",null,"Garden upkeep and landscaping","Tarpaulins, covers, nets, and films for gardening","Cardboard >50% and other materials (excl. glass)","Elements of all sizes and weights","€ / ton",322,322,{"$f":"_xlfn.XLOOKUP(K7404,'Codes éco-part'!$C$6:$C$923,'Codes éco-part'!$B$6:$B$923)","v":"607"},386.4]
["DIY and gardening products EPR",4,"22153190211","Modulated","Garden upkeep and landscaping","Tarpaulins, covers, nets, and films for gardening","Cardboard >50% and other materials (excl. glass)","≥0.5 kg and <1 kg","€ / unit",0.22,0.22,{"$f":"_xlfn.XLOOKUP(K7409,'Codes éco-part'!$C$6:$C$923,'Codes éco-part'!$B$6:$B$923)","v":"263"},0.26]
["DIY and gardening products EPR",4,"22153190530",null,"Garden upkeep and landscaping","Tarpaulins, covers, nets, and films for gardening","Cardboard >50% and other materials (excl. glass)","≥3 kg and <5 kg","€ / unit",1.29,1.29,{"$f":"_xlfn.XLOOKUP(K7414,'Codes éco-part'!$C$6:$C$923,'Codes éco-part'!$B$6:$B$923)","v":"608"},1.55]
["DIY and gardening products EPR",4,"22153190531","Modulated","Garden upkeep and landscaping","Tarpaulins, covers, nets, and films for gardening","Cardboard >50% and other materials (excl. glass)","≥3 kg and <5 kg","€ / unit",1.1599999999999999,1.1599999999999999,{"$f":"_xlfn.XLOOKUP(K7415,'Codes éco-part'!$C$6:$C$923,'Codes éco-part'!$B$6:$B$923)","v":"504"},1.39]
["DIY and gardening products EPR",4,"22153400200",null,"Garden upkeep and landscaping","Tarpaulins, covers, nets, and films for gardening","Assembly of synthetic rubber or latex >50% and other materials","Strictly <0.5 kg","€ / unit",0.08,0.08,{"$f":"_xlfn.XLOOKUP(K7420,'Codes éco-part'!$C$6:$C$923,'Codes éco-part'!$B$6:$B$923)","v":"003"},0.1]
["DIY and gardening products EPR",4,"22153400221","Modulated","Garden upkeep and landscaping","Tarpaulins, covers, nets, and films for gardening","Assembly of synthetic rubber or latex >50% and other materials","≥1 kg and <2 kg","€ / unit",0.43,0.43,{"$f":"_xlfn.XLOOKUP(K7425,'Codes éco-part'!$C$6:$C$923,'Codes éco-part'!$B$6:$B$923)","v":"506"},0.52]
["DIY and gardening products EPR",4,"22153400540",null,"Garden upkeep and landscaping","Tarpaulins, covers, nets, and films for gardening","Assembly of synthetic rubber or latex >50% and other materials","≥5 kg and <7 kg","€ / unit",2.25,2.25,{"$f":"_xlfn.XLOOKUP(K7430,'Codes éco-part'!$C$6:$C$923,'Codes éco-part'!$B$6:$B$923)","v":"118"},2.7]
["DIY and gardening products EPR",4,"22153400541","Modulated","Garden upkeep and landscaping","Tarpaulins, covers, nets, and films for gardening","Assembly of synthetic rubber or latex >50% and other materials","≥5 kg and <7 kg","€ / unit",2.0299999999999998,2.0299999999999998,{"$f":"_xlfn.XLOOKUP(K7431,'Codes éco-part'!$C$6:$C$923,'Codes éco-part'!$B$6:$B$923)","v":937},2.44]
["DIY and gardening products EPR",4,"22153410210",null,"Garden upkeep and landscaping","Tarpaulins, covers, nets, and films for gardening","Plastic (single-resin) >90%","≥0.5 kg and <1 kg","€ / unit",0.15,0.15,{"$f":"_xlfn.XLOOKUP(K7436,'Codes éco-part'!$C$6:$C$923,'Codes éco-part'!$B$6:$B$923)","v":"050"},0.18]
["DIY and gardening products EPR",4,"22153410521","Modulated","Garden upkeep and landscaping","Tarpaulins, covers, nets, and films for gardening","Plastic (single-resin) >90%","≥2 kg and <3 kg","€ / unit",0.45,0.45,{"$f":"_xlfn.XLOOKUP(K7441,'Codes éco-part'!$C$6:$C$923,'Codes éco-part'!$B$6:$B$923)","v":"325"},0.54]
["DIY and gardening products EPR",4,"22153420000",null,"Garden upkeep and landscaping","Tarpaulins, covers, nets, and films for gardening","Polyethylene terephthalate (PET) >90%","Elements of all sizes and weights","€ / ton",200,200,{"$f":"_xlfn.XLOOKUP(K7446,'Codes éco-part'!$C$6:$C$923,'Codes éco-part'!$B$6:$B$923)","v":"601"},240]
["DIY and gardening products EPR",4,"22153420001","Modulated","Garden upkeep and landscaping","Tarpaulins, covers, nets, and films for gardening","Polyethylene terephthalate (PET) >90%","Elements of all sizes and weights","€ / ton",180,180,{"$f":"_xlfn.XLOOKUP(K7447,'Codes éco-part'!$C$6:$C$923,'Codes éco-part'!$B$6:$B$923)","v":941},216]
["DIY and gardening products EPR",4,"22153420220",null,"Garden upkeep and landscaping","Tarpaulins, covers, nets, and films for gardening","Polyethylene terephthalate (PET) >90%","≥1 kg and <2 kg","€ / unit",0.3,0.3,{"$f":"_xlfn.XLOOKUP(K7452,'Codes éco-part'!$C$6:$C$923,'Codes éco-part'!$B$6:$B$923)","v":"446"},0.36]
["DIY and gardening products EPR",4,"22153420531","Modulated","Garden upkeep and landscaping","Tarpaulins, covers, nets, and films for gardening","Polyethylene terephthalate (PET) >90%","≥3 kg and <5 kg","€ / unit",0.72,0.72,{"$f":"_xlfn.XLOOKUP(K7457,'Codes éco-part'!$C$6:$C$923,'Codes éco-part'!$B$6:$B$923)","v":"454"},0.86]
["DIY and gardening products EPR",4,"22153450200",null,"Garden upkeep and landscaping","Tarpaulins, covers, nets, and films for gardening","PE or PP or PP/PE mix >90%","Strictly <0.5 kg","€ / unit",0.05,0.05,{"$f":"_xlfn.XLOOKUP(K7462,'Codes éco-part'!$C$6:$C$923,'Codes éco-part'!$B$6:$B$923)","v":"048"},0.06]
["DIY and gardening products EPR",4,"22153450201","Modulated","Garden upkeep and landscaping","Tarpaulins, covers, nets, and films for gardening","PE or PP or PP/PE mix >90%","Strictly <0.5 kg","€ / unit",0.05,0.05,{"$f":"_xlfn.XLOOKUP(K7463,'Codes éco-part'!$C$6:$C$923,'Codes éco-part'!$B$6:$B$923)","v":"048"},0.06]
["DIY and gardening products EPR",4,"22153450520",null,"Garden upkeep and landscaping","Tarpaulins, covers, nets, and films for gardening","PE or PP or PP/PE mix >90%","≥2 kg and <3 kg","€ / unit",0.5,0.5,{"$f":"_xlfn.XLOOKUP(K7468,'Codes éco-part'!$C$6:$C$923,'Codes éco-part'!$B$6:$B$923)","v":"053"},0.6]
["DIY and gardening products EPR",4,"22153450541","Modulated","Garden upkeep and landscaping","Tarpaulins, covers, nets, and films for gardening","PE or PP or PP/PE mix >90%","≥5 kg and <7 kg","€ / unit",1.26,1.26,{"$f":"_xlfn.XLOOKUP(K7473,'Codes éco-part'!$C$6:$C$923,'Codes éco-part'!$B$6:$B$923)","v":"568"},1.51]
["DIY and gardening products EPR",4,"22153460210",null,"Garden upkeep and landscaping","Tarpaulins, covers, nets, and films for gardening","ABS >90%","≥0.5 kg and <1 kg","€ / unit",0.15,0.15,{"$f":"_xlfn.XLOOKUP(K7478,'Codes éco-part'!$C$6:$C$923,'Codes éco-part'!$B$6:$B$923)","v":"050"},0.18]
["DIY and gardening products EPR",4,"22153460211","Modulated","Garden upkeep and landscaping","Tarpaulins, covers, nets, and films for gardening","ABS >90%","≥0.5 kg and <1 kg","€ / unit",0.14000000000000001,0.14000000000000001,{"$f":"_xlfn.XLOOKUP(K7479,'Codes éco-part'!$C$6:$C$923,'Codes éco-part'!$B$6:$B$923)","v":"098"},0.17]
["DIY and gardening products EPR",4,"22153460530",null,"Garden upkeep and landscaping","Tarpaulins, covers, nets, and films for gardening","ABS >90%","≥3 kg and <5 kg","€ / unit",0.8,0.8,{"$f":"_xlfn.XLOOKUP(K7484,'Codes éco-part'!$C$6:$C$923,'Codes éco-part'!$B$6:$B$923)","v":"456"},0.96]
["DIY and gardening products EPR",4,"22153470001","Modulated","Garden upkeep and landscaping","Tarpaulins, covers, nets, and films for gardening","Polystyrene >90%","Elements of all sizes and weights","€ / ton",180,180,{"$f":"_xlfn.XLOOKUP(K7489,'Codes éco-part'!$C$6:$C$923,'Codes éco-part'!$B$6:$B$923)","v":941},216]
["DIY and gardening products EPR",4,"22153470220",null,"Garden upkeep and landscaping","Tarpaulins, covers, nets, and films for gardening","Polystyrene >90%","≥1 kg and <2 kg","€ / unit",0.3,0.3,{"$f":"_xlfn.XLOOKUP(K7494,'Codes éco-part'!$C$6:$C$923,'Codes éco-part'!$B$6:$B$923)","v":"446"},0.36]
["DIY and gardening products EPR",4,"22153470221","Modulated","Garden upkeep and landscaping","Tarpaulins, covers, nets, and films for gardening","Polystyrene >90%","≥1 kg and <2 kg","€ / unit",0.27,0.27,{"$f":"_xlfn.XLOOKUP(K7495,'Codes éco-part'!$C$6:$C$923,'Codes éco-part'!$B$6:$B$923)","v":"103"},0.32]
["DIY and gardening products EPR",4,"22153470540",null,"Garden upkeep and landscaping","Tarpaulins, covers, nets, and films for gardening","Polystyrene >90%","≥5 kg and <7 kg","€ / unit",1.4,1.4,{"$f":"_xlfn.XLOOKUP(K7500,'Codes éco-part'!$C$6:$C$923,'Codes éco-part'!$B$6:$B$923)","v":"463"},1.68]
["DIY and gardening products EPR",4,"22153480201","Modulated","Garden upkeep and landscaping","Tarpaulins, covers, nets, and films for gardening","PVC >90%","Strictly <0.5 kg","€ / unit",0.05,0.05,{"$f":"_xlfn.XLOOKUP(K7505,'Codes éco-part'!$C$6:$C$923,'Codes éco-part'!$B$6:$B$923)","v":"048"},0.06]
["DIY and gardening products EPR",4,"22153480520",null,"Garden upkeep and landscaping","Tarpaulins, covers, nets, and films for gardening","PVC >90%","≥2 kg and <3 kg","€ / unit",0.5,0.5,{"$f":"_xlfn.XLOOKUP(K7510,'Codes éco-part'!$C$6:$C$923,'Codes éco-part'!$B$6:$B$923)","v":"053"},0.6]
["DIY and gardening products EPR",4,"22153480521","Modulated","Garden upkeep and landscaping","Tarpaulins, covers, nets, and films for gardening","PVC >90%","≥2 kg and <3 kg","€ / unit",0.45,0.45,{"$f":"_xlfn.XLOOKUP(K7511,'Codes éco-part'!$C$6:$C$923,'Codes éco-part'!$B$6:$B$923)","v":"325"},0.54]
["DIY and gardening products EPR",4,"22153490000",null,"Garden upkeep and landscaping","Tarpaulins, covers, nets, and films for gardening","Synthetic rubber >90%","Elements of all sizes and weights","€ / ton",200,200,{"$f":"_xlfn.XLOOKUP(K7516,'Codes éco-part'!$C$6:$C$923,'Codes éco-part'!$B$6:$B$923)","v":"601"},240]
["DIY and gardening products EPR",4,"22153490211","Modulated","Garden upkeep and landscaping","Tarpaulins, covers, nets, and films for gardening","Synthetic rubber >90%","≥0.5 kg and <1 kg","€ / unit",0.14000000000000001,0.14000000000000001,{"$f":"_xlfn.XLOOKUP(K7521,'Codes éco-part'!$C$6:$C$923,'Codes éco-part'!$B$6:$B$923)","v":"098"},0.17]
["DIY and gardening products EPR",4,"22153490530",null,"Garden upkeep and landscaping","Tarpaulins, covers, nets, and films for gardening","Synthetic rubber >90%","≥3 kg and <5 kg","€ / unit",0.8,0.8,{"$f":"_xlfn.XLOOKUP(K7526,'Codes éco-part'!$C$6:$C$923,'Codes éco-part'!$B$6:$B$923)","v":"456"},0.96]
["DIY and gardening products EPR",4,"22153490531","Modulated","Garden upkeep and landscaping","Tarpaulins, covers, nets, and films for gardening","Synthetic rubber >90%","≥3 kg and <5 kg","€ / unit",0.72,0.72,{"$f":"_xlfn.XLOOKUP(K7527,'Codes éco-part'!$C$6:$C$923,'Codes éco-part'!$B$6:$B$923)","v":"454"},0.86]
["DIY and gardening products EPR",4,"22153550200",null,"Garden upkeep and landscaping","Tarpaulins, covers, nets, and films for gardening","Biosourced materials or non-synthetic textiles >90%","Strictly <0.5 kg","€ / unit",0.02,0.02,{"$f":"_xlfn.XLOOKUP(K7532,'Codes éco-part'!$C$6:$C$923,'Codes éco-part'!$B$6:$B$923)","v":"047"},0.02]
["DIY and gardening products EPR",4,"22153550221","Modulated","Garden upkeep and landscaping","Tarpaulins, covers, nets, and films for gardening","Biosourced materials or non-synthetic textiles >90%","≥1 kg and <2 kg","€ / unit",0.09,0.09,{"$f":"_xlfn.XLOOKUP(K7537,'Codes éco-part'!$C$6:$C$923,'Codes éco-part'!$B$6:$B$923)","v":"049"},0.11]
["DIY and gardening products EPR",4,"22153550540",null,"Garden upkeep and landscaping","Tarpaulins, covers, nets, and films for gardening","Biosourced materials or non-synthetic textiles >90%","≥5 kg and <7 kg","€ / unit",0.46,0.46,{"$f":"_xlfn.XLOOKUP(K7542,'Codes éco-part'!$C$6:$C$923,'Codes éco-part'!$B$6:$B$923)","v":"106"},0.55000000000000004]
["DIY and gardening products EPR",4,"22153550541","Modulated","Garden upkeep and landscaping","Tarpaulins, covers, nets, and films for gardening","Biosourced materials or non-synthetic textiles >90%","≥5 kg and <7 kg","€ / unit",0.41,0.41,{"$f":"_xlfn.XLOOKUP(K7543,'Codes éco-part'!$C$6:$C$923,'Codes éco-part'!$B$6:$B$923)","v":"503"},0.49]
["DIY and gardening products EPR",4,"22153630210",null,"Garden upkeep and landscaping","Tarpaulins, covers, nets, and films for gardening","Natural rubber >90%","≥0.5 kg and <1 kg","€ / unit",0.05,0.05,{"$f":"_xlfn.XLOOKUP(K7548,'Codes éco-part'!$C$6:$C$923,'Codes éco-part'!$B$6:$B$923)","v":"048"},0.06]
["DIY and gardening products EPR",4,"22153630521","Modulated","Garden upkeep and landscaping","Tarpaulins, covers, nets, and films for gardening","Natural rubber >90%","≥2 kg and <3 kg","€ / unit",0.14000000000000001,0.14000000000000001,{"$f":"_xlfn.XLOOKUP(K7553,'Codes éco-part'!$C$6:$C$923,'Codes éco-part'!$B$6:$B$923)","v":"098"},0.17]
["DIY and gardening products EPR",4,"22153640000",null,"Garden upkeep and landscaping","Tarpaulins, covers, nets, and films for gardening","Natural rubber >50%","Elements of all sizes and weights","€ / ton",322,322,{"$f":"_xlfn.XLOOKUP(K7558,'Codes éco-part'!$C$6:$C$923,'Codes éco-part'!$B$6:$B$923)","v":"607"},386.4]
["DIY and gardening products EPR",4,"22153640001","Modulated","Garden upkeep and landscaping","Tarpaulins, covers, nets, and films for gardening","Natural rubber >50%","Elements of all sizes and weights","€ / ton",289.8,289.8,{"$f":"_xlfn.XLOOKUP(K7559,'Codes éco-part'!$C$6:$C$923,'Codes éco-part'!$B$6:$B$923)","v":936},347.76]
["DIY and gardening products EPR",4,"22153640220",null,"Garden upkeep and landscaping","Tarpaulins, covers, nets, and films for gardening","Natural rubber >50%","≥1 kg and <2 kg","€ / unit",0.48,0.48,{"$f":"_xlfn.XLOOKUP(K7564,'Codes éco-part'!$C$6:$C$923,'Codes éco-part'!$B$6:$B$923)","v":"606"},0.57999999999999996]
["DIY and gardening products EPR",4,"22153640531","Modulated","Garden upkeep and landscaping","Tarpaulins, covers, nets, and films for gardening","Natural rubber >50%","≥3 kg and <5 kg","€ / unit",1.1599999999999999,1.1599999999999999,{"$f":"_xlfn.XLOOKUP(K7569,'Codes éco-part'!$C$6:$C$923,'Codes éco-part'!$B$6:$B$923)","v":"504"},1.39]
["DIY and gardening products EPR",4,"22153650200",null,"Garden upkeep and landscaping","Tarpaulins, covers, nets, and films for gardening","Synthetic fibres or materials >90%","Strictly <0.5 kg","€ / unit",0.05,0.05,{"$f":"_xlfn.XLOOKUP(K7574,'Codes éco-part'!$C$6:$C$923,'Codes éco-part'!$B$6:$B$923)","v":"048"},0.06]
["DIY and gardening products EPR",4,"22153650201","Modulated","Garden upkeep and landscaping","Tarpaulins, covers, nets, and films for gardening","Synthetic fibres or materials >90%","Strictly <0.5 kg","€ / unit",0.05,0.05,{"$f":"_xlfn.XLOOKUP(K7575,'Codes éco-part'!$C$6:$C$923,'Codes éco-part'!$B$6:$B$923)","v":"048"},0.06]
["DIY and gardening products EPR",4,"22153650520",null,"Garden upkeep and landscaping","Tarpaulins, covers, nets, and films for gardening","Synthetic fibres or materials >90%","≥2 kg and <3 kg","€ / unit",0.5,0.5,{"$f":"_xlfn.XLOOKUP(K7580,'Codes éco-part'!$C$6:$C$923,'Codes éco-part'!$B$6:$B$923)","v":"053"},0.6]
["DIY and gardening products EPR",4,"22153650541","Modulated","Garden upkeep and landscaping","Tarpaulins, covers, nets, and films for gardening","Synthetic fibres or materials >90%","≥5 kg and <7 kg","€ / unit",1.26,1.26,{"$f":"_xlfn.XLOOKUP(K7585,'Codes éco-part'!$C$6:$C$923,'Codes éco-part'!$B$6:$B$923)","v":"568"},1.51]
["DIY and gardening products EPR",4,"22153670210",null,"Garden upkeep and landscaping","Tarpaulins, covers, nets, and films for gardening","Assembly of synthetic fibres and/or materials >50% and other materials","≥0.5 kg and <1 kg","€ / unit",0.24,0.24,{"$f":"_xlfn.XLOOKUP(K7590,'Codes éco-part'!$C$6:$C$923,'Codes éco-part'!$B$6:$B$923)","v":"248"},0.28999999999999998]
["DIY and gardening products EPR",4,"22153670211","Modulated","Garden upkeep and landscaping","Tarpaulins, covers, nets, and films for gardening","Assembly of synthetic fibres and/or materials >50% and other materials","≥0.5 kg and <1 kg","€ / unit",0.22,0.22,{"$f":"_xlfn.XLOOKUP(K7591,'Codes éco-part'!$C$6:$C$923,'Codes éco-part'!$B$6:$B$923)","v":"263"},0.26]
["DIY and gardening products EPR",4,"22153670530",null,"Garden upkeep and landscaping","Tarpaulins, covers, nets, and films for gardening","Assembly of synthetic fibres and/or materials >50% and other materials","≥3 kg and <5 kg","€ / unit",1.29,1.29,{"$f":"_xlfn.XLOOKUP(K7596,'Codes éco-part'!$C$6:$C$923,'Codes éco-part'!$B$6:$B$923)","v":"608"},1.55]
["DIY and gardening products EPR",4,"22153820001","Modulated","Garden upkeep and landscaping","Tarpaulins, covers, nets, and films for gardening","Assembly of 3 or more materials, with no material representing >50%","Elements of all sizes and weights","€ / ton",289.8,289.8,{"$f":"_xlfn.XLOOKUP(K7601,'Codes éco-part'!$C$6:$C$923,'Codes éco-part'!$B$6:$B$923)","v":936},347.76]
["DIY and gardening products EPR",4,"22153820220",null,"Garden upkeep and landscaping","Tarpaulins, covers, nets, and films for gardening","Assembly of 3 or more materials, with no material representing >50%","≥1 kg and <2 kg","€ / unit",0.48,0.48,{"$f":"_xlfn.XLOOKUP(K7606,'Codes éco-part'!$C$6:$C$923,'Codes éco-part'!$B$6:$B$923)","v":"606"},0.57999999999999996]
["DIY and gardening products EPR",4,"22153820221","Modulated","Garden upkeep and landscaping","Tarpaulins, covers, nets, and films for gardening","Assembly of 3 or more materials, with no material representing >50%","≥1 kg and <2 kg","€ / unit",0.43,0.43,{"$f":"_xlfn.XLOOKUP(K7607,'Codes éco-part'!$C$6:$C$923,'Codes éco-part'!$B$6:$B$923)","v":"506"},0.52]
["DIY and gardening products EPR",4,"22153820540",null,"Garden upkeep and landscaping","Tarpaulins, covers, nets, and films for gardening","Assembly of 3 or more materials, with no material representing >50%","≥5 kg and <7 kg","€ / unit",2.25,2.25,{"$f":"_xlfn.XLOOKUP(K7612,'Codes éco-part'!$C$6:$C$923,'Codes éco-part'!$B$6:$B$923)","v":"118"},2.7]
["DIY and gardening products EPR",4,"22154000201","Modulated","Garden upkeep and landscaping","Outdoor equipment and accessories (excl. tarpaulins, nets, and covers)","Unknown or unspecified by the company","Strictly <0.5 kg","€ / unit",0.02,0.02,{"$f":"_xlfn.XLOOKUP(K7617,'Codes éco-part'!$C$6:$C$923,'Codes éco-part'!$B$6:$B$923)","v":"047"},0.02]
["DIY and gardening products EPR",4,"22154000270",null,"Garden upkeep and landscaping","Outdoor equipment and accessories (excl. tarpaulins, nets, and covers)","Unknown or unspecified by the company","≥30 kg and <40 kg","€ / unit",3.6,3.6,{"$f":"_xlfn.XLOOKUP(K7622,'Codes éco-part'!$C$6:$C$923,'Codes éco-part'!$B$6:$B$923)","v":"610"},4.32]
["DIY and gardening products EPR",4,"22154000271","Modulated","Garden upkeep and landscaping","Outdoor equipment and accessories (excl. tarpaulins, nets, and covers)","Unknown or unspecified by the company","≥30 kg and <40 kg","€ / unit",3.24,3.24,{"$f":"_xlfn.XLOOKUP(K7623,'Codes éco-part'!$C$6:$C$923,'Codes éco-part'!$B$6:$B$923)","v":944},3.89]
["DIY and gardening products EPR",4,"22154000540",null,"Garden upkeep and landscaping","Outdoor equipment and accessories (excl. tarpaulins, nets, and covers)","Unknown or unspecified by the company","≥5 kg and <7 kg","€ / unit",0.63,0.63,{"$f":"_xlfn.XLOOKUP(K7628,'Codes éco-part'!$C$6:$C$923,'Codes éco-part'!$B$6:$B$923)","v":"297"},0.76]
["DIY and gardening products EPR",4,"22154000561","Modulated","Garden upkeep and landscaping","Outdoor equipment and accessories (excl. tarpaulins, nets, and covers)","Unknown or unspecified by the company","≥10 kg and <15 kg","€ / unit",1.22,1.22,{"$f":"_xlfn.XLOOKUP(K7633,'Codes éco-part'!$C$6:$C$923,'Codes éco-part'!$B$6:$B$923)","v":"636"},1.46]
["DIY and gardening products EPR",4,"22154000590",null,"Garden upkeep and landscaping","Outdoor equipment and accessories (excl. tarpaulins, nets, and covers)","Unknown or unspecified by the company","≥25 kg and <30 kg","€ / unit",2.7,2.7,{"$f":"_xlfn.XLOOKUP(K7638,'Codes éco-part'!$C$6:$C$923,'Codes éco-part'!$B$6:$B$923)","v":"611"},3.24]
["DIY and gardening products EPR",4,"22154000591","Modulated","Garden upkeep and landscaping","Outdoor equipment and accessories (excl. tarpaulins, nets, and covers)","Unknown or unspecified by the company","≥25 kg and <30 kg","€ / unit",2.4300000000000002,2.4300000000000002,{"$f":"_xlfn.XLOOKUP(K7639,'Codes éco-part'!$C$6:$C$923,'Codes éco-part'!$B$6:$B$923)","v":"471"},2.92]
["DIY and gardening products EPR",4,"22154010200",null,"Garden upkeep and landscaping","Outdoor equipment and accessories (excl. tarpaulins, nets, and covers)","Assembly of wood and/or wood derivatives >50% and other materials or composite wood (excl. glass)","Strictly <0.5 kg","€ / unit",0.01,0.01,{"$f":"_xlfn.XLOOKUP(K7644,'Codes éco-part'!$C$6:$C$923,'Codes éco-part'!$B$6:$B$923)","v":"260"},0.01]
["DIY and gardening products EPR",4,"22154010221","Modulated","Garden upkeep and landscaping","Outdoor equipment and accessories (excl. tarpaulins, nets, and covers)","Assembly of wood and/or wood derivatives >50% and other materials or composite wood (excl. glass)","≥1 kg and <2 kg","€ / unit",0.02,0.02,{"$f":"_xlfn.XLOOKUP(K7649,'Codes éco-part'!$C$6:$C$923,'Codes éco-part'!$B$6:$B$923)","v":"047"},0.02]
["DIY and gardening products EPR",4,"22154010530",null,"Garden upkeep and landscaping","Outdoor equipment and accessories (excl. tarpaulins, nets, and covers)","Assembly of wood and/or wood derivatives >50% and other materials or composite wood (excl. glass)","≥3 kg and <5 kg","€ / unit",0.05,0.05,{"$f":"_xlfn.XLOOKUP(K7654,'Codes éco-part'!$C$6:$C$923,'Codes éco-part'!$B$6:$B$923)","v":"048"},0.06]
["DIY and gardening products EPR",4,"22154010531","Modulated","Garden upkeep and landscaping","Outdoor equipment and accessories (excl. tarpaulins, nets, and covers)","Assembly of wood and/or wood derivatives >50% and other materials or composite wood (excl. glass)","≥3 kg and <5 kg","€ / unit",0.05,0.05,{"$f":"_xlfn.XLOOKUP(K7655,'Codes éco-part'!$C$6:$C$923,'Codes éco-part'!$B$6:$B$923)","v":"048"},0.06]
["DIY and gardening products EPR",4,"22154010551","Modulated","Garden upkeep and landscaping","Outdoor equipment and accessories (excl. tarpaulins, nets, and covers)","Assembly of wood and/or wood derivatives >50% and other materials or composite wood (excl. glass)","≥7 kg and <10 kg","€ / unit",0.12,0.12,{"$f":"_xlfn.XLOOKUP(K7659,'Codes éco-part'!$C$6:$C$923,'Codes éco-part'!$B$6:$B$923)","v":"097"},0.14000000000000001]
["DIY and gardening products EPR",4,"22154010580",null,"Garden upkeep and landscaping","Outdoor equipment and accessories (excl. tarpaulins, nets, and covers)","Assembly of wood and/or wood derivatives >50% and other materials or composite wood (excl. glass)","≥20 kg and <25 kg","€ / unit",0.33,0.33,{"$f":"_xlfn.XLOOKUP(K7664,'Codes éco-part'!$C$6:$C$923,'Codes éco-part'!$B$6:$B$923)","v":"006"},0.4]
["DIY and gardening products EPR",4,"22154010601","Modulated","Garden upkeep and landscaping","Outdoor equipment and accessories (excl. tarpaulins, nets, and covers)","Assembly of wood and/or wood derivatives >50% and other materials or composite wood (excl. glass)","≥40 kg and <50 kg","€ / unit",0.59,0.59,{"$f":"_xlfn.XLOOKUP(K7669,'Codes éco-part'!$C$6:$C$923,'Codes éco-part'!$B$6:$B$923)","v":"254"},0.71]
["DIY and gardening products EPR",4,"22154020000",null,"Garden upkeep and landscaping","Outdoor equipment and accessories (excl. tarpaulins, nets, and covers)","Assembly of metal >50% and other materials","Elements of all sizes and weights","€ / ton",4.5,4.5,{"$f":"_xlfn.XLOOKUP(K7670,'Codes éco-part'!$C$6:$C$923,'Codes éco-part'!$B$6:$B$923)","v":"127"},5.4]
["DIY and gardening products EPR",4,"22154020211","Modulated","Garden upkeep and landscaping","Outdoor equipment and accessories (excl. tarpaulins, nets, and covers)","Assembly of metal >50% and other materials","≥0.5 kg and <1 kg","€ / unit",0.01,0.01,{"$f":"_xlfn.XLOOKUP(K7675,'Codes éco-part'!$C$6:$C$923,'Codes éco-part'!$B$6:$B$923)","v":"260"},0.01]
["DIY and gardening products EPR",4,"22154020520",null,"Garden upkeep and landscaping","Outdoor equipment and accessories (excl. tarpaulins, nets, and covers)","Assembly of metal >50% and other materials","≥2 kg and <3 kg","€ / unit",0.01,0.01,{"$f":"_xlfn.XLOOKUP(K7680,'Codes éco-part'!$C$6:$C$923,'Codes éco-part'!$B$6:$B$923)","v":"260"},0.01]
["DIY and gardening products EPR",4,"22154020541","Modulated","Garden upkeep and landscaping","Outdoor equipment and accessories (excl. tarpaulins, nets, and covers)","Assembly of metal >50% and other materials","≥5 kg and <7 kg","€ / unit",0.03,0.03,{"$f":"_xlfn.XLOOKUP(K7685,'Codes éco-part'!$C$6:$C$923,'Codes éco-part'!$B$6:$B$923)","v":"092"},0.04]
["DIY and gardening products EPR",4,"22154020550",null,"Garden upkeep and landscaping","Outdoor equipment and accessories (excl. tarpaulins, nets, and covers)","Assembly of metal >50% and other materials","≥7 kg and <10 kg","€ / unit",0.05,0.05,{"$f":"_xlfn.XLOOKUP(K7686,'Codes éco-part'!$C$6:$C$923,'Codes éco-part'!$B$6:$B$923)","v":"048"},0.06]
["DIY and gardening products EPR",4,"22154020571","Modulated","Garden upkeep and landscaping","Outdoor equipment and accessories (excl. tarpaulins, nets, and covers)","Assembly of metal >50% and other materials","≥15 kg and <20 kg","€ / unit",0.08,0.08,{"$f":"_xlfn.XLOOKUP(K7691,'Codes éco-part'!$C$6:$C$923,'Codes éco-part'!$B$6:$B$923)","v":"003"},0.1]
["DIY and gardening products EPR",4,"22154020600",null,"Garden upkeep and landscaping","Outdoor equipment and accessories (excl. tarpaulins, nets, and covers)","Assembly of metal >50% and other materials","≥40 kg and <50 kg","€ / unit",0.23,0.23,{"$f":"_xlfn.XLOOKUP(K7696,'Codes éco-part'!$C$6:$C$923,'Codes éco-part'!$B$6:$B$923)","v":"323"},0.28000000000000003]
["DIY and gardening products EPR",4,"22154040201","Modulated","Garden upkeep and landscaping","Outdoor equipment and accessories (excl. tarpaulins, nets, and covers)","Biosourced materials or non-synthetic textiles >50%","Strictly <0.5 kg","€ / unit",0.02,0.02,{"$f":"_xlfn.XLOOKUP(K7701,'Codes éco-part'!$C$6:$C$923,'Codes éco-part'!$B$6:$B$923)","v":"047"},0.02]
["DIY and gardening products EPR",4,"22154040210",null,"Garden upkeep and landscaping","Outdoor equipment and accessories (excl. tarpaulins, nets, and covers)","Biosourced materials or non-synthetic textiles >50%","≥0.5 kg and <1 kg","€ / unit",7.0000000000000007E-2,7.0000000000000007E-2,{"$f":"_xlfn.XLOOKUP(K7702,'Codes éco-part'!$C$6:$C$923,'Codes éco-part'!$B$6:$B$923)","v":"247"},0.08]
["DIY and gardening products EPR",4,"22154040271","Modulated","Garden upkeep and landscaping","Outdoor equipment and accessories (excl. tarpaulins, nets, and covers)","Biosourced materials or non-synthetic textiles >50%","≥30 kg and <40 kg","€ / unit",3.24,3.24,{"$f":"_xlfn.XLOOKUP(K7707,'Codes éco-part'!$C$6:$C$923,'Codes éco-part'!$B$6:$B$923)","v":944},3.89]
["DIY and gardening products EPR",4,"22154040540",null,"Garden upkeep and landscaping","Outdoor equipment and accessories (excl. tarpaulins, nets, and covers)","Biosourced materials or non-synthetic textiles >50%","≥5 kg and <7 kg","€ / unit",0.63,0.63,{"$f":"_xlfn.XLOOKUP(K7712,'Codes éco-part'!$C$6:$C$923,'Codes éco-part'!$B$6:$B$923)","v":"297"},0.76]
["DIY and gardening products EPR",4,"22154040561","Modulated","Garden upkeep and landscaping","Outdoor equipment and accessories (excl. tarpaulins, nets, and covers)","Biosourced materials or non-synthetic textiles >50%","≥10 kg and <15 kg","€ / unit",1.22,1.22,{"$f":"_xlfn.XLOOKUP(K7717,'Codes éco-part'!$C$6:$C$923,'Codes éco-part'!$B$6:$B$923)","v":"636"},1.46]
["DIY and gardening products EPR",4,"22154040570",null,"Garden upkeep and landscaping","Outdoor equipment and accessories (excl. tarpaulins, nets, and covers)","Biosourced materials or non-synthetic textiles >50%","≥15 kg and <20 kg","€ / unit",1.8,1.8,{"$f":"_xlfn.XLOOKUP(K7718,'Codes éco-part'!$C$6:$C$923,'Codes éco-part'!$B$6:$B$923)","v":"603"},2.16]
["DIY and gardening products EPR",4,"22154040591","Modulated","Garden upkeep and landscaping","Outdoor equipment and accessories (excl. tarpaulins, nets, and covers)","Biosourced materials or non-synthetic textiles >50%","≥25 kg and <30 kg","€ / unit",2.4300000000000002,2.4300000000000002,{"$f":"_xlfn.XLOOKUP(K7723,'Codes éco-part'!$C$6:$C$923,'Codes éco-part'!$B$6:$B$923)","v":"471"},2.92]
["DIY and gardening products EPR",4,"22154050200",null,"Garden upkeep and landscaping","Outdoor equipment and accessories (excl. tarpaulins, nets, and covers)","Plastics or other synthetic materials >50%","Strictly <0.5 kg","€ / unit",0.02,0.02,{"$f":"_xlfn.XLOOKUP(K7728,'Codes éco-part'!$C$6:$C$923,'Codes éco-part'!$B$6:$B$923)","v":"047"},0.02]
["DIY and gardening products EPR",4,"22154050221","Modulated","Garden upkeep and landscaping","Outdoor equipment and accessories (excl. tarpaulins, nets, and covers)","Plastics or other synthetic materials >50%","≥1 kg and <2 kg","€ / unit",0.13,0.13,{"$f":"_xlfn.XLOOKUP(K7733,'Codes éco-part'!$C$6:$C$923,'Codes éco-part'!$B$6:$B$923)","v":"004"},0.16]
["DIY and gardening products EPR",4,"22154050270",null,"Garden upkeep and landscaping","Outdoor equipment and accessories (excl. tarpaulins, nets, and covers)","Plastics or other synthetic materials >50%","≥30 kg and <40 kg","€ / unit",3.6,3.6,{"$f":"_xlfn.XLOOKUP(K7734,'Codes éco-part'!$C$6:$C$923,'Codes éco-part'!$B$6:$B$923)","v":"610"},4.32]
["DIY and gardening products EPR",4,"22154050531","Modulated","Garden upkeep and landscaping","Outdoor equipment and accessories (excl. tarpaulins, nets, and covers)","Plastics or other synthetic materials >50%","≥3 kg and <5 kg","€ / unit",0.32,0.32,{"$f":"_xlfn.XLOOKUP(K7739,'Codes éco-part'!$C$6:$C$923,'Codes éco-part'!$B$6:$B$923)","v":"447"},0.38]
["DIY and gardening products EPR",4,"22154050560",null,"Garden upkeep and landscaping","Outdoor equipment and accessories (excl. tarpaulins, nets, and covers)","Plastics or other synthetic materials >50%","≥10 kg and <15 kg","€ / unit",1.35,1.35,{"$f":"_xlfn.XLOOKUP(K7744,'Codes éco-part'!$C$6:$C$923,'Codes éco-part'!$B$6:$B$923)","v":"332"},1.62]
["DIY and gardening products EPR",4,"22154050581","Modulated","Garden upkeep and landscaping","Outdoor equipment and accessories (excl. tarpaulins, nets, and covers)","Plastics or other synthetic materials >50%","≥20 kg and <25 kg","€ / unit",2.0299999999999998,2.0299999999999998,{"$f":"_xlfn.XLOOKUP(K7749,'Codes éco-part'!$C$6:$C$923,'Codes éco-part'!$B$6:$B$923)","v":937},2.44]
["DIY and gardening products EPR",4,"22154050590",null,"Garden upkeep and landscaping","Outdoor equipment and accessories (excl. tarpaulins, nets, and covers)","Plastics or other synthetic materials >50%","≥25 kg and <30 kg","€ / unit",2.7,2.7,{"$f":"_xlfn.XLOOKUP(K7750,'Codes éco-part'!$C$6:$C$923,'Codes éco-part'!$B$6:$B$923)","v":"611"},3.24]
["DIY and gardening products EPR",4,"22154060001","Modulated","Garden upkeep and landscaping","Outdoor equipment and accessories (excl. tarpaulins, nets, and covers)","Materials of animal origin >50%","Elements of all sizes and weights","€ / ton",81,81,{"$f":"_xlfn.XLOOKUP(K7755,'Codes éco-part'!$C$6:$C$923,'Codes éco-part'!$B$6:$B$923)","v":943},97.2]
["DIY and gardening products EPR",4,"22154060220",null,"Garden upkeep and landscaping","Outdoor equipment and accessories (excl. tarpaulins, nets, and covers)","Materials of animal origin >50%","≥1 kg and <2 kg","€ / unit",0.14000000000000001,0.14000000000000001,{"$f":"_xlfn.XLOOKUP(K7760,'Codes éco-part'!$C$6:$C$923,'Codes éco-part'!$B$6:$B$923)","v":"098"},0.17]
["DIY and gardening products EPR",4,"22154060521","Modulated","Garden upkeep and landscaping","Outdoor equipment and accessories (excl. tarpaulins, nets, and covers)","Materials of animal origin >50%","≥2 kg and <3 kg","€ / unit",0.21,0.21,{"$f":"_xlfn.XLOOKUP(K7765,'Codes éco-part'!$C$6:$C$923,'Codes éco-part'!$B$6:$B$923)","v":"051"},0.25]
["DIY and gardening products EPR",4,"22154060530",null,"Garden upkeep and landscaping","Outdoor equipment and accessories (excl. tarpaulins, nets, and covers)","Materials of animal origin >50%","≥3 kg and <5 kg","€ / unit",0.36,0.36,{"$f":"_xlfn.XLOOKUP(K7766,'Codes éco-part'!$C$6:$C$923,'Codes éco-part'!$B$6:$B$923)","v":"449"},0.43]
["DIY and gardening products EPR",4,"22154060551","Modulated","Garden upkeep and landscaping","Outdoor equipment and accessories (excl. tarpaulins, nets, and covers)","Materials of animal origin >50%","≥7 kg and <10 kg","€ / unit",0.81,0.81,{"$f":"_xlfn.XLOOKUP(K7771,'Codes éco-part'!$C$6:$C$923,'Codes éco-part'!$B$6:$B$923)","v":"112"},0.97]
["DIY and gardening products EPR",4,"22154060580",null,"Garden upkeep and landscaping","Outdoor equipment and accessories (excl. tarpaulins, nets, and covers)","Materials of animal origin >50%","≥20 kg and <25 kg","€ / unit",2.25,2.25,{"$f":"_xlfn.XLOOKUP(K7776,'Codes éco-part'!$C$6:$C$923,'Codes éco-part'!$B$6:$B$923)","v":"118"},2.7]
["DIY and gardening products EPR",4,"22154060601","Modulated","Garden upkeep and landscaping","Outdoor equipment and accessories (excl. tarpaulins, nets, and covers)","Materials of animal origin >50%","≥40 kg and <50 kg","€ / unit",4.05,4.05,{"$f":"_xlfn.XLOOKUP(K7781,'Codes éco-part'!$C$6:$C$923,'Codes éco-part'!$B$6:$B$923)","v":"884"},4.8600000000000003]
["DIY and gardening products EPR",4,"22154080000",null,"Garden upkeep and landscaping","Outdoor equipment and accessories (excl. tarpaulins, nets, and covers)","Assembly of materials with inert substances >50%","Elements of all sizes and weights","€ / ton",90,90,{"$f":"_xlfn.XLOOKUP(K7782,'Codes éco-part'!$C$6:$C$923,'Codes éco-part'!$B$6:$B$923)","v":"609"},108]
["DIY and gardening products EPR",4,"22154080211","Modulated","Garden upkeep and landscaping","Outdoor equipment and accessories (excl. tarpaulins, nets, and covers)","Assembly of materials with inert substances >50%","≥0.5 kg and <1 kg","€ / unit",0.06,0.06,{"$f":"_xlfn.XLOOKUP(K7787,'Codes éco-part'!$C$6:$C$923,'Codes éco-part'!$B$6:$B$923)","v":"096"},7.0000000000000007E-2]
["DIY and gardening products EPR",4,"22154080520",null,"Garden upkeep and landscaping","Outdoor equipment and accessories (excl. tarpaulins, nets, and covers)","Assembly of materials with inert substances >50%","≥2 kg and <3 kg","€ / unit",0.23,0.23,{"$f":"_xlfn.XLOOKUP(K7792,'Codes éco-part'!$C$6:$C$923,'Codes éco-part'!$B$6:$B$923)","v":"323"},0.28000000000000003]
["DIY and gardening products EPR",4,"22154080541","Modulated","Garden upkeep and landscaping","Outdoor equipment and accessories (excl. tarpaulins, nets, and covers)","Assembly of materials with inert substances >50%","≥5 kg and <7 kg","€ / unit",0.56999999999999995,0.56999999999999995,{"$f":"_xlfn.XLOOKUP(K7797,'Codes éco-part'!$C$6:$C$923,'Codes éco-part'!$B$6:$B$923)","v":"326"},0.68]
["DIY and gardening products EPR",4,"22154080550",null,"Garden upkeep and landscaping","Outdoor equipment and accessories (excl. tarpaulins, nets, and covers)","Assembly of materials with inert substances >50%","≥7 kg and <10 kg","€ / unit",0.9,0.9,{"$f":"_xlfn.XLOOKUP(K7798,'Codes éco-part'!$C$6:$C$923,'Codes éco-part'!$B$6:$B$923)","v":"330"},1.08]
["DIY and gardening products EPR",4,"22154080571","Modulated","Garden upkeep and landscaping","Outdoor equipment and accessories (excl. tarpaulins, nets, and covers)","Assembly of materials with inert substances >50%","≥15 kg and <20 kg","€ / unit",1.62,1.62,{"$f":"_xlfn.XLOOKUP(K7803,'Codes éco-part'!$C$6:$C$923,'Codes éco-part'!$B$6:$B$923)","v":"810"},1.94]
["DIY and gardening products EPR",4,"22154080600",null,"Garden upkeep and landscaping","Outdoor equipment and accessories (excl. tarpaulins, nets, and covers)","Assembly of materials with inert substances >50%","≥40 kg and <50 kg","€ / unit",4.5,4.5,{"$f":"_xlfn.XLOOKUP(K7808,'Codes éco-part'!$C$6:$C$923,'Codes éco-part'!$B$6:$B$923)","v":"127"},5.4]
["DIY and gardening products EPR",4,"22154150201","Modulated","Garden upkeep and landscaping","Outdoor equipment and accessories (excl. tarpaulins, nets, and covers)","Composites and other reconstituted mineral materials >50%","Strictly <0.5 kg","€ / unit",0.02,0.02,{"$f":"_xlfn.XLOOKUP(K7813,'Codes éco-part'!$C$6:$C$923,'Codes éco-part'!$B$6:$B$923)","v":"047"},0.02]
["DIY and gardening products EPR",4,"22154150210",null,"Garden upkeep and landscaping","Outdoor equipment and accessories (excl. tarpaulins, nets, and covers)","Composites and other reconstituted mineral materials >50%","≥0.5 kg and <1 kg","€ / unit",7.0000000000000007E-2,7.0000000000000007E-2,{"$f":"_xlfn.XLOOKUP(K7814,'Codes éco-part'!$C$6:$C$923,'Codes éco-part'!$B$6:$B$923)","v":"247"},0.08]
["DIY and gardening products EPR",4,"22154150271","Modulated","Garden upkeep and landscaping","Outdoor equipment and accessories (excl. tarpaulins, nets, and covers)","Composites and other reconstituted mineral materials >50%","≥30 kg and <40 kg","€ / unit",3.24,3.24,{"$f":"_xlfn.XLOOKUP(K7819,'Codes éco-part'!$C$6:$C$923,'Codes éco-part'!$B$6:$B$923)","v":944},3.89]
["DIY and gardening products EPR",4,"22154150540",null,"Garden upkeep and landscaping","Outdoor equipment and accessories (excl. tarpaulins, nets, and covers)","Composites and other reconstituted mineral materials >50%","≥5 kg and <7 kg","€ / unit",0.63,0.63,{"$f":"_xlfn.XLOOKUP(K7824,'Codes éco-part'!$C$6:$C$923,'Codes éco-part'!$B$6:$B$923)","v":"297"},0.76]
["DIY and gardening products EPR",4,"22154150561","Modulated","Garden upkeep and landscaping","Outdoor equipment and accessories (excl. tarpaulins, nets, and covers)","Composites and other reconstituted mineral materials >50%","≥10 kg and <15 kg","€ / unit",1.22,1.22,{"$f":"_xlfn.XLOOKUP(K7829,'Codes éco-part'!$C$6:$C$923,'Codes éco-part'!$B$6:$B$923)","v":"636"},1.46]
["DIY and gardening products EPR",4,"22154150570",null,"Garden upkeep and landscaping","Outdoor equipment and accessories (excl. tarpaulins, nets, and covers)","Composites and other reconstituted mineral materials >50%","≥15 kg and <20 kg","€ / unit",1.8,1.8,{"$f":"_xlfn.XLOOKUP(K7830,'Codes éco-part'!$C$6:$C$923,'Codes éco-part'!$B$6:$B$923)","v":"603"},2.16]
["DIY and gardening products EPR",4,"22154150591","Modulated","Garden upkeep and landscaping","Outdoor equipment and accessories (excl. tarpaulins, nets, and covers)","Composites and other reconstituted mineral materials >50%","≥25 kg and <30 kg","€ / unit",2.4300000000000002,2.4300000000000002,{"$f":"_xlfn.XLOOKUP(K7835,'Codes éco-part'!$C$6:$C$923,'Codes éco-part'!$B$6:$B$923)","v":"471"},2.92]
["DIY and gardening products EPR",4,"22154190200",null,"Garden upkeep and landscaping","Outdoor equipment and accessories (excl. tarpaulins, nets, and covers)","Cardboard >50% and other materials (excl. glass)","Strictly <0.5 kg","€ / unit",0.02,0.02,{"$f":"_xlfn.XLOOKUP(K7840,'Codes éco-part'!$C$6:$C$923,'Codes éco-part'!$B$6:$B$923)","v":"047"},0.02]
["DIY and gardening products EPR",4,"22154190221","Modulated","Garden upkeep and landscaping","Outdoor equipment and accessories (excl. tarpaulins, nets, and covers)","Cardboard >50% and other materials (excl. glass)","≥1 kg and <2 kg","€ / unit",0.13,0.13,{"$f":"_xlfn.XLOOKUP(K7845,'Codes éco-part'!$C$6:$C$923,'Codes éco-part'!$B$6:$B$923)","v":"004"},0.16]
["DIY and gardening products EPR",4,"22154190270",null,"Garden upkeep and landscaping","Outdoor equipment and accessories (excl. tarpaulins, nets, and covers)","Cardboard >50% and other materials (excl. glass)","≥30 kg and <40 kg","€ / unit",3.6,3.6,{"$f":"_xlfn.XLOOKUP(K7846,'Codes éco-part'!$C$6:$C$923,'Codes éco-part'!$B$6:$B$923)","v":"610"},4.32]
["DIY and gardening products EPR",4,"22154190531","Modulated","Garden upkeep and landscaping","Outdoor equipment and accessories (excl. tarpaulins, nets, and covers)","Cardboard >50% and other materials (excl. glass)","≥3 kg and <5 kg","€ / unit",0.32,0.32,{"$f":"_xlfn.XLOOKUP(K7851,'Codes éco-part'!$C$6:$C$923,'Codes éco-part'!$B$6:$B$923)","v":"447"},0.38]
["DIY and gardening products EPR",4,"22154190560",null,"Garden upkeep and landscaping","Outdoor equipment and accessories (excl. tarpaulins, nets, and covers)","Cardboard >50% and other materials (excl. glass)","≥10 kg and <15 kg","€ / unit",1.35,1.35,{"$f":"_xlfn.XLOOKUP(K7856,'Codes éco-part'!$C$6:$C$923,'Codes éco-part'!$B$6:$B$923)","v":"332"},1.62]
["DIY and gardening products EPR",4,"22154190581","Modulated","Garden upkeep and landscaping","Outdoor equipment and accessories (excl. tarpaulins, nets, and covers)","Cardboard >50% and other materials (excl. glass)","≥20 kg and <25 kg","€ / unit",2.0299999999999998,2.0299999999999998,{"$f":"_xlfn.XLOOKUP(K7861,'Codes éco-part'!$C$6:$C$923,'Codes éco-part'!$B$6:$B$923)","v":937},2.44]
["DIY and gardening products EPR",4,"22154190590",null,"Garden upkeep and landscaping","Outdoor equipment and accessories (excl. tarpaulins, nets, and covers)","Cardboard >50% and other materials (excl. glass)","≥25 kg and <30 kg","€ / unit",2.7,2.7,{"$f":"_xlfn.XLOOKUP(K7862,'Codes éco-part'!$C$6:$C$923,'Codes éco-part'!$B$6:$B$923)","v":"611"},3.24]
["DIY and gardening products EPR",4,"22154200001","Modulated","Garden upkeep and landscaping","Outdoor equipment and accessories (excl. tarpaulins, nets, and covers)","Solid wood and related products certified >75%","Elements of all sizes and weights","€ / ton",11.7,11.7,{"$f":"_xlfn.XLOOKUP(K7867,'Codes éco-part'!$C$6:$C$923,'Codes éco-part'!$B$6:$B$923)","v":945},14.04]
["DIY and gardening products EPR",4,"22154200220",null,"Garden upkeep and landscaping","Outdoor equipment and accessories (excl. tarpaulins, nets, and covers)","Solid wood and related products certified >75%","≥1 kg and <2 kg","€ / unit",0.02,0.02,{"$f":"_xlfn.XLOOKUP(K7872,'Codes éco-part'!$C$6:$C$923,'Codes éco-part'!$B$6:$B$923)","v":"047"},0.02]
["DIY and gardening products EPR",4,"22154200521","Modulated","Garden upkeep and landscaping","Outdoor equipment and accessories (excl. tarpaulins, nets, and covers)","Solid wood and related products certified >75%","≥2 kg and <3 kg","€ / unit",0.03,0.03,{"$f":"_xlfn.XLOOKUP(K7877,'Codes éco-part'!$C$6:$C$923,'Codes éco-part'!$B$6:$B$923)","v":"092"},0.04]
["DIY and gardening products EPR",4,"22154200530",null,"Garden upkeep and landscaping","Outdoor equipment and accessories (excl. tarpaulins, nets, and covers)","Solid wood and related products certified >75%","≥3 kg and <5 kg","€ / unit",0.05,0.05,{"$f":"_xlfn.XLOOKUP(K7878,'Codes éco-part'!$C$6:$C$923,'Codes éco-part'!$B$6:$B$923)","v":"048"},0.06]
["DIY and gardening products EPR",4,"22154200551","Modulated","Garden upkeep and landscaping","Outdoor equipment and accessories (excl. tarpaulins, nets, and covers)","Solid wood and related products certified >75%","≥7 kg and <10 kg","€ / unit",0.12,0.12,{"$f":"_xlfn.XLOOKUP(K7883,'Codes éco-part'!$C$6:$C$923,'Codes éco-part'!$B$6:$B$923)","v":"097"},0.14000000000000001]
["DIY and gardening products EPR",4,"22154200580",null,"Garden upkeep and landscaping","Outdoor equipment and accessories (excl. tarpaulins, nets, and covers)","Solid wood and related products certified >75%","≥20 kg and <25 kg","€ / unit",0.33,0.33,{"$f":"_xlfn.XLOOKUP(K7888,'Codes éco-part'!$C$6:$C$923,'Codes éco-part'!$B$6:$B$923)","v":"006"},0.4]
["DIY and gardening products EPR",4,"22154200601","Modulated","Garden upkeep and landscaping","Outdoor equipment and accessories (excl. tarpaulins, nets, and covers)","Solid wood and related products certified >75%","≥40 kg and <50 kg","€ / unit",0.59,0.59,{"$f":"_xlfn.XLOOKUP(K7893,'Codes éco-part'!$C$6:$C$923,'Codes éco-part'!$B$6:$B$923)","v":"254"},0.71]
["DIY and gardening products EPR",4,"22154210000",null,"Garden upkeep and landscaping","Outdoor equipment and accessories (excl. tarpaulins, nets, and covers)","Solid wood and related products >75%","Elements of all sizes and weights","€ / ton",26,26,{"$f":"_xlfn.XLOOKUP(K7894,'Codes éco-part'!$C$6:$C$923,'Codes éco-part'!$B$6:$B$923)","v":"582"},31.2]
["DIY and gardening products EPR",4,"22154210211","Modulated","Garden upkeep and landscaping","Outdoor equipment and accessories (excl. tarpaulins, nets, and covers)","Solid wood and related products >75%","≥0.5 kg and <1 kg","€ / unit",0.02,0.02,{"$f":"_xlfn.XLOOKUP(K7899,'Codes éco-part'!$C$6:$C$923,'Codes éco-part'!$B$6:$B$923)","v":"047"},0.02]
["DIY and gardening products EPR",4,"22154210520",null,"Garden upkeep and landscaping","Outdoor equipment and accessories (excl. tarpaulins, nets, and covers)","Solid wood and related products >75%","≥2 kg and <3 kg","€ / unit",0.06,0.06,{"$f":"_xlfn.XLOOKUP(K7904,'Codes éco-part'!$C$6:$C$923,'Codes éco-part'!$B$6:$B$923)","v":"096"},7.0000000000000007E-2]
["DIY and gardening products EPR",4,"22154210541","Modulated","Garden upkeep and landscaping","Outdoor equipment and accessories (excl. tarpaulins, nets, and covers)","Solid wood and related products >75%","≥5 kg and <7 kg","€ / unit",0.16,0.16,{"$f":"_xlfn.XLOOKUP(K7909,'Codes éco-part'!$C$6:$C$923,'Codes éco-part'!$B$6:$B$923)","v":"099"},0.19]
["DIY and gardening products EPR",4,"22154210550",null,"Garden upkeep and landscaping","Outdoor equipment and accessories (excl. tarpaulins, nets, and covers)","Solid wood and related products >75%","≥7 kg and <10 kg","€ / unit",0.26,0.26,{"$f":"_xlfn.XLOOKUP(K7910,'Codes éco-part'!$C$6:$C$923,'Codes éco-part'!$B$6:$B$923)","v":"445"},0.31]
["DIY and gardening products EPR",4,"22154210570",null,"Garden upkeep and landscaping","Outdoor equipment and accessories (excl. tarpaulins, nets, and covers)","Solid wood and related products >75%","≥15 kg and <20 kg","€ / unit",0.52,0.52,{"$f":"_xlfn.XLOOKUP(K7914,'Codes éco-part'!$C$6:$C$923,'Codes éco-part'!$B$6:$B$923)","v":"509"},0.62]
["DIY and gardening products EPR",4,"22154210591","Modulated","Garden upkeep and landscaping","Outdoor equipment and accessories (excl. tarpaulins, nets, and covers)","Solid wood and related products >75%","≥25 kg and <30 kg","€ / unit",0.7,0.7,{"$f":"_xlfn.XLOOKUP(K7919,'Codes éco-part'!$C$6:$C$923,'Codes éco-part'!$B$6:$B$923)","v":"282"},0.84]
["DIY and gardening products EPR",4,"22154250200",null,"Garden upkeep and landscaping","Outdoor equipment and accessories (excl. tarpaulins, nets, and covers)","Chipboard or OSB >75%","Strictly <0.5 kg","€ / unit",0.02,0.02,{"$f":"_xlfn.XLOOKUP(K7924,'Codes éco-part'!$C$6:$C$923,'Codes éco-part'!$B$6:$B$923)","v":"047"},0.02]
["DIY and gardening products EPR",4,"22154250201","Modulated","Garden upkeep and landscaping","Outdoor equipment and accessories (excl. tarpaulins, nets, and covers)","Chipboard or OSB >75%","Strictly <0.5 kg","€ / unit",0.02,0.02,{"$f":"_xlfn.XLOOKUP(K7925,'Codes éco-part'!$C$6:$C$923,'Codes éco-part'!$B$6:$B$923)","v":"047"},0.02]
["DIY and gardening products EPR",4,"22154250270",null,"Garden upkeep and landscaping","Outdoor equipment and accessories (excl. tarpaulins, nets, and covers)","Chipboard or OSB >75%","≥30 kg and <40 kg","€ / unit",1.04,1.04,{"$f":"_xlfn.XLOOKUP(K7930,'Codes éco-part'!$C$6:$C$923,'Codes éco-part'!$B$6:$B$923)","v":"616"},1.25]
["DIY and gardening products EPR",4,"22154250531","Modulated","Garden upkeep and landscaping","Outdoor equipment and accessories (excl. tarpaulins, nets, and covers)","Chipboard or OSB >75%","≥3 kg and <5 kg","€ / unit",0.09,0.09,{"$f":"_xlfn.XLOOKUP(K7935,'Codes éco-part'!$C$6:$C$923,'Codes éco-part'!$B$6:$B$923)","v":"049"},0.11]
["DIY and gardening products EPR",4,"22154250560",null,"Garden upkeep and landscaping","Outdoor equipment and accessories (excl. tarpaulins, nets, and covers)","Chipboard or OSB >75%","≥10 kg and <15 kg","€ / unit",0.4,0.4,{"$f":"_xlfn.XLOOKUP(K7940,'Codes éco-part'!$C$6:$C$923,'Codes éco-part'!$B$6:$B$923)","v":"105"},0.48]
["DIY and gardening products EPR",4,"22154250561","Modulated","Garden upkeep and landscaping","Outdoor equipment and accessories (excl. tarpaulins, nets, and covers)","Chipboard or OSB >75%","≥10 kg and <15 kg","€ / unit",0.36,0.36,{"$f":"_xlfn.XLOOKUP(K7941,'Codes éco-part'!$C$6:$C$923,'Codes éco-part'!$B$6:$B$923)","v":"449"},0.43]
["DIY and gardening products EPR",4,"22154250590",null,"Garden upkeep and landscaping","Outdoor equipment and accessories (excl. tarpaulins, nets, and covers)","Chipboard or OSB >75%","≥25 kg and <30 kg","€ / unit",0.78,0.78,{"$f":"_xlfn.XLOOKUP(K7946,'Codes éco-part'!$C$6:$C$923,'Codes éco-part'!$B$6:$B$923)","v":"312"},0.94]
["DIY and gardening products EPR",4,"22154280001","Modulated","Garden upkeep and landscaping","Outdoor equipment and accessories (excl. tarpaulins, nets, and covers)","Metal >90%","Elements of all sizes and weights","€ / ton",4.05,4.05,{"$f":"_xlfn.XLOOKUP(K7951,'Codes éco-part'!$C$6:$C$923,'Codes éco-part'!$B$6:$B$923)","v":"884"},4.8600000000000003]
["DIY and gardening products EPR",4,"22154280220",null,"Garden upkeep and landscaping","Outdoor equipment and accessories (excl. tarpaulins, nets, and covers)","Metal >90%","≥1 kg and <2 kg","€ / unit",0.01,0.01,{"$f":"_xlfn.XLOOKUP(K7956,'Codes éco-part'!$C$6:$C$923,'Codes éco-part'!$B$6:$B$923)","v":"260"},0.01]
["DIY and gardening products EPR",4,"22154280221","Modulated","Garden upkeep and landscaping","Outdoor equipment and accessories (excl. tarpaulins, nets, and covers)","Metal >90%","≥1 kg and <2 kg","€ / unit",0.01,0.01,{"$f":"_xlfn.XLOOKUP(K7957,'Codes éco-part'!$C$6:$C$923,'Codes éco-part'!$B$6:$B$923)","v":"260"},0.01]
["DIY and gardening products EPR",4,"22154280530",null,"Garden upkeep and landscaping","Outdoor equipment and accessories (excl. tarpaulins, nets, and covers)","Metal >90%","≥3 kg and <5 kg","€ / unit",0.02,0.02,{"$f":"_xlfn.XLOOKUP(K7962,'Codes éco-part'!$C$6:$C$923,'Codes éco-part'!$B$6:$B$923)","v":"047"},0.02]
["DIY and gardening products EPR",4,"22154280551","Modulated","Garden upkeep and landscaping","Outdoor equipment and accessories (excl. tarpaulins, nets, and covers)","Metal >90%","≥7 kg and <10 kg","€ / unit",0.05,0.05,{"$f":"_xlfn.XLOOKUP(K7967,'Codes éco-part'!$C$6:$C$923,'Codes éco-part'!$B$6:$B$923)","v":"048"},0.06]
["DIY and gardening products EPR",4,"22154280580",null,"Garden upkeep and landscaping","Outdoor equipment and accessories (excl. tarpaulins, nets, and covers)","Metal >90%","≥20 kg and <25 kg","€ / unit",0.11,0.11,{"$f":"_xlfn.XLOOKUP(K7972,'Codes éco-part'!$C$6:$C$923,'Codes éco-part'!$B$6:$B$923)","v":"262"},0.13]
["DIY and gardening products EPR",4,"22154280581","Modulated","Garden upkeep and landscaping","Outdoor equipment and accessories (excl. tarpaulins, nets, and covers)","Metal >90%","≥20 kg and <25 kg","€ / unit",0.1,0.1,{"$f":"_xlfn.XLOOKUP(K7973,'Codes éco-part'!$C$6:$C$923,'Codes éco-part'!$B$6:$B$923)","v":"094"},0.12]
["DIY and gardening products EPR",4,"22154400000",null,"Garden upkeep and landscaping","Outdoor equipment and accessories (excl. tarpaulins, nets, and covers)","Assembly of synthetic rubber or latex >50% and other materials","Elements of all sizes and weights","€ / ton",90,90,{"$f":"_xlfn.XLOOKUP(K7978,'Codes éco-part'!$C$6:$C$923,'Codes éco-part'!$B$6:$B$923)","v":"609"},108]
["DIY and gardening products EPR",4,"22154400211","Modulated","Garden upkeep and landscaping","Outdoor equipment and accessories (excl. tarpaulins, nets, and covers)","Assembly of synthetic rubber or latex >50% and other materials","≥0.5 kg and <1 kg","€ / unit",0.06,0.06,{"$f":"_xlfn.XLOOKUP(K7983,'Codes éco-part'!$C$6:$C$923,'Codes éco-part'!$B$6:$B$923)","v":"096"},7.0000000000000007E-2]
["DIY and gardening products EPR",4,"22154400520",null,"Garden upkeep and landscaping","Outdoor equipment and accessories (excl. tarpaulins, nets, and covers)","Assembly of synthetic rubber or latex >50% and other materials","≥2 kg and <3 kg","€ / unit",0.23,0.23,{"$f":"_xlfn.XLOOKUP(K7988,'Codes éco-part'!$C$6:$C$923,'Codes éco-part'!$B$6:$B$923)","v":"323"},0.28000000000000003]
["DIY and gardening products EPR",4,"22154400521","Modulated","Garden upkeep and landscaping","Outdoor equipment and accessories (excl. tarpaulins, nets, and covers)","Assembly of synthetic rubber or latex >50% and other materials","≥2 kg and <3 kg","€ / unit",0.21,0.21,{"$f":"_xlfn.XLOOKUP(K7989,'Codes éco-part'!$C$6:$C$923,'Codes éco-part'!$B$6:$B$923)","v":"051"},0.25]
["DIY and gardening products EPR",4,"22154400550",null,"Garden upkeep and landscaping","Outdoor equipment and accessories (excl. tarpaulins, nets, and covers)","Assembly of synthetic rubber or latex >50% and other materials","≥7 kg and <10 kg","€ / unit",0.9,0.9,{"$f":"_xlfn.XLOOKUP(K7994,'Codes éco-part'!$C$6:$C$923,'Codes éco-part'!$B$6:$B$923)","v":"330"},1.08]
["DIY and gardening products EPR",4,"22154400571","Modulated","Garden upkeep and landscaping","Outdoor equipment and accessories (excl. tarpaulins, nets, and covers)","Assembly of synthetic rubber or latex >50% and other materials","≥15 kg and <20 kg","€ / unit",1.62,1.62,{"$f":"_xlfn.XLOOKUP(K7999,'Codes éco-part'!$C$6:$C$923,'Codes éco-part'!$B$6:$B$923)","v":"810"},1.94]
["DIY and gardening products EPR",4,"22154400600",null,"Garden upkeep and landscaping","Outdoor equipment and accessories (excl. tarpaulins, nets, and covers)","Assembly of synthetic rubber or latex >50% and other materials","≥40 kg and <50 kg","€ / unit",4.5,4.5,{"$f":"_xlfn.XLOOKUP(K8004,'Codes éco-part'!$C$6:$C$923,'Codes éco-part'!$B$6:$B$923)","v":"127"},5.4]
["DIY and gardening products EPR",4,"22154400601","Modulated","Garden upkeep and landscaping","Outdoor equipment and accessories (excl. tarpaulins, nets, and covers)","Assembly of synthetic rubber or latex >50% and other materials","≥40 kg and <50 kg","€ / unit",4.05,4.05,{"$f":"_xlfn.XLOOKUP(K8005,'Codes éco-part'!$C$6:$C$923,'Codes éco-part'!$B$6:$B$923)","v":"884"},4.8600000000000003]
["DIY and gardening products EPR",4,"22154410210",null,"Garden upkeep and landscaping","Outdoor equipment and accessories (excl. tarpaulins, nets, and covers)","Plastic (single-resin) >90%","≥0.5 kg and <1 kg","€ / unit",0.05,0.05,{"$f":"_xlfn.XLOOKUP(K8010,'Codes éco-part'!$C$6:$C$923,'Codes éco-part'!$B$6:$B$923)","v":"048"},0.06]
["DIY and gardening products EPR",4,"22154410271","Modulated","Garden upkeep and landscaping","Outdoor equipment and accessories (excl. tarpaulins, nets, and covers)","Plastic (single-resin) >90%","≥30 kg and <40 kg","€ / unit",2.16,2.16,{"$f":"_xlfn.XLOOKUP(K8015,'Codes éco-part'!$C$6:$C$923,'Codes éco-part'!$B$6:$B$923)","v":"622"},2.59]
["DIY and gardening products EPR",4,"22154410540",null,"Garden upkeep and landscaping","Outdoor equipment and accessories (excl. tarpaulins, nets, and covers)","Plastic (single-resin) >90%","≥5 kg and <7 kg","€ / unit",0.42,0.42,{"$f":"_xlfn.XLOOKUP(K8020,'Codes éco-part'!$C$6:$C$923,'Codes éco-part'!$B$6:$B$923)","v":"450"},0.5]
["DIY and gardening products EPR",4,"22154410541","Modulated","Garden upkeep and landscaping","Outdoor equipment and accessories (excl. tarpaulins, nets, and covers)","Plastic (single-resin) >90%","≥5 kg and <7 kg","€ / unit",0.38,0.38,{"$f":"_xlfn.XLOOKUP(K8021,'Codes éco-part'!$C$6:$C$923,'Codes éco-part'!$B$6:$B$923)","v":"292"},0.46]
["DIY and gardening products EPR",4,"22154410570",null,"Garden upkeep and landscaping","Outdoor equipment and accessories (excl. tarpaulins, nets, and covers)","Plastic (single-resin) >90%","≥15 kg and <20 kg","€ / unit",1.2,1.2,{"$f":"_xlfn.XLOOKUP(K8026,'Codes éco-part'!$C$6:$C$923,'Codes éco-part'!$B$6:$B$923)","v":"505"},1.44]
["DIY and gardening products EPR",4,"22154410591","Modulated","Garden upkeep and landscaping","Outdoor equipment and accessories (excl. tarpaulins, nets, and covers)","Plastic (single-resin) >90%","≥25 kg and <30 kg","€ / unit",1.62,1.62,{"$f":"_xlfn.XLOOKUP(K8031,'Codes éco-part'!$C$6:$C$923,'Codes éco-part'!$B$6:$B$923)","v":"810"},1.94]
["DIY and gardening products EPR",4,"22154420200",null,"Garden upkeep and landscaping","Outdoor equipment and accessories (excl. tarpaulins, nets, and covers)","Polyethylene terephthalate (PET) >90%","Strictly <0.5 kg","€ / unit",0.02,0.02,{"$f":"_xlfn.XLOOKUP(K8036,'Codes éco-part'!$C$6:$C$923,'Codes éco-part'!$B$6:$B$923)","v":"047"},0.02]
["DIY and gardening products EPR",4,"22154420201","Modulated","Garden upkeep and landscaping","Outdoor equipment and accessories (excl. tarpaulins, nets, and covers)","Polyethylene terephthalate (PET) >90%","Strictly <0.5 kg","€ / unit",0.02,0.02,{"$f":"_xlfn.XLOOKUP(K8037,'Codes éco-part'!$C$6:$C$923,'Codes éco-part'!$B$6:$B$923)","v":"047"},0.02]
["DIY and gardening products EPR",4,"22154420270",null,"Garden upkeep and landscaping","Outdoor equipment and accessories (excl. tarpaulins, nets, and covers)","Polyethylene terephthalate (PET) >90%","≥30 kg and <40 kg","€ / unit",2.4,2.4,{"$f":"_xlfn.XLOOKUP(K8042,'Codes éco-part'!$C$6:$C$923,'Codes éco-part'!$B$6:$B$923)","v":"602"},2.88]
["DIY and gardening products EPR",4,"22154420531","Modulated","Garden upkeep and landscaping","Outdoor equipment and accessories (excl. tarpaulins, nets, and covers)","Polyethylene terephthalate (PET) >90%","≥3 kg and <5 kg","€ / unit",0.22,0.22,{"$f":"_xlfn.XLOOKUP(K8047,'Codes éco-part'!$C$6:$C$923,'Codes éco-part'!$B$6:$B$923)","v":"263"},0.26]
["DIY and gardening products EPR",4,"22154420560",null,"Garden upkeep and landscaping","Outdoor equipment and accessories (excl. tarpaulins, nets, and covers)","Polyethylene terephthalate (PET) >90%","≥10 kg and <15 kg","€ / unit",0.9,0.9,{"$f":"_xlfn.XLOOKUP(K8052,'Codes éco-part'!$C$6:$C$923,'Codes éco-part'!$B$6:$B$923)","v":"330"},1.08]
["DIY and gardening products EPR",4,"22154420561","Modulated","Garden upkeep and landscaping","Outdoor equipment and accessories (excl. tarpaulins, nets, and covers)","Polyethylene terephthalate (PET) >90%","≥10 kg and <15 kg","€ / unit",0.81,0.81,{"$f":"_xlfn.XLOOKUP(K8053,'Codes éco-part'!$C$6:$C$923,'Codes éco-part'!$B$6:$B$923)","v":"112"},0.97]
["DIY and gardening products EPR",4,"22154420590",null,"Garden upkeep and landscaping","Outdoor equipment and accessories (excl. tarpaulins, nets, and covers)","Polyethylene terephthalate (PET) >90%","≥25 kg and <30 kg","€ / unit",1.8,1.8,{"$f":"_xlfn.XLOOKUP(K8058,'Codes éco-part'!$C$6:$C$923,'Codes éco-part'!$B$6:$B$923)","v":"603"},2.16]
["DIY and gardening products EPR",4,"22154450001","Modulated","Garden upkeep and landscaping","Outdoor equipment and accessories (excl. tarpaulins, nets, and covers)","PE or PP or PP/PE mix >90%","Elements of all sizes and weights","€ / ton",54,54,{"$f":"_xlfn.XLOOKUP(K8063,'Codes éco-part'!$C$6:$C$923,'Codes éco-part'!$B$6:$B$923)","v":947},64.8]
["DIY and gardening products EPR",4,"22154450220",null,"Garden upkeep and landscaping","Outdoor equipment and accessories (excl. tarpaulins, nets, and covers)","PE or PP or PP/PE mix >90%","≥1 kg and <2 kg","€ / unit",0.09,0.09,{"$f":"_xlfn.XLOOKUP(K8068,'Codes éco-part'!$C$6:$C$923,'Codes éco-part'!$B$6:$B$923)","v":"049"},0.11]
["DIY and gardening products EPR",4,"22154450221","Modulated","Garden upkeep and landscaping","Outdoor equipment and accessories (excl. tarpaulins, nets, and covers)","PE or PP or PP/PE mix >90%","≥1 kg and <2 kg","€ / unit",0.08,0.08,{"$f":"_xlfn.XLOOKUP(K8069,'Codes éco-part'!$C$6:$C$923,'Codes éco-part'!$B$6:$B$923)","v":"003"},0.1]
["DIY and gardening products EPR",4,"22154450530",null,"Garden upkeep and landscaping","Outdoor equipment and accessories (excl. tarpaulins, nets, and covers)","PE or PP or PP/PE mix >90%","≥3 kg and <5 kg","€ / unit",0.24,0.24,{"$f":"_xlfn.XLOOKUP(K8074,'Codes éco-part'!$C$6:$C$923,'Codes éco-part'!$B$6:$B$923)","v":"248"},0.28999999999999998]
["DIY and gardening products EPR",4,"22154450551","Modulated","Garden upkeep and landscaping","Outdoor equipment and accessories (excl. tarpaulins, nets, and covers)","PE or PP or PP/PE mix >90%","≥7 kg and <10 kg","€ / unit",0.54,0.54,{"$f":"_xlfn.XLOOKUP(K8079,'Codes éco-part'!$C$6:$C$923,'Codes éco-part'!$B$6:$B$923)","v":"500"},0.65]
["DIY and gardening products EPR",4,"22154450580",null,"Garden upkeep and landscaping","Outdoor equipment and accessories (excl. tarpaulins, nets, and covers)","PE or PP or PP/PE mix >90%","≥20 kg and <25 kg","€ / unit",1.5,1.5,{"$f":"_xlfn.XLOOKUP(K8084,'Codes éco-part'!$C$6:$C$923,'Codes éco-part'!$B$6:$B$923)","v":"059"},1.8]
["DIY and gardening products EPR",4,"22154450581","Modulated","Garden upkeep and landscaping","Outdoor equipment and accessories (excl. tarpaulins, nets, and covers)","PE or PP or PP/PE mix >90%","≥20 kg and <25 kg","€ / unit",1.35,1.35,{"$f":"_xlfn.XLOOKUP(K8085,'Codes éco-part'!$C$6:$C$923,'Codes éco-part'!$B$6:$B$923)","v":"332"},1.62]
["DIY and gardening products EPR",4,"22154460000",null,"Garden upkeep and landscaping","Outdoor equipment and accessories (excl. tarpaulins, nets, and covers)","ABS >90%","Elements of all sizes and weights","€ / ton",60,60,{"$f":"_xlfn.XLOOKUP(K8090,'Codes éco-part'!$C$6:$C$923,'Codes éco-part'!$B$6:$B$923)","v":"180"},72]
["DIY and gardening products EPR",4,"22154460211","Modulated","Garden upkeep and landscaping","Outdoor equipment and accessories (excl. tarpaulins, nets, and covers)","ABS >90%","≥0.5 kg and <1 kg","€ / unit",0.05,0.05,{"$f":"_xlfn.XLOOKUP(K8095,'Codes éco-part'!$C$6:$C$923,'Codes éco-part'!$B$6:$B$923)","v":"048"},0.06]
["DIY and gardening products EPR",4,"22154460520",null,"Garden upkeep and landscaping","Outdoor equipment and accessories (excl. tarpaulins, nets, and covers)","ABS >90%","≥2 kg and <3 kg","€ / unit",0.15,0.15,{"$f":"_xlfn.XLOOKUP(K8100,'Codes éco-part'!$C$6:$C$923,'Codes éco-part'!$B$6:$B$923)","v":"050"},0.18]
["DIY and gardening products EPR",4,"22154460521","Modulated","Garden upkeep and landscaping","Outdoor equipment and accessories (excl. tarpaulins, nets, and covers)","ABS >90%","≥2 kg and <3 kg","€ / unit",0.14000000000000001,0.14000000000000001,{"$f":"_xlfn.XLOOKUP(K8101,'Codes éco-part'!$C$6:$C$923,'Codes éco-part'!$B$6:$B$923)","v":"098"},0.17]
["DIY and gardening products EPR",4,"22154460550",null,"Garden upkeep and landscaping","Outdoor equipment and accessories (excl. tarpaulins, nets, and covers)","ABS >90%","≥7 kg and <10 kg","€ / unit",0.6,0.6,{"$f":"_xlfn.XLOOKUP(K8106,'Codes éco-part'!$C$6:$C$923,'Codes éco-part'!$B$6:$B$923)","v":"327"},0.72]
["DIY and gardening products EPR",4,"22154460571","Modulated","Garden upkeep and landscaping","Outdoor equipment and accessories (excl. tarpaulins, nets, and covers)","ABS >90%","≥15 kg and <20 kg","€ / unit",1.08,1.08,{"$f":"_xlfn.XLOOKUP(K8111,'Codes éco-part'!$C$6:$C$923,'Codes éco-part'!$B$6:$B$923)","v":"113"},1.3]
["DIY and gardening products EPR",4,"22154460600",null,"Garden upkeep and landscaping","Outdoor equipment and accessories (excl. tarpaulins, nets, and covers)","ABS >90%","≥40 kg and <50 kg","€ / unit",3,3,{"$f":"_xlfn.XLOOKUP(K8116,'Codes éco-part'!$C$6:$C$923,'Codes éco-part'!$B$6:$B$923)","v":"474"},3.6]
["DIY and gardening products EPR",4,"22154460601","Modulated","Garden upkeep and landscaping","Outdoor equipment and accessories (excl. tarpaulins, nets, and covers)","ABS >90%","≥40 kg and <50 kg","€ / unit",2.7,2.7,{"$f":"_xlfn.XLOOKUP(K8117,'Codes éco-part'!$C$6:$C$923,'Codes éco-part'!$B$6:$B$923)","v":"611"},3.24]
["DIY and gardening products EPR",4,"22154470210",null,"Garden upkeep and landscaping","Outdoor equipment and accessories (excl. tarpaulins, nets, and covers)","Polystyrene >90%","≥0.5 kg and <1 kg","€ / unit",0.05,0.05,{"$f":"_xlfn.XLOOKUP(K8122,'Codes éco-part'!$C$6:$C$923,'Codes éco-part'!$B$6:$B$923)","v":"048"},0.06]
["DIY and gardening products EPR",4,"22154470271","Modulated","Garden upkeep and landscaping","Outdoor equipment and accessories (excl. tarpaulins, nets, and covers)","Polystyrene >90%","≥30 kg and <40 kg","€ / unit",2.16,2.16,{"$f":"_xlfn.XLOOKUP(K8127,'Codes éco-part'!$C$6:$C$923,'Codes éco-part'!$B$6:$B$923)","v":"622"},2.59]
["DIY and gardening products EPR",4,"22154470540",null,"Garden upkeep and landscaping","Outdoor equipment and accessories (excl. tarpaulins, nets, and covers)","Polystyrene >90%","≥5 kg and <7 kg","€ / unit",0.42,0.42,{"$f":"_xlfn.XLOOKUP(K8132,'Codes éco-part'!$C$6:$C$923,'Codes éco-part'!$B$6:$B$923)","v":"450"},0.5]
["DIY and gardening products EPR",4,"22154470541","Modulated","Garden upkeep and landscaping","Outdoor equipment and accessories (excl. tarpaulins, nets, and covers)","Polystyrene >90%","≥5 kg and <7 kg","€ / unit",0.38,0.38,{"$f":"_xlfn.XLOOKUP(K8133,'Codes éco-part'!$C$6:$C$923,'Codes éco-part'!$B$6:$B$923)","v":"292"},0.46]
["DIY and gardening products EPR",4,"22154470570",null,"Garden upkeep and landscaping","Outdoor equipment and accessories (excl. tarpaulins, nets, and covers)","Polystyrene >90%","≥15 kg and <20 kg","€ / unit",1.2,1.2,{"$f":"_xlfn.XLOOKUP(K8138,'Codes éco-part'!$C$6:$C$923,'Codes éco-part'!$B$6:$B$923)","v":"505"},1.44]
["DIY and gardening products EPR",4,"22154470591","Modulated","Garden upkeep and landscaping","Outdoor equipment and accessories (excl. tarpaulins, nets, and covers)","Polystyrene >90%","≥25 kg and <30 kg","€ / unit",1.62,1.62,{"$f":"_xlfn.XLOOKUP(K8143,'Codes éco-part'!$C$6:$C$923,'Codes éco-part'!$B$6:$B$923)","v":"810"},1.94]
["DIY and gardening products EPR",4,"22154480200",null,"Garden upkeep and landscaping","Outdoor equipment and accessories (excl. tarpaulins, nets, and covers)","PVC >90%","Strictly <0.5 kg","€ / unit",0.02,0.02,{"$f":"_xlfn.XLOOKUP(K8148,'Codes éco-part'!$C$6:$C$923,'Codes éco-part'!$B$6:$B$923)","v":"047"},0.02]
["DIY and gardening products EPR",4,"22154480201","Modulated","Garden upkeep and landscaping","Outdoor equipment and accessories (excl. tarpaulins, nets, and covers)","PVC >90%","Strictly <0.5 kg","€ / unit",0.02,0.02,{"$f":"_xlfn.XLOOKUP(K8149,'Codes éco-part'!$C$6:$C$923,'Codes éco-part'!$B$6:$B$923)","v":"047"},0.02]
["DIY and gardening products EPR",4,"22154480270",null,"Garden upkeep and landscaping","Outdoor equipment and accessories (excl. tarpaulins, nets, and covers)","PVC >90%","≥30 kg and <40 kg","€ / unit",2.4,2.4,{"$f":"_xlfn.XLOOKUP(K8154,'Codes éco-part'!$C$6:$C$923,'Codes éco-part'!$B$6:$B$923)","v":"602"},2.88]
["DIY and gardening products EPR",4,"22154480531","Modulated","Garden upkeep and landscaping","Outdoor equipment and accessories (excl. tarpaulins, nets, and covers)","PVC >90%","≥3 kg and <5 kg","€ / unit",0.22,0.22,{"$f":"_xlfn.XLOOKUP(K8159,'Codes éco-part'!$C$6:$C$923,'Codes éco-part'!$B$6:$B$923)","v":"263"},0.26]
["DIY and gardening products EPR",4,"22154480560",null,"Garden upkeep and landscaping","Outdoor equipment and accessories (excl. tarpaulins, nets, and covers)","PVC >90%","≥10 kg and <15 kg","€ / unit",0.9,0.9,{"$f":"_xlfn.XLOOKUP(K8164,'Codes éco-part'!$C$6:$C$923,'Codes éco-part'!$B$6:$B$923)","v":"330"},1.08]
["DIY and gardening products EPR",4,"22154480561","Modulated","Garden upkeep and landscaping","Outdoor equipment and accessories (excl. tarpaulins, nets, and covers)","PVC >90%","≥10 kg and <15 kg","€ / unit",0.81,0.81,{"$f":"_xlfn.XLOOKUP(K8165,'Codes éco-part'!$C$6:$C$923,'Codes éco-part'!$B$6:$B$923)","v":"112"},0.97]
["DIY and gardening products EPR",4,"22154480590",null,"Garden upkeep and landscaping","Outdoor equipment and accessories (excl. tarpaulins, nets, and covers)","PVC >90%","≥25 kg and <30 kg","€ / unit",1.8,1.8,{"$f":"_xlfn.XLOOKUP(K8170,'Codes éco-part'!$C$6:$C$923,'Codes éco-part'!$B$6:$B$923)","v":"603"},2.16]
["DIY and gardening products EPR",4,"22154490000",null,"Garden upkeep and landscaping","Outdoor equipment and accessories (excl. tarpaulins, nets, and covers)","Synthetic rubber >90%","Elements of all sizes and weights","€ / ton",60,60,{"$f":"_xlfn.XLOOKUP(K8174,'Codes éco-part'!$C$6:$C$923,'Codes éco-part'!$B$6:$B$923)","v":"180"},72]
["DIY and gardening products EPR",4,"22154490211","Modulated","Garden upkeep and landscaping","Outdoor equipment and accessories (excl. tarpaulins, nets, and covers)","Synthetic rubber >90%","≥0.5 kg and <1 kg","€ / unit",0.05,0.05,{"$f":"_xlfn.XLOOKUP(K8179,'Codes éco-part'!$C$6:$C$923,'Codes éco-part'!$B$6:$B$923)","v":"048"},0.06]
["DIY and gardening products EPR",4,"22154490220",null,"Garden upkeep and landscaping","Outdoor equipment and accessories (excl. tarpaulins, nets, and covers)","Synthetic rubber >90%","≥1 kg and <2 kg","€ / unit",0.09,0.09,{"$f":"_xlfn.XLOOKUP(K8180,'Codes éco-part'!$C$6:$C$923,'Codes éco-part'!$B$6:$B$923)","v":"049"},0.11]
["DIY and gardening products EPR",4,"22154490521","Modulated","Garden upkeep and landscaping","Outdoor equipment and accessories (excl. tarpaulins, nets, and covers)","Synthetic rubber >90%","≥2 kg and <3 kg","€ / unit",0.14000000000000001,0.14000000000000001,{"$f":"_xlfn.XLOOKUP(K8185,'Codes éco-part'!$C$6:$C$923,'Codes éco-part'!$B$6:$B$923)","v":"098"},0.17]
["DIY and gardening products EPR",4,"22154490550",null,"Garden upkeep and landscaping","Outdoor equipment and accessories (excl. tarpaulins, nets, and covers)","Synthetic rubber >90%","≥7 kg and <10 kg","€ / unit",0.6,0.6,{"$f":"_xlfn.XLOOKUP(K8190,'Codes éco-part'!$C$6:$C$923,'Codes éco-part'!$B$6:$B$923)","v":"327"},0.72]
["DIY and gardening products EPR",4,"22154490571","Modulated","Garden upkeep and landscaping","Outdoor equipment and accessories (excl. tarpaulins, nets, and covers)","Synthetic rubber >90%","≥15 kg and <20 kg","€ / unit",1.08,1.08,{"$f":"_xlfn.XLOOKUP(K8195,'Codes éco-part'!$C$6:$C$923,'Codes éco-part'!$B$6:$B$923)","v":"113"},1.3]
["DIY and gardening products EPR",4,"22154490580",null,"Garden upkeep and landscaping","Outdoor equipment and accessories (excl. tarpaulins, nets, and covers)","Synthetic rubber >90%","≥20 kg and <25 kg","€ / unit",1.5,1.5,{"$f":"_xlfn.XLOOKUP(K8196,'Codes éco-part'!$C$6:$C$923,'Codes éco-part'!$B$6:$B$923)","v":"059"},1.8]
["DIY and gardening products EPR",4,"22154490601","Modulated","Garden upkeep and landscaping","Outdoor equipment and accessories (excl. tarpaulins, nets, and covers)","Synthetic rubber >90%","≥40 kg and <50 kg","€ / unit",2.7,2.7,{"$f":"_xlfn.XLOOKUP(K8201,'Codes éco-part'!$C$6:$C$923,'Codes éco-part'!$B$6:$B$923)","v":"611"},3.24]
["DIY and gardening products EPR",4,"22154510210",null,"Garden upkeep and landscaping","Outdoor equipment and accessories (excl. tarpaulins, nets, and covers)","Assembly of non-certified wood and/or wood derivatives >50% and other materials or composite wood (excl. glass)","≥0.5 kg and <1 kg","€ / unit",0.02,0.02,{"$f":"_xlfn.XLOOKUP(K8206,'Codes éco-part'!$C$6:$C$923,'Codes éco-part'!$B$6:$B$923)","v":"047"},0.02]
["DIY and gardening products EPR",4,"22154510271","Modulated","Garden upkeep and landscaping","Outdoor equipment and accessories (excl. tarpaulins, nets, and covers)","Assembly of non-certified wood and/or wood derivatives >50% and other materials or composite wood (excl. glass)","≥30 kg and <40 kg","€ / unit",0.94,0.94,{"$f":"_xlfn.XLOOKUP(K8211,'Codes éco-part'!$C$6:$C$923,'Codes éco-part'!$B$6:$B$923)","v":"458"},1.1299999999999999]
["DIY and gardening products EPR",4,"22154510520",null,"Garden upkeep and landscaping","Outdoor equipment and accessories (excl. tarpaulins, nets, and covers)","Assembly of non-certified wood and/or wood derivatives >50% and other materials or composite wood (excl. glass)","≥2 kg and <3 kg","€ / unit",0.06,0.06,{"$f":"_xlfn.XLOOKUP(K8212,'Codes éco-part'!$C$6:$C$923,'Codes éco-part'!$B$6:$B$923)","v":"096"},7.0000000000000007E-2]
["DIY and gardening products EPR",4,"22154510541","Modulated","Garden upkeep and landscaping","Outdoor equipment and accessories (excl. tarpaulins, nets, and covers)","Assembly of non-certified wood and/or wood derivatives >50% and other materials or composite wood (excl. glass)","≥5 kg and <7 kg","€ / unit",0.16,0.16,{"$f":"_xlfn.XLOOKUP(K8217,'Codes éco-part'!$C$6:$C$923,'Codes éco-part'!$B$6:$B$923)","v":"099"},0.19]
["DIY and gardening products EPR",4,"22154510570",null,"Garden upkeep and landscaping","Outdoor equipment and accessories (excl. tarpaulins, nets, and covers)","Assembly of non-certified wood and/or wood derivatives >50% and other materials or composite wood (excl. glass)","≥15 kg and <20 kg","€ / unit",0.52,0.52,{"$f":"_xlfn.XLOOKUP(K8222,'Codes éco-part'!$C$6:$C$923,'Codes éco-part'!$B$6:$B$923)","v":"509"},0.62]
["DIY and gardening products EPR",4,"22154510591","Modulated","Garden upkeep and landscaping","Outdoor equipment and accessories (excl. tarpaulins, nets, and covers)","Assembly of non-certified wood and/or wood derivatives >50% and other materials or composite wood (excl. glass)","≥25 kg and <30 kg","€ / unit",0.7,0.7,{"$f":"_xlfn.XLOOKUP(K8227,'Codes éco-part'!$C$6:$C$923,'Codes éco-part'!$B$6:$B$923)","v":"282"},0.84]
["DIY and gardening products EPR",4,"22154510600",null,"Garden upkeep and landscaping","Outdoor equipment and accessories (excl. tarpaulins, nets, and covers)","Assembly of non-certified wood and/or wood derivatives >50% and other materials or composite wood (excl. glass)","≥40 kg and <50 kg","€ / unit",1.3,1.3,{"$f":"_xlfn.XLOOKUP(K8228,'Codes éco-part'!$C$6:$C$923,'Codes éco-part'!$B$6:$B$923)","v":"511"},1.56]
["DIY and gardening products EPR",4,"22154520201","Modulated","Garden upkeep and landscaping","Outdoor equipment and accessories (excl. tarpaulins, nets, and covers)","Solid wood and related products certified >90%","Strictly <0.5 kg","€ / unit",0.01,0.01,{"$f":"_xlfn.XLOOKUP(K8233,'Codes éco-part'!$C$6:$C$923,'Codes éco-part'!$B$6:$B$923)","v":"260"},0.01]
["DIY and gardening products EPR",4,"22154520270",null,"Garden upkeep and landscaping","Outdoor equipment and accessories (excl. tarpaulins, nets, and covers)","Solid wood and related products certified >90%","≥30 kg and <40 kg","€ / unit",0.52,0.52,{"$f":"_xlfn.XLOOKUP(K8238,'Codes éco-part'!$C$6:$C$923,'Codes éco-part'!$B$6:$B$923)","v":"509"},0.62]
["DIY and gardening products EPR",4,"22154520531","Modulated","Garden upkeep and landscaping","Outdoor equipment and accessories (excl. tarpaulins, nets, and covers)","Solid wood and related products certified >90%","≥3 kg and <5 kg","€ / unit",0.05,0.05,{"$f":"_xlfn.XLOOKUP(K8243,'Codes éco-part'!$C$6:$C$923,'Codes éco-part'!$B$6:$B$923)","v":"048"},0.06]
["DIY and gardening products EPR",4,"22154520540",null,"Garden upkeep and landscaping","Outdoor equipment and accessories (excl. tarpaulins, nets, and covers)","Solid wood and related products certified >90%","≥5 kg and <7 kg","€ / unit",0.09,0.09,{"$f":"_xlfn.XLOOKUP(K8244,'Codes éco-part'!$C$6:$C$923,'Codes éco-part'!$B$6:$B$923)","v":"049"},0.11]
["DIY and gardening products EPR",4,"22154520561","Modulated","Garden upkeep and landscaping","Outdoor equipment and accessories (excl. tarpaulins, nets, and covers)","Solid wood and related products certified >90%","≥10 kg and <15 kg","€ / unit",0.18,0.18,{"$f":"_xlfn.XLOOKUP(K8249,'Codes éco-part'!$C$6:$C$923,'Codes éco-part'!$B$6:$B$923)","v":"100"},0.22]
["DIY and gardening products EPR",4,"22154520590",null,"Garden upkeep and landscaping","Outdoor equipment and accessories (excl. tarpaulins, nets, and covers)","Solid wood and related products certified >90%","≥25 kg and <30 kg","€ / unit",0.39,0.39,{"$f":"_xlfn.XLOOKUP(K8254,'Codes éco-part'!$C$6:$C$923,'Codes éco-part'!$B$6:$B$923)","v":"253"},0.47]
["DIY and gardening products EPR",4,"22154530001","Modulated","Garden upkeep and landscaping","Outdoor equipment and accessories (excl. tarpaulins, nets, and covers)","Solid wood and related products >90%","Elements of all sizes and weights","€ / ton",23.4,23.4,{"$f":"_xlfn.XLOOKUP(K8259,'Codes éco-part'!$C$6:$C$923,'Codes éco-part'!$B$6:$B$923)","v":946},28.08]
["DIY and gardening products EPR",4,"22154530200",null,"Garden upkeep and landscaping","Outdoor equipment and accessories (excl. tarpaulins, nets, and covers)","Solid wood and related products >90%","Strictly <0.5 kg","€ / unit",0.02,0.02,{"$f":"_xlfn.XLOOKUP(K8260,'Codes éco-part'!$C$6:$C$923,'Codes éco-part'!$B$6:$B$923)","v":"047"},0.02]
["DIY and gardening products EPR",4,"22154530221","Modulated","Garden upkeep and landscaping","Outdoor equipment and accessories (excl. tarpaulins, nets, and covers)","Solid wood and related products >90%","≥1 kg and <2 kg","€ / unit",0.04,0.04,{"$f":"_xlfn.XLOOKUP(K8265,'Codes éco-part'!$C$6:$C$923,'Codes éco-part'!$B$6:$B$923)","v":"002"},0.05]
["DIY and gardening products EPR",4,"22154530530",null,"Garden upkeep and landscaping","Outdoor equipment and accessories (excl. tarpaulins, nets, and covers)","Solid wood and related products >90%","≥3 kg and <5 kg","€ / unit",0.1,0.1,{"$f":"_xlfn.XLOOKUP(K8270,'Codes éco-part'!$C$6:$C$923,'Codes éco-part'!$B$6:$B$923)","v":"094"},0.12]
["DIY and gardening products EPR",4,"22154530551","Modulated","Garden upkeep and landscaping","Outdoor equipment and accessories (excl. tarpaulins, nets, and covers)","Solid wood and related products >90%","≥7 kg and <10 kg","€ / unit",0.23,0.23,{"$f":"_xlfn.XLOOKUP(K8275,'Codes éco-part'!$C$6:$C$923,'Codes éco-part'!$B$6:$B$923)","v":"323"},0.28000000000000003]
["DIY and gardening products EPR",4,"22154530560",null,"Garden upkeep and landscaping","Outdoor equipment and accessories (excl. tarpaulins, nets, and covers)","Solid wood and related products >90%","≥10 kg and <15 kg","€ / unit",0.4,0.4,{"$f":"_xlfn.XLOOKUP(K8276,'Codes éco-part'!$C$6:$C$923,'Codes éco-part'!$B$6:$B$923)","v":"105"},0.48]
["DIY and gardening products EPR",4,"22154530581","Modulated","Garden upkeep and landscaping","Outdoor equipment and accessories (excl. tarpaulins, nets, and covers)","Solid wood and related products >90%","≥20 kg and <25 kg","€ / unit",0.59,0.59,{"$f":"_xlfn.XLOOKUP(K8281,'Codes éco-part'!$C$6:$C$923,'Codes éco-part'!$B$6:$B$923)","v":"254"},0.71]
["DIY and gardening products EPR",4,"22154540000",null,"Garden upkeep and landscaping","Outdoor equipment and accessories (excl. tarpaulins, nets, and covers)","Non-certified wood derivatives >90%","Elements of all sizes and weights","€ / ton",26,26,{"$f":"_xlfn.XLOOKUP(K8286,'Codes éco-part'!$C$6:$C$923,'Codes éco-part'!$B$6:$B$923)","v":"582"},31.2]
["DIY and gardening products EPR",4,"22154540211","Modulated","Garden upkeep and landscaping","Outdoor equipment and accessories (excl. tarpaulins, nets, and covers)","Non-certified wood derivatives >90%","≥0.5 kg and <1 kg","€ / unit",0.02,0.02,{"$f":"_xlfn.XLOOKUP(K8291,'Codes éco-part'!$C$6:$C$923,'Codes éco-part'!$B$6:$B$923)","v":"047"},0.02]
["DIY and gardening products EPR",4,"22154540220",null,"Garden upkeep and landscaping","Outdoor equipment and accessories (excl. tarpaulins, nets, and covers)","Non-certified wood derivatives >90%","≥1 kg and <2 kg","€ / unit",0.04,0.04,{"$f":"_xlfn.XLOOKUP(K8292,'Codes éco-part'!$C$6:$C$923,'Codes éco-part'!$B$6:$B$923)","v":"002"},0.05]
["DIY and gardening products EPR",4,"22154540521","Modulated","Garden upkeep and landscaping","Outdoor equipment and accessories (excl. tarpaulins, nets, and covers)","Non-certified wood derivatives >90%","≥2 kg and <3 kg","€ / unit",0.05,0.05,{"$f":"_xlfn.XLOOKUP(K8297,'Codes éco-part'!$C$6:$C$923,'Codes éco-part'!$B$6:$B$923)","v":"048"},0.06]
["DIY and gardening products EPR",4,"22154540550",null,"Garden upkeep and landscaping","Outdoor equipment and accessories (excl. tarpaulins, nets, and covers)","Non-certified wood derivatives >90%","≥7 kg and <10 kg","€ / unit",0.26,0.26,{"$f":"_xlfn.XLOOKUP(K8302,'Codes éco-part'!$C$6:$C$923,'Codes éco-part'!$B$6:$B$923)","v":"445"},0.31]
["DIY and gardening products EPR",4,"22154540571","Modulated","Garden upkeep and landscaping","Outdoor equipment and accessories (excl. tarpaulins, nets, and covers)","Non-certified wood derivatives >90%","≥15 kg and <20 kg","€ / unit",0.47,0.47,{"$f":"_xlfn.XLOOKUP(K8307,'Codes éco-part'!$C$6:$C$923,'Codes éco-part'!$B$6:$B$923)","v":"107"},0.56000000000000005]
["DIY and gardening products EPR",4,"22154540580",null,"Garden upkeep and landscaping","Outdoor equipment and accessories (excl. tarpaulins, nets, and covers)","Non-certified wood derivatives >90%","≥20 kg and <25 kg","€ / unit",0.66,0.66,{"$f":"_xlfn.XLOOKUP(K8308,'Codes éco-part'!$C$6:$C$923,'Codes éco-part'!$B$6:$B$923)","v":"453"},0.79]
["DIY and gardening products EPR",4,"22154540601","Modulated","Garden upkeep and landscaping","Outdoor equipment and accessories (excl. tarpaulins, nets, and covers)","Non-certified wood derivatives >90%","≥40 kg and <50 kg","€ / unit",1.17,1.17,{"$f":"_xlfn.XLOOKUP(K8313,'Codes éco-part'!$C$6:$C$923,'Codes éco-part'!$B$6:$B$923)","v":"537"},1.4]
["DIY and gardening products EPR",4,"22154550210",null,"Garden upkeep and landscaping","Outdoor equipment and accessories (excl. tarpaulins, nets, and covers)","Biosourced materials or non-synthetic textiles >90%","≥0.5 kg and <1 kg","€ / unit",0.03,0.03,{"$f":"_xlfn.XLOOKUP(K8318,'Codes éco-part'!$C$6:$C$923,'Codes éco-part'!$B$6:$B$923)","v":"092"},0.04]
["DIY and gardening products EPR",4,"22154550271","Modulated","Garden upkeep and landscaping","Outdoor equipment and accessories (excl. tarpaulins, nets, and covers)","Biosourced materials or non-synthetic textiles >90%","≥30 kg and <40 kg","€ / unit",1.44,1.44,{"$f":"_xlfn.XLOOKUP(K8323,'Codes éco-part'!$C$6:$C$923,'Codes éco-part'!$B$6:$B$923)","v":"566"},1.73]
["DIY and gardening products EPR",4,"22154550520",null,"Garden upkeep and landscaping","Outdoor equipment and accessories (excl. tarpaulins, nets, and covers)","Biosourced materials or non-synthetic textiles >90%","≥2 kg and <3 kg","€ / unit",0.1,0.1,{"$f":"_xlfn.XLOOKUP(K8324,'Codes éco-part'!$C$6:$C$923,'Codes éco-part'!$B$6:$B$923)","v":"094"},0.12]
["DIY and gardening products EPR",4,"22154550541","Modulated","Garden upkeep and landscaping","Outdoor equipment and accessories (excl. tarpaulins, nets, and covers)","Biosourced materials or non-synthetic textiles >90%","≥5 kg and <7 kg","€ / unit",0.25,0.25,{"$f":"_xlfn.XLOOKUP(K8329,'Codes éco-part'!$C$6:$C$923,'Codes éco-part'!$B$6:$B$923)","v":"095"},0.3]
["DIY and gardening products EPR",4,"22154550570",null,"Garden upkeep and landscaping","Outdoor equipment and accessories (excl. tarpaulins, nets, and covers)","Biosourced materials or non-synthetic textiles >90%","≥15 kg and <20 kg","€ / unit",0.8,0.8,{"$f":"_xlfn.XLOOKUP(K8334,'Codes éco-part'!$C$6:$C$923,'Codes éco-part'!$B$6:$B$923)","v":"456"},0.96]
["DIY and gardening products EPR",4,"22154550591","Modulated","Garden upkeep and landscaping","Outdoor equipment and accessories (excl. tarpaulins, nets, and covers)","Biosourced materials or non-synthetic textiles >90%","≥25 kg and <30 kg","€ / unit",1.08,1.08,{"$f":"_xlfn.XLOOKUP(K8339,'Codes éco-part'!$C$6:$C$923,'Codes éco-part'!$B$6:$B$923)","v":"113"},1.3]
["DIY and gardening products EPR",4,"22154550600",null,"Garden upkeep and landscaping","Outdoor equipment and accessories (excl. tarpaulins, nets, and covers)","Biosourced materials or non-synthetic textiles >90%","≥40 kg and <50 kg","€ / unit",2,2,{"$f":"_xlfn.XLOOKUP(K8340,'Codes éco-part'!$C$6:$C$923,'Codes éco-part'!$B$6:$B$923)","v":"061"},2.4]
["DIY and gardening products EPR",4,"22154590201","Modulated","Garden upkeep and landscaping","Outdoor equipment and accessories (excl. tarpaulins, nets, and covers)","Certified chipboard or OSB >90%","Strictly <0.5 kg","€ / unit",0.01,0.01,{"$f":"_xlfn.XLOOKUP(K8345,'Codes éco-part'!$C$6:$C$923,'Codes éco-part'!$B$6:$B$923)","v":"260"},0.01]
["DIY and gardening products EPR",4,"22154590270",null,"Garden upkeep and landscaping","Outdoor equipment and accessories (excl. tarpaulins, nets, and covers)","Certified chipboard or OSB >90%","≥30 kg and <40 kg","€ / unit",0.52,0.52,{"$f":"_xlfn.XLOOKUP(K8350,'Codes éco-part'!$C$6:$C$923,'Codes éco-part'!$B$6:$B$923)","v":"509"},0.62]
["DIY and gardening products EPR",4,"22154590531","Modulated","Garden upkeep and landscaping","Outdoor equipment and accessories (excl. tarpaulins, nets, and covers)","Certified chipboard or OSB >90%","≥3 kg and <5 kg","€ / unit",0.05,0.05,{"$f":"_xlfn.XLOOKUP(K8355,'Codes éco-part'!$C$6:$C$923,'Codes éco-part'!$B$6:$B$923)","v":"048"},0.06]
["DIY and gardening products EPR",4,"22154590540",null,"Garden upkeep and landscaping","Outdoor equipment and accessories (excl. tarpaulins, nets, and covers)","Certified chipboard or OSB >90%","≥5 kg and <7 kg","€ / unit",0.09,0.09,{"$f":"_xlfn.XLOOKUP(K8356,'Codes éco-part'!$C$6:$C$923,'Codes éco-part'!$B$6:$B$923)","v":"049"},0.11]
["DIY and gardening products EPR",4,"22154590561","Modulated","Garden upkeep and landscaping","Outdoor equipment and accessories (excl. tarpaulins, nets, and covers)","Certified chipboard or OSB >90%","≥10 kg and <15 kg","€ / unit",0.18,0.18,{"$f":"_xlfn.XLOOKUP(K8361,'Codes éco-part'!$C$6:$C$923,'Codes éco-part'!$B$6:$B$923)","v":"100"},0.22]
["DIY and gardening products EPR",4,"22154590590",null,"Garden upkeep and landscaping","Outdoor equipment and accessories (excl. tarpaulins, nets, and covers)","Certified chipboard or OSB >90%","≥25 kg and <30 kg","€ / unit",0.39,0.39,{"$f":"_xlfn.XLOOKUP(K8366,'Codes éco-part'!$C$6:$C$923,'Codes éco-part'!$B$6:$B$923)","v":"253"},0.47]
["DIY and gardening products EPR",4,"22154600001","Modulated","Garden upkeep and landscaping","Outdoor equipment and accessories (excl. tarpaulins, nets, and covers)","Certified chipboard or OSB >75%","Elements of all sizes and weights","€ / ton",11.7,11.7,{"$f":"_xlfn.XLOOKUP(K8371,'Codes éco-part'!$C$6:$C$923,'Codes éco-part'!$B$6:$B$923)","v":945},14.04]
["DIY and gardening products EPR",4,"22154600200",null,"Garden upkeep and landscaping","Outdoor equipment and accessories (excl. tarpaulins, nets, and covers)","Certified chipboard or OSB >75%","Strictly <0.5 kg","€ / unit",0.01,0.01,{"$f":"_xlfn.XLOOKUP(K8372,'Codes éco-part'!$C$6:$C$923,'Codes éco-part'!$B$6:$B$923)","v":"260"},0.01]
["DIY and gardening products EPR",4,"22154600221","Modulated","Garden upkeep and landscaping","Outdoor equipment and accessories (excl. tarpaulins, nets, and covers)","Certified chipboard or OSB >75%","≥1 kg and <2 kg","€ / unit",0.02,0.02,{"$f":"_xlfn.XLOOKUP(K8377,'Codes éco-part'!$C$6:$C$923,'Codes éco-part'!$B$6:$B$923)","v":"047"},0.02]
["DIY and gardening products EPR",4,"22154600530",null,"Garden upkeep and landscaping","Outdoor equipment and accessories (excl. tarpaulins, nets, and covers)","Certified chipboard or OSB >75%","≥3 kg and <5 kg","€ / unit",0.05,0.05,{"$f":"_xlfn.XLOOKUP(K8382,'Codes éco-part'!$C$6:$C$923,'Codes éco-part'!$B$6:$B$923)","v":"048"},0.06]
["DIY and gardening products EPR",4,"22154600551","Modulated","Garden upkeep and landscaping","Outdoor equipment and accessories (excl. tarpaulins, nets, and covers)","Certified chipboard or OSB >75%","≥7 kg and <10 kg","€ / unit",0.12,0.12,{"$f":"_xlfn.XLOOKUP(K8387,'Codes éco-part'!$C$6:$C$923,'Codes éco-part'!$B$6:$B$923)","v":"097"},0.14000000000000001]
["DIY and gardening products EPR",4,"22154600560",null,"Garden upkeep and landscaping","Outdoor equipment and accessories (excl. tarpaulins, nets, and covers)","Certified chipboard or OSB >75%","≥10 kg and <15 kg","€ / unit",0.2,0.2,{"$f":"_xlfn.XLOOKUP(K8388,'Codes éco-part'!$C$6:$C$923,'Codes éco-part'!$B$6:$B$923)","v":"101"},0.24]
["DIY and gardening products EPR",4,"22154600581","Modulated","Garden upkeep and landscaping","Outdoor equipment and accessories (excl. tarpaulins, nets, and covers)","Certified chipboard or OSB >75%","≥20 kg and <25 kg","€ / unit",0.3,0.3,{"$f":"_xlfn.XLOOKUP(K8393,'Codes éco-part'!$C$6:$C$923,'Codes éco-part'!$B$6:$B$923)","v":"446"},0.36]
["DIY and gardening products EPR",4,"22154610000",null,"Garden upkeep and landscaping","Outdoor equipment and accessories (excl. tarpaulins, nets, and covers)","Chipboard or OSB >90%","Elements of all sizes and weights","€ / ton",26,26,{"$f":"_xlfn.XLOOKUP(K8398,'Codes éco-part'!$C$6:$C$923,'Codes éco-part'!$B$6:$B$923)","v":"582"},31.2]
["DIY and gardening products EPR",4,"22154610211","Modulated","Garden upkeep and landscaping","Outdoor equipment and accessories (excl. tarpaulins, nets, and covers)","Chipboard or OSB >90%","≥0.5 kg and <1 kg","€ / unit",0.02,0.02,{"$f":"_xlfn.XLOOKUP(K8403,'Codes éco-part'!$C$6:$C$923,'Codes éco-part'!$B$6:$B$923)","v":"047"},0.02]
["DIY and gardening products EPR",4,"22154610220",null,"Garden upkeep and landscaping","Outdoor equipment and accessories (excl. tarpaulins, nets, and covers)","Chipboard or OSB >90%","≥1 kg and <2 kg","€ / unit",0.04,0.04,{"$f":"_xlfn.XLOOKUP(K8404,'Codes éco-part'!$C$6:$C$923,'Codes éco-part'!$B$6:$B$923)","v":"002"},0.05]
["DIY and gardening products EPR",4,"22154610521","Modulated","Garden upkeep and landscaping","Outdoor equipment and accessories (excl. tarpaulins, nets, and covers)","Chipboard or OSB >90%","≥2 kg and <3 kg","€ / unit",0.05,0.05,{"$f":"_xlfn.XLOOKUP(K8409,'Codes éco-part'!$C$6:$C$923,'Codes éco-part'!$B$6:$B$923)","v":"048"},0.06]
["DIY and gardening products EPR",4,"22154610550",null,"Garden upkeep and landscaping","Outdoor equipment and accessories (excl. tarpaulins, nets, and covers)","Chipboard or OSB >90%","≥7 kg and <10 kg","€ / unit",0.26,0.26,{"$f":"_xlfn.XLOOKUP(K8414,'Codes éco-part'!$C$6:$C$923,'Codes éco-part'!$B$6:$B$923)","v":"445"},0.31]
["DIY and gardening products EPR",4,"22154610571","Modulated","Garden upkeep and landscaping","Outdoor equipment and accessories (excl. tarpaulins, nets, and covers)","Chipboard or OSB >90%","≥15 kg and <20 kg","€ / unit",0.47,0.47,{"$f":"_xlfn.XLOOKUP(K8419,'Codes éco-part'!$C$6:$C$923,'Codes éco-part'!$B$6:$B$923)","v":"107"},0.56000000000000005]
["DIY and gardening products EPR",4,"22154610580",null,"Garden upkeep and landscaping","Outdoor equipment and accessories (excl. tarpaulins, nets, and covers)","Chipboard or OSB >90%","≥20 kg and <25 kg","€ / unit",0.66,0.66,{"$f":"_xlfn.XLOOKUP(K8420,'Codes éco-part'!$C$6:$C$923,'Codes éco-part'!$B$6:$B$923)","v":"453"},0.79]
["DIY and gardening products EPR",4,"22154610601","Modulated","Garden upkeep and landscaping","Outdoor equipment and accessories (excl. tarpaulins, nets, and covers)","Chipboard or OSB >90%","≥40 kg and <50 kg","€ / unit",1.17,1.17,{"$f":"_xlfn.XLOOKUP(K8425,'Codes éco-part'!$C$6:$C$923,'Codes éco-part'!$B$6:$B$923)","v":"537"},1.4]
["DIY and gardening products EPR",4,"22154620201","Modulated","Garden upkeep and landscaping","Outdoor equipment and accessories (excl. tarpaulins, nets, and covers)","Wood derivatives >90%","Strictly <0.5 kg","€ / unit",0.01,0.01,{"$f":"_xlfn.XLOOKUP(K8429,'Codes éco-part'!$C$6:$C$923,'Codes éco-part'!$B$6:$B$923)","v":"260"},0.01]
["DIY and gardening products EPR",4,"22154620270",null,"Garden upkeep and landscaping","Outdoor equipment and accessories (excl. tarpaulins, nets, and covers)","Wood derivatives >90%","≥30 kg and <40 kg","€ / unit",0.52,0.52,{"$f":"_xlfn.XLOOKUP(K8434,'Codes éco-part'!$C$6:$C$923,'Codes éco-part'!$B$6:$B$923)","v":"509"},0.62]
["DIY and gardening products EPR",4,"22154620271","Modulated","Garden upkeep and landscaping","Outdoor equipment and accessories (excl. tarpaulins, nets, and covers)","Wood derivatives >90%","≥30 kg and <40 kg","€ / unit",0.47,0.47,{"$f":"_xlfn.XLOOKUP(K8435,'Codes éco-part'!$C$6:$C$923,'Codes éco-part'!$B$6:$B$923)","v":"107"},0.56000000000000005]
["DIY and gardening products EPR",4,"22154620540",null,"Garden upkeep and landscaping","Outdoor equipment and accessories (excl. tarpaulins, nets, and covers)","Wood derivatives >90%","≥5 kg and <7 kg","€ / unit",0.09,0.09,{"$f":"_xlfn.XLOOKUP(K8440,'Codes éco-part'!$C$6:$C$923,'Codes éco-part'!$B$6:$B$923)","v":"049"},0.11]
["DIY and gardening products EPR",4,"22154620561","Modulated","Garden upkeep and landscaping","Outdoor equipment and accessories (excl. tarpaulins, nets, and covers)","Wood derivatives >90%","≥10 kg and <15 kg","€ / unit",0.18,0.18,{"$f":"_xlfn.XLOOKUP(K8445,'Codes éco-part'!$C$6:$C$923,'Codes éco-part'!$B$6:$B$923)","v":"100"},0.22]
["DIY and gardening products EPR",4,"22154620590",null,"Garden upkeep and landscaping","Outdoor equipment and accessories (excl. tarpaulins, nets, and covers)","Wood derivatives >90%","≥25 kg and <30 kg","€ / unit",0.39,0.39,{"$f":"_xlfn.XLOOKUP(K8450,'Codes éco-part'!$C$6:$C$923,'Codes éco-part'!$B$6:$B$923)","v":"253"},{"$f":"ROUND(K8450*1.2,2)","v":0.47}]
["DIY and gardening products EPR",4,"22154620591","Modulated","Garden upkeep and landscaping","Outdoor equipment and accessories (excl. tarpaulins, nets, and covers)","Wood derivatives >90%","≥25 kg and <30 kg","€ / unit",0.35,0.35,{"$f":"_xlfn.XLOOKUP(K8451,'Codes éco-part'!$C$6:$C$923,'Codes éco-part'!$B$6:$B$923)","v":"448"},0.42]
["DIY and gardening products EPR",4,"22154630200",null,"Garden upkeep and landscaping","Outdoor equipment and accessories (excl. tarpaulins, nets, and covers)","Natural rubber >90%","Strictly <0.5 kg","€ / unit",0.01,0.01,{"$f":"_xlfn.XLOOKUP(K8456,'Codes éco-part'!$C$6:$C$923,'Codes éco-part'!$B$6:$B$923)","v":"260"},0.01]
["DIY and gardening products EPR",4,"22154630221","Modulated","Garden upkeep and landscaping","Outdoor equipment and accessories (excl. tarpaulins, nets, and covers)","Natural rubber >90%","≥1 kg and <2 kg","€ / unit",0.05,0.05,{"$f":"_xlfn.XLOOKUP(K8461,'Codes éco-part'!$C$6:$C$923,'Codes éco-part'!$B$6:$B$923)","v":"048"},0.06]
["DIY and gardening products EPR",4,"22154630530",null,"Garden upkeep and landscaping","Outdoor equipment and accessories (excl. tarpaulins, nets, and covers)","Natural rubber >90%","≥3 kg and <5 kg","€ / unit",0.16,0.16,{"$f":"_xlfn.XLOOKUP(K8466,'Codes éco-part'!$C$6:$C$923,'Codes éco-part'!$B$6:$B$923)","v":"099"},0.19]
["DIY and gardening products EPR",4,"22154630531","Modulated","Garden upkeep and landscaping","Outdoor equipment and accessories (excl. tarpaulins, nets, and covers)","Natural rubber >90%","≥3 kg and <5 kg","€ / unit",0.14000000000000001,0.14000000000000001,{"$f":"_xlfn.XLOOKUP(K8467,'Codes éco-part'!$C$6:$C$923,'Codes éco-part'!$B$6:$B$923)","v":"098"},0.17]
["DIY and gardening products EPR",4,"22154630560",null,"Garden upkeep and landscaping","Outdoor equipment and accessories (excl. tarpaulins, nets, and covers)","Natural rubber >90%","≥10 kg and <15 kg","€ / unit",0.6,0.6,{"$f":"_xlfn.XLOOKUP(K8472,'Codes éco-part'!$C$6:$C$923,'Codes éco-part'!$B$6:$B$923)","v":"327"},0.72]
["DIY and gardening products EPR",4,"22154630581","Modulated","Garden upkeep and landscaping","Outdoor equipment and accessories (excl. tarpaulins, nets, and covers)","Natural rubber >90%","≥20 kg and <25 kg","€ / unit",0.9,0.9,{"$f":"_xlfn.XLOOKUP(K8477,'Codes éco-part'!$C$6:$C$923,'Codes éco-part'!$B$6:$B$923)","v":"330"},1.08]
["DIY and gardening products EPR",4,"22154640000",null,"Garden upkeep and landscaping","Outdoor equipment and accessories (excl. tarpaulins, nets, and covers)","Natural rubber >50%","Elements of all sizes and weights","€ / ton",90,90,{"$f":"_xlfn.XLOOKUP(K8482,'Codes éco-part'!$C$6:$C$923,'Codes éco-part'!$B$6:$B$923)","v":"609"},108]
["DIY and gardening products EPR",4,"22154640001","Modulated","Garden upkeep and landscaping","Outdoor equipment and accessories (excl. tarpaulins, nets, and covers)","Natural rubber >50%","Elements of all sizes and weights","€ / ton",81,81,{"$f":"_xlfn.XLOOKUP(K8483,'Codes éco-part'!$C$6:$C$923,'Codes éco-part'!$B$6:$B$923)","v":943},97.2]
["DIY and gardening products EPR",4,"22154640220",null,"Garden upkeep and landscaping","Outdoor equipment and accessories (excl. tarpaulins, nets, and covers)","Natural rubber >50%","≥1 kg and <2 kg","€ / unit",0.14000000000000001,0.14000000000000001,{"$f":"_xlfn.XLOOKUP(K8488,'Codes éco-part'!$C$6:$C$923,'Codes éco-part'!$B$6:$B$923)","v":"098"},0.17]
["DIY and gardening products EPR",4,"22154640521","Modulated","Garden upkeep and landscaping","Outdoor equipment and accessories (excl. tarpaulins, nets, and covers)","Natural rubber >50%","≥2 kg and <3 kg","€ / unit",0.21,0.21,{"$f":"_xlfn.XLOOKUP(K8493,'Codes éco-part'!$C$6:$C$923,'Codes éco-part'!$B$6:$B$923)","v":"051"},0.25]
["DIY and gardening products EPR",4,"22154640550",null,"Garden upkeep and landscaping","Outdoor equipment and accessories (excl. tarpaulins, nets, and covers)","Natural rubber >50%","≥7 kg and <10 kg","€ / unit",0.9,0.9,{"$f":"_xlfn.XLOOKUP(K8498,'Codes éco-part'!$C$6:$C$923,'Codes éco-part'!$B$6:$B$923)","v":"330"},1.08]
["DIY and gardening products EPR",4,"22154640551","Modulated","Garden upkeep and landscaping","Outdoor equipment and accessories (excl. tarpaulins, nets, and covers)","Natural rubber >50%","≥7 kg and <10 kg","€ / unit",0.81,0.81,{"$f":"_xlfn.XLOOKUP(K8499,'Codes éco-part'!$C$6:$C$923,'Codes éco-part'!$B$6:$B$923)","v":"112"},0.97]
["DIY and gardening products EPR",4,"22154640580",null,"Garden upkeep and landscaping","Outdoor equipment and accessories (excl. tarpaulins, nets, and covers)","Natural rubber >50%","≥20 kg and <25 kg","€ / unit",2.25,2.25,{"$f":"_xlfn.XLOOKUP(K8504,'Codes éco-part'!$C$6:$C$923,'Codes éco-part'!$B$6:$B$923)","v":"118"},2.7]
["DIY and gardening products EPR",4,"22154640601","Modulated","Garden upkeep and landscaping","Outdoor equipment and accessories (excl. tarpaulins, nets, and covers)","Natural rubber >50%","≥40 kg and <50 kg","€ / unit",4.05,4.05,{"$f":"_xlfn.XLOOKUP(K8509,'Codes éco-part'!$C$6:$C$923,'Codes éco-part'!$B$6:$B$923)","v":"884"},4.8600000000000003]
["DIY and gardening products EPR",4,"22154650210",null,"Garden upkeep and landscaping","Outdoor equipment and accessories (excl. tarpaulins, nets, and covers)","Synthetic fibres or materials >90%","≥0.5 kg and <1 kg","€ / unit",0.05,0.05,{"$f":"_xlfn.XLOOKUP(K8514,'Codes éco-part'!$C$6:$C$923,'Codes éco-part'!$B$6:$B$923)","v":"048"},{"$f":"ROUND(K8514*1.2,2)","v":0.06}]
["DIY and gardening products EPR",4,"22154650211","Modulated","Garden upkeep and landscaping","Outdoor equipment and accessories (excl. tarpaulins, nets, and covers)","Synthetic fibres or materials >90%","≥0.5 kg and <1 kg","€ / unit",0.05,0.05,{"$f":"_xlfn.XLOOKUP(K8515,'Codes éco-part'!$C$6:$C$923,'Codes éco-part'!$B$6:$B$923)","v":"048"},0.06]
["DIY and gardening products EPR",4,"22154650520",null,"Garden upkeep and landscaping","Outdoor equipment and accessories (excl. tarpaulins, nets, and covers)","Synthetic fibres or materials >90%","≥2 kg and <3 kg","€ / unit",0.15,0.15,{"$f":"_xlfn.XLOOKUP(K8520,'Codes éco-part'!$C$6:$C$923,'Codes éco-part'!$B$6:$B$923)","v":"050"},0.18]
["DIY and gardening products EPR",4,"22154650541","Modulated","Garden upkeep and landscaping","Outdoor equipment and accessories (excl. tarpaulins, nets, and covers)","Synthetic fibres or materials >90%","≥5 kg and <7 kg","€ / unit",0.38,0.38,{"$f":"_xlfn.XLOOKUP(K8525,'Codes éco-part'!$C$6:$C$923,'Codes éco-part'!$B$6:$B$923)","v":"292"},0.46]
["DIY and gardening products EPR",4,"22154650570",null,"Garden upkeep and landscaping","Outdoor equipment and accessories (excl. tarpaulins, nets, and covers)","Synthetic fibres or materials >90%","≥15 kg and <20 kg","€ / unit",1.2,1.2,{"$f":"_xlfn.XLOOKUP(K8530,'Codes éco-part'!$C$6:$C$923,'Codes éco-part'!$B$6:$B$923)","v":"505"},1.44]
["DIY and gardening products EPR",4,"22154650571","Modulated","Garden upkeep and landscaping","Outdoor equipment and accessories (excl. tarpaulins, nets, and covers)","Synthetic fibres or materials >90%","≥15 kg and <20 kg","€ / unit",1.08,1.08,{"$f":"_xlfn.XLOOKUP(K8531,'Codes éco-part'!$C$6:$C$923,'Codes éco-part'!$B$6:$B$923)","v":"113"},1.3]
["DIY and gardening products EPR",4,"22154650600",null,"Garden upkeep and landscaping","Outdoor equipment and accessories (excl. tarpaulins, nets, and covers)","Synthetic fibres or materials >90%","≥40 kg and <50 kg","€ / unit",3,3,{"$f":"_xlfn.XLOOKUP(K8536,'Codes éco-part'!$C$6:$C$923,'Codes éco-part'!$B$6:$B$923)","v":"474"},3.6]
["DIY and gardening products EPR",4,"22154670201","Modulated","Garden upkeep and landscaping","Outdoor equipment and accessories (excl. tarpaulins, nets, and covers)","Assembly of synthetic fibres and/or materials >50% and other materials","Strictly <0.5 kg","€ / unit",0.02,0.02,{"$f":"_xlfn.XLOOKUP(K8541,'Codes éco-part'!$C$6:$C$923,'Codes éco-part'!$B$6:$B$923)","v":"047"},0.02]
["DIY and gardening products EPR",4,"22154670270",null,"Garden upkeep and landscaping","Outdoor equipment and accessories (excl. tarpaulins, nets, and covers)","Assembly of synthetic fibres and/or materials >50% and other materials","≥30 kg and <40 kg","€ / unit",3.6,3.6,{"$f":"_xlfn.XLOOKUP(K8546,'Codes éco-part'!$C$6:$C$923,'Codes éco-part'!$B$6:$B$923)","v":"610"},4.32]
["DIY and gardening products EPR",4,"22154670271","Modulated","Garden upkeep and landscaping","Outdoor equipment and accessories (excl. tarpaulins, nets, and covers)","Assembly of synthetic fibres and/or materials >50% and other materials","≥30 kg and <40 kg","€ / unit",3.24,3.24,{"$f":"_xlfn.XLOOKUP(K8547,'Codes éco-part'!$C$6:$C$923,'Codes éco-part'!$B$6:$B$923)","v":944},3.89]
["DIY and gardening products EPR",4,"22154670540",null,"Garden upkeep and landscaping","Outdoor equipment and accessories (excl. tarpaulins, nets, and covers)","Assembly of synthetic fibres and/or materials >50% and other materials","≥5 kg and <7 kg","€ / unit",0.63,0.63,{"$f":"_xlfn.XLOOKUP(K8552,'Codes éco-part'!$C$6:$C$923,'Codes éco-part'!$B$6:$B$923)","v":"297"},0.76]
["DIY and gardening products EPR",4,"22154670561","Modulated","Garden upkeep and landscaping","Outdoor equipment and accessories (excl. tarpaulins, nets, and covers)","Assembly of synthetic fibres and/or materials >50% and other materials","≥10 kg and <15 kg","€ / unit",1.22,1.22,{"$f":"_xlfn.XLOOKUP(K8557,'Codes éco-part'!$C$6:$C$923,'Codes éco-part'!$B$6:$B$923)","v":"636"},1.46]
["DIY and gardening products EPR",4,"22154670590",null,"Garden upkeep and landscaping","Outdoor equipment and accessories (excl. tarpaulins, nets, and covers)","Assembly of synthetic fibres and/or materials >50% and other materials","≥25 kg and <30 kg","€ / unit",2.7,2.7,{"$f":"_xlfn.XLOOKUP(K8562,'Codes éco-part'!$C$6:$C$923,'Codes éco-part'!$B$6:$B$923)","v":"611"},3.24]
["DIY and gardening products EPR",4,"22154670591","Modulated","Garden upkeep and landscaping","Outdoor equipment and accessories (excl. tarpaulins, nets, and covers)","Assembly of synthetic fibres and/or materials >50% and other materials","≥25 kg and <30 kg","€ / unit",2.4300000000000002,2.4300000000000002,{"$f":"_xlfn.XLOOKUP(K8563,'Codes éco-part'!$C$6:$C$923,'Codes éco-part'!$B$6:$B$923)","v":"471"},2.92]
["DIY and gardening products EPR",4,"22154680200",null,"Garden upkeep and landscaping","Outdoor equipment and accessories (excl. tarpaulins, nets, and covers)","Glass >90%","Strictly <0.5 kg","€ / unit",0.01,0.01,{"$f":"_xlfn.XLOOKUP(K8568,'Codes éco-part'!$C$6:$C$923,'Codes éco-part'!$B$6:$B$923)","v":"260"},0.01]
["DIY and gardening products EPR",4,"22154680221","Modulated","Garden upkeep and landscaping","Outdoor equipment and accessories (excl. tarpaulins, nets, and covers)","Glass >90%","≥1 kg and <2 kg","€ / unit",0.01,0.01,{"$f":"_xlfn.XLOOKUP(K8573,'Codes éco-part'!$C$6:$C$923,'Codes éco-part'!$B$6:$B$923)","v":"260"},0.01]
["DIY and gardening products EPR",4,"22154680530",null,"Garden upkeep and landscaping","Outdoor equipment and accessories (excl. tarpaulins, nets, and covers)","Glass >90%","≥3 kg and <5 kg","€ / unit",0.04,0.04,{"$f":"_xlfn.XLOOKUP(K8578,'Codes éco-part'!$C$6:$C$923,'Codes éco-part'!$B$6:$B$923)","v":"002"},{"$f":"ROUND(K8578*1.2,2)","v":0.05}]
["DIY and gardening products EPR",4,"22154680531","Modulated","Garden upkeep and landscaping","Outdoor equipment and accessories (excl. tarpaulins, nets, and covers)","Glass >90%","≥3 kg and <5 kg","€ / unit",0.04,0.04,{"$f":"_xlfn.XLOOKUP(K8579,'Codes éco-part'!$C$6:$C$923,'Codes éco-part'!$B$6:$B$923)","v":"002"},0.05]
["DIY and gardening products EPR",4,"22154680560",null,"Garden upkeep and landscaping","Outdoor equipment and accessories (excl. tarpaulins, nets, and covers)","Glass >90%","≥10 kg and <15 kg","€ / unit",0.13,0.13,{"$f":"_xlfn.XLOOKUP(K8584,'Codes éco-part'!$C$6:$C$923,'Codes éco-part'!$B$6:$B$923)","v":"004"},0.16]
["DIY and gardening products EPR",4,"22154680581","Modulated","Garden upkeep and landscaping","Outdoor equipment and accessories (excl. tarpaulins, nets, and covers)","Glass >90%","≥20 kg and <25 kg","€ / unit",0.2,0.2,{"$f":"_xlfn.XLOOKUP(K8589,'Codes éco-part'!$C$6:$C$923,'Codes éco-part'!$B$6:$B$923)","v":"101"},0.24]
["DIY and gardening products EPR",4,"22154700000",null,"Garden upkeep and landscaping","Outdoor equipment and accessories (excl. tarpaulins, nets, and covers)","Assembly of glass >50% and metal","Elements of all sizes and weights","€ / ton",90,90,{"$f":"_xlfn.XLOOKUP(K8594,'Codes éco-part'!$C$6:$C$923,'Codes éco-part'!$B$6:$B$923)","v":"609"},108]
["DIY and gardening products EPR",4,"22154700001","Modulated","Garden upkeep and landscaping","Outdoor equipment and accessories (excl. tarpaulins, nets, and covers)","Assembly of glass >50% and metal","Elements of all sizes and weights","€ / ton",81,81,{"$f":"_xlfn.XLOOKUP(K8595,'Codes éco-part'!$C$6:$C$923,'Codes éco-part'!$B$6:$B$923)","v":943},97.2]
["DIY and gardening products EPR",4,"22154700220",null,"Garden upkeep and landscaping","Outdoor equipment and accessories (excl. tarpaulins, nets, and covers)","Assembly of glass >50% and metal","≥1 kg and <2 kg","€ / unit",0.14000000000000001,0.14000000000000001,{"$f":"_xlfn.XLOOKUP(K8600,'Codes éco-part'!$C$6:$C$923,'Codes éco-part'!$B$6:$B$923)","v":"098"},0.17]
["DIY and gardening products EPR",4,"22154700521","Modulated","Garden upkeep and landscaping","Outdoor equipment and accessories (excl. tarpaulins, nets, and covers)","Assembly of glass >50% and metal","≥2 kg and <3 kg","€ / unit",0.21,0.21,{"$f":"_xlfn.XLOOKUP(K8605,'Codes éco-part'!$C$6:$C$923,'Codes éco-part'!$B$6:$B$923)","v":"051"},0.25]
["DIY and gardening products EPR",4,"22154700550",null,"Garden upkeep and landscaping","Outdoor equipment and accessories (excl. tarpaulins, nets, and covers)","Assembly of glass >50% and metal","≥7 kg and <10 kg","€ / unit",0.9,0.9,{"$f":"_xlfn.XLOOKUP(K8610,'Codes éco-part'!$C$6:$C$923,'Codes éco-part'!$B$6:$B$923)","v":"330"},1.08]
["DIY and gardening products EPR",4,"22154700551","Modulated","Garden upkeep and landscaping","Outdoor equipment and accessories (excl. tarpaulins, nets, and covers)","Assembly of glass >50% and metal","≥7 kg and <10 kg","€ / unit",0.81,0.81,{"$f":"_xlfn.XLOOKUP(K8611,'Codes éco-part'!$C$6:$C$923,'Codes éco-part'!$B$6:$B$923)","v":"112"},0.97]
["DIY and gardening products EPR",4,"22154700580",null,"Garden upkeep and landscaping","Outdoor equipment and accessories (excl. tarpaulins, nets, and covers)","Assembly of glass >50% and metal","≥20 kg and <25 kg","€ / unit",2.25,2.25,{"$f":"_xlfn.XLOOKUP(K8616,'Codes éco-part'!$C$6:$C$923,'Codes éco-part'!$B$6:$B$923)","v":"118"},2.7]
["DIY and gardening products EPR",4,"22154700601","Modulated","Garden upkeep and landscaping","Outdoor equipment and accessories (excl. tarpaulins, nets, and covers)","Assembly of glass >50% and metal","≥40 kg and <50 kg","€ / unit",4.05,4.05,{"$f":"_xlfn.XLOOKUP(K8621,'Codes éco-part'!$C$6:$C$923,'Codes éco-part'!$B$6:$B$923)","v":"884"},4.8600000000000003]
["DIY and gardening products EPR",4,"22154710210",null,"Garden upkeep and landscaping","Outdoor equipment and accessories (excl. tarpaulins, nets, and covers)","Assembly of glass >50% and inert substances","≥0.5 kg and <1 kg","€ / unit",7.0000000000000007E-2,7.0000000000000007E-2,{"$f":"_xlfn.XLOOKUP(K8626,'Codes éco-part'!$C$6:$C$923,'Codes éco-part'!$B$6:$B$923)","v":"247"},0.08]
["DIY and gardening products EPR",4,"22154710211","Modulated","Garden upkeep and landscaping","Outdoor equipment and accessories (excl. tarpaulins, nets, and covers)","Assembly of glass >50% and inert substances","≥0.5 kg and <1 kg","€ / unit",0.06,0.06,{"$f":"_xlfn.XLOOKUP(K8627,'Codes éco-part'!$C$6:$C$923,'Codes éco-part'!$B$6:$B$923)","v":"096"},7.0000000000000007E-2]
["DIY and gardening products EPR",4,"22154710520",null,"Garden upkeep and landscaping","Outdoor equipment and accessories (excl. tarpaulins, nets, and covers)","Assembly of glass >50% and inert substances","≥2 kg and <3 kg","€ / unit",0.23,0.23,{"$f":"_xlfn.XLOOKUP(K8632,'Codes éco-part'!$C$6:$C$923,'Codes éco-part'!$B$6:$B$923)","v":"323"},0.28000000000000003]
["DIY and gardening products EPR",4,"22154710541","Modulated","Garden upkeep and landscaping","Outdoor equipment and accessories (excl. tarpaulins, nets, and covers)","Assembly of glass >50% and inert substances","≥5 kg and <7 kg","€ / unit",0.56999999999999995,0.56999999999999995,{"$f":"_xlfn.XLOOKUP(K8637,'Codes éco-part'!$C$6:$C$923,'Codes éco-part'!$B$6:$B$923)","v":"326"},0.68]
["DIY and gardening products EPR",4,"22154710570",null,"Garden upkeep and landscaping","Outdoor equipment and accessories (excl. tarpaulins, nets, and covers)","Assembly of glass >50% and inert substances","≥15 kg and <20 kg","€ / unit",1.8,1.8,{"$f":"_xlfn.XLOOKUP(K8642,'Codes éco-part'!$C$6:$C$923,'Codes éco-part'!$B$6:$B$923)","v":"603"},{"$f":"ROUND(K8642*1.2,2)","v":2.16}]
["DIY and gardening products EPR",4,"22154710571","Modulated","Garden upkeep and landscaping","Outdoor equipment and accessories (excl. tarpaulins, nets, and covers)","Assembly of glass >50% and inert substances","≥15 kg and <20 kg","€ / unit",1.62,1.62,{"$f":"_xlfn.XLOOKUP(K8643,'Codes éco-part'!$C$6:$C$923,'Codes éco-part'!$B$6:$B$923)","v":"810"},1.94]
["DIY and gardening products EPR",4,"22154710600",null,"Garden upkeep and landscaping","Outdoor equipment and accessories (excl. tarpaulins, nets, and covers)","Assembly of glass >50% and inert substances","≥40 kg and <50 kg","€ / unit",4.5,4.5,{"$f":"_xlfn.XLOOKUP(K8648,'Codes éco-part'!$C$6:$C$923,'Codes éco-part'!$B$6:$B$923)","v":"127"},5.4]
["DIY and gardening products EPR",4,"22154720201","Modulated","Garden upkeep and landscaping","Outdoor equipment and accessories (excl. tarpaulins, nets, and covers)","Assembly of glass >50% and wood or wood derivatives","Strictly <0.5 kg","€ / unit",0.02,0.02,{"$f":"_xlfn.XLOOKUP(K8653,'Codes éco-part'!$C$6:$C$923,'Codes éco-part'!$B$6:$B$923)","v":"047"},0.02]
["DIY and gardening products EPR",4,"22154720270",null,"Garden upkeep and landscaping","Outdoor equipment and accessories (excl. tarpaulins, nets, and covers)","Assembly of glass >50% and wood or wood derivatives","≥30 kg and <40 kg","€ / unit",3.6,3.6,{"$f":"_xlfn.XLOOKUP(K8658,'Codes éco-part'!$C$6:$C$923,'Codes éco-part'!$B$6:$B$923)","v":"610"},4.32]
["DIY and gardening products EPR",4,"22154720271","Modulated","Garden upkeep and landscaping","Outdoor equipment and accessories (excl. tarpaulins, nets, and covers)","Assembly of glass >50% and wood or wood derivatives","≥30 kg and <40 kg","€ / unit",3.24,3.24,{"$f":"_xlfn.XLOOKUP(K8659,'Codes éco-part'!$C$6:$C$923,'Codes éco-part'!$B$6:$B$923)","v":944},3.89]
["DIY and gardening products EPR",4,"22154720540",null,"Garden upkeep and landscaping","Outdoor equipment and accessories (excl. tarpaulins, nets, and covers)","Assembly of glass >50% and wood or wood derivatives","≥5 kg and <7 kg","€ / unit",0.63,0.63,{"$f":"_xlfn.XLOOKUP(K8664,'Codes éco-part'!$C$6:$C$923,'Codes éco-part'!$B$6:$B$923)","v":"297"},0.76]
["DIY and gardening products EPR",4,"22154720561","Modulated","Garden upkeep and landscaping","Outdoor equipment and accessories (excl. tarpaulins, nets, and covers)","Assembly of glass >50% and wood or wood derivatives","≥10 kg and <15 kg","€ / unit",1.22,1.22,{"$f":"_xlfn.XLOOKUP(K8669,'Codes éco-part'!$C$6:$C$923,'Codes éco-part'!$B$6:$B$923)","v":"636"},1.46]
["DIY and gardening products EPR",4,"22154720590",null,"Garden upkeep and landscaping","Outdoor equipment and accessories (excl. tarpaulins, nets, and covers)","Assembly of glass >50% and wood or wood derivatives","≥25 kg and <30 kg","€ / unit",2.7,2.7,{"$f":"_xlfn.XLOOKUP(K8674,'Codes éco-part'!$C$6:$C$923,'Codes éco-part'!$B$6:$B$923)","v":"611"},3.24]
["DIY and gardening products EPR",4,"22154720591","Modulated","Garden upkeep and landscaping","Outdoor equipment and accessories (excl. tarpaulins, nets, and covers)","Assembly of glass >50% and wood or wood derivatives","≥25 kg and <30 kg","€ / unit",2.4300000000000002,2.4300000000000002,{"$f":"_xlfn.XLOOKUP(K8675,'Codes éco-part'!$C$6:$C$923,'Codes éco-part'!$B$6:$B$923)","v":"471"},2.92]
["DIY and gardening products EPR",4,"22154730200",null,"Garden upkeep and landscaping","Outdoor equipment and accessories (excl. tarpaulins, nets, and covers)","Assembly of glass >50% and plastic","Strictly <0.5 kg","€ / unit",0.02,0.02,{"$f":"_xlfn.XLOOKUP(K8680,'Codes éco-part'!$C$6:$C$923,'Codes éco-part'!$B$6:$B$923)","v":"047"},0.02]
["DIY and gardening products EPR",4,"22154730221","Modulated","Garden upkeep and landscaping","Outdoor equipment and accessories (excl. tarpaulins, nets, and covers)","Assembly of glass >50% and plastic","≥1 kg and <2 kg","€ / unit",0.13,0.13,{"$f":"_xlfn.XLOOKUP(K8685,'Codes éco-part'!$C$6:$C$923,'Codes éco-part'!$B$6:$B$923)","v":"004"},0.16]
["DIY and gardening products EPR",4,"22154730521","Modulated","Garden upkeep and landscaping","Outdoor equipment and accessories (excl. tarpaulins, nets, and covers)","Assembly of glass >50% and plastic","≥2 kg and <3 kg","€ / unit",0.21,0.21,{"$f":"_xlfn.XLOOKUP(K8689,'Codes éco-part'!$C$6:$C$923,'Codes éco-part'!$B$6:$B$923)","v":"051"},0.25]
["DIY and gardening products EPR",4,"22154730530",null,"Garden upkeep and landscaping","Outdoor equipment and accessories (excl. tarpaulins, nets, and covers)","Assembly of glass >50% and plastic","≥3 kg and <5 kg","€ / unit",0.36,0.36,{"$f":"_xlfn.XLOOKUP(K8690,'Codes éco-part'!$C$6:$C$923,'Codes éco-part'!$B$6:$B$923)","v":"449"},0.43]
["DIY and gardening products EPR",4,"22154730551","Modulated","Garden upkeep and landscaping","Outdoor equipment and accessories (excl. tarpaulins, nets, and covers)","Assembly of glass >50% and plastic","≥7 kg and <10 kg","€ / unit",0.81,0.81,{"$f":"_xlfn.XLOOKUP(K8695,'Codes éco-part'!$C$6:$C$923,'Codes éco-part'!$B$6:$B$923)","v":"112"},0.97]
["DIY and gardening products EPR",4,"22154730580",null,"Garden upkeep and landscaping","Outdoor equipment and accessories (excl. tarpaulins, nets, and covers)","Assembly of glass >50% and plastic","≥20 kg and <25 kg","€ / unit",2.25,2.25,{"$f":"_xlfn.XLOOKUP(K8700,'Codes éco-part'!$C$6:$C$923,'Codes éco-part'!$B$6:$B$923)","v":"118"},2.7]
["DIY and gardening products EPR",4,"22154730601","Modulated","Garden upkeep and landscaping","Outdoor equipment and accessories (excl. tarpaulins, nets, and covers)","Assembly of glass >50% and plastic","≥40 kg and <50 kg","€ / unit",4.05,4.05,{"$f":"_xlfn.XLOOKUP(K8705,'Codes éco-part'!$C$6:$C$923,'Codes éco-part'!$B$6:$B$923)","v":"884"},4.8600000000000003]
["DIY and gardening products EPR",4,"22154740000",null,"Garden upkeep and landscaping","Outdoor equipment and accessories (excl. tarpaulins, nets, and covers)","Concrete >90%","Elements of all sizes and weights","€ / ton",8.75,8.75,{"$f":"_xlfn.XLOOKUP(K8706,'Codes éco-part'!$C$6:$C$923,'Codes éco-part'!$B$6:$B$923)","v":"069"},{"$f":"ROUND(K8706*1.2,2)","v":10.5}]
["DIY and gardening products EPR",4,"22154740211","Modulated","Garden upkeep and landscaping","Outdoor equipment and accessories (excl. tarpaulins, nets, and covers)","Concrete >90%","≥0.5 kg and <1 kg","€ / unit",0.01,0.01,{"$f":"_xlfn.XLOOKUP(K8711,'Codes éco-part'!$C$6:$C$923,'Codes éco-part'!$B$6:$B$923)","v":"260"},0.01]
["DIY and gardening products EPR",4,"22154740520",null,"Garden upkeep and landscaping","Outdoor equipment and accessories (excl. tarpaulins, nets, and covers)","Concrete >90%","≥2 kg and <3 kg","€ / unit",0.02,0.02,{"$f":"_xlfn.XLOOKUP(K8716,'Codes éco-part'!$C$6:$C$923,'Codes éco-part'!$B$6:$B$923)","v":"047"},0.02]
["DIY and gardening products EPR",4,"22154740541","Modulated","Garden upkeep and landscaping","Outdoor equipment and accessories (excl. tarpaulins, nets, and covers)","Concrete >90%","≥5 kg and <7 kg","€ / unit",0.05,0.05,{"$f":"_xlfn.XLOOKUP(K8721,'Codes éco-part'!$C$6:$C$923,'Codes éco-part'!$B$6:$B$923)","v":"048"},0.06]
["DIY and gardening products EPR",4,"22154740550",null,"Garden upkeep and landscaping","Outdoor equipment and accessories (excl. tarpaulins, nets, and covers)","Concrete >90%","≥7 kg and <10 kg","€ / unit",0.09,0.09,{"$f":"_xlfn.XLOOKUP(K8722,'Codes éco-part'!$C$6:$C$923,'Codes éco-part'!$B$6:$B$923)","v":"049"},0.11]
["DIY and gardening products EPR",4,"22154740571","Modulated","Garden upkeep and landscaping","Outdoor equipment and accessories (excl. tarpaulins, nets, and covers)","Concrete >90%","≥15 kg and <20 kg","€ / unit",0.16,0.16,{"$f":"_xlfn.XLOOKUP(K8727,'Codes éco-part'!$C$6:$C$923,'Codes éco-part'!$B$6:$B$923)","v":"099"},0.19]
["DIY and gardening products EPR",4,"22154740600",null,"Garden upkeep and landscaping","Outdoor equipment and accessories (excl. tarpaulins, nets, and covers)","Concrete >90%","≥40 kg and <50 kg","€ / unit",0.44,0.44,{"$f":"_xlfn.XLOOKUP(K8732,'Codes éco-part'!$C$6:$C$923,'Codes éco-part'!$B$6:$B$923)","v":"281"},0.53]
["DIY and gardening products EPR",4,"22154810201","Modulated","Garden upkeep and landscaping","Outdoor equipment and accessories (excl. tarpaulins, nets, and covers)","Assembly of wood, wood derivatives, and metal with a combination representing >90%","Strictly <0.5 kg","€ / unit",0.01,0.01,{"$f":"_xlfn.XLOOKUP(K8737,'Codes éco-part'!$C$6:$C$923,'Codes éco-part'!$B$6:$B$923)","v":"260"},0.01]
["DIY and gardening products EPR",4,"22154810210",null,"Garden upkeep and landscaping","Outdoor equipment and accessories (excl. tarpaulins, nets, and covers)","Assembly of wood, wood derivatives, and metal with a combination representing >90%","≥0.5 kg and <1 kg","€ / unit",0.01,0.01,{"$f":"_xlfn.XLOOKUP(K8738,'Codes éco-part'!$C$6:$C$923,'Codes éco-part'!$B$6:$B$923)","v":"260"},0.01]
["DIY and gardening products EPR",4,"22154810271","Modulated","Garden upkeep and landscaping","Outdoor equipment and accessories (excl. tarpaulins, nets, and covers)","Assembly of wood, wood derivatives, and metal with a combination representing >90%","≥30 kg and <40 kg","€ / unit",0.47,0.47,{"$f":"_xlfn.XLOOKUP(K8743,'Codes éco-part'!$C$6:$C$923,'Codes éco-part'!$B$6:$B$923)","v":"107"},0.56000000000000005]
["DIY and gardening products EPR",4,"22154810540",null,"Garden upkeep and landscaping","Outdoor equipment and accessories (excl. tarpaulins, nets, and covers)","Assembly of wood, wood derivatives, and metal with a combination representing >90%","≥5 kg and <7 kg","€ / unit",0.09,0.09,{"$f":"_xlfn.XLOOKUP(K8748,'Codes éco-part'!$C$6:$C$923,'Codes éco-part'!$B$6:$B$923)","v":"049"},0.11]
["DIY and gardening products EPR",4,"22154810561","Modulated","Garden upkeep and landscaping","Outdoor equipment and accessories (excl. tarpaulins, nets, and covers)","Assembly of wood, wood derivatives, and metal with a combination representing >90%","≥10 kg and <15 kg","€ / unit",0.18,0.18,{"$f":"_xlfn.XLOOKUP(K8753,'Codes éco-part'!$C$6:$C$923,'Codes éco-part'!$B$6:$B$923)","v":"100"},0.22]
["DIY and gardening products EPR",4,"22154810570",null,"Garden upkeep and landscaping","Outdoor equipment and accessories (excl. tarpaulins, nets, and covers)","Assembly of wood, wood derivatives, and metal with a combination representing >90%","≥15 kg and <20 kg","€ / unit",0.26,0.26,{"$f":"_xlfn.XLOOKUP(K8754,'Codes éco-part'!$C$6:$C$923,'Codes éco-part'!$B$6:$B$923)","v":"445"},0.31]
["DIY and gardening products EPR",4,"22154810591","Modulated","Garden upkeep and landscaping","Outdoor equipment and accessories (excl. tarpaulins, nets, and covers)","Assembly of wood, wood derivatives, and metal with a combination representing >90%","≥25 kg and <30 kg","€ / unit",0.35,0.35,{"$f":"_xlfn.XLOOKUP(K8759,'Codes éco-part'!$C$6:$C$923,'Codes éco-part'!$B$6:$B$923)","v":"448"},0.42]
["DIY and gardening products EPR",4,"22154820200",null,"Garden upkeep and landscaping","Outdoor equipment and accessories (excl. tarpaulins, nets, and covers)","Assembly of 3 or more materials, with no material representing >50%","Strictly <0.5 kg","€ / unit",0.02,0.02,{"$f":"_xlfn.XLOOKUP(K8764,'Codes éco-part'!$C$6:$C$923,'Codes éco-part'!$B$6:$B$923)","v":"047"},0.02]
["DIY and gardening products EPR",4,"22154820221","Modulated","Garden upkeep and landscaping","Outdoor equipment and accessories (excl. tarpaulins, nets, and covers)","Assembly of 3 or more materials, with no material representing >50%","≥1 kg and <2 kg","€ / unit",0.13,0.13,{"$f":"_xlfn.XLOOKUP(K8769,'Codes éco-part'!$C$6:$C$923,'Codes éco-part'!$B$6:$B$923)","v":"004"},0.16]
["DIY and gardening products EPR",4,"22154820270",null,"Garden upkeep and landscaping","Outdoor equipment and accessories (excl. tarpaulins, nets, and covers)","Assembly of 3 or more materials, with no material representing >50%","≥30 kg and <40 kg","€ / unit",3.6,3.6,{"$f":"_xlfn.XLOOKUP(K8770,'Codes éco-part'!$C$6:$C$923,'Codes éco-part'!$B$6:$B$923)","v":"610"},{"$f":"ROUND(K8770*1.2,2)","v":4.32}]
["DIY and gardening products EPR",4,"22154820531","Modulated","Garden upkeep and landscaping","Outdoor equipment and accessories (excl. tarpaulins, nets, and covers)","Assembly of 3 or more materials, with no material representing >50%","≥3 kg and <5 kg","€ / unit",0.32,0.32,{"$f":"_xlfn.XLOOKUP(K8775,'Codes éco-part'!$C$6:$C$923,'Codes éco-part'!$B$6:$B$923)","v":"447"},0.38]
["DIY and gardening products EPR",4,"22154820560",null,"Garden upkeep and landscaping","Outdoor equipment and accessories (excl. tarpaulins, nets, and covers)","Assembly of 3 or more materials, with no material representing >50%","≥10 kg and <15 kg","€ / unit",1.35,1.35,{"$f":"_xlfn.XLOOKUP(K8780,'Codes éco-part'!$C$6:$C$923,'Codes éco-part'!$B$6:$B$923)","v":"332"},1.62]
["DIY and gardening products EPR",4,"22154820581","Modulated","Garden upkeep and landscaping","Outdoor equipment and accessories (excl. tarpaulins, nets, and covers)","Assembly of 3 or more materials, with no material representing >50%","≥20 kg and <25 kg","€ / unit",2.0299999999999998,2.0299999999999998,{"$f":"_xlfn.XLOOKUP(K8785,'Codes éco-part'!$C$6:$C$923,'Codes éco-part'!$B$6:$B$923)","v":937},2.44]
["DIY and gardening products EPR",4,"22154820590",null,"Garden upkeep and landscaping","Outdoor equipment and accessories (excl. tarpaulins, nets, and covers)","Assembly of 3 or more materials, with no material representing >50%","≥25 kg and <30 kg","€ / unit",2.7,2.7,{"$f":"_xlfn.XLOOKUP(K8786,'Codes éco-part'!$C$6:$C$923,'Codes éco-part'!$B$6:$B$923)","v":"611"},3.24]
["DIY and gardening products EPR",4,"22154840001","Modulated","Garden upkeep and landscaping","Outdoor equipment and accessories (excl. tarpaulins, nets, and covers)","Slate >90%","Elements of all sizes and weights","€ / ton",7.88,7.88,{"$f":"_xlfn.XLOOKUP(K8791,'Codes éco-part'!$C$6:$C$923,'Codes éco-part'!$B$6:$B$923)","v":"354"},9.4600000000000009]
["DIY and gardening products EPR",4,"22154840220",null,"Garden upkeep and landscaping","Outdoor equipment and accessories (excl. tarpaulins, nets, and covers)","Slate >90%","≥1 kg and <2 kg","€ / unit",0.01,0.01,{"$f":"_xlfn.XLOOKUP(K8796,'Codes éco-part'!$C$6:$C$923,'Codes éco-part'!$B$6:$B$923)","v":"260"},0.01]
["DIY and gardening products EPR",4,"22154840521","Modulated","Garden upkeep and landscaping","Outdoor equipment and accessories (excl. tarpaulins, nets, and covers)","Slate >90%","≥2 kg and <3 kg","€ / unit",0.02,0.02,{"$f":"_xlfn.XLOOKUP(K8801,'Codes éco-part'!$C$6:$C$923,'Codes éco-part'!$B$6:$B$923)","v":"047"},0.02]
["DIY and gardening products EPR",4,"22154840530",null,"Garden upkeep and landscaping","Outdoor equipment and accessories (excl. tarpaulins, nets, and covers)","Slate >90%","≥3 kg and <5 kg","€ / unit",0.04,0.04,{"$f":"_xlfn.XLOOKUP(K8802,'Codes éco-part'!$C$6:$C$923,'Codes éco-part'!$B$6:$B$923)","v":"002"},0.05]
["DIY and gardening products EPR",4,"22154840551","Modulated","Garden upkeep and landscaping","Outdoor equipment and accessories (excl. tarpaulins, nets, and covers)","Slate >90%","≥7 kg and <10 kg","€ / unit",0.08,0.08,{"$f":"_xlfn.XLOOKUP(K8807,'Codes éco-part'!$C$6:$C$923,'Codes éco-part'!$B$6:$B$923)","v":"003"},0.1]
["DIY and gardening products EPR",4,"22154840580",null,"Garden upkeep and landscaping","Outdoor equipment and accessories (excl. tarpaulins, nets, and covers)","Slate >90%","≥20 kg and <25 kg","€ / unit",0.22,0.22,{"$f":"_xlfn.XLOOKUP(K8812,'Codes éco-part'!$C$6:$C$923,'Codes éco-part'!$B$6:$B$923)","v":"263"},0.26]
["DIY and gardening products EPR",4,"22154840601","Modulated","Garden upkeep and landscaping","Outdoor equipment and accessories (excl. tarpaulins, nets, and covers)","Slate >90%","≥40 kg and <50 kg","€ / unit",0.4,0.4,{"$f":"_xlfn.XLOOKUP(K8817,'Codes éco-part'!$C$6:$C$923,'Codes éco-part'!$B$6:$B$923)","v":"105"},0.48]
["DIY and gardening products EPR",4,"22154860000",null,"Garden upkeep and landscaping","Outdoor equipment and accessories (excl. tarpaulins, nets, and covers)","Limestone >90%","Elements of all sizes and weights","€ / ton",8.75,8.75,{"$f":"_xlfn.XLOOKUP(K8818,'Codes éco-part'!$C$6:$C$923,'Codes éco-part'!$B$6:$B$923)","v":"069"},10.5]
["DIY and gardening products EPR",4,"22154860211","Modulated","Garden upkeep and landscaping","Outdoor equipment and accessories (excl. tarpaulins, nets, and covers)","Limestone >90%","≥0.5 kg and <1 kg","€ / unit",0.01,0.01,{"$f":"_xlfn.XLOOKUP(K8823,'Codes éco-part'!$C$6:$C$923,'Codes éco-part'!$B$6:$B$923)","v":"260"},0.01]
["DIY and gardening products EPR",4,"22154860520",null,"Garden upkeep and landscaping","Outdoor equipment and accessories (excl. tarpaulins, nets, and covers)","Limestone >90%","≥2 kg and <3 kg","€ / unit",0.02,0.02,{"$f":"_xlfn.XLOOKUP(K8828,'Codes éco-part'!$C$6:$C$923,'Codes éco-part'!$B$6:$B$923)","v":"047"},0.02]
["DIY and gardening products EPR",4,"22154860541","Modulated","Garden upkeep and landscaping","Outdoor equipment and accessories (excl. tarpaulins, nets, and covers)","Limestone >90%","≥5 kg and <7 kg","€ / unit",0.05,0.05,{"$f":"_xlfn.XLOOKUP(K8833,'Codes éco-part'!$C$6:$C$923,'Codes éco-part'!$B$6:$B$923)","v":"048"},0.06]
["DIY and gardening products EPR",4,"22154860550",null,"Garden upkeep and landscaping","Outdoor equipment and accessories (excl. tarpaulins, nets, and covers)","Limestone >90%","≥7 kg and <10 kg","€ / unit",0.09,0.09,{"$f":"_xlfn.XLOOKUP(K8834,'Codes éco-part'!$C$6:$C$923,'Codes éco-part'!$B$6:$B$923)","v":"049"},{"$f":"ROUND(K8834*1.2,2)","v":0.11}]
["DIY and gardening products EPR",4,"22154860571","Modulated","Garden upkeep and landscaping","Outdoor equipment and accessories (excl. tarpaulins, nets, and covers)","Limestone >90%","≥15 kg and <20 kg","€ / unit",0.16,0.16,{"$f":"_xlfn.XLOOKUP(K8839,'Codes éco-part'!$C$6:$C$923,'Codes éco-part'!$B$6:$B$923)","v":"099"},0.19]
["DIY and gardening products EPR",4,"22154860600",null,"Garden upkeep and landscaping","Outdoor equipment and accessories (excl. tarpaulins, nets, and covers)","Limestone >90%","≥40 kg and <50 kg","€ / unit",0.44,0.44,{"$f":"_xlfn.XLOOKUP(K8844,'Codes éco-part'!$C$6:$C$923,'Codes éco-part'!$B$6:$B$923)","v":"281"},0.53]
["DIY and gardening products EPR",4,"22154870201","Modulated","Garden upkeep and landscaping","Outdoor equipment and accessories (excl. tarpaulins, nets, and covers)","Lava stone >90%","Strictly <0.5 kg","€ / unit",0.01,0.01,{"$f":"_xlfn.XLOOKUP(K8849,'Codes éco-part'!$C$6:$C$923,'Codes éco-part'!$B$6:$B$923)","v":"260"},0.01]
["DIY and gardening products EPR",4,"22154870210",null,"Garden upkeep and landscaping","Outdoor equipment and accessories (excl. tarpaulins, nets, and covers)","Lava stone >90%","≥0.5 kg and <1 kg","€ / unit",0.01,0.01,{"$f":"_xlfn.XLOOKUP(K8850,'Codes éco-part'!$C$6:$C$923,'Codes éco-part'!$B$6:$B$923)","v":"260"},0.01]
["DIY and gardening products EPR",4,"22154870271","Modulated","Garden upkeep and landscaping","Outdoor equipment and accessories (excl. tarpaulins, nets, and covers)","Lava stone >90%","≥30 kg and <40 kg","€ / unit",0.32,0.32,{"$f":"_xlfn.XLOOKUP(K8855,'Codes éco-part'!$C$6:$C$923,'Codes éco-part'!$B$6:$B$923)","v":"447"},0.38]
["DIY and gardening products EPR",4,"22154870540",null,"Garden upkeep and landscaping","Outdoor equipment and accessories (excl. tarpaulins, nets, and covers)","Lava stone >90%","≥5 kg and <7 kg","€ / unit",0.06,0.06,{"$f":"_xlfn.XLOOKUP(K8860,'Codes éco-part'!$C$6:$C$923,'Codes éco-part'!$B$6:$B$923)","v":"096"},7.0000000000000007E-2]
["DIY and gardening products EPR",4,"22154870561","Modulated","Garden upkeep and landscaping","Outdoor equipment and accessories (excl. tarpaulins, nets, and covers)","Lava stone >90%","≥10 kg and <15 kg","€ / unit",0.12,0.12,{"$f":"_xlfn.XLOOKUP(K8865,'Codes éco-part'!$C$6:$C$923,'Codes éco-part'!$B$6:$B$923)","v":"097"},0.14000000000000001]
["DIY and gardening products EPR",4,"22154870570",null,"Garden upkeep and landscaping","Outdoor equipment and accessories (excl. tarpaulins, nets, and covers)","Lava stone >90%","≥15 kg and <20 kg","€ / unit",0.18,0.18,{"$f":"_xlfn.XLOOKUP(K8866,'Codes éco-part'!$C$6:$C$923,'Codes éco-part'!$B$6:$B$923)","v":"100"},0.22]
["DIY and gardening products EPR",4,"22154870591","Modulated","Garden upkeep and landscaping","Outdoor equipment and accessories (excl. tarpaulins, nets, and covers)","Lava stone >90%","≥25 kg and <30 kg","€ / unit",0.23,0.23,{"$f":"_xlfn.XLOOKUP(K8871,'Codes éco-part'!$C$6:$C$923,'Codes éco-part'!$B$6:$B$923)","v":"323"},0.28000000000000003]
["DIY and gardening products EPR",4,"22154890200",null,"Garden upkeep and landscaping","Outdoor equipment and accessories (excl. tarpaulins, nets, and covers)","Raw earth or terracotta >90%","Strictly <0.5 kg","€ / unit",0.01,0.01,{"$f":"_xlfn.XLOOKUP(K8876,'Codes éco-part'!$C$6:$C$923,'Codes éco-part'!$B$6:$B$923)","v":"260"},0.01]
["DIY and gardening products EPR",4,"22154890221","Modulated","Garden upkeep and landscaping","Outdoor equipment and accessories (excl. tarpaulins, nets, and covers)","Raw earth or terracotta >90%","≥1 kg and <2 kg","€ / unit",0.01,0.01,{"$f":"_xlfn.XLOOKUP(K8881,'Codes éco-part'!$C$6:$C$923,'Codes éco-part'!$B$6:$B$923)","v":"260"},0.01]
["DIY and gardening products EPR",4,"22154890270",null,"Garden upkeep and landscaping","Outdoor equipment and accessories (excl. tarpaulins, nets, and covers)","Raw earth or terracotta >90%","≥30 kg and <40 kg","€ / unit",0.35,0.35,{"$f":"_xlfn.XLOOKUP(K8882,'Codes éco-part'!$C$6:$C$923,'Codes éco-part'!$B$6:$B$923)","v":"448"},0.42]
["DIY and gardening products EPR",4,"22154890531","Modulated","Garden upkeep and landscaping","Outdoor equipment and accessories (excl. tarpaulins, nets, and covers)","Raw earth or terracotta >90%","≥3 kg and <5 kg","€ / unit",0.04,0.04,{"$f":"_xlfn.XLOOKUP(K8887,'Codes éco-part'!$C$6:$C$923,'Codes éco-part'!$B$6:$B$923)","v":"002"},0.05]
["DIY and gardening products EPR",4,"22154890560",null,"Garden upkeep and landscaping","Outdoor equipment and accessories (excl. tarpaulins, nets, and covers)","Raw earth or terracotta >90%","≥10 kg and <15 kg","€ / unit",0.13,0.13,{"$f":"_xlfn.XLOOKUP(K8892,'Codes éco-part'!$C$6:$C$923,'Codes éco-part'!$B$6:$B$923)","v":"004"},0.16]
["DIY and gardening products EPR",4,"22154890581","Modulated","Garden upkeep and landscaping","Outdoor equipment and accessories (excl. tarpaulins, nets, and covers)","Raw earth or terracotta >90%","≥20 kg and <25 kg","€ / unit",0.2,0.2,{"$f":"_xlfn.XLOOKUP(K8897,'Codes éco-part'!$C$6:$C$923,'Codes éco-part'!$B$6:$B$923)","v":"101"},0.24]
["DIY and gardening products EPR",4,"22154890590",null,"Garden upkeep and landscaping","Outdoor equipment and accessories (excl. tarpaulins, nets, and covers)","Raw earth or terracotta >90%","≥25 kg and <30 kg","€ / unit",0.26,0.26,{"$f":"_xlfn.XLOOKUP(K8898,'Codes éco-part'!$C$6:$C$923,'Codes éco-part'!$B$6:$B$923)","v":"445"},{"$f":"ROUND(K8898*1.2,2)","v":0.31}]
["DIY and gardening products EPR",4,"22154900001","Modulated","Garden upkeep and landscaping","Outdoor equipment and accessories (excl. tarpaulins, nets, and covers)","Cement >90%","Elements of all sizes and weights","€ / ton",7.88,7.88,{"$f":"_xlfn.XLOOKUP(K8903,'Codes éco-part'!$C$6:$C$923,'Codes éco-part'!$B$6:$B$923)","v":"354"},9.4600000000000009]
["DIY and gardening products EPR",4,"22154900220",null,"Garden upkeep and landscaping","Outdoor equipment and accessories (excl. tarpaulins, nets, and covers)","Cement >90%","≥1 kg and <2 kg","€ / unit",0.01,0.01,{"$f":"_xlfn.XLOOKUP(K8908,'Codes éco-part'!$C$6:$C$923,'Codes éco-part'!$B$6:$B$923)","v":"260"},0.01]
["DIY and gardening products EPR",4,"22154900521","Modulated","Garden upkeep and landscaping","Outdoor equipment and accessories (excl. tarpaulins, nets, and covers)","Cement >90%","≥2 kg and <3 kg","€ / unit",0.02,0.02,{"$f":"_xlfn.XLOOKUP(K8913,'Codes éco-part'!$C$6:$C$923,'Codes éco-part'!$B$6:$B$923)","v":"047"},0.02]
["DIY and gardening products EPR",4,"22154900530",null,"Garden upkeep and landscaping","Outdoor equipment and accessories (excl. tarpaulins, nets, and covers)","Cement >90%","≥3 kg and <5 kg","€ / unit",0.04,0.04,{"$f":"_xlfn.XLOOKUP(K8914,'Codes éco-part'!$C$6:$C$923,'Codes éco-part'!$B$6:$B$923)","v":"002"},0.05]
["DIY and gardening products EPR",4,"22154900551","Modulated","Garden upkeep and landscaping","Outdoor equipment and accessories (excl. tarpaulins, nets, and covers)","Cement >90%","≥7 kg and <10 kg","€ / unit",0.08,0.08,{"$f":"_xlfn.XLOOKUP(K8919,'Codes éco-part'!$C$6:$C$923,'Codes éco-part'!$B$6:$B$923)","v":"003"},0.1]
["DIY and gardening products EPR",4,"22154900580",null,"Garden upkeep and landscaping","Outdoor equipment and accessories (excl. tarpaulins, nets, and covers)","Cement >90%","≥20 kg and <25 kg","€ / unit",0.22,0.22,{"$f":"_xlfn.XLOOKUP(K8924,'Codes éco-part'!$C$6:$C$923,'Codes éco-part'!$B$6:$B$923)","v":"263"},0.26]
["DIY and gardening products EPR",4,"22154900601","Modulated","Garden upkeep and landscaping","Outdoor equipment and accessories (excl. tarpaulins, nets, and covers)","Cement >90%","≥40 kg and <50 kg","€ / unit",0.4,0.4,{"$f":"_xlfn.XLOOKUP(K8929,'Codes éco-part'!$C$6:$C$923,'Codes éco-part'!$B$6:$B$923)","v":"105"},0.48]
["DIY and gardening products EPR",4,"22154910000",null,"Garden upkeep and landscaping","Outdoor equipment and accessories (excl. tarpaulins, nets, and covers)","Granite >90%","Elements of all sizes and weights","€ / ton",8.75,8.75,{"$f":"_xlfn.XLOOKUP(K8930,'Codes éco-part'!$C$6:$C$923,'Codes éco-part'!$B$6:$B$923)","v":"069"},10.5]
["DIY and gardening products EPR",4,"22154910211","Modulated","Garden upkeep and landscaping","Outdoor equipment and accessories (excl. tarpaulins, nets, and covers)","Granite >90%","≥0.5 kg and <1 kg","€ / unit",0.01,0.01,{"$f":"_xlfn.XLOOKUP(K8935,'Codes éco-part'!$C$6:$C$923,'Codes éco-part'!$B$6:$B$923)","v":"260"},0.01]
["DIY and gardening products EPR",4,"22154910270",null,"Garden upkeep and landscaping","Outdoor equipment and accessories (excl. tarpaulins, nets, and covers)","Granite >90%","≥30 kg and <40 kg","€ / unit",0.35,0.35,{"$f":"_xlfn.XLOOKUP(K8938,'Codes éco-part'!$C$6:$C$923,'Codes éco-part'!$B$6:$B$923)","v":"448"},0.42]
["DIY and gardening products EPR",4,"22154910540",null,"Garden upkeep and landscaping","Outdoor equipment and accessories (excl. tarpaulins, nets, and covers)","Granite >90%","≥5 kg and <7 kg","€ / unit",0.06,0.06,{"$f":"_xlfn.XLOOKUP(K8944,'Codes éco-part'!$C$6:$C$923,'Codes éco-part'!$B$6:$B$923)","v":"096"},7.0000000000000007E-2]
["DIY and gardening products EPR",4,"22154910541","Modulated","Garden upkeep and landscaping","Outdoor equipment and accessories (excl. tarpaulins, nets, and covers)","Granite >90%","≥5 kg and <7 kg","€ / unit",0.05,0.05,{"$f":"_xlfn.XLOOKUP(K8945,'Codes éco-part'!$C$6:$C$923,'Codes éco-part'!$B$6:$B$923)","v":"048"},0.06]
["DIY and gardening products EPR",4,"22154910570",null,"Garden upkeep and landscaping","Outdoor equipment and accessories (excl. tarpaulins, nets, and covers)","Granite >90%","≥15 kg and <20 kg","€ / unit",0.18,0.18,{"$f":"_xlfn.XLOOKUP(K8950,'Codes éco-part'!$C$6:$C$923,'Codes éco-part'!$B$6:$B$923)","v":"100"},0.22]
["DIY and gardening products EPR",4,"22154910591","Modulated","Garden upkeep and landscaping","Outdoor equipment and accessories (excl. tarpaulins, nets, and covers)","Granite >90%","≥25 kg and <30 kg","€ / unit",0.23,0.23,{"$f":"_xlfn.XLOOKUP(K8955,'Codes éco-part'!$C$6:$C$923,'Codes éco-part'!$B$6:$B$923)","v":"323"},0.28000000000000003]
["DIY and gardening products EPR",4,"22154940200",null,"Garden upkeep and landscaping","Outdoor equipment and accessories (excl. tarpaulins, nets, and covers)","Sandstone >90%","Strictly <0.5 kg","€ / unit",0.01,0.01,{"$f":"_xlfn.XLOOKUP(K8960,'Codes éco-part'!$C$6:$C$923,'Codes éco-part'!$B$6:$B$923)","v":"260"},0.01]
["DIY and gardening products EPR",4,"22154940201","Modulated","Garden upkeep and landscaping","Outdoor equipment and accessories (excl. tarpaulins, nets, and covers)","Sandstone >90%","Strictly <0.5 kg","€ / unit",0.01,0.01,{"$f":"_xlfn.XLOOKUP(K8961,'Codes éco-part'!$C$6:$C$923,'Codes éco-part'!$B$6:$B$923)","v":"260"},0.01]
["DIY and gardening products EPR",4,"22154940270",null,"Garden upkeep and landscaping","Outdoor equipment and accessories (excl. tarpaulins, nets, and covers)","Sandstone >90%","≥30 kg and <40 kg","€ / unit",0.35,0.35,{"$f":"_xlfn.XLOOKUP(K8966,'Codes éco-part'!$C$6:$C$923,'Codes éco-part'!$B$6:$B$923)","v":"448"},0.42]
["DIY and gardening products EPR",4,"22154940531","Modulated","Garden upkeep and landscaping","Outdoor equipment and accessories (excl. tarpaulins, nets, and covers)","Sandstone >90%","≥3 kg and <5 kg","€ / unit",0.04,0.04,{"$f":"_xlfn.XLOOKUP(K8971,'Codes éco-part'!$C$6:$C$923,'Codes éco-part'!$B$6:$B$923)","v":"002"},0.05]
["DIY and gardening products EPR",4,"22154940560",null,"Garden upkeep and landscaping","Outdoor equipment and accessories (excl. tarpaulins, nets, and covers)","Sandstone >90%","≥10 kg and <15 kg","€ / unit",0.13,0.13,{"$f":"_xlfn.XLOOKUP(K8976,'Codes éco-part'!$C$6:$C$923,'Codes éco-part'!$B$6:$B$923)","v":"004"},0.16]
["DIY and gardening products EPR",4,"22154940561","Modulated","Garden upkeep and landscaping","Outdoor equipment and accessories (excl. tarpaulins, nets, and covers)","Sandstone >90%","≥10 kg and <15 kg","€ / unit",0.12,0.12,{"$f":"_xlfn.XLOOKUP(K8977,'Codes éco-part'!$C$6:$C$923,'Codes éco-part'!$B$6:$B$923)","v":"097"},0.14000000000000001]
["DIY and gardening products EPR",4,"22154940590",null,"Garden upkeep and landscaping","Outdoor equipment and accessories (excl. tarpaulins, nets, and covers)","Sandstone >90%","≥25 kg and <30 kg","€ / unit",0.26,0.26,{"$f":"_xlfn.XLOOKUP(K8982,'Codes éco-part'!$C$6:$C$923,'Codes éco-part'!$B$6:$B$923)","v":"445"},0.31]
["DIY and gardening products EPR",4,"22154970001","Modulated","Garden upkeep and landscaping","Outdoor equipment and accessories (excl. tarpaulins, nets, and covers)","Ceramic >90%","Elements of all sizes and weights","€ / ton",10.8,10.8,{"$f":"_xlfn.XLOOKUP(K8987,'Codes éco-part'!$C$6:$C$923,'Codes éco-part'!$B$6:$B$923)","v":948},12.96]
["DIY and gardening products EPR",4,"22154970220",null,"Garden upkeep and landscaping","Outdoor equipment and accessories (excl. tarpaulins, nets, and covers)","Ceramic >90%","≥1 kg and <2 kg","€ / unit",0.02,0.02,{"$f":"_xlfn.XLOOKUP(K8992,'Codes éco-part'!$C$6:$C$923,'Codes éco-part'!$B$6:$B$923)","v":"047"},0.02]
["DIY and gardening products EPR",4,"22154970221","Modulated","Garden upkeep and landscaping","Outdoor equipment and accessories (excl. tarpaulins, nets, and covers)","Ceramic >90%","≥1 kg and <2 kg","€ / unit",0.02,0.02,{"$f":"_xlfn.XLOOKUP(K8993,'Codes éco-part'!$C$6:$C$923,'Codes éco-part'!$B$6:$B$923)","v":"047"},0.02]
["DIY and gardening products EPR",4,"22154970530",null,"Garden upkeep and landscaping","Outdoor equipment and accessories (excl. tarpaulins, nets, and covers)","Ceramic >90%","≥3 kg and <5 kg","€ / unit",0.05,0.05,{"$f":"_xlfn.XLOOKUP(K8998,'Codes éco-part'!$C$6:$C$923,'Codes éco-part'!$B$6:$B$923)","v":"048"},0.06]
["DIY and gardening products EPR",4,"22154970551","Modulated","Garden upkeep and landscaping","Outdoor equipment and accessories (excl. tarpaulins, nets, and covers)","Ceramic >90%","≥7 kg and <10 kg","€ / unit",0.11,0.11,{"$f":"_xlfn.XLOOKUP(K9003,'Codes éco-part'!$C$6:$C$923,'Codes éco-part'!$B$6:$B$923)","v":"262"},0.13]
["DIY and gardening products EPR",4,"22154970580",null,"Garden upkeep and landscaping","Outdoor equipment and accessories (excl. tarpaulins, nets, and covers)","Ceramic >90%","≥20 kg and <25 kg","€ / unit",0.3,0.3,{"$f":"_xlfn.XLOOKUP(K9008,'Codes éco-part'!$C$6:$C$923,'Codes éco-part'!$B$6:$B$923)","v":"446"},0.36]
["DIY and gardening products EPR",4,"22154970581","Modulated","Garden upkeep and landscaping","Outdoor equipment and accessories (excl. tarpaulins, nets, and covers)","Ceramic >90%","≥20 kg and <25 kg","€ / unit",0.27,0.27,{"$f":"_xlfn.XLOOKUP(K9009,'Codes éco-part'!$C$6:$C$923,'Codes éco-part'!$B$6:$B$923)","v":"103"},0.32]
["DIY and gardening products EPR",4,"22154980000",null,"Garden upkeep and landscaping","Outdoor equipment and accessories (excl. tarpaulins, nets, and covers)","Artificial stone >90%","Elements of all sizes and weights","€ / ton",8.75,8.75,{"$f":"_xlfn.XLOOKUP(K9014,'Codes éco-part'!$C$6:$C$923,'Codes éco-part'!$B$6:$B$923)","v":"069"},10.5]
["DIY and gardening products EPR",4,"22154980211","Modulated","Garden upkeep and landscaping","Outdoor equipment and accessories (excl. tarpaulins, nets, and covers)","Artificial stone >90%","≥0.5 kg and <1 kg","€ / unit",0.01,0.01,{"$f":"_xlfn.XLOOKUP(K9019,'Codes éco-part'!$C$6:$C$923,'Codes éco-part'!$B$6:$B$923)","v":"260"},0.01]
["DIY and gardening products EPR",4,"22154980520",null,"Garden upkeep and landscaping","Outdoor equipment and accessories (excl. tarpaulins, nets, and covers)","Artificial stone >90%","≥2 kg and <3 kg","€ / unit",0.02,0.02,{"$f":"_xlfn.XLOOKUP(K9024,'Codes éco-part'!$C$6:$C$923,'Codes éco-part'!$B$6:$B$923)","v":"047"},0.02]
["DIY and gardening products EPR",4,"22154980521","Modulated","Garden upkeep and landscaping","Outdoor equipment and accessories (excl. tarpaulins, nets, and covers)","Artificial stone >90%","≥2 kg and <3 kg","€ / unit",0.02,0.02,{"$f":"_xlfn.XLOOKUP(K9025,'Codes éco-part'!$C$6:$C$923,'Codes éco-part'!$B$6:$B$923)","v":"047"},0.02]
["DIY and gardening products EPR",4,"22154980550",null,"Garden upkeep and landscaping","Outdoor equipment and accessories (excl. tarpaulins, nets, and covers)","Artificial stone >90%","≥7 kg and <10 kg","€ / unit",0.09,0.09,{"$f":"_xlfn.XLOOKUP(K9030,'Codes éco-part'!$C$6:$C$923,'Codes éco-part'!$B$6:$B$923)","v":"049"},0.11]
["DIY and gardening products EPR",4,"22154980571","Modulated","Garden upkeep and landscaping","Outdoor equipment and accessories (excl. tarpaulins, nets, and covers)","Artificial stone >90%","≥15 kg and <20 kg","€ / unit",0.16,0.16,{"$f":"_xlfn.XLOOKUP(K9035,'Codes éco-part'!$C$6:$C$923,'Codes éco-part'!$B$6:$B$923)","v":"099"},0.19]
["DIY and gardening products EPR",4,"22154980600",null,"Garden upkeep and landscaping","Outdoor equipment and accessories (excl. tarpaulins, nets, and covers)","Artificial stone >90%","≥40 kg and <50 kg","€ / unit",0.44,0.44,{"$f":"_xlfn.XLOOKUP(K9040,'Codes éco-part'!$C$6:$C$923,'Codes éco-part'!$B$6:$B$923)","v":"281"},0.53]
["DIY and gardening products EPR",4,"22154980601","Modulated","Garden upkeep and landscaping","Outdoor equipment and accessories (excl. tarpaulins, nets, and covers)","Artificial stone >90%","≥40 kg and <50 kg","€ / unit",0.4,0.4,{"$f":"_xlfn.XLOOKUP(K9041,'Codes éco-part'!$C$6:$C$923,'Codes éco-part'!$B$6:$B$923)","v":"105"},0.48]
["DIY and gardening products EPR",4,"22155000210",null,"Garden upkeep and landscaping","Non-masonry outdoor structures","Unknown or unspecified by the company","≥0.5 kg and <1 kg","€ / unit",7.0000000000000007E-2,7.0000000000000007E-2,{"$f":"_xlfn.XLOOKUP(K9046,'Codes éco-part'!$C$6:$C$923,'Codes éco-part'!$B$6:$B$923)","v":"247"},0.08]
["DIY and gardening products EPR",4,"22155000271","Modulated","Garden upkeep and landscaping","Non-masonry outdoor structures","Unknown or unspecified by the company","≥30 kg and <40 kg","€ / unit",3.24,3.24,{"$f":"_xlfn.XLOOKUP(K9051,'Codes éco-part'!$C$6:$C$923,'Codes éco-part'!$B$6:$B$923)","v":944},3.89]
["DIY and gardening products EPR",4,"22155000540",null,"Garden upkeep and landscaping","Non-masonry outdoor structures","Unknown or unspecified by the company","≥5 kg and <7 kg","€ / unit",0.63,0.63,{"$f":"_xlfn.XLOOKUP(K9056,'Codes éco-part'!$C$6:$C$923,'Codes éco-part'!$B$6:$B$923)","v":"297"},0.76]
["DIY and gardening products EPR",4,"22155000541","Modulated","Garden upkeep and landscaping","Non-masonry outdoor structures","Unknown or unspecified by the company","≥5 kg and <7 kg","€ / unit",0.56999999999999995,0.56999999999999995,{"$f":"_xlfn.XLOOKUP(K9057,'Codes éco-part'!$C$6:$C$923,'Codes éco-part'!$B$6:$B$923)","v":"326"},0.68]
["DIY and gardening products EPR",4,"22155000570",null,"Garden upkeep and landscaping","Non-masonry outdoor structures","Unknown or unspecified by the company","≥15 kg and <20 kg","€ / unit",1.8,1.8,{"$f":"_xlfn.XLOOKUP(K9062,'Codes éco-part'!$C$6:$C$923,'Codes éco-part'!$B$6:$B$923)","v":"603"},2.16]
["DIY and gardening products EPR",4,"22155000591","Modulated","Garden upkeep and landscaping","Non-masonry outdoor structures","Unknown or unspecified by the company","≥25 kg and <30 kg","€ / unit",2.4300000000000002,2.4300000000000002,{"$f":"_xlfn.XLOOKUP(K9067,'Codes éco-part'!$C$6:$C$923,'Codes éco-part'!$B$6:$B$923)","v":"471"},2.92]
["DIY and gardening products EPR",4,"22155010200",null,"Garden upkeep and landscaping","Non-masonry outdoor structures","Assembly of wood and/or wood derivatives >50% and other materials or composite wood (excl. glass)","Strictly <0.5 kg","€ / unit",0.01,0.01,{"$f":"_xlfn.XLOOKUP(K9072,'Codes éco-part'!$C$6:$C$923,'Codes éco-part'!$B$6:$B$923)","v":"260"},0.01]
["DIY and gardening products EPR",4,"22155010201","Modulated","Garden upkeep and landscaping","Non-masonry outdoor structures","Assembly of wood and/or wood derivatives >50% and other materials or composite wood (excl. glass)","Strictly <0.5 kg","€ / unit",0.01,0.01,{"$f":"_xlfn.XLOOKUP(K9073,'Codes éco-part'!$C$6:$C$923,'Codes éco-part'!$B$6:$B$923)","v":"260"},0.01]
["DIY and gardening products EPR",4,"22155010270",null,"Garden upkeep and landscaping","Non-masonry outdoor structures","Assembly of wood and/or wood derivatives >50% and other materials or composite wood (excl. glass)","≥30 kg and <40 kg","€ / unit",0.52,0.52,{"$f":"_xlfn.XLOOKUP(K9078,'Codes éco-part'!$C$6:$C$923,'Codes éco-part'!$B$6:$B$923)","v":"509"},0.62]
["DIY and gardening products EPR",4,"22155010531","Modulated","Garden upkeep and landscaping","Non-masonry outdoor structures","Assembly of wood and/or wood derivatives >50% and other materials or composite wood (excl. glass)","≥3 kg and <5 kg","€ / unit",0.05,0.05,{"$f":"_xlfn.XLOOKUP(K9083,'Codes éco-part'!$C$6:$C$923,'Codes éco-part'!$B$6:$B$923)","v":"048"},0.06]
["DIY and gardening products EPR",4,"22155010560",null,"Garden upkeep and landscaping","Non-masonry outdoor structures","Assembly of wood and/or wood derivatives >50% and other materials or composite wood (excl. glass)","≥10 kg and <15 kg","€ / unit",0.2,0.2,{"$f":"_xlfn.XLOOKUP(K9088,'Codes éco-part'!$C$6:$C$923,'Codes éco-part'!$B$6:$B$923)","v":"101"},0.24]
["DIY and gardening products EPR",4,"22155010561","Modulated","Garden upkeep and landscaping","Non-masonry outdoor structures","Assembly of wood and/or wood derivatives >50% and other materials or composite wood (excl. glass)","≥10 kg and <15 kg","€ / unit",0.18,0.18,{"$f":"_xlfn.XLOOKUP(K9089,'Codes éco-part'!$C$6:$C$923,'Codes éco-part'!$B$6:$B$923)","v":"100"},0.22]
["DIY and gardening products EPR",4,"22155010590",null,"Garden upkeep and landscaping","Non-masonry outdoor structures","Assembly of wood and/or wood derivatives >50% and other materials or composite wood (excl. glass)","≥25 kg and <30 kg","€ / unit",0.39,0.39,{"$f":"_xlfn.XLOOKUP(K9094,'Codes éco-part'!$C$6:$C$923,'Codes éco-part'!$B$6:$B$923)","v":"253"},0.47]
["DIY and gardening products EPR",4,"22155020001","Modulated","Garden upkeep and landscaping","Non-masonry outdoor structures","Assembly of metal >50% and other materials","Elements of all sizes and weights","€ / ton",4.05,4.05,{"$f":"_xlfn.XLOOKUP(K9099,'Codes éco-part'!$C$6:$C$923,'Codes éco-part'!$B$6:$B$923)","v":"884"},4.8600000000000003]
["DIY and gardening products EPR",4,"22155020220",null,"Garden upkeep and landscaping","Non-masonry outdoor structures","Assembly of metal >50% and other materials","≥1 kg and <2 kg","€ / unit",0.01,0.01,{"$f":"_xlfn.XLOOKUP(K9104,'Codes éco-part'!$C$6:$C$923,'Codes éco-part'!$B$6:$B$923)","v":"260"},0.01]
["DIY and gardening products EPR",4,"22155020221","Modulated","Garden upkeep and landscaping","Non-masonry outdoor structures","Assembly of metal >50% and other materials","≥1 kg and <2 kg","€ / unit",0.01,0.01,{"$f":"_xlfn.XLOOKUP(K9105,'Codes éco-part'!$C$6:$C$923,'Codes éco-part'!$B$6:$B$923)","v":"260"},0.01]
["DIY and gardening products EPR",4,"22155020530",null,"Garden upkeep and landscaping","Non-masonry outdoor structures","Assembly of metal >50% and other materials","≥3 kg and <5 kg","€ / unit",0.02,0.02,{"$f":"_xlfn.XLOOKUP(K9110,'Codes éco-part'!$C$6:$C$923,'Codes éco-part'!$B$6:$B$923)","v":"047"},0.02]
["DIY and gardening products EPR",4,"22155020551","Modulated","Garden upkeep and landscaping","Non-masonry outdoor structures","Assembly of metal >50% and other materials","≥7 kg and <10 kg","€ / unit",0.05,0.05,{"$f":"_xlfn.XLOOKUP(K9115,'Codes éco-part'!$C$6:$C$923,'Codes éco-part'!$B$6:$B$923)","v":"048"},0.06]
["DIY and gardening products EPR",4,"22155020580",null,"Garden upkeep and landscaping","Non-masonry outdoor structures","Assembly of metal >50% and other materials","≥20 kg and <25 kg","€ / unit",0.11,0.11,{"$f":"_xlfn.XLOOKUP(K9120,'Codes éco-part'!$C$6:$C$923,'Codes éco-part'!$B$6:$B$923)","v":"262"},0.13]
["DIY and gardening products EPR",4,"22155020581","Modulated","Garden upkeep and landscaping","Non-masonry outdoor structures","Assembly of metal >50% and other materials","≥20 kg and <25 kg","€ / unit",0.1,0.1,{"$f":"_xlfn.XLOOKUP(K9121,'Codes éco-part'!$C$6:$C$923,'Codes éco-part'!$B$6:$B$923)","v":"094"},0.12]
["DIY and gardening products EPR",4,"22155040000",null,"Garden upkeep and landscaping","Non-masonry outdoor structures","Biosourced materials or non-synthetic textiles >50%","Elements of all sizes and weights","€ / ton",90,90,{"$f":"_xlfn.XLOOKUP(K9126,'Codes éco-part'!$C$6:$C$923,'Codes éco-part'!$B$6:$B$923)","v":"609"},108]
["DIY and gardening products EPR",4,"22155040211","Modulated","Garden upkeep and landscaping","Non-masonry outdoor structures","Biosourced materials or non-synthetic textiles >50%","≥0.5 kg and <1 kg","€ / unit",0.06,0.06,{"$f":"_xlfn.XLOOKUP(K9131,'Codes éco-part'!$C$6:$C$923,'Codes éco-part'!$B$6:$B$923)","v":"096"},7.0000000000000007E-2]
["DIY and gardening products EPR",4,"22155040520",null,"Garden upkeep and landscaping","Non-masonry outdoor structures","Biosourced materials or non-synthetic textiles >50%","≥2 kg and <3 kg","€ / unit",0.23,0.23,{"$f":"_xlfn.XLOOKUP(K9136,'Codes éco-part'!$C$6:$C$923,'Codes éco-part'!$B$6:$B$923)","v":"323"},0.28000000000000003]
["DIY and gardening products EPR",4,"22155040521","Modulated","Garden upkeep and landscaping","Non-masonry outdoor structures","Biosourced materials or non-synthetic textiles >50%","≥2 kg and <3 kg","€ / unit",0.21,0.21,{"$f":"_xlfn.XLOOKUP(K9137,'Codes éco-part'!$C$6:$C$923,'Codes éco-part'!$B$6:$B$923)","v":"051"},0.25]
["DIY and gardening products EPR",4,"22155040550",null,"Garden upkeep and landscaping","Non-masonry outdoor structures","Biosourced materials or non-synthetic textiles >50%","≥7 kg and <10 kg","€ / unit",0.9,0.9,{"$f":"_xlfn.XLOOKUP(K9142,'Codes éco-part'!$C$6:$C$923,'Codes éco-part'!$B$6:$B$923)","v":"330"},1.08]
["DIY and gardening products EPR",4,"22155040571","Modulated","Garden upkeep and landscaping","Non-masonry outdoor structures","Biosourced materials or non-synthetic textiles >50%","≥15 kg and <20 kg","€ / unit",1.62,1.62,{"$f":"_xlfn.XLOOKUP(K9147,'Codes éco-part'!$C$6:$C$923,'Codes éco-part'!$B$6:$B$923)","v":"810"},1.94]
["DIY and gardening products EPR",4,"22155040600",null,"Garden upkeep and landscaping","Non-masonry outdoor structures","Biosourced materials or non-synthetic textiles >50%","≥40 kg and <50 kg","€ / unit",4.5,4.5,{"$f":"_xlfn.XLOOKUP(K9152,'Codes éco-part'!$C$6:$C$923,'Codes éco-part'!$B$6:$B$923)","v":"127"},5.4]
["DIY and gardening products EPR",4,"22155040601","Modulated","Garden upkeep and landscaping","Non-masonry outdoor structures","Biosourced materials or non-synthetic textiles >50%","≥40 kg and <50 kg","€ / unit",4.05,4.05,{"$f":"_xlfn.XLOOKUP(K9153,'Codes éco-part'!$C$6:$C$923,'Codes éco-part'!$B$6:$B$923)","v":"884"},4.8600000000000003]
["DIY and gardening products EPR",4,"22155050210",null,"Garden upkeep and landscaping","Non-masonry outdoor structures","Plastics or other synthetic materials >50%","≥0.5 kg and <1 kg","€ / unit",7.0000000000000007E-2,7.0000000000000007E-2,{"$f":"_xlfn.XLOOKUP(K9158,'Codes éco-part'!$C$6:$C$923,'Codes éco-part'!$B$6:$B$923)","v":"247"},0.08]
["DIY and gardening products EPR",4,"22155050271","Modulated","Garden upkeep and landscaping","Non-masonry outdoor structures","Plastics or other synthetic materials >50%","≥30 kg and <40 kg","€ / unit",3.24,3.24,{"$f":"_xlfn.XLOOKUP(K9163,'Codes éco-part'!$C$6:$C$923,'Codes éco-part'!$B$6:$B$923)","v":944},3.89]
["DIY and gardening products EPR",4,"22155050540",null,"Garden upkeep and landscaping","Non-masonry outdoor structures","Plastics or other synthetic materials >50%","≥5 kg and <7 kg","€ / unit",0.63,0.63,{"$f":"_xlfn.XLOOKUP(K9168,'Codes éco-part'!$C$6:$C$923,'Codes éco-part'!$B$6:$B$923)","v":"297"},0.76]
["DIY and gardening products EPR",4,"22155050541","Modulated","Garden upkeep and landscaping","Non-masonry outdoor structures","Plastics or other synthetic materials >50%","≥5 kg and <7 kg","€ / unit",0.56999999999999995,0.56999999999999995,{"$f":"_xlfn.XLOOKUP(K9169,'Codes éco-part'!$C$6:$C$923,'Codes éco-part'!$B$6:$B$923)","v":"326"},0.68]
["DIY and gardening products EPR",4,"22155050570",null,"Garden upkeep and landscaping","Non-masonry outdoor structures","Plastics or other synthetic materials >50%","≥15 kg and <20 kg","€ / unit",1.8,1.8,{"$f":"_xlfn.XLOOKUP(K9174,'Codes éco-part'!$C$6:$C$923,'Codes éco-part'!$B$6:$B$923)","v":"603"},2.16]
["DIY and gardening products EPR",4,"22155050591","Modulated","Garden upkeep and landscaping","Non-masonry outdoor structures","Plastics or other synthetic materials >50%","≥25 kg and <30 kg","€ / unit",2.4300000000000002,2.4300000000000002,{"$f":"_xlfn.XLOOKUP(K9179,'Codes éco-part'!$C$6:$C$923,'Codes éco-part'!$B$6:$B$923)","v":"471"},2.92]
["DIY and gardening products EPR",4,"22155060200",null,"Garden upkeep and landscaping","Non-masonry outdoor structures","Materials of animal origin >50%","Strictly <0.5 kg","€ / unit",0.02,0.02,{"$f":"_xlfn.XLOOKUP(K9184,'Codes éco-part'!$C$6:$C$923,'Codes éco-part'!$B$6:$B$923)","v":"047"},0.02]
["DIY and gardening products EPR",4,"22155060201","Modulated","Garden upkeep and landscaping","Non-masonry outdoor structures","Materials of animal origin >50%","Strictly <0.5 kg","€ / unit",0.02,0.02,{"$f":"_xlfn.XLOOKUP(K9185,'Codes éco-part'!$C$6:$C$923,'Codes éco-part'!$B$6:$B$923)","v":"047"},0.02]
["DIY and gardening products EPR",4,"22155060270",null,"Garden upkeep and landscaping","Non-masonry outdoor structures","Materials of animal origin >50%","≥30 kg and <40 kg","€ / unit",3.6,3.6,{"$f":"_xlfn.XLOOKUP(K9190,'Codes éco-part'!$C$6:$C$923,'Codes éco-part'!$B$6:$B$923)","v":"610"},4.32]
["DIY and gardening products EPR",4,"22155060531","Modulated","Garden upkeep and landscaping","Non-masonry outdoor structures","Materials of animal origin >50%","≥3 kg and <5 kg","€ / unit",0.32,0.32,{"$f":"_xlfn.XLOOKUP(K9195,'Codes éco-part'!$C$6:$C$923,'Codes éco-part'!$B$6:$B$923)","v":"447"},0.38]
["DIY and gardening products EPR",4,"22155060541","Modulated","Garden upkeep and landscaping","Non-masonry outdoor structures","Materials of animal origin >50%","≥5 kg and <7 kg","€ / unit",0.56999999999999995,0.56999999999999995,{"$f":"_xlfn.XLOOKUP(K9197,'Codes éco-part'!$C$6:$C$923,'Codes éco-part'!$B$6:$B$923)","v":"326"},0.68]
["DIY and gardening products EPR",4,"22155060560",null,"Garden upkeep and landscaping","Non-masonry outdoor structures","Materials of animal origin >50%","≥10 kg and <15 kg","€ / unit",1.35,1.35,{"$f":"_xlfn.XLOOKUP(K9200,'Codes éco-part'!$C$6:$C$923,'Codes éco-part'!$B$6:$B$923)","v":"332"},1.62]
["DIY and gardening products EPR",4,"22155060581","Modulated","Garden upkeep and landscaping","Non-masonry outdoor structures","Materials of animal origin >50%","≥20 kg and <25 kg","€ / unit",2.0299999999999998,2.0299999999999998,{"$f":"_xlfn.XLOOKUP(K9205,'Codes éco-part'!$C$6:$C$923,'Codes éco-part'!$B$6:$B$923)","v":937},2.44]
["DIY and gardening products EPR",4,"22155080000",null,"Garden upkeep and landscaping","Non-masonry outdoor structures","Assembly of materials with inert substances >50%","Elements of all sizes and weights","€ / ton",90,90,{"$f":"_xlfn.XLOOKUP(K9210,'Codes éco-part'!$C$6:$C$923,'Codes éco-part'!$B$6:$B$923)","v":"609"},108]
["DIY and gardening products EPR",4,"22155080211","Modulated","Garden upkeep and landscaping","Non-masonry outdoor structures","Assembly of materials with inert substances >50%","≥0.5 kg and <1 kg","€ / unit",0.06,0.06,{"$f":"_xlfn.XLOOKUP(K9215,'Codes éco-part'!$C$6:$C$923,'Codes éco-part'!$B$6:$B$923)","v":"096"},7.0000000000000007E-2]
["DIY and gardening products EPR",4,"22155080220",null,"Garden upkeep and landscaping","Non-masonry outdoor structures","Assembly of materials with inert substances >50%","≥1 kg and <2 kg","€ / unit",0.14000000000000001,0.14000000000000001,{"$f":"_xlfn.XLOOKUP(K9216,'Codes éco-part'!$C$6:$C$923,'Codes éco-part'!$B$6:$B$923)","v":"098"},0.17]
["DIY and gardening products EPR",4,"22155080521","Modulated","Garden upkeep and landscaping","Non-masonry outdoor structures","Assembly of materials with inert substances >50%","≥2 kg and <3 kg","€ / unit",0.21,0.21,{"$f":"_xlfn.XLOOKUP(K9221,'Codes éco-part'!$C$6:$C$923,'Codes éco-part'!$B$6:$B$923)","v":"051"},0.25]
["DIY and gardening products EPR",4,"22155080550",null,"Garden upkeep and landscaping","Non-masonry outdoor structures","Assembly of materials with inert substances >50%","≥7 kg and <10 kg","€ / unit",0.9,0.9,{"$f":"_xlfn.XLOOKUP(K9226,'Codes éco-part'!$C$6:$C$923,'Codes éco-part'!$B$6:$B$923)","v":"330"},1.08]
["DIY and gardening products EPR",4,"22155080571","Modulated","Garden upkeep and landscaping","Non-masonry outdoor structures","Assembly of materials with inert substances >50%","≥15 kg and <20 kg","€ / unit",1.62,1.62,{"$f":"_xlfn.XLOOKUP(K9231,'Codes éco-part'!$C$6:$C$923,'Codes éco-part'!$B$6:$B$923)","v":"810"},1.94]
["DIY and gardening products EPR",4,"22155080580",null,"Garden upkeep and landscaping","Non-masonry outdoor structures","Assembly of materials with inert substances >50%","≥20 kg and <25 kg","€ / unit",2.25,2.25,{"$f":"_xlfn.XLOOKUP(K9232,'Codes éco-part'!$C$6:$C$923,'Codes éco-part'!$B$6:$B$923)","v":"118"},2.7]
["DIY and gardening products EPR",4,"22155080601","Modulated","Garden upkeep and landscaping","Non-masonry outdoor structures","Assembly of materials with inert substances >50%","≥40 kg and <50 kg","€ / unit",4.05,4.05,{"$f":"_xlfn.XLOOKUP(K9237,'Codes éco-part'!$C$6:$C$923,'Codes éco-part'!$B$6:$B$923)","v":"884"},4.8600000000000003]
["DIY and gardening products EPR",4,"22155150210",null,"Garden upkeep and landscaping","Non-masonry outdoor structures","Composites and other reconstituted mineral materials >50%","≥0.5 kg and <1 kg","€ / unit",7.0000000000000007E-2,7.0000000000000007E-2,{"$f":"_xlfn.XLOOKUP(K9242,'Codes éco-part'!$C$6:$C$923,'Codes éco-part'!$B$6:$B$923)","v":"247"},0.08]
["DIY and gardening products EPR",4,"22155150271","Modulated","Garden upkeep and landscaping","Non-masonry outdoor structures","Composites and other reconstituted mineral materials >50%","≥30 kg and <40 kg","€ / unit",3.24,3.24,{"$f":"_xlfn.XLOOKUP(K9247,'Codes éco-part'!$C$6:$C$923,'Codes éco-part'!$B$6:$B$923)","v":944},3.89]
["DIY and gardening products EPR",4,"22155150520",null,"Garden upkeep and landscaping","Non-masonry outdoor structures","Composites and other reconstituted mineral materials >50%","≥2 kg and <3 kg","€ / unit",0.23,0.23,{"$f":"_xlfn.XLOOKUP(K9248,'Codes éco-part'!$C$6:$C$923,'Codes éco-part'!$B$6:$B$923)","v":"323"},0.28000000000000003]
["DIY and gardening products EPR",4,"22155150541","Modulated","Garden upkeep and landscaping","Non-masonry outdoor structures","Composites and other reconstituted mineral materials >50%","≥5 kg and <7 kg","€ / unit",0.56999999999999995,0.56999999999999995,{"$f":"_xlfn.XLOOKUP(K9253,'Codes éco-part'!$C$6:$C$923,'Codes éco-part'!$B$6:$B$923)","v":"326"},0.68]
["DIY and gardening products EPR",4,"22155150570",null,"Garden upkeep and landscaping","Non-masonry outdoor structures","Composites and other reconstituted mineral materials >50%","≥15 kg and <20 kg","€ / unit",1.8,1.8,{"$f":"_xlfn.XLOOKUP(K9258,'Codes éco-part'!$C$6:$C$923,'Codes éco-part'!$B$6:$B$923)","v":"603"},2.16]
["DIY and gardening products EPR",4,"22155150591","Modulated","Garden upkeep and landscaping","Non-masonry outdoor structures","Composites and other reconstituted mineral materials >50%","≥25 kg and <30 kg","€ / unit",2.4300000000000002,2.4300000000000002,{"$f":"_xlfn.XLOOKUP(K9263,'Codes éco-part'!$C$6:$C$923,'Codes éco-part'!$B$6:$B$923)","v":"471"},2.92]
["DIY and gardening products EPR",4,"22155150600",null,"Garden upkeep and landscaping","Non-masonry outdoor structures","Composites and other reconstituted mineral materials >50%","≥40 kg and <50 kg","€ / unit",4.5,4.5,{"$f":"_xlfn.XLOOKUP(K9264,'Codes éco-part'!$C$6:$C$923,'Codes éco-part'!$B$6:$B$923)","v":"127"},5.4]
["DIY and gardening products EPR",4,"22155190201","Modulated","Garden upkeep and landscaping","Non-masonry outdoor structures","Cardboard >50% and other materials (excl. glass)","Strictly <0.5 kg","€ / unit",0.02,0.02,{"$f":"_xlfn.XLOOKUP(K9269,'Codes éco-part'!$C$6:$C$923,'Codes éco-part'!$B$6:$B$923)","v":"047"},0.02]
["DIY and gardening products EPR",4,"22155190270",null,"Garden upkeep and landscaping","Non-masonry outdoor structures","Cardboard >50% and other materials (excl. glass)","≥30 kg and <40 kg","€ / unit",3.6,3.6,{"$f":"_xlfn.XLOOKUP(K9274,'Codes éco-part'!$C$6:$C$923,'Codes éco-part'!$B$6:$B$923)","v":"610"},4.32]
["DIY and gardening products EPR",4,"22155190531","Modulated","Garden upkeep and landscaping","Non-masonry outdoor structures","Cardboard >50% and other materials (excl. glass)","≥3 kg and <5 kg","€ / unit",0.32,0.32,{"$f":"_xlfn.XLOOKUP(K9279,'Codes éco-part'!$C$6:$C$923,'Codes éco-part'!$B$6:$B$923)","v":"447"},0.38]
["DIY and gardening products EPR",4,"22155190540",null,"Garden upkeep and landscaping","Non-masonry outdoor structures","Cardboard >50% and other materials (excl. glass)","≥5 kg and <7 kg","€ / unit",0.63,0.63,{"$f":"_xlfn.XLOOKUP(K9280,'Codes éco-part'!$C$6:$C$923,'Codes éco-part'!$B$6:$B$923)","v":"297"},0.76]
["DIY and gardening products EPR",4,"22155190561","Modulated","Garden upkeep and landscaping","Non-masonry outdoor structures","Cardboard >50% and other materials (excl. glass)","≥10 kg and <15 kg","€ / unit",1.22,1.22,{"$f":"_xlfn.XLOOKUP(K9285,'Codes éco-part'!$C$6:$C$923,'Codes éco-part'!$B$6:$B$923)","v":"636"},1.46]
["DIY and gardening products EPR",4,"22155190590",null,"Garden upkeep and landscaping","Non-masonry outdoor structures","Cardboard >50% and other materials (excl. glass)","≥25 kg and <30 kg","€ / unit",2.7,2.7,{"$f":"_xlfn.XLOOKUP(K9290,'Codes éco-part'!$C$6:$C$923,'Codes éco-part'!$B$6:$B$923)","v":"611"},3.24]
["DIY and gardening products EPR",4,"22155200001","Modulated","Garden upkeep and landscaping","Non-masonry outdoor structures","Solid wood and related products certified >75%","Elements of all sizes and weights","€ / ton",11.7,11.7,{"$f":"_xlfn.XLOOKUP(K9295,'Codes éco-part'!$C$6:$C$923,'Codes éco-part'!$B$6:$B$923)","v":945},14.04]
["DIY and gardening products EPR",4,"22155200200",null,"Garden upkeep and landscaping","Non-masonry outdoor structures","Solid wood and related products certified >75%","Strictly <0.5 kg","€ / unit",0.01,0.01,{"$f":"_xlfn.XLOOKUP(K9296,'Codes éco-part'!$C$6:$C$923,'Codes éco-part'!$B$6:$B$923)","v":"260"},0.01]
["DIY and gardening products EPR",4,"22155200221","Modulated","Garden upkeep and landscaping","Non-masonry outdoor structures","Solid wood and related products certified >75%","≥1 kg and <2 kg","€ / unit",0.02,0.02,{"$f":"_xlfn.XLOOKUP(K9301,'Codes éco-part'!$C$6:$C$923,'Codes éco-part'!$B$6:$B$923)","v":"047"},0.02]
["DIY and gardening products EPR",4,"22155200530",null,"Garden upkeep and landscaping","Non-masonry outdoor structures","Solid wood and related products certified >75%","≥3 kg and <5 kg","€ / unit",0.05,0.05,{"$f":"_xlfn.XLOOKUP(K9306,'Codes éco-part'!$C$6:$C$923,'Codes éco-part'!$B$6:$B$923)","v":"048"},0.06]
["DIY and gardening products EPR",4,"22155200551","Modulated","Garden upkeep and landscaping","Non-masonry outdoor structures","Solid wood and related products certified >75%","≥7 kg and <10 kg","€ / unit",0.12,0.12,{"$f":"_xlfn.XLOOKUP(K9311,'Codes éco-part'!$C$6:$C$923,'Codes éco-part'!$B$6:$B$923)","v":"097"},0.14000000000000001]
["DIY and gardening products EPR",4,"22155200560",null,"Garden upkeep and landscaping","Non-masonry outdoor structures","Solid wood and related products certified >75%","≥10 kg and <15 kg","€ / unit",0.2,0.2,{"$f":"_xlfn.XLOOKUP(K9312,'Codes éco-part'!$C$6:$C$923,'Codes éco-part'!$B$6:$B$923)","v":"101"},0.24]
["DIY and gardening products EPR",4,"22155200581","Modulated","Garden upkeep and landscaping","Non-masonry outdoor structures","Solid wood and related products certified >75%","≥20 kg and <25 kg","€ / unit",0.3,0.3,{"$f":"_xlfn.XLOOKUP(K9317,'Codes éco-part'!$C$6:$C$923,'Codes éco-part'!$B$6:$B$923)","v":"446"},0.36]
["DIY and gardening products EPR",4,"22155210000",null,"Garden upkeep and landscaping","Non-masonry outdoor structures","Solid wood and related products >75%","Elements of all sizes and weights","€ / ton",26,26,{"$f":"_xlfn.XLOOKUP(K9322,'Codes éco-part'!$C$6:$C$923,'Codes éco-part'!$B$6:$B$923)","v":"582"},31.2]
["DIY and gardening products EPR",4,"22155210211","Modulated","Garden upkeep and landscaping","Non-masonry outdoor structures","Solid wood and related products >75%","≥0.5 kg and <1 kg","€ / unit",0.02,0.02,{"$f":"_xlfn.XLOOKUP(K9327,'Codes éco-part'!$C$6:$C$923,'Codes éco-part'!$B$6:$B$923)","v":"047"},0.02]
["DIY and gardening products EPR",4,"22155210220",null,"Garden upkeep and landscaping","Non-masonry outdoor structures","Solid wood and related products >75%","≥1 kg and <2 kg","€ / unit",0.04,0.04,{"$f":"_xlfn.XLOOKUP(K9328,'Codes éco-part'!$C$6:$C$923,'Codes éco-part'!$B$6:$B$923)","v":"002"},0.05]
["DIY and gardening products EPR",4,"22155210521","Modulated","Garden upkeep and landscaping","Non-masonry outdoor structures","Solid wood and related products >75%","≥2 kg and <3 kg","€ / unit",0.05,0.05,{"$f":"_xlfn.XLOOKUP(K9333,'Codes éco-part'!$C$6:$C$923,'Codes éco-part'!$B$6:$B$923)","v":"048"},0.06]
["DIY and gardening products EPR",4,"22155210550",null,"Garden upkeep and landscaping","Non-masonry outdoor structures","Solid wood and related products >75%","≥7 kg and <10 kg","€ / unit",0.26,0.26,{"$f":"_xlfn.XLOOKUP(K9338,'Codes éco-part'!$C$6:$C$923,'Codes éco-part'!$B$6:$B$923)","v":"445"},0.31]
["DIY and gardening products EPR",4,"22155210571","Modulated","Garden upkeep and landscaping","Non-masonry outdoor structures","Solid wood and related products >75%","≥15 kg and <20 kg","€ / unit",0.47,0.47,{"$f":"_xlfn.XLOOKUP(K9343,'Codes éco-part'!$C$6:$C$923,'Codes éco-part'!$B$6:$B$923)","v":"107"},0.56000000000000005]
["DIY and gardening products EPR",4,"22155210580",null,"Garden upkeep and landscaping","Non-masonry outdoor structures","Solid wood and related products >75%","≥20 kg and <25 kg","€ / unit",0.66,0.66,{"$f":"_xlfn.XLOOKUP(K9344,'Codes éco-part'!$C$6:$C$923,'Codes éco-part'!$B$6:$B$923)","v":"453"},0.79]
["DIY and gardening products EPR",4,"22155210601","Modulated","Garden upkeep and landscaping","Non-masonry outdoor structures","Solid wood and related products >75%","≥40 kg and <50 kg","€ / unit",1.17,1.17,{"$f":"_xlfn.XLOOKUP(K9349,'Codes éco-part'!$C$6:$C$923,'Codes éco-part'!$B$6:$B$923)","v":"537"},1.4]
["DIY and gardening products EPR",4,"22155250210",null,"Garden upkeep and landscaping","Non-masonry outdoor structures","Chipboard or OSB >75%","≥0.5 kg and <1 kg","€ / unit",0.02,0.02,{"$f":"_xlfn.XLOOKUP(K9354,'Codes éco-part'!$C$6:$C$923,'Codes éco-part'!$B$6:$B$923)","v":"047"},0.02]
["DIY and gardening products EPR",4,"22155250271","Modulated","Garden upkeep and landscaping","Non-masonry outdoor structures","Chipboard or OSB >75%","≥30 kg and <40 kg","€ / unit",0.94,0.94,{"$f":"_xlfn.XLOOKUP(K9359,'Codes éco-part'!$C$6:$C$923,'Codes éco-part'!$B$6:$B$923)","v":"458"},1.1299999999999999]
["DIY and gardening products EPR",4,"22155250520",null,"Garden upkeep and landscaping","Non-masonry outdoor structures","Chipboard or OSB >75%","≥2 kg and <3 kg","€ / unit",0.06,0.06,{"$f":"_xlfn.XLOOKUP(K9360,'Codes éco-part'!$C$6:$C$923,'Codes éco-part'!$B$6:$B$923)","v":"096"},7.0000000000000007E-2]
["DIY and gardening products EPR",4,"22155250541","Modulated","Garden upkeep and landscaping","Non-masonry outdoor structures","Chipboard or OSB >75%","≥5 kg and <7 kg","€ / unit",0.16,0.16,{"$f":"_xlfn.XLOOKUP(K9365,'Codes éco-part'!$C$6:$C$923,'Codes éco-part'!$B$6:$B$923)","v":"099"},0.19]
["DIY and gardening products EPR",4,"22155250570",null,"Garden upkeep and landscaping","Non-masonry outdoor structures","Chipboard or OSB >75%","≥15 kg and <20 kg","€ / unit",0.52,0.52,{"$f":"_xlfn.XLOOKUP(K9370,'Codes éco-part'!$C$6:$C$923,'Codes éco-part'!$B$6:$B$923)","v":"509"},0.62]
["DIY and gardening products EPR",4,"22155250591","Modulated","Garden upkeep and landscaping","Non-masonry outdoor structures","Chipboard or OSB >75%","≥25 kg and <30 kg","€ / unit",0.7,0.7,{"$f":"_xlfn.XLOOKUP(K9375,'Codes éco-part'!$C$6:$C$923,'Codes éco-part'!$B$6:$B$923)","v":"282"},0.84]
["DIY and gardening products EPR",4,"22155250600",null,"Garden upkeep and landscaping","Non-masonry outdoor structures","Chipboard or OSB >75%","≥40 kg and <50 kg","€ / unit",1.3,1.3,{"$f":"_xlfn.XLOOKUP(K9376,'Codes éco-part'!$C$6:$C$923,'Codes éco-part'!$B$6:$B$923)","v":"511"},1.56]
["DIY and gardening products EPR",4,"22155280201","Modulated","Garden upkeep and landscaping","Non-masonry outdoor structures","Metal >90%","Strictly <0.5 kg","€ / unit",0.01,0.01,{"$f":"_xlfn.XLOOKUP(K9381,'Codes éco-part'!$C$6:$C$923,'Codes éco-part'!$B$6:$B$923)","v":"260"},0.01]
["DIY and gardening products EPR",4,"22155280270",null,"Garden upkeep and landscaping","Non-masonry outdoor structures","Metal >90%","≥30 kg and <40 kg","€ / unit",0.18,0.18,{"$f":"_xlfn.XLOOKUP(K9386,'Codes éco-part'!$C$6:$C$923,'Codes éco-part'!$B$6:$B$923)","v":"100"},0.22]
["DIY and gardening products EPR",4,"22155280531","Modulated","Garden upkeep and landscaping","Non-masonry outdoor structures","Metal >90%","≥3 kg and <5 kg","€ / unit",0.02,0.02,{"$f":"_xlfn.XLOOKUP(K9391,'Codes éco-part'!$C$6:$C$923,'Codes éco-part'!$B$6:$B$923)","v":"047"},0.02]
["DIY and gardening products EPR",4,"22155280540",null,"Garden upkeep and landscaping","Non-masonry outdoor structures","Metal >90%","≥5 kg and <7 kg","€ / unit",0.03,0.03,{"$f":"_xlfn.XLOOKUP(K9392,'Codes éco-part'!$C$6:$C$923,'Codes éco-part'!$B$6:$B$923)","v":"092"},0.04]
["DIY and gardening products EPR",4,"22155280561","Modulated","Garden upkeep and landscaping","Non-masonry outdoor structures","Metal >90%","≥10 kg and <15 kg","€ / unit",0.06,0.06,{"$f":"_xlfn.XLOOKUP(K9397,'Codes éco-part'!$C$6:$C$923,'Codes éco-part'!$B$6:$B$923)","v":"096"},7.0000000000000007E-2]
["DIY and gardening products EPR",4,"22155280590",null,"Garden upkeep and landscaping","Non-masonry outdoor structures","Metal >90%","≥25 kg and <30 kg","€ / unit",0.14000000000000001,0.14000000000000001,{"$f":"_xlfn.XLOOKUP(K9402,'Codes éco-part'!$C$6:$C$923,'Codes éco-part'!$B$6:$B$923)","v":"098"},0.17]
["DIY and gardening products EPR",4,"22155400001","Modulated","Garden upkeep and landscaping","Non-masonry outdoor structures","Assembly of synthetic rubber or latex >50% and other materials","Elements of all sizes and weights","€ / ton",81,81,{"$f":"_xlfn.XLOOKUP(K9407,'Codes éco-part'!$C$6:$C$923,'Codes éco-part'!$B$6:$B$923)","v":943},97.2]
["DIY and gardening products EPR",4,"22155400200",null,"Garden upkeep and landscaping","Non-masonry outdoor structures","Assembly of synthetic rubber or latex >50% and other materials","Strictly <0.5 kg","€ / unit",0.02,0.02,{"$f":"_xlfn.XLOOKUP(K9408,'Codes éco-part'!$C$6:$C$923,'Codes éco-part'!$B$6:$B$923)","v":"047"},0.02]
["DIY and gardening products EPR",4,"22155400221","Modulated","Garden upkeep and landscaping","Non-masonry outdoor structures","Assembly of synthetic rubber or latex >50% and other materials","≥1 kg and <2 kg","€ / unit",0.13,0.13,{"$f":"_xlfn.XLOOKUP(K9413,'Codes éco-part'!$C$6:$C$923,'Codes éco-part'!$B$6:$B$923)","v":"004"},0.16]
["DIY and gardening products EPR",4,"22155400530",null,"Garden upkeep and landscaping","Non-masonry outdoor structures","Assembly of synthetic rubber or latex >50% and other materials","≥3 kg and <5 kg","€ / unit",0.36,0.36,{"$f":"_xlfn.XLOOKUP(K9418,'Codes éco-part'!$C$6:$C$923,'Codes éco-part'!$B$6:$B$923)","v":"449"},0.43]
["DIY and gardening products EPR",4,"22155400551","Modulated","Garden upkeep and landscaping","Non-masonry outdoor structures","Assembly of synthetic rubber or latex >50% and other materials","≥7 kg and <10 kg","€ / unit",0.81,0.81,{"$f":"_xlfn.XLOOKUP(K9423,'Codes éco-part'!$C$6:$C$923,'Codes éco-part'!$B$6:$B$923)","v":"112"},0.97]
["DIY and gardening products EPR",4,"22155400560",null,"Garden upkeep and landscaping","Non-masonry outdoor structures","Assembly of synthetic rubber or latex >50% and other materials","≥10 kg and <15 kg","€ / unit",1.35,1.35,{"$f":"_xlfn.XLOOKUP(K9424,'Codes éco-part'!$C$6:$C$923,'Codes éco-part'!$B$6:$B$923)","v":"332"},1.62]
["DIY and gardening products EPR",4,"22155400581","Modulated","Garden upkeep and landscaping","Non-masonry outdoor structures","Assembly of synthetic rubber or latex >50% and other materials","≥20 kg and <25 kg","€ / unit",2.0299999999999998,2.0299999999999998,{"$f":"_xlfn.XLOOKUP(K9429,'Codes éco-part'!$C$6:$C$923,'Codes éco-part'!$B$6:$B$923)","v":937},2.44]
["DIY and gardening products EPR",4,"22155410000",null,"Garden upkeep and landscaping","Non-masonry outdoor structures","Plastic (single-resin) >90%","Elements of all sizes and weights","€ / ton",60,60,{"$f":"_xlfn.XLOOKUP(K9434,'Codes éco-part'!$C$6:$C$923,'Codes éco-part'!$B$6:$B$923)","v":"180"},72]
["DIY and gardening products EPR",4,"22155410211","Modulated","Garden upkeep and landscaping","Non-masonry outdoor structures","Plastic (single-resin) >90%","≥0.5 kg and <1 kg","€ / unit",0.05,0.05,{"$f":"_xlfn.XLOOKUP(K9439,'Codes éco-part'!$C$6:$C$923,'Codes éco-part'!$B$6:$B$923)","v":"048"},0.06]
["DIY and gardening products EPR",4,"22155410220",null,"Garden upkeep and landscaping","Non-masonry outdoor structures","Plastic (single-resin) >90%","≥1 kg and <2 kg","€ / unit",0.09,0.09,{"$f":"_xlfn.XLOOKUP(K9440,'Codes éco-part'!$C$6:$C$923,'Codes éco-part'!$B$6:$B$923)","v":"049"},0.11]
["DIY and gardening products EPR",4,"22155410521","Modulated","Garden upkeep and landscaping","Non-masonry outdoor structures","Plastic (single-resin) >90%","≥2 kg and <3 kg","€ / unit",0.14000000000000001,0.14000000000000001,{"$f":"_xlfn.XLOOKUP(K9445,'Codes éco-part'!$C$6:$C$923,'Codes éco-part'!$B$6:$B$923)","v":"098"},0.17]
["DIY and gardening products EPR",4,"22155410550",null,"Garden upkeep and landscaping","Non-masonry outdoor structures","Plastic (single-resin) >90%","≥7 kg and <10 kg","€ / unit",0.6,0.6,{"$f":"_xlfn.XLOOKUP(K9450,'Codes éco-part'!$C$6:$C$923,'Codes éco-part'!$B$6:$B$923)","v":"327"},0.72]
["DIY and gardening products EPR",4,"22155410561","Modulated","Garden upkeep and landscaping","Non-masonry outdoor structures","Plastic (single-resin) >90%","≥10 kg and <15 kg","€ / unit",0.81,0.81,{"$f":"_xlfn.XLOOKUP(K9453,'Codes éco-part'!$C$6:$C$923,'Codes éco-part'!$B$6:$B$923)","v":"112"},0.97]
["DIY and gardening products EPR",4,"22155410571","Modulated","Garden upkeep and landscaping","Non-masonry outdoor structures","Plastic (single-resin) >90%","≥15 kg and <20 kg","€ / unit",1.08,1.08,{"$f":"_xlfn.XLOOKUP(K9455,'Codes éco-part'!$C$6:$C$923,'Codes éco-part'!$B$6:$B$923)","v":"113"},1.3]
["DIY and gardening products EPR",4,"22155410600",null,"Garden upkeep and landscaping","Non-masonry outdoor structures","Plastic (single-resin) >90%","≥40 kg and <50 kg","€ / unit",3,3,{"$f":"_xlfn.XLOOKUP(K9460,'Codes éco-part'!$C$6:$C$923,'Codes éco-part'!$B$6:$B$923)","v":"474"},3.6]
["DIY and gardening products EPR",4,"22155420201","Modulated","Garden upkeep and landscaping","Non-masonry outdoor structures","Polyethylene terephthalate (PET) >90%","Strictly <0.5 kg","€ / unit",0.02,0.02,{"$f":"_xlfn.XLOOKUP(K9465,'Codes éco-part'!$C$6:$C$923,'Codes éco-part'!$B$6:$B$923)","v":"047"},0.02]
["DIY and gardening products EPR",4,"22155420270",null,"Garden upkeep and landscaping","Non-masonry outdoor structures","Polyethylene terephthalate (PET) >90%","≥30 kg and <40 kg","€ / unit",2.4,2.4,{"$f":"_xlfn.XLOOKUP(K9470,'Codes éco-part'!$C$6:$C$923,'Codes éco-part'!$B$6:$B$923)","v":"602"},2.88]
["DIY and gardening products EPR",4,"22155420271","Modulated","Garden upkeep and landscaping","Non-masonry outdoor structures","Polyethylene terephthalate (PET) >90%","≥30 kg and <40 kg","€ / unit",2.16,2.16,{"$f":"_xlfn.XLOOKUP(K9471,'Codes éco-part'!$C$6:$C$923,'Codes éco-part'!$B$6:$B$923)","v":"622"},2.59]
["DIY and gardening products EPR",4,"22155420540",null,"Garden upkeep and landscaping","Non-masonry outdoor structures","Polyethylene terephthalate (PET) >90%","≥5 kg and <7 kg","€ / unit",0.42,0.42,{"$f":"_xlfn.XLOOKUP(K9476,'Codes éco-part'!$C$6:$C$923,'Codes éco-part'!$B$6:$B$923)","v":"450"},0.5]
["DIY and gardening products EPR",4,"22155420561","Modulated","Garden upkeep and landscaping","Non-masonry outdoor structures","Polyethylene terephthalate (PET) >90%","≥10 kg and <15 kg","€ / unit",0.81,0.81,{"$f":"_xlfn.XLOOKUP(K9481,'Codes éco-part'!$C$6:$C$923,'Codes éco-part'!$B$6:$B$923)","v":"112"},0.97]
["DIY and gardening products EPR",4,"22155420590",null,"Garden upkeep and landscaping","Non-masonry outdoor structures","Polyethylene terephthalate (PET) >90%","≥25 kg and <30 kg","€ / unit",1.8,1.8,{"$f":"_xlfn.XLOOKUP(K9486,'Codes éco-part'!$C$6:$C$923,'Codes éco-part'!$B$6:$B$923)","v":"603"},2.16]
["DIY and gardening products EPR",4,"22155420591","Modulated","Garden upkeep and landscaping","Non-masonry outdoor structures","Polyethylene terephthalate (PET) >90%","≥25 kg and <30 kg","€ / unit",1.62,1.62,{"$f":"_xlfn.XLOOKUP(K9487,'Codes éco-part'!$C$6:$C$923,'Codes éco-part'!$B$6:$B$923)","v":"810"},1.94]
["DIY and gardening products EPR",4,"22155450200",null,"Garden upkeep and landscaping","Non-masonry outdoor structures","PE or PP or PP/PE mix >90%","Strictly <0.5 kg","€ / unit",0.02,0.02,{"$f":"_xlfn.XLOOKUP(K9492,'Codes éco-part'!$C$6:$C$923,'Codes éco-part'!$B$6:$B$923)","v":"047"},0.02]
["DIY and gardening products EPR",4,"22155450221","Modulated","Garden upkeep and landscaping","Non-masonry outdoor structures","PE or PP or PP/PE mix >90%","≥1 kg and <2 kg","€ / unit",0.08,0.08,{"$f":"_xlfn.XLOOKUP(K9497,'Codes éco-part'!$C$6:$C$923,'Codes éco-part'!$B$6:$B$923)","v":"003"},0.1]
["DIY and gardening products EPR",4,"22155450530",null,"Garden upkeep and landscaping","Non-masonry outdoor structures","PE or PP or PP/PE mix >90%","≥3 kg and <5 kg","€ / unit",0.24,0.24,{"$f":"_xlfn.XLOOKUP(K9502,'Codes éco-part'!$C$6:$C$923,'Codes éco-part'!$B$6:$B$923)","v":"248"},0.28999999999999998]
["DIY and gardening products EPR",4,"22155450531","Modulated","Garden upkeep and landscaping","Non-masonry outdoor structures","PE or PP or PP/PE mix >90%","≥3 kg and <5 kg","€ / unit",0.22,0.22,{"$f":"_xlfn.XLOOKUP(K9503,'Codes éco-part'!$C$6:$C$923,'Codes éco-part'!$B$6:$B$923)","v":"263"},0.26]
["DIY and gardening products EPR",4,"22155450560",null,"Garden upkeep and landscaping","Non-masonry outdoor structures","PE or PP or PP/PE mix >90%","≥10 kg and <15 kg","€ / unit",0.9,0.9,{"$f":"_xlfn.XLOOKUP(K9508,'Codes éco-part'!$C$6:$C$923,'Codes éco-part'!$B$6:$B$923)","v":"330"},1.08]
["DIY and gardening products EPR",4,"22155450581","Modulated","Garden upkeep and landscaping","Non-masonry outdoor structures","PE or PP or PP/PE mix >90%","≥20 kg and <25 kg","€ / unit",1.35,1.35,{"$f":"_xlfn.XLOOKUP(K9513,'Codes éco-part'!$C$6:$C$923,'Codes éco-part'!$B$6:$B$923)","v":"332"},1.62]
["DIY and gardening products EPR",4,"22155460000",null,"Garden upkeep and landscaping","Non-masonry outdoor structures","ABS >90%","Elements of all sizes and weights","€ / ton",60,60,{"$f":"_xlfn.XLOOKUP(K9518,'Codes éco-part'!$C$6:$C$923,'Codes éco-part'!$B$6:$B$923)","v":"180"},72]
["DIY and gardening products EPR",4,"22155460001","Modulated","Garden upkeep and landscaping","Non-masonry outdoor structures","ABS >90%","Elements of all sizes and weights","€ / ton",54,54,{"$f":"_xlfn.XLOOKUP(K9519,'Codes éco-part'!$C$6:$C$923,'Codes éco-part'!$B$6:$B$923)","v":947},64.8]
["DIY and gardening products EPR",4,"22155460220",null,"Garden upkeep and landscaping","Non-masonry outdoor structures","ABS >90%","≥1 kg and <2 kg","€ / unit",0.09,0.09,{"$f":"_xlfn.XLOOKUP(K9524,'Codes éco-part'!$C$6:$C$923,'Codes éco-part'!$B$6:$B$923)","v":"049"},0.11]
["DIY and gardening products EPR",4,"22155460521","Modulated","Garden upkeep and landscaping","Non-masonry outdoor structures","ABS >90%","≥2 kg and <3 kg","€ / unit",0.14000000000000001,0.14000000000000001,{"$f":"_xlfn.XLOOKUP(K9529,'Codes éco-part'!$C$6:$C$923,'Codes éco-part'!$B$6:$B$923)","v":"098"},0.17]
["DIY and gardening products EPR",4,"22155460550",null,"Garden upkeep and landscaping","Non-masonry outdoor structures","ABS >90%","≥7 kg and <10 kg","€ / unit",0.6,0.6,{"$f":"_xlfn.XLOOKUP(K9534,'Codes éco-part'!$C$6:$C$923,'Codes éco-part'!$B$6:$B$923)","v":"327"},0.72]
["DIY and gardening products EPR",4,"22155460551","Modulated","Garden upkeep and landscaping","Non-masonry outdoor structures","ABS >90%","≥7 kg and <10 kg","€ / unit",0.54,0.54,{"$f":"_xlfn.XLOOKUP(K9535,'Codes éco-part'!$C$6:$C$923,'Codes éco-part'!$B$6:$B$923)","v":"500"},0.65]
["DIY and gardening products EPR",4,"22155460580",null,"Garden upkeep and landscaping","Non-masonry outdoor structures","ABS >90%","≥20 kg and <25 kg","€ / unit",1.5,1.5,{"$f":"_xlfn.XLOOKUP(K9540,'Codes éco-part'!$C$6:$C$923,'Codes éco-part'!$B$6:$B$923)","v":"059"},1.8]
["DIY and gardening products EPR",4,"22155460601","Modulated","Garden upkeep and landscaping","Non-masonry outdoor structures","ABS >90%","≥40 kg and <50 kg","€ / unit",2.7,2.7,{"$f":"_xlfn.XLOOKUP(K9545,'Codes éco-part'!$C$6:$C$923,'Codes éco-part'!$B$6:$B$923)","v":"611"},3.24]
["DIY and gardening products EPR",4,"22155470210",null,"Garden upkeep and landscaping","Non-masonry outdoor structures","Polystyrene >90%","≥0.5 kg and <1 kg","€ / unit",0.05,0.05,{"$f":"_xlfn.XLOOKUP(K9550,'Codes éco-part'!$C$6:$C$923,'Codes éco-part'!$B$6:$B$923)","v":"048"},0.06]
["DIY and gardening products EPR",4,"22155470211","Modulated","Garden upkeep and landscaping","Non-masonry outdoor structures","Polystyrene >90%","≥0.5 kg and <1 kg","€ / unit",0.05,0.05,{"$f":"_xlfn.XLOOKUP(K9551,'Codes éco-part'!$C$6:$C$923,'Codes éco-part'!$B$6:$B$923)","v":"048"},0.06]
["DIY and gardening products EPR",4,"22155470520",null,"Garden upkeep and landscaping","Non-masonry outdoor structures","Polystyrene >90%","≥2 kg and <3 kg","€ / unit",0.15,0.15,{"$f":"_xlfn.XLOOKUP(K9556,'Codes éco-part'!$C$6:$C$923,'Codes éco-part'!$B$6:$B$923)","v":"050"},0.18]
["DIY and gardening products EPR",4,"22155470541","Modulated","Garden upkeep and landscaping","Non-masonry outdoor structures","Polystyrene >90%","≥5 kg and <7 kg","€ / unit",0.38,0.38,{"$f":"_xlfn.XLOOKUP(K9561,'Codes éco-part'!$C$6:$C$923,'Codes éco-part'!$B$6:$B$923)","v":"292"},0.46]
["DIY and gardening products EPR",4,"22155470570",null,"Garden upkeep and landscaping","Non-masonry outdoor structures","Polystyrene >90%","≥15 kg and <20 kg","€ / unit",1.2,1.2,{"$f":"_xlfn.XLOOKUP(K9566,'Codes éco-part'!$C$6:$C$923,'Codes éco-part'!$B$6:$B$923)","v":"505"},1.44]
["DIY and gardening products EPR",4,"22155470571","Modulated","Garden upkeep and landscaping","Non-masonry outdoor structures","Polystyrene >90%","≥15 kg and <20 kg","€ / unit",1.08,1.08,{"$f":"_xlfn.XLOOKUP(K9567,'Codes éco-part'!$C$6:$C$923,'Codes éco-part'!$B$6:$B$923)","v":"113"},1.3]
["DIY and gardening products EPR",4,"22155470600",null,"Garden upkeep and landscaping","Non-masonry outdoor structures","Polystyrene >90%","≥40 kg and <50 kg","€ / unit",3,3,{"$f":"_xlfn.XLOOKUP(K9572,'Codes éco-part'!$C$6:$C$923,'Codes éco-part'!$B$6:$B$923)","v":"474"},3.6]
["DIY and gardening products EPR",4,"22155480201","Modulated","Garden upkeep and landscaping","Non-masonry outdoor structures","PVC >90%","Strictly <0.5 kg","€ / unit",0.02,0.02,{"$f":"_xlfn.XLOOKUP(K9577,'Codes éco-part'!$C$6:$C$923,'Codes éco-part'!$B$6:$B$923)","v":"047"},0.02]
["DIY and gardening products EPR",4,"22155480270",null,"Garden upkeep and landscaping","Non-masonry outdoor structures","PVC >90%","≥30 kg and <40 kg","€ / unit",2.4,2.4,{"$f":"_xlfn.XLOOKUP(K9582,'Codes éco-part'!$C$6:$C$923,'Codes éco-part'!$B$6:$B$923)","v":"602"},2.88]
["DIY and gardening products EPR",4,"22155480271","Modulated","Garden upkeep and landscaping","Non-masonry outdoor structures","PVC >90%","≥30 kg and <40 kg","€ / unit",2.16,2.16,{"$f":"_xlfn.XLOOKUP(K9583,'Codes éco-part'!$C$6:$C$923,'Codes éco-part'!$B$6:$B$923)","v":"622"},2.59]
["DIY and gardening products EPR",4,"22155480540",null,"Garden upkeep and landscaping","Non-masonry outdoor structures","PVC >90%","≥5 kg and <7 kg","€ / unit",0.42,0.42,{"$f":"_xlfn.XLOOKUP(K9588,'Codes éco-part'!$C$6:$C$923,'Codes éco-part'!$B$6:$B$923)","v":"450"},0.5]
["DIY and gardening products EPR",4,"22155480561","Modulated","Garden upkeep and landscaping","Non-masonry outdoor structures","PVC >90%","≥10 kg and <15 kg","€ / unit",0.81,0.81,{"$f":"_xlfn.XLOOKUP(K9593,'Codes éco-part'!$C$6:$C$923,'Codes éco-part'!$B$6:$B$923)","v":"112"},0.97]
["DIY and gardening products EPR",4,"22155480590",null,"Garden upkeep and landscaping","Non-masonry outdoor structures","PVC >90%","≥25 kg and <30 kg","€ / unit",1.8,1.8,{"$f":"_xlfn.XLOOKUP(K9598,'Codes éco-part'!$C$6:$C$923,'Codes éco-part'!$B$6:$B$923)","v":"603"},2.16]
["DIY and gardening products EPR",4,"22155480591","Modulated","Garden upkeep and landscaping","Non-masonry outdoor structures","PVC >90%","≥25 kg and <30 kg","€ / unit",1.62,1.62,{"$f":"_xlfn.XLOOKUP(K9599,'Codes éco-part'!$C$6:$C$923,'Codes éco-part'!$B$6:$B$923)","v":"810"},1.94]
["DIY and gardening products EPR",4,"22155490200",null,"Garden upkeep and landscaping","Non-masonry outdoor structures","Synthetic rubber >90%","Strictly <0.5 kg","€ / unit",0.02,0.02,{"$f":"_xlfn.XLOOKUP(K9604,'Codes éco-part'!$C$6:$C$923,'Codes éco-part'!$B$6:$B$923)","v":"047"},0.02]
["DIY and gardening products EPR",4,"22155490221","Modulated","Garden upkeep and landscaping","Non-masonry outdoor structures","Synthetic rubber >90%","≥1 kg and <2 kg","€ / unit",0.08,0.08,{"$f":"_xlfn.XLOOKUP(K9609,'Codes éco-part'!$C$6:$C$923,'Codes éco-part'!$B$6:$B$923)","v":"003"},0.1]
["DIY and gardening products EPR",4,"22155490530",null,"Garden upkeep and landscaping","Non-masonry outdoor structures","Synthetic rubber >90%","≥3 kg and <5 kg","€ / unit",0.24,0.24,{"$f":"_xlfn.XLOOKUP(K9614,'Codes éco-part'!$C$6:$C$923,'Codes éco-part'!$B$6:$B$923)","v":"248"},0.28999999999999998]
["DIY and gardening products EPR",4,"22155490531","Modulated","Garden upkeep and landscaping","Non-masonry outdoor structures","Synthetic rubber >90%","≥3 kg and <5 kg","€ / unit",0.22,0.22,{"$f":"_xlfn.XLOOKUP(K9615,'Codes éco-part'!$C$6:$C$923,'Codes éco-part'!$B$6:$B$923)","v":"263"},0.26]
["DIY and gardening products EPR",4,"22155490560",null,"Garden upkeep and landscaping","Non-masonry outdoor structures","Synthetic rubber >90%","≥10 kg and <15 kg","€ / unit",0.9,0.9,{"$f":"_xlfn.XLOOKUP(K9620,'Codes éco-part'!$C$6:$C$923,'Codes éco-part'!$B$6:$B$923)","v":"330"},1.08]
["DIY and gardening products EPR",4,"22155490581","Modulated","Garden upkeep and landscaping","Non-masonry outdoor structures","Synthetic rubber >90%","≥20 kg and <25 kg","€ / unit",1.35,1.35,{"$f":"_xlfn.XLOOKUP(K9625,'Codes éco-part'!$C$6:$C$923,'Codes éco-part'!$B$6:$B$923)","v":"332"},1.62]
["DIY and gardening products EPR",4,"22155510000",null,"Garden upkeep and landscaping","Non-masonry outdoor structures","Assembly of non-certified wood and/or wood derivatives >50% and other materials or composite wood (excl. glass)","Elements of all sizes and weights","€ / ton",26,26,{"$f":"_xlfn.XLOOKUP(K9630,'Codes éco-part'!$C$6:$C$923,'Codes éco-part'!$B$6:$B$923)","v":"582"},31.2]
["DIY and gardening products EPR",4,"22155510001","Modulated","Garden upkeep and landscaping","Non-masonry outdoor structures","Assembly of non-certified wood and/or wood derivatives >50% and other materials or composite wood (excl. glass)","Elements of all sizes and weights","€ / ton",23.4,23.4,{"$f":"_xlfn.XLOOKUP(K9631,'Codes éco-part'!$C$6:$C$923,'Codes éco-part'!$B$6:$B$923)","v":946},28.08]
["DIY and gardening products EPR",4,"22155510220",null,"Garden upkeep and landscaping","Non-masonry outdoor structures","Assembly of non-certified wood and/or wood derivatives >50% and other materials or composite wood (excl. glass)","≥1 kg and <2 kg","€ / unit",0.04,0.04,{"$f":"_xlfn.XLOOKUP(K9636,'Codes éco-part'!$C$6:$C$923,'Codes éco-part'!$B$6:$B$923)","v":"002"},0.05]
["DIY and gardening products EPR",4,"22155510521","Modulated","Garden upkeep and landscaping","Non-masonry outdoor structures","Assembly of non-certified wood and/or wood derivatives >50% and other materials or composite wood (excl. glass)","≥2 kg and <3 kg","€ / unit",0.05,0.05,{"$f":"_xlfn.XLOOKUP(K9641,'Codes éco-part'!$C$6:$C$923,'Codes éco-part'!$B$6:$B$923)","v":"048"},0.06]
["DIY and gardening products EPR",4,"22155510550",null,"Garden upkeep and landscaping","Non-masonry outdoor structures","Assembly of non-certified wood and/or wood derivatives >50% and other materials or composite wood (excl. glass)","≥7 kg and <10 kg","€ / unit",0.26,0.26,{"$f":"_xlfn.XLOOKUP(K9646,'Codes éco-part'!$C$6:$C$923,'Codes éco-part'!$B$6:$B$923)","v":"445"},0.31]
["DIY and gardening products EPR",4,"22155510551","Modulated","Garden upkeep and landscaping","Non-masonry outdoor structures","Assembly of non-certified wood and/or wood derivatives >50% and other materials or composite wood (excl. glass)","≥7 kg and <10 kg","€ / unit",0.23,0.23,{"$f":"_xlfn.XLOOKUP(K9647,'Codes éco-part'!$C$6:$C$923,'Codes éco-part'!$B$6:$B$923)","v":"323"},0.28000000000000003]
["DIY and gardening products EPR",4,"22155510580",null,"Garden upkeep and landscaping","Non-masonry outdoor structures","Assembly of non-certified wood and/or wood derivatives >50% and other materials or composite wood (excl. glass)","≥20 kg and <25 kg","€ / unit",0.66,0.66,{"$f":"_xlfn.XLOOKUP(K9652,'Codes éco-part'!$C$6:$C$923,'Codes éco-part'!$B$6:$B$923)","v":"453"},0.79]
["DIY and gardening products EPR",4,"22155510601","Modulated","Garden upkeep and landscaping","Non-masonry outdoor structures","Assembly of non-certified wood and/or wood derivatives >50% and other materials or composite wood (excl. glass)","≥40 kg and <50 kg","€ / unit",1.17,1.17,{"$f":"_xlfn.XLOOKUP(K9657,'Codes éco-part'!$C$6:$C$923,'Codes éco-part'!$B$6:$B$923)","v":"537"},1.4]
["DIY and gardening products EPR",4,"22155520210",null,"Garden upkeep and landscaping","Non-masonry outdoor structures","Solid wood and related products certified >90%","≥0.5 kg and <1 kg","€ / unit",0.01,0.01,{"$f":"_xlfn.XLOOKUP(K9662,'Codes éco-part'!$C$6:$C$923,'Codes éco-part'!$B$6:$B$923)","v":"260"},0.01]
["DIY and gardening products EPR",4,"22155520211","Modulated","Garden upkeep and landscaping","Non-masonry outdoor structures","Solid wood and related products certified >90%","≥0.5 kg and <1 kg","€ / unit",0.01,0.01,{"$f":"_xlfn.XLOOKUP(K9663,'Codes éco-part'!$C$6:$C$923,'Codes éco-part'!$B$6:$B$923)","v":"260"},0.01]
["DIY and gardening products EPR",4,"22155520520",null,"Garden upkeep and landscaping","Non-masonry outdoor structures","Solid wood and related products certified >90%","≥2 kg and <3 kg","€ / unit",0.03,0.03,{"$f":"_xlfn.XLOOKUP(K9668,'Codes éco-part'!$C$6:$C$923,'Codes éco-part'!$B$6:$B$923)","v":"092"},0.04]
["DIY and gardening products EPR",4,"22155520541","Modulated","Garden upkeep and landscaping","Non-masonry outdoor structures","Solid wood and related products certified >90%","≥5 kg and <7 kg","€ / unit",0.08,0.08,{"$f":"_xlfn.XLOOKUP(K9673,'Codes éco-part'!$C$6:$C$923,'Codes éco-part'!$B$6:$B$923)","v":"003"},0.1]
["DIY and gardening products EPR",4,"22155520570",null,"Garden upkeep and landscaping","Non-masonry outdoor structures","Solid wood and related products certified >90%","≥15 kg and <20 kg","€ / unit",0.26,0.26,{"$f":"_xlfn.XLOOKUP(K9678,'Codes éco-part'!$C$6:$C$923,'Codes éco-part'!$B$6:$B$923)","v":"445"},0.31]
["DIY and gardening products EPR",4,"22155520571","Modulated","Garden upkeep and landscaping","Non-masonry outdoor structures","Solid wood and related products certified >90%","≥15 kg and <20 kg","€ / unit",0.23,0.23,{"$f":"_xlfn.XLOOKUP(K9679,'Codes éco-part'!$C$6:$C$923,'Codes éco-part'!$B$6:$B$923)","v":"323"},0.28000000000000003]
["DIY and gardening products EPR",4,"22155520600",null,"Garden upkeep and landscaping","Non-masonry outdoor structures","Solid wood and related products certified >90%","≥40 kg and <50 kg","€ / unit",0.65,0.65,{"$f":"_xlfn.XLOOKUP(K9684,'Codes éco-part'!$C$6:$C$923,'Codes éco-part'!$B$6:$B$923)","v":"613"},0.78]
["DIY and gardening products EPR",4,"22155530201","Modulated","Garden upkeep and landscaping","Non-masonry outdoor structures","Solid wood and related products >90%","Strictly <0.5 kg","€ / unit",0.02,0.02,{"$f":"_xlfn.XLOOKUP(K9689,'Codes éco-part'!$C$6:$C$923,'Codes éco-part'!$B$6:$B$923)","v":"047"},0.02]
["DIY and gardening products EPR",4,"22155530270",null,"Garden upkeep and landscaping","Non-masonry outdoor structures","Solid wood and related products >90%","≥30 kg and <40 kg","€ / unit",1.04,1.04,{"$f":"_xlfn.XLOOKUP(K9694,'Codes éco-part'!$C$6:$C$923,'Codes éco-part'!$B$6:$B$923)","v":"616"},1.25]
["DIY and gardening products EPR",4,"22155530271","Modulated","Garden upkeep and landscaping","Non-masonry outdoor structures","Solid wood and related products >90%","≥30 kg and <40 kg","€ / unit",0.94,0.94,{"$f":"_xlfn.XLOOKUP(K9695,'Codes éco-part'!$C$6:$C$923,'Codes éco-part'!$B$6:$B$923)","v":"458"},1.1299999999999999]
["DIY and gardening products EPR",4,"22155530540",null,"Garden upkeep and landscaping","Non-masonry outdoor structures","Solid wood and related products >90%","≥5 kg and <7 kg","€ / unit",0.18,0.18,{"$f":"_xlfn.XLOOKUP(K9700,'Codes éco-part'!$C$6:$C$923,'Codes éco-part'!$B$6:$B$923)","v":"100"},0.22]
["DIY and gardening products EPR",4,"22155530561","Modulated","Garden upkeep and landscaping","Non-masonry outdoor structures","Solid wood and related products >90%","≥10 kg and <15 kg","€ / unit",0.36,0.36,{"$f":"_xlfn.XLOOKUP(K9705,'Codes éco-part'!$C$6:$C$923,'Codes éco-part'!$B$6:$B$923)","v":"449"},0.43]
["DIY and gardening products EPR",4,"22155530590",null,"Garden upkeep and landscaping","Non-masonry outdoor structures","Solid wood and related products >90%","≥25 kg and <30 kg","€ / unit",0.78,0.78,{"$f":"_xlfn.XLOOKUP(K9710,'Codes éco-part'!$C$6:$C$923,'Codes éco-part'!$B$6:$B$923)","v":"312"},0.94]
["DIY and gardening products EPR",4,"22155530601","Modulated","Garden upkeep and landscaping","Non-masonry outdoor structures","Solid wood and related products >90%","≥40 kg and <50 kg","€ / unit",1.17,1.17,{"$f":"_xlfn.XLOOKUP(K9713,'Codes éco-part'!$C$6:$C$923,'Codes éco-part'!$B$6:$B$923)","v":"537"},1.4]
["DIY and gardening products EPR",4,"22155540001","Modulated","Garden upkeep and landscaping","Non-masonry outdoor structures","Non-certified wood derivatives >90%","Elements of all sizes and weights","€ / ton",23.4,23.4,{"$f":"_xlfn.XLOOKUP(K9715,'Codes éco-part'!$C$6:$C$923,'Codes éco-part'!$B$6:$B$923)","v":946},28.08]
["DIY and gardening products EPR",4,"22155540220",null,"Garden upkeep and landscaping","Non-masonry outdoor structures","Non-certified wood derivatives >90%","≥1 kg and <2 kg","€ / unit",0.04,0.04,{"$f":"_xlfn.XLOOKUP(K9720,'Codes éco-part'!$C$6:$C$923,'Codes éco-part'!$B$6:$B$923)","v":"002"},0.05]
["DIY and gardening products EPR",4,"22155540521","Modulated","Garden upkeep and landscaping","Non-masonry outdoor structures","Non-certified wood derivatives >90%","≥2 kg and <3 kg","€ / unit",0.05,0.05,{"$f":"_xlfn.XLOOKUP(K9725,'Codes éco-part'!$C$6:$C$923,'Codes éco-part'!$B$6:$B$923)","v":"048"},0.06]
["DIY and gardening products EPR",4,"22155540530",null,"Garden upkeep and landscaping","Non-masonry outdoor structures","Non-certified wood derivatives >90%","≥3 kg and <5 kg","€ / unit",0.1,0.1,{"$f":"_xlfn.XLOOKUP(K9726,'Codes éco-part'!$C$6:$C$923,'Codes éco-part'!$B$6:$B$923)","v":"094"},0.12]
["DIY and gardening products EPR",4,"22155540551","Modulated","Garden upkeep and landscaping","Non-masonry outdoor structures","Non-certified wood derivatives >90%","≥7 kg and <10 kg","€ / unit",0.23,0.23,{"$f":"_xlfn.XLOOKUP(K9731,'Codes éco-part'!$C$6:$C$923,'Codes éco-part'!$B$6:$B$923)","v":"323"},0.28000000000000003]
["DIY and gardening products EPR",4,"22155540580",null,"Garden upkeep and landscaping","Non-masonry outdoor structures","Non-certified wood derivatives >90%","≥20 kg and <25 kg","€ / unit",0.66,0.66,{"$f":"_xlfn.XLOOKUP(K9736,'Codes éco-part'!$C$6:$C$923,'Codes éco-part'!$B$6:$B$923)","v":"453"},0.79]
["DIY and gardening products EPR",4,"22155540601","Modulated","Garden upkeep and landscaping","Non-masonry outdoor structures","Non-certified wood derivatives >90%","≥40 kg and <50 kg","€ / unit",1.17,1.17,{"$f":"_xlfn.XLOOKUP(K9741,'Codes éco-part'!$C$6:$C$923,'Codes éco-part'!$B$6:$B$923)","v":"537"},1.4]
["DIY and gardening products EPR",4,"22155550000",null,"Garden upkeep and landscaping","Non-masonry outdoor structures","Biosourced materials or non-synthetic textiles >90%","Elements of all sizes and weights","€ / ton",40,40,{"$f":"_xlfn.XLOOKUP(K9742,'Codes éco-part'!$C$6:$C$923,'Codes éco-part'!$B$6:$B$923)","v":"029"},48]
["DIY and gardening products EPR",4,"22155550211","Modulated","Garden upkeep and landscaping","Non-masonry outdoor structures","Biosourced materials or non-synthetic textiles >90%","≥0.5 kg and <1 kg","€ / unit",0.03,0.03,{"$f":"_xlfn.XLOOKUP(K9747,'Codes éco-part'!$C$6:$C$923,'Codes éco-part'!$B$6:$B$923)","v":"092"},0.04]
["DIY and gardening products EPR",4,"22155550520",null,"Garden upkeep and landscaping","Non-masonry outdoor structures","Biosourced materials or non-synthetic textiles >90%","≥2 kg and <3 kg","€ / unit",0.1,0.1,{"$f":"_xlfn.XLOOKUP(K9752,'Codes éco-part'!$C$6:$C$923,'Codes éco-part'!$B$6:$B$923)","v":"094"},0.12]
["DIY and gardening products EPR",4,"22155550541","Modulated","Garden upkeep and landscaping","Non-masonry outdoor structures","Biosourced materials or non-synthetic textiles >90%","≥5 kg and <7 kg","€ / unit",0.25,0.25,{"$f":"_xlfn.XLOOKUP(K9757,'Codes éco-part'!$C$6:$C$923,'Codes éco-part'!$B$6:$B$923)","v":"095"},0.3]
["DIY and gardening products EPR",4,"22155550550",null,"Garden upkeep and landscaping","Non-masonry outdoor structures","Biosourced materials or non-synthetic textiles >90%","≥7 kg and <10 kg","€ / unit",0.4,0.4,{"$f":"_xlfn.XLOOKUP(K9758,'Codes éco-part'!$C$6:$C$923,'Codes éco-part'!$B$6:$B$923)","v":"105"},0.48]
["DIY and gardening products EPR",4,"22155550571","Modulated","Garden upkeep and landscaping","Non-masonry outdoor structures","Biosourced materials or non-synthetic textiles >90%","≥15 kg and <20 kg","€ / unit",0.72,0.72,{"$f":"_xlfn.XLOOKUP(K9763,'Codes éco-part'!$C$6:$C$923,'Codes éco-part'!$B$6:$B$923)","v":"454"},0.86]
["DIY and gardening products EPR",4,"22155550600",null,"Garden upkeep and landscaping","Non-masonry outdoor structures","Biosourced materials or non-synthetic textiles >90%","≥40 kg and <50 kg","€ / unit",2,2,{"$f":"_xlfn.XLOOKUP(K9768,'Codes éco-part'!$C$6:$C$923,'Codes éco-part'!$B$6:$B$923)","v":"061"},2.4]
["DIY and gardening products EPR",4,"22155590201","Modulated","Garden upkeep and landscaping","Non-masonry outdoor structures","Certified chipboard or OSB >90%","Strictly <0.5 kg","€ / unit",0.01,0.01,{"$f":"_xlfn.XLOOKUP(K9773,'Codes éco-part'!$C$6:$C$923,'Codes éco-part'!$B$6:$B$923)","v":"260"},0.01]
["DIY and gardening products EPR",4,"22155590210",null,"Garden upkeep and landscaping","Non-masonry outdoor structures","Certified chipboard or OSB >90%","≥0.5 kg and <1 kg","€ / unit",0.01,0.01,{"$f":"_xlfn.XLOOKUP(K9774,'Codes éco-part'!$C$6:$C$923,'Codes éco-part'!$B$6:$B$923)","v":"260"},0.01]
["DIY and gardening products EPR",4,"22155590271","Modulated","Garden upkeep and landscaping","Non-masonry outdoor structures","Certified chipboard or OSB >90%","≥30 kg and <40 kg","€ / unit",0.47,0.47,{"$f":"_xlfn.XLOOKUP(K9779,'Codes éco-part'!$C$6:$C$923,'Codes éco-part'!$B$6:$B$923)","v":"107"},0.56000000000000005]
["DIY and gardening products EPR",4,"22155590540",null,"Garden upkeep and landscaping","Non-masonry outdoor structures","Certified chipboard or OSB >90%","≥5 kg and <7 kg","€ / unit",0.09,0.09,{"$f":"_xlfn.XLOOKUP(K9784,'Codes éco-part'!$C$6:$C$923,'Codes éco-part'!$B$6:$B$923)","v":"049"},0.11]
["DIY and gardening products EPR",4,"22155590561","Modulated","Garden upkeep and landscaping","Non-masonry outdoor structures","Certified chipboard or OSB >90%","≥10 kg and <15 kg","€ / unit",0.18,0.18,{"$f":"_xlfn.XLOOKUP(K9789,'Codes éco-part'!$C$6:$C$923,'Codes éco-part'!$B$6:$B$923)","v":"100"},0.22]
["DIY and gardening products EPR",4,"22155590570",null,"Garden upkeep and landscaping","Non-masonry outdoor structures","Certified chipboard or OSB >90%","≥15 kg and <20 kg","€ / unit",0.26,0.26,{"$f":"_xlfn.XLOOKUP(K9790,'Codes éco-part'!$C$6:$C$923,'Codes éco-part'!$B$6:$B$923)","v":"445"},0.31]
["DIY and gardening products EPR",4,"22155590591","Modulated","Garden upkeep and landscaping","Non-masonry outdoor structures","Certified chipboard or OSB >90%","≥25 kg and <30 kg","€ / unit",0.35,0.35,{"$f":"_xlfn.XLOOKUP(K9795,'Codes éco-part'!$C$6:$C$923,'Codes éco-part'!$B$6:$B$923)","v":"448"},0.42]
["DIY and gardening products EPR",4,"22155600200",null,"Garden upkeep and landscaping","Non-masonry outdoor structures","Certified chipboard or OSB >75%","Strictly <0.5 kg","€ / unit",0.01,0.01,{"$f":"_xlfn.XLOOKUP(K9800,'Codes éco-part'!$C$6:$C$923,'Codes éco-part'!$B$6:$B$923)","v":"260"},0.01]
["DIY and gardening products EPR",4,"22155600221","Modulated","Garden upkeep and landscaping","Non-masonry outdoor structures","Certified chipboard or OSB >75%","≥1 kg and <2 kg","€ / unit",0.02,0.02,{"$f":"_xlfn.XLOOKUP(K9805,'Codes éco-part'!$C$6:$C$923,'Codes éco-part'!$B$6:$B$923)","v":"047"},0.02]
["DIY and gardening products EPR",4,"22155600270",null,"Garden upkeep and landscaping","Non-masonry outdoor structures","Certified chipboard or OSB >75%","≥30 kg and <40 kg","€ / unit",0.52,0.52,{"$f":"_xlfn.XLOOKUP(K9806,'Codes éco-part'!$C$6:$C$923,'Codes éco-part'!$B$6:$B$923)","v":"509"},0.62]
["DIY and gardening products EPR",4,"22155600531","Modulated","Garden upkeep and landscaping","Non-masonry outdoor structures","Certified chipboard or OSB >75%","≥3 kg and <5 kg","€ / unit",0.05,0.05,{"$f":"_xlfn.XLOOKUP(K9811,'Codes éco-part'!$C$6:$C$923,'Codes éco-part'!$B$6:$B$923)","v":"048"},0.06]
["DIY and gardening products EPR",4,"22155600560",null,"Garden upkeep and landscaping","Non-masonry outdoor structures","Certified chipboard or OSB >75%","≥10 kg and <15 kg","€ / unit",0.2,0.2,{"$f":"_xlfn.XLOOKUP(K9816,'Codes éco-part'!$C$6:$C$923,'Codes éco-part'!$B$6:$B$923)","v":"101"},0.24]
["DIY and gardening products EPR",4,"22155600581","Modulated","Garden upkeep and landscaping","Non-masonry outdoor structures","Certified chipboard or OSB >75%","≥20 kg and <25 kg","€ / unit",0.3,0.3,{"$f":"_xlfn.XLOOKUP(K9821,'Codes éco-part'!$C$6:$C$923,'Codes éco-part'!$B$6:$B$923)","v":"446"},0.36]
["DIY and gardening products EPR",4,"22155600590",null,"Garden upkeep and landscaping","Non-masonry outdoor structures","Certified chipboard or OSB >75%","≥25 kg and <30 kg","€ / unit",0.39,0.39,{"$f":"_xlfn.XLOOKUP(K9822,'Codes éco-part'!$C$6:$C$923,'Codes éco-part'!$B$6:$B$923)","v":"253"},0.47]
["DIY and gardening products EPR",4,"22155610001","Modulated","Garden upkeep and landscaping","Non-masonry outdoor structures","Chipboard or OSB >90%","Elements of all sizes and weights","€ / ton",23.4,23.4,{"$f":"_xlfn.XLOOKUP(K9827,'Codes éco-part'!$C$6:$C$923,'Codes éco-part'!$B$6:$B$923)","v":946},28.08]
["DIY and gardening products EPR",4,"22155610220",null,"Garden upkeep and landscaping","Non-masonry outdoor structures","Chipboard or OSB >90%","≥1 kg and <2 kg","€ / unit",0.04,0.04,{"$f":"_xlfn.XLOOKUP(K9832,'Codes éco-part'!$C$6:$C$923,'Codes éco-part'!$B$6:$B$923)","v":"002"},0.05]
["DIY and gardening products EPR",4,"22155610521","Modulated","Garden upkeep and landscaping","Non-masonry outdoor structures","Chipboard or OSB >90%","≥2 kg and <3 kg","€ / unit",0.05,0.05,{"$f":"_xlfn.XLOOKUP(K9837,'Codes éco-part'!$C$6:$C$923,'Codes éco-part'!$B$6:$B$923)","v":"048"},0.06]
["DIY and gardening products EPR",4,"22155610530",null,"Garden upkeep and landscaping","Non-masonry outdoor structures","Chipboard or OSB >90%","≥3 kg and <5 kg","€ / unit",0.1,0.1,{"$f":"_xlfn.XLOOKUP(K9838,'Codes éco-part'!$C$6:$C$923,'Codes éco-part'!$B$6:$B$923)","v":"094"},0.12]
["DIY and gardening products EPR",4,"22155610551","Modulated","Garden upkeep and landscaping","Non-masonry outdoor structures","Chipboard or OSB >90%","≥7 kg and <10 kg","€ / unit",0.23,0.23,{"$f":"_xlfn.XLOOKUP(K9843,'Codes éco-part'!$C$6:$C$923,'Codes éco-part'!$B$6:$B$923)","v":"323"},0.28000000000000003]
["DIY and gardening products EPR",4,"22155610580",null,"Garden upkeep and landscaping","Non-masonry outdoor structures","Chipboard or OSB >90%","≥20 kg and <25 kg","€ / unit",0.66,0.66,{"$f":"_xlfn.XLOOKUP(K9848,'Codes éco-part'!$C$6:$C$923,'Codes éco-part'!$B$6:$B$923)","v":"453"},0.79]
["DIY and gardening products EPR",4,"22155610601","Modulated","Garden upkeep and landscaping","Non-masonry outdoor structures","Chipboard or OSB >90%","≥40 kg and <50 kg","€ / unit",1.17,1.17,{"$f":"_xlfn.XLOOKUP(K9853,'Codes éco-part'!$C$6:$C$923,'Codes éco-part'!$B$6:$B$923)","v":"537"},1.4]
["DIY and gardening products EPR",4,"22155620000",null,"Garden upkeep and landscaping","Non-masonry outdoor structures","Wood derivatives >90%","Elements of all sizes and weights","€ / ton",13,13,{"$f":"_xlfn.XLOOKUP(K9854,'Codes éco-part'!$C$6:$C$923,'Codes éco-part'!$B$6:$B$923)","v":"486"},15.6]
["DIY and gardening products EPR",4,"22155620211","Modulated","Garden upkeep and landscaping","Non-masonry outdoor structures","Wood derivatives >90%","≥0.5 kg and <1 kg","€ / unit",0.01,0.01,{"$f":"_xlfn.XLOOKUP(K9859,'Codes éco-part'!$C$6:$C$923,'Codes éco-part'!$B$6:$B$923)","v":"260"},0.01]
["DIY and gardening products EPR",4,"22155620520",null,"Garden upkeep and landscaping","Non-masonry outdoor structures","Wood derivatives >90%","≥2 kg and <3 kg","€ / unit",0.03,0.03,{"$f":"_xlfn.XLOOKUP(K9864,'Codes éco-part'!$C$6:$C$923,'Codes éco-part'!$B$6:$B$923)","v":"092"},0.04]
["DIY and gardening products EPR",4,"22155620541","Modulated","Garden upkeep and landscaping","Non-masonry outdoor structures","Wood derivatives >90%","≥5 kg and <7 kg","€ / unit",0.08,0.08,{"$f":"_xlfn.XLOOKUP(K9869,'Codes éco-part'!$C$6:$C$923,'Codes éco-part'!$B$6:$B$923)","v":"003"},0.1]
["DIY and gardening products EPR",4,"22155620550",null,"Garden upkeep and landscaping","Non-masonry outdoor structures","Wood derivatives >90%","≥7 kg and <10 kg","€ / unit",0.13,0.13,{"$f":"_xlfn.XLOOKUP(K9870,'Codes éco-part'!$C$6:$C$923,'Codes éco-part'!$B$6:$B$923)","v":"004"},0.16]
["DIY and gardening products EPR",4,"22155620571","Modulated","Garden upkeep and landscaping","Non-masonry outdoor structures","Wood derivatives >90%","≥15 kg and <20 kg","€ / unit",0.23,0.23,{"$f":"_xlfn.XLOOKUP(K9875,'Codes éco-part'!$C$6:$C$923,'Codes éco-part'!$B$6:$B$923)","v":"323"},0.28000000000000003]
["DIY and gardening products EPR",4,"22155620600",null,"Garden upkeep and landscaping","Non-masonry outdoor structures","Wood derivatives >90%","≥40 kg and <50 kg","€ / unit",0.65,0.65,{"$f":"_xlfn.XLOOKUP(K9880,'Codes éco-part'!$C$6:$C$923,'Codes éco-part'!$B$6:$B$923)","v":"613"},0.78]
["DIY and gardening products EPR",4,"22155630201","Modulated","Garden upkeep and landscaping","Non-masonry outdoor structures","Natural rubber >90%","Strictly <0.5 kg","€ / unit",0.01,0.01,{"$f":"_xlfn.XLOOKUP(K9885,'Codes éco-part'!$C$6:$C$923,'Codes éco-part'!$B$6:$B$923)","v":"260"},0.01]
["DIY and gardening products EPR",4,"22155630210",null,"Garden upkeep and landscaping","Non-masonry outdoor structures","Natural rubber >90%","≥0.5 kg and <1 kg","€ / unit",0.03,0.03,{"$f":"_xlfn.XLOOKUP(K9886,'Codes éco-part'!$C$6:$C$923,'Codes éco-part'!$B$6:$B$923)","v":"092"},0.04]
["DIY and gardening products EPR",4,"22155630271","Modulated","Garden upkeep and landscaping","Non-masonry outdoor structures","Natural rubber >90%","≥30 kg and <40 kg","€ / unit",1.44,1.44,{"$f":"_xlfn.XLOOKUP(K9891,'Codes éco-part'!$C$6:$C$923,'Codes éco-part'!$B$6:$B$923)","v":"566"},1.73]
["DIY and gardening products EPR",4,"22155630540",null,"Garden upkeep and landscaping","Non-masonry outdoor structures","Natural rubber >90%","≥5 kg and <7 kg","€ / unit",0.28000000000000003,0.28000000000000003,{"$f":"_xlfn.XLOOKUP(K9896,'Codes éco-part'!$C$6:$C$923,'Codes éco-part'!$B$6:$B$923)","v":"542"},0.34]
["DIY and gardening products EPR",4,"22155630561","Modulated","Garden upkeep and landscaping","Non-masonry outdoor structures","Natural rubber >90%","≥10 kg and <15 kg","€ / unit",0.54,0.54,{"$f":"_xlfn.XLOOKUP(K9901,'Codes éco-part'!$C$6:$C$923,'Codes éco-part'!$B$6:$B$923)","v":"500"},0.65]
["DIY and gardening products EPR",4,"22155630570",null,"Garden upkeep and landscaping","Non-masonry outdoor structures","Natural rubber >90%","≥15 kg and <20 kg","€ / unit",0.8,0.8,{"$f":"_xlfn.XLOOKUP(K9902,'Codes éco-part'!$C$6:$C$923,'Codes éco-part'!$B$6:$B$923)","v":"456"},0.96]
["DIY and gardening products EPR",4,"22155630591","Modulated","Garden upkeep and landscaping","Non-masonry outdoor structures","Natural rubber >90%","≥25 kg and <30 kg","€ / unit",1.08,1.08,{"$f":"_xlfn.XLOOKUP(K9907,'Codes éco-part'!$C$6:$C$923,'Codes éco-part'!$B$6:$B$923)","v":"113"},1.3]
["DIY and gardening products EPR",4,"22155640200",null,"Garden upkeep and landscaping","Non-masonry outdoor structures","Natural rubber >50%","Strictly <0.5 kg","€ / unit",0.02,0.02,{"$f":"_xlfn.XLOOKUP(K9912,'Codes éco-part'!$C$6:$C$923,'Codes éco-part'!$B$6:$B$923)","v":"047"},0.02]
["DIY and gardening products EPR",4,"22155640221","Modulated","Garden upkeep and landscaping","Non-masonry outdoor structures","Natural rubber >50%","≥1 kg and <2 kg","€ / unit",0.13,0.13,{"$f":"_xlfn.XLOOKUP(K9917,'Codes éco-part'!$C$6:$C$923,'Codes éco-part'!$B$6:$B$923)","v":"004"},0.16]
["DIY and gardening products EPR",4,"22155640270",null,"Garden upkeep and landscaping","Non-masonry outdoor structures","Natural rubber >50%","≥30 kg and <40 kg","€ / unit",3.6,3.6,{"$f":"_xlfn.XLOOKUP(K9918,'Codes éco-part'!$C$6:$C$923,'Codes éco-part'!$B$6:$B$923)","v":"610"},4.32]
["DIY and gardening products EPR",4,"22155640531","Modulated","Garden upkeep and landscaping","Non-masonry outdoor structures","Natural rubber >50%","≥3 kg and <5 kg","€ / unit",0.32,0.32,{"$f":"_xlfn.XLOOKUP(K9923,'Codes éco-part'!$C$6:$C$923,'Codes éco-part'!$B$6:$B$923)","v":"447"},0.38]
["DIY and gardening products EPR",4,"22155640560",null,"Garden upkeep and landscaping","Non-masonry outdoor structures","Natural rubber >50%","≥10 kg and <15 kg","€ / unit",1.35,1.35,{"$f":"_xlfn.XLOOKUP(K9928,'Codes éco-part'!$C$6:$C$923,'Codes éco-part'!$B$6:$B$923)","v":"332"},1.62]
["DIY and gardening products EPR",4,"22155640581","Modulated","Garden upkeep and landscaping","Non-masonry outdoor structures","Natural rubber >50%","≥20 kg and <25 kg","€ / unit",2.0299999999999998,2.0299999999999998,{"$f":"_xlfn.XLOOKUP(K9933,'Codes éco-part'!$C$6:$C$923,'Codes éco-part'!$B$6:$B$923)","v":937},2.44]
["DIY and gardening products EPR",4,"22155640590",null,"Garden upkeep and landscaping","Non-masonry outdoor structures","Natural rubber >50%","≥25 kg and <30 kg","€ / unit",2.7,2.7,{"$f":"_xlfn.XLOOKUP(K9934,'Codes éco-part'!$C$6:$C$923,'Codes éco-part'!$B$6:$B$923)","v":"611"},3.24]
["DIY and gardening products EPR",4,"22155650001","Modulated","Garden upkeep and landscaping","Non-masonry outdoor structures","Synthetic fibres or materials >90%","Elements of all sizes and weights","€ / ton",54,54,{"$f":"_xlfn.XLOOKUP(K9939,'Codes éco-part'!$C$6:$C$923,'Codes éco-part'!$B$6:$B$923)","v":947},64.8]
["DIY and gardening products EPR",4,"22155650220",null,"Garden upkeep and landscaping","Non-masonry outdoor structures","Synthetic fibres or materials >90%","≥1 kg and <2 kg","€ / unit",0.09,0.09,{"$f":"_xlfn.XLOOKUP(K9944,'Codes éco-part'!$C$6:$C$923,'Codes éco-part'!$B$6:$B$923)","v":"049"},0.11]
["DIY and gardening products EPR",4,"22155650521","Modulated","Garden upkeep and landscaping","Non-masonry outdoor structures","Synthetic fibres or materials >90%","≥2 kg and <3 kg","€ / unit",0.14000000000000001,0.14000000000000001,{"$f":"_xlfn.XLOOKUP(K9949,'Codes éco-part'!$C$6:$C$923,'Codes éco-part'!$B$6:$B$923)","v":"098"},0.17]
["DIY and gardening products EPR",4,"22155650530",null,"Garden upkeep and landscaping","Non-masonry outdoor structures","Synthetic fibres or materials >90%","≥3 kg and <5 kg","€ / unit",0.24,0.24,{"$f":"_xlfn.XLOOKUP(K9950,'Codes éco-part'!$C$6:$C$923,'Codes éco-part'!$B$6:$B$923)","v":"248"},0.28999999999999998]
["DIY and gardening products EPR",4,"22155650551","Modulated","Garden upkeep and landscaping","Non-masonry outdoor structures","Synthetic fibres or materials >90%","≥7 kg and <10 kg","€ / unit",0.54,0.54,{"$f":"_xlfn.XLOOKUP(K9955,'Codes éco-part'!$C$6:$C$923,'Codes éco-part'!$B$6:$B$923)","v":"500"},0.65]
["DIY and gardening products EPR",4,"22155650580",null,"Garden upkeep and landscaping","Non-masonry outdoor structures","Synthetic fibres or materials >90%","≥20 kg and <25 kg","€ / unit",1.5,1.5,{"$f":"_xlfn.XLOOKUP(K9960,'Codes éco-part'!$C$6:$C$923,'Codes éco-part'!$B$6:$B$923)","v":"059"},1.8]
["DIY and gardening products EPR",4,"22155650601","Modulated","Garden upkeep and landscaping","Non-masonry outdoor structures","Synthetic fibres or materials >90%","≥40 kg and <50 kg","€ / unit",2.7,2.7,{"$f":"_xlfn.XLOOKUP(K9965,'Codes éco-part'!$C$6:$C$923,'Codes éco-part'!$B$6:$B$923)","v":"611"},3.24]
["DIY and gardening products EPR",4,"22155670000",null,"Garden upkeep and landscaping","Non-masonry outdoor structures","Assembly of synthetic fibres and/or materials >50% and other materials","Elements of all sizes and weights","€ / ton",90,90,{"$f":"_xlfn.XLOOKUP(K9966,'Codes éco-part'!$C$6:$C$923,'Codes éco-part'!$B$6:$B$923)","v":"609"},108]
["DIY and gardening products EPR",4,"22155670210",null,"Garden upkeep and landscaping","Non-masonry outdoor structures","Assembly of synthetic fibres and/or materials >50% and other materials","≥0.5 kg and <1 kg","€ / unit",7.0000000000000007E-2,7.0000000000000007E-2,{"$f":"_xlfn.XLOOKUP(K9970,'Codes éco-part'!$C$6:$C$923,'Codes éco-part'!$B$6:$B$923)","v":"247"},0.08]
["DIY and gardening products EPR",4,"22155670211","Modulated","Garden upkeep and landscaping","Non-masonry outdoor structures","Assembly of synthetic fibres and/or materials >50% and other materials","≥0.5 kg and <1 kg","€ / unit",0.06,0.06,{"$f":"_xlfn.XLOOKUP(K9971,'Codes éco-part'!$C$6:$C$923,'Codes éco-part'!$B$6:$B$923)","v":"096"},7.0000000000000007E-2]
["DIY and gardening products EPR",4,"22155670220",null,"Garden upkeep and landscaping","Non-masonry outdoor structures","Assembly of synthetic fibres and/or materials >50% and other materials","≥1 kg and <2 kg","€ / unit",0.14000000000000001,0.14000000000000001,{"$f":"_xlfn.XLOOKUP(K9972,'Codes éco-part'!$C$6:$C$923,'Codes éco-part'!$B$6:$B$923)","v":"098"},0.17]
["DIY and gardening products EPR",4,"22155670221","Modulated","Garden upkeep and landscaping","Non-masonry outdoor structures","Assembly of synthetic fibres and/or materials >50% and other materials","≥1 kg and <2 kg","€ / unit",0.13,0.13,{"$f":"_xlfn.XLOOKUP(K9973,'Codes éco-part'!$C$6:$C$923,'Codes éco-part'!$B$6:$B$923)","v":"004"},0.16]
["DIY and gardening products EPR",4,"22155670270",null,"Garden upkeep and landscaping","Non-masonry outdoor structures","Assembly of synthetic fibres and/or materials >50% and other materials","≥30 kg and <40 kg","€ / unit",3.6,3.6,{"$f":"_xlfn.XLOOKUP(K9974,'Codes éco-part'!$C$6:$C$923,'Codes éco-part'!$B$6:$B$923)","v":"610"},4.32]
["DIY and gardening products EPR",4,"22155670271","Modulated","Garden upkeep and landscaping","Non-masonry outdoor structures","Assembly of synthetic fibres and/or materials >50% and other materials","≥30 kg and <40 kg","€ / unit",3.24,3.24,{"$f":"_xlfn.XLOOKUP(K9975,'Codes éco-part'!$C$6:$C$923,'Codes éco-part'!$B$6:$B$923)","v":944},3.89]
["DIY and gardening products EPR",4,"22155670520",null,"Garden upkeep and landscaping","Non-masonry outdoor structures","Assembly of synthetic fibres and/or materials >50% and other materials","≥2 kg and <3 kg","€ / unit",0.23,0.23,{"$f":"_xlfn.XLOOKUP(K9976,'Codes éco-part'!$C$6:$C$923,'Codes éco-part'!$B$6:$B$923)","v":"323"},0.28000000000000003]
["DIY and gardening products EPR",4,"22155670521","Modulated","Garden upkeep and landscaping","Non-masonry outdoor structures","Assembly of synthetic fibres and/or materials >50% and other materials","≥2 kg and <3 kg","€ / unit",0.21,0.21,{"$f":"_xlfn.XLOOKUP(K9977,'Codes éco-part'!$C$6:$C$923,'Codes éco-part'!$B$6:$B$923)","v":"051"},0.25]
["DIY and gardening products EPR",4,"22155670530",null,"Garden upkeep and landscaping","Non-masonry outdoor structures","Assembly of synthetic fibres and/or materials >50% and other materials","≥3 kg and <5 kg","€ / unit",0.36,0.36,{"$f":"_xlfn.XLOOKUP(K9978,'Codes éco-part'!$C$6:$C$923,'Codes éco-part'!$B$6:$B$923)","v":"449"},0.43]
["DIY and gardening products EPR",4,"22155670531","Modulated","Garden upkeep and landscaping","Non-masonry outdoor structures","Assembly of synthetic fibres and/or materials >50% and other materials","≥3 kg and <5 kg","€ / unit",0.32,0.32,{"$f":"_xlfn.XLOOKUP(K9979,'Codes éco-part'!$C$6:$C$923,'Codes éco-part'!$B$6:$B$923)","v":"447"},0.38]
["DIY and gardening products EPR",4,"22155670540",null,"Garden upkeep and landscaping","Non-masonry outdoor structures","Assembly of synthetic fibres and/or materials >50% and other materials","≥5 kg and <7 kg","€ / unit",0.63,0.63,{"$f":"_xlfn.XLOOKUP(K9980,'Codes éco-part'!$C$6:$C$923,'Codes éco-part'!$B$6:$B$923)","v":"297"},0.76]
["DIY and gardening products EPR",4,"22155670541","Modulated","Garden upkeep and landscaping","Non-masonry outdoor structures","Assembly of synthetic fibres and/or materials >50% and other materials","≥5 kg and <7 kg","€ / unit",0.56999999999999995,0.56999999999999995,{"$f":"_xlfn.XLOOKUP(K9981,'Codes éco-part'!$C$6:$C$923,'Codes éco-part'!$B$6:$B$923)","v":"326"},0.68]
["DIY and gardening products EPR",4,"22155670550",null,"Garden upkeep and landscaping","Non-masonry outdoor structures","Assembly of synthetic fibres and/or materials >50% and other materials","≥7 kg and <10 kg","€ / unit",0.9,0.9,{"$f":"_xlfn.XLOOKUP(K9982,'Codes éco-part'!$C$6:$C$923,'Codes éco-part'!$B$6:$B$923)","v":"330"},1.08]
["DIY and gardening products EPR",4,"22155670551","Modulated","Garden upkeep and landscaping","Non-masonry outdoor structures","Assembly of synthetic fibres and/or materials >50% and other materials","≥7 kg and <10 kg","€ / unit",0.81,0.81,{"$f":"_xlfn.XLOOKUP(K9983,'Codes éco-part'!$C$6:$C$923,'Codes éco-part'!$B$6:$B$923)","v":"112"},0.97]
["DIY and gardening products EPR",4,"22155670560",null,"Garden upkeep and landscaping","Non-masonry outdoor structures","Assembly of synthetic fibres and/or materials >50% and other materials","≥10 kg and <15 kg","€ / unit",1.35,1.35,{"$f":"_xlfn.XLOOKUP(K9984,'Codes éco-part'!$C$6:$C$923,'Codes éco-part'!$B$6:$B$923)","v":"332"},1.62]
["DIY and gardening products EPR",4,"22155670561","Modulated","Garden upkeep and landscaping","Non-masonry outdoor structures","Assembly of synthetic fibres and/or materials >50% and other materials","≥10 kg and <15 kg","€ / unit",1.22,1.22,{"$f":"_xlfn.XLOOKUP(K9985,'Codes éco-part'!$C$6:$C$923,'Codes éco-part'!$B$6:$B$923)","v":"636"},1.46]
["DIY and gardening products EPR",4,"22155670570",null,"Garden upkeep and landscaping","Non-masonry outdoor structures","Assembly of synthetic fibres and/or materials >50% and other materials","≥15 kg and <20 kg","€ / unit",1.8,1.8,{"$f":"_xlfn.XLOOKUP(K9986,'Codes éco-part'!$C$6:$C$923,'Codes éco-part'!$B$6:$B$923)","v":"603"},{"$f":"ROUND(K9986*1.2,2)","v":2.16}]
["DIY and gardening products EPR",4,"22155670571","Modulated","Garden upkeep and landscaping","Non-masonry outdoor structures","Assembly of synthetic fibres and/or materials >50% and other materials","≥15 kg and <20 kg","€ / unit",1.62,1.62,{"$f":"_xlfn.XLOOKUP(K9987,'Codes éco-part'!$C$6:$C$923,'Codes éco-part'!$B$6:$B$923)","v":"810"},1.94]
["DIY and gardening products EPR",4,"22155670580",null,"Garden upkeep and landscaping","Non-masonry outdoor structures","Assembly of synthetic fibres and/or materials >50% and other materials","≥20 kg and <25 kg","€ / unit",2.25,2.25,{"$f":"_xlfn.XLOOKUP(K9988,'Codes éco-part'!$C$6:$C$923,'Codes éco-part'!$B$6:$B$923)","v":"118"},2.7]
["DIY and gardening products EPR",4,"22155670581","Modulated","Garden upkeep and landscaping","Non-masonry outdoor structures","Assembly of synthetic fibres and/or materials >50% and other materials","≥20 kg and <25 kg","€ / unit",2.0299999999999998,2.0299999999999998,{"$f":"_xlfn.XLOOKUP(K9989,'Codes éco-part'!$C$6:$C$923,'Codes éco-part'!$B$6:$B$923)","v":937},2.44]
["DIY and gardening products EPR",4,"22155670590",null,"Garden upkeep and landscaping","Non-masonry outdoor structures","Assembly of synthetic fibres and/or materials >50% and other materials","≥25 kg and <30 kg","€ / unit",2.7,2.7,{"$f":"_xlfn.XLOOKUP(K9990,'Codes éco-part'!$C$6:$C$923,'Codes éco-part'!$B$6:$B$923)","v":"611"},3.24]
["DIY and gardening products EPR",4,"22155670591","Modulated","Garden upkeep and landscaping","Non-masonry outdoor structures","Assembly of synthetic fibres and/or materials >50% and other materials","≥25 kg and <30 kg","€ / unit",2.4300000000000002,2.4300000000000002,{"$f":"_xlfn.XLOOKUP(K9991,'Codes éco-part'!$C$6:$C$923,'Codes éco-part'!$B$6:$B$923)","v":"471"},2.92]
["DIY and gardening products EPR",4,"22155670600",null,"Garden upkeep and landscaping","Non-masonry outdoor structures","Assembly of synthetic fibres and/or materials >50% and other materials","≥40 kg and <50 kg","€ / unit",4.5,4.5,{"$f":"_xlfn.XLOOKUP(K9992,'Codes éco-part'!$C$6:$C$923,'Codes éco-part'!$B$6:$B$923)","v":"127"},5.4]
["DIY and gardening products EPR",4,"22155670601","Modulated","Garden upkeep and landscaping","Non-masonry outdoor structures","Assembly of synthetic fibres and/or materials >50% and other materials","≥40 kg and <50 kg","€ / unit",4.05,4.05,{"$f":"_xlfn.XLOOKUP(K9993,'Codes éco-part'!$C$6:$C$923,'Codes éco-part'!$B$6:$B$923)","v":"884"},4.8600000000000003]
["DIY and gardening products EPR",4,"22155680000",null,"Garden upkeep and landscaping","Non-masonry outdoor structures","Glass >90%","Elements of all sizes and weights","€ / ton",8.75,8.75,{"$f":"_xlfn.XLOOKUP(K9994,'Codes éco-part'!$C$6:$C$923,'Codes éco-part'!$B$6:$B$923)","v":"069"},10.5]
["DIY and gardening products EPR",4,"22155680001","Modulated","Garden upkeep and landscaping","Non-masonry outdoor structures","Glass >90%","Elements of all sizes and weights","€ / ton",7.88,7.88,{"$f":"_xlfn.XLOOKUP(K9995,'Codes éco-part'!$C$6:$C$923,'Codes éco-part'!$B$6:$B$923)","v":"354"},9.4600000000000009]
["DIY and gardening products EPR",4,"22155680200",null,"Garden upkeep and landscaping","Non-masonry outdoor structures","Glass >90%","Strictly <0.5 kg","€ / unit",0.01,0.01,{"$f":"_xlfn.XLOOKUP(K9996,'Codes éco-part'!$C$6:$C$923,'Codes éco-part'!$B$6:$B$923)","v":"260"},0.01]
["DIY and gardening products EPR",4,"22155680201","Modulated","Garden upkeep and landscaping","Non-masonry outdoor structures","Glass >90%","Strictly <0.5 kg","€ / unit",0.01,0.01,{"$f":"_xlfn.XLOOKUP(K9997,'Codes éco-part'!$C$6:$C$923,'Codes éco-part'!$B$6:$B$923)","v":"260"},0.01]
["DIY and gardening products EPR",4,"22155680210",null,"Garden upkeep and landscaping","Non-masonry outdoor structures","Glass >90%","≥0.5 kg and <1 kg","€ / unit",0.01,0.01,{"$f":"_xlfn.XLOOKUP(K9998,'Codes éco-part'!$C$6:$C$923,'Codes éco-part'!$B$6:$B$923)","v":"260"},0.01]
["DIY and gardening products EPR",4,"22155680211","Modulated","Garden upkeep and landscaping","Non-masonry outdoor structures","Glass >90%","≥0.5 kg and <1 kg","€ / unit",0.01,0.01,{"$f":"_xlfn.XLOOKUP(K9999,'Codes éco-part'!$C$6:$C$923,'Codes éco-part'!$B$6:$B$923)","v":"260"},0.01]
["DIY and gardening products EPR",4,"22155680220",null,"Garden upkeep and landscaping","Non-masonry outdoor structures","Glass >90%","≥1 kg and <2 kg","€ / unit",0.01,0.01,{"$f":"_xlfn.XLOOKUP(K10000,'Codes éco-part'!$C$6:$C$923,'Codes éco-part'!$B$6:$B$923)","v":"260"},0.01]
["DIY and gardening products EPR",4,"22155680221","Modulated","Garden upkeep and landscaping","Non-masonry outdoor structures","Glass >90%","≥1 kg and <2 kg","€ / unit",0.01,0.01,{"$f":"_xlfn.XLOOKUP(K10001,'Codes éco-part'!$C$6:$C$923,'Codes éco-part'!$B$6:$B$923)","v":"260"},0.01]
["DIY and gardening products EPR",4,"22155680270",null,"Garden upkeep and landscaping","Non-masonry outdoor structures","Glass >90%","≥30 kg and <40 kg","€ / unit",0.35,0.35,{"$f":"_xlfn.XLOOKUP(K10002,'Codes éco-part'!$C$6:$C$923,'Codes éco-part'!$B$6:$B$923)","v":"448"},0.42]
["DIY and gardening products EPR",4,"22155680271","Modulated","Garden upkeep and landscaping","Non-masonry outdoor structures","Glass >90%","≥30 kg and <40 kg","€ / unit",0.32,0.32,{"$f":"_xlfn.XLOOKUP(K10003,'Codes éco-part'!$C$6:$C$923,'Codes éco-part'!$B$6:$B$923)","v":"447"},0.38]
["DIY and gardening products EPR",4,"22155680520",null,"Garden upkeep and landscaping","Non-masonry outdoor structures","Glass >90%","≥2 kg and <3 kg","€ / unit",0.02,0.02,{"$f":"_xlfn.XLOOKUP(K10004,'Codes éco-part'!$C$6:$C$923,'Codes éco-part'!$B$6:$B$923)","v":"047"},0.02]
["DIY and gardening products EPR",4,"22155680521","Modulated","Garden upkeep and landscaping","Non-masonry outdoor structures","Glass >90%","≥2 kg and <3 kg","€ / unit",0.02,0.02,{"$f":"_xlfn.XLOOKUP(K10005,'Codes éco-part'!$C$6:$C$923,'Codes éco-part'!$B$6:$B$923)","v":"047"},0.02]
["DIY and gardening products EPR",4,"22155680530",null,"Garden upkeep and landscaping","Non-masonry outdoor structures","Glass >90%","≥3 kg and <5 kg","€ / unit",0.04,0.04,{"$f":"_xlfn.XLOOKUP(K10006,'Codes éco-part'!$C$6:$C$923,'Codes éco-part'!$B$6:$B$923)","v":"002"},0.05]
["DIY and gardening products EPR",4,"22155680531","Modulated","Garden upkeep and landscaping","Non-masonry outdoor structures","Glass >90%","≥3 kg and <5 kg","€ / unit",0.04,0.04,{"$f":"_xlfn.XLOOKUP(K10007,'Codes éco-part'!$C$6:$C$923,'Codes éco-part'!$B$6:$B$923)","v":"002"},0.05]
["DIY and gardening products EPR",4,"22155680540",null,"Garden upkeep and landscaping","Non-masonry outdoor structures","Glass >90%","≥5 kg and <7 kg","€ / unit",0.06,0.06,{"$f":"_xlfn.XLOOKUP(K10008,'Codes éco-part'!$C$6:$C$923,'Codes éco-part'!$B$6:$B$923)","v":"096"},7.0000000000000007E-2]
["DIY and gardening products EPR",4,"22155680541","Modulated","Garden upkeep and landscaping","Non-masonry outdoor structures","Glass >90%","≥5 kg and <7 kg","€ / unit",0.05,0.05,{"$f":"_xlfn.XLOOKUP(K10009,'Codes éco-part'!$C$6:$C$923,'Codes éco-part'!$B$6:$B$923)","v":"048"},0.06]
["DIY and gardening products EPR",4,"22155680550",null,"Garden upkeep and landscaping","Non-masonry outdoor structures","Glass >90%","≥7 kg and <10 kg","€ / unit",0.09,0.09,{"$f":"_xlfn.XLOOKUP(K10010,'Codes éco-part'!$C$6:$C$923,'Codes éco-part'!$B$6:$B$923)","v":"049"},0.11]
["DIY and gardening products EPR",4,"22155680551","Modulated","Garden upkeep and landscaping","Non-masonry outdoor structures","Glass >90%","≥7 kg and <10 kg","€ / unit",0.08,0.08,{"$f":"_xlfn.XLOOKUP(K10011,'Codes éco-part'!$C$6:$C$923,'Codes éco-part'!$B$6:$B$923)","v":"003"},0.1]
["DIY and gardening products EPR",4,"22155680560",null,"Garden upkeep and landscaping","Non-masonry outdoor structures","Glass >90%","≥10 kg and <15 kg","€ / unit",0.13,0.13,{"$f":"_xlfn.XLOOKUP(K10012,'Codes éco-part'!$C$6:$C$923,'Codes éco-part'!$B$6:$B$923)","v":"004"},0.16]
["DIY and gardening products EPR",4,"22155680561","Modulated","Garden upkeep and landscaping","Non-masonry outdoor structures","Glass >90%","≥10 kg and <15 kg","€ / unit",0.12,0.12,{"$f":"_xlfn.XLOOKUP(K10013,'Codes éco-part'!$C$6:$C$923,'Codes éco-part'!$B$6:$B$923)","v":"097"},0.14000000000000001]
["DIY and gardening products EPR",4,"22155680570",null,"Garden upkeep and landscaping","Non-masonry outdoor structures","Glass >90%","≥15 kg and <20 kg","€ / unit",0.18,0.18,{"$f":"_xlfn.XLOOKUP(K10014,'Codes éco-part'!$C$6:$C$923,'Codes éco-part'!$B$6:$B$923)","v":"100"},0.22]
["DIY and gardening products EPR",4,"22155680571","Modulated","Garden upkeep and landscaping","Non-masonry outdoor structures","Glass >90%","≥15 kg and <20 kg","€ / unit",0.16,0.16,{"$f":"_xlfn.XLOOKUP(K10015,'Codes éco-part'!$C$6:$C$923,'Codes éco-part'!$B$6:$B$923)","v":"099"},0.19]
["DIY and gardening products EPR",4,"22155680580",null,"Garden upkeep and landscaping","Non-masonry outdoor structures","Glass >90%","≥20 kg and <25 kg","€ / unit",0.22,0.22,{"$f":"_xlfn.XLOOKUP(K10016,'Codes éco-part'!$C$6:$C$923,'Codes éco-part'!$B$6:$B$923)","v":"263"},0.26]
["DIY and gardening products EPR",4,"22155680581","Modulated","Garden upkeep and landscaping","Non-masonry outdoor structures","Glass >90%","≥20 kg and <25 kg","€ / unit",0.2,0.2,{"$f":"_xlfn.XLOOKUP(K10017,'Codes éco-part'!$C$6:$C$923,'Codes éco-part'!$B$6:$B$923)","v":"101"},0.24]
["DIY and gardening products EPR",4,"22155680590",null,"Garden upkeep and landscaping","Non-masonry outdoor structures","Glass >90%","≥25 kg and <30 kg","€ / unit",0.26,0.26,{"$f":"_xlfn.XLOOKUP(K10018,'Codes éco-part'!$C$6:$C$923,'Codes éco-part'!$B$6:$B$923)","v":"445"},0.31]
["DIY and gardening products EPR",4,"22155680591","Modulated","Garden upkeep and landscaping","Non-masonry outdoor structures","Glass >90%","≥25 kg and <30 kg","€ / unit",0.23,0.23,{"$f":"_xlfn.XLOOKUP(K10019,'Codes éco-part'!$C$6:$C$923,'Codes éco-part'!$B$6:$B$923)","v":"323"},0.28000000000000003]
["DIY and gardening products EPR",4,"22155680600",null,"Garden upkeep and landscaping","Non-masonry outdoor structures","Glass >90%","≥40 kg and <50 kg","€ / unit",0.44,0.44,{"$f":"_xlfn.XLOOKUP(K10020,'Codes éco-part'!$C$6:$C$923,'Codes éco-part'!$B$6:$B$923)","v":"281"},0.53]
["DIY and gardening products EPR",4,"22155680601","Modulated","Garden upkeep and landscaping","Non-masonry outdoor structures","Glass >90%","≥40 kg and <50 kg","€ / unit",0.4,0.4,{"$f":"_xlfn.XLOOKUP(K10021,'Codes éco-part'!$C$6:$C$923,'Codes éco-part'!$B$6:$B$923)","v":"105"},0.48]
["DIY and gardening products EPR",4,"22155700000",null,"Garden upkeep and landscaping","Non-masonry outdoor structures","Assembly of glass >50% and metal","Elements of all sizes and weights","€ / ton",90,90,{"$f":"_xlfn.XLOOKUP(K10022,'Codes éco-part'!$C$6:$C$923,'Codes éco-part'!$B$6:$B$923)","v":"609"},108]
["DIY and gardening products EPR",4,"22155700001","Modulated","Garden upkeep and landscaping","Non-masonry outdoor structures","Assembly of glass >50% and metal","Elements of all sizes and weights","€ / ton",81,81,{"$f":"_xlfn.XLOOKUP(K10023,'Codes éco-part'!$C$6:$C$923,'Codes éco-part'!$B$6:$B$923)","v":943},97.2]
["DIY and gardening products EPR",4,"22155700200",null,"Garden upkeep and landscaping","Non-masonry outdoor structures","Assembly of glass >50% and metal","Strictly <0.5 kg","€ / unit",0.02,0.02,{"$f":"_xlfn.XLOOKUP(K10024,'Codes éco-part'!$C$6:$C$923,'Codes éco-part'!$B$6:$B$923)","v":"047"},0.02]
["DIY and gardening products EPR",4,"22155700201","Modulated","Garden upkeep and landscaping","Non-masonry outdoor structures","Assembly of glass >50% and metal","Strictly <0.5 kg","€ / unit",0.02,0.02,{"$f":"_xlfn.XLOOKUP(K10025,'Codes éco-part'!$C$6:$C$923,'Codes éco-part'!$B$6:$B$923)","v":"047"},0.02]
["DIY and gardening products EPR",4,"22155700210",null,"Garden upkeep and landscaping","Non-masonry outdoor structures","Assembly of glass >50% and metal","≥0.5 kg and <1 kg","€ / unit",7.0000000000000007E-2,7.0000000000000007E-2,{"$f":"_xlfn.XLOOKUP(K10026,'Codes éco-part'!$C$6:$C$923,'Codes éco-part'!$B$6:$B$923)","v":"247"},0.08]
["DIY and gardening products EPR",4,"22155700211","Modulated","Garden upkeep and landscaping","Non-masonry outdoor structures","Assembly of glass >50% and metal","≥0.5 kg and <1 kg","€ / unit",0.06,0.06,{"$f":"_xlfn.XLOOKUP(K10027,'Codes éco-part'!$C$6:$C$923,'Codes éco-part'!$B$6:$B$923)","v":"096"},7.0000000000000007E-2]
["DIY and gardening products EPR",4,"22155700220",null,"Garden upkeep and landscaping","Non-masonry outdoor structures","Assembly of glass >50% and metal","≥1 kg and <2 kg","€ / unit",0.14000000000000001,0.14000000000000001,{"$f":"_xlfn.XLOOKUP(K10028,'Codes éco-part'!$C$6:$C$923,'Codes éco-part'!$B$6:$B$923)","v":"098"},0.17]
["DIY and gardening products EPR",4,"22155700221","Modulated","Garden upkeep and landscaping","Non-masonry outdoor structures","Assembly of glass >50% and metal","≥1 kg and <2 kg","€ / unit",0.13,0.13,{"$f":"_xlfn.XLOOKUP(K10029,'Codes éco-part'!$C$6:$C$923,'Codes éco-part'!$B$6:$B$923)","v":"004"},0.16]
["DIY and gardening products EPR",4,"22155700270",null,"Garden upkeep and landscaping","Non-masonry outdoor structures","Assembly of glass >50% and metal","≥30 kg and <40 kg","€ / unit",3.6,3.6,{"$f":"_xlfn.XLOOKUP(K10030,'Codes éco-part'!$C$6:$C$923,'Codes éco-part'!$B$6:$B$923)","v":"610"},4.32]
["DIY and gardening products EPR",4,"22155700271","Modulated","Garden upkeep and landscaping","Non-masonry outdoor structures","Assembly of glass >50% and metal","≥30 kg and <40 kg","€ / unit",3.24,3.24,{"$f":"_xlfn.XLOOKUP(K10031,'Codes éco-part'!$C$6:$C$923,'Codes éco-part'!$B$6:$B$923)","v":944},3.89]
["DIY and gardening products EPR",4,"22155700520",null,"Garden upkeep and landscaping","Non-masonry outdoor structures","Assembly of glass >50% and metal","≥2 kg and <3 kg","€ / unit",0.23,0.23,{"$f":"_xlfn.XLOOKUP(K10032,'Codes éco-part'!$C$6:$C$923,'Codes éco-part'!$B$6:$B$923)","v":"323"},0.28000000000000003]
["DIY and gardening products EPR",4,"22155700521","Modulated","Garden upkeep and landscaping","Non-masonry outdoor structures","Assembly of glass >50% and metal","≥2 kg and <3 kg","€ / unit",0.21,0.21,{"$f":"_xlfn.XLOOKUP(K10033,'Codes éco-part'!$C$6:$C$923,'Codes éco-part'!$B$6:$B$923)","v":"051"},0.25]
["DIY and gardening products EPR",4,"22155700530",null,"Garden upkeep and landscaping","Non-masonry outdoor structures","Assembly of glass >50% and metal","≥3 kg and <5 kg","€ / unit",0.36,0.36,{"$f":"_xlfn.XLOOKUP(K10034,'Codes éco-part'!$C$6:$C$923,'Codes éco-part'!$B$6:$B$923)","v":"449"},0.43]
["DIY and gardening products EPR",4,"22155700531","Modulated","Garden upkeep and landscaping","Non-masonry outdoor structures","Assembly of glass >50% and metal","≥3 kg and <5 kg","€ / unit",0.32,0.32,{"$f":"_xlfn.XLOOKUP(K10035,'Codes éco-part'!$C$6:$C$923,'Codes éco-part'!$B$6:$B$923)","v":"447"},0.38]
["DIY and gardening products EPR",4,"22155700540",null,"Garden upkeep and landscaping","Non-masonry outdoor structures","Assembly of glass >50% and metal","≥5 kg and <7 kg","€ / unit",0.63,0.63,{"$f":"_xlfn.XLOOKUP(K10036,'Codes éco-part'!$C$6:$C$923,'Codes éco-part'!$B$6:$B$923)","v":"297"},0.76]
["DIY and gardening products EPR",4,"22155700541","Modulated","Garden upkeep and landscaping","Non-masonry outdoor structures","Assembly of glass >50% and metal","≥5 kg and <7 kg","€ / unit",0.56999999999999995,0.56999999999999995,{"$f":"_xlfn.XLOOKUP(K10037,'Codes éco-part'!$C$6:$C$923,'Codes éco-part'!$B$6:$B$923)","v":"326"},0.68]
["DIY and gardening products EPR",4,"22155700550",null,"Garden upkeep and landscaping","Non-masonry outdoor structures","Assembly of glass >50% and metal","≥7 kg and <10 kg","€ / unit",0.9,0.9,{"$f":"_xlfn.XLOOKUP(K10038,'Codes éco-part'!$C$6:$C$923,'Codes éco-part'!$B$6:$B$923)","v":"330"},1.08]
["DIY and gardening products EPR",4,"22155700551","Modulated","Garden upkeep and landscaping","Non-masonry outdoor structures","Assembly of glass >50% and metal","≥7 kg and <10 kg","€ / unit",0.81,0.81,{"$f":"_xlfn.XLOOKUP(K10039,'Codes éco-part'!$C$6:$C$923,'Codes éco-part'!$B$6:$B$923)","v":"112"},0.97]
["DIY and gardening products EPR",4,"22155700560",null,"Garden upkeep and landscaping","Non-masonry outdoor structures","Assembly of glass >50% and metal","≥10 kg and <15 kg","€ / unit",1.35,1.35,{"$f":"_xlfn.XLOOKUP(K10040,'Codes éco-part'!$C$6:$C$923,'Codes éco-part'!$B$6:$B$923)","v":"332"},1.62]
["DIY and gardening products EPR",4,"22155700561","Modulated","Garden upkeep and landscaping","Non-masonry outdoor structures","Assembly of glass >50% and metal","≥10 kg and <15 kg","€ / unit",1.22,1.22,{"$f":"_xlfn.XLOOKUP(K10041,'Codes éco-part'!$C$6:$C$923,'Codes éco-part'!$B$6:$B$923)","v":"636"},1.46]
["DIY and gardening products EPR",4,"22155700570",null,"Garden upkeep and landscaping","Non-masonry outdoor structures","Assembly of glass >50% and metal","≥15 kg and <20 kg","€ / unit",1.8,1.8,{"$f":"_xlfn.XLOOKUP(K10042,'Codes éco-part'!$C$6:$C$923,'Codes éco-part'!$B$6:$B$923)","v":"603"},2.16]
["DIY and gardening products EPR",4,"22155700571","Modulated","Garden upkeep and landscaping","Non-masonry outdoor structures","Assembly of glass >50% and metal","≥15 kg and <20 kg","€ / unit",1.62,1.62,{"$f":"_xlfn.XLOOKUP(K10043,'Codes éco-part'!$C$6:$C$923,'Codes éco-part'!$B$6:$B$923)","v":"810"},1.94]
["DIY and gardening products EPR",4,"22155700580",null,"Garden upkeep and landscaping","Non-masonry outdoor structures","Assembly of glass >50% and metal","≥20 kg and <25 kg","€ / unit",2.25,2.25,{"$f":"_xlfn.XLOOKUP(K10044,'Codes éco-part'!$C$6:$C$923,'Codes éco-part'!$B$6:$B$923)","v":"118"},2.7]
["DIY and gardening products EPR",4,"22155700581","Modulated","Garden upkeep and landscaping","Non-masonry outdoor structures","Assembly of glass >50% and metal","≥20 kg and <25 kg","€ / unit",2.0299999999999998,2.0299999999999998,{"$f":"_xlfn.XLOOKUP(K10045,'Codes éco-part'!$C$6:$C$923,'Codes éco-part'!$B$6:$B$923)","v":937},2.44]
["DIY and gardening products EPR",4,"22155700590",null,"Garden upkeep and landscaping","Non-masonry outdoor structures","Assembly of glass >50% and metal","≥25 kg and <30 kg","€ / unit",2.7,2.7,{"$f":"_xlfn.XLOOKUP(K10046,'Codes éco-part'!$C$6:$C$923,'Codes éco-part'!$B$6:$B$923)","v":"611"},3.24]
["DIY and gardening products EPR",4,"22155700591","Modulated","Garden upkeep and landscaping","Non-masonry outdoor structures","Assembly of glass >50% and metal","≥25 kg and <30 kg","€ / unit",2.4300000000000002,2.4300000000000002,{"$f":"_xlfn.XLOOKUP(K10047,'Codes éco-part'!$C$6:$C$923,'Codes éco-part'!$B$6:$B$923)","v":"471"},2.92]
["DIY and gardening products EPR",4,"22155700600",null,"Garden upkeep and landscaping","Non-masonry outdoor structures","Assembly of glass >50% and metal","≥40 kg and <50 kg","€ / unit",4.5,4.5,{"$f":"_xlfn.XLOOKUP(K10048,'Codes éco-part'!$C$6:$C$923,'Codes éco-part'!$B$6:$B$923)","v":"127"},5.4]
["DIY and gardening products EPR",4,"22155700601","Modulated","Garden upkeep and landscaping","Non-masonry outdoor structures","Assembly of glass >50% and metal","≥40 kg and <50 kg","€ / unit",4.05,4.05,{"$f":"_xlfn.XLOOKUP(K10049,'Codes éco-part'!$C$6:$C$923,'Codes éco-part'!$B$6:$B$923)","v":"884"},4.8600000000000003]
["DIY and gardening products EPR",4,"22155710000",null,"Garden upkeep and landscaping","Non-masonry outdoor structures","Assembly of glass >50% and inert substances","Elements of all sizes and weights","€ / ton",90,90,{"$f":"_xlfn.XLOOKUP(K10050,'Codes éco-part'!$C$6:$C$923,'Codes éco-part'!$B$6:$B$923)","v":"609"},{"$f":"ROUND(K10050*1.2,2)","v":108}]
["DIY and gardening products EPR",4,"22155710001","Modulated","Garden upkeep and landscaping","Non-masonry outdoor structures","Assembly of glass >50% and inert substances","Elements of all sizes and weights","€ / ton",81,81,{"$f":"_xlfn.XLOOKUP(K10051,'Codes éco-part'!$C$6:$C$923,'Codes éco-part'!$B$6:$B$923)","v":943},97.2]
["DIY and gardening products EPR",4,"22155710200",null,"Garden upkeep and landscaping","Non-masonry outdoor structures","Assembly of glass >50% and inert substances","Strictly <0.5 kg","€ / unit",0.02,0.02,{"$f":"_xlfn.XLOOKUP(K10052,'Codes éco-part'!$C$6:$C$923,'Codes éco-part'!$B$6:$B$923)","v":"047"},0.02]
["DIY and gardening products EPR",4,"22155710201","Modulated","Garden upkeep and landscaping","Non-masonry outdoor structures","Assembly of glass >50% and inert substances","Strictly <0.5 kg","€ / unit",0.02,0.02,{"$f":"_xlfn.XLOOKUP(K10053,'Codes éco-part'!$C$6:$C$923,'Codes éco-part'!$B$6:$B$923)","v":"047"},0.02]
["DIY and gardening products EPR",4,"22155710210",null,"Garden upkeep and landscaping","Non-masonry outdoor structures","Assembly of glass >50% and inert substances","≥0.5 kg and <1 kg","€ / unit",7.0000000000000007E-2,7.0000000000000007E-2,{"$f":"_xlfn.XLOOKUP(K10054,'Codes éco-part'!$C$6:$C$923,'Codes éco-part'!$B$6:$B$923)","v":"247"},0.08]
["DIY and gardening products EPR",4,"22155710211","Modulated","Garden upkeep and landscaping","Non-masonry outdoor structures","Assembly of glass >50% and inert substances","≥0.5 kg and <1 kg","€ / unit",0.06,0.06,{"$f":"_xlfn.XLOOKUP(K10055,'Codes éco-part'!$C$6:$C$923,'Codes éco-part'!$B$6:$B$923)","v":"096"},7.0000000000000007E-2]
["DIY and gardening products EPR",4,"22155710220",null,"Garden upkeep and landscaping","Non-masonry outdoor structures","Assembly of glass >50% and inert substances","≥1 kg and <2 kg","€ / unit",0.14000000000000001,0.14000000000000001,{"$f":"_xlfn.XLOOKUP(K10056,'Codes éco-part'!$C$6:$C$923,'Codes éco-part'!$B$6:$B$923)","v":"098"},0.17]
["DIY and gardening products EPR",4,"22155710221","Modulated","Garden upkeep and landscaping","Non-masonry outdoor structures","Assembly of glass >50% and inert substances","≥1 kg and <2 kg","€ / unit",0.13,0.13,{"$f":"_xlfn.XLOOKUP(K10057,'Codes éco-part'!$C$6:$C$923,'Codes éco-part'!$B$6:$B$923)","v":"004"},0.16]
["DIY and gardening products EPR",4,"22155710270",null,"Garden upkeep and landscaping","Non-masonry outdoor structures","Assembly of glass >50% and inert substances","≥30 kg and <40 kg","€ / unit",3.6,3.6,{"$f":"_xlfn.XLOOKUP(K10058,'Codes éco-part'!$C$6:$C$923,'Codes éco-part'!$B$6:$B$923)","v":"610"},4.32]
["DIY and gardening products EPR",4,"22155710271","Modulated","Garden upkeep and landscaping","Non-masonry outdoor structures","Assembly of glass >50% and inert substances","≥30 kg and <40 kg","€ / unit",3.24,3.24,{"$f":"_xlfn.XLOOKUP(K10059,'Codes éco-part'!$C$6:$C$923,'Codes éco-part'!$B$6:$B$923)","v":944},3.89]
["DIY and gardening products EPR",4,"22155710520",null,"Garden upkeep and landscaping","Non-masonry outdoor structures","Assembly of glass >50% and inert substances","≥2 kg and <3 kg","€ / unit",0.23,0.23,{"$f":"_xlfn.XLOOKUP(K10060,'Codes éco-part'!$C$6:$C$923,'Codes éco-part'!$B$6:$B$923)","v":"323"},0.28000000000000003]
["DIY and gardening products EPR",4,"22155710521","Modulated","Garden upkeep and landscaping","Non-masonry outdoor structures","Assembly of glass >50% and inert substances","≥2 kg and <3 kg","€ / unit",0.21,0.21,{"$f":"_xlfn.XLOOKUP(K10061,'Codes éco-part'!$C$6:$C$923,'Codes éco-part'!$B$6:$B$923)","v":"051"},0.25]
["DIY and gardening products EPR",4,"22155710530",null,"Garden upkeep and landscaping","Non-masonry outdoor structures","Assembly of glass >50% and inert substances","≥3 kg and <5 kg","€ / unit",0.36,0.36,{"$f":"_xlfn.XLOOKUP(K10062,'Codes éco-part'!$C$6:$C$923,'Codes éco-part'!$B$6:$B$923)","v":"449"},0.43]
["DIY and gardening products EPR",4,"22155710531","Modulated","Garden upkeep and landscaping","Non-masonry outdoor structures","Assembly of glass >50% and inert substances","≥3 kg and <5 kg","€ / unit",0.32,0.32,{"$f":"_xlfn.XLOOKUP(K10063,'Codes éco-part'!$C$6:$C$923,'Codes éco-part'!$B$6:$B$923)","v":"447"},0.38]
["DIY and gardening products EPR",4,"22155710540",null,"Garden upkeep and landscaping","Non-masonry outdoor structures","Assembly of glass >50% and inert substances","≥5 kg and <7 kg","€ / unit",0.63,0.63,{"$f":"_xlfn.XLOOKUP(K10064,'Codes éco-part'!$C$6:$C$923,'Codes éco-part'!$B$6:$B$923)","v":"297"},0.76]
["DIY and gardening products EPR",4,"22155710541","Modulated","Garden upkeep and landscaping","Non-masonry outdoor structures","Assembly of glass >50% and inert substances","≥5 kg and <7 kg","€ / unit",0.56999999999999995,0.56999999999999995,{"$f":"_xlfn.XLOOKUP(K10065,'Codes éco-part'!$C$6:$C$923,'Codes éco-part'!$B$6:$B$923)","v":"326"},0.68]
["DIY and gardening products EPR",4,"22155710550",null,"Garden upkeep and landscaping","Non-masonry outdoor structures","Assembly of glass >50% and inert substances","≥7 kg and <10 kg","€ / unit",0.9,0.9,{"$f":"_xlfn.XLOOKUP(K10066,'Codes éco-part'!$C$6:$C$923,'Codes éco-part'!$B$6:$B$923)","v":"330"},1.08]
["DIY and gardening products EPR",4,"22155710551","Modulated","Garden upkeep and landscaping","Non-masonry outdoor structures","Assembly of glass >50% and inert substances","≥7 kg and <10 kg","€ / unit",0.81,0.81,{"$f":"_xlfn.XLOOKUP(K10067,'Codes éco-part'!$C$6:$C$923,'Codes éco-part'!$B$6:$B$923)","v":"112"},0.97]
["DIY and gardening products EPR",4,"22155710560",null,"Garden upkeep and landscaping","Non-masonry outdoor structures","Assembly of glass >50% and inert substances","≥10 kg and <15 kg","€ / unit",1.35,1.35,{"$f":"_xlfn.XLOOKUP(K10068,'Codes éco-part'!$C$6:$C$923,'Codes éco-part'!$B$6:$B$923)","v":"332"},1.62]
["DIY and gardening products EPR",4,"22155710561","Modulated","Garden upkeep and landscaping","Non-masonry outdoor structures","Assembly of glass >50% and inert substances","≥10 kg and <15 kg","€ / unit",1.22,1.22,{"$f":"_xlfn.XLOOKUP(K10069,'Codes éco-part'!$C$6:$C$923,'Codes éco-part'!$B$6:$B$923)","v":"636"},1.46]
["DIY and gardening products EPR",4,"22155710570",null,"Garden upkeep and landscaping","Non-masonry outdoor structures","Assembly of glass >50% and inert substances","≥15 kg and <20 kg","€ / unit",1.8,1.8,{"$f":"_xlfn.XLOOKUP(K10070,'Codes éco-part'!$C$6:$C$923,'Codes éco-part'!$B$6:$B$923)","v":"603"},2.16]
["DIY and gardening products EPR",4,"22155710571","Modulated","Garden upkeep and landscaping","Non-masonry outdoor structures","Assembly of glass >50% and inert substances","≥15 kg and <20 kg","€ / unit",1.62,1.62,{"$f":"_xlfn.XLOOKUP(K10071,'Codes éco-part'!$C$6:$C$923,'Codes éco-part'!$B$6:$B$923)","v":"810"},1.94]
["DIY and gardening products EPR",4,"22155710580",null,"Garden upkeep and landscaping","Non-masonry outdoor structures","Assembly of glass >50% and inert substances","≥20 kg and <25 kg","€ / unit",2.25,2.25,{"$f":"_xlfn.XLOOKUP(K10072,'Codes éco-part'!$C$6:$C$923,'Codes éco-part'!$B$6:$B$923)","v":"118"},2.7]
["DIY and gardening products EPR",4,"22155710581","Modulated","Garden upkeep and landscaping","Non-masonry outdoor structures","Assembly of glass >50% and inert substances","≥20 kg and <25 kg","€ / unit",2.0299999999999998,2.0299999999999998,{"$f":"_xlfn.XLOOKUP(K10073,'Codes éco-part'!$C$6:$C$923,'Codes éco-part'!$B$6:$B$923)","v":937},2.44]
["DIY and gardening products EPR",4,"22155710590",null,"Garden upkeep and landscaping","Non-masonry outdoor structures","Assembly of glass >50% and inert substances","≥25 kg and <30 kg","€ / unit",2.7,2.7,{"$f":"_xlfn.XLOOKUP(K10074,'Codes éco-part'!$C$6:$C$923,'Codes éco-part'!$B$6:$B$923)","v":"611"},3.24]
["DIY and gardening products EPR",4,"22155710591","Modulated","Garden upkeep and landscaping","Non-masonry outdoor structures","Assembly of glass >50% and inert substances","≥25 kg and <30 kg","€ / unit",2.4300000000000002,2.4300000000000002,{"$f":"_xlfn.XLOOKUP(K10075,'Codes éco-part'!$C$6:$C$923,'Codes éco-part'!$B$6:$B$923)","v":"471"},2.92]
["DIY and gardening products EPR",4,"22155710600",null,"Garden upkeep and landscaping","Non-masonry outdoor structures","Assembly of glass >50% and inert substances","≥40 kg and <50 kg","€ / unit",4.5,4.5,{"$f":"_xlfn.XLOOKUP(K10076,'Codes éco-part'!$C$6:$C$923,'Codes éco-part'!$B$6:$B$923)","v":"127"},5.4]
["DIY and gardening products EPR",4,"22155710601","Modulated","Garden upkeep and landscaping","Non-masonry outdoor structures","Assembly of glass >50% and inert substances","≥40 kg and <50 kg","€ / unit",4.05,4.05,{"$f":"_xlfn.XLOOKUP(K10077,'Codes éco-part'!$C$6:$C$923,'Codes éco-part'!$B$6:$B$923)","v":"884"},4.8600000000000003]
["DIY and gardening products EPR",4,"22155720000",null,"Garden upkeep and landscaping","Non-masonry outdoor structures","Assembly of glass >50% and wood or wood derivatives","Elements of all sizes and weights","€ / ton",90,90,{"$f":"_xlfn.XLOOKUP(K10078,'Codes éco-part'!$C$6:$C$923,'Codes éco-part'!$B$6:$B$923)","v":"609"},108]
["DIY and gardening products EPR",4,"22155720001","Modulated","Garden upkeep and landscaping","Non-masonry outdoor structures","Assembly of glass >50% and wood or wood derivatives","Elements of all sizes and weights","€ / ton",81,81,{"$f":"_xlfn.XLOOKUP(K10079,'Codes éco-part'!$C$6:$C$923,'Codes éco-part'!$B$6:$B$923)","v":943},97.2]
["DIY and gardening products EPR",4,"22155720200",null,"Garden upkeep and landscaping","Non-masonry outdoor structures","Assembly of glass >50% and wood or wood derivatives","Strictly <0.5 kg","€ / unit",0.02,0.02,{"$f":"_xlfn.XLOOKUP(K10080,'Codes éco-part'!$C$6:$C$923,'Codes éco-part'!$B$6:$B$923)","v":"047"},0.02]
["DIY and gardening products EPR",4,"22155720201","Modulated","Garden upkeep and landscaping","Non-masonry outdoor structures","Assembly of glass >50% and wood or wood derivatives","Strictly <0.5 kg","€ / unit",0.02,0.02,{"$f":"_xlfn.XLOOKUP(K10081,'Codes éco-part'!$C$6:$C$923,'Codes éco-part'!$B$6:$B$923)","v":"047"},0.02]
["DIY and gardening products EPR",4,"22155720210",null,"Garden upkeep and landscaping","Non-masonry outdoor structures","Assembly of glass >50% and wood or wood derivatives","≥0.5 kg and <1 kg","€ / unit",7.0000000000000007E-2,7.0000000000000007E-2,{"$f":"_xlfn.XLOOKUP(K10082,'Codes éco-part'!$C$6:$C$923,'Codes éco-part'!$B$6:$B$923)","v":"247"},0.08]
["DIY and gardening products EPR",4,"22155720211","Modulated","Garden upkeep and landscaping","Non-masonry outdoor structures","Assembly of glass >50% and wood or wood derivatives","≥0.5 kg and <1 kg","€ / unit",0.06,0.06,{"$f":"_xlfn.XLOOKUP(K10083,'Codes éco-part'!$C$6:$C$923,'Codes éco-part'!$B$6:$B$923)","v":"096"},7.0000000000000007E-2]
["DIY and gardening products EPR",4,"22155720220",null,"Garden upkeep and landscaping","Non-masonry outdoor structures","Assembly of glass >50% and wood or wood derivatives","≥1 kg and <2 kg","€ / unit",0.14000000000000001,0.14000000000000001,{"$f":"_xlfn.XLOOKUP(K10084,'Codes éco-part'!$C$6:$C$923,'Codes éco-part'!$B$6:$B$923)","v":"098"},0.17]
["DIY and gardening products EPR",4,"22155720221","Modulated","Garden upkeep and landscaping","Non-masonry outdoor structures","Assembly of glass >50% and wood or wood derivatives","≥1 kg and <2 kg","€ / unit",0.13,0.13,{"$f":"_xlfn.XLOOKUP(K10085,'Codes éco-part'!$C$6:$C$923,'Codes éco-part'!$B$6:$B$923)","v":"004"},0.16]
["DIY and gardening products EPR",4,"22155720270",null,"Garden upkeep and landscaping","Non-masonry outdoor structures","Assembly of glass >50% and wood or wood derivatives","≥30 kg and <40 kg","€ / unit",3.6,3.6,{"$f":"_xlfn.XLOOKUP(K10086,'Codes éco-part'!$C$6:$C$923,'Codes éco-part'!$B$6:$B$923)","v":"610"},4.32]
["DIY and gardening products EPR",4,"22155720271","Modulated","Garden upkeep and landscaping","Non-masonry outdoor structures","Assembly of glass >50% and wood or wood derivatives","≥30 kg and <40 kg","€ / unit",3.24,3.24,{"$f":"_xlfn.XLOOKUP(K10087,'Codes éco-part'!$C$6:$C$923,'Codes éco-part'!$B$6:$B$923)","v":944},3.89]
["DIY and gardening products EPR",4,"22155720520",null,"Garden upkeep and landscaping","Non-masonry outdoor structures","Assembly of glass >50% and wood or wood derivatives","≥2 kg and <3 kg","€ / unit",0.23,0.23,{"$f":"_xlfn.XLOOKUP(K10088,'Codes éco-part'!$C$6:$C$923,'Codes éco-part'!$B$6:$B$923)","v":"323"},0.28000000000000003]
["DIY and gardening products EPR",4,"22155720521","Modulated","Garden upkeep and landscaping","Non-masonry outdoor structures","Assembly of glass >50% and wood or wood derivatives","≥2 kg and <3 kg","€ / unit",0.21,0.21,{"$f":"_xlfn.XLOOKUP(K10089,'Codes éco-part'!$C$6:$C$923,'Codes éco-part'!$B$6:$B$923)","v":"051"},0.25]
["DIY and gardening products EPR",4,"22155720530",null,"Garden upkeep and landscaping","Non-masonry outdoor structures","Assembly of glass >50% and wood or wood derivatives","≥3 kg and <5 kg","€ / unit",0.36,0.36,{"$f":"_xlfn.XLOOKUP(K10090,'Codes éco-part'!$C$6:$C$923,'Codes éco-part'!$B$6:$B$923)","v":"449"},0.43]
["DIY and gardening products EPR",4,"22155720531","Modulated","Garden upkeep and landscaping","Non-masonry outdoor structures","Assembly of glass >50% and wood or wood derivatives","≥3 kg and <5 kg","€ / unit",0.32,0.32,{"$f":"_xlfn.XLOOKUP(K10091,'Codes éco-part'!$C$6:$C$923,'Codes éco-part'!$B$6:$B$923)","v":"447"},0.38]
["DIY and gardening products EPR",4,"22155720540",null,"Garden upkeep and landscaping","Non-masonry outdoor structures","Assembly of glass >50% and wood or wood derivatives","≥5 kg and <7 kg","€ / unit",0.63,0.63,{"$f":"_xlfn.XLOOKUP(K10092,'Codes éco-part'!$C$6:$C$923,'Codes éco-part'!$B$6:$B$923)","v":"297"},0.76]
["DIY and gardening products EPR",4,"22155720541","Modulated","Garden upkeep and landscaping","Non-masonry outdoor structures","Assembly of glass >50% and wood or wood derivatives","≥5 kg and <7 kg","€ / unit",0.56999999999999995,0.56999999999999995,{"$f":"_xlfn.XLOOKUP(K10093,'Codes éco-part'!$C$6:$C$923,'Codes éco-part'!$B$6:$B$923)","v":"326"},0.68]
["DIY and gardening products EPR",4,"22155720550",null,"Garden upkeep and landscaping","Non-masonry outdoor structures","Assembly of glass >50% and wood or wood derivatives","≥7 kg and <10 kg","€ / unit",0.9,0.9,{"$f":"_xlfn.XLOOKUP(K10094,'Codes éco-part'!$C$6:$C$923,'Codes éco-part'!$B$6:$B$923)","v":"330"},1.08]
["DIY and gardening products EPR",4,"22155720551","Modulated","Garden upkeep and landscaping","Non-masonry outdoor structures","Assembly of glass >50% and wood or wood derivatives","≥7 kg and <10 kg","€ / unit",0.81,0.81,{"$f":"_xlfn.XLOOKUP(K10095,'Codes éco-part'!$C$6:$C$923,'Codes éco-part'!$B$6:$B$923)","v":"112"},0.97]
["DIY and gardening products EPR",4,"22155720560",null,"Garden upkeep and landscaping","Non-masonry outdoor structures","Assembly of glass >50% and wood or wood derivatives","≥10 kg and <15 kg","€ / unit",1.35,1.35,{"$f":"_xlfn.XLOOKUP(K10096,'Codes éco-part'!$C$6:$C$923,'Codes éco-part'!$B$6:$B$923)","v":"332"},1.62]
["DIY and gardening products EPR",4,"22155720561","Modulated","Garden upkeep and landscaping","Non-masonry outdoor structures","Assembly of glass >50% and wood or wood derivatives","≥10 kg and <15 kg","€ / unit",1.22,1.22,{"$f":"_xlfn.XLOOKUP(K10097,'Codes éco-part'!$C$6:$C$923,'Codes éco-part'!$B$6:$B$923)","v":"636"},1.46]
["DIY and gardening products EPR",4,"22155720570",null,"Garden upkeep and landscaping","Non-masonry outdoor structures","Assembly of glass >50% and wood or wood derivatives","≥15 kg and <20 kg","€ / unit",1.8,1.8,{"$f":"_xlfn.XLOOKUP(K10098,'Codes éco-part'!$C$6:$C$923,'Codes éco-part'!$B$6:$B$923)","v":"603"},2.16]
["DIY and gardening products EPR",4,"22155720571","Modulated","Garden upkeep and landscaping","Non-masonry outdoor structures","Assembly of glass >50% and wood or wood derivatives","≥15 kg and <20 kg","€ / unit",1.62,1.62,{"$f":"_xlfn.XLOOKUP(K10099,'Codes éco-part'!$C$6:$C$923,'Codes éco-part'!$B$6:$B$923)","v":"810"},1.94]
["DIY and gardening products EPR",4,"22155720580",null,"Garden upkeep and landscaping","Non-masonry outdoor structures","Assembly of glass >50% and wood or wood derivatives","≥20 kg and <25 kg","€ / unit",2.25,2.25,{"$f":"_xlfn.XLOOKUP(K10100,'Codes éco-part'!$C$6:$C$923,'Codes éco-part'!$B$6:$B$923)","v":"118"},2.7]
["DIY and gardening products EPR",4,"22155720581","Modulated","Garden upkeep and landscaping","Non-masonry outdoor structures","Assembly of glass >50% and wood or wood derivatives","≥20 kg and <25 kg","€ / unit",2.0299999999999998,2.0299999999999998,{"$f":"_xlfn.XLOOKUP(K10101,'Codes éco-part'!$C$6:$C$923,'Codes éco-part'!$B$6:$B$923)","v":937},2.44]
["DIY and gardening products EPR",4,"22155720590",null,"Garden upkeep and landscaping","Non-masonry outdoor structures","Assembly of glass >50% and wood or wood derivatives","≥25 kg and <30 kg","€ / unit",2.7,2.7,{"$f":"_xlfn.XLOOKUP(K10102,'Codes éco-part'!$C$6:$C$923,'Codes éco-part'!$B$6:$B$923)","v":"611"},3.24]
["DIY and gardening products EPR",4,"22155720591","Modulated","Garden upkeep and landscaping","Non-masonry outdoor structures","Assembly of glass >50% and wood or wood derivatives","≥25 kg and <30 kg","€ / unit",2.4300000000000002,2.4300000000000002,{"$f":"_xlfn.XLOOKUP(K10103,'Codes éco-part'!$C$6:$C$923,'Codes éco-part'!$B$6:$B$923)","v":"471"},2.92]
["DIY and gardening products EPR",4,"22155720600",null,"Garden upkeep and landscaping","Non-masonry outdoor structures","Assembly of glass >50% and wood or wood derivatives","≥40 kg and <50 kg","€ / unit",4.5,4.5,{"$f":"_xlfn.XLOOKUP(K10104,'Codes éco-part'!$C$6:$C$923,'Codes éco-part'!$B$6:$B$923)","v":"127"},5.4]
["DIY and gardening products EPR",4,"22155720601","Modulated","Garden upkeep and landscaping","Non-masonry outdoor structures","Assembly of glass >50% and wood or wood derivatives","≥40 kg and <50 kg","€ / unit",4.05,4.05,{"$f":"_xlfn.XLOOKUP(K10105,'Codes éco-part'!$C$6:$C$923,'Codes éco-part'!$B$6:$B$923)","v":"884"},4.8600000000000003]
["DIY and gardening products EPR",4,"22155730000",null,"Garden upkeep and landscaping","Non-masonry outdoor structures","Assembly of glass >50% and plastic","Elements of all sizes and weights","€ / ton",90,90,{"$f":"_xlfn.XLOOKUP(K10106,'Codes éco-part'!$C$6:$C$923,'Codes éco-part'!$B$6:$B$923)","v":"609"},108]
["DIY and gardening products EPR",4,"22155730001","Modulated","Garden upkeep and landscaping","Non-masonry outdoor structures","Assembly of glass >50% and plastic","Elements of all sizes and weights","€ / ton",81,81,{"$f":"_xlfn.XLOOKUP(K10107,'Codes éco-part'!$C$6:$C$923,'Codes éco-part'!$B$6:$B$923)","v":943},97.2]
["DIY and gardening products EPR",4,"22155730200",null,"Garden upkeep and landscaping","Non-masonry outdoor structures","Assembly of glass >50% and plastic","Strictly <0.5 kg","€ / unit",0.02,0.02,{"$f":"_xlfn.XLOOKUP(K10108,'Codes éco-part'!$C$6:$C$923,'Codes éco-part'!$B$6:$B$923)","v":"047"},0.02]
["DIY and gardening products EPR",4,"22155730201","Modulated","Garden upkeep and landscaping","Non-masonry outdoor structures","Assembly of glass >50% and plastic","Strictly <0.5 kg","€ / unit",0.02,0.02,{"$f":"_xlfn.XLOOKUP(K10109,'Codes éco-part'!$C$6:$C$923,'Codes éco-part'!$B$6:$B$923)","v":"047"},0.02]
["DIY and gardening products EPR",4,"22155730210",null,"Garden upkeep and landscaping","Non-masonry outdoor structures","Assembly of glass >50% and plastic","≥0.5 kg and <1 kg","€ / unit",7.0000000000000007E-2,7.0000000000000007E-2,{"$f":"_xlfn.XLOOKUP(K10110,'Codes éco-part'!$C$6:$C$923,'Codes éco-part'!$B$6:$B$923)","v":"247"},0.08]
["DIY and gardening products EPR",4,"22155730211","Modulated","Garden upkeep and landscaping","Non-masonry outdoor structures","Assembly of glass >50% and plastic","≥0.5 kg and <1 kg","€ / unit",0.06,0.06,{"$f":"_xlfn.XLOOKUP(K10111,'Codes éco-part'!$C$6:$C$923,'Codes éco-part'!$B$6:$B$923)","v":"096"},7.0000000000000007E-2]
["DIY and gardening products EPR",4,"22155730220",null,"Garden upkeep and landscaping","Non-masonry outdoor structures","Assembly of glass >50% and plastic","≥1 kg and <2 kg","€ / unit",0.14000000000000001,0.14000000000000001,{"$f":"_xlfn.XLOOKUP(K10112,'Codes éco-part'!$C$6:$C$923,'Codes éco-part'!$B$6:$B$923)","v":"098"},0.17]
["DIY and gardening products EPR",4,"22155730221","Modulated","Garden upkeep and landscaping","Non-masonry outdoor structures","Assembly of glass >50% and plastic","≥1 kg and <2 kg","€ / unit",0.13,0.13,{"$f":"_xlfn.XLOOKUP(K10113,'Codes éco-part'!$C$6:$C$923,'Codes éco-part'!$B$6:$B$923)","v":"004"},0.16]
["DIY and gardening products EPR",4,"22155730270",null,"Garden upkeep and landscaping","Non-masonry outdoor structures","Assembly of glass >50% and plastic","≥30 kg and <40 kg","€ / unit",3.6,3.6,{"$f":"_xlfn.XLOOKUP(K10114,'Codes éco-part'!$C$6:$C$923,'Codes éco-part'!$B$6:$B$923)","v":"610"},{"$f":"ROUND(K10114*1.2,2)","v":4.32}]
["DIY and gardening products EPR",4,"22155730271","Modulated","Garden upkeep and landscaping","Non-masonry outdoor structures","Assembly of glass >50% and plastic","≥30 kg and <40 kg","€ / unit",3.24,3.24,{"$f":"_xlfn.XLOOKUP(K10115,'Codes éco-part'!$C$6:$C$923,'Codes éco-part'!$B$6:$B$923)","v":944},3.89]
["DIY and gardening products EPR",4,"22155730520",null,"Garden upkeep and landscaping","Non-masonry outdoor structures","Assembly of glass >50% and plastic","≥2 kg and <3 kg","€ / unit",0.23,0.23,{"$f":"_xlfn.XLOOKUP(K10116,'Codes éco-part'!$C$6:$C$923,'Codes éco-part'!$B$6:$B$923)","v":"323"},0.28000000000000003]
["DIY and gardening products EPR",4,"22155730521","Modulated","Garden upkeep and landscaping","Non-masonry outdoor structures","Assembly of glass >50% and plastic","≥2 kg and <3 kg","€ / unit",0.21,0.21,{"$f":"_xlfn.XLOOKUP(K10117,'Codes éco-part'!$C$6:$C$923,'Codes éco-part'!$B$6:$B$923)","v":"051"},0.25]
["DIY and gardening products EPR",4,"22155730530",null,"Garden upkeep and landscaping","Non-masonry outdoor structures","Assembly of glass >50% and plastic","≥3 kg and <5 kg","€ / unit",0.36,0.36,{"$f":"_xlfn.XLOOKUP(K10118,'Codes éco-part'!$C$6:$C$923,'Codes éco-part'!$B$6:$B$923)","v":"449"},0.43]
["DIY and gardening products EPR",4,"22155730531","Modulated","Garden upkeep and landscaping","Non-masonry outdoor structures","Assembly of glass >50% and plastic","≥3 kg and <5 kg","€ / unit",0.32,0.32,{"$f":"_xlfn.XLOOKUP(K10119,'Codes éco-part'!$C$6:$C$923,'Codes éco-part'!$B$6:$B$923)","v":"447"},0.38]
["DIY and gardening products EPR",4,"22155730540",null,"Garden upkeep and landscaping","Non-masonry outdoor structures","Assembly of glass >50% and plastic","≥5 kg and <7 kg","€ / unit",0.63,0.63,{"$f":"_xlfn.XLOOKUP(K10120,'Codes éco-part'!$C$6:$C$923,'Codes éco-part'!$B$6:$B$923)","v":"297"},0.76]
["DIY and gardening products EPR",4,"22155730541","Modulated","Garden upkeep and landscaping","Non-masonry outdoor structures","Assembly of glass >50% and plastic","≥5 kg and <7 kg","€ / unit",0.56999999999999995,0.56999999999999995,{"$f":"_xlfn.XLOOKUP(K10121,'Codes éco-part'!$C$6:$C$923,'Codes éco-part'!$B$6:$B$923)","v":"326"},0.68]
["DIY and gardening products EPR",4,"22155730550",null,"Garden upkeep and landscaping","Non-masonry outdoor structures","Assembly of glass >50% and plastic","≥7 kg and <10 kg","€ / unit",0.9,0.9,{"$f":"_xlfn.XLOOKUP(K10122,'Codes éco-part'!$C$6:$C$923,'Codes éco-part'!$B$6:$B$923)","v":"330"},1.08]
["DIY and gardening products EPR",4,"22155730551","Modulated","Garden upkeep and landscaping","Non-masonry outdoor structures","Assembly of glass >50% and plastic","≥7 kg and <10 kg","€ / unit",0.81,0.81,{"$f":"_xlfn.XLOOKUP(K10123,'Codes éco-part'!$C$6:$C$923,'Codes éco-part'!$B$6:$B$923)","v":"112"},0.97]
["DIY and gardening products EPR",4,"22155730560",null,"Garden upkeep and landscaping","Non-masonry outdoor structures","Assembly of glass >50% and plastic","≥10 kg and <15 kg","€ / unit",1.35,1.35,{"$f":"_xlfn.XLOOKUP(K10124,'Codes éco-part'!$C$6:$C$923,'Codes éco-part'!$B$6:$B$923)","v":"332"},1.62]
["DIY and gardening products EPR",4,"22155730561","Modulated","Garden upkeep and landscaping","Non-masonry outdoor structures","Assembly of glass >50% and plastic","≥10 kg and <15 kg","€ / unit",1.22,1.22,{"$f":"_xlfn.XLOOKUP(K10125,'Codes éco-part'!$C$6:$C$923,'Codes éco-part'!$B$6:$B$923)","v":"636"},1.46]
["DIY and gardening products EPR",4,"22155730570",null,"Garden upkeep and landscaping","Non-masonry outdoor structures","Assembly of glass >50% and plastic","≥15 kg and <20 kg","€ / unit",1.8,1.8,{"$f":"_xlfn.XLOOKUP(K10126,'Codes éco-part'!$C$6:$C$923,'Codes éco-part'!$B$6:$B$923)","v":"603"},2.16]
["DIY and gardening products EPR",4,"22155730571","Modulated","Garden upkeep and landscaping","Non-masonry outdoor structures","Assembly of glass >50% and plastic","≥15 kg and <20 kg","€ / unit",1.62,1.62,{"$f":"_xlfn.XLOOKUP(K10127,'Codes éco-part'!$C$6:$C$923,'Codes éco-part'!$B$6:$B$923)","v":"810"},1.94]
["DIY and gardening products EPR",4,"22155730580",null,"Garden upkeep and landscaping","Non-masonry outdoor structures","Assembly of glass >50% and plastic","≥20 kg and <25 kg","€ / unit",2.25,2.25,{"$f":"_xlfn.XLOOKUP(K10128,'Codes éco-part'!$C$6:$C$923,'Codes éco-part'!$B$6:$B$923)","v":"118"},2.7]
["DIY and gardening products EPR",4,"22155730581","Modulated","Garden upkeep and landscaping","Non-masonry outdoor structures","Assembly of glass >50% and plastic","≥20 kg and <25 kg","€ / unit",2.0299999999999998,2.0299999999999998,{"$f":"_xlfn.XLOOKUP(K10129,'Codes éco-part'!$C$6:$C$923,'Codes éco-part'!$B$6:$B$923)","v":937},2.44]
["DIY and gardening products EPR",4,"22155730590",null,"Garden upkeep and landscaping","Non-masonry outdoor structures","Assembly of glass >50% and plastic","≥25 kg and <30 kg","€ / unit",2.7,2.7,{"$f":"_xlfn.XLOOKUP(K10130,'Codes éco-part'!$C$6:$C$923,'Codes éco-part'!$B$6:$B$923)","v":"611"},3.24]
["DIY and gardening products EPR",4,"22155730591","Modulated","Garden upkeep and landscaping","Non-masonry outdoor structures","Assembly of glass >50% and plastic","≥25 kg and <30 kg","€ / unit",2.4300000000000002,2.4300000000000002,{"$f":"_xlfn.XLOOKUP(K10131,'Codes éco-part'!$C$6:$C$923,'Codes éco-part'!$B$6:$B$923)","v":"471"},2.92]
["DIY and gardening products EPR",4,"22155730600",null,"Garden upkeep and landscaping","Non-masonry outdoor structures","Assembly of glass >50% and plastic","≥40 kg and <50 kg","€ / unit",4.5,4.5,{"$f":"_xlfn.XLOOKUP(K10132,'Codes éco-part'!$C$6:$C$923,'Codes éco-part'!$B$6:$B$923)","v":"127"},5.4]
["DIY and gardening products EPR",4,"22155730601","Modulated","Garden upkeep and landscaping","Non-masonry outdoor structures","Assembly of glass >50% and plastic","≥40 kg and <50 kg","€ / unit",4.05,4.05,{"$f":"_xlfn.XLOOKUP(K10133,'Codes éco-part'!$C$6:$C$923,'Codes éco-part'!$B$6:$B$923)","v":"884"},4.8600000000000003]
["DIY and gardening products EPR",4,"22155740000",null,"Garden upkeep and landscaping","Non-masonry outdoor structures","Concrete >90%","Elements of all sizes and weights","€ / ton",8.75,8.75,{"$f":"_xlfn.XLOOKUP(K10134,'Codes éco-part'!$C$6:$C$923,'Codes éco-part'!$B$6:$B$923)","v":"069"},10.5]
["DIY and gardening products EPR",4,"22155740001","Modulated","Garden upkeep and landscaping","Non-masonry outdoor structures","Concrete >90%","Elements of all sizes and weights","€ / ton",7.88,7.88,{"$f":"_xlfn.XLOOKUP(K10135,'Codes éco-part'!$C$6:$C$923,'Codes éco-part'!$B$6:$B$923)","v":"354"},9.4600000000000009]
["DIY and gardening products EPR",4,"22155740200",null,"Garden upkeep and landscaping","Non-masonry outdoor structures","Concrete >90%","Strictly <0.5 kg","€ / unit",0.01,0.01,{"$f":"_xlfn.XLOOKUP(K10136,'Codes éco-part'!$C$6:$C$923,'Codes éco-part'!$B$6:$B$923)","v":"260"},0.01]
["DIY and gardening products EPR",4,"22155740201","Modulated","Garden upkeep and landscaping","Non-masonry outdoor structures","Concrete >90%","Strictly <0.5 kg","€ / unit",0.01,0.01,{"$f":"_xlfn.XLOOKUP(K10137,'Codes éco-part'!$C$6:$C$923,'Codes éco-part'!$B$6:$B$923)","v":"260"},0.01]
["DIY and gardening products EPR",4,"22155740210",null,"Garden upkeep and landscaping","Non-masonry outdoor structures","Concrete >90%","≥0.5 kg and <1 kg","€ / unit",0.01,0.01,{"$f":"_xlfn.XLOOKUP(K10138,'Codes éco-part'!$C$6:$C$923,'Codes éco-part'!$B$6:$B$923)","v":"260"},0.01]
["DIY and gardening products EPR",4,"22155740211","Modulated","Garden upkeep and landscaping","Non-masonry outdoor structures","Concrete >90%","≥0.5 kg and <1 kg","€ / unit",0.01,0.01,{"$f":"_xlfn.XLOOKUP(K10139,'Codes éco-part'!$C$6:$C$923,'Codes éco-part'!$B$6:$B$923)","v":"260"},0.01]
["DIY and gardening products EPR",4,"22155740220",null,"Garden upkeep and landscaping","Non-masonry outdoor structures","Concrete >90%","≥1 kg and <2 kg","€ / unit",0.01,0.01,{"$f":"_xlfn.XLOOKUP(K10140,'Codes éco-part'!$C$6:$C$923,'Codes éco-part'!$B$6:$B$923)","v":"260"},0.01]
["DIY and gardening products EPR",4,"22155740221","Modulated","Garden upkeep and landscaping","Non-masonry outdoor structures","Concrete >90%","≥1 kg and <2 kg","€ / unit",0.01,0.01,{"$f":"_xlfn.XLOOKUP(K10141,'Codes éco-part'!$C$6:$C$923,'Codes éco-part'!$B$6:$B$923)","v":"260"},0.01]
["DIY and gardening products EPR",4,"22155740270",null,"Garden upkeep and landscaping","Non-masonry outdoor structures","Concrete >90%","≥30 kg and <40 kg","€ / unit",0.35,0.35,{"$f":"_xlfn.XLOOKUP(K10142,'Codes éco-part'!$C$6:$C$923,'Codes éco-part'!$B$6:$B$923)","v":"448"},0.42]
["DIY and gardening products EPR",4,"22155740271","Modulated","Garden upkeep and landscaping","Non-masonry outdoor structures","Concrete >90%","≥30 kg and <40 kg","€ / unit",0.32,0.32,{"$f":"_xlfn.XLOOKUP(K10143,'Codes éco-part'!$C$6:$C$923,'Codes éco-part'!$B$6:$B$923)","v":"447"},0.38]
["DIY and gardening products EPR",4,"22155740520",null,"Garden upkeep and landscaping","Non-masonry outdoor structures","Concrete >90%","≥2 kg and <3 kg","€ / unit",0.02,0.02,{"$f":"_xlfn.XLOOKUP(K10144,'Codes éco-part'!$C$6:$C$923,'Codes éco-part'!$B$6:$B$923)","v":"047"},0.02]
["DIY and gardening products EPR",4,"22155740521","Modulated","Garden upkeep and landscaping","Non-masonry outdoor structures","Concrete >90%","≥2 kg and <3 kg","€ / unit",0.02,0.02,{"$f":"_xlfn.XLOOKUP(K10145,'Codes éco-part'!$C$6:$C$923,'Codes éco-part'!$B$6:$B$923)","v":"047"},0.02]
["DIY and gardening products EPR",4,"22155740530",null,"Garden upkeep and landscaping","Non-masonry outdoor structures","Concrete >90%","≥3 kg and <5 kg","€ / unit",0.04,0.04,{"$f":"_xlfn.XLOOKUP(K10146,'Codes éco-part'!$C$6:$C$923,'Codes éco-part'!$B$6:$B$923)","v":"002"},0.05]
["DIY and gardening products EPR",4,"22155740531","Modulated","Garden upkeep and landscaping","Non-masonry outdoor structures","Concrete >90%","≥3 kg and <5 kg","€ / unit",0.04,0.04,{"$f":"_xlfn.XLOOKUP(K10147,'Codes éco-part'!$C$6:$C$923,'Codes éco-part'!$B$6:$B$923)","v":"002"},0.05]
["DIY and gardening products EPR",4,"22155740540",null,"Garden upkeep and landscaping","Non-masonry outdoor structures","Concrete >90%","≥5 kg and <7 kg","€ / unit",0.06,0.06,{"$f":"_xlfn.XLOOKUP(K10148,'Codes éco-part'!$C$6:$C$923,'Codes éco-part'!$B$6:$B$923)","v":"096"},7.0000000000000007E-2]
["DIY and gardening products EPR",4,"22155740541","Modulated","Garden upkeep and landscaping","Non-masonry outdoor structures","Concrete >90%","≥5 kg and <7 kg","€ / unit",0.05,0.05,{"$f":"_xlfn.XLOOKUP(K10149,'Codes éco-part'!$C$6:$C$923,'Codes éco-part'!$B$6:$B$923)","v":"048"},0.06]
["DIY and gardening products EPR",4,"22155740550",null,"Garden upkeep and landscaping","Non-masonry outdoor structures","Concrete >90%","≥7 kg and <10 kg","€ / unit",0.09,0.09,{"$f":"_xlfn.XLOOKUP(K10150,'Codes éco-part'!$C$6:$C$923,'Codes éco-part'!$B$6:$B$923)","v":"049"},0.11]
["DIY and gardening products EPR",4,"22155740551","Modulated","Garden upkeep and landscaping","Non-masonry outdoor structures","Concrete >90%","≥7 kg and <10 kg","€ / unit",0.08,0.08,{"$f":"_xlfn.XLOOKUP(K10151,'Codes éco-part'!$C$6:$C$923,'Codes éco-part'!$B$6:$B$923)","v":"003"},0.1]
["DIY and gardening products EPR",4,"22155740560",null,"Garden upkeep and landscaping","Non-masonry outdoor structures","Concrete >90%","≥10 kg and <15 kg","€ / unit",0.13,0.13,{"$f":"_xlfn.XLOOKUP(K10152,'Codes éco-part'!$C$6:$C$923,'Codes éco-part'!$B$6:$B$923)","v":"004"},0.16]
["DIY and gardening products EPR",4,"22155740561","Modulated","Garden upkeep and landscaping","Non-masonry outdoor structures","Concrete >90%","≥10 kg and <15 kg","€ / unit",0.12,0.12,{"$f":"_xlfn.XLOOKUP(K10153,'Codes éco-part'!$C$6:$C$923,'Codes éco-part'!$B$6:$B$923)","v":"097"},0.14000000000000001]
["DIY and gardening products EPR",4,"22155740570",null,"Garden upkeep and landscaping","Non-masonry outdoor structures","Concrete >90%","≥15 kg and <20 kg","€ / unit",0.18,0.18,{"$f":"_xlfn.XLOOKUP(K10154,'Codes éco-part'!$C$6:$C$923,'Codes éco-part'!$B$6:$B$923)","v":"100"},0.22]
["DIY and gardening products EPR",4,"22155740571","Modulated","Garden upkeep and landscaping","Non-masonry outdoor structures","Concrete >90%","≥15 kg and <20 kg","€ / unit",0.16,0.16,{"$f":"_xlfn.XLOOKUP(K10155,'Codes éco-part'!$C$6:$C$923,'Codes éco-part'!$B$6:$B$923)","v":"099"},0.19]
["DIY and gardening products EPR",4,"22155740580",null,"Garden upkeep and landscaping","Non-masonry outdoor structures","Concrete >90%","≥20 kg and <25 kg","€ / unit",0.22,0.22,{"$f":"_xlfn.XLOOKUP(K10156,'Codes éco-part'!$C$6:$C$923,'Codes éco-part'!$B$6:$B$923)","v":"263"},0.26]
["DIY and gardening products EPR",4,"22155740581","Modulated","Garden upkeep and landscaping","Non-masonry outdoor structures","Concrete >90%","≥20 kg and <25 kg","€ / unit",0.2,0.2,{"$f":"_xlfn.XLOOKUP(K10157,'Codes éco-part'!$C$6:$C$923,'Codes éco-part'!$B$6:$B$923)","v":"101"},0.24]
["DIY and gardening products EPR",4,"22155740590",null,"Garden upkeep and landscaping","Non-masonry outdoor structures","Concrete >90%","≥25 kg and <30 kg","€ / unit",0.26,0.26,{"$f":"_xlfn.XLOOKUP(K10158,'Codes éco-part'!$C$6:$C$923,'Codes éco-part'!$B$6:$B$923)","v":"445"},0.31]
["DIY and gardening products EPR",4,"22155740591","Modulated","Garden upkeep and landscaping","Non-masonry outdoor structures","Concrete >90%","≥25 kg and <30 kg","€ / unit",0.23,0.23,{"$f":"_xlfn.XLOOKUP(K10159,'Codes éco-part'!$C$6:$C$923,'Codes éco-part'!$B$6:$B$923)","v":"323"},0.28000000000000003]
["DIY and gardening products EPR",4,"22155740600",null,"Garden upkeep and landscaping","Non-masonry outdoor structures","Concrete >90%","≥40 kg and <50 kg","€ / unit",0.44,0.44,{"$f":"_xlfn.XLOOKUP(K10160,'Codes éco-part'!$C$6:$C$923,'Codes éco-part'!$B$6:$B$923)","v":"281"},0.53]
["DIY and gardening products EPR",4,"22155740601","Modulated","Garden upkeep and landscaping","Non-masonry outdoor structures","Concrete >90%","≥40 kg and <50 kg","€ / unit",0.4,0.4,{"$f":"_xlfn.XLOOKUP(K10161,'Codes éco-part'!$C$6:$C$923,'Codes éco-part'!$B$6:$B$923)","v":"105"},0.48]
["DIY and gardening products EPR",4,"22155810000",null,"Garden upkeep and landscaping","Non-masonry outdoor structures","Assembly of wood, wood derivatives, and metal with a combination representing >90%","Elements of all sizes and weights","€ / ton",13,13,{"$f":"_xlfn.XLOOKUP(K10162,'Codes éco-part'!$C$6:$C$923,'Codes éco-part'!$B$6:$B$923)","v":"486"},15.6]
["DIY and gardening products EPR",4,"22155810001","Modulated","Garden upkeep and landscaping","Non-masonry outdoor structures","Assembly of wood, wood derivatives, and metal with a combination representing >90%","Elements of all sizes and weights","€ / ton",11.7,11.7,{"$f":"_xlfn.XLOOKUP(K10163,'Codes éco-part'!$C$6:$C$923,'Codes éco-part'!$B$6:$B$923)","v":945},14.04]
["DIY and gardening products EPR",4,"22155810200",null,"Garden upkeep and landscaping","Non-masonry outdoor structures","Assembly of wood, wood derivatives, and metal with a combination representing >90%","Strictly <0.5 kg","€ / unit",0.01,0.01,{"$f":"_xlfn.XLOOKUP(K10164,'Codes éco-part'!$C$6:$C$923,'Codes éco-part'!$B$6:$B$923)","v":"260"},0.01]
["DIY and gardening products EPR",4,"22155810201","Modulated","Garden upkeep and landscaping","Non-masonry outdoor structures","Assembly of wood, wood derivatives, and metal with a combination representing >90%","Strictly <0.5 kg","€ / unit",0.01,0.01,{"$f":"_xlfn.XLOOKUP(K10165,'Codes éco-part'!$C$6:$C$923,'Codes éco-part'!$B$6:$B$923)","v":"260"},0.01]
["DIY and gardening products EPR",4,"22155810210",null,"Garden upkeep and landscaping","Non-masonry outdoor structures","Assembly of wood, wood derivatives, and metal with a combination representing >90%","≥0.5 kg and <1 kg","€ / unit",0.01,0.01,{"$f":"_xlfn.XLOOKUP(K10166,'Codes éco-part'!$C$6:$C$923,'Codes éco-part'!$B$6:$B$923)","v":"260"},0.01]
["DIY and gardening products EPR",4,"22155810211","Modulated","Garden upkeep and landscaping","Non-masonry outdoor structures","Assembly of wood, wood derivatives, and metal with a combination representing >90%","≥0.5 kg and <1 kg","€ / unit",0.01,0.01,{"$f":"_xlfn.XLOOKUP(K10167,'Codes éco-part'!$C$6:$C$923,'Codes éco-part'!$B$6:$B$923)","v":"260"},0.01]
["DIY and gardening products EPR",4,"22155810220",null,"Garden upkeep and landscaping","Non-masonry outdoor structures","Assembly of wood, wood derivatives, and metal with a combination representing >90%","≥1 kg and <2 kg","€ / unit",0.02,0.02,{"$f":"_xlfn.XLOOKUP(K10168,'Codes éco-part'!$C$6:$C$923,'Codes éco-part'!$B$6:$B$923)","v":"047"},0.02]
["DIY and gardening products EPR",4,"22155810221","Modulated","Garden upkeep and landscaping","Non-masonry outdoor structures","Assembly of wood, wood derivatives, and metal with a combination representing >90%","≥1 kg and <2 kg","€ / unit",0.02,0.02,{"$f":"_xlfn.XLOOKUP(K10169,'Codes éco-part'!$C$6:$C$923,'Codes éco-part'!$B$6:$B$923)","v":"047"},0.02]
["DIY and gardening products EPR",4,"22155810270",null,"Garden upkeep and landscaping","Non-masonry outdoor structures","Assembly of wood, wood derivatives, and metal with a combination representing >90%","≥30 kg and <40 kg","€ / unit",0.52,0.52,{"$f":"_xlfn.XLOOKUP(K10170,'Codes éco-part'!$C$6:$C$923,'Codes éco-part'!$B$6:$B$923)","v":"509"},0.62]
["DIY and gardening products EPR",4,"22155810271","Modulated","Garden upkeep and landscaping","Non-masonry outdoor structures","Assembly of wood, wood derivatives, and metal with a combination representing >90%","≥30 kg and <40 kg","€ / unit",0.47,0.47,{"$f":"_xlfn.XLOOKUP(K10171,'Codes éco-part'!$C$6:$C$923,'Codes éco-part'!$B$6:$B$923)","v":"107"},0.56000000000000005]
["DIY and gardening products EPR",4,"22155810520",null,"Garden upkeep and landscaping","Non-masonry outdoor structures","Assembly of wood, wood derivatives, and metal with a combination representing >90%","≥2 kg and <3 kg","€ / unit",0.03,0.03,{"$f":"_xlfn.XLOOKUP(K10172,'Codes éco-part'!$C$6:$C$923,'Codes éco-part'!$B$6:$B$923)","v":"092"},0.04]
["DIY and gardening products EPR",4,"22155810521","Modulated","Garden upkeep and landscaping","Non-masonry outdoor structures","Assembly of wood, wood derivatives, and metal with a combination representing >90%","≥2 kg and <3 kg","€ / unit",0.03,0.03,{"$f":"_xlfn.XLOOKUP(K10173,'Codes éco-part'!$C$6:$C$923,'Codes éco-part'!$B$6:$B$923)","v":"092"},0.04]
["DIY and gardening products EPR",4,"22155810530",null,"Garden upkeep and landscaping","Non-masonry outdoor structures","Assembly of wood, wood derivatives, and metal with a combination representing >90%","≥3 kg and <5 kg","€ / unit",0.05,0.05,{"$f":"_xlfn.XLOOKUP(K10174,'Codes éco-part'!$C$6:$C$923,'Codes éco-part'!$B$6:$B$923)","v":"048"},0.06]
["DIY and gardening products EPR",4,"22155810531","Modulated","Garden upkeep and landscaping","Non-masonry outdoor structures","Assembly of wood, wood derivatives, and metal with a combination representing >90%","≥3 kg and <5 kg","€ / unit",0.05,0.05,{"$f":"_xlfn.XLOOKUP(K10175,'Codes éco-part'!$C$6:$C$923,'Codes éco-part'!$B$6:$B$923)","v":"048"},0.06]
["DIY and gardening products EPR",4,"22155810540",null,"Garden upkeep and landscaping","Non-masonry outdoor structures","Assembly of wood, wood derivatives, and metal with a combination representing >90%","≥5 kg and <7 kg","€ / unit",0.09,0.09,{"$f":"_xlfn.XLOOKUP(K10176,'Codes éco-part'!$C$6:$C$923,'Codes éco-part'!$B$6:$B$923)","v":"049"},0.11]
["DIY and gardening products EPR",4,"22155810541","Modulated","Garden upkeep and landscaping","Non-masonry outdoor structures","Assembly of wood, wood derivatives, and metal with a combination representing >90%","≥5 kg and <7 kg","€ / unit",0.08,0.08,{"$f":"_xlfn.XLOOKUP(K10177,'Codes éco-part'!$C$6:$C$923,'Codes éco-part'!$B$6:$B$923)","v":"003"},0.1]
["DIY and gardening products EPR",4,"22155810550",null,"Garden upkeep and landscaping","Non-masonry outdoor structures","Assembly of wood, wood derivatives, and metal with a combination representing >90%","≥7 kg and <10 kg","€ / unit",0.13,0.13,{"$f":"_xlfn.XLOOKUP(K10178,'Codes éco-part'!$C$6:$C$923,'Codes éco-part'!$B$6:$B$923)","v":"004"},{"$f":"ROUND(K10178*1.2,2)","v":0.16}]
["DIY and gardening products EPR",4,"22155810551","Modulated","Garden upkeep and landscaping","Non-masonry outdoor structures","Assembly of wood, wood derivatives, and metal with a combination representing >90%","≥7 kg and <10 kg","€ / unit",0.12,0.12,{"$f":"_xlfn.XLOOKUP(K10179,'Codes éco-part'!$C$6:$C$923,'Codes éco-part'!$B$6:$B$923)","v":"097"},0.14000000000000001]
["DIY and gardening products EPR",4,"22155810560",null,"Garden upkeep and landscaping","Non-masonry outdoor structures","Assembly of wood, wood derivatives, and metal with a combination representing >90%","≥10 kg and <15 kg","€ / unit",0.2,0.2,{"$f":"_xlfn.XLOOKUP(K10180,'Codes éco-part'!$C$6:$C$923,'Codes éco-part'!$B$6:$B$923)","v":"101"},0.24]
["DIY and gardening products EPR",4,"22155810561","Modulated","Garden upkeep and landscaping","Non-masonry outdoor structures","Assembly of wood, wood derivatives, and metal with a combination representing >90%","≥10 kg and <15 kg","€ / unit",0.18,0.18,{"$f":"_xlfn.XLOOKUP(K10181,'Codes éco-part'!$C$6:$C$923,'Codes éco-part'!$B$6:$B$923)","v":"100"},0.22]
["DIY and gardening products EPR",4,"22155810570",null,"Garden upkeep and landscaping","Non-masonry outdoor structures","Assembly of wood, wood derivatives, and metal with a combination representing >90%","≥15 kg and <20 kg","€ / unit",0.26,0.26,{"$f":"_xlfn.XLOOKUP(K10182,'Codes éco-part'!$C$6:$C$923,'Codes éco-part'!$B$6:$B$923)","v":"445"},0.31]
["DIY and gardening products EPR",4,"22155810571","Modulated","Garden upkeep and landscaping","Non-masonry outdoor structures","Assembly of wood, wood derivatives, and metal with a combination representing >90%","≥15 kg and <20 kg","€ / unit",0.23,0.23,{"$f":"_xlfn.XLOOKUP(K10183,'Codes éco-part'!$C$6:$C$923,'Codes éco-part'!$B$6:$B$923)","v":"323"},0.28000000000000003]
["DIY and gardening products EPR",4,"22155810580",null,"Garden upkeep and landscaping","Non-masonry outdoor structures","Assembly of wood, wood derivatives, and metal with a combination representing >90%","≥20 kg and <25 kg","€ / unit",0.33,0.33,{"$f":"_xlfn.XLOOKUP(K10184,'Codes éco-part'!$C$6:$C$923,'Codes éco-part'!$B$6:$B$923)","v":"006"},0.4]
["DIY and gardening products EPR",4,"22155810581","Modulated","Garden upkeep and landscaping","Non-masonry outdoor structures","Assembly of wood, wood derivatives, and metal with a combination representing >90%","≥20 kg and <25 kg","€ / unit",0.3,0.3,{"$f":"_xlfn.XLOOKUP(K10185,'Codes éco-part'!$C$6:$C$923,'Codes éco-part'!$B$6:$B$923)","v":"446"},0.36]
["DIY and gardening products EPR",4,"22155810590",null,"Garden upkeep and landscaping","Non-masonry outdoor structures","Assembly of wood, wood derivatives, and metal with a combination representing >90%","≥25 kg and <30 kg","€ / unit",0.39,0.39,{"$f":"_xlfn.XLOOKUP(K10186,'Codes éco-part'!$C$6:$C$923,'Codes éco-part'!$B$6:$B$923)","v":"253"},0.47]
["DIY and gardening products EPR",4,"22155810591","Modulated","Garden upkeep and landscaping","Non-masonry outdoor structures","Assembly of wood, wood derivatives, and metal with a combination representing >90%","≥25 kg and <30 kg","€ / unit",0.35,0.35,{"$f":"_xlfn.XLOOKUP(K10187,'Codes éco-part'!$C$6:$C$923,'Codes éco-part'!$B$6:$B$923)","v":"448"},0.42]
["DIY and gardening products EPR",4,"22155810600",null,"Garden upkeep and landscaping","Non-masonry outdoor structures","Assembly of wood, wood derivatives, and metal with a combination representing >90%","≥40 kg and <50 kg","€ / unit",0.65,0.65,{"$f":"_xlfn.XLOOKUP(K10188,'Codes éco-part'!$C$6:$C$923,'Codes éco-part'!$B$6:$B$923)","v":"613"},0.78]
["DIY and gardening products EPR",4,"22155810601","Modulated","Garden upkeep and landscaping","Non-masonry outdoor structures","Assembly of wood, wood derivatives, and metal with a combination representing >90%","≥40 kg and <50 kg","€ / unit",0.59,0.59,{"$f":"_xlfn.XLOOKUP(K10189,'Codes éco-part'!$C$6:$C$923,'Codes éco-part'!$B$6:$B$923)","v":"254"},0.71]
["DIY and gardening products EPR",4,"22155820000",null,"Garden upkeep and landscaping","Non-masonry outdoor structures","Assembly of 3 or more materials, with no material representing >50%","Elements of all sizes and weights","€ / ton",90,90,{"$f":"_xlfn.XLOOKUP(K10190,'Codes éco-part'!$C$6:$C$923,'Codes éco-part'!$B$6:$B$923)","v":"609"},108]
["DIY and gardening products EPR",4,"22155820001","Modulated","Garden upkeep and landscaping","Non-masonry outdoor structures","Assembly of 3 or more materials, with no material representing >50%","Elements of all sizes and weights","€ / ton",81,81,{"$f":"_xlfn.XLOOKUP(K10191,'Codes éco-part'!$C$6:$C$923,'Codes éco-part'!$B$6:$B$923)","v":943},97.2]
["DIY and gardening products EPR",4,"22155820200",null,"Garden upkeep and landscaping","Non-masonry outdoor structures","Assembly of 3 or more materials, with no material representing >50%","Strictly <0.5 kg","€ / unit",0.02,0.02,{"$f":"_xlfn.XLOOKUP(K10192,'Codes éco-part'!$C$6:$C$923,'Codes éco-part'!$B$6:$B$923)","v":"047"},0.02]
["DIY and gardening products EPR",4,"22155820201","Modulated","Garden upkeep and landscaping","Non-masonry outdoor structures","Assembly of 3 or more materials, with no material representing >50%","Strictly <0.5 kg","€ / unit",0.02,0.02,{"$f":"_xlfn.XLOOKUP(K10193,'Codes éco-part'!$C$6:$C$923,'Codes éco-part'!$B$6:$B$923)","v":"047"},0.02]
["DIY and gardening products EPR",4,"22155820210",null,"Garden upkeep and landscaping","Non-masonry outdoor structures","Assembly of 3 or more materials, with no material representing >50%","≥0.5 kg and <1 kg","€ / unit",7.0000000000000007E-2,7.0000000000000007E-2,{"$f":"_xlfn.XLOOKUP(K10194,'Codes éco-part'!$C$6:$C$923,'Codes éco-part'!$B$6:$B$923)","v":"247"},0.08]
["DIY and gardening products EPR",4,"22155820211","Modulated","Garden upkeep and landscaping","Non-masonry outdoor structures","Assembly of 3 or more materials, with no material representing >50%","≥0.5 kg and <1 kg","€ / unit",0.06,0.06,{"$f":"_xlfn.XLOOKUP(K10195,'Codes éco-part'!$C$6:$C$923,'Codes éco-part'!$B$6:$B$923)","v":"096"},7.0000000000000007E-2]
["DIY and gardening products EPR",4,"22155820220",null,"Garden upkeep and landscaping","Non-masonry outdoor structures","Assembly of 3 or more materials, with no material representing >50%","≥1 kg and <2 kg","€ / unit",0.14000000000000001,0.14000000000000001,{"$f":"_xlfn.XLOOKUP(K10196,'Codes éco-part'!$C$6:$C$923,'Codes éco-part'!$B$6:$B$923)","v":"098"},0.17]
["DIY and gardening products EPR",4,"22155820221","Modulated","Garden upkeep and landscaping","Non-masonry outdoor structures","Assembly of 3 or more materials, with no material representing >50%","≥1 kg and <2 kg","€ / unit",0.13,0.13,{"$f":"_xlfn.XLOOKUP(K10197,'Codes éco-part'!$C$6:$C$923,'Codes éco-part'!$B$6:$B$923)","v":"004"},0.16]
["DIY and gardening products EPR",4,"22155820270",null,"Garden upkeep and landscaping","Non-masonry outdoor structures","Assembly of 3 or more materials, with no material representing >50%","≥30 kg and <40 kg","€ / unit",3.6,3.6,{"$f":"_xlfn.XLOOKUP(K10198,'Codes éco-part'!$C$6:$C$923,'Codes éco-part'!$B$6:$B$923)","v":"610"},4.32]
["DIY and gardening products EPR",4,"22155820271","Modulated","Garden upkeep and landscaping","Non-masonry outdoor structures","Assembly of 3 or more materials, with no material representing >50%","≥30 kg and <40 kg","€ / unit",3.24,3.24,{"$f":"_xlfn.XLOOKUP(K10199,'Codes éco-part'!$C$6:$C$923,'Codes éco-part'!$B$6:$B$923)","v":944},3.89]
["DIY and gardening products EPR",4,"22155820520",null,"Garden upkeep and landscaping","Non-masonry outdoor structures","Assembly of 3 or more materials, with no material representing >50%","≥2 kg and <3 kg","€ / unit",0.23,0.23,{"$f":"_xlfn.XLOOKUP(K10200,'Codes éco-part'!$C$6:$C$923,'Codes éco-part'!$B$6:$B$923)","v":"323"},0.28000000000000003]
["DIY and gardening products EPR",4,"22155820521","Modulated","Garden upkeep and landscaping","Non-masonry outdoor structures","Assembly of 3 or more materials, with no material representing >50%","≥2 kg and <3 kg","€ / unit",0.21,0.21,{"$f":"_xlfn.XLOOKUP(K10201,'Codes éco-part'!$C$6:$C$923,'Codes éco-part'!$B$6:$B$923)","v":"051"},0.25]
["DIY and gardening products EPR",4,"22155820530",null,"Garden upkeep and landscaping","Non-masonry outdoor structures","Assembly of 3 or more materials, with no material representing >50%","≥3 kg and <5 kg","€ / unit",0.36,0.36,{"$f":"_xlfn.XLOOKUP(K10202,'Codes éco-part'!$C$6:$C$923,'Codes éco-part'!$B$6:$B$923)","v":"449"},0.43]
["DIY and gardening products EPR",4,"22155820531","Modulated","Garden upkeep and landscaping","Non-masonry outdoor structures","Assembly of 3 or more materials, with no material representing >50%","≥3 kg and <5 kg","€ / unit",0.32,0.32,{"$f":"_xlfn.XLOOKUP(K10203,'Codes éco-part'!$C$6:$C$923,'Codes éco-part'!$B$6:$B$923)","v":"447"},0.38]
["DIY and gardening products EPR",4,"22155820540",null,"Garden upkeep and landscaping","Non-masonry outdoor structures","Assembly of 3 or more materials, with no material representing >50%","≥5 kg and <7 kg","€ / unit",0.63,0.63,{"$f":"_xlfn.XLOOKUP(K10204,'Codes éco-part'!$C$6:$C$923,'Codes éco-part'!$B$6:$B$923)","v":"297"},0.76]
["DIY and gardening products EPR",4,"22155820541","Modulated","Garden upkeep and landscaping","Non-masonry outdoor structures","Assembly of 3 or more materials, with no material representing >50%","≥5 kg and <7 kg","€ / unit",0.56999999999999995,0.56999999999999995,{"$f":"_xlfn.XLOOKUP(K10205,'Codes éco-part'!$C$6:$C$923,'Codes éco-part'!$B$6:$B$923)","v":"326"},0.68]
["DIY and gardening products EPR",4,"22155820550",null,"Garden upkeep and landscaping","Non-masonry outdoor structures","Assembly of 3 or more materials, with no material representing >50%","≥7 kg and <10 kg","€ / unit",0.9,0.9,{"$f":"_xlfn.XLOOKUP(K10206,'Codes éco-part'!$C$6:$C$923,'Codes éco-part'!$B$6:$B$923)","v":"330"},1.08]
["DIY and gardening products EPR",4,"22155820551","Modulated","Garden upkeep and landscaping","Non-masonry outdoor structures","Assembly of 3 or more materials, with no material representing >50%","≥7 kg and <10 kg","€ / unit",0.81,0.81,{"$f":"_xlfn.XLOOKUP(K10207,'Codes éco-part'!$C$6:$C$923,'Codes éco-part'!$B$6:$B$923)","v":"112"},0.97]
["DIY and gardening products EPR",4,"22155820560",null,"Garden upkeep and landscaping","Non-masonry outdoor structures","Assembly of 3 or more materials, with no material representing >50%","≥10 kg and <15 kg","€ / unit",1.35,1.35,{"$f":"_xlfn.XLOOKUP(K10208,'Codes éco-part'!$C$6:$C$923,'Codes éco-part'!$B$6:$B$923)","v":"332"},1.62]
["DIY and gardening products EPR",4,"22155820561","Modulated","Garden upkeep and landscaping","Non-masonry outdoor structures","Assembly of 3 or more materials, with no material representing >50%","≥10 kg and <15 kg","€ / unit",1.22,1.22,{"$f":"_xlfn.XLOOKUP(K10209,'Codes éco-part'!$C$6:$C$923,'Codes éco-part'!$B$6:$B$923)","v":"636"},1.46]
["DIY and gardening products EPR",4,"22155820570",null,"Garden upkeep and landscaping","Non-masonry outdoor structures","Assembly of 3 or more materials, with no material representing >50%","≥15 kg and <20 kg","€ / unit",1.8,1.8,{"$f":"_xlfn.XLOOKUP(K10210,'Codes éco-part'!$C$6:$C$923,'Codes éco-part'!$B$6:$B$923)","v":"603"},2.16]
["DIY and gardening products EPR",4,"22155820571","Modulated","Garden upkeep and landscaping","Non-masonry outdoor structures","Assembly of 3 or more materials, with no material representing >50%","≥15 kg and <20 kg","€ / unit",1.62,1.62,{"$f":"_xlfn.XLOOKUP(K10211,'Codes éco-part'!$C$6:$C$923,'Codes éco-part'!$B$6:$B$923)","v":"810"},1.94]
["DIY and gardening products EPR",4,"22155820580",null,"Garden upkeep and landscaping","Non-masonry outdoor structures","Assembly of 3 or more materials, with no material representing >50%","≥20 kg and <25 kg","€ / unit",2.25,2.25,{"$f":"_xlfn.XLOOKUP(K10212,'Codes éco-part'!$C$6:$C$923,'Codes éco-part'!$B$6:$B$923)","v":"118"},2.7]
["DIY and gardening products EPR",4,"22155820581","Modulated","Garden upkeep and landscaping","Non-masonry outdoor structures","Assembly of 3 or more materials, with no material representing >50%","≥20 kg and <25 kg","€ / unit",2.0299999999999998,2.0299999999999998,{"$f":"_xlfn.XLOOKUP(K10213,'Codes éco-part'!$C$6:$C$923,'Codes éco-part'!$B$6:$B$923)","v":937},2.44]
["DIY and gardening products EPR",4,"22155820590",null,"Garden upkeep and landscaping","Non-masonry outdoor structures","Assembly of 3 or more materials, with no material representing >50%","≥25 kg and <30 kg","€ / unit",2.7,2.7,{"$f":"_xlfn.XLOOKUP(K10214,'Codes éco-part'!$C$6:$C$923,'Codes éco-part'!$B$6:$B$923)","v":"611"},3.24]
["DIY and gardening products EPR",4,"22155820591","Modulated","Garden upkeep and landscaping","Non-masonry outdoor structures","Assembly of 3 or more materials, with no material representing >50%","≥25 kg and <30 kg","€ / unit",2.4300000000000002,2.4300000000000002,{"$f":"_xlfn.XLOOKUP(K10215,'Codes éco-part'!$C$6:$C$923,'Codes éco-part'!$B$6:$B$923)","v":"471"},2.92]
["DIY and gardening products EPR",4,"22155820600",null,"Garden upkeep and landscaping","Non-masonry outdoor structures","Assembly of 3 or more materials, with no material representing >50%","≥40 kg and <50 kg","€ / unit",4.5,4.5,{"$f":"_xlfn.XLOOKUP(K10216,'Codes éco-part'!$C$6:$C$923,'Codes éco-part'!$B$6:$B$923)","v":"127"},5.4]
["DIY and gardening products EPR",4,"22155820601","Modulated","Garden upkeep and landscaping","Non-masonry outdoor structures","Assembly of 3 or more materials, with no material representing >50%","≥40 kg and <50 kg","€ / unit",4.05,4.05,{"$f":"_xlfn.XLOOKUP(K10217,'Codes éco-part'!$C$6:$C$923,'Codes éco-part'!$B$6:$B$923)","v":"884"},4.8600000000000003]
["DIY and gardening products EPR",4,"22155840000",null,"Garden upkeep and landscaping","Non-masonry outdoor structures","Slate >90%","Elements of all sizes and weights","€ / ton",8.75,8.75,{"$f":"_xlfn.XLOOKUP(K10218,'Codes éco-part'!$C$6:$C$923,'Codes éco-part'!$B$6:$B$923)","v":"069"},10.5]
["DIY and gardening products EPR",4,"22155840001","Modulated","Garden upkeep and landscaping","Non-masonry outdoor structures","Slate >90%","Elements of all sizes and weights","€ / ton",7.88,7.88,{"$f":"_xlfn.XLOOKUP(K10219,'Codes éco-part'!$C$6:$C$923,'Codes éco-part'!$B$6:$B$923)","v":"354"},9.4600000000000009]
["DIY and gardening products EPR",4,"22155840200",null,"Garden upkeep and landscaping","Non-masonry outdoor structures","Slate >90%","Strictly <0.5 kg","€ / unit",0.01,0.01,{"$f":"_xlfn.XLOOKUP(K10220,'Codes éco-part'!$C$6:$C$923,'Codes éco-part'!$B$6:$B$923)","v":"260"},0.01]
["DIY and gardening products EPR",4,"22155840201","Modulated","Garden upkeep and landscaping","Non-masonry outdoor structures","Slate >90%","Strictly <0.5 kg","€ / unit",0.01,0.01,{"$f":"_xlfn.XLOOKUP(K10221,'Codes éco-part'!$C$6:$C$923,'Codes éco-part'!$B$6:$B$923)","v":"260"},0.01]
["DIY and gardening products EPR",4,"22155840210",null,"Garden upkeep and landscaping","Non-masonry outdoor structures","Slate >90%","≥0.5 kg and <1 kg","€ / unit",0.01,0.01,{"$f":"_xlfn.XLOOKUP(K10222,'Codes éco-part'!$C$6:$C$923,'Codes éco-part'!$B$6:$B$923)","v":"260"},0.01]
["DIY and gardening products EPR",4,"22155840211","Modulated","Garden upkeep and landscaping","Non-masonry outdoor structures","Slate >90%","≥0.5 kg and <1 kg","€ / unit",0.01,0.01,{"$f":"_xlfn.XLOOKUP(K10223,'Codes éco-part'!$C$6:$C$923,'Codes éco-part'!$B$6:$B$923)","v":"260"},0.01]
["DIY and gardening products EPR",4,"22155840220",null,"Garden upkeep and landscaping","Non-masonry outdoor structures","Slate >90%","≥1 kg and <2 kg","€ / unit",0.01,0.01,{"$f":"_xlfn.XLOOKUP(K10224,'Codes éco-part'!$C$6:$C$923,'Codes éco-part'!$B$6:$B$923)","v":"260"},0.01]
["DIY and gardening products EPR",4,"22155840221","Modulated","Garden upkeep and landscaping","Non-masonry outdoor structures","Slate >90%","≥1 kg and <2 kg","€ / unit",0.01,0.01,{"$f":"_xlfn.XLOOKUP(K10225,'Codes éco-part'!$C$6:$C$923,'Codes éco-part'!$B$6:$B$923)","v":"260"},0.01]
["DIY and gardening products EPR",4,"22155840270",null,"Garden upkeep and landscaping","Non-masonry outdoor structures","Slate >90%","≥30 kg and <40 kg","€ / unit",0.35,0.35,{"$f":"_xlfn.XLOOKUP(K10226,'Codes éco-part'!$C$6:$C$923,'Codes éco-part'!$B$6:$B$923)","v":"448"},0.42]
["DIY and gardening products EPR",4,"22155840271","Modulated","Garden upkeep and landscaping","Non-masonry outdoor structures","Slate >90%","≥30 kg and <40 kg","€ / unit",0.32,0.32,{"$f":"_xlfn.XLOOKUP(K10227,'Codes éco-part'!$C$6:$C$923,'Codes éco-part'!$B$6:$B$923)","v":"447"},0.38]
["DIY and gardening products EPR",4,"22155840520",null,"Garden upkeep and landscaping","Non-masonry outdoor structures","Slate >90%","≥2 kg and <3 kg","€ / unit",0.02,0.02,{"$f":"_xlfn.XLOOKUP(K10228,'Codes éco-part'!$C$6:$C$923,'Codes éco-part'!$B$6:$B$923)","v":"047"},0.02]
["DIY and gardening products EPR",4,"22155840521","Modulated","Garden upkeep and landscaping","Non-masonry outdoor structures","Slate >90%","≥2 kg and <3 kg","€ / unit",0.02,0.02,{"$f":"_xlfn.XLOOKUP(K10229,'Codes éco-part'!$C$6:$C$923,'Codes éco-part'!$B$6:$B$923)","v":"047"},0.02]
["DIY and gardening products EPR",4,"22155840530",null,"Garden upkeep and landscaping","Non-masonry outdoor structures","Slate >90%","≥3 kg and <5 kg","€ / unit",0.04,0.04,{"$f":"_xlfn.XLOOKUP(K10230,'Codes éco-part'!$C$6:$C$923,'Codes éco-part'!$B$6:$B$923)","v":"002"},0.05]
["DIY and gardening products EPR",4,"22155840531","Modulated","Garden upkeep and landscaping","Non-masonry outdoor structures","Slate >90%","≥3 kg and <5 kg","€ / unit",0.04,0.04,{"$f":"_xlfn.XLOOKUP(K10231,'Codes éco-part'!$C$6:$C$923,'Codes éco-part'!$B$6:$B$923)","v":"002"},0.05]
["DIY and gardening products EPR",4,"22155840540",null,"Garden upkeep and landscaping","Non-masonry outdoor structures","Slate >90%","≥5 kg and <7 kg","€ / unit",0.06,0.06,{"$f":"_xlfn.XLOOKUP(K10232,'Codes éco-part'!$C$6:$C$923,'Codes éco-part'!$B$6:$B$923)","v":"096"},7.0000000000000007E-2]
["DIY and gardening products EPR",4,"22155840541","Modulated","Garden upkeep and landscaping","Non-masonry outdoor structures","Slate >90%","≥5 kg and <7 kg","€ / unit",0.05,0.05,{"$f":"_xlfn.XLOOKUP(K10233,'Codes éco-part'!$C$6:$C$923,'Codes éco-part'!$B$6:$B$923)","v":"048"},0.06]
["DIY and gardening products EPR",4,"22155840550",null,"Garden upkeep and landscaping","Non-masonry outdoor structures","Slate >90%","≥7 kg and <10 kg","€ / unit",0.09,0.09,{"$f":"_xlfn.XLOOKUP(K10234,'Codes éco-part'!$C$6:$C$923,'Codes éco-part'!$B$6:$B$923)","v":"049"},0.11]
["DIY and gardening products EPR",4,"22155840551","Modulated","Garden upkeep and landscaping","Non-masonry outdoor structures","Slate >90%","≥7 kg and <10 kg","€ / unit",0.08,0.08,{"$f":"_xlfn.XLOOKUP(K10235,'Codes éco-part'!$C$6:$C$923,'Codes éco-part'!$B$6:$B$923)","v":"003"},0.1]
["DIY and gardening products EPR",4,"22155840560",null,"Garden upkeep and landscaping","Non-masonry outdoor structures","Slate >90%","≥10 kg and <15 kg","€ / unit",0.13,0.13,{"$f":"_xlfn.XLOOKUP(K10236,'Codes éco-part'!$C$6:$C$923,'Codes éco-part'!$B$6:$B$923)","v":"004"},0.16]
["DIY and gardening products EPR",4,"22155840561","Modulated","Garden upkeep and landscaping","Non-masonry outdoor structures","Slate >90%","≥10 kg and <15 kg","€ / unit",0.12,0.12,{"$f":"_xlfn.XLOOKUP(K10237,'Codes éco-part'!$C$6:$C$923,'Codes éco-part'!$B$6:$B$923)","v":"097"},0.14000000000000001]
["DIY and gardening products EPR",4,"22155840570",null,"Garden upkeep and landscaping","Non-masonry outdoor structures","Slate >90%","≥15 kg and <20 kg","€ / unit",0.18,0.18,{"$f":"_xlfn.XLOOKUP(K10238,'Codes éco-part'!$C$6:$C$923,'Codes éco-part'!$B$6:$B$923)","v":"100"},0.22]
["DIY and gardening products EPR",4,"22155840571","Modulated","Garden upkeep and landscaping","Non-masonry outdoor structures","Slate >90%","≥15 kg and <20 kg","€ / unit",0.16,0.16,{"$f":"_xlfn.XLOOKUP(K10239,'Codes éco-part'!$C$6:$C$923,'Codes éco-part'!$B$6:$B$923)","v":"099"},0.19]
["DIY and gardening products EPR",4,"22155840580",null,"Garden upkeep and landscaping","Non-masonry outdoor structures","Slate >90%","≥20 kg and <25 kg","€ / unit",0.22,0.22,{"$f":"_xlfn.XLOOKUP(K10240,'Codes éco-part'!$C$6:$C$923,'Codes éco-part'!$B$6:$B$923)","v":"263"},0.26]
["DIY and gardening products EPR",4,"22155840581","Modulated","Garden upkeep and landscaping","Non-masonry outdoor structures","Slate >90%","≥20 kg and <25 kg","€ / unit",0.2,0.2,{"$f":"_xlfn.XLOOKUP(K10241,'Codes éco-part'!$C$6:$C$923,'Codes éco-part'!$B$6:$B$923)","v":"101"},0.24]
["DIY and gardening products EPR",4,"22155840590",null,"Garden upkeep and landscaping","Non-masonry outdoor structures","Slate >90%","≥25 kg and <30 kg","€ / unit",0.26,0.26,{"$f":"_xlfn.XLOOKUP(K10242,'Codes éco-part'!$C$6:$C$923,'Codes éco-part'!$B$6:$B$923)","v":"445"},{"$f":"ROUND(K10242*1.2,2)","v":0.31}]
["DIY and gardening products EPR",4,"22155840591","Modulated","Garden upkeep and landscaping","Non-masonry outdoor structures","Slate >90%","≥25 kg and <30 kg","€ / unit",0.23,0.23,{"$f":"_xlfn.XLOOKUP(K10243,'Codes éco-part'!$C$6:$C$923,'Codes éco-part'!$B$6:$B$923)","v":"323"},0.28000000000000003]
["DIY and gardening products EPR",4,"22155840600",null,"Garden upkeep and landscaping","Non-masonry outdoor structures","Slate >90%","≥40 kg and <50 kg","€ / unit",0.44,0.44,{"$f":"_xlfn.XLOOKUP(K10244,'Codes éco-part'!$C$6:$C$923,'Codes éco-part'!$B$6:$B$923)","v":"281"},0.53]
["DIY and gardening products EPR",4,"22155840601","Modulated","Garden upkeep and landscaping","Non-masonry outdoor structures","Slate >90%","≥40 kg and <50 kg","€ / unit",0.4,0.4,{"$f":"_xlfn.XLOOKUP(K10245,'Codes éco-part'!$C$6:$C$923,'Codes éco-part'!$B$6:$B$923)","v":"105"},0.48]
["DIY and gardening products EPR",4,"22155860000",null,"Garden upkeep and landscaping","Non-masonry outdoor structures","Limestone >90%","Elements of all sizes and weights","€ / ton",8.75,8.75,{"$f":"_xlfn.XLOOKUP(K10246,'Codes éco-part'!$C$6:$C$923,'Codes éco-part'!$B$6:$B$923)","v":"069"},10.5]
["DIY and gardening products EPR",4,"22155860001","Modulated","Garden upkeep and landscaping","Non-masonry outdoor structures","Limestone >90%","Elements of all sizes and weights","€ / ton",7.88,7.88,{"$f":"_xlfn.XLOOKUP(K10247,'Codes éco-part'!$C$6:$C$923,'Codes éco-part'!$B$6:$B$923)","v":"354"},9.4600000000000009]
["DIY and gardening products EPR",4,"22155860200",null,"Garden upkeep and landscaping","Non-masonry outdoor structures","Limestone >90%","Strictly <0.5 kg","€ / unit",0.01,0.01,{"$f":"_xlfn.XLOOKUP(K10248,'Codes éco-part'!$C$6:$C$923,'Codes éco-part'!$B$6:$B$923)","v":"260"},0.01]
["DIY and gardening products EPR",4,"22155860201","Modulated","Garden upkeep and landscaping","Non-masonry outdoor structures","Limestone >90%","Strictly <0.5 kg","€ / unit",0.01,0.01,{"$f":"_xlfn.XLOOKUP(K10249,'Codes éco-part'!$C$6:$C$923,'Codes éco-part'!$B$6:$B$923)","v":"260"},0.01]
["DIY and gardening products EPR",4,"22155860210",null,"Garden upkeep and landscaping","Non-masonry outdoor structures","Limestone >90%","≥0.5 kg and <1 kg","€ / unit",0.01,0.01,{"$f":"_xlfn.XLOOKUP(K10250,'Codes éco-part'!$C$6:$C$923,'Codes éco-part'!$B$6:$B$923)","v":"260"},0.01]
["DIY and gardening products EPR",4,"22155860211","Modulated","Garden upkeep and landscaping","Non-masonry outdoor structures","Limestone >90%","≥0.5 kg and <1 kg","€ / unit",0.01,0.01,{"$f":"_xlfn.XLOOKUP(K10251,'Codes éco-part'!$C$6:$C$923,'Codes éco-part'!$B$6:$B$923)","v":"260"},0.01]
["DIY and gardening products EPR",4,"22155860220",null,"Garden upkeep and landscaping","Non-masonry outdoor structures","Limestone >90%","≥1 kg and <2 kg","€ / unit",0.01,0.01,{"$f":"_xlfn.XLOOKUP(K10252,'Codes éco-part'!$C$6:$C$923,'Codes éco-part'!$B$6:$B$923)","v":"260"},0.01]
["DIY and gardening products EPR",4,"22155860221","Modulated","Garden upkeep and landscaping","Non-masonry outdoor structures","Limestone >90%","≥1 kg and <2 kg","€ / unit",0.01,0.01,{"$f":"_xlfn.XLOOKUP(K10253,'Codes éco-part'!$C$6:$C$923,'Codes éco-part'!$B$6:$B$923)","v":"260"},0.01]
["DIY and gardening products EPR",4,"22155860270",null,"Garden upkeep and landscaping","Non-masonry outdoor structures","Limestone >90%","≥30 kg and <40 kg","€ / unit",0.35,0.35,{"$f":"_xlfn.XLOOKUP(K10254,'Codes éco-part'!$C$6:$C$923,'Codes éco-part'!$B$6:$B$923)","v":"448"},0.42]
["DIY and gardening products EPR",4,"22155860271","Modulated","Garden upkeep and landscaping","Non-masonry outdoor structures","Limestone >90%","≥30 kg and <40 kg","€ / unit",0.32,0.32,{"$f":"_xlfn.XLOOKUP(K10255,'Codes éco-part'!$C$6:$C$923,'Codes éco-part'!$B$6:$B$923)","v":"447"},0.38]
["DIY and gardening products EPR",4,"22155860520",null,"Garden upkeep and landscaping","Non-masonry outdoor structures","Limestone >90%","≥2 kg and <3 kg","€ / unit",0.02,0.02,{"$f":"_xlfn.XLOOKUP(K10256,'Codes éco-part'!$C$6:$C$923,'Codes éco-part'!$B$6:$B$923)","v":"047"},0.02]
["DIY and gardening products EPR",4,"22155860521","Modulated","Garden upkeep and landscaping","Non-masonry outdoor structures","Limestone >90%","≥2 kg and <3 kg","€ / unit",0.02,0.02,{"$f":"_xlfn.XLOOKUP(K10257,'Codes éco-part'!$C$6:$C$923,'Codes éco-part'!$B$6:$B$923)","v":"047"},0.02]
["DIY and gardening products EPR",4,"22155860530",null,"Garden upkeep and landscaping","Non-masonry outdoor structures","Limestone >90%","≥3 kg and <5 kg","€ / unit",0.04,0.04,{"$f":"_xlfn.XLOOKUP(K10258,'Codes éco-part'!$C$6:$C$923,'Codes éco-part'!$B$6:$B$923)","v":"002"},0.05]
["DIY and gardening products EPR",4,"22155860531","Modulated","Garden upkeep and landscaping","Non-masonry outdoor structures","Limestone >90%","≥3 kg and <5 kg","€ / unit",0.04,0.04,{"$f":"_xlfn.XLOOKUP(K10259,'Codes éco-part'!$C$6:$C$923,'Codes éco-part'!$B$6:$B$923)","v":"002"},0.05]
["DIY and gardening products EPR",4,"22155860540",null,"Garden upkeep and landscaping","Non-masonry outdoor structures","Limestone >90%","≥5 kg and <7 kg","€ / unit",0.06,0.06,{"$f":"_xlfn.XLOOKUP(K10260,'Codes éco-part'!$C$6:$C$923,'Codes éco-part'!$B$6:$B$923)","v":"096"},7.0000000000000007E-2]
["DIY and gardening products EPR",4,"22155860541","Modulated","Garden upkeep and landscaping","Non-masonry outdoor structures","Limestone >90%","≥5 kg and <7 kg","€ / unit",0.05,0.05,{"$f":"_xlfn.XLOOKUP(K10261,'Codes éco-part'!$C$6:$C$923,'Codes éco-part'!$B$6:$B$923)","v":"048"},0.06]
["DIY and gardening products EPR",4,"22155860550",null,"Garden upkeep and landscaping","Non-masonry outdoor structures","Limestone >90%","≥7 kg and <10 kg","€ / unit",0.09,0.09,{"$f":"_xlfn.XLOOKUP(K10262,'Codes éco-part'!$C$6:$C$923,'Codes éco-part'!$B$6:$B$923)","v":"049"},0.11]
["DIY and gardening products EPR",4,"22155860551","Modulated","Garden upkeep and landscaping","Non-masonry outdoor structures","Limestone >90%","≥7 kg and <10 kg","€ / unit",0.08,0.08,{"$f":"_xlfn.XLOOKUP(K10263,'Codes éco-part'!$C$6:$C$923,'Codes éco-part'!$B$6:$B$923)","v":"003"},0.1]
["DIY and gardening products EPR",4,"22155860560",null,"Garden upkeep and landscaping","Non-masonry outdoor structures","Limestone >90%","≥10 kg and <15 kg","€ / unit",0.13,0.13,{"$f":"_xlfn.XLOOKUP(K10264,'Codes éco-part'!$C$6:$C$923,'Codes éco-part'!$B$6:$B$923)","v":"004"},0.16]
["DIY and gardening products EPR",4,"22155860561","Modulated","Garden upkeep and landscaping","Non-masonry outdoor structures","Limestone >90%","≥10 kg and <15 kg","€ / unit",0.12,0.12,{"$f":"_xlfn.XLOOKUP(K10265,'Codes éco-part'!$C$6:$C$923,'Codes éco-part'!$B$6:$B$923)","v":"097"},0.14000000000000001]
["DIY and gardening products EPR",4,"22155860570",null,"Garden upkeep and landscaping","Non-masonry outdoor structures","Limestone >90%","≥15 kg and <20 kg","€ / unit",0.18,0.18,{"$f":"_xlfn.XLOOKUP(K10266,'Codes éco-part'!$C$6:$C$923,'Codes éco-part'!$B$6:$B$923)","v":"100"},0.22]
["DIY and gardening products EPR",4,"22155860571","Modulated","Garden upkeep and landscaping","Non-masonry outdoor structures","Limestone >90%","≥15 kg and <20 kg","€ / unit",0.16,0.16,{"$f":"_xlfn.XLOOKUP(K10267,'Codes éco-part'!$C$6:$C$923,'Codes éco-part'!$B$6:$B$923)","v":"099"},0.19]
["DIY and gardening products EPR",4,"22155860580",null,"Garden upkeep and landscaping","Non-masonry outdoor structures","Limestone >90%","≥20 kg and <25 kg","€ / unit",0.22,0.22,{"$f":"_xlfn.XLOOKUP(K10268,'Codes éco-part'!$C$6:$C$923,'Codes éco-part'!$B$6:$B$923)","v":"263"},0.26]
["DIY and gardening products EPR",4,"22155860581","Modulated","Garden upkeep and landscaping","Non-masonry outdoor structures","Limestone >90%","≥20 kg and <25 kg","€ / unit",0.2,0.2,{"$f":"_xlfn.XLOOKUP(K10269,'Codes éco-part'!$C$6:$C$923,'Codes éco-part'!$B$6:$B$923)","v":"101"},0.24]
["DIY and gardening products EPR",4,"22155860590",null,"Garden upkeep and landscaping","Non-masonry outdoor structures","Limestone >90%","≥25 kg and <30 kg","€ / unit",0.26,0.26,{"$f":"_xlfn.XLOOKUP(K10270,'Codes éco-part'!$C$6:$C$923,'Codes éco-part'!$B$6:$B$923)","v":"445"},0.31]
["DIY and gardening products EPR",4,"22155860591","Modulated","Garden upkeep and landscaping","Non-masonry outdoor structures","Limestone >90%","≥25 kg and <30 kg","€ / unit",0.23,0.23,{"$f":"_xlfn.XLOOKUP(K10271,'Codes éco-part'!$C$6:$C$923,'Codes éco-part'!$B$6:$B$923)","v":"323"},0.28000000000000003]
["DIY and gardening products EPR",4,"22155860600",null,"Garden upkeep and landscaping","Non-masonry outdoor structures","Limestone >90%","≥40 kg and <50 kg","€ / unit",0.44,0.44,{"$f":"_xlfn.XLOOKUP(K10272,'Codes éco-part'!$C$6:$C$923,'Codes éco-part'!$B$6:$B$923)","v":"281"},0.53]
["DIY and gardening products EPR",4,"22155860601","Modulated","Garden upkeep and landscaping","Non-masonry outdoor structures","Limestone >90%","≥40 kg and <50 kg","€ / unit",0.4,0.4,{"$f":"_xlfn.XLOOKUP(K10273,'Codes éco-part'!$C$6:$C$923,'Codes éco-part'!$B$6:$B$923)","v":"105"},0.48]
["DIY and gardening products EPR",4,"22155870000",null,"Garden upkeep and landscaping","Non-masonry outdoor structures","Lava stone >90%","Elements of all sizes and weights","€ / ton",8.75,8.75,{"$f":"_xlfn.XLOOKUP(K10274,'Codes éco-part'!$C$6:$C$923,'Codes éco-part'!$B$6:$B$923)","v":"069"},10.5]
["DIY and gardening products EPR",4,"22155870001","Modulated","Garden upkeep and landscaping","Non-masonry outdoor structures","Lava stone >90%","Elements of all sizes and weights","€ / ton",7.88,7.88,{"$f":"_xlfn.XLOOKUP(K10275,'Codes éco-part'!$C$6:$C$923,'Codes éco-part'!$B$6:$B$923)","v":"354"},9.4600000000000009]
["DIY and gardening products EPR",4,"22155870200",null,"Garden upkeep and landscaping","Non-masonry outdoor structures","Lava stone >90%","Strictly <0.5 kg","€ / unit",0.01,0.01,{"$f":"_xlfn.XLOOKUP(K10276,'Codes éco-part'!$C$6:$C$923,'Codes éco-part'!$B$6:$B$923)","v":"260"},0.01]
["DIY and gardening products EPR",4,"22155870201","Modulated","Garden upkeep and landscaping","Non-masonry outdoor structures","Lava stone >90%","Strictly <0.5 kg","€ / unit",0.01,0.01,{"$f":"_xlfn.XLOOKUP(K10277,'Codes éco-part'!$C$6:$C$923,'Codes éco-part'!$B$6:$B$923)","v":"260"},0.01]
["DIY and gardening products EPR",4,"22155870210",null,"Garden upkeep and landscaping","Non-masonry outdoor structures","Lava stone >90%","≥0.5 kg and <1 kg","€ / unit",0.01,0.01,{"$f":"_xlfn.XLOOKUP(K10278,'Codes éco-part'!$C$6:$C$923,'Codes éco-part'!$B$6:$B$923)","v":"260"},0.01]
["DIY and gardening products EPR",4,"22155870211","Modulated","Garden upkeep and landscaping","Non-masonry outdoor structures","Lava stone >90%","≥0.5 kg and <1 kg","€ / unit",0.01,0.01,{"$f":"_xlfn.XLOOKUP(K10279,'Codes éco-part'!$C$6:$C$923,'Codes éco-part'!$B$6:$B$923)","v":"260"},0.01]
["DIY and gardening products EPR",4,"22155870220",null,"Garden upkeep and landscaping","Non-masonry outdoor structures","Lava stone >90%","≥1 kg and <2 kg","€ / unit",0.01,0.01,{"$f":"_xlfn.XLOOKUP(K10280,'Codes éco-part'!$C$6:$C$923,'Codes éco-part'!$B$6:$B$923)","v":"260"},0.01]
["DIY and gardening products EPR",4,"22155870221","Modulated","Garden upkeep and landscaping","Non-masonry outdoor structures","Lava stone >90%","≥1 kg and <2 kg","€ / unit",0.01,0.01,{"$f":"_xlfn.XLOOKUP(K10281,'Codes éco-part'!$C$6:$C$923,'Codes éco-part'!$B$6:$B$923)","v":"260"},0.01]
["DIY and gardening products EPR",4,"22155870270",null,"Garden upkeep and landscaping","Non-masonry outdoor structures","Lava stone >90%","≥30 kg and <40 kg","€ / unit",0.35,0.35,{"$f":"_xlfn.XLOOKUP(K10282,'Codes éco-part'!$C$6:$C$923,'Codes éco-part'!$B$6:$B$923)","v":"448"},0.42]
["DIY and gardening products EPR",4,"22155870271","Modulated","Garden upkeep and landscaping","Non-masonry outdoor structures","Lava stone >90%","≥30 kg and <40 kg","€ / unit",0.32,0.32,{"$f":"_xlfn.XLOOKUP(K10283,'Codes éco-part'!$C$6:$C$923,'Codes éco-part'!$B$6:$B$923)","v":"447"},0.38]
["DIY and gardening products EPR",4,"22155870520",null,"Garden upkeep and landscaping","Non-masonry outdoor structures","Lava stone >90%","≥2 kg and <3 kg","€ / unit",0.02,0.02,{"$f":"_xlfn.XLOOKUP(K10284,'Codes éco-part'!$C$6:$C$923,'Codes éco-part'!$B$6:$B$923)","v":"047"},0.02]
["DIY and gardening products EPR",4,"22155870521","Modulated","Garden upkeep and landscaping","Non-masonry outdoor structures","Lava stone >90%","≥2 kg and <3 kg","€ / unit",0.02,0.02,{"$f":"_xlfn.XLOOKUP(K10285,'Codes éco-part'!$C$6:$C$923,'Codes éco-part'!$B$6:$B$923)","v":"047"},0.02]
["DIY and gardening products EPR",4,"22155870530",null,"Garden upkeep and landscaping","Non-masonry outdoor structures","Lava stone >90%","≥3 kg and <5 kg","€ / unit",0.04,0.04,{"$f":"_xlfn.XLOOKUP(K10286,'Codes éco-part'!$C$6:$C$923,'Codes éco-part'!$B$6:$B$923)","v":"002"},0.05]
["DIY and gardening products EPR",4,"22155870531","Modulated","Garden upkeep and landscaping","Non-masonry outdoor structures","Lava stone >90%","≥3 kg and <5 kg","€ / unit",0.04,0.04,{"$f":"_xlfn.XLOOKUP(K10287,'Codes éco-part'!$C$6:$C$923,'Codes éco-part'!$B$6:$B$923)","v":"002"},0.05]
["DIY and gardening products EPR",4,"22155870540",null,"Garden upkeep and landscaping","Non-masonry outdoor structures","Lava stone >90%","≥5 kg and <7 kg","€ / unit",0.06,0.06,{"$f":"_xlfn.XLOOKUP(K10288,'Codes éco-part'!$C$6:$C$923,'Codes éco-part'!$B$6:$B$923)","v":"096"},7.0000000000000007E-2]
["DIY and gardening products EPR",4,"22155870541","Modulated","Garden upkeep and landscaping","Non-masonry outdoor structures","Lava stone >90%","≥5 kg and <7 kg","€ / unit",0.05,0.05,{"$f":"_xlfn.XLOOKUP(K10289,'Codes éco-part'!$C$6:$C$923,'Codes éco-part'!$B$6:$B$923)","v":"048"},0.06]
["DIY and gardening products EPR",4,"22155870550",null,"Garden upkeep and landscaping","Non-masonry outdoor structures","Lava stone >90%","≥7 kg and <10 kg","€ / unit",0.09,0.09,{"$f":"_xlfn.XLOOKUP(K10290,'Codes éco-part'!$C$6:$C$923,'Codes éco-part'!$B$6:$B$923)","v":"049"},0.11]
["DIY and gardening products EPR",4,"22155870551","Modulated","Garden upkeep and landscaping","Non-masonry outdoor structures","Lava stone >90%","≥7 kg and <10 kg","€ / unit",0.08,0.08,{"$f":"_xlfn.XLOOKUP(K10291,'Codes éco-part'!$C$6:$C$923,'Codes éco-part'!$B$6:$B$923)","v":"003"},0.1]
["DIY and gardening products EPR",4,"22155870560",null,"Garden upkeep and landscaping","Non-masonry outdoor structures","Lava stone >90%","≥10 kg and <15 kg","€ / unit",0.13,0.13,{"$f":"_xlfn.XLOOKUP(K10292,'Codes éco-part'!$C$6:$C$923,'Codes éco-part'!$B$6:$B$923)","v":"004"},0.16]
["DIY and gardening products EPR",4,"22155870561","Modulated","Garden upkeep and landscaping","Non-masonry outdoor structures","Lava stone >90%","≥10 kg and <15 kg","€ / unit",0.12,0.12,{"$f":"_xlfn.XLOOKUP(K10293,'Codes éco-part'!$C$6:$C$923,'Codes éco-part'!$B$6:$B$923)","v":"097"},0.14000000000000001]
["DIY and gardening products EPR",4,"22155870570",null,"Garden upkeep and landscaping","Non-masonry outdoor structures","Lava stone >90%","≥15 kg and <20 kg","€ / unit",0.18,0.18,{"$f":"_xlfn.XLOOKUP(K10294,'Codes éco-part'!$C$6:$C$923,'Codes éco-part'!$B$6:$B$923)","v":"100"},0.22]
["DIY and gardening products EPR",4,"22155870571","Modulated","Garden upkeep and landscaping","Non-masonry outdoor structures","Lava stone >90%","≥15 kg and <20 kg","€ / unit",0.16,0.16,{"$f":"_xlfn.XLOOKUP(K10295,'Codes éco-part'!$C$6:$C$923,'Codes éco-part'!$B$6:$B$923)","v":"099"},0.19]
["DIY and gardening products EPR",4,"22155870580",null,"Garden upkeep and landscaping","Non-masonry outdoor structures","Lava stone >90%","≥20 kg and <25 kg","€ / unit",0.22,0.22,{"$f":"_xlfn.XLOOKUP(K10296,'Codes éco-part'!$C$6:$C$923,'Codes éco-part'!$B$6:$B$923)","v":"263"},0.26]
["DIY and gardening products EPR",4,"22155870581","Modulated","Garden upkeep and landscaping","Non-masonry outdoor structures","Lava stone >90%","≥20 kg and <25 kg","€ / unit",0.2,0.2,{"$f":"_xlfn.XLOOKUP(K10297,'Codes éco-part'!$C$6:$C$923,'Codes éco-part'!$B$6:$B$923)","v":"101"},0.24]
["DIY and gardening products EPR",4,"22155870590",null,"Garden upkeep and landscaping","Non-masonry outdoor structures","Lava stone >90%","≥25 kg and <30 kg","€ / unit",0.26,0.26,{"$f":"_xlfn.XLOOKUP(K10298,'Codes éco-part'!$C$6:$C$923,'Codes éco-part'!$B$6:$B$923)","v":"445"},0.31]
["DIY and gardening products EPR",4,"22155870591","Modulated","Garden upkeep and landscaping","Non-masonry outdoor structures","Lava stone >90%","≥25 kg and <30 kg","€ / unit",0.23,0.23,{"$f":"_xlfn.XLOOKUP(K10299,'Codes éco-part'!$C$6:$C$923,'Codes éco-part'!$B$6:$B$923)","v":"323"},0.28000000000000003]
["DIY and gardening products EPR",4,"22155870600",null,"Garden upkeep and landscaping","Non-masonry outdoor structures","Lava stone >90%","≥40 kg and <50 kg","€ / unit",0.44,0.44,{"$f":"_xlfn.XLOOKUP(K10300,'Codes éco-part'!$C$6:$C$923,'Codes éco-part'!$B$6:$B$923)","v":"281"},0.53]
["DIY and gardening products EPR",4,"22155870601","Modulated","Garden upkeep and landscaping","Non-masonry outdoor structures","Lava stone >90%","≥40 kg and <50 kg","€ / unit",0.4,0.4,{"$f":"_xlfn.XLOOKUP(K10301,'Codes éco-part'!$C$6:$C$923,'Codes éco-part'!$B$6:$B$923)","v":"105"},0.48]
["DIY and gardening products EPR",4,"22155890000",null,"Garden upkeep and landscaping","Non-masonry outdoor structures","Raw earth or terracotta >90%","Elements of all sizes and weights","€ / ton",8.75,8.75,{"$f":"_xlfn.XLOOKUP(K10302,'Codes éco-part'!$C$6:$C$923,'Codes éco-part'!$B$6:$B$923)","v":"069"},10.5]
["DIY and gardening products EPR",4,"22155890001","Modulated","Garden upkeep and landscaping","Non-masonry outdoor structures","Raw earth or terracotta >90%","Elements of all sizes and weights","€ / ton",7.88,7.88,{"$f":"_xlfn.XLOOKUP(K10303,'Codes éco-part'!$C$6:$C$923,'Codes éco-part'!$B$6:$B$923)","v":"354"},9.4600000000000009]
["DIY and gardening products EPR",4,"22155890200",null,"Garden upkeep and landscaping","Non-masonry outdoor structures","Raw earth or terracotta >90%","Strictly <0.5 kg","€ / unit",0.01,0.01,{"$f":"_xlfn.XLOOKUP(K10304,'Codes éco-part'!$C$6:$C$923,'Codes éco-part'!$B$6:$B$923)","v":"260"},0.01]
["DIY and gardening products EPR",4,"22155890201","Modulated","Garden upkeep and landscaping","Non-masonry outdoor structures","Raw earth or terracotta >90%","Strictly <0.5 kg","€ / unit",0.01,0.01,{"$f":"_xlfn.XLOOKUP(K10305,'Codes éco-part'!$C$6:$C$923,'Codes éco-part'!$B$6:$B$923)","v":"260"},0.01]
["DIY and gardening products EPR",4,"22155890210",null,"Garden upkeep and landscaping","Non-masonry outdoor structures","Raw earth or terracotta >90%","≥0.5 kg and <1 kg","€ / unit",0.01,0.01,{"$f":"_xlfn.XLOOKUP(K10306,'Codes éco-part'!$C$6:$C$923,'Codes éco-part'!$B$6:$B$923)","v":"260"},{"$f":"ROUND(K10306*1.2,2)","v":0.01}]
["DIY and gardening products EPR",4,"22155890211","Modulated","Garden upkeep and landscaping","Non-masonry outdoor structures","Raw earth or terracotta >90%","≥0.5 kg and <1 kg","€ / unit",0.01,0.01,{"$f":"_xlfn.XLOOKUP(K10307,'Codes éco-part'!$C$6:$C$923,'Codes éco-part'!$B$6:$B$923)","v":"260"},0.01]
["DIY and gardening products EPR",4,"22155890220",null,"Garden upkeep and landscaping","Non-masonry outdoor structures","Raw earth or terracotta >90%","≥1 kg and <2 kg","€ / unit",0.01,0.01,{"$f":"_xlfn.XLOOKUP(K10308,'Codes éco-part'!$C$6:$C$923,'Codes éco-part'!$B$6:$B$923)","v":"260"},0.01]
["DIY and gardening products EPR",4,"22155890221","Modulated","Garden upkeep and landscaping","Non-masonry outdoor structures","Raw earth or terracotta >90%","≥1 kg and <2 kg","€ / unit",0.01,0.01,{"$f":"_xlfn.XLOOKUP(K10309,'Codes éco-part'!$C$6:$C$923,'Codes éco-part'!$B$6:$B$923)","v":"260"},0.01]
["DIY and gardening products EPR",4,"22155890270",null,"Garden upkeep and landscaping","Non-masonry outdoor structures","Raw earth or terracotta >90%","≥30 kg and <40 kg","€ / unit",0.35,0.35,{"$f":"_xlfn.XLOOKUP(K10310,'Codes éco-part'!$C$6:$C$923,'Codes éco-part'!$B$6:$B$923)","v":"448"},0.42]
["DIY and gardening products EPR",4,"22155890271","Modulated","Garden upkeep and landscaping","Non-masonry outdoor structures","Raw earth or terracotta >90%","≥30 kg and <40 kg","€ / unit",0.32,0.32,{"$f":"_xlfn.XLOOKUP(K10311,'Codes éco-part'!$C$6:$C$923,'Codes éco-part'!$B$6:$B$923)","v":"447"},0.38]
["DIY and gardening products EPR",4,"22155890520",null,"Garden upkeep and landscaping","Non-masonry outdoor structures","Raw earth or terracotta >90%","≥2 kg and <3 kg","€ / unit",0.02,0.02,{"$f":"_xlfn.XLOOKUP(K10312,'Codes éco-part'!$C$6:$C$923,'Codes éco-part'!$B$6:$B$923)","v":"047"},0.02]
["DIY and gardening products EPR",4,"22155890521","Modulated","Garden upkeep and landscaping","Non-masonry outdoor structures","Raw earth or terracotta >90%","≥2 kg and <3 kg","€ / unit",0.02,0.02,{"$f":"_xlfn.XLOOKUP(K10313,'Codes éco-part'!$C$6:$C$923,'Codes éco-part'!$B$6:$B$923)","v":"047"},0.02]
["DIY and gardening products EPR",4,"22155890530",null,"Garden upkeep and landscaping","Non-masonry outdoor structures","Raw earth or terracotta >90%","≥3 kg and <5 kg","€ / unit",0.04,0.04,{"$f":"_xlfn.XLOOKUP(K10314,'Codes éco-part'!$C$6:$C$923,'Codes éco-part'!$B$6:$B$923)","v":"002"},0.05]
["DIY and gardening products EPR",4,"22155890531","Modulated","Garden upkeep and landscaping","Non-masonry outdoor structures","Raw earth or terracotta >90%","≥3 kg and <5 kg","€ / unit",0.04,0.04,{"$f":"_xlfn.XLOOKUP(K10315,'Codes éco-part'!$C$6:$C$923,'Codes éco-part'!$B$6:$B$923)","v":"002"},0.05]
["DIY and gardening products EPR",4,"22155890540",null,"Garden upkeep and landscaping","Non-masonry outdoor structures","Raw earth or terracotta >90%","≥5 kg and <7 kg","€ / unit",0.06,0.06,{"$f":"_xlfn.XLOOKUP(K10316,'Codes éco-part'!$C$6:$C$923,'Codes éco-part'!$B$6:$B$923)","v":"096"},7.0000000000000007E-2]
["DIY and gardening products EPR",4,"22155890541","Modulated","Garden upkeep and landscaping","Non-masonry outdoor structures","Raw earth or terracotta >90%","≥5 kg and <7 kg","€ / unit",0.05,0.05,{"$f":"_xlfn.XLOOKUP(K10317,'Codes éco-part'!$C$6:$C$923,'Codes éco-part'!$B$6:$B$923)","v":"048"},0.06]
["DIY and gardening products EPR",4,"22155890550",null,"Garden upkeep and landscaping","Non-masonry outdoor structures","Raw earth or terracotta >90%","≥7 kg and <10 kg","€ / unit",0.09,0.09,{"$f":"_xlfn.XLOOKUP(K10318,'Codes éco-part'!$C$6:$C$923,'Codes éco-part'!$B$6:$B$923)","v":"049"},0.11]
["DIY and gardening products EPR",4,"22155890551","Modulated","Garden upkeep and landscaping","Non-masonry outdoor structures","Raw earth or terracotta >90%","≥7 kg and <10 kg","€ / unit",0.08,0.08,{"$f":"_xlfn.XLOOKUP(K10319,'Codes éco-part'!$C$6:$C$923,'Codes éco-part'!$B$6:$B$923)","v":"003"},0.1]
["DIY and gardening products EPR",4,"22155890560",null,"Garden upkeep and landscaping","Non-masonry outdoor structures","Raw earth or terracotta >90%","≥10 kg and <15 kg","€ / unit",0.13,0.13,{"$f":"_xlfn.XLOOKUP(K10320,'Codes éco-part'!$C$6:$C$923,'Codes éco-part'!$B$6:$B$923)","v":"004"},0.16]
["DIY and gardening products EPR",4,"22155890561","Modulated","Garden upkeep and landscaping","Non-masonry outdoor structures","Raw earth or terracotta >90%","≥10 kg and <15 kg","€ / unit",0.12,0.12,{"$f":"_xlfn.XLOOKUP(K10321,'Codes éco-part'!$C$6:$C$923,'Codes éco-part'!$B$6:$B$923)","v":"097"},0.14000000000000001]
["DIY and gardening products EPR",4,"22155890570",null,"Garden upkeep and landscaping","Non-masonry outdoor structures","Raw earth or terracotta >90%","≥15 kg and <20 kg","€ / unit",0.18,0.18,{"$f":"_xlfn.XLOOKUP(K10322,'Codes éco-part'!$C$6:$C$923,'Codes éco-part'!$B$6:$B$923)","v":"100"},0.22]
["DIY and gardening products EPR",4,"22155890571","Modulated","Garden upkeep and landscaping","Non-masonry outdoor structures","Raw earth or terracotta >90%","≥15 kg and <20 kg","€ / unit",0.16,0.16,{"$f":"_xlfn.XLOOKUP(K10323,'Codes éco-part'!$C$6:$C$923,'Codes éco-part'!$B$6:$B$923)","v":"099"},0.19]
["DIY and gardening products EPR",4,"22155890580",null,"Garden upkeep and landscaping","Non-masonry outdoor structures","Raw earth or terracotta >90%","≥20 kg and <25 kg","€ / unit",0.22,0.22,{"$f":"_xlfn.XLOOKUP(K10324,'Codes éco-part'!$C$6:$C$923,'Codes éco-part'!$B$6:$B$923)","v":"263"},0.26]
["DIY and gardening products EPR",4,"22155890581","Modulated","Garden upkeep and landscaping","Non-masonry outdoor structures","Raw earth or terracotta >90%","≥20 kg and <25 kg","€ / unit",0.2,0.2,{"$f":"_xlfn.XLOOKUP(K10325,'Codes éco-part'!$C$6:$C$923,'Codes éco-part'!$B$6:$B$923)","v":"101"},0.24]
["DIY and gardening products EPR",4,"22155890590",null,"Garden upkeep and landscaping","Non-masonry outdoor structures","Raw earth or terracotta >90%","≥25 kg and <30 kg","€ / unit",0.26,0.26,{"$f":"_xlfn.XLOOKUP(K10326,'Codes éco-part'!$C$6:$C$923,'Codes éco-part'!$B$6:$B$923)","v":"445"},0.31]
["DIY and gardening products EPR",4,"22155890591","Modulated","Garden upkeep and landscaping","Non-masonry outdoor structures","Raw earth or terracotta >90%","≥25 kg and <30 kg","€ / unit",0.23,0.23,{"$f":"_xlfn.XLOOKUP(K10327,'Codes éco-part'!$C$6:$C$923,'Codes éco-part'!$B$6:$B$923)","v":"323"},0.28000000000000003]
["DIY and gardening products EPR",4,"22155890600",null,"Garden upkeep and landscaping","Non-masonry outdoor structures","Raw earth or terracotta >90%","≥40 kg and <50 kg","€ / unit",0.44,0.44,{"$f":"_xlfn.XLOOKUP(K10328,'Codes éco-part'!$C$6:$C$923,'Codes éco-part'!$B$6:$B$923)","v":"281"},0.53]
["DIY and gardening products EPR",4,"22155890601","Modulated","Garden upkeep and landscaping","Non-masonry outdoor structures","Raw earth or terracotta >90%","≥40 kg and <50 kg","€ / unit",0.4,0.4,{"$f":"_xlfn.XLOOKUP(K10329,'Codes éco-part'!$C$6:$C$923,'Codes éco-part'!$B$6:$B$923)","v":"105"},0.48]
["DIY and gardening products EPR",4,"22155900000",null,"Garden upkeep and landscaping","Non-masonry outdoor structures","Cement >90%","Elements of all sizes and weights","€ / ton",8.75,8.75,{"$f":"_xlfn.XLOOKUP(K10330,'Codes éco-part'!$C$6:$C$923,'Codes éco-part'!$B$6:$B$923)","v":"069"},10.5]
["DIY and gardening products EPR",4,"22155900001","Modulated","Garden upkeep and landscaping","Non-masonry outdoor structures","Cement >90%","Elements of all sizes and weights","€ / ton",7.88,7.88,{"$f":"_xlfn.XLOOKUP(K10331,'Codes éco-part'!$C$6:$C$923,'Codes éco-part'!$B$6:$B$923)","v":"354"},9.4600000000000009]
["DIY and gardening products EPR",4,"22155900200",null,"Garden upkeep and landscaping","Non-masonry outdoor structures","Cement >90%","Strictly <0.5 kg","€ / unit",0.01,0.01,{"$f":"_xlfn.XLOOKUP(K10332,'Codes éco-part'!$C$6:$C$923,'Codes éco-part'!$B$6:$B$923)","v":"260"},0.01]
["DIY and gardening products EPR",4,"22155900201","Modulated","Garden upkeep and landscaping","Non-masonry outdoor structures","Cement >90%","Strictly <0.5 kg","€ / unit",0.01,0.01,{"$f":"_xlfn.XLOOKUP(K10333,'Codes éco-part'!$C$6:$C$923,'Codes éco-part'!$B$6:$B$923)","v":"260"},0.01]
["DIY and gardening products EPR",4,"22155900210",null,"Garden upkeep and landscaping","Non-masonry outdoor structures","Cement >90%","≥0.5 kg and <1 kg","€ / unit",0.01,0.01,{"$f":"_xlfn.XLOOKUP(K10334,'Codes éco-part'!$C$6:$C$923,'Codes éco-part'!$B$6:$B$923)","v":"260"},0.01]
["DIY and gardening products EPR",4,"22155900211","Modulated","Garden upkeep and landscaping","Non-masonry outdoor structures","Cement >90%","≥0.5 kg and <1 kg","€ / unit",0.01,0.01,{"$f":"_xlfn.XLOOKUP(K10335,'Codes éco-part'!$C$6:$C$923,'Codes éco-part'!$B$6:$B$923)","v":"260"},0.01]
["DIY and gardening products EPR",4,"22155900220",null,"Garden upkeep and landscaping","Non-masonry outdoor structures","Cement >90%","≥1 kg and <2 kg","€ / unit",0.01,0.01,{"$f":"_xlfn.XLOOKUP(K10336,'Codes éco-part'!$C$6:$C$923,'Codes éco-part'!$B$6:$B$923)","v":"260"},0.01]
["DIY and gardening products EPR",4,"22155900221","Modulated","Garden upkeep and landscaping","Non-masonry outdoor structures","Cement >90%","≥1 kg and <2 kg","€ / unit",0.01,0.01,{"$f":"_xlfn.XLOOKUP(K10337,'Codes éco-part'!$C$6:$C$923,'Codes éco-part'!$B$6:$B$923)","v":"260"},0.01]
["DIY and gardening products EPR",4,"22155900270",null,"Garden upkeep and landscaping","Non-masonry outdoor structures","Cement >90%","≥30 kg and <40 kg","€ / unit",0.35,0.35,{"$f":"_xlfn.XLOOKUP(K10338,'Codes éco-part'!$C$6:$C$923,'Codes éco-part'!$B$6:$B$923)","v":"448"},0.42]
["DIY and gardening products EPR",4,"22155900271","Modulated","Garden upkeep and landscaping","Non-masonry outdoor structures","Cement >90%","≥30 kg and <40 kg","€ / unit",0.32,0.32,{"$f":"_xlfn.XLOOKUP(K10339,'Codes éco-part'!$C$6:$C$923,'Codes éco-part'!$B$6:$B$923)","v":"447"},0.38]
["DIY and gardening products EPR",4,"22155900520",null,"Garden upkeep and landscaping","Non-masonry outdoor structures","Cement >90%","≥2 kg and <3 kg","€ / unit",0.02,0.02,{"$f":"_xlfn.XLOOKUP(K10340,'Codes éco-part'!$C$6:$C$923,'Codes éco-part'!$B$6:$B$923)","v":"047"},0.02]
["DIY and gardening products EPR",4,"22155900521","Modulated","Garden upkeep and landscaping","Non-masonry outdoor structures","Cement >90%","≥2 kg and <3 kg","€ / unit",0.02,0.02,{"$f":"_xlfn.XLOOKUP(K10341,'Codes éco-part'!$C$6:$C$923,'Codes éco-part'!$B$6:$B$923)","v":"047"},0.02]
["DIY and gardening products EPR",4,"22155900530",null,"Garden upkeep and landscaping","Non-masonry outdoor structures","Cement >90%","≥3 kg and <5 kg","€ / unit",0.04,0.04,{"$f":"_xlfn.XLOOKUP(K10342,'Codes éco-part'!$C$6:$C$923,'Codes éco-part'!$B$6:$B$923)","v":"002"},0.05]
["DIY and gardening products EPR",4,"22155900531","Modulated","Garden upkeep and landscaping","Non-masonry outdoor structures","Cement >90%","≥3 kg and <5 kg","€ / unit",0.04,0.04,{"$f":"_xlfn.XLOOKUP(K10343,'Codes éco-part'!$C$6:$C$923,'Codes éco-part'!$B$6:$B$923)","v":"002"},0.05]
["DIY and gardening products EPR",4,"22155900540",null,"Garden upkeep and landscaping","Non-masonry outdoor structures","Cement >90%","≥5 kg and <7 kg","€ / unit",0.06,0.06,{"$f":"_xlfn.XLOOKUP(K10344,'Codes éco-part'!$C$6:$C$923,'Codes éco-part'!$B$6:$B$923)","v":"096"},7.0000000000000007E-2]
["DIY and gardening products EPR",4,"22155900541","Modulated","Garden upkeep and landscaping","Non-masonry outdoor structures","Cement >90%","≥5 kg and <7 kg","€ / unit",0.05,0.05,{"$f":"_xlfn.XLOOKUP(K10345,'Codes éco-part'!$C$6:$C$923,'Codes éco-part'!$B$6:$B$923)","v":"048"},0.06]
["DIY and gardening products EPR",4,"22155900550",null,"Garden upkeep and landscaping","Non-masonry outdoor structures","Cement >90%","≥7 kg and <10 kg","€ / unit",0.09,0.09,{"$f":"_xlfn.XLOOKUP(K10346,'Codes éco-part'!$C$6:$C$923,'Codes éco-part'!$B$6:$B$923)","v":"049"},0.11]
["DIY and gardening products EPR",4,"22155900551","Modulated","Garden upkeep and landscaping","Non-masonry outdoor structures","Cement >90%","≥7 kg and <10 kg","€ / unit",0.08,0.08,{"$f":"_xlfn.XLOOKUP(K10347,'Codes éco-part'!$C$6:$C$923,'Codes éco-part'!$B$6:$B$923)","v":"003"},0.1]
["DIY and gardening products EPR",4,"22155900560",null,"Garden upkeep and landscaping","Non-masonry outdoor structures","Cement >90%","≥10 kg and <15 kg","€ / unit",0.13,0.13,{"$f":"_xlfn.XLOOKUP(K10348,'Codes éco-part'!$C$6:$C$923,'Codes éco-part'!$B$6:$B$923)","v":"004"},0.16]
["DIY and gardening products EPR",4,"22155900561","Modulated","Garden upkeep and landscaping","Non-masonry outdoor structures","Cement >90%","≥10 kg and <15 kg","€ / unit",0.12,0.12,{"$f":"_xlfn.XLOOKUP(K10349,'Codes éco-part'!$C$6:$C$923,'Codes éco-part'!$B$6:$B$923)","v":"097"},0.14000000000000001]
["DIY and gardening products EPR",4,"22155900570",null,"Garden upkeep and landscaping","Non-masonry outdoor structures","Cement >90%","≥15 kg and <20 kg","€ / unit",0.18,0.18,{"$f":"_xlfn.XLOOKUP(K10350,'Codes éco-part'!$C$6:$C$923,'Codes éco-part'!$B$6:$B$923)","v":"100"},0.22]
["DIY and gardening products EPR",4,"22155900571","Modulated","Garden upkeep and landscaping","Non-masonry outdoor structures","Cement >90%","≥15 kg and <20 kg","€ / unit",0.16,0.16,{"$f":"_xlfn.XLOOKUP(K10351,'Codes éco-part'!$C$6:$C$923,'Codes éco-part'!$B$6:$B$923)","v":"099"},0.19]
["DIY and gardening products EPR",4,"22155900580",null,"Garden upkeep and landscaping","Non-masonry outdoor structures","Cement >90%","≥20 kg and <25 kg","€ / unit",0.22,0.22,{"$f":"_xlfn.XLOOKUP(K10352,'Codes éco-part'!$C$6:$C$923,'Codes éco-part'!$B$6:$B$923)","v":"263"},0.26]
["DIY and gardening products EPR",4,"22155900581","Modulated","Garden upkeep and landscaping","Non-masonry outdoor structures","Cement >90%","≥20 kg and <25 kg","€ / unit",0.2,0.2,{"$f":"_xlfn.XLOOKUP(K10353,'Codes éco-part'!$C$6:$C$923,'Codes éco-part'!$B$6:$B$923)","v":"101"},0.24]
["DIY and gardening products EPR",4,"22155900590",null,"Garden upkeep and landscaping","Non-masonry outdoor structures","Cement >90%","≥25 kg and <30 kg","€ / unit",0.26,0.26,{"$f":"_xlfn.XLOOKUP(K10354,'Codes éco-part'!$C$6:$C$923,'Codes éco-part'!$B$6:$B$923)","v":"445"},0.31]
["DIY and gardening products EPR",4,"22155900591","Modulated","Garden upkeep and landscaping","Non-masonry outdoor structures","Cement >90%","≥25 kg and <30 kg","€ / unit",0.23,0.23,{"$f":"_xlfn.XLOOKUP(K10355,'Codes éco-part'!$C$6:$C$923,'Codes éco-part'!$B$6:$B$923)","v":"323"},0.28000000000000003]
["DIY and gardening products EPR",4,"22155900600",null,"Garden upkeep and landscaping","Non-masonry outdoor structures","Cement >90%","≥40 kg and <50 kg","€ / unit",0.44,0.44,{"$f":"_xlfn.XLOOKUP(K10356,'Codes éco-part'!$C$6:$C$923,'Codes éco-part'!$B$6:$B$923)","v":"281"},0.53]
["DIY and gardening products EPR",4,"22155900601","Modulated","Garden upkeep and landscaping","Non-masonry outdoor structures","Cement >90%","≥40 kg and <50 kg","€ / unit",0.4,0.4,{"$f":"_xlfn.XLOOKUP(K10357,'Codes éco-part'!$C$6:$C$923,'Codes éco-part'!$B$6:$B$923)","v":"105"},0.48]
["DIY and gardening products EPR",4,"22155910000",null,"Garden upkeep and landscaping","Non-masonry outdoor structures","Granite >90%","Elements of all sizes and weights","€ / ton",8.75,8.75,{"$f":"_xlfn.XLOOKUP(K10358,'Codes éco-part'!$C$6:$C$923,'Codes éco-part'!$B$6:$B$923)","v":"069"},10.5]
["DIY and gardening products EPR",4,"22155910001","Modulated","Garden upkeep and landscaping","Non-masonry outdoor structures","Granite >90%","Elements of all sizes and weights","€ / ton",7.88,7.88,{"$f":"_xlfn.XLOOKUP(K10359,'Codes éco-part'!$C$6:$C$923,'Codes éco-part'!$B$6:$B$923)","v":"354"},9.4600000000000009]
["DIY and gardening products EPR",4,"22155910200",null,"Garden upkeep and landscaping","Non-masonry outdoor structures","Granite >90%","Strictly <0.5 kg","€ / unit",0.01,0.01,{"$f":"_xlfn.XLOOKUP(K10360,'Codes éco-part'!$C$6:$C$923,'Codes éco-part'!$B$6:$B$923)","v":"260"},0.01]
["DIY and gardening products EPR",4,"22155910201","Modulated","Garden upkeep and landscaping","Non-masonry outdoor structures","Granite >90%","Strictly <0.5 kg","€ / unit",0.01,0.01,{"$f":"_xlfn.XLOOKUP(K10361,'Codes éco-part'!$C$6:$C$923,'Codes éco-part'!$B$6:$B$923)","v":"260"},0.01]
["DIY and gardening products EPR",4,"22155910210",null,"Garden upkeep and landscaping","Non-masonry outdoor structures","Granite >90%","≥0.5 kg and <1 kg","€ / unit",0.01,0.01,{"$f":"_xlfn.XLOOKUP(K10362,'Codes éco-part'!$C$6:$C$923,'Codes éco-part'!$B$6:$B$923)","v":"260"},0.01]
["DIY and gardening products EPR",4,"22155910211","Modulated","Garden upkeep and landscaping","Non-masonry outdoor structures","Granite >90%","≥0.5 kg and <1 kg","€ / unit",0.01,0.01,{"$f":"_xlfn.XLOOKUP(K10363,'Codes éco-part'!$C$6:$C$923,'Codes éco-part'!$B$6:$B$923)","v":"260"},0.01]
["DIY and gardening products EPR",4,"22155910220",null,"Garden upkeep and landscaping","Non-masonry outdoor structures","Granite >90%","≥1 kg and <2 kg","€ / unit",0.01,0.01,{"$f":"_xlfn.XLOOKUP(K10364,'Codes éco-part'!$C$6:$C$923,'Codes éco-part'!$B$6:$B$923)","v":"260"},0.01]
["DIY and gardening products EPR",4,"22155910221","Modulated","Garden upkeep and landscaping","Non-masonry outdoor structures","Granite >90%","≥1 kg and <2 kg","€ / unit",0.01,0.01,{"$f":"_xlfn.XLOOKUP(K10365,'Codes éco-part'!$C$6:$C$923,'Codes éco-part'!$B$6:$B$923)","v":"260"},0.01]
["DIY and gardening products EPR",4,"22155910270",null,"Garden upkeep and landscaping","Non-masonry outdoor structures","Granite >90%","≥30 kg and <40 kg","€ / unit",0.35,0.35,{"$f":"_xlfn.XLOOKUP(K10366,'Codes éco-part'!$C$6:$C$923,'Codes éco-part'!$B$6:$B$923)","v":"448"},0.42]
["DIY and gardening products EPR",4,"22155910271","Modulated","Garden upkeep and landscaping","Non-masonry outdoor structures","Granite >90%","≥30 kg and <40 kg","€ / unit",0.32,0.32,{"$f":"_xlfn.XLOOKUP(K10367,'Codes éco-part'!$C$6:$C$923,'Codes éco-part'!$B$6:$B$923)","v":"447"},0.38]
["DIY and gardening products EPR",4,"22155910520",null,"Garden upkeep and landscaping","Non-masonry outdoor structures","Granite >90%","≥2 kg and <3 kg","€ / unit",0.02,0.02,{"$f":"_xlfn.XLOOKUP(K10368,'Codes éco-part'!$C$6:$C$923,'Codes éco-part'!$B$6:$B$923)","v":"047"},0.02]
["DIY and gardening products EPR",4,"22155910521","Modulated","Garden upkeep and landscaping","Non-masonry outdoor structures","Granite >90%","≥2 kg and <3 kg","€ / unit",0.02,0.02,{"$f":"_xlfn.XLOOKUP(K10369,'Codes éco-part'!$C$6:$C$923,'Codes éco-part'!$B$6:$B$923)","v":"047"},0.02]
["DIY and gardening products EPR",4,"22155910530",null,"Garden upkeep and landscaping","Non-masonry outdoor structures","Granite >90%","≥3 kg and <5 kg","€ / unit",0.04,0.04,{"$f":"_xlfn.XLOOKUP(K10370,'Codes éco-part'!$C$6:$C$923,'Codes éco-part'!$B$6:$B$923)","v":"002"},{"$f":"ROUND(K10370*1.2,2)","v":0.05}]
["DIY and gardening products EPR",4,"22155910531","Modulated","Garden upkeep and landscaping","Non-masonry outdoor structures","Granite >90%","≥3 kg and <5 kg","€ / unit",0.04,0.04,{"$f":"_xlfn.XLOOKUP(K10371,'Codes éco-part'!$C$6:$C$923,'Codes éco-part'!$B$6:$B$923)","v":"002"},0.05]
["DIY and gardening products EPR",4,"22155910540",null,"Garden upkeep and landscaping","Non-masonry outdoor structures","Granite >90%","≥5 kg and <7 kg","€ / unit",0.06,0.06,{"$f":"_xlfn.XLOOKUP(K10372,'Codes éco-part'!$C$6:$C$923,'Codes éco-part'!$B$6:$B$923)","v":"096"},7.0000000000000007E-2]
["DIY and gardening products EPR",4,"22155910541","Modulated","Garden upkeep and landscaping","Non-masonry outdoor structures","Granite >90%","≥5 kg and <7 kg","€ / unit",0.05,0.05,{"$f":"_xlfn.XLOOKUP(K10373,'Codes éco-part'!$C$6:$C$923,'Codes éco-part'!$B$6:$B$923)","v":"048"},0.06]
["DIY and gardening products EPR",4,"22155910550",null,"Garden upkeep and landscaping","Non-masonry outdoor structures","Granite >90%","≥7 kg and <10 kg","€ / unit",0.09,0.09,{"$f":"_xlfn.XLOOKUP(K10374,'Codes éco-part'!$C$6:$C$923,'Codes éco-part'!$B$6:$B$923)","v":"049"},0.11]
["DIY and gardening products EPR",4,"22155910551","Modulated","Garden upkeep and landscaping","Non-masonry outdoor structures","Granite >90%","≥7 kg and <10 kg","€ / unit",0.08,0.08,{"$f":"_xlfn.XLOOKUP(K10375,'Codes éco-part'!$C$6:$C$923,'Codes éco-part'!$B$6:$B$923)","v":"003"},0.1]
["DIY and gardening products EPR",4,"22155910560",null,"Garden upkeep and landscaping","Non-masonry outdoor structures","Granite >90%","≥10 kg and <15 kg","€ / unit",0.13,0.13,{"$f":"_xlfn.XLOOKUP(K10376,'Codes éco-part'!$C$6:$C$923,'Codes éco-part'!$B$6:$B$923)","v":"004"},0.16]
["DIY and gardening products EPR",4,"22155910561","Modulated","Garden upkeep and landscaping","Non-masonry outdoor structures","Granite >90%","≥10 kg and <15 kg","€ / unit",0.12,0.12,{"$f":"_xlfn.XLOOKUP(K10377,'Codes éco-part'!$C$6:$C$923,'Codes éco-part'!$B$6:$B$923)","v":"097"},0.14000000000000001]
["DIY and gardening products EPR",4,"22155910570",null,"Garden upkeep and landscaping","Non-masonry outdoor structures","Granite >90%","≥15 kg and <20 kg","€ / unit",0.18,0.18,{"$f":"_xlfn.XLOOKUP(K10378,'Codes éco-part'!$C$6:$C$923,'Codes éco-part'!$B$6:$B$923)","v":"100"},0.22]
["DIY and gardening products EPR",4,"22155910571","Modulated","Garden upkeep and landscaping","Non-masonry outdoor structures","Granite >90%","≥15 kg and <20 kg","€ / unit",0.16,0.16,{"$f":"_xlfn.XLOOKUP(K10379,'Codes éco-part'!$C$6:$C$923,'Codes éco-part'!$B$6:$B$923)","v":"099"},0.19]
["DIY and gardening products EPR",4,"22155910580",null,"Garden upkeep and landscaping","Non-masonry outdoor structures","Granite >90%","≥20 kg and <25 kg","€ / unit",0.22,0.22,{"$f":"_xlfn.XLOOKUP(K10380,'Codes éco-part'!$C$6:$C$923,'Codes éco-part'!$B$6:$B$923)","v":"263"},0.26]
["DIY and gardening products EPR",4,"22155910581","Modulated","Garden upkeep and landscaping","Non-masonry outdoor structures","Granite >90%","≥20 kg and <25 kg","€ / unit",0.2,0.2,{"$f":"_xlfn.XLOOKUP(K10381,'Codes éco-part'!$C$6:$C$923,'Codes éco-part'!$B$6:$B$923)","v":"101"},0.24]
["DIY and gardening products EPR",4,"22155910590",null,"Garden upkeep and landscaping","Non-masonry outdoor structures","Granite >90%","≥25 kg and <30 kg","€ / unit",0.26,0.26,{"$f":"_xlfn.XLOOKUP(K10382,'Codes éco-part'!$C$6:$C$923,'Codes éco-part'!$B$6:$B$923)","v":"445"},0.31]
["DIY and gardening products EPR",4,"22155910591","Modulated","Garden upkeep and landscaping","Non-masonry outdoor structures","Granite >90%","≥25 kg and <30 kg","€ / unit",0.23,0.23,{"$f":"_xlfn.XLOOKUP(K10383,'Codes éco-part'!$C$6:$C$923,'Codes éco-part'!$B$6:$B$923)","v":"323"},0.28000000000000003]
["DIY and gardening products EPR",4,"22155910600",null,"Garden upkeep and landscaping","Non-masonry outdoor structures","Granite >90%","≥40 kg and <50 kg","€ / unit",0.44,0.44,{"$f":"_xlfn.XLOOKUP(K10384,'Codes éco-part'!$C$6:$C$923,'Codes éco-part'!$B$6:$B$923)","v":"281"},0.53]
["DIY and gardening products EPR",4,"22155910601","Modulated","Garden upkeep and landscaping","Non-masonry outdoor structures","Granite >90%","≥40 kg and <50 kg","€ / unit",0.4,0.4,{"$f":"_xlfn.XLOOKUP(K10385,'Codes éco-part'!$C$6:$C$923,'Codes éco-part'!$B$6:$B$923)","v":"105"},0.48]
["DIY and gardening products EPR",4,"22155940000",null,"Garden upkeep and landscaping","Non-masonry outdoor structures","Sandstone >90%","Elements of all sizes and weights","€ / ton",8.75,8.75,{"$f":"_xlfn.XLOOKUP(K10386,'Codes éco-part'!$C$6:$C$923,'Codes éco-part'!$B$6:$B$923)","v":"069"},10.5]
["DIY and gardening products EPR",4,"22155940001","Modulated","Garden upkeep and landscaping","Non-masonry outdoor structures","Sandstone >90%","Elements of all sizes and weights","€ / ton",7.88,7.88,{"$f":"_xlfn.XLOOKUP(K10387,'Codes éco-part'!$C$6:$C$923,'Codes éco-part'!$B$6:$B$923)","v":"354"},9.4600000000000009]
["DIY and gardening products EPR",4,"22155940200",null,"Garden upkeep and landscaping","Non-masonry outdoor structures","Sandstone >90%","Strictly <0.5 kg","€ / unit",0.01,0.01,{"$f":"_xlfn.XLOOKUP(K10388,'Codes éco-part'!$C$6:$C$923,'Codes éco-part'!$B$6:$B$923)","v":"260"},0.01]
["DIY and gardening products EPR",4,"22155940201","Modulated","Garden upkeep and landscaping","Non-masonry outdoor structures","Sandstone >90%","Strictly <0.5 kg","€ / unit",0.01,0.01,{"$f":"_xlfn.XLOOKUP(K10389,'Codes éco-part'!$C$6:$C$923,'Codes éco-part'!$B$6:$B$923)","v":"260"},0.01]
["DIY and gardening products EPR",4,"22155940210",null,"Garden upkeep and landscaping","Non-masonry outdoor structures","Sandstone >90%","≥0.5 kg and <1 kg","€ / unit",0.01,0.01,{"$f":"_xlfn.XLOOKUP(K10390,'Codes éco-part'!$C$6:$C$923,'Codes éco-part'!$B$6:$B$923)","v":"260"},0.01]
["DIY and gardening products EPR",4,"22155940211","Modulated","Garden upkeep and landscaping","Non-masonry outdoor structures","Sandstone >90%","≥0.5 kg and <1 kg","€ / unit",0.01,0.01,{"$f":"_xlfn.XLOOKUP(K10391,'Codes éco-part'!$C$6:$C$923,'Codes éco-part'!$B$6:$B$923)","v":"260"},0.01]
["DIY and gardening products EPR",4,"22155940220",null,"Garden upkeep and landscaping","Non-masonry outdoor structures","Sandstone >90%","≥1 kg and <2 kg","€ / unit",0.01,0.01,{"$f":"_xlfn.XLOOKUP(K10392,'Codes éco-part'!$C$6:$C$923,'Codes éco-part'!$B$6:$B$923)","v":"260"},0.01]
["DIY and gardening products EPR",4,"22155940221","Modulated","Garden upkeep and landscaping","Non-masonry outdoor structures","Sandstone >90%","≥1 kg and <2 kg","€ / unit",0.01,0.01,{"$f":"_xlfn.XLOOKUP(K10393,'Codes éco-part'!$C$6:$C$923,'Codes éco-part'!$B$6:$B$923)","v":"260"},0.01]
["DIY and gardening products EPR",4,"22155940270",null,"Garden upkeep and landscaping","Non-masonry outdoor structures","Sandstone >90%","≥30 kg and <40 kg","€ / unit",0.35,0.35,{"$f":"_xlfn.XLOOKUP(K10394,'Codes éco-part'!$C$6:$C$923,'Codes éco-part'!$B$6:$B$923)","v":"448"},0.42]
["DIY and gardening products EPR",4,"22155940271","Modulated","Garden upkeep and landscaping","Non-masonry outdoor structures","Sandstone >90%","≥30 kg and <40 kg","€ / unit",0.32,0.32,{"$f":"_xlfn.XLOOKUP(K10395,'Codes éco-part'!$C$6:$C$923,'Codes éco-part'!$B$6:$B$923)","v":"447"},0.38]
["DIY and gardening products EPR",4,"22155940520",null,"Garden upkeep and landscaping","Non-masonry outdoor structures","Sandstone >90%","≥2 kg and <3 kg","€ / unit",0.02,0.02,{"$f":"_xlfn.XLOOKUP(K10396,'Codes éco-part'!$C$6:$C$923,'Codes éco-part'!$B$6:$B$923)","v":"047"},0.02]
["DIY and gardening products EPR",4,"22155940521","Modulated","Garden upkeep and landscaping","Non-masonry outdoor structures","Sandstone >90%","≥2 kg and <3 kg","€ / unit",0.02,0.02,{"$f":"_xlfn.XLOOKUP(K10397,'Codes éco-part'!$C$6:$C$923,'Codes éco-part'!$B$6:$B$923)","v":"047"},0.02]
["DIY and gardening products EPR",4,"22155940530",null,"Garden upkeep and landscaping","Non-masonry outdoor structures","Sandstone >90%","≥3 kg and <5 kg","€ / unit",0.04,0.04,{"$f":"_xlfn.XLOOKUP(K10398,'Codes éco-part'!$C$6:$C$923,'Codes éco-part'!$B$6:$B$923)","v":"002"},0.05]
["DIY and gardening products EPR",4,"22155940531","Modulated","Garden upkeep and landscaping","Non-masonry outdoor structures","Sandstone >90%","≥3 kg and <5 kg","€ / unit",0.04,0.04,{"$f":"_xlfn.XLOOKUP(K10399,'Codes éco-part'!$C$6:$C$923,'Codes éco-part'!$B$6:$B$923)","v":"002"},0.05]
["DIY and gardening products EPR",4,"22155940540",null,"Garden upkeep and landscaping","Non-masonry outdoor structures","Sandstone >90%","≥5 kg and <7 kg","€ / unit",0.06,0.06,{"$f":"_xlfn.XLOOKUP(K10400,'Codes éco-part'!$C$6:$C$923,'Codes éco-part'!$B$6:$B$923)","v":"096"},7.0000000000000007E-2]
["DIY and gardening products EPR",4,"22155940541","Modulated","Garden upkeep and landscaping","Non-masonry outdoor structures","Sandstone >90%","≥5 kg and <7 kg","€ / unit",0.05,0.05,{"$f":"_xlfn.XLOOKUP(K10401,'Codes éco-part'!$C$6:$C$923,'Codes éco-part'!$B$6:$B$923)","v":"048"},0.06]
["DIY and gardening products EPR",4,"22155940550",null,"Garden upkeep and landscaping","Non-masonry outdoor structures","Sandstone >90%","≥7 kg and <10 kg","€ / unit",0.09,0.09,{"$f":"_xlfn.XLOOKUP(K10402,'Codes éco-part'!$C$6:$C$923,'Codes éco-part'!$B$6:$B$923)","v":"049"},0.11]
["DIY and gardening products EPR",4,"22155940551","Modulated","Garden upkeep and landscaping","Non-masonry outdoor structures","Sandstone >90%","≥7 kg and <10 kg","€ / unit",0.08,0.08,{"$f":"_xlfn.XLOOKUP(K10403,'Codes éco-part'!$C$6:$C$923,'Codes éco-part'!$B$6:$B$923)","v":"003"},0.1]
["DIY and gardening products EPR",4,"22155940560",null,"Garden upkeep and landscaping","Non-masonry outdoor structures","Sandstone >90%","≥10 kg and <15 kg","€ / unit",0.13,0.13,{"$f":"_xlfn.XLOOKUP(K10404,'Codes éco-part'!$C$6:$C$923,'Codes éco-part'!$B$6:$B$923)","v":"004"},0.16]
["DIY and gardening products EPR",4,"22155940561","Modulated","Garden upkeep and landscaping","Non-masonry outdoor structures","Sandstone >90%","≥10 kg and <15 kg","€ / unit",0.12,0.12,{"$f":"_xlfn.XLOOKUP(K10405,'Codes éco-part'!$C$6:$C$923,'Codes éco-part'!$B$6:$B$923)","v":"097"},0.14000000000000001]
["DIY and gardening products EPR",4,"22155940570",null,"Garden upkeep and landscaping","Non-masonry outdoor structures","Sandstone >90%","≥15 kg and <20 kg","€ / unit",0.18,0.18,{"$f":"_xlfn.XLOOKUP(K10406,'Codes éco-part'!$C$6:$C$923,'Codes éco-part'!$B$6:$B$923)","v":"100"},0.22]
["DIY and gardening products EPR",4,"22155940571","Modulated","Garden upkeep and landscaping","Non-masonry outdoor structures","Sandstone >90%","≥15 kg and <20 kg","€ / unit",0.16,0.16,{"$f":"_xlfn.XLOOKUP(K10407,'Codes éco-part'!$C$6:$C$923,'Codes éco-part'!$B$6:$B$923)","v":"099"},0.19]
["DIY and gardening products EPR",4,"22155940580",null,"Garden upkeep and landscaping","Non-masonry outdoor structures","Sandstone >90%","≥20 kg and <25 kg","€ / unit",0.22,0.22,{"$f":"_xlfn.XLOOKUP(K10408,'Codes éco-part'!$C$6:$C$923,'Codes éco-part'!$B$6:$B$923)","v":"263"},0.26]
["DIY and gardening products EPR",4,"22155940581","Modulated","Garden upkeep and landscaping","Non-masonry outdoor structures","Sandstone >90%","≥20 kg and <25 kg","€ / unit",0.2,0.2,{"$f":"_xlfn.XLOOKUP(K10409,'Codes éco-part'!$C$6:$C$923,'Codes éco-part'!$B$6:$B$923)","v":"101"},0.24]
["DIY and gardening products EPR",4,"22155940590",null,"Garden upkeep and landscaping","Non-masonry outdoor structures","Sandstone >90%","≥25 kg and <30 kg","€ / unit",0.26,0.26,{"$f":"_xlfn.XLOOKUP(K10410,'Codes éco-part'!$C$6:$C$923,'Codes éco-part'!$B$6:$B$923)","v":"445"},0.31]
["DIY and gardening products EPR",4,"22155940591","Modulated","Garden upkeep and landscaping","Non-masonry outdoor structures","Sandstone >90%","≥25 kg and <30 kg","€ / unit",0.23,0.23,{"$f":"_xlfn.XLOOKUP(K10411,'Codes éco-part'!$C$6:$C$923,'Codes éco-part'!$B$6:$B$923)","v":"323"},0.28000000000000003]
["DIY and gardening products EPR",4,"22155940600",null,"Garden upkeep and landscaping","Non-masonry outdoor structures","Sandstone >90%","≥40 kg and <50 kg","€ / unit",0.44,0.44,{"$f":"_xlfn.XLOOKUP(K10412,'Codes éco-part'!$C$6:$C$923,'Codes éco-part'!$B$6:$B$923)","v":"281"},0.53]
["DIY and gardening products EPR",4,"22155940601","Modulated","Garden upkeep and landscaping","Non-masonry outdoor structures","Sandstone >90%","≥40 kg and <50 kg","€ / unit",0.4,0.4,{"$f":"_xlfn.XLOOKUP(K10413,'Codes éco-part'!$C$6:$C$923,'Codes éco-part'!$B$6:$B$923)","v":"105"},0.48]
["DIY and gardening products EPR",4,"22155970000",null,"Garden upkeep and landscaping","Non-masonry outdoor structures","Ceramic >90%","Elements of all sizes and weights","€ / ton",12,12,{"$f":"_xlfn.XLOOKUP(K10414,'Codes éco-part'!$C$6:$C$923,'Codes éco-part'!$B$6:$B$923)","v":"485"},14.4]
["DIY and gardening products EPR",4,"22155970001","Modulated","Garden upkeep and landscaping","Non-masonry outdoor structures","Ceramic >90%","Elements of all sizes and weights","€ / ton",10.8,10.8,{"$f":"_xlfn.XLOOKUP(K10415,'Codes éco-part'!$C$6:$C$923,'Codes éco-part'!$B$6:$B$923)","v":948},12.96]
["DIY and gardening products EPR",4,"22155970200",null,"Garden upkeep and landscaping","Non-masonry outdoor structures","Ceramic >90%","Strictly <0.5 kg","€ / unit",0.01,0.01,{"$f":"_xlfn.XLOOKUP(K10416,'Codes éco-part'!$C$6:$C$923,'Codes éco-part'!$B$6:$B$923)","v":"260"},0.01]
["DIY and gardening products EPR",4,"22155970201","Modulated","Garden upkeep and landscaping","Non-masonry outdoor structures","Ceramic >90%","Strictly <0.5 kg","€ / unit",0.01,0.01,{"$f":"_xlfn.XLOOKUP(K10417,'Codes éco-part'!$C$6:$C$923,'Codes éco-part'!$B$6:$B$923)","v":"260"},0.01]
["DIY and gardening products EPR",4,"22155970210",null,"Garden upkeep and landscaping","Non-masonry outdoor structures","Ceramic >90%","≥0.5 kg and <1 kg","€ / unit",0.01,0.01,{"$f":"_xlfn.XLOOKUP(K10418,'Codes éco-part'!$C$6:$C$923,'Codes éco-part'!$B$6:$B$923)","v":"260"},0.01]
["DIY and gardening products EPR",4,"22155970211","Modulated","Garden upkeep and landscaping","Non-masonry outdoor structures","Ceramic >90%","≥0.5 kg and <1 kg","€ / unit",0.01,0.01,{"$f":"_xlfn.XLOOKUP(K10419,'Codes éco-part'!$C$6:$C$923,'Codes éco-part'!$B$6:$B$923)","v":"260"},0.01]
["DIY and gardening products EPR",4,"22155970220",null,"Garden upkeep and landscaping","Non-masonry outdoor structures","Ceramic >90%","≥1 kg and <2 kg","€ / unit",0.02,0.02,{"$f":"_xlfn.XLOOKUP(K10420,'Codes éco-part'!$C$6:$C$923,'Codes éco-part'!$B$6:$B$923)","v":"047"},0.02]
["DIY and gardening products EPR",4,"22155970221","Modulated","Garden upkeep and landscaping","Non-masonry outdoor structures","Ceramic >90%","≥1 kg and <2 kg","€ / unit",0.02,0.02,{"$f":"_xlfn.XLOOKUP(K10421,'Codes éco-part'!$C$6:$C$923,'Codes éco-part'!$B$6:$B$923)","v":"047"},0.02]
["DIY and gardening products EPR",4,"22155970270",null,"Garden upkeep and landscaping","Non-masonry outdoor structures","Ceramic >90%","≥30 kg and <40 kg","€ / unit",0.48,0.48,{"$f":"_xlfn.XLOOKUP(K10422,'Codes éco-part'!$C$6:$C$923,'Codes éco-part'!$B$6:$B$923)","v":"606"},0.57999999999999996]
["DIY and gardening products EPR",4,"22155970271","Modulated","Garden upkeep and landscaping","Non-masonry outdoor structures","Ceramic >90%","≥30 kg and <40 kg","€ / unit",0.43,0.43,{"$f":"_xlfn.XLOOKUP(K10423,'Codes éco-part'!$C$6:$C$923,'Codes éco-part'!$B$6:$B$923)","v":"506"},0.52]
["DIY and gardening products EPR",4,"22155970520",null,"Garden upkeep and landscaping","Non-masonry outdoor structures","Ceramic >90%","≥2 kg and <3 kg","€ / unit",0.03,0.03,{"$f":"_xlfn.XLOOKUP(K10424,'Codes éco-part'!$C$6:$C$923,'Codes éco-part'!$B$6:$B$923)","v":"092"},0.04]
["DIY and gardening products EPR",4,"22155970521","Modulated","Garden upkeep and landscaping","Non-masonry outdoor structures","Ceramic >90%","≥2 kg and <3 kg","€ / unit",0.03,0.03,{"$f":"_xlfn.XLOOKUP(K10425,'Codes éco-part'!$C$6:$C$923,'Codes éco-part'!$B$6:$B$923)","v":"092"},0.04]
["DIY and gardening products EPR",4,"22155970530",null,"Garden upkeep and landscaping","Non-masonry outdoor structures","Ceramic >90%","≥3 kg and <5 kg","€ / unit",0.05,0.05,{"$f":"_xlfn.XLOOKUP(K10426,'Codes éco-part'!$C$6:$C$923,'Codes éco-part'!$B$6:$B$923)","v":"048"},0.06]
["DIY and gardening products EPR",4,"22155970531","Modulated","Garden upkeep and landscaping","Non-masonry outdoor structures","Ceramic >90%","≥3 kg and <5 kg","€ / unit",0.05,0.05,{"$f":"_xlfn.XLOOKUP(K10427,'Codes éco-part'!$C$6:$C$923,'Codes éco-part'!$B$6:$B$923)","v":"048"},0.06]
["DIY and gardening products EPR",4,"22155970540",null,"Garden upkeep and landscaping","Non-masonry outdoor structures","Ceramic >90%","≥5 kg and <7 kg","€ / unit",0.08,0.08,{"$f":"_xlfn.XLOOKUP(K10428,'Codes éco-part'!$C$6:$C$923,'Codes éco-part'!$B$6:$B$923)","v":"003"},0.1]
["DIY and gardening products EPR",4,"22155970541","Modulated","Garden upkeep and landscaping","Non-masonry outdoor structures","Ceramic >90%","≥5 kg and <7 kg","€ / unit",7.0000000000000007E-2,7.0000000000000007E-2,{"$f":"_xlfn.XLOOKUP(K10429,'Codes éco-part'!$C$6:$C$923,'Codes éco-part'!$B$6:$B$923)","v":"247"},0.08]
["DIY and gardening products EPR",4,"22155970550",null,"Garden upkeep and landscaping","Non-masonry outdoor structures","Ceramic >90%","≥7 kg and <10 kg","€ / unit",0.12,0.12,{"$f":"_xlfn.XLOOKUP(K10430,'Codes éco-part'!$C$6:$C$923,'Codes éco-part'!$B$6:$B$923)","v":"097"},0.14000000000000001]
["DIY and gardening products EPR",4,"22155970551","Modulated","Garden upkeep and landscaping","Non-masonry outdoor structures","Ceramic >90%","≥7 kg and <10 kg","€ / unit",0.11,0.11,{"$f":"_xlfn.XLOOKUP(K10431,'Codes éco-part'!$C$6:$C$923,'Codes éco-part'!$B$6:$B$923)","v":"262"},0.13]
["DIY and gardening products EPR",4,"22155970560",null,"Garden upkeep and landscaping","Non-masonry outdoor structures","Ceramic >90%","≥10 kg and <15 kg","€ / unit",0.18,0.18,{"$f":"_xlfn.XLOOKUP(K10432,'Codes éco-part'!$C$6:$C$923,'Codes éco-part'!$B$6:$B$923)","v":"100"},0.22]
["DIY and gardening products EPR",4,"22155970561","Modulated","Garden upkeep and landscaping","Non-masonry outdoor structures","Ceramic >90%","≥10 kg and <15 kg","€ / unit",0.16,0.16,{"$f":"_xlfn.XLOOKUP(K10433,'Codes éco-part'!$C$6:$C$923,'Codes éco-part'!$B$6:$B$923)","v":"099"},0.19]
["DIY and gardening products EPR",4,"22155970570",null,"Garden upkeep and landscaping","Non-masonry outdoor structures","Ceramic >90%","≥15 kg and <20 kg","€ / unit",0.24,0.24,{"$f":"_xlfn.XLOOKUP(K10434,'Codes éco-part'!$C$6:$C$923,'Codes éco-part'!$B$6:$B$923)","v":"248"},{"$f":"ROUND(K10434*1.2,2)","v":0.28999999999999998}]
["DIY and gardening products EPR",4,"22155970571","Modulated","Garden upkeep and landscaping","Non-masonry outdoor structures","Ceramic >90%","≥15 kg and <20 kg","€ / unit",0.22,0.22,{"$f":"_xlfn.XLOOKUP(K10435,'Codes éco-part'!$C$6:$C$923,'Codes éco-part'!$B$6:$B$923)","v":"263"},0.26]
["DIY and gardening products EPR",4,"22155970580",null,"Garden upkeep and landscaping","Non-masonry outdoor structures","Ceramic >90%","≥20 kg and <25 kg","€ / unit",0.3,0.3,{"$f":"_xlfn.XLOOKUP(K10436,'Codes éco-part'!$C$6:$C$923,'Codes éco-part'!$B$6:$B$923)","v":"446"},0.36]
["DIY and gardening products EPR",4,"22155970581","Modulated","Garden upkeep and landscaping","Non-masonry outdoor structures","Ceramic >90%","≥20 kg and <25 kg","€ / unit",0.27,0.27,{"$f":"_xlfn.XLOOKUP(K10437,'Codes éco-part'!$C$6:$C$923,'Codes éco-part'!$B$6:$B$923)","v":"103"},0.32]
["DIY and gardening products EPR",4,"22155970590",null,"Garden upkeep and landscaping","Non-masonry outdoor structures","Ceramic >90%","≥25 kg and <30 kg","€ / unit",0.36,0.36,{"$f":"_xlfn.XLOOKUP(K10438,'Codes éco-part'!$C$6:$C$923,'Codes éco-part'!$B$6:$B$923)","v":"449"},0.43]
["DIY and gardening products EPR",4,"22155970591","Modulated","Garden upkeep and landscaping","Non-masonry outdoor structures","Ceramic >90%","≥25 kg and <30 kg","€ / unit",0.32,0.32,{"$f":"_xlfn.XLOOKUP(K10439,'Codes éco-part'!$C$6:$C$923,'Codes éco-part'!$B$6:$B$923)","v":"447"},0.38]
["DIY and gardening products EPR",4,"22155970600",null,"Garden upkeep and landscaping","Non-masonry outdoor structures","Ceramic >90%","≥40 kg and <50 kg","€ / unit",0.6,0.6,{"$f":"_xlfn.XLOOKUP(K10440,'Codes éco-part'!$C$6:$C$923,'Codes éco-part'!$B$6:$B$923)","v":"327"},0.72]
["DIY and gardening products EPR",4,"22155970601","Modulated","Garden upkeep and landscaping","Non-masonry outdoor structures","Ceramic >90%","≥40 kg and <50 kg","€ / unit",0.54,0.54,{"$f":"_xlfn.XLOOKUP(K10441,'Codes éco-part'!$C$6:$C$923,'Codes éco-part'!$B$6:$B$923)","v":"500"},0.65]
["DIY and gardening products EPR",4,"22155980000",null,"Garden upkeep and landscaping","Non-masonry outdoor structures","Artificial stone >90%","Elements of all sizes and weights","€ / ton",8.75,8.75,{"$f":"_xlfn.XLOOKUP(K10442,'Codes éco-part'!$C$6:$C$923,'Codes éco-part'!$B$6:$B$923)","v":"069"},10.5]
["DIY and gardening products EPR",4,"22155980001","Modulated","Garden upkeep and landscaping","Non-masonry outdoor structures","Artificial stone >90%","Elements of all sizes and weights","€ / ton",7.88,7.88,{"$f":"_xlfn.XLOOKUP(K10443,'Codes éco-part'!$C$6:$C$923,'Codes éco-part'!$B$6:$B$923)","v":"354"},9.4600000000000009]
["DIY and gardening products EPR",4,"22155980200",null,"Garden upkeep and landscaping","Non-masonry outdoor structures","Artificial stone >90%","Strictly <0.5 kg","€ / unit",0.01,0.01,{"$f":"_xlfn.XLOOKUP(K10444,'Codes éco-part'!$C$6:$C$923,'Codes éco-part'!$B$6:$B$923)","v":"260"},0.01]
["DIY and gardening products EPR",4,"22155980201","Modulated","Garden upkeep and landscaping","Non-masonry outdoor structures","Artificial stone >90%","Strictly <0.5 kg","€ / unit",0.01,0.01,{"$f":"_xlfn.XLOOKUP(K10445,'Codes éco-part'!$C$6:$C$923,'Codes éco-part'!$B$6:$B$923)","v":"260"},0.01]
["DIY and gardening products EPR",4,"22155980210",null,"Garden upkeep and landscaping","Non-masonry outdoor structures","Artificial stone >90%","≥0.5 kg and <1 kg","€ / unit",0.01,0.01,{"$f":"_xlfn.XLOOKUP(K10446,'Codes éco-part'!$C$6:$C$923,'Codes éco-part'!$B$6:$B$923)","v":"260"},0.01]
["DIY and gardening products EPR",4,"22155980211","Modulated","Garden upkeep and landscaping","Non-masonry outdoor structures","Artificial stone >90%","≥0.5 kg and <1 kg","€ / unit",0.01,0.01,{"$f":"_xlfn.XLOOKUP(K10447,'Codes éco-part'!$C$6:$C$923,'Codes éco-part'!$B$6:$B$923)","v":"260"},0.01]
["DIY and gardening products EPR",4,"22155980220",null,"Garden upkeep and landscaping","Non-masonry outdoor structures","Artificial stone >90%","≥1 kg and <2 kg","€ / unit",0.01,0.01,{"$f":"_xlfn.XLOOKUP(K10448,'Codes éco-part'!$C$6:$C$923,'Codes éco-part'!$B$6:$B$923)","v":"260"},0.01]
["DIY and gardening products EPR",4,"22155980221","Modulated","Garden upkeep and landscaping","Non-masonry outdoor structures","Artificial stone >90%","≥1 kg and <2 kg","€ / unit",0.01,0.01,{"$f":"_xlfn.XLOOKUP(K10449,'Codes éco-part'!$C$6:$C$923,'Codes éco-part'!$B$6:$B$923)","v":"260"},0.01]
["DIY and gardening products EPR",4,"22155980270",null,"Garden upkeep and landscaping","Non-masonry outdoor structures","Artificial stone >90%","≥30 kg and <40 kg","€ / unit",0.35,0.35,{"$f":"_xlfn.XLOOKUP(K10450,'Codes éco-part'!$C$6:$C$923,'Codes éco-part'!$B$6:$B$923)","v":"448"},0.42]
["DIY and gardening products EPR",4,"22155980271","Modulated","Garden upkeep and landscaping","Non-masonry outdoor structures","Artificial stone >90%","≥30 kg and <40 kg","€ / unit",0.32,0.32,{"$f":"_xlfn.XLOOKUP(K10451,'Codes éco-part'!$C$6:$C$923,'Codes éco-part'!$B$6:$B$923)","v":"447"},0.38]
["DIY and gardening products EPR",4,"22155980520",null,"Garden upkeep and landscaping","Non-masonry outdoor structures","Artificial stone >90%","≥2 kg and <3 kg","€ / unit",0.02,0.02,{"$f":"_xlfn.XLOOKUP(K10452,'Codes éco-part'!$C$6:$C$923,'Codes éco-part'!$B$6:$B$923)","v":"047"},0.02]
["DIY and gardening products EPR",4,"22155980521","Modulated","Garden upkeep and landscaping","Non-masonry outdoor structures","Artificial stone >90%","≥2 kg and <3 kg","€ / unit",0.02,0.02,{"$f":"_xlfn.XLOOKUP(K10453,'Codes éco-part'!$C$6:$C$923,'Codes éco-part'!$B$6:$B$923)","v":"047"},0.02]
["DIY and gardening products EPR",4,"22155980530",null,"Garden upkeep and landscaping","Non-masonry outdoor structures","Artificial stone >90%","≥3 kg and <5 kg","€ / unit",0.04,0.04,{"$f":"_xlfn.XLOOKUP(K10454,'Codes éco-part'!$C$6:$C$923,'Codes éco-part'!$B$6:$B$923)","v":"002"},0.05]
["DIY and gardening products EPR",4,"22155980531","Modulated","Garden upkeep and landscaping","Non-masonry outdoor structures","Artificial stone >90%","≥3 kg and <5 kg","€ / unit",0.04,0.04,{"$f":"_xlfn.XLOOKUP(K10455,'Codes éco-part'!$C$6:$C$923,'Codes éco-part'!$B$6:$B$923)","v":"002"},0.05]
["DIY and gardening products EPR",4,"22155980540",null,"Garden upkeep and landscaping","Non-masonry outdoor structures","Artificial stone >90%","≥5 kg and <7 kg","€ / unit",0.06,0.06,{"$f":"_xlfn.XLOOKUP(K10456,'Codes éco-part'!$C$6:$C$923,'Codes éco-part'!$B$6:$B$923)","v":"096"},7.0000000000000007E-2]
["DIY and gardening products EPR",4,"22155980541","Modulated","Garden upkeep and landscaping","Non-masonry outdoor structures","Artificial stone >90%","≥5 kg and <7 kg","€ / unit",0.05,0.05,{"$f":"_xlfn.XLOOKUP(K10457,'Codes éco-part'!$C$6:$C$923,'Codes éco-part'!$B$6:$B$923)","v":"048"},0.06]
["DIY and gardening products EPR",4,"22155980550",null,"Garden upkeep and landscaping","Non-masonry outdoor structures","Artificial stone >90%","≥7 kg and <10 kg","€ / unit",0.09,0.09,{"$f":"_xlfn.XLOOKUP(K10458,'Codes éco-part'!$C$6:$C$923,'Codes éco-part'!$B$6:$B$923)","v":"049"},0.11]
["DIY and gardening products EPR",4,"22155980551","Modulated","Garden upkeep and landscaping","Non-masonry outdoor structures","Artificial stone >90%","≥7 kg and <10 kg","€ / unit",0.08,0.08,{"$f":"_xlfn.XLOOKUP(K10459,'Codes éco-part'!$C$6:$C$923,'Codes éco-part'!$B$6:$B$923)","v":"003"},0.1]
["DIY and gardening products EPR",4,"22155980560",null,"Garden upkeep and landscaping","Non-masonry outdoor structures","Artificial stone >90%","≥10 kg and <15 kg","€ / unit",0.13,0.13,{"$f":"_xlfn.XLOOKUP(K10460,'Codes éco-part'!$C$6:$C$923,'Codes éco-part'!$B$6:$B$923)","v":"004"},0.16]
["DIY and gardening products EPR",4,"22155980561","Modulated","Garden upkeep and landscaping","Non-masonry outdoor structures","Artificial stone >90%","≥10 kg and <15 kg","€ / unit",0.12,0.12,{"$f":"_xlfn.XLOOKUP(K10461,'Codes éco-part'!$C$6:$C$923,'Codes éco-part'!$B$6:$B$923)","v":"097"},0.14000000000000001]
["DIY and gardening products EPR",4,"22155980570",null,"Garden upkeep and landscaping","Non-masonry outdoor structures","Artificial stone >90%","≥15 kg and <20 kg","€ / unit",0.18,0.18,{"$f":"_xlfn.XLOOKUP(K10462,'Codes éco-part'!$C$6:$C$923,'Codes éco-part'!$B$6:$B$923)","v":"100"},0.22]
["DIY and gardening products EPR",4,"22155980571","Modulated","Garden upkeep and landscaping","Non-masonry outdoor structures","Artificial stone >90%","≥15 kg and <20 kg","€ / unit",0.16,0.16,{"$f":"_xlfn.XLOOKUP(K10463,'Codes éco-part'!$C$6:$C$923,'Codes éco-part'!$B$6:$B$923)","v":"099"},0.19]
["DIY and gardening products EPR",4,"22155980580",null,"Garden upkeep and landscaping","Non-masonry outdoor structures","Artificial stone >90%","≥20 kg and <25 kg","€ / unit",0.22,0.22,{"$f":"_xlfn.XLOOKUP(K10464,'Codes éco-part'!$C$6:$C$923,'Codes éco-part'!$B$6:$B$923)","v":"263"},0.26]
["DIY and gardening products EPR",4,"22155980581","Modulated","Garden upkeep and landscaping","Non-masonry outdoor structures","Artificial stone >90%","≥20 kg and <25 kg","€ / unit",0.2,0.2,{"$f":"_xlfn.XLOOKUP(K10465,'Codes éco-part'!$C$6:$C$923,'Codes éco-part'!$B$6:$B$923)","v":"101"},0.24]
["DIY and gardening products EPR",4,"22155980590",null,"Garden upkeep and landscaping","Non-masonry outdoor structures","Artificial stone >90%","≥25 kg and <30 kg","€ / unit",0.26,0.26,{"$f":"_xlfn.XLOOKUP(K10466,'Codes éco-part'!$C$6:$C$923,'Codes éco-part'!$B$6:$B$923)","v":"445"},0.31]
["DIY and gardening products EPR",4,"22155980591","Modulated","Garden upkeep and landscaping","Non-masonry outdoor structures","Artificial stone >90%","≥25 kg and <30 kg","€ / unit",0.23,0.23,{"$f":"_xlfn.XLOOKUP(K10467,'Codes éco-part'!$C$6:$C$923,'Codes éco-part'!$B$6:$B$923)","v":"323"},0.28000000000000003]
["DIY and gardening products EPR",4,"22155980600",null,"Garden upkeep and landscaping","Non-masonry outdoor structures","Artificial stone >90%","≥40 kg and <50 kg","€ / unit",0.44,0.44,{"$f":"_xlfn.XLOOKUP(K10468,'Codes éco-part'!$C$6:$C$923,'Codes éco-part'!$B$6:$B$923)","v":"281"},0.53]
["DIY and gardening products EPR",4,"22155980601","Modulated","Garden upkeep and landscaping","Non-masonry outdoor structures","Artificial stone >90%","≥40 kg and <50 kg","€ / unit",0.4,0.4,{"$f":"_xlfn.XLOOKUP(K10469,'Codes éco-part'!$C$6:$C$923,'Codes éco-part'!$B$6:$B$923)","v":"105"},0.48]

{"sheet":"Eco-fee overview tables","index":7,"n_rows":82,"n_cols":9,"rows_kept":82,"cut":false,"hidden":false,"merged":[[64,1,65,1],[64,2,65,2],[67,1,67,2],[75,1,75,2],[62,0,62,8],[64,0,65,0],[3,0,3,8],[10,0,10,5],[11,0,11,8],[0,0,1,0],[0,8,1,8],[0,1,0,2],[0,3,0,4],[0,5,0,6],[19,0,19,8],[22,1,22,2],[22,3,22,4],[22,5,22,6],[22,8,23,8],[49,8,50,8],[39,1,39,2],[39,3,39,4],[39,5,39,6],[39,8,40,8],[39,0,40,0],[22,0,23,0],[49,1,49,2],[49,3,49,4],[49,5,49,6],[49,0,50,0]]}
["Eco-fee in Euro / ton cost","Single-material (90%)",null,"Primary material (>50%)",null,"Single-material (90%)",null,"Primary material (>50%)","Mixed materials / Other assembly of more than 3 materials with no primary material (excl. column E) or composite materials or unspecified materials"]
[null,"Inert materials, excl. ceramics","Ceramic","Metal","Certified wood or mixed wood/metal"," Non-synthetic textiles or biosourced materials (cardboard, paper, linen, hemp, etc.)","Synthetic textiles, polymers, or single-resin plastics","Synthetic textiles or plastics"]
[]
["Cat. 3 – DIY"]
["1. Hand tools and their accessories",8.75,"-",14,55,65,200,322,322]
["2. Large non-electric, non-combustion items and machinery, and their accessories",8.75,12,4.5,13,40,60,90,90]
["3. Tools and supports for working at height",8.75,12,4.5,13,40,60,90,90]
["4. Personal protection equipment and accessories for DIY",8.75,"-",14,55,65,200,322,322]
["5. Tarpaulins for DIY","-","-","-","-",65,200,322,322]
["6. Buckets, troughs, and containers",8.75,15,14,26,65,160,250,250]
[]
["Cat. 4 – Garden upkeep and landscaping"]
["7. Garden upkeep hand tools",8.75,"-",14,55,65,200,322,322]
["8. Personal protection equipment for gardening",8.75,"-",14,55,65,200,322,322]
["9. Flower pots and containers",8.75,15,14,26,65,160,250,250]
["10. Tarpaulins, covers, films, and nets","-","-","-","-",65,200,322,322]
["11. Outdoor equipment",8.75,12,4.5,13,40,60,90,90]
["12. Non-masonry outdoor structures",8.75,12,4.5,13,40,60,90,90]
[]
["Alternative pricing scale per weight bracket"]
[]
[]
["Large items, supports for working at height, outdoor equipment, and outdoor structures","Single-material (90%)",null,"Primary material (>50%)",null,"Single-material (90%)",null,"Primary material (>50%)","Mixed materials / Other assembly of more than 3 materials with no primary material (excl. column E) or composite materials or unspecified materials"]
[null,"Inert materials, excl. ceramics","Ceramic","Metal","Certified wood or mixed wood/metal"," Non-synthetic textiles or biosourced materials (cardboard, paper, linen, hemp, etc.)","Synthetic textiles, polymers, or single-resin plastics","Synthetic textiles or plastics"]
["strictly <0.5 kg",0.01,0.01,0.01,0.01,0.01,0.02,0.02,0.02]
["≥0.5 kg and <1 kg",0.01,0.01,0.01,0.01,0.03,0.05,7.0000000000000007E-2,7.0000000000000007E-2]
["≥1 kg and <2 kg",0.01,0.02,0.01,0.02,0.06,0.09,0.14000000000000001,0.14000000000000001]
["≥2 kg and <3 kg",0.02,0.03,0.01,0.03,0.1,0.15,0.23,0.23]
["≥3 kg and <5 kg",0.04,0.05,0.02,0.05,0.16,0.24,0.36,0.36]
["≥5 kg and <7 kg",0.06,0.08,0.03,0.09,0.28000000000000003,0.42,0.63,0.63]
["≥7 kg and <10 kg",0.09,0.12,0.05,0.13,0.4,0.6,0.9,0.9]
["≥10 kg and <15 kg",0.13,0.18,7.0000000000000007E-2,0.2,0.6,0.9,1.35,1.35]
["≥15 kg and <20 kg",0.18,0.24,0.09,0.26,0.8,1.2,1.8,1.8]
["≥20 kg and <25 kg",0.22,0.3,0.11,0.33,1,1.5,2.25,2.25]
["≥25 kg and <30 kg",0.26,0.36,0.14000000000000001,0.39,1.2,1.8,2.7,2.7]
["≥30 kg and <40 kg",0.35,0.48,0.18,0.52,1.6,2.4,3.6,3.6]
["≥40 kg and <50 kg",0.44,0.6,0.23,0.65,2,3,4.5,4.5]
[]
[]
["Protection equipment, tarpaulins, and tools","Single-material (90%)",null,"Primary material (>50%)",null,"Single-material (90%)",null,"Primary material (>50%)","Mixed materials / Other assembly of more than 3 materials with no primary material (excl. column E) or composite materials or unspecified materials"]
[null,"Inert materials, excl. ceramics","Ceramic","Metal","Certified wood or mixed wood/metal"," Non-synthetic textiles or biosourced materials (cardboard, paper, linen, hemp, etc.)","Synthetic textiles, polymers, or single-resin plastics","Synthetic textiles or plastics"]
["strictly <0.5 kg",0.01,"-",0.01,0.01,0.02,0.05,0.08,0.08]
["≥0.5 kg and <1 kg",0.01,"-",0.01,0.04,0.05,0.15,0.24,0.24]
["≥1 kg and <2 kg",0.01,"-",0.02,0.08,0.1,0.3,0.48,0.48]
["≥2 kg and <3 kg",0.02,"-",0.04,0.14000000000000001,0.16,0.5,0.81,0.81]
["≥3 kg and <5 kg",0.04,"-",0.06,0.22,0.26,0.8,1.29,1.29]
["≥5 kg and <7 kg",0.06,"-",0.1,0.39,0.46,1.4,2.25,2.25]
[]
[]
["Flower pots and containers","Single-material (90%)",null,"Primary material (>50%)",null,"Single-material (90%)",null,"Primary material (>50%)","Mixed materials / Other assembly of more than 3 materials with no primary material (excl. column E) or composite materials or unspecified materials"]
[null,"Inert materials, excl. ceramics","Ceramic","Metal","Certified wood or mixed wood/metal"," Non-synthetic textiles or biosourced materials (cardboard, paper, linen, hemp, etc.)","Synthetic textiles, polymers, or single-resin plastics","Synthetic textiles or plastics"]
["strictly <0.5 kg",0.01,0.01,0.01,0.01,0.02,0.04,0.06,0.06]
["≥0.5 kg and <1 kg",0.01,0.01,0.01,0.02,0.05,0.12,0.19,0.19]
["≥1 kg and <2 kg",0.01,0.02,0.02,0.04,0.1,0.24,0.38,0.38]
["≥2 kg and <3 kg",0.02,0.04,0.04,7.0000000000000007E-2,0.16,0.4,0.63,0.63]
["≥3 kg and <5 kg",0.04,0.06,0.06,0.1,0.26,0.64,1,1]
["≥5 kg and <7 kg",0.06,0.11,0.1,0.18,0.46,1.1200000000000001,1.75,1.75]
["≥7 kg and <10 kg",0.09,0.15,0.14000000000000001,0.26,0.65,1.6,2.5,2.5]
["≥10 kg and <15 kg",0.13,0.23,0.21,0.39,0.98,2.4,3.75,3.75]
["≥15 kg and <20 kg",0.18,0.3,0.28000000000000003,0.52,1.3,3.2,5,5]
[]
[]
["Simplified codification"]
[]
["Eco-fee per unit","Price per unit","Corresponding code"]
[]
[]
["Cat. 3 – DIY"]
["1. Hand tools and their accessories",0.24,"21100000890"]
["2. Large non-electric, non-combustion items and machinery, and their accessories",1.58,"21101000890"]
["3. Tools and supports for working at height",1.1299999999999999,"21102000890"]
["4. Personal protection equipment and accessories for DIY",0.08,"21103000890"]
["5. Tarpaulins for DIY",1.29,"21104000890"]
["6. Buckets, troughs, and containers",0.06,"21105000890"]
[]
["Cat. 4 – Garden upkeep and landscaping"]
["7. Garden upkeep hand tools",0.48,"22150000890"]
["8. Personal protection equipment for gardening",0.48,"22151000890"]
["9. Flower pots and containers",0.63,"22152000890"]
["10. Tarpaulins, covers, films, and nets",0.48,"22153000890"]
["11. Outdoor equipment",0.77,"22154000890"]
["12. Non-masonry outdoor structures",1.1299999999999999,"22155000890"]

{"sheet":"Small Producer codes","index":8,"n_rows":20,"n_cols":3,"rows_kept":20,"cut":false,"hidden":false,"merged":[[13,1,13,2],[0,0,0,3],[2,0,3,0],[2,1,3,1],[2,2,3,2],[5,1,5,2]]}
["Simplified codification for small producers"]
[]
["Eco-participation per unit","Amount per unit","Code"]
[]
[]
["Cat. 3 – DIY"]
["1. Hand tools and their accessories",0.24,"21100000890"]
["2. Large non-electric, non-combustion items and machinery, and their accessories",1.58,"21101000890"]
["3. Tools and supports for working at height",1.1299999999999999,"21102000890"]
["4. Personal protection equipment and accessories for DIY",0.08,"21103000890"]
["5. Tarpaulins for DIY",1.29,"21104000890"]
["6. Buckets, troughs, and containers",0.06,"21105000890"]
[]
["Cat. 4 – Garden upkeep and landscaping"]
["7. Garden upkeep hand tools",0.48,"22150000890"]
["8. Personal protection equipment for gardening",0.48,"22151000890"]
["9. Flower pots and containers",0.63,"22152000890"]
["10. Tarpaulins, covers, films, and nets",0.48,"22153000890"]
["11. Outdoor equipment",0.77,"22154000890"]
["12. Non-masonry outdoor structures",1.1299999999999999,"22155000890"]